{"text_format":"1","workbook":"xlsx","n_sheets":8,"sheets":["Instructions","Race results","Score Sheet","COVER PAGE","Summary","Seeding Example","Averages","Worksheet"],"not_rendered":{"charts":0,"images":4,"macros":1,"external_links":0,"defined_names":80,"comments":1,"pivot_tables":0},"unopened":[],"bounds":{"document_bytes":16777216,"sheet_cells":100000,"rows_first":2000,"rows_last":500,"rows_between":2000,"halvings":0,"cell_chars":16384,"cell_head_chars":4096},"cells_cut":0,"cells_raw":0,"read":"whole","date_system":"1900"}

{"sheet":"Instructions","index":0,"n_rows":225,"n_cols":3,"rows_kept":225,"cut":false,"hidden":false,"merged":[]}
[]
[]
[]
[]
[]
[]
[]
[]
[]
[]
[]
[]
[]
[]
[]
[]
[]
[]
[]
[null,null,"Please report any problems to Henry Farley (henry.farley@ntlworld.com) and Herman van Beek (hvanbeek@tx.rr.com)"]
[]
[null,null,"This Excel workbook is based on the work of Mike Kemp and John Walter who produced scoring systems for EORS and HMS2002."]
[null,null,"While updating their work to meet the changed requirements of HMS 2007, the opportunity was taken to make it easier to follow and amend."]
[null,null,"Several cells and ranges now have descriptive names which are used in formulae and for data validation."]
[null,null,"Abbreviations for boats that do not finish normally (e.g. DNF etc,) have been updated to match those in RRS 2009 - 2012  Appendix A11."]
[null,null,"Boats can be marked as \"Withdrawn\" (WTDRN) and scored automatically as with other \"Comments\" such as DNF and DSQ. (BUT see below)"]
[null,null,"Most ties are broken automatically; provision is made to break remaining ties manually."]
[]
["PDF Documentation",null,"We strongly recommend that you first print the expanded set of instructions that were included in the distributed ZIP file."]
[null,null," If you don't have the instructions then the file can be downloaded from:"]
[null,null," http://www.mcscow.org/HMS/HMS2013_Scoring_Instructions.pdf"]
[]
["Description of Sheets:"]
[]
["Instructions",null,"This sheet"]
["Race results",null,"Where the actual race finish order is entered for each heat"]
["Score Sheet",null,"Where the main part of the scoring is done"]
["COVER PAGE (hidden)",null,"Title page with same heading as shown at top of this Instructions page."]
["Summary (hidden)",null,"The sheet that is printed after each race and after the event"]
["Averages (hidden)",null,"Lookup table showing average score attained (excluding Race 1). This value is assigned when you select RDGave or RDGevent for a boat's finish"]
["Seeding Example",null,"Detailed example of seeding Race #2 heats based on results from Race #1."]
["Worksheet",null,"Not used but added for convenience. Useful to format and prepare printouts after the event."]
[]
["Suggestions"]
[null,1,"Always use a copy of the blank workbook as entering results may alter stored functions.  The blank workbook should be 'Read Only'."]
[null,2,"It is best if you can enter the list of competitors before the event"]
[null,3,"Always save the workbook before or just after printing summary sheet ( this is not automated but could be )"]
[]
["Preparation",null,"On Score Sheet "]
[null,1,"Enter name of the event, date(s), and host club in fields provided.  These will appear in the heading when printed."]
[null,null,"   If you need to clear out existing information, click on Program Options ==> Clear Title Area and answer YES"]
[]
[null,2,"Enter competitor name and sail numbers into the columns provided. Almost anything (e.g. X45) is accepted as a Sail No."]
[null,null,"    The workbook is set-up to allow up to 84 competitors in up to 5 heats, and 41 races.  It could be extended with a little work."]
[null,null,"     NOTE: If you choose to cut and paste skipper information from another sheet or workbook: Please follow each step outlined below:"]
[null,null,"                1 for Excel 97 - 2003 use Copy/Paste Special/Values to preserve formatting in this workbook"]
[null,null,"                2  for Excel 2007 ensure that the formatting of all cells to be copied is IDENTICAL to this workbook.\n                    That means that all cels are formatted as Text (even those that look like numbers); \n                    no cells are Locked and there is a heavy border after every 3 rows\n                    Then use Copy/Paste as Paste Special is not well supported in Excel 2007"]
[null,null,"                3. Verify that all sail numbers transferred correctly,"]
[null,null,"                4. Add any missing leading zeros to sail numbers; e.g., change 9 to 09 or 009, and then"]
[null,null,"                5. Click on Sort button above Skipper column"]
[null,null,"   If you need to clear out existing information, click on Program Options ==> Clear All Skipper Information and answer YES"]
[]
[null,null,"If anyone doesn’t turn up simply delete the Skipper, matching Sail No. and other details Then click on one of the ‘Sort’ buttons at the top of the "]
[null,null,"details columns as doing so also removes blank rows. You can actually do this at any time without affecting scores provided that the boats"]
[null,null,"removed have not already received a score."]
[]
[null,3,"Change promotion schedule, if needed."]
[null,null,"   When program first loads, the title displays Promotion schedule in effect; e.g, HMS2013 Scoring (v1.0) - February 2013 - Promo = 4"]
[null,null,"   If you need to change the promotion schedule to Schedule C (Promo = 6) for Races 3 - 41, or to change it back to Schedule B (Promo = 4),"]
[null,null,"   click on Program Options ==> Change/Verify Promotion and follow directions."]
[]
[null,null,"     If you want to use a different promotion value on just a few races, do the following:"]
[null,null,"     a. Switch to the Race results sheet"]
[null,null,"     b. In Row 5 select Race(s) of interest and replace the number 4 with desired number of boats to be promoted in each heat (1 < N < 19)"]
[null,null,"     c. Click on Reset ALL Races (takes about 2 minutes to process) or on Reset button of affected race(s)"]
[null,null,"     d. Verify that size of green area at top of Heats B - E = N rows."]
[]
[null,4,"If you need to clear out existing race finishes, click on Program Options ==> Remove all Race Finishes and follow directions."]
[null,null,"    Run time depends on number of races with data and speed of your computer."]
[]
[null,5,"You are now ready to enter results on the Race results sheet."]
[]
[null,null,"Once data has been entered you can, at any time, use the Sort buttons located under the column headings."]
[null,null,"   This is also used to remove blanks produced when Skippers don't turn up and you have removed them and their Sail No. from the list"]
[]
["Print Options"]
["Score Sheet",null,"Click on Program Options ==> Display Score Sheet for Print (Requires at least one skipper to display)"]
[null,null,"Will show all competitors and their point score in each race completed. Hides row 9 and any empty columns in range B through G. "]
[null,null,"   Cells containing discards are shaded a gray color.  DNE and DGM scores will have a red background shading to denote the fact that they "]
[null,null,"   cannot be discarded. The position column reflects boat position after breaking ties.  If ties could not be broken it will so state."]
[]
["Summary",null,"Click on Program Options ==> Summary Page Print Preview  (Requires at least one skipper to display)"]
[null,null,"Will show standings of all boats as of last completed race entered on Race results sheet.  If ties could not be broken it will so state."]
[]
["Entering heat results"]
[null,1,"Switch to the Race results sheet and find the race and heat just completed."]
[null,2,"Into the sail number column key in the sail numbers of the competitors in their finish order."]
[null,null,"The program should automatically assume that the finish was OK and calculate the score. "]
[null,3,"If one of the competitors did not finish the heat correctly or some other adjustment is required you will need to enter a comment (letter score.) "]
[null,null,"The following letter scores are available from a drop down list by the cell or by typing;"]
[null,null,"      DNF, RET, OCS, DNS, DNC, BFD, DSQ, DNE, DGM, WDN (Withdrawn), "]
[null,null,"      RDGfix (Redress given - fixed), "]
[null,null,"      RDGave (Redress given - average of previously completed races),"]
[null,null,"      RDGevent (Redress given - average score of all races in event)"]
[null,null,"      OK = scores points for position"]
[null,null,"In race one DNF, RET, OCS, DNS, DNC, BFD, DSQ, DNE, and DGM receive largest-heat score + 1"]
[null,null,"In subsequent races BFD, DSQ, DNE, DGM and WDN receive maximum score of entries + 1 "]
[null,null,"This is often called \"Entry + 1\" where \"Entry\" is the no. of boats that started in at least one heat."]
[null,null,"Except in the lowest heat DNF, RET, OCS, DNC, and DNS receive 'maximum score possible in heat' +1 (calculated differently from earlier versions of HMS.)"]
[null,null,"In the lowest heat DNF, RET, OCS, DNC and DNS score entries +1 (New for HMS 2014)"]
[null,null,"OK = scores points for position"]
[null,null,"UP = scores no points as skipper will sail in the next heat.  Make sure you get this right as only the first four can be marked as UP."]
[null,null,"If one of the promoted boats subsequently defaults it must be swapped with a boat that now qualifies. Mark the defaulter DSQ, RAF etc. as appropriate."]
[null,null,"RDGfix = scored as R and will require some additional manual work to complete."]
[null,null,"RDGave = will automatically assign average score  from preceeding races (excluding Race #1 for multi heat event). Will warn with DAFT! when it is inappropriate in Race 1, 2 and 3."]
[null,null,"RDGevent = will automatically assign average score (excluding Race #1in a multi heat event). Will warn with DAFT! if used in Race 1 of a multi heat event."]
[null,null,"WITHDRAWN Boats need care in handling."]
[null,null," -- They should always be put in a 'dummy' heat below the lowest heat being used to keeep things tidy"]
[null,null," -- DO NOT use any of the green cells and use the dummy heat for every race where there are withdrawn boats."]
[null,null," -- That means every race to the end of the event if there are permanently withdrawn boats. Use section after Heat E for this purpose."]
[null,null," -- You will need to familiarise yourself with the rules about withdrawn boats or get advice from the Race Officer."]
[null,4,"Wrong entries can be corrected at any time by re-typing the finishing order completely, with the boats correctly placed and commented."]
[null,5,"To clear out/reset a complete race, click on the red Reset button at the top of the race column area."]
["At the end of a race"]
[null,1,"After entering all sail numbers for a race, click on the Verify Rxx button at the top of each race column."]
[null,null," This will validate all your entries and report missing boats and boats entered more than once."]
[null,2,"Switch to the Score Sheet and check that all boats received a score for the race just completed and that their current positions "]
[null,null,"have been calculated. (Did you run Verify Rxx?)"]
[null,null,"When there is a scoring error it will be flagged up by 'Scoring Problem' appearing at the head of the Score column."]
[null,null,"The most common mistakes are failing to enter boats that did not start or finish and duplicate entry of a finished boat.  (Did you run Verify Rxx?)"]
[null,null,"If there is a boat with redress yet to be allocated it too will flag up 'Scoring Problem'"]
[null,null,"These, and any other scoring errors, MUST be corrected on the Race results sheet. Do not enter scores directly on the Score Sheet"]
[]
[null,3,"Redress can take one of three forms; a fixed number of points (RDGfix), average score for preceeding races (RDGave) or average score for the event (RDGevent)."]
[null,null,"Manual adjustment of scores will be needed if an RDGfix finishing position has been awarded."]
[null,null," -- Adjust the Race results sheet Points column from R to the awarded points."]
[null,null,"When you assign the RDGave finishing position, the program computes an average point score from races completed"]
[null,null," -- Excludes Race 1 unless this is an event with a single heat "]
[null,null," -- Available from Race 4 on (Race 3 for single heat events) - otherwise will warn with DAFT!"]
[null,null,"When you assign the RDGevent finishing position, the program computes an average point score from all races completed in event"]
[null,null," -- Excludes Race 1 unless this is an event with a single heat "]
[null,null,"Since not applicable to Race 1 in a multi heat event will warn with DAFT!"]
[null,null," -- The computed value will be updated as races are added. "]
[null,4,"Now click on Program Options and Display Score Sheet for Print or Summary Page Print Preview button to display the information prior to printing."]
[null,null,"If there are still boats without a score or redress still to be awarded the headings of the printed output will show ****REDRESS OUTSTANDING AND/OR RESULTS MISSING***"]
[null,5,"In the vast majority of cases ties will be automatically broken.  In the extremely unusual case where this is not possible a pop up messge will state the fact."]
[null,null,"This is best ignored during an event and only broken manually at the end as described in the 'At the end of the event' section below."]
[null,null," If the Tie break (Man TB) column is used during the event it must be cleared before proceeding to other races."]
[]
["At the end of a day"]
[null,null,"At the end of a day double check the scores and make sure to save results!"]
[null,null,"To create a Web formatted file of the Score Sheet results, click on Program Options ==> Print to Web. "]
[null,null,"     Excel97:      You will need to use the File ==> Save as HTML... option to create this file from the HTML Source worksheet created by"]
[null,null,"                         the program.  This file wil be overwritten each time you click on Print to Web."]
[null,null,"     Excel2000+: Program will create HTML file for you and place it in same directory as this Excel score file."]
[null,null,"                         Name of file will be the event name as entered in B2;e.g.,  \"2006 Dallas Blow Out Regatta.htm\". "]
[null,null,"To create a pdf of the Score Sheet results, click on Program Options ==> Produce pdf"]
[null,null,"      Excel 97 to 2003 will produce a message to use a pseudo printer to produce a pdf."]
[null,null,"      Excel 2007 and later will produce a pdf  and save it to the same dorectory as this Excel score file"]
[null,null,"                         Name of file will be the event name as entered in B2;e.g.,  \"2006 Dallas Blow Out Regatta.pdf\". "]
[]
["At the end of the event"]
[null,null,"At the end of the event check the scores as for the end of any race."]
[null,null,"Now click on the Program Options ==> Summary Page Print Preview button to copy the information to the Summary sheet."]
[null,null,"If program fails to break ties, it will display a pop-up message stating that fact. You should manually break these ties "]
[null,null," and enter final order in Man TB column on Score Sheet; assign 1 to winner of toss, 2 to second place, 3 to third place, etc."]
[null,null,"Again click on the Program Options ==> Summary Page Print Preview button to copy the information to the Summary sheet."]
[]
["What can be altered"]
[null,null,"Unless you are familiar with Excel DON'T!"]
[null,null,"Cells AY9 to BD9 on the Score Sheet contain the number of completed races before the discard column activates. "]
[null,null,"The standard HMS 2007 values are one discard each after completing races: 4, 8, 16, 24, 32 and 40"]
[null,null,"Other things can be altered but great care is needed in doing so as the many macros used expect to find things in particular places/cells."]
[null,null,"In cells C1 to O3 on the Race results sheet are the abbreviations and 'values' used to allot scores to them."]
[null,null,"The same cells are used in data validation for the \"Comments\" column."]
[null,null,"All are addressed by a 'Name' to make it easier to follow and adjust when/if necessary."]
[null,null,"Cells A2:A85, on Race results, contain sail numbers (copied from the list you have entered on the Score sheet) and are named \"Sail_No.s\""]
[null,null,"You can see a list of all named cells and ranges in the Name box "]
[]
["Revision History",null,"HMS 2002scoring.xls           First version for HMS 2002 system."]
[null,null,"HMS 2002(v1a)scoring.xls    Data validation error for sail numbers on Race results corrected. (July 2002)"]
[null,null,"                                          Typing errors on Instructions page corrected and text improved."]
[null,null,"HMS 2002(v1b)scoring.xls    Error in extracting best races corrected (August 2002)"]
[null,null,"HMS 2002(v2)scoring.xls      Facility to break ties added ( September 2002)"]
[null,null,"HMS 2002(v2.1)scoring.xls   Improvements to tie breaking (October 2002)"]
[null,null,"HMS 2002(v2.2)scoring.xls   (October 2003)  Error that did not allow Sail No. of 00 corrected   All relevant cells formatted as Text."]
[null,null,"                                          Provision to sort skippers into Sail No. order and remove blanks added to Score Sheet"]
[null,null,"                                          Other minor adjustments made."]
[null,null,"HMS 2002(v2.3b14)scoring.xls   (March 2004) Added data validation and reset buttons on Race results sheet.  Added automatic calculation of"]
[null,null,"                                          average score and added RDGave in Comment dropdown to invoke it.  Added fields to collect event title information."]
[null,null,"                                          Display buttons automatically calculate required print area.  Added extra columns on Score Sheet to collect"]
[null,null,"                                          frequency, club/city, and hull information."]
[null,null,"HMS 2002 Scoring (v2.4).xls   (28jun2004) Corrected sorting problem identified by Marko Majic and removed beta designation."]
[null,null,"HMS 2002 Scoring (v2.4d).xls   (14Sep2004) Corrected various sorting problems identified by Henry, an initialization problem that caused part"]
[null,null,"                                          of the skippers to not display when displaying Score Sheet with 0 races completed, and relabeled display button"]
[null,null,"                                          on this Instructions sheet."]
[null,null,"HMS 2002 Scoring (v2.4e).xls   (14Oct2004) Updated these Instructions, relabeled buttons on Score Sheet, removed "]
[null,null,"                                          redundant buttons on Summary sheet and added Seeding Example sheet.   Adjusted scroll bar ranges."]
[null,null,"HMS 2002 Scoring (v2.4f).xls   (18Oct2004) Updated Instructions to highlight possible problem when Cut and pasting data. "]
[null,null,"                                          Updated the Seeding Example sheet and unprotected Summary sheet."]
[null,null,"HMS 2002 Scoring (v2.4g).xls   (4Nov2004) Made provisions to manually break ties in case program fails.  Updated instructions accordingly. "]
[null,null,"HMS 2002 Scoring v2.5.xls   (24Oct2005) Improved handling of DNE scores and made provision for variable promotion (1 < N < 19) per race. "]
[null,null,"HMS 2006 Scoring v1.0c.xls   (24Apr2006) Update to accommodate HMS2006 changes "]
[null,null,"HMS 2006 Scoring v1.1.xls   (19Jun2006) Update to accommodate races declared void after the fact. "]
[null,null,"HMS 2006 Scoring v1.2a.xls   (23Aug2006) Corrected point count logic for Promo other than 4 up/down "]
[null,null,"HMS 2006 Scoring v1.3a.xls   (2Sep2006) Moved entry of variable promotion values from Score Sheet to Race results"]
[null,null,"HMS 2006 Scoring v1.3b.xls   (3Sep2006) Minor edits to Race results and Instructions plus added button for web output"]
[null,null,"HMS 2006 Scoring v1.3c.xls   (6Sep2006) Cosmetic cleanup of Web output - creates temp sheet and then deletes it."]
[null,null,"HMS 2006 Scoring v1.3d.xls   (2Oct2006) More cosmetic cleanup of Web output and correction to allow use with Excel97"]
[null,null,"HMS 2006 Scoring v1.3e.xls   (28Nov2006) Added Excel version check - no Web output for Excel97. Removed need to confirm deletion of temp file."]
[null,null,"HMS 2006 Scoring v1.3f.xls   (30Nov2006) Provided Excel 97 users a path to obtain Web output via the Save as HTML… option."]
[null,null,"HMS 2007 Scoring v2.0.xls   (5Mar2007) Update for HMS2007.  Provided option to switch between Schedules B (promo=4) and C (promo=6)"]
[null,null,"HMS 2007 Scoring v2.1.xls   (6Aug2007) Improved error detection. Mods to accommodate Excel 2007."]
[null,null,"HMS 2007 Scoring v2.2q.xls   (22Aug2008) Modifications to reduce user created errors. Addition of RDGevent as an option."]
[null,null,"HMS 2007 Scoring v2.2r.xls   (13Sep2008) Correct program error that prevented some data entry. "]
[null,null,"HMS 2007 Scoring v2.2s.xls  (5Mar2009) Flag point scores outside 1-DNF range."]
[null,null,"HMS 2007 Scoring v2.2t.xls  (18Mar2009) Added instructions on how to remove n-shows and improved handling of WTDRN boats."]
[null,null,"HMS 2013 Scoring v1.0.xls ( February 2013) RAF changed to RET to comply with RRS 2013-16.  pdf output of tidy Score Sheet added"]
[null,null,"HMS 2014 Scoring v2.0.xls (April 2014)  Scoring in lowest heat changed to match new rules.  RDGevent no longer an option to avoid mis-use. WTDRN now WDN"]
[null,null,"HMS 2014 Scoring 2.0a (October 2014)  Bug in Race 3, Heats B to E,  which gave wrong scores for DNF, DNS, fixed"]
[null,null,"HMS 2016 scoring v1.xlsm  (November 2015)  heats extended to permit 24 boats"]
[null,null,"HMS 2016 scoring v1a.xlsm (March 2016) Bug fix to permit promotion of 6 in race 2 - overloked in v1"]
[null,null,"HMS 2016 scoring v1.xlsm  (April 2016) Bug fix to overcome & in event title or host being interpreted as a commnd when displaying Score Sheet and/or generating pdf."]
[null,null,"HMS 2016 scoring v3 (July 2016) Bugs in counting the number of boats in Heat B and in the calculation of scores in Race10 Heat E fixed"]
[null,null,"HMS 2016 scoring v3a (October 2016) bug in scoring heat A in races 7 and 14 that did not correctly score DNE, fixed. Hang over from not removing RDGevent."]

{"sheet":"Race results","index":1,"n_rows":159,"n_cols":171,"rows_kept":159,"cut":false,"hidden":false,"merged":[]}
["Sail No.s","Comments","DNF","RET","OCS","DNS","DNC","BFD","DSQ","DNE","DGM","WDN","RDGfix","RDGave","ZFP","OK","UP",null,"D","A","E","M","S",null,null,null,null,null,null,null,null,null,null,null,null,null,null,null,null,null,null,null,null,null,null,null,null,null,null,null,null,null,null,null,null,null,null,null,null,null,null,null,null,null,null,null,null,null,null,null,null,null,null,null,null,null,null,null,null,null,null,null,null,null,null,null,null,null,null,null,null,null,null,null,null,null,null,null,null,null,null,null,null,null,null,null,null,null,null,null,null,null,null,null,null,null,null,null,null,null,null,null,null,null,null,null,null,null,null,null,null,null,null,null,null,null,null,null,null,null,null,null,null,null,null,null,null,null,null,null,null,null,null,null,null,null,null,null,null,null,null,null,null,null,null,null,null,null,null,"Sail - Num","Sail - Text"]
[null,"Points R2+","D","D","D","D","D",{"$f":"'Score Sheet'!A9 + 1","v":1},{"$f":"'Score Sheet'!A9 + 1","v":1},{"$f":"'Score Sheet'!A9 + 1.000333","v":1.0003329999999999},{"$f":"'Score Sheet'!A9 + 1.000334","v":1.0003340000000001},{"$f":"'Score Sheet'!A9+1","v":1},"R","A","R",null,null,null,null,null,null,null,null,null,null,null,null,null,null,null,null,null,null,null,null,null,null,null,null,null,null,null,null,null,null,null,null,null,null,null,null,null,null,null,null,null,null,null,null,null,null,null,null,null,null,null,null,null,null,null,null,null,null,null,null,null,null,null,null,null,null,null,null,null,null,null,null,null,null,null,null,null,null,null,null,null,null,null,null,null,null,null,null,null,null,null,null,null,null,null,null,null,null,null,null,null,null,null,null,null,null,null,null,null,null,null,null,null,null,null,null,null,null,null,null,null,null,null,null,null,null,null,null,null,null,null,null,null,null,null,null,null,null,null,null,null,null,null,null,null,null,null,null,null,null,null,null,1]
[null,"Points R1",{"$f":"MAX($F$7,$F$32,$F$57,$F$82,$F$107) + 1","v":1},{"$f":"MAX($F$7,$F$32,$F$57,$F$82,$F$107) + 1","v":1},1,1,1,1,1,{"$f":"MAX($F$7,$F$32,$F$57,$F$82,$F$107) + 1.000333","v":1.0003329999999999},{"$f":"MAX($F$7,$F$32,$F$57,$F$82,$F$107) + 1.000334","v":1.0003340000000001},{"$f":"MAX($F$7,$F$32,$F$57,$F$82,$F$107) + 1","v":1},"R",{"$f":"$F$159","v":"DAFT!"},"R",null,null,null,null,null,null,null,null,null,null,null,null,null,null,null,null,null,null,null,null,null,null,null,null,null,null,null,null,null,null,null,null,null,null,null,null,null,null,null,null,null,null,null,null,null,null,null,null,null,null,null,null,null,null,null,null,null,null,null,null,null,null,null,null,null,null,null,null,null,null,null,null,null,null,null,null,null,null,null,null,null,null,null,null,null,null,null,null,null,null,null,null,null,null,null,null,null,null,null,null,null,null,null,null,null,null,null,null,null,null,null,null,null,null,null,null,null,null,null,null,null,null,null,null,null,null,null,null,null,null,null,null,null,null,null,null,null,null,null,null,null,null,null,null,null,null,null,null,null,null,null,null,1]
[null,"Averages Col",2,null,null,null,3,null,null,null,4,null,null,null,5,null,null,null,6,null,null,null,7,null,null,null,8,null,null,null,9,null,null,null,10,null,null,null,11,null,null,null,12,null,null,null,13,null,null,null,14,null,null,null,15,null,null,null,16,null,null,null,17,null,null,null,18,null,null,null,19,null,null,null,20,null,null,null,21,null,null,null,22,null,null,null,23,null,null,null,24,null,null,null,25,null,null,null,26,null,null,null,"27",null,null,null,28,null,null,null,29,null,null,null,30,null,null,null,31,null,null,null,32,null,null,null,33,null,null,null,34,null,null,null,35,null,null,null,36,null,null,null,37,null,null,null,38,null,null,null,39,null,null,null,40,null,null,null,41,null,null,null,42,null,null,null,null,1]
[null,null,null,"Race 1 Seeding",null,null,null,"Promote=",4,null,null,"Promote=",4,null,null,"Promote=",4,null,null,"Promote=",4,null,null,"Promote=",4,null,null,"Promote=",4,null,null,"Promote=",4,null,null,"Promote=",4,null,null,"Promote=",4,null,null,"Promote=",4,null,null,"Promote=",4,null,null,"Promote=",4,null,null,"Promote=",4,null,null,"Promote=",4,null,null,"Promote=",4,null,null,"Promote=",4,null,null,"Promote=",4,null,null,"Promote=",4,null,null,"Promote=",4,null,null,"Promote=",4,null,null,"Promote=",4,null,null,"Promote=",4,null,null,"Promote=",4,null,null,"Promote=",4,null,null,"Promote=",4,null,null,"Promote=",4,null,null,"Promote=",4,null,null,"Promote=",4,null,null,"Promote=",4,null,null,"Promote=",4,null,null,"Promote=",4,null,null,"Promote=",4,null,null,"Promote=",4,null,null,"Promote=",4,null,null,"Promote=",4,null,null,"Promote=",4,null,null,"Promote=",4,null,null,"Promote=",4,null,null,"Promote=",4,null,null,"Promote=",4,null,null,1]
[null,null,"Sail No","Comments","Points","Exp.","Sail No","Comments","Points","Exp.","Sail No","Comments","Points","Exp.","Sail No","Comments","Points","Exp.","Sail No","Comments","Points","Exp.","Sail No","Comments","Points","Exp.","Sail No","Comments","Points","Exp.","Sail No","Comments","Points","Exp.","Sail No","Comments","Points","Exp.","Sail No","Comments","Points","Exp.","Sail No","Comments","Points","Exp.","Sail No","Comments","Points","Exp.","Sail No","Comments","Points","Exp.","Sail No","Comments","Points","Exp.","Sail No","Comments","Points","Exp.","Sail No","Comments","Points","Exp.","Sail No","Comments","Points","Exp.","Sail No","Comments","Points","Exp.","Sail No","Comments","Points","Exp.","Sail No","Comments","Points","Exp.","Sail No","Comments","Points","Exp.","Sail No","Comments","Points","Exp.","Sail No","Comments","Points","Exp.","Sail No","Comments","Points","Exp.","Sail No","Comments","Points","Exp.","Sail No","Comments","Points","Exp.","Sail No","Comments","Points","Exp.","Sail No","Comments","Points","Exp.","Sail No","Comments","Points","Exp.","Sail No","Comments","Points","Exp.","Sail No","Comments","Points","Exp.","Sail No","Comments","Points","Exp.","Sail No","Comments","Points","Exp.","Sail No","Comments","Points","Exp.","Sail No","Comments","Points","Exp.","Sail No","Comments","Points","Exp.","Sail No","Comments","Points","Exp.","Sail No","Comments","Points","Exp.","Sail No","Comments","Points","Exp.","Sail No","Comments","Points","Exp.","Sail No","Comments","Points","Exp.",null,1]
[null,"Heat A",{"$f":"COUNTA(C8:C31)","v":0},null,{"$f":"COUNTIF(D8:D31,\"WDN\")","v":0},{"$f":"C7-E7","v":0},{"$f":"COUNTA(G8:G31)","v":0},{"$f":"IF(G33=\"\",\"L\",\"\")","v":"L"},{"$f":"COUNTIF(H8:H30,\"WDN\")","v":0},{"$f":"COUNTA(G8:G31)-I7+1","v":1},{"$f":"COUNTA(K8:K31)","v":0},{"$f":"IF(K33=\"\",\"L\",\"\")","v":"L"},{"$f":"COUNTIF(L8:L30,\"WDN\")","v":0},{"$f":"COUNTA(K8:K31)-M7+1","v":1},{"$f":"COUNTA(O8:O31)","v":0},{"$f":"IF(O33=\"\",\"L\",\"\")","v":"L"},{"$f":"COUNTIF(P8:P30,\"WDN\")","v":0},{"$f":"COUNTA(O8:O31)-Q7+1","v":1},{"$f":"COUNTA(S8:S31)","v":0},{"$f":"IF(S33=\"\",\"L\",\"\")","v":"L"},{"$f":"COUNTIF(T8:T30,\"WDN\")","v":0},{"$f":"COUNTA(S8:S31)-U7+1","v":1},{"$f":"COUNTA(W8:W31)","v":0},{"$f":"IF(W33=\"\",\"L\",\"\")","v":"L"},{"$f":"COUNTIF(X8:X30,\"WDN\")","v":0},{"$f":"COUNTA(W8:W31)-Y7+1","v":1},{"$f":"COUNTA(AA8:AA31)","v":0},{"$f":"IF(AA33=\"\",\"L\",\"\")","v":"L"},{"$f":"COUNTIF(AB8:AB30,\"WDN\")","v":0},{"$f":"COUNTA(AA8:AA31)-AC7+1","v":1},{"$f":"COUNTA(AE8:AE31)","v":0},{"$f":"IF(AE33=\"\",\"L\",\"\")","v":"L"},{"$f":"COUNTIF(AF8:AF30,\"WDN\")","v":0},{"$f":"COUNTA(AE8:AE31)-AG7+1","v":1},{"$f":"COUNTA(AI8:AI31)","v":0},{"$f":"IF(AI33=\"\",\"L\",\"\")","v":"L"},{"$f":"COUNTIF(AJ8:AJ30,\"WDN\")","v":0},{"$f":"COUNTA(AI8:AI31)-AK7+1","v":1},{"$f":"COUNTA(AM8:AM31)","v":0},{"$f":"IF(AM33=\"\",\"L\",\"\")","v":"L"},{"$f":"COUNTIF(AN8:AN30,\"WDN\")","v":0},{"$f":"COUNTA(AM8:AM31)-AO7+1","v":1},{"$f":"COUNTA(AQ8:AQ31)","v":0},{"$f":"IF(AQ33=\"\",\"L\",\"\")","v":"L"},{"$f":"COUNTIF(AR8:AR30,\"WDN\")","v":0},{"$f":"COUNTA(AQ8:AQ31)-AS7+1","v":1},{"$f":"COUNTA(AU8:AU31)","v":0},{"$f":"IF(AU33=\"\",\"L\",\"\")","v":"L"},{"$f":"COUNTIF(AV8:AV30,\"WDN\")","v":0},{"$f":"COUNTA(AU8:AU31)-AW7+1","v":1},{"$f":"COUNTA(AY8:AY31)","v":0},{"$f":"IF(AY33=\"\",\"L\",\"\")","v":"L"},{"$f":"COUNTIF(AZ8:AZ30,\"WDN\")","v":0},{"$f":"COUNTA(AY8:AY31)-BA7+1","v":1},{"$f":"COUNTA(BC8:BC31)","v":0},{"$f":"IF(BC33=\"\",\"L\",\"\")","v":"L"},{"$f":"COUNTIF(BD8:BD30,\"WDN\")","v":0},{"$f":"COUNTA(BC8:BC31)-BE7+1","v":1},{"$f":"COUNTA(BG8:BG31)","v":0},{"$f":"IF(BG33=\"\",\"L\",\"\")","v":"L"},{"$f":"COUNTIF(BH8:BH30,\"WDN\")","v":0},{"$f":"COUNTA(BG8:BG31)-BI7+1","v":1},{"$f":"COUNTA(BK8:BK31)","v":0},{"$f":"IF(BK33=\"\",\"L\",\"\")","v":"L"},{"$f":"COUNTIF(BL8:BL30,\"WDN\")","v":0},{"$f":"COUNTA(BK8:BK31)-BM7+1","v":1},{"$f":"COUNTA(BO8:BO31)","v":0},{"$f":"IF(BO33=\"\",\"L\",\"\")","v":"L"},{"$f":"COUNTIF(BP8:BP30,\"WDN\")","v":0},{"$f":"COUNTA(BO8:BO31)-BQ7+1","v":1},{"$f":"COUNTA(BS8:BS31)","v":0},{"$f":"IF(BS33=\"\",\"L\",\"\")","v":"L"},{"$f":"COUNTIF(BT8:BT30,\"WDN\")","v":0},{"$f":"COUNTA(BS8:BS31)-BU7+1","v":1},{"$f":"COUNTA(BW8:BW31)","v":0},{"$f":"IF(BW33=\"\",\"L\",\"\")","v":"L"},{"$f":"COUNTIF(BX8:BX30,\"WDN\")","v":0},{"$f":"COUNTA(BW8:BW31)-BY7+1","v":1},{"$f":"COUNTA(CA8:CA31)","v":0},{"$f":"IF(CA33=\"\",\"L\",\"\")","v":"L"},{"$f":"COUNTIF(CB8:CB30,\"WDN\")","v":0},{"$f":"COUNTA(CA8:CA31)-CC7+1","v":1},{"$f":"COUNTA(CE8:CE31)","v":0},{"$f":"IF(CE33=\"\",\"L\",\"\")","v":"L"},{"$f":"COUNTIF(CF8:CF30,\"WDN\")","v":0},{"$f":"COUNTA(CE8:CE31)-CG7+1","v":1},{"$f":"COUNTA(CI8:CI31)","v":0},{"$f":"IF(CI33=\"\",\"L\",\"\")","v":"L"},{"$f":"COUNTIF(CJ8:CJ30,\"WDN\")","v":0},{"$f":"COUNTA(CI8:CI31)-CK7+1","v":1},{"$f":"COUNTA(CM8:CM31)","v":0},{"$f":"IF(CM33=\"\",\"L\",\"\")","v":"L"},{"$f":"COUNTIF(CN8:CN30,\"WDN\")","v":0},{"$f":"COUNTA(CM8:CM31)-CO7+1","v":1},{"$f":"COUNTA(CQ8:CQ31)","v":0},{"$f":"IF(CQ33=\"\",\"L\",\"\")","v":"L"},{"$f":"COUNTIF(CR8:CR30,\"WDN\")","v":0},{"$f":"COUNTA(CQ8:CQ31)-CS7+1","v":1},{"$f":"COUNTA(CU8:CU31)","v":0},{"$f":"IF(CU33=\"\",\"L\",\"\")","v":"L"},{"$f":"COUNTIF(CV8:CV30,\"WDN\")","v":0},{"$f":"COUNTA(CU8:CU31)-CW7+1","v":1},{"$f":"COUNTA(CY8:CY31)","v":0},{"$f":"IF(CY33=\"\",\"L\",\"\")","v":"L"},{"$f":"COUNTIF(CZ8:CZ30,\"WDN\")","v":0},{"$f":"COUNTA(CY8:CY31)-DA7+1","v":1},{"$f":"COUNTA(DC8:DC31)","v":0},{"$f":"IF(DC33=\"\",\"L\",\"\")","v":"L"},{"$f":"COUNTIF(DD8:DD30,\"WDN\")","v":0},{"$f":"COUNTA(DC8:DC31)-DE7+1","v":1},{"$f":"COUNTA(DG8:DG31)","v":0},{"$f":"IF(DG33=\"\",\"L\",\"\")","v":"L"},{"$f":"COUNTIF(DH8:DH30,\"WDN\")","v":0},{"$f":"COUNTA(DG8:DG31)-DI7+1","v":1},{"$f":"COUNTA(DK8:DK31)","v":0},{"$f":"IF(DK33=\"\",\"L\",\"\")","v":"L"},{"$f":"COUNTIF(DL8:DL30,\"WDN\")","v":0},{"$f":"COUNTA(DK8:DK31)-DM7+1","v":1},{"$f":"COUNTA(DO8:DO31)","v":0},{"$f":"IF(DO33=\"\",\"L\",\"\")","v":"L"},{"$f":"COUNTIF(DP8:DP30,\"WDN\")","v":0},{"$f":"COUNTA(DO8:DO31)-DQ7+1","v":1},{"$f":"COUNTA(DS8:DS31)","v":0},{"$f":"IF(DS33=\"\",\"L\",\"\")","v":"L"},{"$f":"COUNTIF(DT8:DT30,\"WDN\")","v":0},{"$f":"COUNTA(DS8:DS31)-DU7+1","v":1},{"$f":"COUNTA(DW8:DW31)","v":0},{"$f":"IF(DW33=\"\",\"L\",\"\")","v":"L"},{"$f":"COUNTIF(DX8:DX30,\"WDN\")","v":0},{"$f":"COUNTA(DW8:DW31)-DY7+1","v":1},{"$f":"COUNTA(EA8:EA31)","v":0},{"$f":"IF(EA33=\"\",\"L\",\"\")","v":"L"},{"$f":"COUNTIF(EB8:EB30,\"WDN\")","v":0},{"$f":"COUNTA(EA8:EA31)-EC7+1","v":1},{"$f":"COUNTA(EE8:EE31)","v":0},{"$f":"IF(EE33=\"\",\"L\",\"\")","v":"L"},{"$f":"COUNTIF(EF8:EF30,\"WDN\")","v":0},{"$f":"COUNTA(EE8:EE31)-EG7+1","v":1},{"$f":"COUNTA(EI8:EI31)","v":0},{"$f":"IF(EI33=\"\",\"L\",\"\")","v":"L"},{"$f":"COUNTIF(EJ8:EJ30,\"WDN\")","v":0},{"$f":"COUNTA(EI8:EI31)-EK7+1","v":1},{"$f":"COUNTA(EM8:EM31)","v":0},{"$f":"IF(EM33=\"\",\"L\",\"\")","v":"L"},{"$f":"COUNTIF(EN8:EN30,\"WDN\")","v":0},{"$f":"COUNTA(EM8:EM31)-EO7+1","v":1},{"$f":"COUNTA(EQ8:EQ31)","v":0},{"$f":"IF(EQ33=\"\",\"L\",\"\")","v":"L"},{"$f":"COUNTIF(ER8:ER30,\"WDN\")","v":0},{"$f":"COUNTA(EQ8:EQ31)-ES7+1","v":1},{"$f":"COUNTA(EU8:EU31)","v":0},{"$f":"IF(EU33=\"\",\"L\",\"\")","v":"L"},{"$f":"COUNTIF(EV8:EV30,\"WDN\")","v":0},{"$f":"COUNTA(EU8:EU31)-EW7+1","v":1},{"$f":"COUNTA(EY8:EY31)","v":0},{"$f":"IF(EY33=\"\",\"L\",\"\")","v":"L"},{"$f":"COUNTIF(EZ8:EZ30,\"WDN\")","v":0},{"$f":"COUNTA(EY8:EY31)-FA7+1","v":1},{"$f":"COUNTA(FC8:FC31)","v":0},{"$f":"IF(FC33=\"\",\"L\",\"\")","v":"L"},{"$f":"COUNTIF(FD8:FD30,\"WDN\")","v":0},{"$f":"COUNTA(FC8:FC31)-FE7+1","v":1},{"$f":"COUNTA(FG8:FG31)","v":0},{"$f":"IF(FG33=\"\",\"L\",\"\")","v":"L"},{"$f":"COUNTIF(FH8:FH30,\"WDN\")","v":0},{"$f":"COUNTA(FG8:FG31)-FI7+1","v":1},null,1]
[null,"1st",null,{"$f":"IF(C8=\"\",\"\",OK)","v":""},{"$f":"IF(C8=0,\"\",IF(D8=OK,F8,IF(HLOOKUP(D8,Comments3,3,FALSE)=M,F$159,IF(HLOOKUP(D8,Comments3,3,FALSE)=S,VLOOKUP(C8,EventAverage,2,FALSE),HLOOKUP(D8,Comments3,3,FALSE)))))","v":""},{"$f":"COUNTIF(D$8:D8,OK)+COUNTIF(D$8:D8,RDGfix)+COUNTIF(D$8:D8,RDGave)+COUNTIF(D$8:D8,RDGevent)","v":0},null,{"$f":"IF(G8=\"\",\"\",OK)","v":""},{"$f":"IF(G8=\"\",\"\",IF(AND(H$7=\"L\",$C$33>0, H8=\"DNC\"),$I$2,IF(H8=OK,J8,IF(HLOOKUP(H8,Comments3,2,FALSE)=D,J$7,IF(HLOOKUP(H8,Comments3,2,FALSE)=A,VLOOKUP(G8,Averages,G$4,FALSE),IF(HLOOKUP(H8,Comments3,2,FALSE)=E,VLOOKUP(G8,EventAverage,2,FALSE),HLOOKUP(H8,Comments4,2,FALSE)))))))","v":""},{"$f":"COUNTIF(H$8:H8,OK)+COUNTIF(H$8:H8,RDGfix)+COUNTIF(H$8:H8,RDGave)+COUNTIF(H$8:H8,RDGevent)","v":0},null,{"$f":"IF(K8=\"\",\"\",OK)","v":""},{"$f":"IF(K8=\"\",\"\",IF(AND(L$7=\"L\",$C$33>0, L8=\"DNC\"),$I$2,IF(L8=OK,N8,IF(HLOOKUP(L8,Comments3,2,FALSE)=D,N$7,IF(HLOOKUP(L8,Comments3,2,FALSE)=A,VLOOKUP(K8,Averages,K$4,FALSE),IF(HLOOKUP(L8,Comments3,2,FALSE)=E,VLOOKUP(K8,EventAverage,2,FALSE),HLOOKUP(L8,Comments4,2,FALSE)))))))","v":""},{"$f":"COUNTIF(L$8:L8,OK)+COUNTIF(L$8:L8,RDGfix)+COUNTIF(L$8:L8,RDGave)+COUNTIF(L$8:L8,RDGevent)","v":0},null,{"$f":"IF(O8=\"\",\"\",OK)","v":""},{"$f":"IF(O8=\"\",\"\",IF(AND(P$7=\"L\",$C$33>0, P8=\"DNC\"),$I$2,IF(P8=OK,R8,IF(HLOOKUP(P8,Comments3,2,FALSE)=D,R$7,IF(HLOOKUP(P8,Comments3,2,FALSE)=A,VLOOKUP(O8,Averages,O$4,FALSE),IF(HLOOKUP(P8,Comments3,2,FALSE)=E,VLOOKUP(O8,EventAverage,2,FALSE),HLOOKUP(P8,Comments4,2,FALSE)))))))","v":""},{"$f":"COUNTIF(P$8:P8,OK)+COUNTIF(P$8:P8,RDGfix)+COUNTIF(P$8:P8,RDGave)+COUNTIF(P$8:P8,RDGevent)","v":0},null,{"$f":"IF(S8=\"\",\"\",OK)","v":""},{"$f":"IF(S8=\"\",\"\",IF(AND(T$7=\"L\",$C$33>0, T8=\"DNC\"),$I$2,IF(T8=OK,V8,IF(HLOOKUP(T8,Comments3,2,FALSE)=D,V$7,IF(HLOOKUP(T8,Comments3,2,FALSE)=A,VLOOKUP(S8,Averages,S$4,FALSE),IF(HLOOKUP(T8,Comments3,2,FALSE)=E,VLOOKUP(S8,EventAverage,2,FALSE),HLOOKUP(T8,Comments4,2,FALSE)))))))","v":""},{"$f":"COUNTIF(T$8:T8,OK)+COUNTIF(T$8:T8,RDGfix)+COUNTIF(T$8:T8,RDGave)+COUNTIF(T$8:T8,RDGevent)","v":0},null,{"$f":"IF(W8=\"\",\"\",OK)","v":""},{"$f":"IF(W8=\"\",\"\",IF(AND(X$7=\"L\",$C$33>0, X8=\"DNC\"),$I$2,IF(X8=OK,Z8,IF(HLOOKUP(X8,Comments3,2,FALSE)=D,Z$7,IF(HLOOKUP(X8,Comments3,2,FALSE)=A,VLOOKUP(W8,Averages,W$4,FALSE),IF(HLOOKUP(X8,Comments3,2,FALSE)=E,VLOOKUP(W8,EventAverage,2,FALSE),HLOOKUP(X8,Comments4,2,FALSE)))))))","v":""},{"$f":"COUNTIF(X$8:X8,OK)+COUNTIF(X$8:X8,RDGfix)+COUNTIF(X$8:X8,RDGave)+COUNTIF(X$8:X8,RDGevent)","v":0},null,{"$f":"IF(AA8=\"\",\"\",OK)","v":""},{"$f":"IF(AA8=\"\",\"\",IF(AND(AB$7=\"L\",$C$33>0, AB8=\"DNC\"),$I$2,IF(AB8=OK,AD8,IF(HLOOKUP(AB8,Comments3,2,FALSE)=D,AD$7,IF(HLOOKUP(AB8,Comments3,2,FALSE)=A,VLOOKUP(AA8,Averages,AA$4,FALSE),IF(HLOOKUP(AB8,Comments3,2,FALSE)=E,VLOOKUP(AA8,EventAverage,2,FALSE),HLOOKUP(AB8,Comments4,2,FALSE)))))))","v":""},{"$f":"COUNTIF(AB$8:AB8,OK)+COUNTIF(AB$8:AB8,RDGfix)+COUNTIF(AB$8:AB8,RDGave)+COUNTIF(AB$8:AB8,RDGevent)","v":0},null,{"$f":"IF(AE8=\"\",\"\",OK)","v":""},{"$f":"IF(AE8=\"\",\"\",IF(AND(AF$7=\"L\",$C$33>0, AF8=\"DNC\"),$I$2,IF(AF8=OK,AH8,IF(HLOOKUP(AF8,Comments3,2,FALSE)=D,AH$7,IF(HLOOKUP(AF8,Comments3,2,FALSE)=A,VLOOKUP(AE8,Averages,AE$4,FALSE),IF(HLOOKUP(AF8,Comments3,2,FALSE)=E,VLOOKUP(AE8,EventAverage,2,FALSE),HLOOKUP(AF8,Comments4,2,FALSE)))))))","v":""},{"$f":"COUNTIF(AF$8:AF8,OK)+COUNTIF(AF$8:AF8,RDGfix)+COUNTIF(AF$8:AF8,RDGave)+COUNTIF(AF$8:AF8,RDGevent)","v":0},null,{"$f":"IF(AI8=\"\",\"\",OK)","v":""},{"$f":"IF(AI8=\"\",\"\",IF(AND(AJ$7=\"L\",$C$33>0, AJ8=\"DNC\"),$I$2,IF(AJ8=OK,AL8,IF(HLOOKUP(AJ8,Comments3,2,FALSE)=D,AL$7,IF(HLOOKUP(AJ8,Comments3,2,FALSE)=A,VLOOKUP(AI8,Averages,AI$4,FALSE),IF(HLOOKUP(AJ8,Comments3,2,FALSE)=E,VLOOKUP(AI8,EventAverage,2,FALSE),HLOOKUP(AJ8,Comments4,2,FALSE)))))))","v":""},{"$f":"COUNTIF(AJ$8:AJ8,OK)+COUNTIF(AJ$8:AJ8,RDGfix)+COUNTIF(AJ$8:AJ8,RDGave)+COUNTIF(AJ$8:AJ8,RDGevent)","v":0},null,{"$f":"IF(AM8=\"\",\"\",OK)","v":""},{"$f":"IF(AM8=\"\",\"\",IF(AND(AN$7=\"L\",$C$33>0, AN8=\"DNC\"),$I$2,IF(AN8=OK,AP8,IF(HLOOKUP(AN8,Comments3,2,FALSE)=D,AP$7,IF(HLOOKUP(AN8,Comments3,2,FALSE)=A,VLOOKUP(AM8,Averages,AM$4,FALSE),IF(HLOOKUP(AN8,Comments3,2,FALSE)=E,VLOOKUP(AM8,EventAverage,2,FALSE),HLOOKUP(AN8,Comments4,2,FALSE)))))))","v":""},{"$f":"COUNTIF(AN$8:AN8,OK)+COUNTIF(AN$8:AN8,RDGfix)+COUNTIF(AN$8:AN8,RDGave)+COUNTIF(AN$8:AN8,RDGevent)","v":0},null,{"$f":"IF(AQ8=\"\",\"\",OK)","v":""},{"$f":"IF(AQ8=\"\",\"\",IF(AND(AR$7=\"L\",$C$33>0, AR8=\"DNC\"),$I$2,IF(AR8=OK,AT8,IF(HLOOKUP(AR8,Comments3,2,FALSE)=D,AT$7,IF(HLOOKUP(AR8,Comments3,2,FALSE)=A,VLOOKUP(AQ8,Averages,AQ$4,FALSE),IF(HLOOKUP(AR8,Comments3,2,FALSE)=E,VLOOKUP(AQ8,EventAverage,2,FALSE),HLOOKUP(AR8,Comments4,2,FALSE)))))))","v":""},{"$f":"COUNTIF(AR$8:AR8,OK)+COUNTIF(AR$8:AR8,RDGfix)+COUNTIF(AR$8:AR8,RDGave)+COUNTIF(AR$8:AR8,RDGevent)","v":0},null,{"$f":"IF(AU8=\"\",\"\",OK)","v":""},{"$f":"IF(AU8=\"\",\"\",IF(AND(AV$7=\"L\",$C$33>0, AV8=\"DNC\"),$I$2,IF(AV8=OK,AX8,IF(HLOOKUP(AV8,Comments3,2,FALSE)=D,AX$7,IF(HLOOKUP(AV8,Comments3,2,FALSE)=A,VLOOKUP(AU8,Averages,AU$4,FALSE),IF(HLOOKUP(AV8,Comments3,2,FALSE)=E,VLOOKUP(AU8,EventAverage,2,FALSE),HLOOKUP(AV8,Comments4,2,FALSE)))))))","v":""},{"$f":"COUNTIF(AV$8:AV8,OK)+COUNTIF(AV$8:AV8,RDGfix)+COUNTIF(AV$8:AV8,RDGave)+COUNTIF(AV$8:AV8,RDGevent)","v":0},null,{"$f":"IF(AY8=\"\",\"\",OK)","v":""},{"$f":"IF(AY8=\"\",\"\",IF(AND(AZ$7=\"L\",$C$33>0, AZ8=\"DNC\"),$I$2,IF(AZ8=OK,BB8,IF(HLOOKUP(AZ8,Comments3,2,FALSE)=D,BB$7,IF(HLOOKUP(AZ8,Comments3,2,FALSE)=A,VLOOKUP(AY8,Averages,AY$4,FALSE),IF(HLOOKUP(AZ8,Comments3,2,FALSE)=E,VLOOKUP(AY8,EventAverage,2,FALSE),HLOOKUP(AZ8,Comments4,2,FALSE)))))))","v":""},{"$f":"COUNTIF(AZ$8:AZ8,OK)+COUNTIF(AZ$8:AZ8,RDGfix)+COUNTIF(AZ$8:AZ8,RDGave)+COUNTIF(AZ$8:AZ8,RDGevent)","v":0},null,{"$f":"IF(BC8=\"\",\"\",OK)","v":""},{"$f":"IF(BC8=\"\",\"\",IF(AND(BD$7=\"L\",$C$33>0, BD8=\"DNC\"),$I$2,IF(BD8=OK,BF8,IF(HLOOKUP(BD8,Comments3,2,FALSE)=D,BF$7,IF(HLOOKUP(BD8,Comments3,2,FALSE)=A,VLOOKUP(BC8,Averages,BC$4,FALSE),IF(HLOOKUP(BD8,Comments3,2,FALSE)=E,VLOOKUP(BC8,EventAverage,2,FALSE),HLOOKUP(BD8,Comments4,2,FALSE)))))))","v":""},{"$f":"COUNTIF(BD$8:BD8,OK)+COUNTIF(BD$8:BD8,RDGfix)+COUNTIF(BD$8:BD8,RDGave)+COUNTIF(BD$8:BD8,RDGevent)","v":0},null,{"$f":"IF(BG8=\"\",\"\",OK)","v":""},{"$f":"IF(BG8=\"\",\"\",IF(AND(BH$7=\"L\",$C$33>0, BH8=\"DNC\"),$I$2,IF(BH8=OK,BJ8,IF(HLOOKUP(BH8,Comments3,2,FALSE)=D,BJ$7,IF(HLOOKUP(BH8,Comments3,2,FALSE)=A,VLOOKUP(BG8,Averages,BG$4,FALSE),IF(HLOOKUP(BH8,Comments3,2,FALSE)=E,VLOOKUP(BG8,EventAverage,2,FALSE),HLOOKUP(BH8,Comments4,2,FALSE)))))))","v":""},{"$f":"COUNTIF(BH$8:BH8,OK)+COUNTIF(BH$8:BH8,RDGfix)+COUNTIF(BH$8:BH8,RDGave)+COUNTIF(BH$8:BH8,RDGevent)","v":0},null,{"$f":"IF(BK8=\"\",\"\",OK)","v":""},{"$f":"IF(BK8=\"\",\"\",IF(AND(BL$7=\"L\",$C$33>0, BL8=\"DNC\"),$I$2,IF(BL8=OK,BN8,IF(HLOOKUP(BL8,Comments3,2,FALSE)=D,BN$7,IF(HLOOKUP(BL8,Comments3,2,FALSE)=A,VLOOKUP(BK8,Averages,BK$4,FALSE),IF(HLOOKUP(BL8,Comments3,2,FALSE)=E,VLOOKUP(BK8,EventAverage,2,FALSE),HLOOKUP(BL8,Comments4,2,FALSE)))))))","v":""},{"$f":"COUNTIF(BL$8:BL8,OK)+COUNTIF(BL$8:BL8,RDGfix)+COUNTIF(BL$8:BL8,RDGave)+COUNTIF(BL$8:BL8,RDGevent)","v":0},null,{"$f":"IF(BO8=\"\",\"\",OK)","v":""},{"$f":"IF(BO8=\"\",\"\",IF(AND(BP$7=\"L\",$C$33>0, BP8=\"DNC\"),$I$2,IF(BP8=OK,BR8,IF(HLOOKUP(BP8,Comments3,2,FALSE)=D,BR$7,IF(HLOOKUP(BP8,Comments3,2,FALSE)=A,VLOOKUP(BO8,Averages,BO$4,FALSE),IF(HLOOKUP(BP8,Comments3,2,FALSE)=E,VLOOKUP(BO8,EventAverage,2,FALSE),HLOOKUP(BP8,Comments4,2,FALSE)))))))","v":""},{"$f":"COUNTIF(BP$8:BP8,OK)+COUNTIF(BP$8:BP8,RDGfix)+COUNTIF(BP$8:BP8,RDGave)+COUNTIF(BP$8:BP8,RDGevent)","v":0},null,{"$f":"IF(BS8=\"\",\"\",OK)","v":""},{"$f":"IF(BS8=\"\",\"\",IF(AND(BT$7=\"L\",$C$33>0, BT8=\"DNC\"),$I$2,IF(BT8=OK,BV8,IF(HLOOKUP(BT8,Comments3,2,FALSE)=D,BV$7,IF(HLOOKUP(BT8,Comments3,2,FALSE)=A,VLOOKUP(BS8,Averages,BS$4,FALSE),IF(HLOOKUP(BT8,Comments3,2,FALSE)=E,VLOOKUP(BS8,EventAverage,2,FALSE),HLOOKUP(BT8,Comments4,2,FALSE)))))))","v":""},{"$f":"COUNTIF(BT$8:BT8,OK)+COUNTIF(BT$8:BT8,RDGfix)+COUNTIF(BT$8:BT8,RDGave)+COUNTIF(BT$8:BT8,RDGevent)","v":0},null,{"$f":"IF(BW8=\"\",\"\",OK)","v":""},{"$f":"IF(BW8=\"\",\"\",IF(AND(BX$7=\"L\",$C$33>0, BX8=\"DNC\"),$I$2,IF(BX8=OK,BZ8,IF(HLOOKUP(BX8,Comments3,2,FALSE)=D,BZ$7,IF(HLOOKUP(BX8,Comments3,2,FALSE)=A,VLOOKUP(BW8,Averages,BW$4,FALSE),IF(HLOOKUP(BX8,Comments3,2,FALSE)=E,VLOOKUP(BW8,EventAverage,2,FALSE),HLOOKUP(BX8,Comments4,2,FALSE)))))))","v":""},{"$f":"COUNTIF(BX$8:BX8,OK)+COUNTIF(BX$8:BX8,RDGfix)+COUNTIF(BX$8:BX8,RDGave)+COUNTIF(BX$8:BX8,RDGevent)","v":0},null,{"$f":"IF(CA8=\"\",\"\",OK)","v":""},{"$f":"IF(CA8=\"\",\"\",IF(AND(CB$7=\"L\",$C$33>0, CB8=\"DNC\"),$I$2,IF(CB8=OK,CD8,IF(HLOOKUP(CB8,Comments3,2,FALSE)=D,CD$7,IF(HLOOKUP(CB8,Comments3,2,FALSE)=A,VLOOKUP(CA8,Averages,CA$4,FALSE),IF(HLOOKUP(CB8,Comments3,2,FALSE)=E,VLOOKUP(CA8,EventAverage,2,FALSE),HLOOKUP(CB8,Comments4,2,FALSE)))))))","v":""},{"$f":"COUNTIF(CB$8:CB8,OK)+COUNTIF(CB$8:CB8,RDGfix)+COUNTIF(CB$8:CB8,RDGave)+COUNTIF(CB$8:CB8,RDGevent)","v":0},null,{"$f":"IF(CE8=\"\",\"\",OK)","v":""},{"$f":"IF(CE8=\"\",\"\",IF(AND(CF$7=\"L\",$C$33>0, CF8=\"DNC\"),$I$2,IF(CF8=OK,CH8,IF(HLOOKUP(CF8,Comments3,2,FALSE)=D,CH$7,IF(HLOOKUP(CF8,Comments3,2,FALSE)=A,VLOOKUP(CE8,Averages,CE$4,FALSE),IF(HLOOKUP(CF8,Comments3,2,FALSE)=E,VLOOKUP(CE8,EventAverage,2,FALSE),HLOOKUP(CF8,Comments4,2,FALSE)))))))","v":""},{"$f":"COUNTIF(CF$8:CF8,OK)+COUNTIF(CF$8:CF8,RDGfix)+COUNTIF(CF$8:CF8,RDGave)+COUNTIF(CF$8:CF8,RDGevent)","v":0},null,{"$f":"IF(CI8=\"\",\"\",OK)","v":""},{"$f":"IF(CI8=\"\",\"\",IF(AND(CJ$7=\"L\",$C$33>0, CJ8=\"DNC\"),$I$2,IF(CJ8=OK,CL8,IF(HLOOKUP(CJ8,Comments3,2,FALSE)=D,CL$7,IF(HLOOKUP(CJ8,Comments3,2,FALSE)=A,VLOOKUP(CI8,Averages,CI$4,FALSE),IF(HLOOKUP(CJ8,Comments3,2,FALSE)=E,VLOOKUP(CI8,EventAverage,2,FALSE),HLOOKUP(CJ8,Comments4,2,FALSE)))))))","v":""},{"$f":"COUNTIF(CJ$8:CJ8,OK)+COUNTIF(CJ$8:CJ8,RDGfix)+COUNTIF(CJ$8:CJ8,RDGave)+COUNTIF(CJ$8:CJ8,RDGevent)","v":0},null,{"$f":"IF(CM8=\"\",\"\",OK)","v":""},{"$f":"IF(CM8=\"\",\"\",IF(AND(CN$7=\"L\",$C$33>0, CN8=\"DNC\"),$I$2,IF(CN8=OK,CP8,IF(HLOOKUP(CN8,Comments3,2,FALSE)=D,CP$7,IF(HLOOKUP(CN8,Comments3,2,FALSE)=A,VLOOKUP(CM8,Averages,CM$4,FALSE),IF(HLOOKUP(CN8,Comments3,2,FALSE)=E,VLOOKUP(CM8,EventAverage,2,FALSE),HLOOKUP(CN8,Comments4,2,FALSE)))))))","v":""},{"$f":"COUNTIF(CN$8:CN8,OK)+COUNTIF(CN$8:CN8,RDGfix)+COUNTIF(CN$8:CN8,RDGave)+COUNTIF(CN$8:CN8,RDGevent)","v":0},null,{"$f":"IF(CQ8=\"\",\"\",OK)","v":""},{"$f":"IF(CQ8=\"\",\"\",IF(AND(CR$7=\"L\",$C$33>0, CR8=\"DNC\"),$I$2,IF(CR8=OK,CT8,IF(HLOOKUP(CR8,Comments3,2,FALSE)=D,CT$7,IF(HLOOKUP(CR8,Comments3,2,FALSE)=A,VLOOKUP(CQ8,Averages,CQ$4,FALSE),IF(HLOOKUP(CR8,Comments3,2,FALSE)=E,VLOOKUP(CQ8,EventAverage,2,FALSE),HLOOKUP(CR8,Comments4,2,FALSE)))))))","v":""},{"$f":"COUNTIF(CR$8:CR8,OK)+COUNTIF(CR$8:CR8,RDGfix)+COUNTIF(CR$8:CR8,RDGave)+COUNTIF(CR$8:CR8,RDGevent)","v":0},null,{"$f":"IF(CU8=\"\",\"\",OK)","v":""},{"$f":"IF(CU8=\"\",\"\",IF(AND(CV$7=\"L\",$C$33>0, CV8=\"DNC\"),$I$2,IF(CV8=OK,CX8,IF(HLOOKUP(CV8,Comments3,2,FALSE)=D,CX$7,IF(HLOOKUP(CV8,Comments3,2,FALSE)=A,VLOOKUP(CU8,Averages,CU$4,FALSE),IF(HLOOKUP(CV8,Comments3,2,FALSE)=E,VLOOKUP(CU8,EventAverage,2,FALSE),HLOOKUP(CV8,Comments4,2,FALSE)))))))","v":""},{"$f":"COUNTIF(CV$8:CV8,OK)+COUNTIF(CV$8:CV8,RDGfix)+COUNTIF(CV$8:CV8,RDGave)+COUNTIF(CV$8:CV8,RDGevent)","v":0},null,{"$f":"IF(CY8=\"\",\"\",OK)","v":""},{"$f":"IF(CY8=\"\",\"\",IF(AND(CZ$7=\"L\",$C$33>0, CZ8=\"DNC\"),$I$2,IF(CZ8=OK,DB8,IF(HLOOKUP(CZ8,Comments3,2,FALSE)=D,DB$7,IF(HLOOKUP(CZ8,Comments3,2,FALSE)=A,VLOOKUP(CY8,Averages,CY$4,FALSE),IF(HLOOKUP(CZ8,Comments3,2,FALSE)=E,VLOOKUP(CY8,EventAverage,2,FALSE),HLOOKUP(CZ8,Comments4,2,FALSE)))))))","v":""},{"$f":"COUNTIF(CZ$8:CZ8,OK)+COUNTIF(CZ$8:CZ8,RDGfix)+COUNTIF(CZ$8:CZ8,RDGave)+COUNTIF(CZ$8:CZ8,RDGevent)","v":0},null,{"$f":"IF(DC8=\"\",\"\",OK)","v":""},{"$f":"IF(DC8=\"\",\"\",IF(AND(DD$7=\"L\",$C$33>0, DD8=\"DNC\"),$I$2,IF(DD8=OK,DF8,IF(HLOOKUP(DD8,Comments3,2,FALSE)=D,DF$7,IF(HLOOKUP(DD8,Comments3,2,FALSE)=A,VLOOKUP(DC8,Averages,DC$4,FALSE),IF(HLOOKUP(DD8,Comments3,2,FALSE)=E,VLOOKUP(DC8,EventAverage,2,FALSE),HLOOKUP(DD8,Comments4,2,FALSE)))))))","v":""},{"$f":"COUNTIF(DD$8:DD8,OK)+COUNTIF(DD$8:DD8,RDGfix)+COUNTIF(DD$8:DD8,RDGave)+COUNTIF(DD$8:DD8,RDGevent)","v":0},null,{"$f":"IF(DG8=\"\",\"\",OK)","v":""},{"$f":"IF(DG8=\"\",\"\",IF(AND(DH$7=\"L\",$C$33>0, DH8=\"DNC\"),$I$2,IF(DH8=OK,DJ8,IF(HLOOKUP(DH8,Comments3,2,FALSE)=D,DJ$7,IF(HLOOKUP(DH8,Comments3,2,FALSE)=A,VLOOKUP(DG8,Averages,DG$4,FALSE),IF(HLOOKUP(DH8,Comments3,2,FALSE)=E,VLOOKUP(DG8,EventAverage,2,FALSE),HLOOKUP(DH8,Comments4,2,FALSE)))))))","v":""},{"$f":"COUNTIF(DH$8:DH8,OK)+COUNTIF(DH$8:DH8,RDGfix)+COUNTIF(DH$8:DH8,RDGave)+COUNTIF(DH$8:DH8,RDGevent)","v":0},null,{"$f":"IF(DK8=\"\",\"\",OK)","v":""},{"$f":"IF(DK8=\"\",\"\",IF(AND(DL$7=\"L\",$C$33>0, DL8=\"DNC\"),$I$2,IF(DL8=OK,DN8,IF(HLOOKUP(DL8,Comments3,2,FALSE)=D,DN$7,IF(HLOOKUP(DL8,Comments3,2,FALSE)=A,VLOOKUP(DK8,Averages,DK$4,FALSE),IF(HLOOKUP(DL8,Comments3,2,FALSE)=E,VLOOKUP(DK8,EventAverage,2,FALSE),HLOOKUP(DL8,Comments4,2,FALSE)))))))","v":""},{"$f":"COUNTIF(DL$8:DL8,OK)+COUNTIF(DL$8:DL8,RDGfix)+COUNTIF(DL$8:DL8,RDGave)+COUNTIF(DL$8:DL8,RDGevent)","v":0},null,{"$f":"IF(DO8=\"\",\"\",OK)","v":""},{"$f":"IF(DO8=\"\",\"\",IF(AND(DP$7=\"L\",$C$33>0, DP8=\"DNC\"),$I$2,IF(DP8=OK,DR8,IF(HLOOKUP(DP8,Comments3,2,FALSE)=D,DR$7,IF(HLOOKUP(DP8,Comments3,2,FALSE)=A,VLOOKUP(DO8,Averages,DO$4,FALSE),IF(HLOOKUP(DP8,Comments3,2,FALSE)=E,VLOOKUP(DO8,EventAverage,2,FALSE),HLOOKUP(DP8,Comments4,2,FALSE)))))))","v":""},{"$f":"COUNTIF(DP$8:DP8,OK)+COUNTIF(DP$8:DP8,RDGfix)+COUNTIF(DP$8:DP8,RDGave)+COUNTIF(DP$8:DP8,RDGevent)","v":0},null,{"$f":"IF(DS8=\"\",\"\",OK)","v":""},{"$f":"IF(DS8=\"\",\"\",IF(AND(DT$7=\"L\",$C$33>0, DT8=\"DNC\"),$I$2,IF(DT8=OK,DV8,IF(HLOOKUP(DT8,Comments3,2,FALSE)=D,DV$7,IF(HLOOKUP(DT8,Comments3,2,FALSE)=A,VLOOKUP(DS8,Averages,DS$4,FALSE),IF(HLOOKUP(DT8,Comments3,2,FALSE)=E,VLOOKUP(DS8,EventAverage,2,FALSE),HLOOKUP(DT8,Comments4,2,FALSE)))))))","v":""},{"$f":"COUNTIF(DT$8:DT8,OK)+COUNTIF(DT$8:DT8,RDGfix)+COUNTIF(DT$8:DT8,RDGave)+COUNTIF(DT$8:DT8,RDGevent)","v":0},null,{"$f":"IF(DW8=\"\",\"\",OK)","v":""},{"$f":"IF(DW8=\"\",\"\",IF(AND(DX$7=\"L\",$C$33>0, DX8=\"DNC\"),$I$2,IF(DX8=OK,DZ8,IF(HLOOKUP(DX8,Comments3,2,FALSE)=D,DZ$7,IF(HLOOKUP(DX8,Comments3,2,FALSE)=A,VLOOKUP(DW8,Averages,DW$4,FALSE),IF(HLOOKUP(DX8,Comments3,2,FALSE)=E,VLOOKUP(DW8,EventAverage,2,FALSE),HLOOKUP(DX8,Comments4,2,FALSE)))))))","v":""},{"$f":"COUNTIF(DX$8:DX8,OK)+COUNTIF(DX$8:DX8,RDGfix)+COUNTIF(DX$8:DX8,RDGave)+COUNTIF(DX$8:DX8,RDGevent)","v":0},null,{"$f":"IF(EA8=\"\",\"\",OK)","v":""},{"$f":"IF(EA8=\"\",\"\",IF(AND(EB$7=\"L\",$C$33>0, EB8=\"DNC\"),$I$2,IF(EB8=OK,ED8,IF(HLOOKUP(EB8,Comments3,2,FALSE)=D,ED$7,IF(HLOOKUP(EB8,Comments3,2,FALSE)=A,VLOOKUP(EA8,Averages,EA$4,FALSE),IF(HLOOKUP(EB8,Comments3,2,FALSE)=E,VLOOKUP(EA8,EventAverage,2,FALSE),HLOOKUP(EB8,Comments4,2,FALSE)))))))","v":""},{"$f":"COUNTIF(EB$8:EB8,OK)+COUNTIF(EB$8:EB8,RDGfix)+COUNTIF(EB$8:EB8,RDGave)+COUNTIF(EB$8:EB8,RDGevent)","v":0},null,{"$f":"IF(EE8=\"\",\"\",OK)","v":""},{"$f":"IF(EE8=\"\",\"\",IF(AND(EF$7=\"L\",$C$33>0, EF8=\"DNC\"),$I$2,IF(EF8=OK,EH8,IF(HLOOKUP(EF8,Comments3,2,FALSE)=D,EH$7,IF(HLOOKUP(EF8,Comments3,2,FALSE)=A,VLOOKUP(EE8,Averages,EE$4,FALSE),IF(HLOOKUP(EF8,Comments3,2,FALSE)=E,VLOOKUP(EE8,EventAverage,2,FALSE),HLOOKUP(EF8,Comments4,2,FALSE)))))))","v":""},{"$f":"COUNTIF(EF$8:EF8,OK)+COUNTIF(EF$8:EF8,RDGfix)+COUNTIF(EF$8:EF8,RDGave)+COUNTIF(EF$8:EF8,RDGevent)","v":0},null,{"$f":"IF(EI8=\"\",\"\",OK)","v":""},{"$f":"IF(EI8=\"\",\"\",IF(AND(EJ$7=\"L\",$C$33>0, EJ8=\"DNC\"),$I$2,IF(EJ8=OK,EL8,IF(HLOOKUP(EJ8,Comments3,2,FALSE)=D,EL$7,IF(HLOOKUP(EJ8,Comments3,2,FALSE)=A,VLOOKUP(EI8,Averages,EI$4,FALSE),IF(HLOOKUP(EJ8,Comments3,2,FALSE)=E,VLOOKUP(EI8,EventAverage,2,FALSE),HLOOKUP(EJ8,Comments4,2,FALSE)))))))","v":""},{"$f":"COUNTIF(EJ$8:EJ8,OK)+COUNTIF(EJ$8:EJ8,RDGfix)+COUNTIF(EJ$8:EJ8,RDGave)+COUNTIF(EJ$8:EJ8,RDGevent)","v":0},null,{"$f":"IF(EM8=\"\",\"\",OK)","v":""},{"$f":"IF(EM8=\"\",\"\",IF(AND(EN$7=\"L\",$C$33>0, EN8=\"DNC\"),$I$2,IF(EN8=OK,EP8,IF(HLOOKUP(EN8,Comments3,2,FALSE)=D,EP$7,IF(HLOOKUP(EN8,Comments3,2,FALSE)=A,VLOOKUP(EM8,Averages,EM$4,FALSE),IF(HLOOKUP(EN8,Comments3,2,FALSE)=E,VLOOKUP(EM8,EventAverage,2,FALSE),HLOOKUP(EN8,Comments4,2,FALSE)))))))","v":""},{"$f":"COUNTIF(EN$8:EN8,OK)+COUNTIF(EN$8:EN8,RDGfix)+COUNTIF(EN$8:EN8,RDGave)+COUNTIF(EN$8:EN8,RDGevent)","v":0},null,{"$f":"IF(EQ8=\"\",\"\",OK)","v":""},{"$f":"IF(EQ8=\"\",\"\",IF(AND(ER$7=\"L\",$C$33>0, ER8=\"DNC\"),$I$2,IF(ER8=OK,ET8,IF(HLOOKUP(ER8,Comments3,2,FALSE)=D,ET$7,IF(HLOOKUP(ER8,Comments3,2,FALSE)=A,VLOOKUP(EQ8,Averages,EQ$4,FALSE),IF(HLOOKUP(ER8,Comments3,2,FALSE)=E,VLOOKUP(EQ8,EventAverage,2,FALSE),HLOOKUP(ER8,Comments4,2,FALSE)))))))","v":""},{"$f":"COUNTIF(ER$8:ER8,OK)+COUNTIF(ER$8:ER8,RDGfix)+COUNTIF(ER$8:ER8,RDGave)+COUNTIF(ER$8:ER8,RDGevent)","v":0},null,{"$f":"IF(EU8=\"\",\"\",OK)","v":""},{"$f":"IF(EU8=\"\",\"\",IF(AND(EV$7=\"L\",$C$33>0, EV8=\"DNC\"),$I$2,IF(EV8=OK,EX8,IF(HLOOKUP(EV8,Comments3,2,FALSE)=D,EX$7,IF(HLOOKUP(EV8,Comments3,2,FALSE)=A,VLOOKUP(EU8,Averages,EU$4,FALSE),IF(HLOOKUP(EV8,Comments3,2,FALSE)=E,VLOOKUP(EU8,EventAverage,2,FALSE),HLOOKUP(EV8,Comments4,2,FALSE)))))))","v":""},{"$f":"COUNTIF(EV$8:EV8,OK)+COUNTIF(EV$8:EV8,RDGfix)+COUNTIF(EV$8:EV8,RDGave)+COUNTIF(EV$8:EV8,RDGevent)","v":0},null,{"$f":"IF(EY8=\"\",\"\",OK)","v":""},{"$f":"IF(EY8=\"\",\"\",IF(AND(EZ$7=\"L\",$C$33>0, EZ8=\"DNC\"),$I$2,IF(EZ8=OK,FB8,IF(HLOOKUP(EZ8,Comments3,2,FALSE)=D,FB$7,IF(HLOOKUP(EZ8,Comments3,2,FALSE)=A,VLOOKUP(EY8,Averages,EY$4,FALSE),IF(HLOOKUP(EZ8,Comments3,2,FALSE)=E,VLOOKUP(EY8,EventAverage,2,FALSE),HLOOKUP(EZ8,Comments4,2,FALSE)))))))","v":""},{"$f":"COUNTIF(EZ$8:EZ8,OK)+COUNTIF(EZ$8:EZ8,RDGfix)+COUNTIF(EZ$8:EZ8,RDGave)+COUNTIF(EZ$8:EZ8,RDGevent)","v":0},null,{"$f":"IF(FC8=\"\",\"\",OK)","v":""},{"$f":"IF(FC8=\"\",\"\",IF(AND(FD$7=\"L\",$C$33>0, FD8=\"DNC\"),$I$2,IF(FD8=OK,FF8,IF(HLOOKUP(FD8,Comments3,2,FALSE)=D,FF$7,IF(HLOOKUP(FD8,Comments3,2,FALSE)=A,VLOOKUP(FC8,Averages,FC$4,FALSE),IF(HLOOKUP(FD8,Comments3,2,FALSE)=E,VLOOKUP(FC8,EventAverage,2,FALSE),HLOOKUP(FD8,Comments4,2,FALSE)))))))","v":""},{"$f":"COUNTIF(FD$8:FD8,OK)+COUNTIF(FD$8:FD8,RDGfix)+COUNTIF(FD$8:FD8,RDGave)+COUNTIF(FD$8:FD8,RDGevent)","v":0},null,{"$f":"IF(FG8=\"\",\"\",OK)","v":""},{"$f":"IF(FG8=\"\",\"\",IF(AND(FH$7=\"L\",$C$33>0, FH8=\"DNC\"),$I$2,IF(FH8=OK,FJ8,IF(HLOOKUP(FH8,Comments3,2,FALSE)=D,FJ$7,IF(HLOOKUP(FH8,Comments3,2,FALSE)=A,VLOOKUP(FG8,Averages,FG$4,FALSE),IF(HLOOKUP(FH8,Comments3,2,FALSE)=E,VLOOKUP(FG8,EventAverage,2,FALSE),HLOOKUP(FH8,Comments4,2,FALSE)))))))","v":""},{"$f":"COUNTIF(FH$8:FH8,OK)+COUNTIF(FH$8:FH8,RDGfix)+COUNTIF(FH$8:FH8,RDGave)+COUNTIF(FH$8:FH8,RDGevent)","v":0},null,1]
[null,"2nd",null,"","",{"$f":"COUNTIF(D$8:D9,OK)+COUNTIF(D$8:D9,RDGfix)+COUNTIF(D$8:D9,RDGave)+COUNTIF(D$8:D9,RDGevent)","v":0},null,"","",{"$f":"COUNTIF(H$8:H9,OK)+COUNTIF(H$8:H9,RDGfix)+COUNTIF(H$8:H9,RDGave)+COUNTIF(H$8:H9,RDGevent)","v":0},null,"","",{"$f":"COUNTIF(L$8:L9,OK)+COUNTIF(L$8:L9,RDGfix)+COUNTIF(L$8:L9,RDGave)+COUNTIF(L$8:L9,RDGevent)","v":0},null,"","",{"$f":"COUNTIF(P$8:P9,OK)+COUNTIF(P$8:P9,RDGfix)+COUNTIF(P$8:P9,RDGave)+COUNTIF(P$8:P9,RDGevent)","v":0},null,"","",{"$f":"COUNTIF(T$8:T9,OK)+COUNTIF(T$8:T9,RDGfix)+COUNTIF(T$8:T9,RDGave)+COUNTIF(T$8:T9,RDGevent)","v":0},null,"","",{"$f":"COUNTIF(X$8:X9,OK)+COUNTIF(X$8:X9,RDGfix)+COUNTIF(X$8:X9,RDGave)+COUNTIF(X$8:X9,RDGevent)","v":0},null,"","",{"$f":"COUNTIF(AB$8:AB9,OK)+COUNTIF(AB$8:AB9,RDGfix)+COUNTIF(AB$8:AB9,RDGave)+COUNTIF(AB$8:AB9,RDGevent)","v":0},null,"","",{"$f":"COUNTIF(AF$8:AF9,OK)+COUNTIF(AF$8:AF9,RDGfix)+COUNTIF(AF$8:AF9,RDGave)+COUNTIF(AF$8:AF9,RDGevent)","v":0},null,"","",{"$f":"COUNTIF(AJ$8:AJ9,OK)+COUNTIF(AJ$8:AJ9,RDGfix)+COUNTIF(AJ$8:AJ9,RDGave)+COUNTIF(AJ$8:AJ9,RDGevent)","v":0},null,"","",{"$f":"COUNTIF(AN$8:AN9,OK)+COUNTIF(AN$8:AN9,RDGfix)+COUNTIF(AN$8:AN9,RDGave)+COUNTIF(AN$8:AN9,RDGevent)","v":0},null,"","",{"$f":"COUNTIF(AR$8:AR9,OK)+COUNTIF(AR$8:AR9,RDGfix)+COUNTIF(AR$8:AR9,RDGave)+COUNTIF(AR$8:AR9,RDGevent)","v":0},null,"","",{"$f":"COUNTIF(AV$8:AV9,OK)+COUNTIF(AV$8:AV9,RDGfix)+COUNTIF(AV$8:AV9,RDGave)+COUNTIF(AV$8:AV9,RDGevent)","v":0},null,"","",{"$f":"COUNTIF(AZ$8:AZ9,OK)+COUNTIF(AZ$8:AZ9,RDGfix)+COUNTIF(AZ$8:AZ9,RDGave)+COUNTIF(AZ$8:AZ9,RDGevent)","v":0},null,"","",{"$f":"COUNTIF(BD$8:BD9,OK)+COUNTIF(BD$8:BD9,RDGfix)+COUNTIF(BD$8:BD9,RDGave)+COUNTIF(BD$8:BD9,RDGevent)","v":0},null,"","",{"$f":"COUNTIF(BH$8:BH9,OK)+COUNTIF(BH$8:BH9,RDGfix)+COUNTIF(BH$8:BH9,RDGave)+COUNTIF(BH$8:BH9,RDGevent)","v":0},null,"","",{"$f":"COUNTIF(BL$8:BL9,OK)+COUNTIF(BL$8:BL9,RDGfix)+COUNTIF(BL$8:BL9,RDGave)+COUNTIF(BL$8:BL9,RDGevent)","v":0},null,"","",{"$f":"COUNTIF(BP$8:BP9,OK)+COUNTIF(BP$8:BP9,RDGfix)+COUNTIF(BP$8:BP9,RDGave)+COUNTIF(BP$8:BP9,RDGevent)","v":0},null,"","",{"$f":"COUNTIF(BT$8:BT9,OK)+COUNTIF(BT$8:BT9,RDGfix)+COUNTIF(BT$8:BT9,RDGave)+COUNTIF(BT$8:BT9,RDGevent)","v":0},null,"","",{"$f":"COUNTIF(BX$8:BX9,OK)+COUNTIF(BX$8:BX9,RDGfix)+COUNTIF(BX$8:BX9,RDGave)+COUNTIF(BX$8:BX9,RDGevent)","v":0},null,"","",{"$f":"COUNTIF(CB$8:CB9,OK)+COUNTIF(CB$8:CB9,RDGfix)+COUNTIF(CB$8:CB9,RDGave)+COUNTIF(CB$8:CB9,RDGevent)","v":0},null,"","",{"$f":"COUNTIF(CF$8:CF9,OK)+COUNTIF(CF$8:CF9,RDGfix)+COUNTIF(CF$8:CF9,RDGave)+COUNTIF(CF$8:CF9,RDGevent)","v":0},null,"","",{"$f":"COUNTIF(CJ$8:CJ9,OK)+COUNTIF(CJ$8:CJ9,RDGfix)+COUNTIF(CJ$8:CJ9,RDGave)+COUNTIF(CJ$8:CJ9,RDGevent)","v":0},null,"","",{"$f":"COUNTIF(CN$8:CN9,OK)+COUNTIF(CN$8:CN9,RDGfix)+COUNTIF(CN$8:CN9,RDGave)+COUNTIF(CN$8:CN9,RDGevent)","v":0},null,"","",{"$f":"COUNTIF(CR$8:CR9,OK)+COUNTIF(CR$8:CR9,RDGfix)+COUNTIF(CR$8:CR9,RDGave)+COUNTIF(CR$8:CR9,RDGevent)","v":0},null,"","",{"$f":"COUNTIF(CV$8:CV9,OK)+COUNTIF(CV$8:CV9,RDGfix)+COUNTIF(CV$8:CV9,RDGave)+COUNTIF(CV$8:CV9,RDGevent)","v":0},null,"","",{"$f":"COUNTIF(CZ$8:CZ9,OK)+COUNTIF(CZ$8:CZ9,RDGfix)+COUNTIF(CZ$8:CZ9,RDGave)+COUNTIF(CZ$8:CZ9,RDGevent)","v":0},null,"","",{"$f":"COUNTIF(DD$8:DD9,OK)+COUNTIF(DD$8:DD9,RDGfix)+COUNTIF(DD$8:DD9,RDGave)+COUNTIF(DD$8:DD9,RDGevent)","v":0},null,"","",{"$f":"COUNTIF(DH$8:DH9,OK)+COUNTIF(DH$8:DH9,RDGfix)+COUNTIF(DH$8:DH9,RDGave)+COUNTIF(DH$8:DH9,RDGevent)","v":0},null,"","",{"$f":"COUNTIF(DL$8:DL9,OK)+COUNTIF(DL$8:DL9,RDGfix)+COUNTIF(DL$8:DL9,RDGave)+COUNTIF(DL$8:DL9,RDGevent)","v":0},null,"","",{"$f":"COUNTIF(DP$8:DP9,OK)+COUNTIF(DP$8:DP9,RDGfix)+COUNTIF(DP$8:DP9,RDGave)+COUNTIF(DP$8:DP9,RDGevent)","v":0},null,"","",{"$f":"COUNTIF(DT$8:DT9,OK)+COUNTIF(DT$8:DT9,RDGfix)+COUNTIF(DT$8:DT9,RDGave)+COUNTIF(DT$8:DT9,RDGevent)","v":0},null,"","",{"$f":"COUNTIF(DX$8:DX9,OK)+COUNTIF(DX$8:DX9,RDGfix)+COUNTIF(DX$8:DX9,RDGave)+COUNTIF(DX$8:DX9,RDGevent)","v":0},null,"","",{"$f":"COUNTIF(EB$8:EB9,OK)+COUNTIF(EB$8:EB9,RDGfix)+COUNTIF(EB$8:EB9,RDGave)+COUNTIF(EB$8:EB9,RDGevent)","v":0},null,"","",{"$f":"COUNTIF(EF$8:EF9,OK)+COUNTIF(EF$8:EF9,RDGfix)+COUNTIF(EF$8:EF9,RDGave)+COUNTIF(EF$8:EF9,RDGevent)","v":0},null,"","",{"$f":"COUNTIF(EJ$8:EJ9,OK)+COUNTIF(EJ$8:EJ9,RDGfix)+COUNTIF(EJ$8:EJ9,RDGave)+COUNTIF(EJ$8:EJ9,RDGevent)","v":0},null,"","",{"$f":"COUNTIF(EN$8:EN9,OK)+COUNTIF(EN$8:EN9,RDGfix)+COUNTIF(EN$8:EN9,RDGave)+COUNTIF(EN$8:EN9,RDGevent)","v":0},null,"","",{"$f":"COUNTIF(ER$8:ER9,OK)+COUNTIF(ER$8:ER9,RDGfix)+COUNTIF(ER$8:ER9,RDGave)+COUNTIF(ER$8:ER9,RDGevent)","v":0},null,"","",{"$f":"COUNTIF(EV$8:EV9,OK)+COUNTIF(EV$8:EV9,RDGfix)+COUNTIF(EV$8:EV9,RDGave)+COUNTIF(EV$8:EV9,RDGevent)","v":0},null,"","",{"$f":"COUNTIF(EZ$8:EZ9,OK)+COUNTIF(EZ$8:EZ9,RDGfix)+COUNTIF(EZ$8:EZ9,RDGave)+COUNTIF(EZ$8:EZ9,RDGevent)","v":0},null,"","",{"$f":"COUNTIF(FD$8:FD9,OK)+COUNTIF(FD$8:FD9,RDGfix)+COUNTIF(FD$8:FD9,RDGave)+COUNTIF(FD$8:FD9,RDGevent)","v":0},null,"","",{"$f":"COUNTIF(FH$8:FH9,OK)+COUNTIF(FH$8:FH9,RDGfix)+COUNTIF(FH$8:FH9,RDGave)+COUNTIF(FH$8:FH9,RDGevent)","v":0},null,1]
[null,"3rd",null,"","",{"$f":"COUNTIF(D$8:D10,OK)+COUNTIF(D$8:D10,RDGfix)+COUNTIF(D$8:D10,RDGave)+COUNTIF(D$8:D10,RDGevent)","v":0},null,"","",{"$f":"COUNTIF(H$8:H10,OK)+COUNTIF(H$8:H10,RDGfix)+COUNTIF(H$8:H10,RDGave)+COUNTIF(H$8:H10,RDGevent)","v":0},null,"","",{"$f":"COUNTIF(L$8:L10,OK)+COUNTIF(L$8:L10,RDGfix)+COUNTIF(L$8:L10,RDGave)+COUNTIF(L$8:L10,RDGevent)","v":0},null,"","",{"$f":"COUNTIF(P$8:P10,OK)+COUNTIF(P$8:P10,RDGfix)+COUNTIF(P$8:P10,RDGave)+COUNTIF(P$8:P10,RDGevent)","v":0},null,"","",{"$f":"COUNTIF(T$8:T10,OK)+COUNTIF(T$8:T10,RDGfix)+COUNTIF(T$8:T10,RDGave)+COUNTIF(T$8:T10,RDGevent)","v":0},null,"","",{"$f":"COUNTIF(X$8:X10,OK)+COUNTIF(X$8:X10,RDGfix)+COUNTIF(X$8:X10,RDGave)+COUNTIF(X$8:X10,RDGevent)","v":0},null,"","",{"$f":"COUNTIF(AB$8:AB10,OK)+COUNTIF(AB$8:AB10,RDGfix)+COUNTIF(AB$8:AB10,RDGave)+COUNTIF(AB$8:AB10,RDGevent)","v":0},null,"","",{"$f":"COUNTIF(AF$8:AF10,OK)+COUNTIF(AF$8:AF10,RDGfix)+COUNTIF(AF$8:AF10,RDGave)+COUNTIF(AF$8:AF10,RDGevent)","v":0},null,"","",{"$f":"COUNTIF(AJ$8:AJ10,OK)+COUNTIF(AJ$8:AJ10,RDGfix)+COUNTIF(AJ$8:AJ10,RDGave)+COUNTIF(AJ$8:AJ10,RDGevent)","v":0},null,"","",{"$f":"COUNTIF(AN$8:AN10,OK)+COUNTIF(AN$8:AN10,RDGfix)+COUNTIF(AN$8:AN10,RDGave)+COUNTIF(AN$8:AN10,RDGevent)","v":0},null,"","",{"$f":"COUNTIF(AR$8:AR10,OK)+COUNTIF(AR$8:AR10,RDGfix)+COUNTIF(AR$8:AR10,RDGave)+COUNTIF(AR$8:AR10,RDGevent)","v":0},null,"","",{"$f":"COUNTIF(AV$8:AV10,OK)+COUNTIF(AV$8:AV10,RDGfix)+COUNTIF(AV$8:AV10,RDGave)+COUNTIF(AV$8:AV10,RDGevent)","v":0},null,"","",{"$f":"COUNTIF(AZ$8:AZ10,OK)+COUNTIF(AZ$8:AZ10,RDGfix)+COUNTIF(AZ$8:AZ10,RDGave)+COUNTIF(AZ$8:AZ10,RDGevent)","v":0},null,"","",{"$f":"COUNTIF(BD$8:BD10,OK)+COUNTIF(BD$8:BD10,RDGfix)+COUNTIF(BD$8:BD10,RDGave)+COUNTIF(BD$8:BD10,RDGevent)","v":0},null,"","",{"$f":"COUNTIF(BH$8:BH10,OK)+COUNTIF(BH$8:BH10,RDGfix)+COUNTIF(BH$8:BH10,RDGave)+COUNTIF(BH$8:BH10,RDGevent)","v":0},null,"","",{"$f":"COUNTIF(BL$8:BL10,OK)+COUNTIF(BL$8:BL10,RDGfix)+COUNTIF(BL$8:BL10,RDGave)+COUNTIF(BL$8:BL10,RDGevent)","v":0},null,"","",{"$f":"COUNTIF(BP$8:BP10,OK)+COUNTIF(BP$8:BP10,RDGfix)+COUNTIF(BP$8:BP10,RDGave)+COUNTIF(BP$8:BP10,RDGevent)","v":0},null,"","",{"$f":"COUNTIF(BT$8:BT10,OK)+COUNTIF(BT$8:BT10,RDGfix)+COUNTIF(BT$8:BT10,RDGave)+COUNTIF(BT$8:BT10,RDGevent)","v":0},null,"","",{"$f":"COUNTIF(BX$8:BX10,OK)+COUNTIF(BX$8:BX10,RDGfix)+COUNTIF(BX$8:BX10,RDGave)+COUNTIF(BX$8:BX10,RDGevent)","v":0},null,"","",{"$f":"COUNTIF(CB$8:CB10,OK)+COUNTIF(CB$8:CB10,RDGfix)+COUNTIF(CB$8:CB10,RDGave)+COUNTIF(CB$8:CB10,RDGevent)","v":0},null,"","",{"$f":"COUNTIF(CF$8:CF10,OK)+COUNTIF(CF$8:CF10,RDGfix)+COUNTIF(CF$8:CF10,RDGave)+COUNTIF(CF$8:CF10,RDGevent)","v":0},null,"","",{"$f":"COUNTIF(CJ$8:CJ10,OK)+COUNTIF(CJ$8:CJ10,RDGfix)+COUNTIF(CJ$8:CJ10,RDGave)+COUNTIF(CJ$8:CJ10,RDGevent)","v":0},null,"","",{"$f":"COUNTIF(CN$8:CN10,OK)+COUNTIF(CN$8:CN10,RDGfix)+COUNTIF(CN$8:CN10,RDGave)+COUNTIF(CN$8:CN10,RDGevent)","v":0},null,"","",{"$f":"COUNTIF(CR$8:CR10,OK)+COUNTIF(CR$8:CR10,RDGfix)+COUNTIF(CR$8:CR10,RDGave)+COUNTIF(CR$8:CR10,RDGevent)","v":0},null,"","",{"$f":"COUNTIF(CV$8:CV10,OK)+COUNTIF(CV$8:CV10,RDGfix)+COUNTIF(CV$8:CV10,RDGave)+COUNTIF(CV$8:CV10,RDGevent)","v":0},null,"","",{"$f":"COUNTIF(CZ$8:CZ10,OK)+COUNTIF(CZ$8:CZ10,RDGfix)+COUNTIF(CZ$8:CZ10,RDGave)+COUNTIF(CZ$8:CZ10,RDGevent)","v":0},null,"","",{"$f":"COUNTIF(DD$8:DD10,OK)+COUNTIF(DD$8:DD10,RDGfix)+COUNTIF(DD$8:DD10,RDGave)+COUNTIF(DD$8:DD10,RDGevent)","v":0},null,"","",{"$f":"COUNTIF(DH$8:DH10,OK)+COUNTIF(DH$8:DH10,RDGfix)+COUNTIF(DH$8:DH10,RDGave)+COUNTIF(DH$8:DH10,RDGevent)","v":0},null,"","",{"$f":"COUNTIF(DL$8:DL10,OK)+COUNTIF(DL$8:DL10,RDGfix)+COUNTIF(DL$8:DL10,RDGave)+COUNTIF(DL$8:DL10,RDGevent)","v":0},null,"","",{"$f":"COUNTIF(DP$8:DP10,OK)+COUNTIF(DP$8:DP10,RDGfix)+COUNTIF(DP$8:DP10,RDGave)+COUNTIF(DP$8:DP10,RDGevent)","v":0},null,"","",{"$f":"COUNTIF(DT$8:DT10,OK)+COUNTIF(DT$8:DT10,RDGfix)+COUNTIF(DT$8:DT10,RDGave)+COUNTIF(DT$8:DT10,RDGevent)","v":0},null,"","",{"$f":"COUNTIF(DX$8:DX10,OK)+COUNTIF(DX$8:DX10,RDGfix)+COUNTIF(DX$8:DX10,RDGave)+COUNTIF(DX$8:DX10,RDGevent)","v":0},null,"","",{"$f":"COUNTIF(EB$8:EB10,OK)+COUNTIF(EB$8:EB10,RDGfix)+COUNTIF(EB$8:EB10,RDGave)+COUNTIF(EB$8:EB10,RDGevent)","v":0},null,"","",{"$f":"COUNTIF(EF$8:EF10,OK)+COUNTIF(EF$8:EF10,RDGfix)+COUNTIF(EF$8:EF10,RDGave)+COUNTIF(EF$8:EF10,RDGevent)","v":0},null,"","",{"$f":"COUNTIF(EJ$8:EJ10,OK)+COUNTIF(EJ$8:EJ10,RDGfix)+COUNTIF(EJ$8:EJ10,RDGave)+COUNTIF(EJ$8:EJ10,RDGevent)","v":0},null,"","",{"$f":"COUNTIF(EN$8:EN10,OK)+COUNTIF(EN$8:EN10,RDGfix)+COUNTIF(EN$8:EN10,RDGave)+COUNTIF(EN$8:EN10,RDGevent)","v":0},null,"","",{"$f":"COUNTIF(ER$8:ER10,OK)+COUNTIF(ER$8:ER10,RDGfix)+COUNTIF(ER$8:ER10,RDGave)+COUNTIF(ER$8:ER10,RDGevent)","v":0},null,"","",{"$f":"COUNTIF(EV$8:EV10,OK)+COUNTIF(EV$8:EV10,RDGfix)+COUNTIF(EV$8:EV10,RDGave)+COUNTIF(EV$8:EV10,RDGevent)","v":0},null,"","",{"$f":"COUNTIF(EZ$8:EZ10,OK)+COUNTIF(EZ$8:EZ10,RDGfix)+COUNTIF(EZ$8:EZ10,RDGave)+COUNTIF(EZ$8:EZ10,RDGevent)","v":0},null,"","",{"$f":"COUNTIF(FD$8:FD10,OK)+COUNTIF(FD$8:FD10,RDGfix)+COUNTIF(FD$8:FD10,RDGave)+COUNTIF(FD$8:FD10,RDGevent)","v":0},null,"","",{"$f":"COUNTIF(FH$8:FH10,OK)+COUNTIF(FH$8:FH10,RDGfix)+COUNTIF(FH$8:FH10,RDGave)+COUNTIF(FH$8:FH10,RDGevent)","v":0},null,1]
[null,"4th",null,"","",{"$f":"COUNTIF(D$8:D11,OK)+COUNTIF(D$8:D11,RDGfix)+COUNTIF(D$8:D11,RDGave)+COUNTIF(D$8:D11,RDGevent)","v":0},null,"","",{"$f":"COUNTIF(H$8:H11,OK)+COUNTIF(H$8:H11,RDGfix)+COUNTIF(H$8:H11,RDGave)+COUNTIF(H$8:H11,RDGevent)","v":0},null,"","",{"$f":"COUNTIF(L$8:L11,OK)+COUNTIF(L$8:L11,RDGfix)+COUNTIF(L$8:L11,RDGave)+COUNTIF(L$8:L11,RDGevent)","v":0},null,"","",{"$f":"COUNTIF(P$8:P11,OK)+COUNTIF(P$8:P11,RDGfix)+COUNTIF(P$8:P11,RDGave)+COUNTIF(P$8:P11,RDGevent)","v":0},null,"","",{"$f":"COUNTIF(T$8:T11,OK)+COUNTIF(T$8:T11,RDGfix)+COUNTIF(T$8:T11,RDGave)+COUNTIF(T$8:T11,RDGevent)","v":0},null,"","",{"$f":"COUNTIF(X$8:X11,OK)+COUNTIF(X$8:X11,RDGfix)+COUNTIF(X$8:X11,RDGave)+COUNTIF(X$8:X11,RDGevent)","v":0},null,"","",{"$f":"COUNTIF(AB$8:AB11,OK)+COUNTIF(AB$8:AB11,RDGfix)+COUNTIF(AB$8:AB11,RDGave)+COUNTIF(AB$8:AB11,RDGevent)","v":0},null,"","",{"$f":"COUNTIF(AF$8:AF11,OK)+COUNTIF(AF$8:AF11,RDGfix)+COUNTIF(AF$8:AF11,RDGave)+COUNTIF(AF$8:AF11,RDGevent)","v":0},null,"","",{"$f":"COUNTIF(AJ$8:AJ11,OK)+COUNTIF(AJ$8:AJ11,RDGfix)+COUNTIF(AJ$8:AJ11,RDGave)+COUNTIF(AJ$8:AJ11,RDGevent)","v":0},null,"","",{"$f":"COUNTIF(AN$8:AN11,OK)+COUNTIF(AN$8:AN11,RDGfix)+COUNTIF(AN$8:AN11,RDGave)+COUNTIF(AN$8:AN11,RDGevent)","v":0},null,"","",{"$f":"COUNTIF(AR$8:AR11,OK)+COUNTIF(AR$8:AR11,RDGfix)+COUNTIF(AR$8:AR11,RDGave)+COUNTIF(AR$8:AR11,RDGevent)","v":0},null,"","",{"$f":"COUNTIF(AV$8:AV11,OK)+COUNTIF(AV$8:AV11,RDGfix)+COUNTIF(AV$8:AV11,RDGave)+COUNTIF(AV$8:AV11,RDGevent)","v":0},null,"","",{"$f":"COUNTIF(AZ$8:AZ11,OK)+COUNTIF(AZ$8:AZ11,RDGfix)+COUNTIF(AZ$8:AZ11,RDGave)+COUNTIF(AZ$8:AZ11,RDGevent)","v":0},null,"","",{"$f":"COUNTIF(BD$8:BD11,OK)+COUNTIF(BD$8:BD11,RDGfix)+COUNTIF(BD$8:BD11,RDGave)+COUNTIF(BD$8:BD11,RDGevent)","v":0},null,"","",{"$f":"COUNTIF(BH$8:BH11,OK)+COUNTIF(BH$8:BH11,RDGfix)+COUNTIF(BH$8:BH11,RDGave)+COUNTIF(BH$8:BH11,RDGevent)","v":0},null,"","",{"$f":"COUNTIF(BL$8:BL11,OK)+COUNTIF(BL$8:BL11,RDGfix)+COUNTIF(BL$8:BL11,RDGave)+COUNTIF(BL$8:BL11,RDGevent)","v":0},null,"","",{"$f":"COUNTIF(BP$8:BP11,OK)+COUNTIF(BP$8:BP11,RDGfix)+COUNTIF(BP$8:BP11,RDGave)+COUNTIF(BP$8:BP11,RDGevent)","v":0},null,"","",{"$f":"COUNTIF(BT$8:BT11,OK)+COUNTIF(BT$8:BT11,RDGfix)+COUNTIF(BT$8:BT11,RDGave)+COUNTIF(BT$8:BT11,RDGevent)","v":0},null,"","",{"$f":"COUNTIF(BX$8:BX11,OK)+COUNTIF(BX$8:BX11,RDGfix)+COUNTIF(BX$8:BX11,RDGave)+COUNTIF(BX$8:BX11,RDGevent)","v":0},null,"","",{"$f":"COUNTIF(CB$8:CB11,OK)+COUNTIF(CB$8:CB11,RDGfix)+COUNTIF(CB$8:CB11,RDGave)+COUNTIF(CB$8:CB11,RDGevent)","v":0},null,"","",{"$f":"COUNTIF(CF$8:CF11,OK)+COUNTIF(CF$8:CF11,RDGfix)+COUNTIF(CF$8:CF11,RDGave)+COUNTIF(CF$8:CF11,RDGevent)","v":0},null,"","",{"$f":"COUNTIF(CJ$8:CJ11,OK)+COUNTIF(CJ$8:CJ11,RDGfix)+COUNTIF(CJ$8:CJ11,RDGave)+COUNTIF(CJ$8:CJ11,RDGevent)","v":0},null,"","",{"$f":"COUNTIF(CN$8:CN11,OK)+COUNTIF(CN$8:CN11,RDGfix)+COUNTIF(CN$8:CN11,RDGave)+COUNTIF(CN$8:CN11,RDGevent)","v":0},null,"","",{"$f":"COUNTIF(CR$8:CR11,OK)+COUNTIF(CR$8:CR11,RDGfix)+COUNTIF(CR$8:CR11,RDGave)+COUNTIF(CR$8:CR11,RDGevent)","v":0},null,"","",{"$f":"COUNTIF(CV$8:CV11,OK)+COUNTIF(CV$8:CV11,RDGfix)+COUNTIF(CV$8:CV11,RDGave)+COUNTIF(CV$8:CV11,RDGevent)","v":0},null,"","",{"$f":"COUNTIF(CZ$8:CZ11,OK)+COUNTIF(CZ$8:CZ11,RDGfix)+COUNTIF(CZ$8:CZ11,RDGave)+COUNTIF(CZ$8:CZ11,RDGevent)","v":0},null,"","",{"$f":"COUNTIF(DD$8:DD11,OK)+COUNTIF(DD$8:DD11,RDGfix)+COUNTIF(DD$8:DD11,RDGave)+COUNTIF(DD$8:DD11,RDGevent)","v":0},null,"","",{"$f":"COUNTIF(DH$8:DH11,OK)+COUNTIF(DH$8:DH11,RDGfix)+COUNTIF(DH$8:DH11,RDGave)+COUNTIF(DH$8:DH11,RDGevent)","v":0},null,"","",{"$f":"COUNTIF(DL$8:DL11,OK)+COUNTIF(DL$8:DL11,RDGfix)+COUNTIF(DL$8:DL11,RDGave)+COUNTIF(DL$8:DL11,RDGevent)","v":0},null,"","",{"$f":"COUNTIF(DP$8:DP11,OK)+COUNTIF(DP$8:DP11,RDGfix)+COUNTIF(DP$8:DP11,RDGave)+COUNTIF(DP$8:DP11,RDGevent)","v":0},null,"","",{"$f":"COUNTIF(DT$8:DT11,OK)+COUNTIF(DT$8:DT11,RDGfix)+COUNTIF(DT$8:DT11,RDGave)+COUNTIF(DT$8:DT11,RDGevent)","v":0},null,"","",{"$f":"COUNTIF(DX$8:DX11,OK)+COUNTIF(DX$8:DX11,RDGfix)+COUNTIF(DX$8:DX11,RDGave)+COUNTIF(DX$8:DX11,RDGevent)","v":0},null,"","",{"$f":"COUNTIF(EB$8:EB11,OK)+COUNTIF(EB$8:EB11,RDGfix)+COUNTIF(EB$8:EB11,RDGave)+COUNTIF(EB$8:EB11,RDGevent)","v":0},null,"","",{"$f":"COUNTIF(EF$8:EF11,OK)+COUNTIF(EF$8:EF11,RDGfix)+COUNTIF(EF$8:EF11,RDGave)+COUNTIF(EF$8:EF11,RDGevent)","v":0},null,"","",{"$f":"COUNTIF(EJ$8:EJ11,OK)+COUNTIF(EJ$8:EJ11,RDGfix)+COUNTIF(EJ$8:EJ11,RDGave)+COUNTIF(EJ$8:EJ11,RDGevent)","v":0},null,"","",{"$f":"COUNTIF(EN$8:EN11,OK)+COUNTIF(EN$8:EN11,RDGfix)+COUNTIF(EN$8:EN11,RDGave)+COUNTIF(EN$8:EN11,RDGevent)","v":0},null,"","",{"$f":"COUNTIF(ER$8:ER11,OK)+COUNTIF(ER$8:ER11,RDGfix)+COUNTIF(ER$8:ER11,RDGave)+COUNTIF(ER$8:ER11,RDGevent)","v":0},null,"","",{"$f":"COUNTIF(EV$8:EV11,OK)+COUNTIF(EV$8:EV11,RDGfix)+COUNTIF(EV$8:EV11,RDGave)+COUNTIF(EV$8:EV11,RDGevent)","v":0},null,"","",{"$f":"COUNTIF(EZ$8:EZ11,OK)+COUNTIF(EZ$8:EZ11,RDGfix)+COUNTIF(EZ$8:EZ11,RDGave)+COUNTIF(EZ$8:EZ11,RDGevent)","v":0},null,"","",{"$f":"COUNTIF(FD$8:FD11,OK)+COUNTIF(FD$8:FD11,RDGfix)+COUNTIF(FD$8:FD11,RDGave)+COUNTIF(FD$8:FD11,RDGevent)","v":0},null,"","",{"$f":"COUNTIF(FH$8:FH11,OK)+COUNTIF(FH$8:FH11,RDGfix)+COUNTIF(FH$8:FH11,RDGave)+COUNTIF(FH$8:FH11,RDGevent)","v":0},null,1]
[null,"5th",null,"","",{"$f":"COUNTIF(D$8:D12,OK)+COUNTIF(D$8:D12,RDGfix)+COUNTIF(D$8:D12,RDGave)+COUNTIF(D$8:D12,RDGevent)","v":0},null,"","",{"$f":"COUNTIF(H$8:H12,OK)+COUNTIF(H$8:H12,RDGfix)+COUNTIF(H$8:H12,RDGave)+COUNTIF(H$8:H12,RDGevent)","v":0},null,"","",{"$f":"COUNTIF(L$8:L12,OK)+COUNTIF(L$8:L12,RDGfix)+COUNTIF(L$8:L12,RDGave)+COUNTIF(L$8:L12,RDGevent)","v":0},null,"","",{"$f":"COUNTIF(P$8:P12,OK)+COUNTIF(P$8:P12,RDGfix)+COUNTIF(P$8:P12,RDGave)+COUNTIF(P$8:P12,RDGevent)","v":0},null,"","",{"$f":"COUNTIF(T$8:T12,OK)+COUNTIF(T$8:T12,RDGfix)+COUNTIF(T$8:T12,RDGave)+COUNTIF(T$8:T12,RDGevent)","v":0},null,"","",{"$f":"COUNTIF(X$8:X12,OK)+COUNTIF(X$8:X12,RDGfix)+COUNTIF(X$8:X12,RDGave)+COUNTIF(X$8:X12,RDGevent)","v":0},null,"","",{"$f":"COUNTIF(AB$8:AB12,OK)+COUNTIF(AB$8:AB12,RDGfix)+COUNTIF(AB$8:AB12,RDGave)+COUNTIF(AB$8:AB12,RDGevent)","v":0},null,"","",{"$f":"COUNTIF(AF$8:AF12,OK)+COUNTIF(AF$8:AF12,RDGfix)+COUNTIF(AF$8:AF12,RDGave)+COUNTIF(AF$8:AF12,RDGevent)","v":0},null,"","",{"$f":"COUNTIF(AJ$8:AJ12,OK)+COUNTIF(AJ$8:AJ12,RDGfix)+COUNTIF(AJ$8:AJ12,RDGave)+COUNTIF(AJ$8:AJ12,RDGevent)","v":0},null,"","",{"$f":"COUNTIF(AN$8:AN12,OK)+COUNTIF(AN$8:AN12,RDGfix)+COUNTIF(AN$8:AN12,RDGave)+COUNTIF(AN$8:AN12,RDGevent)","v":0},null,"","",{"$f":"COUNTIF(AR$8:AR12,OK)+COUNTIF(AR$8:AR12,RDGfix)+COUNTIF(AR$8:AR12,RDGave)+COUNTIF(AR$8:AR12,RDGevent)","v":0},null,"","",{"$f":"COUNTIF(AV$8:AV12,OK)+COUNTIF(AV$8:AV12,RDGfix)+COUNTIF(AV$8:AV12,RDGave)+COUNTIF(AV$8:AV12,RDGevent)","v":0},null,"","",{"$f":"COUNTIF(AZ$8:AZ12,OK)+COUNTIF(AZ$8:AZ12,RDGfix)+COUNTIF(AZ$8:AZ12,RDGave)+COUNTIF(AZ$8:AZ12,RDGevent)","v":0},null,"","",{"$f":"COUNTIF(BD$8:BD12,OK)+COUNTIF(BD$8:BD12,RDGfix)+COUNTIF(BD$8:BD12,RDGave)+COUNTIF(BD$8:BD12,RDGevent)","v":0},null,"","",{"$f":"COUNTIF(BH$8:BH12,OK)+COUNTIF(BH$8:BH12,RDGfix)+COUNTIF(BH$8:BH12,RDGave)+COUNTIF(BH$8:BH12,RDGevent)","v":0},null,"","",{"$f":"COUNTIF(BL$8:BL12,OK)+COUNTIF(BL$8:BL12,RDGfix)+COUNTIF(BL$8:BL12,RDGave)+COUNTIF(BL$8:BL12,RDGevent)","v":0},null,"","",{"$f":"COUNTIF(BP$8:BP12,OK)+COUNTIF(BP$8:BP12,RDGfix)+COUNTIF(BP$8:BP12,RDGave)+COUNTIF(BP$8:BP12,RDGevent)","v":0},null,"","",{"$f":"COUNTIF(BT$8:BT12,OK)+COUNTIF(BT$8:BT12,RDGfix)+COUNTIF(BT$8:BT12,RDGave)+COUNTIF(BT$8:BT12,RDGevent)","v":0},null,"","",{"$f":"COUNTIF(BX$8:BX12,OK)+COUNTIF(BX$8:BX12,RDGfix)+COUNTIF(BX$8:BX12,RDGave)+COUNTIF(BX$8:BX12,RDGevent)","v":0},null,"","",{"$f":"COUNTIF(CB$8:CB12,OK)+COUNTIF(CB$8:CB12,RDGfix)+COUNTIF(CB$8:CB12,RDGave)+COUNTIF(CB$8:CB12,RDGevent)","v":0},null,"","",{"$f":"COUNTIF(CF$8:CF12,OK)+COUNTIF(CF$8:CF12,RDGfix)+COUNTIF(CF$8:CF12,RDGave)+COUNTIF(CF$8:CF12,RDGevent)","v":0},null,"","",{"$f":"COUNTIF(CJ$8:CJ12,OK)+COUNTIF(CJ$8:CJ12,RDGfix)+COUNTIF(CJ$8:CJ12,RDGave)+COUNTIF(CJ$8:CJ12,RDGevent)","v":0},null,"","",{"$f":"COUNTIF(CN$8:CN12,OK)+COUNTIF(CN$8:CN12,RDGfix)+COUNTIF(CN$8:CN12,RDGave)+COUNTIF(CN$8:CN12,RDGevent)","v":0},null,"","",{"$f":"COUNTIF(CR$8:CR12,OK)+COUNTIF(CR$8:CR12,RDGfix)+COUNTIF(CR$8:CR12,RDGave)+COUNTIF(CR$8:CR12,RDGevent)","v":0},null,"","",{"$f":"COUNTIF(CV$8:CV12,OK)+COUNTIF(CV$8:CV12,RDGfix)+COUNTIF(CV$8:CV12,RDGave)+COUNTIF(CV$8:CV12,RDGevent)","v":0},null,"","",{"$f":"COUNTIF(CZ$8:CZ12,OK)+COUNTIF(CZ$8:CZ12,RDGfix)+COUNTIF(CZ$8:CZ12,RDGave)+COUNTIF(CZ$8:CZ12,RDGevent)","v":0},null,"","",{"$f":"COUNTIF(DD$8:DD12,OK)+COUNTIF(DD$8:DD12,RDGfix)+COUNTIF(DD$8:DD12,RDGave)+COUNTIF(DD$8:DD12,RDGevent)","v":0},null,"","",{"$f":"COUNTIF(DH$8:DH12,OK)+COUNTIF(DH$8:DH12,RDGfix)+COUNTIF(DH$8:DH12,RDGave)+COUNTIF(DH$8:DH12,RDGevent)","v":0},null,"","",{"$f":"COUNTIF(DL$8:DL12,OK)+COUNTIF(DL$8:DL12,RDGfix)+COUNTIF(DL$8:DL12,RDGave)+COUNTIF(DL$8:DL12,RDGevent)","v":0},null,"","",{"$f":"COUNTIF(DP$8:DP12,OK)+COUNTIF(DP$8:DP12,RDGfix)+COUNTIF(DP$8:DP12,RDGave)+COUNTIF(DP$8:DP12,RDGevent)","v":0},null,"","",{"$f":"COUNTIF(DT$8:DT12,OK)+COUNTIF(DT$8:DT12,RDGfix)+COUNTIF(DT$8:DT12,RDGave)+COUNTIF(DT$8:DT12,RDGevent)","v":0},null,"","",{"$f":"COUNTIF(DX$8:DX12,OK)+COUNTIF(DX$8:DX12,RDGfix)+COUNTIF(DX$8:DX12,RDGave)+COUNTIF(DX$8:DX12,RDGevent)","v":0},null,"","",{"$f":"COUNTIF(EB$8:EB12,OK)+COUNTIF(EB$8:EB12,RDGfix)+COUNTIF(EB$8:EB12,RDGave)+COUNTIF(EB$8:EB12,RDGevent)","v":0},null,"","",{"$f":"COUNTIF(EF$8:EF12,OK)+COUNTIF(EF$8:EF12,RDGfix)+COUNTIF(EF$8:EF12,RDGave)+COUNTIF(EF$8:EF12,RDGevent)","v":0},null,"","",{"$f":"COUNTIF(EJ$8:EJ12,OK)+COUNTIF(EJ$8:EJ12,RDGfix)+COUNTIF(EJ$8:EJ12,RDGave)+COUNTIF(EJ$8:EJ12,RDGevent)","v":0},null,"","",{"$f":"COUNTIF(EN$8:EN12,OK)+COUNTIF(EN$8:EN12,RDGfix)+COUNTIF(EN$8:EN12,RDGave)+COUNTIF(EN$8:EN12,RDGevent)","v":0},null,"","",{"$f":"COUNTIF(ER$8:ER12,OK)+COUNTIF(ER$8:ER12,RDGfix)+COUNTIF(ER$8:ER12,RDGave)+COUNTIF(ER$8:ER12,RDGevent)","v":0},null,"","",{"$f":"COUNTIF(EV$8:EV12,OK)+COUNTIF(EV$8:EV12,RDGfix)+COUNTIF(EV$8:EV12,RDGave)+COUNTIF(EV$8:EV12,RDGevent)","v":0},null,"","",{"$f":"COUNTIF(EZ$8:EZ12,OK)+COUNTIF(EZ$8:EZ12,RDGfix)+COUNTIF(EZ$8:EZ12,RDGave)+COUNTIF(EZ$8:EZ12,RDGevent)","v":0},null,"","",{"$f":"COUNTIF(FD$8:FD12,OK)+COUNTIF(FD$8:FD12,RDGfix)+COUNTIF(FD$8:FD12,RDGave)+COUNTIF(FD$8:FD12,RDGevent)","v":0},null,"","",{"$f":"COUNTIF(FH$8:FH12,OK)+COUNTIF(FH$8:FH12,RDGfix)+COUNTIF(FH$8:FH12,RDGave)+COUNTIF(FH$8:FH12,RDGevent)","v":0},null,1]
[null,"6th",null,"","",{"$f":"COUNTIF(D$8:D13,OK)+COUNTIF(D$8:D13,RDGfix)+COUNTIF(D$8:D13,RDGave)+COUNTIF(D$8:D13,RDGevent)","v":0},null,"","",{"$f":"COUNTIF(H$8:H13,OK)+COUNTIF(H$8:H13,RDGfix)+COUNTIF(H$8:H13,RDGave)+COUNTIF(H$8:H13,RDGevent)","v":0},null,"","",{"$f":"COUNTIF(L$8:L13,OK)+COUNTIF(L$8:L13,RDGfix)+COUNTIF(L$8:L13,RDGave)+COUNTIF(L$8:L13,RDGevent)","v":0},null,"","",{"$f":"COUNTIF(P$8:P13,OK)+COUNTIF(P$8:P13,RDGfix)+COUNTIF(P$8:P13,RDGave)+COUNTIF(P$8:P13,RDGevent)","v":0},null,"","",{"$f":"COUNTIF(T$8:T13,OK)+COUNTIF(T$8:T13,RDGfix)+COUNTIF(T$8:T13,RDGave)+COUNTIF(T$8:T13,RDGevent)","v":0},null,"","",{"$f":"COUNTIF(X$8:X13,OK)+COUNTIF(X$8:X13,RDGfix)+COUNTIF(X$8:X13,RDGave)+COUNTIF(X$8:X13,RDGevent)","v":0},null,"","",{"$f":"COUNTIF(AB$8:AB13,OK)+COUNTIF(AB$8:AB13,RDGfix)+COUNTIF(AB$8:AB13,RDGave)+COUNTIF(AB$8:AB13,RDGevent)","v":0},null,"","",{"$f":"COUNTIF(AF$8:AF13,OK)+COUNTIF(AF$8:AF13,RDGfix)+COUNTIF(AF$8:AF13,RDGave)+COUNTIF(AF$8:AF13,RDGevent)","v":0},null,"","",{"$f":"COUNTIF(AJ$8:AJ13,OK)+COUNTIF(AJ$8:AJ13,RDGfix)+COUNTIF(AJ$8:AJ13,RDGave)+COUNTIF(AJ$8:AJ13,RDGevent)","v":0},null,"","",{"$f":"COUNTIF(AN$8:AN13,OK)+COUNTIF(AN$8:AN13,RDGfix)+COUNTIF(AN$8:AN13,RDGave)+COUNTIF(AN$8:AN13,RDGevent)","v":0},null,"","",{"$f":"COUNTIF(AR$8:AR13,OK)+COUNTIF(AR$8:AR13,RDGfix)+COUNTIF(AR$8:AR13,RDGave)+COUNTIF(AR$8:AR13,RDGevent)","v":0},null,"","",{"$f":"COUNTIF(AV$8:AV13,OK)+COUNTIF(AV$8:AV13,RDGfix)+COUNTIF(AV$8:AV13,RDGave)+COUNTIF(AV$8:AV13,RDGevent)","v":0},null,"","",{"$f":"COUNTIF(AZ$8:AZ13,OK)+COUNTIF(AZ$8:AZ13,RDGfix)+COUNTIF(AZ$8:AZ13,RDGave)+COUNTIF(AZ$8:AZ13,RDGevent)","v":0},null,"","",{"$f":"COUNTIF(BD$8:BD13,OK)+COUNTIF(BD$8:BD13,RDGfix)+COUNTIF(BD$8:BD13,RDGave)+COUNTIF(BD$8:BD13,RDGevent)","v":0},null,"","",{"$f":"COUNTIF(BH$8:BH13,OK)+COUNTIF(BH$8:BH13,RDGfix)+COUNTIF(BH$8:BH13,RDGave)+COUNTIF(BH$8:BH13,RDGevent)","v":0},null,"","",{"$f":"COUNTIF(BL$8:BL13,OK)+COUNTIF(BL$8:BL13,RDGfix)+COUNTIF(BL$8:BL13,RDGave)+COUNTIF(BL$8:BL13,RDGevent)","v":0},null,"","",{"$f":"COUNTIF(BP$8:BP13,OK)+COUNTIF(BP$8:BP13,RDGfix)+COUNTIF(BP$8:BP13,RDGave)+COUNTIF(BP$8:BP13,RDGevent)","v":0},null,"","",{"$f":"COUNTIF(BT$8:BT13,OK)+COUNTIF(BT$8:BT13,RDGfix)+COUNTIF(BT$8:BT13,RDGave)+COUNTIF(BT$8:BT13,RDGevent)","v":0},null,"","",{"$f":"COUNTIF(BX$8:BX13,OK)+COUNTIF(BX$8:BX13,RDGfix)+COUNTIF(BX$8:BX13,RDGave)+COUNTIF(BX$8:BX13,RDGevent)","v":0},null,"","",{"$f":"COUNTIF(CB$8:CB13,OK)+COUNTIF(CB$8:CB13,RDGfix)+COUNTIF(CB$8:CB13,RDGave)+COUNTIF(CB$8:CB13,RDGevent)","v":0},null,"","",{"$f":"COUNTIF(CF$8:CF13,OK)+COUNTIF(CF$8:CF13,RDGfix)+COUNTIF(CF$8:CF13,RDGave)+COUNTIF(CF$8:CF13,RDGevent)","v":0},null,"","",{"$f":"COUNTIF(CJ$8:CJ13,OK)+COUNTIF(CJ$8:CJ13,RDGfix)+COUNTIF(CJ$8:CJ13,RDGave)+COUNTIF(CJ$8:CJ13,RDGevent)","v":0},null,"","",{"$f":"COUNTIF(CN$8:CN13,OK)+COUNTIF(CN$8:CN13,RDGfix)+COUNTIF(CN$8:CN13,RDGave)+COUNTIF(CN$8:CN13,RDGevent)","v":0},null,"","",{"$f":"COUNTIF(CR$8:CR13,OK)+COUNTIF(CR$8:CR13,RDGfix)+COUNTIF(CR$8:CR13,RDGave)+COUNTIF(CR$8:CR13,RDGevent)","v":0},null,"","",{"$f":"COUNTIF(CV$8:CV13,OK)+COUNTIF(CV$8:CV13,RDGfix)+COUNTIF(CV$8:CV13,RDGave)+COUNTIF(CV$8:CV13,RDGevent)","v":0},null,"","",{"$f":"COUNTIF(CZ$8:CZ13,OK)+COUNTIF(CZ$8:CZ13,RDGfix)+COUNTIF(CZ$8:CZ13,RDGave)+COUNTIF(CZ$8:CZ13,RDGevent)","v":0},null,"","",{"$f":"COUNTIF(DD$8:DD13,OK)+COUNTIF(DD$8:DD13,RDGfix)+COUNTIF(DD$8:DD13,RDGave)+COUNTIF(DD$8:DD13,RDGevent)","v":0},null,"","",{"$f":"COUNTIF(DH$8:DH13,OK)+COUNTIF(DH$8:DH13,RDGfix)+COUNTIF(DH$8:DH13,RDGave)+COUNTIF(DH$8:DH13,RDGevent)","v":0},null,"","",{"$f":"COUNTIF(DL$8:DL13,OK)+COUNTIF(DL$8:DL13,RDGfix)+COUNTIF(DL$8:DL13,RDGave)+COUNTIF(DL$8:DL13,RDGevent)","v":0},null,"","",{"$f":"COUNTIF(DP$8:DP13,OK)+COUNTIF(DP$8:DP13,RDGfix)+COUNTIF(DP$8:DP13,RDGave)+COUNTIF(DP$8:DP13,RDGevent)","v":0},null,"","",{"$f":"COUNTIF(DT$8:DT13,OK)+COUNTIF(DT$8:DT13,RDGfix)+COUNTIF(DT$8:DT13,RDGave)+COUNTIF(DT$8:DT13,RDGevent)","v":0},null,"","",{"$f":"COUNTIF(DX$8:DX13,OK)+COUNTIF(DX$8:DX13,RDGfix)+COUNTIF(DX$8:DX13,RDGave)+COUNTIF(DX$8:DX13,RDGevent)","v":0},null,"","",{"$f":"COUNTIF(EB$8:EB13,OK)+COUNTIF(EB$8:EB13,RDGfix)+COUNTIF(EB$8:EB13,RDGave)+COUNTIF(EB$8:EB13,RDGevent)","v":0},null,"","",{"$f":"COUNTIF(EF$8:EF13,OK)+COUNTIF(EF$8:EF13,RDGfix)+COUNTIF(EF$8:EF13,RDGave)+COUNTIF(EF$8:EF13,RDGevent)","v":0},null,"","",{"$f":"COUNTIF(EJ$8:EJ13,OK)+COUNTIF(EJ$8:EJ13,RDGfix)+COUNTIF(EJ$8:EJ13,RDGave)+COUNTIF(EJ$8:EJ13,RDGevent)","v":0},null,"","",{"$f":"COUNTIF(EN$8:EN13,OK)+COUNTIF(EN$8:EN13,RDGfix)+COUNTIF(EN$8:EN13,RDGave)+COUNTIF(EN$8:EN13,RDGevent)","v":0},null,"","",{"$f":"COUNTIF(ER$8:ER13,OK)+COUNTIF(ER$8:ER13,RDGfix)+COUNTIF(ER$8:ER13,RDGave)+COUNTIF(ER$8:ER13,RDGevent)","v":0},null,"","",{"$f":"COUNTIF(EV$8:EV13,OK)+COUNTIF(EV$8:EV13,RDGfix)+COUNTIF(EV$8:EV13,RDGave)+COUNTIF(EV$8:EV13,RDGevent)","v":0},null,"","",{"$f":"COUNTIF(EZ$8:EZ13,OK)+COUNTIF(EZ$8:EZ13,RDGfix)+COUNTIF(EZ$8:EZ13,RDGave)+COUNTIF(EZ$8:EZ13,RDGevent)","v":0},null,"","",{"$f":"COUNTIF(FD$8:FD13,OK)+COUNTIF(FD$8:FD13,RDGfix)+COUNTIF(FD$8:FD13,RDGave)+COUNTIF(FD$8:FD13,RDGevent)","v":0},null,"","",{"$f":"COUNTIF(FH$8:FH13,OK)+COUNTIF(FH$8:FH13,RDGfix)+COUNTIF(FH$8:FH13,RDGave)+COUNTIF(FH$8:FH13,RDGevent)","v":0},null,1]
[null,"7th",null,"","",{"$f":"COUNTIF(D$8:D14,OK)+COUNTIF(D$8:D14,RDGfix)+COUNTIF(D$8:D14,RDGave)+COUNTIF(D$8:D14,RDGevent)","v":0},null,"","",{"$f":"COUNTIF(H$8:H14,OK)+COUNTIF(H$8:H14,RDGfix)+COUNTIF(H$8:H14,RDGave)+COUNTIF(H$8:H14,RDGevent)","v":0},null,"","",{"$f":"COUNTIF(L$8:L14,OK)+COUNTIF(L$8:L14,RDGfix)+COUNTIF(L$8:L14,RDGave)+COUNTIF(L$8:L14,RDGevent)","v":0},null,"","",{"$f":"COUNTIF(P$8:P14,OK)+COUNTIF(P$8:P14,RDGfix)+COUNTIF(P$8:P14,RDGave)+COUNTIF(P$8:P14,RDGevent)","v":0},null,"","",{"$f":"COUNTIF(T$8:T14,OK)+COUNTIF(T$8:T14,RDGfix)+COUNTIF(T$8:T14,RDGave)+COUNTIF(T$8:T14,RDGevent)","v":0},null,"","",{"$f":"COUNTIF(X$8:X14,OK)+COUNTIF(X$8:X14,RDGfix)+COUNTIF(X$8:X14,RDGave)+COUNTIF(X$8:X14,RDGevent)","v":0},null,"","",{"$f":"COUNTIF(AB$8:AB14,OK)+COUNTIF(AB$8:AB14,RDGfix)+COUNTIF(AB$8:AB14,RDGave)+COUNTIF(AB$8:AB14,RDGevent)","v":0},null,"","",{"$f":"COUNTIF(AF$8:AF14,OK)+COUNTIF(AF$8:AF14,RDGfix)+COUNTIF(AF$8:AF14,RDGave)+COUNTIF(AF$8:AF14,RDGevent)","v":0},null,"","",{"$f":"COUNTIF(AJ$8:AJ14,OK)+COUNTIF(AJ$8:AJ14,RDGfix)+COUNTIF(AJ$8:AJ14,RDGave)+COUNTIF(AJ$8:AJ14,RDGevent)","v":0},null,"","",{"$f":"COUNTIF(AN$8:AN14,OK)+COUNTIF(AN$8:AN14,RDGfix)+COUNTIF(AN$8:AN14,RDGave)+COUNTIF(AN$8:AN14,RDGevent)","v":0},null,"","",{"$f":"COUNTIF(AR$8:AR14,OK)+COUNTIF(AR$8:AR14,RDGfix)+COUNTIF(AR$8:AR14,RDGave)+COUNTIF(AR$8:AR14,RDGevent)","v":0},null,"","",{"$f":"COUNTIF(AV$8:AV14,OK)+COUNTIF(AV$8:AV14,RDGfix)+COUNTIF(AV$8:AV14,RDGave)+COUNTIF(AV$8:AV14,RDGevent)","v":0},null,"","",{"$f":"COUNTIF(AZ$8:AZ14,OK)+COUNTIF(AZ$8:AZ14,RDGfix)+COUNTIF(AZ$8:AZ14,RDGave)+COUNTIF(AZ$8:AZ14,RDGevent)","v":0},null,"","",{"$f":"COUNTIF(BD$8:BD14,OK)+COUNTIF(BD$8:BD14,RDGfix)+COUNTIF(BD$8:BD14,RDGave)+COUNTIF(BD$8:BD14,RDGevent)","v":0},null,"","",{"$f":"COUNTIF(BH$8:BH14,OK)+COUNTIF(BH$8:BH14,RDGfix)+COUNTIF(BH$8:BH14,RDGave)+COUNTIF(BH$8:BH14,RDGevent)","v":0},null,"","",{"$f":"COUNTIF(BL$8:BL14,OK)+COUNTIF(BL$8:BL14,RDGfix)+COUNTIF(BL$8:BL14,RDGave)+COUNTIF(BL$8:BL14,RDGevent)","v":0},null,"","",{"$f":"COUNTIF(BP$8:BP14,OK)+COUNTIF(BP$8:BP14,RDGfix)+COUNTIF(BP$8:BP14,RDGave)+COUNTIF(BP$8:BP14,RDGevent)","v":0},null,"","",{"$f":"COUNTIF(BT$8:BT14,OK)+COUNTIF(BT$8:BT14,RDGfix)+COUNTIF(BT$8:BT14,RDGave)+COUNTIF(BT$8:BT14,RDGevent)","v":0},null,"","",{"$f":"COUNTIF(BX$8:BX14,OK)+COUNTIF(BX$8:BX14,RDGfix)+COUNTIF(BX$8:BX14,RDGave)+COUNTIF(BX$8:BX14,RDGevent)","v":0},null,"","",{"$f":"COUNTIF(CB$8:CB14,OK)+COUNTIF(CB$8:CB14,RDGfix)+COUNTIF(CB$8:CB14,RDGave)+COUNTIF(CB$8:CB14,RDGevent)","v":0},null,"","",{"$f":"COUNTIF(CF$8:CF14,OK)+COUNTIF(CF$8:CF14,RDGfix)+COUNTIF(CF$8:CF14,RDGave)+COUNTIF(CF$8:CF14,RDGevent)","v":0},null,"","",{"$f":"COUNTIF(CJ$8:CJ14,OK)+COUNTIF(CJ$8:CJ14,RDGfix)+COUNTIF(CJ$8:CJ14,RDGave)+COUNTIF(CJ$8:CJ14,RDGevent)","v":0},null,"","",{"$f":"COUNTIF(CN$8:CN14,OK)+COUNTIF(CN$8:CN14,RDGfix)+COUNTIF(CN$8:CN14,RDGave)+COUNTIF(CN$8:CN14,RDGevent)","v":0},null,"","",{"$f":"COUNTIF(CR$8:CR14,OK)+COUNTIF(CR$8:CR14,RDGfix)+COUNTIF(CR$8:CR14,RDGave)+COUNTIF(CR$8:CR14,RDGevent)","v":0},null,"","",{"$f":"COUNTIF(CV$8:CV14,OK)+COUNTIF(CV$8:CV14,RDGfix)+COUNTIF(CV$8:CV14,RDGave)+COUNTIF(CV$8:CV14,RDGevent)","v":0},null,"","",{"$f":"COUNTIF(CZ$8:CZ14,OK)+COUNTIF(CZ$8:CZ14,RDGfix)+COUNTIF(CZ$8:CZ14,RDGave)+COUNTIF(CZ$8:CZ14,RDGevent)","v":0},null,"","",{"$f":"COUNTIF(DD$8:DD14,OK)+COUNTIF(DD$8:DD14,RDGfix)+COUNTIF(DD$8:DD14,RDGave)+COUNTIF(DD$8:DD14,RDGevent)","v":0},null,"","",{"$f":"COUNTIF(DH$8:DH14,OK)+COUNTIF(DH$8:DH14,RDGfix)+COUNTIF(DH$8:DH14,RDGave)+COUNTIF(DH$8:DH14,RDGevent)","v":0},null,"","",{"$f":"COUNTIF(DL$8:DL14,OK)+COUNTIF(DL$8:DL14,RDGfix)+COUNTIF(DL$8:DL14,RDGave)+COUNTIF(DL$8:DL14,RDGevent)","v":0},null,"","",{"$f":"COUNTIF(DP$8:DP14,OK)+COUNTIF(DP$8:DP14,RDGfix)+COUNTIF(DP$8:DP14,RDGave)+COUNTIF(DP$8:DP14,RDGevent)","v":0},null,"","",{"$f":"COUNTIF(DT$8:DT14,OK)+COUNTIF(DT$8:DT14,RDGfix)+COUNTIF(DT$8:DT14,RDGave)+COUNTIF(DT$8:DT14,RDGevent)","v":0},null,"","",{"$f":"COUNTIF(DX$8:DX14,OK)+COUNTIF(DX$8:DX14,RDGfix)+COUNTIF(DX$8:DX14,RDGave)+COUNTIF(DX$8:DX14,RDGevent)","v":0},null,"","",{"$f":"COUNTIF(EB$8:EB14,OK)+COUNTIF(EB$8:EB14,RDGfix)+COUNTIF(EB$8:EB14,RDGave)+COUNTIF(EB$8:EB14,RDGevent)","v":0},null,"","",{"$f":"COUNTIF(EF$8:EF14,OK)+COUNTIF(EF$8:EF14,RDGfix)+COUNTIF(EF$8:EF14,RDGave)+COUNTIF(EF$8:EF14,RDGevent)","v":0},null,"","",{"$f":"COUNTIF(EJ$8:EJ14,OK)+COUNTIF(EJ$8:EJ14,RDGfix)+COUNTIF(EJ$8:EJ14,RDGave)+COUNTIF(EJ$8:EJ14,RDGevent)","v":0},null,"","",{"$f":"COUNTIF(EN$8:EN14,OK)+COUNTIF(EN$8:EN14,RDGfix)+COUNTIF(EN$8:EN14,RDGave)+COUNTIF(EN$8:EN14,RDGevent)","v":0},null,"","",{"$f":"COUNTIF(ER$8:ER14,OK)+COUNTIF(ER$8:ER14,RDGfix)+COUNTIF(ER$8:ER14,RDGave)+COUNTIF(ER$8:ER14,RDGevent)","v":0},null,"","",{"$f":"COUNTIF(EV$8:EV14,OK)+COUNTIF(EV$8:EV14,RDGfix)+COUNTIF(EV$8:EV14,RDGave)+COUNTIF(EV$8:EV14,RDGevent)","v":0},null,"","",{"$f":"COUNTIF(EZ$8:EZ14,OK)+COUNTIF(EZ$8:EZ14,RDGfix)+COUNTIF(EZ$8:EZ14,RDGave)+COUNTIF(EZ$8:EZ14,RDGevent)","v":0},null,"","",{"$f":"COUNTIF(FD$8:FD14,OK)+COUNTIF(FD$8:FD14,RDGfix)+COUNTIF(FD$8:FD14,RDGave)+COUNTIF(FD$8:FD14,RDGevent)","v":0},null,"","",{"$f":"COUNTIF(FH$8:FH14,OK)+COUNTIF(FH$8:FH14,RDGfix)+COUNTIF(FH$8:FH14,RDGave)+COUNTIF(FH$8:FH14,RDGevent)","v":0},null,1]
[null,"8th",null,"","",{"$f":"COUNTIF(D$8:D15,OK)+COUNTIF(D$8:D15,RDGfix)+COUNTIF(D$8:D15,RDGave)+COUNTIF(D$8:D15,RDGevent)","v":0},null,"","",{"$f":"COUNTIF(H$8:H15,OK)+COUNTIF(H$8:H15,RDGfix)+COUNTIF(H$8:H15,RDGave)+COUNTIF(H$8:H15,RDGevent)","v":0},null,"","",{"$f":"COUNTIF(L$8:L15,OK)+COUNTIF(L$8:L15,RDGfix)+COUNTIF(L$8:L15,RDGave)+COUNTIF(L$8:L15,RDGevent)","v":0},null,"","",{"$f":"COUNTIF(P$8:P15,OK)+COUNTIF(P$8:P15,RDGfix)+COUNTIF(P$8:P15,RDGave)+COUNTIF(P$8:P15,RDGevent)","v":0},null,"","",{"$f":"COUNTIF(T$8:T15,OK)+COUNTIF(T$8:T15,RDGfix)+COUNTIF(T$8:T15,RDGave)+COUNTIF(T$8:T15,RDGevent)","v":0},null,"","",{"$f":"COUNTIF(X$8:X15,OK)+COUNTIF(X$8:X15,RDGfix)+COUNTIF(X$8:X15,RDGave)+COUNTIF(X$8:X15,RDGevent)","v":0},null,"","",{"$f":"COUNTIF(AB$8:AB15,OK)+COUNTIF(AB$8:AB15,RDGfix)+COUNTIF(AB$8:AB15,RDGave)+COUNTIF(AB$8:AB15,RDGevent)","v":0},null,"","",{"$f":"COUNTIF(AF$8:AF15,OK)+COUNTIF(AF$8:AF15,RDGfix)+COUNTIF(AF$8:AF15,RDGave)+COUNTIF(AF$8:AF15,RDGevent)","v":0},null,"","",{"$f":"COUNTIF(AJ$8:AJ15,OK)+COUNTIF(AJ$8:AJ15,RDGfix)+COUNTIF(AJ$8:AJ15,RDGave)+COUNTIF(AJ$8:AJ15,RDGevent)","v":0},null,"","",{"$f":"COUNTIF(AN$8:AN15,OK)+COUNTIF(AN$8:AN15,RDGfix)+COUNTIF(AN$8:AN15,RDGave)+COUNTIF(AN$8:AN15,RDGevent)","v":0},null,"","",{"$f":"COUNTIF(AR$8:AR15,OK)+COUNTIF(AR$8:AR15,RDGfix)+COUNTIF(AR$8:AR15,RDGave)+COUNTIF(AR$8:AR15,RDGevent)","v":0},null,"","",{"$f":"COUNTIF(AV$8:AV15,OK)+COUNTIF(AV$8:AV15,RDGfix)+COUNTIF(AV$8:AV15,RDGave)+COUNTIF(AV$8:AV15,RDGevent)","v":0},null,"","",{"$f":"COUNTIF(AZ$8:AZ15,OK)+COUNTIF(AZ$8:AZ15,RDGfix)+COUNTIF(AZ$8:AZ15,RDGave)+COUNTIF(AZ$8:AZ15,RDGevent)","v":0},null,"","",{"$f":"COUNTIF(BD$8:BD15,OK)+COUNTIF(BD$8:BD15,RDGfix)+COUNTIF(BD$8:BD15,RDGave)+COUNTIF(BD$8:BD15,RDGevent)","v":0},null,"","",{"$f":"COUNTIF(BH$8:BH15,OK)+COUNTIF(BH$8:BH15,RDGfix)+COUNTIF(BH$8:BH15,RDGave)+COUNTIF(BH$8:BH15,RDGevent)","v":0},null,"","",{"$f":"COUNTIF(BL$8:BL15,OK)+COUNTIF(BL$8:BL15,RDGfix)+COUNTIF(BL$8:BL15,RDGave)+COUNTIF(BL$8:BL15,RDGevent)","v":0},null,"","",{"$f":"COUNTIF(BP$8:BP15,OK)+COUNTIF(BP$8:BP15,RDGfix)+COUNTIF(BP$8:BP15,RDGave)+COUNTIF(BP$8:BP15,RDGevent)","v":0},null,"","",{"$f":"COUNTIF(BT$8:BT15,OK)+COUNTIF(BT$8:BT15,RDGfix)+COUNTIF(BT$8:BT15,RDGave)+COUNTIF(BT$8:BT15,RDGevent)","v":0},null,"","",{"$f":"COUNTIF(BX$8:BX15,OK)+COUNTIF(BX$8:BX15,RDGfix)+COUNTIF(BX$8:BX15,RDGave)+COUNTIF(BX$8:BX15,RDGevent)","v":0},null,"","",{"$f":"COUNTIF(CB$8:CB15,OK)+COUNTIF(CB$8:CB15,RDGfix)+COUNTIF(CB$8:CB15,RDGave)+COUNTIF(CB$8:CB15,RDGevent)","v":0},null,"","",{"$f":"COUNTIF(CF$8:CF15,OK)+COUNTIF(CF$8:CF15,RDGfix)+COUNTIF(CF$8:CF15,RDGave)+COUNTIF(CF$8:CF15,RDGevent)","v":0},null,"","",{"$f":"COUNTIF(CJ$8:CJ15,OK)+COUNTIF(CJ$8:CJ15,RDGfix)+COUNTIF(CJ$8:CJ15,RDGave)+COUNTIF(CJ$8:CJ15,RDGevent)","v":0},null,"","",{"$f":"COUNTIF(CN$8:CN15,OK)+COUNTIF(CN$8:CN15,RDGfix)+COUNTIF(CN$8:CN15,RDGave)+COUNTIF(CN$8:CN15,RDGevent)","v":0},null,"","",{"$f":"COUNTIF(CR$8:CR15,OK)+COUNTIF(CR$8:CR15,RDGfix)+COUNTIF(CR$8:CR15,RDGave)+COUNTIF(CR$8:CR15,RDGevent)","v":0},null,"","",{"$f":"COUNTIF(CV$8:CV15,OK)+COUNTIF(CV$8:CV15,RDGfix)+COUNTIF(CV$8:CV15,RDGave)+COUNTIF(CV$8:CV15,RDGevent)","v":0},null,"","",{"$f":"COUNTIF(CZ$8:CZ15,OK)+COUNTIF(CZ$8:CZ15,RDGfix)+COUNTIF(CZ$8:CZ15,RDGave)+COUNTIF(CZ$8:CZ15,RDGevent)","v":0},null,"","",{"$f":"COUNTIF(DD$8:DD15,OK)+COUNTIF(DD$8:DD15,RDGfix)+COUNTIF(DD$8:DD15,RDGave)+COUNTIF(DD$8:DD15,RDGevent)","v":0},null,"","",{"$f":"COUNTIF(DH$8:DH15,OK)+COUNTIF(DH$8:DH15,RDGfix)+COUNTIF(DH$8:DH15,RDGave)+COUNTIF(DH$8:DH15,RDGevent)","v":0},null,"","",{"$f":"COUNTIF(DL$8:DL15,OK)+COUNTIF(DL$8:DL15,RDGfix)+COUNTIF(DL$8:DL15,RDGave)+COUNTIF(DL$8:DL15,RDGevent)","v":0},null,"","",{"$f":"COUNTIF(DP$8:DP15,OK)+COUNTIF(DP$8:DP15,RDGfix)+COUNTIF(DP$8:DP15,RDGave)+COUNTIF(DP$8:DP15,RDGevent)","v":0},null,"","",{"$f":"COUNTIF(DT$8:DT15,OK)+COUNTIF(DT$8:DT15,RDGfix)+COUNTIF(DT$8:DT15,RDGave)+COUNTIF(DT$8:DT15,RDGevent)","v":0},null,"","",{"$f":"COUNTIF(DX$8:DX15,OK)+COUNTIF(DX$8:DX15,RDGfix)+COUNTIF(DX$8:DX15,RDGave)+COUNTIF(DX$8:DX15,RDGevent)","v":0},null,"","",{"$f":"COUNTIF(EB$8:EB15,OK)+COUNTIF(EB$8:EB15,RDGfix)+COUNTIF(EB$8:EB15,RDGave)+COUNTIF(EB$8:EB15,RDGevent)","v":0},null,"","",{"$f":"COUNTIF(EF$8:EF15,OK)+COUNTIF(EF$8:EF15,RDGfix)+COUNTIF(EF$8:EF15,RDGave)+COUNTIF(EF$8:EF15,RDGevent)","v":0},null,"","",{"$f":"COUNTIF(EJ$8:EJ15,OK)+COUNTIF(EJ$8:EJ15,RDGfix)+COUNTIF(EJ$8:EJ15,RDGave)+COUNTIF(EJ$8:EJ15,RDGevent)","v":0},null,"","",{"$f":"COUNTIF(EN$8:EN15,OK)+COUNTIF(EN$8:EN15,RDGfix)+COUNTIF(EN$8:EN15,RDGave)+COUNTIF(EN$8:EN15,RDGevent)","v":0},null,"","",{"$f":"COUNTIF(ER$8:ER15,OK)+COUNTIF(ER$8:ER15,RDGfix)+COUNTIF(ER$8:ER15,RDGave)+COUNTIF(ER$8:ER15,RDGevent)","v":0},null,"","",{"$f":"COUNTIF(EV$8:EV15,OK)+COUNTIF(EV$8:EV15,RDGfix)+COUNTIF(EV$8:EV15,RDGave)+COUNTIF(EV$8:EV15,RDGevent)","v":0},null,"","",{"$f":"COUNTIF(EZ$8:EZ15,OK)+COUNTIF(EZ$8:EZ15,RDGfix)+COUNTIF(EZ$8:EZ15,RDGave)+COUNTIF(EZ$8:EZ15,RDGevent)","v":0},null,"","",{"$f":"COUNTIF(FD$8:FD15,OK)+COUNTIF(FD$8:FD15,RDGfix)+COUNTIF(FD$8:FD15,RDGave)+COUNTIF(FD$8:FD15,RDGevent)","v":0},null,"","",{"$f":"COUNTIF(FH$8:FH15,OK)+COUNTIF(FH$8:FH15,RDGfix)+COUNTIF(FH$8:FH15,RDGave)+COUNTIF(FH$8:FH15,RDGevent)","v":0},null,1]
[null,"9th",null,"","",{"$f":"COUNTIF(D$8:D16,OK)+COUNTIF(D$8:D16,RDGfix)+COUNTIF(D$8:D16,RDGave)+COUNTIF(D$8:D16,RDGevent)","v":0},null,"","",{"$f":"COUNTIF(H$8:H16,OK)+COUNTIF(H$8:H16,RDGfix)+COUNTIF(H$8:H16,RDGave)+COUNTIF(H$8:H16,RDGevent)","v":0},null,"","",{"$f":"COUNTIF(L$8:L16,OK)+COUNTIF(L$8:L16,RDGfix)+COUNTIF(L$8:L16,RDGave)+COUNTIF(L$8:L16,RDGevent)","v":0},null,"","",{"$f":"COUNTIF(P$8:P16,OK)+COUNTIF(P$8:P16,RDGfix)+COUNTIF(P$8:P16,RDGave)+COUNTIF(P$8:P16,RDGevent)","v":0},null,"","",{"$f":"COUNTIF(T$8:T16,OK)+COUNTIF(T$8:T16,RDGfix)+COUNTIF(T$8:T16,RDGave)+COUNTIF(T$8:T16,RDGevent)","v":0},null,"","",{"$f":"COUNTIF(X$8:X16,OK)+COUNTIF(X$8:X16,RDGfix)+COUNTIF(X$8:X16,RDGave)+COUNTIF(X$8:X16,RDGevent)","v":0},null,"","",{"$f":"COUNTIF(AB$8:AB16,OK)+COUNTIF(AB$8:AB16,RDGfix)+COUNTIF(AB$8:AB16,RDGave)+COUNTIF(AB$8:AB16,RDGevent)","v":0},null,"","",{"$f":"COUNTIF(AF$8:AF16,OK)+COUNTIF(AF$8:AF16,RDGfix)+COUNTIF(AF$8:AF16,RDGave)+COUNTIF(AF$8:AF16,RDGevent)","v":0},null,"","",{"$f":"COUNTIF(AJ$8:AJ16,OK)+COUNTIF(AJ$8:AJ16,RDGfix)+COUNTIF(AJ$8:AJ16,RDGave)+COUNTIF(AJ$8:AJ16,RDGevent)","v":0},null,"","",{"$f":"COUNTIF(AN$8:AN16,OK)+COUNTIF(AN$8:AN16,RDGfix)+COUNTIF(AN$8:AN16,RDGave)+COUNTIF(AN$8:AN16,RDGevent)","v":0},null,"","",{"$f":"COUNTIF(AR$8:AR16,OK)+COUNTIF(AR$8:AR16,RDGfix)+COUNTIF(AR$8:AR16,RDGave)+COUNTIF(AR$8:AR16,RDGevent)","v":0},null,"","",{"$f":"COUNTIF(AV$8:AV16,OK)+COUNTIF(AV$8:AV16,RDGfix)+COUNTIF(AV$8:AV16,RDGave)+COUNTIF(AV$8:AV16,RDGevent)","v":0},null,"","",{"$f":"COUNTIF(AZ$8:AZ16,OK)+COUNTIF(AZ$8:AZ16,RDGfix)+COUNTIF(AZ$8:AZ16,RDGave)+COUNTIF(AZ$8:AZ16,RDGevent)","v":0},null,"","",{"$f":"COUNTIF(BD$8:BD16,OK)+COUNTIF(BD$8:BD16,RDGfix)+COUNTIF(BD$8:BD16,RDGave)+COUNTIF(BD$8:BD16,RDGevent)","v":0},null,"","",{"$f":"COUNTIF(BH$8:BH16,OK)+COUNTIF(BH$8:BH16,RDGfix)+COUNTIF(BH$8:BH16,RDGave)+COUNTIF(BH$8:BH16,RDGevent)","v":0},null,"","",{"$f":"COUNTIF(BL$8:BL16,OK)+COUNTIF(BL$8:BL16,RDGfix)+COUNTIF(BL$8:BL16,RDGave)+COUNTIF(BL$8:BL16,RDGevent)","v":0},null,"","",{"$f":"COUNTIF(BP$8:BP16,OK)+COUNTIF(BP$8:BP16,RDGfix)+COUNTIF(BP$8:BP16,RDGave)+COUNTIF(BP$8:BP16,RDGevent)","v":0},null,"","",{"$f":"COUNTIF(BT$8:BT16,OK)+COUNTIF(BT$8:BT16,RDGfix)+COUNTIF(BT$8:BT16,RDGave)+COUNTIF(BT$8:BT16,RDGevent)","v":0},null,"","",{"$f":"COUNTIF(BX$8:BX16,OK)+COUNTIF(BX$8:BX16,RDGfix)+COUNTIF(BX$8:BX16,RDGave)+COUNTIF(BX$8:BX16,RDGevent)","v":0},null,"","",{"$f":"COUNTIF(CB$8:CB16,OK)+COUNTIF(CB$8:CB16,RDGfix)+COUNTIF(CB$8:CB16,RDGave)+COUNTIF(CB$8:CB16,RDGevent)","v":0},null,"","",{"$f":"COUNTIF(CF$8:CF16,OK)+COUNTIF(CF$8:CF16,RDGfix)+COUNTIF(CF$8:CF16,RDGave)+COUNTIF(CF$8:CF16,RDGevent)","v":0},null,"","",{"$f":"COUNTIF(CJ$8:CJ16,OK)+COUNTIF(CJ$8:CJ16,RDGfix)+COUNTIF(CJ$8:CJ16,RDGave)+COUNTIF(CJ$8:CJ16,RDGevent)","v":0},null,"","",{"$f":"COUNTIF(CN$8:CN16,OK)+COUNTIF(CN$8:CN16,RDGfix)+COUNTIF(CN$8:CN16,RDGave)+COUNTIF(CN$8:CN16,RDGevent)","v":0},null,"","",{"$f":"COUNTIF(CR$8:CR16,OK)+COUNTIF(CR$8:CR16,RDGfix)+COUNTIF(CR$8:CR16,RDGave)+COUNTIF(CR$8:CR16,RDGevent)","v":0},null,"","",{"$f":"COUNTIF(CV$8:CV16,OK)+COUNTIF(CV$8:CV16,RDGfix)+COUNTIF(CV$8:CV16,RDGave)+COUNTIF(CV$8:CV16,RDGevent)","v":0},null,"","",{"$f":"COUNTIF(CZ$8:CZ16,OK)+COUNTIF(CZ$8:CZ16,RDGfix)+COUNTIF(CZ$8:CZ16,RDGave)+COUNTIF(CZ$8:CZ16,RDGevent)","v":0},null,"","",{"$f":"COUNTIF(DD$8:DD16,OK)+COUNTIF(DD$8:DD16,RDGfix)+COUNTIF(DD$8:DD16,RDGave)+COUNTIF(DD$8:DD16,RDGevent)","v":0},null,"","",{"$f":"COUNTIF(DH$8:DH16,OK)+COUNTIF(DH$8:DH16,RDGfix)+COUNTIF(DH$8:DH16,RDGave)+COUNTIF(DH$8:DH16,RDGevent)","v":0},null,"","",{"$f":"COUNTIF(DL$8:DL16,OK)+COUNTIF(DL$8:DL16,RDGfix)+COUNTIF(DL$8:DL16,RDGave)+COUNTIF(DL$8:DL16,RDGevent)","v":0},null,"","",{"$f":"COUNTIF(DP$8:DP16,OK)+COUNTIF(DP$8:DP16,RDGfix)+COUNTIF(DP$8:DP16,RDGave)+COUNTIF(DP$8:DP16,RDGevent)","v":0},null,"","",{"$f":"COUNTIF(DT$8:DT16,OK)+COUNTIF(DT$8:DT16,RDGfix)+COUNTIF(DT$8:DT16,RDGave)+COUNTIF(DT$8:DT16,RDGevent)","v":0},null,"","",{"$f":"COUNTIF(DX$8:DX16,OK)+COUNTIF(DX$8:DX16,RDGfix)+COUNTIF(DX$8:DX16,RDGave)+COUNTIF(DX$8:DX16,RDGevent)","v":0},null,"","",{"$f":"COUNTIF(EB$8:EB16,OK)+COUNTIF(EB$8:EB16,RDGfix)+COUNTIF(EB$8:EB16,RDGave)+COUNTIF(EB$8:EB16,RDGevent)","v":0},null,"","",{"$f":"COUNTIF(EF$8:EF16,OK)+COUNTIF(EF$8:EF16,RDGfix)+COUNTIF(EF$8:EF16,RDGave)+COUNTIF(EF$8:EF16,RDGevent)","v":0},null,"","",{"$f":"COUNTIF(EJ$8:EJ16,OK)+COUNTIF(EJ$8:EJ16,RDGfix)+COUNTIF(EJ$8:EJ16,RDGave)+COUNTIF(EJ$8:EJ16,RDGevent)","v":0},null,"","",{"$f":"COUNTIF(EN$8:EN16,OK)+COUNTIF(EN$8:EN16,RDGfix)+COUNTIF(EN$8:EN16,RDGave)+COUNTIF(EN$8:EN16,RDGevent)","v":0},null,"","",{"$f":"COUNTIF(ER$8:ER16,OK)+COUNTIF(ER$8:ER16,RDGfix)+COUNTIF(ER$8:ER16,RDGave)+COUNTIF(ER$8:ER16,RDGevent)","v":0},null,"","",{"$f":"COUNTIF(EV$8:EV16,OK)+COUNTIF(EV$8:EV16,RDGfix)+COUNTIF(EV$8:EV16,RDGave)+COUNTIF(EV$8:EV16,RDGevent)","v":0},null,"","",{"$f":"COUNTIF(EZ$8:EZ16,OK)+COUNTIF(EZ$8:EZ16,RDGfix)+COUNTIF(EZ$8:EZ16,RDGave)+COUNTIF(EZ$8:EZ16,RDGevent)","v":0},null,"","",{"$f":"COUNTIF(FD$8:FD16,OK)+COUNTIF(FD$8:FD16,RDGfix)+COUNTIF(FD$8:FD16,RDGave)+COUNTIF(FD$8:FD16,RDGevent)","v":0},null,"","",{"$f":"COUNTIF(FH$8:FH16,OK)+COUNTIF(FH$8:FH16,RDGfix)+COUNTIF(FH$8:FH16,RDGave)+COUNTIF(FH$8:FH16,RDGevent)","v":0},null,1]
[null,"10th",null,"","",{"$f":"COUNTIF(D$8:D17,OK)+COUNTIF(D$8:D17,RDGfix)+COUNTIF(D$8:D17,RDGave)+COUNTIF(D$8:D17,RDGevent)","v":0},null,"","",{"$f":"COUNTIF(H$8:H17,OK)+COUNTIF(H$8:H17,RDGfix)+COUNTIF(H$8:H17,RDGave)+COUNTIF(H$8:H17,RDGevent)","v":0},null,"","",{"$f":"COUNTIF(L$8:L17,OK)+COUNTIF(L$8:L17,RDGfix)+COUNTIF(L$8:L17,RDGave)+COUNTIF(L$8:L17,RDGevent)","v":0},null,"","",{"$f":"COUNTIF(P$8:P17,OK)+COUNTIF(P$8:P17,RDGfix)+COUNTIF(P$8:P17,RDGave)+COUNTIF(P$8:P17,RDGevent)","v":0},null,"","",{"$f":"COUNTIF(T$8:T17,OK)+COUNTIF(T$8:T17,RDGfix)+COUNTIF(T$8:T17,RDGave)+COUNTIF(T$8:T17,RDGevent)","v":0},null,"","",{"$f":"COUNTIF(X$8:X17,OK)+COUNTIF(X$8:X17,RDGfix)+COUNTIF(X$8:X17,RDGave)+COUNTIF(X$8:X17,RDGevent)","v":0},null,"","",{"$f":"COUNTIF(AB$8:AB17,OK)+COUNTIF(AB$8:AB17,RDGfix)+COUNTIF(AB$8:AB17,RDGave)+COUNTIF(AB$8:AB17,RDGevent)","v":0},null,"","",{"$f":"COUNTIF(AF$8:AF17,OK)+COUNTIF(AF$8:AF17,RDGfix)+COUNTIF(AF$8:AF17,RDGave)+COUNTIF(AF$8:AF17,RDGevent)","v":0},null,"","",{"$f":"COUNTIF(AJ$8:AJ17,OK)+COUNTIF(AJ$8:AJ17,RDGfix)+COUNTIF(AJ$8:AJ17,RDGave)+COUNTIF(AJ$8:AJ17,RDGevent)","v":0},null,"","",{"$f":"COUNTIF(AN$8:AN17,OK)+COUNTIF(AN$8:AN17,RDGfix)+COUNTIF(AN$8:AN17,RDGave)+COUNTIF(AN$8:AN17,RDGevent)","v":0},null,"","",{"$f":"COUNTIF(AR$8:AR17,OK)+COUNTIF(AR$8:AR17,RDGfix)+COUNTIF(AR$8:AR17,RDGave)+COUNTIF(AR$8:AR17,RDGevent)","v":0},null,"","",{"$f":"COUNTIF(AV$8:AV17,OK)+COUNTIF(AV$8:AV17,RDGfix)+COUNTIF(AV$8:AV17,RDGave)+COUNTIF(AV$8:AV17,RDGevent)","v":0},null,"","",{"$f":"COUNTIF(AZ$8:AZ17,OK)+COUNTIF(AZ$8:AZ17,RDGfix)+COUNTIF(AZ$8:AZ17,RDGave)+COUNTIF(AZ$8:AZ17,RDGevent)","v":0},null,"","",{"$f":"COUNTIF(BD$8:BD17,OK)+COUNTIF(BD$8:BD17,RDGfix)+COUNTIF(BD$8:BD17,RDGave)+COUNTIF(BD$8:BD17,RDGevent)","v":0},null,"","",{"$f":"COUNTIF(BH$8:BH17,OK)+COUNTIF(BH$8:BH17,RDGfix)+COUNTIF(BH$8:BH17,RDGave)+COUNTIF(BH$8:BH17,RDGevent)","v":0},null,"","",{"$f":"COUNTIF(BL$8:BL17,OK)+COUNTIF(BL$8:BL17,RDGfix)+COUNTIF(BL$8:BL17,RDGave)+COUNTIF(BL$8:BL17,RDGevent)","v":0},null,"","",{"$f":"COUNTIF(BP$8:BP17,OK)+COUNTIF(BP$8:BP17,RDGfix)+COUNTIF(BP$8:BP17,RDGave)+COUNTIF(BP$8:BP17,RDGevent)","v":0},null,"","",{"$f":"COUNTIF(BT$8:BT17,OK)+COUNTIF(BT$8:BT17,RDGfix)+COUNTIF(BT$8:BT17,RDGave)+COUNTIF(BT$8:BT17,RDGevent)","v":0},null,"","",{"$f":"COUNTIF(BX$8:BX17,OK)+COUNTIF(BX$8:BX17,RDGfix)+COUNTIF(BX$8:BX17,RDGave)+COUNTIF(BX$8:BX17,RDGevent)","v":0},null,"","",{"$f":"COUNTIF(CB$8:CB17,OK)+COUNTIF(CB$8:CB17,RDGfix)+COUNTIF(CB$8:CB17,RDGave)+COUNTIF(CB$8:CB17,RDGevent)","v":0},null,"","",{"$f":"COUNTIF(CF$8:CF17,OK)+COUNTIF(CF$8:CF17,RDGfix)+COUNTIF(CF$8:CF17,RDGave)+COUNTIF(CF$8:CF17,RDGevent)","v":0},null,"","",{"$f":"COUNTIF(CJ$8:CJ17,OK)+COUNTIF(CJ$8:CJ17,RDGfix)+COUNTIF(CJ$8:CJ17,RDGave)+COUNTIF(CJ$8:CJ17,RDGevent)","v":0},null,"","",{"$f":"COUNTIF(CN$8:CN17,OK)+COUNTIF(CN$8:CN17,RDGfix)+COUNTIF(CN$8:CN17,RDGave)+COUNTIF(CN$8:CN17,RDGevent)","v":0},null,"","",{"$f":"COUNTIF(CR$8:CR17,OK)+COUNTIF(CR$8:CR17,RDGfix)+COUNTIF(CR$8:CR17,RDGave)+COUNTIF(CR$8:CR17,RDGevent)","v":0},null,"","",{"$f":"COUNTIF(CV$8:CV17,OK)+COUNTIF(CV$8:CV17,RDGfix)+COUNTIF(CV$8:CV17,RDGave)+COUNTIF(CV$8:CV17,RDGevent)","v":0},null,"","",{"$f":"COUNTIF(CZ$8:CZ17,OK)+COUNTIF(CZ$8:CZ17,RDGfix)+COUNTIF(CZ$8:CZ17,RDGave)+COUNTIF(CZ$8:CZ17,RDGevent)","v":0},null,"","",{"$f":"COUNTIF(DD$8:DD17,OK)+COUNTIF(DD$8:DD17,RDGfix)+COUNTIF(DD$8:DD17,RDGave)+COUNTIF(DD$8:DD17,RDGevent)","v":0},null,"","",{"$f":"COUNTIF(DH$8:DH17,OK)+COUNTIF(DH$8:DH17,RDGfix)+COUNTIF(DH$8:DH17,RDGave)+COUNTIF(DH$8:DH17,RDGevent)","v":0},null,"","",{"$f":"COUNTIF(DL$8:DL17,OK)+COUNTIF(DL$8:DL17,RDGfix)+COUNTIF(DL$8:DL17,RDGave)+COUNTIF(DL$8:DL17,RDGevent)","v":0},null,"","",{"$f":"COUNTIF(DP$8:DP17,OK)+COUNTIF(DP$8:DP17,RDGfix)+COUNTIF(DP$8:DP17,RDGave)+COUNTIF(DP$8:DP17,RDGevent)","v":0},null,"","",{"$f":"COUNTIF(DT$8:DT17,OK)+COUNTIF(DT$8:DT17,RDGfix)+COUNTIF(DT$8:DT17,RDGave)+COUNTIF(DT$8:DT17,RDGevent)","v":0},null,"","",{"$f":"COUNTIF(DX$8:DX17,OK)+COUNTIF(DX$8:DX17,RDGfix)+COUNTIF(DX$8:DX17,RDGave)+COUNTIF(DX$8:DX17,RDGevent)","v":0},null,"","",{"$f":"COUNTIF(EB$8:EB17,OK)+COUNTIF(EB$8:EB17,RDGfix)+COUNTIF(EB$8:EB17,RDGave)+COUNTIF(EB$8:EB17,RDGevent)","v":0},null,"","",{"$f":"COUNTIF(EF$8:EF17,OK)+COUNTIF(EF$8:EF17,RDGfix)+COUNTIF(EF$8:EF17,RDGave)+COUNTIF(EF$8:EF17,RDGevent)","v":0},null,"","",{"$f":"COUNTIF(EJ$8:EJ17,OK)+COUNTIF(EJ$8:EJ17,RDGfix)+COUNTIF(EJ$8:EJ17,RDGave)+COUNTIF(EJ$8:EJ17,RDGevent)","v":0},null,"","",{"$f":"COUNTIF(EN$8:EN17,OK)+COUNTIF(EN$8:EN17,RDGfix)+COUNTIF(EN$8:EN17,RDGave)+COUNTIF(EN$8:EN17,RDGevent)","v":0},null,"","",{"$f":"COUNTIF(ER$8:ER17,OK)+COUNTIF(ER$8:ER17,RDGfix)+COUNTIF(ER$8:ER17,RDGave)+COUNTIF(ER$8:ER17,RDGevent)","v":0},null,"","",{"$f":"COUNTIF(EV$8:EV17,OK)+COUNTIF(EV$8:EV17,RDGfix)+COUNTIF(EV$8:EV17,RDGave)+COUNTIF(EV$8:EV17,RDGevent)","v":0},null,"","",{"$f":"COUNTIF(EZ$8:EZ17,OK)+COUNTIF(EZ$8:EZ17,RDGfix)+COUNTIF(EZ$8:EZ17,RDGave)+COUNTIF(EZ$8:EZ17,RDGevent)","v":0},null,"","",{"$f":"COUNTIF(FD$8:FD17,OK)+COUNTIF(FD$8:FD17,RDGfix)+COUNTIF(FD$8:FD17,RDGave)+COUNTIF(FD$8:FD17,RDGevent)","v":0},null,"","",{"$f":"COUNTIF(FH$8:FH17,OK)+COUNTIF(FH$8:FH17,RDGfix)+COUNTIF(FH$8:FH17,RDGave)+COUNTIF(FH$8:FH17,RDGevent)","v":0},null,1]
[null,"11th",null,"","",{"$f":"COUNTIF(D$8:D18,OK)+COUNTIF(D$8:D18,RDGfix)+COUNTIF(D$8:D18,RDGave)+COUNTIF(D$8:D18,RDGevent)","v":0},null,"","",{"$f":"COUNTIF(H$8:H18,OK)+COUNTIF(H$8:H18,RDGfix)+COUNTIF(H$8:H18,RDGave)+COUNTIF(H$8:H18,RDGevent)","v":0},null,"","",{"$f":"COUNTIF(L$8:L18,OK)+COUNTIF(L$8:L18,RDGfix)+COUNTIF(L$8:L18,RDGave)+COUNTIF(L$8:L18,RDGevent)","v":0},null,"","",{"$f":"COUNTIF(P$8:P18,OK)+COUNTIF(P$8:P18,RDGfix)+COUNTIF(P$8:P18,RDGave)+COUNTIF(P$8:P18,RDGevent)","v":0},null,"","",{"$f":"COUNTIF(T$8:T18,OK)+COUNTIF(T$8:T18,RDGfix)+COUNTIF(T$8:T18,RDGave)+COUNTIF(T$8:T18,RDGevent)","v":0},null,"","",{"$f":"COUNTIF(X$8:X18,OK)+COUNTIF(X$8:X18,RDGfix)+COUNTIF(X$8:X18,RDGave)+COUNTIF(X$8:X18,RDGevent)","v":0},null,"","",{"$f":"COUNTIF(AB$8:AB18,OK)+COUNTIF(AB$8:AB18,RDGfix)+COUNTIF(AB$8:AB18,RDGave)+COUNTIF(AB$8:AB18,RDGevent)","v":0},null,"","",{"$f":"COUNTIF(AF$8:AF18,OK)+COUNTIF(AF$8:AF18,RDGfix)+COUNTIF(AF$8:AF18,RDGave)+COUNTIF(AF$8:AF18,RDGevent)","v":0},null,"","",{"$f":"COUNTIF(AJ$8:AJ18,OK)+COUNTIF(AJ$8:AJ18,RDGfix)+COUNTIF(AJ$8:AJ18,RDGave)+COUNTIF(AJ$8:AJ18,RDGevent)","v":0},null,"","",{"$f":"COUNTIF(AN$8:AN18,OK)+COUNTIF(AN$8:AN18,RDGfix)+COUNTIF(AN$8:AN18,RDGave)+COUNTIF(AN$8:AN18,RDGevent)","v":0},null,"","",{"$f":"COUNTIF(AR$8:AR18,OK)+COUNTIF(AR$8:AR18,RDGfix)+COUNTIF(AR$8:AR18,RDGave)+COUNTIF(AR$8:AR18,RDGevent)","v":0},null,"","",{"$f":"COUNTIF(AV$8:AV18,OK)+COUNTIF(AV$8:AV18,RDGfix)+COUNTIF(AV$8:AV18,RDGave)+COUNTIF(AV$8:AV18,RDGevent)","v":0},null,"","",{"$f":"COUNTIF(AZ$8:AZ18,OK)+COUNTIF(AZ$8:AZ18,RDGfix)+COUNTIF(AZ$8:AZ18,RDGave)+COUNTIF(AZ$8:AZ18,RDGevent)","v":0},null,"","",{"$f":"COUNTIF(BD$8:BD18,OK)+COUNTIF(BD$8:BD18,RDGfix)+COUNTIF(BD$8:BD18,RDGave)+COUNTIF(BD$8:BD18,RDGevent)","v":0},null,"","",{"$f":"COUNTIF(BH$8:BH18,OK)+COUNTIF(BH$8:BH18,RDGfix)+COUNTIF(BH$8:BH18,RDGave)+COUNTIF(BH$8:BH18,RDGevent)","v":0},null,"","",{"$f":"COUNTIF(BL$8:BL18,OK)+COUNTIF(BL$8:BL18,RDGfix)+COUNTIF(BL$8:BL18,RDGave)+COUNTIF(BL$8:BL18,RDGevent)","v":0},null,"","",{"$f":"COUNTIF(BP$8:BP18,OK)+COUNTIF(BP$8:BP18,RDGfix)+COUNTIF(BP$8:BP18,RDGave)+COUNTIF(BP$8:BP18,RDGevent)","v":0},null,"","",{"$f":"COUNTIF(BT$8:BT18,OK)+COUNTIF(BT$8:BT18,RDGfix)+COUNTIF(BT$8:BT18,RDGave)+COUNTIF(BT$8:BT18,RDGevent)","v":0},null,"","",{"$f":"COUNTIF(BX$8:BX18,OK)+COUNTIF(BX$8:BX18,RDGfix)+COUNTIF(BX$8:BX18,RDGave)+COUNTIF(BX$8:BX18,RDGevent)","v":0},null,"","",{"$f":"COUNTIF(CB$8:CB18,OK)+COUNTIF(CB$8:CB18,RDGfix)+COUNTIF(CB$8:CB18,RDGave)+COUNTIF(CB$8:CB18,RDGevent)","v":0},null,"","",{"$f":"COUNTIF(CF$8:CF18,OK)+COUNTIF(CF$8:CF18,RDGfix)+COUNTIF(CF$8:CF18,RDGave)+COUNTIF(CF$8:CF18,RDGevent)","v":0},null,"","",{"$f":"COUNTIF(CJ$8:CJ18,OK)+COUNTIF(CJ$8:CJ18,RDGfix)+COUNTIF(CJ$8:CJ18,RDGave)+COUNTIF(CJ$8:CJ18,RDGevent)","v":0},null,"","",{"$f":"COUNTIF(CN$8:CN18,OK)+COUNTIF(CN$8:CN18,RDGfix)+COUNTIF(CN$8:CN18,RDGave)+COUNTIF(CN$8:CN18,RDGevent)","v":0},null,"","",{"$f":"COUNTIF(CR$8:CR18,OK)+COUNTIF(CR$8:CR18,RDGfix)+COUNTIF(CR$8:CR18,RDGave)+COUNTIF(CR$8:CR18,RDGevent)","v":0},null,"","",{"$f":"COUNTIF(CV$8:CV18,OK)+COUNTIF(CV$8:CV18,RDGfix)+COUNTIF(CV$8:CV18,RDGave)+COUNTIF(CV$8:CV18,RDGevent)","v":0},null,"","",{"$f":"COUNTIF(CZ$8:CZ18,OK)+COUNTIF(CZ$8:CZ18,RDGfix)+COUNTIF(CZ$8:CZ18,RDGave)+COUNTIF(CZ$8:CZ18,RDGevent)","v":0},null,"","",{"$f":"COUNTIF(DD$8:DD18,OK)+COUNTIF(DD$8:DD18,RDGfix)+COUNTIF(DD$8:DD18,RDGave)+COUNTIF(DD$8:DD18,RDGevent)","v":0},null,"","",{"$f":"COUNTIF(DH$8:DH18,OK)+COUNTIF(DH$8:DH18,RDGfix)+COUNTIF(DH$8:DH18,RDGave)+COUNTIF(DH$8:DH18,RDGevent)","v":0},null,"","",{"$f":"COUNTIF(DL$8:DL18,OK)+COUNTIF(DL$8:DL18,RDGfix)+COUNTIF(DL$8:DL18,RDGave)+COUNTIF(DL$8:DL18,RDGevent)","v":0},null,"","",{"$f":"COUNTIF(DP$8:DP18,OK)+COUNTIF(DP$8:DP18,RDGfix)+COUNTIF(DP$8:DP18,RDGave)+COUNTIF(DP$8:DP18,RDGevent)","v":0},null,"","",{"$f":"COUNTIF(DT$8:DT18,OK)+COUNTIF(DT$8:DT18,RDGfix)+COUNTIF(DT$8:DT18,RDGave)+COUNTIF(DT$8:DT18,RDGevent)","v":0},null,"","",{"$f":"COUNTIF(DX$8:DX18,OK)+COUNTIF(DX$8:DX18,RDGfix)+COUNTIF(DX$8:DX18,RDGave)+COUNTIF(DX$8:DX18,RDGevent)","v":0},null,"","",{"$f":"COUNTIF(EB$8:EB18,OK)+COUNTIF(EB$8:EB18,RDGfix)+COUNTIF(EB$8:EB18,RDGave)+COUNTIF(EB$8:EB18,RDGevent)","v":0},null,"","",{"$f":"COUNTIF(EF$8:EF18,OK)+COUNTIF(EF$8:EF18,RDGfix)+COUNTIF(EF$8:EF18,RDGave)+COUNTIF(EF$8:EF18,RDGevent)","v":0},null,"","",{"$f":"COUNTIF(EJ$8:EJ18,OK)+COUNTIF(EJ$8:EJ18,RDGfix)+COUNTIF(EJ$8:EJ18,RDGave)+COUNTIF(EJ$8:EJ18,RDGevent)","v":0},null,"","",{"$f":"COUNTIF(EN$8:EN18,OK)+COUNTIF(EN$8:EN18,RDGfix)+COUNTIF(EN$8:EN18,RDGave)+COUNTIF(EN$8:EN18,RDGevent)","v":0},null,"","",{"$f":"COUNTIF(ER$8:ER18,OK)+COUNTIF(ER$8:ER18,RDGfix)+COUNTIF(ER$8:ER18,RDGave)+COUNTIF(ER$8:ER18,RDGevent)","v":0},null,"","",{"$f":"COUNTIF(EV$8:EV18,OK)+COUNTIF(EV$8:EV18,RDGfix)+COUNTIF(EV$8:EV18,RDGave)+COUNTIF(EV$8:EV18,RDGevent)","v":0},null,"","",{"$f":"COUNTIF(EZ$8:EZ18,OK)+COUNTIF(EZ$8:EZ18,RDGfix)+COUNTIF(EZ$8:EZ18,RDGave)+COUNTIF(EZ$8:EZ18,RDGevent)","v":0},null,"","",{"$f":"COUNTIF(FD$8:FD18,OK)+COUNTIF(FD$8:FD18,RDGfix)+COUNTIF(FD$8:FD18,RDGave)+COUNTIF(FD$8:FD18,RDGevent)","v":0},null,"","",{"$f":"COUNTIF(FH$8:FH18,OK)+COUNTIF(FH$8:FH18,RDGfix)+COUNTIF(FH$8:FH18,RDGave)+COUNTIF(FH$8:FH18,RDGevent)","v":0},null,1]
[null,"12th",null,"","",{"$f":"COUNTIF(D$8:D19,OK)+COUNTIF(D$8:D19,RDGfix)+COUNTIF(D$8:D19,RDGave)+COUNTIF(D$8:D19,RDGevent)","v":0},null,"","",{"$f":"COUNTIF(H$8:H19,OK)+COUNTIF(H$8:H19,RDGfix)+COUNTIF(H$8:H19,RDGave)+COUNTIF(H$8:H19,RDGevent)","v":0},null,"","",{"$f":"COUNTIF(L$8:L19,OK)+COUNTIF(L$8:L19,RDGfix)+COUNTIF(L$8:L19,RDGave)+COUNTIF(L$8:L19,RDGevent)","v":0},null,"","",{"$f":"COUNTIF(P$8:P19,OK)+COUNTIF(P$8:P19,RDGfix)+COUNTIF(P$8:P19,RDGave)+COUNTIF(P$8:P19,RDGevent)","v":0},null,"","",{"$f":"COUNTIF(T$8:T19,OK)+COUNTIF(T$8:T19,RDGfix)+COUNTIF(T$8:T19,RDGave)+COUNTIF(T$8:T19,RDGevent)","v":0},null,"","",{"$f":"COUNTIF(X$8:X19,OK)+COUNTIF(X$8:X19,RDGfix)+COUNTIF(X$8:X19,RDGave)+COUNTIF(X$8:X19,RDGevent)","v":0},null,"","",{"$f":"COUNTIF(AB$8:AB19,OK)+COUNTIF(AB$8:AB19,RDGfix)+COUNTIF(AB$8:AB19,RDGave)+COUNTIF(AB$8:AB19,RDGevent)","v":0},null,"","",{"$f":"COUNTIF(AF$8:AF19,OK)+COUNTIF(AF$8:AF19,RDGfix)+COUNTIF(AF$8:AF19,RDGave)+COUNTIF(AF$8:AF19,RDGevent)","v":0},null,"","",{"$f":"COUNTIF(AJ$8:AJ19,OK)+COUNTIF(AJ$8:AJ19,RDGfix)+COUNTIF(AJ$8:AJ19,RDGave)+COUNTIF(AJ$8:AJ19,RDGevent)","v":0},null,"","",{"$f":"COUNTIF(AN$8:AN19,OK)+COUNTIF(AN$8:AN19,RDGfix)+COUNTIF(AN$8:AN19,RDGave)+COUNTIF(AN$8:AN19,RDGevent)","v":0},null,"","",{"$f":"COUNTIF(AR$8:AR19,OK)+COUNTIF(AR$8:AR19,RDGfix)+COUNTIF(AR$8:AR19,RDGave)+COUNTIF(AR$8:AR19,RDGevent)","v":0},null,"","",{"$f":"COUNTIF(AV$8:AV19,OK)+COUNTIF(AV$8:AV19,RDGfix)+COUNTIF(AV$8:AV19,RDGave)+COUNTIF(AV$8:AV19,RDGevent)","v":0},null,"","",{"$f":"COUNTIF(AZ$8:AZ19,OK)+COUNTIF(AZ$8:AZ19,RDGfix)+COUNTIF(AZ$8:AZ19,RDGave)+COUNTIF(AZ$8:AZ19,RDGevent)","v":0},null,"","",{"$f":"COUNTIF(BD$8:BD19,OK)+COUNTIF(BD$8:BD19,RDGfix)+COUNTIF(BD$8:BD19,RDGave)+COUNTIF(BD$8:BD19,RDGevent)","v":0},null,"","",{"$f":"COUNTIF(BH$8:BH19,OK)+COUNTIF(BH$8:BH19,RDGfix)+COUNTIF(BH$8:BH19,RDGave)+COUNTIF(BH$8:BH19,RDGevent)","v":0},null,"","",{"$f":"COUNTIF(BL$8:BL19,OK)+COUNTIF(BL$8:BL19,RDGfix)+COUNTIF(BL$8:BL19,RDGave)+COUNTIF(BL$8:BL19,RDGevent)","v":0},null,"","",{"$f":"COUNTIF(BP$8:BP19,OK)+COUNTIF(BP$8:BP19,RDGfix)+COUNTIF(BP$8:BP19,RDGave)+COUNTIF(BP$8:BP19,RDGevent)","v":0},null,"","",{"$f":"COUNTIF(BT$8:BT19,OK)+COUNTIF(BT$8:BT19,RDGfix)+COUNTIF(BT$8:BT19,RDGave)+COUNTIF(BT$8:BT19,RDGevent)","v":0},null,"","",{"$f":"COUNTIF(BX$8:BX19,OK)+COUNTIF(BX$8:BX19,RDGfix)+COUNTIF(BX$8:BX19,RDGave)+COUNTIF(BX$8:BX19,RDGevent)","v":0},null,"","",{"$f":"COUNTIF(CB$8:CB19,OK)+COUNTIF(CB$8:CB19,RDGfix)+COUNTIF(CB$8:CB19,RDGave)+COUNTIF(CB$8:CB19,RDGevent)","v":0},null,"","",{"$f":"COUNTIF(CF$8:CF19,OK)+COUNTIF(CF$8:CF19,RDGfix)+COUNTIF(CF$8:CF19,RDGave)+COUNTIF(CF$8:CF19,RDGevent)","v":0},null,"","",{"$f":"COUNTIF(CJ$8:CJ19,OK)+COUNTIF(CJ$8:CJ19,RDGfix)+COUNTIF(CJ$8:CJ19,RDGave)+COUNTIF(CJ$8:CJ19,RDGevent)","v":0},null,"","",{"$f":"COUNTIF(CN$8:CN19,OK)+COUNTIF(CN$8:CN19,RDGfix)+COUNTIF(CN$8:CN19,RDGave)+COUNTIF(CN$8:CN19,RDGevent)","v":0},null,"","",{"$f":"COUNTIF(CR$8:CR19,OK)+COUNTIF(CR$8:CR19,RDGfix)+COUNTIF(CR$8:CR19,RDGave)+COUNTIF(CR$8:CR19,RDGevent)","v":0},null,"","",{"$f":"COUNTIF(CV$8:CV19,OK)+COUNTIF(CV$8:CV19,RDGfix)+COUNTIF(CV$8:CV19,RDGave)+COUNTIF(CV$8:CV19,RDGevent)","v":0},null,"","",{"$f":"COUNTIF(CZ$8:CZ19,OK)+COUNTIF(CZ$8:CZ19,RDGfix)+COUNTIF(CZ$8:CZ19,RDGave)+COUNTIF(CZ$8:CZ19,RDGevent)","v":0},null,"","",{"$f":"COUNTIF(DD$8:DD19,OK)+COUNTIF(DD$8:DD19,RDGfix)+COUNTIF(DD$8:DD19,RDGave)+COUNTIF(DD$8:DD19,RDGevent)","v":0},null,"","",{"$f":"COUNTIF(DH$8:DH19,OK)+COUNTIF(DH$8:DH19,RDGfix)+COUNTIF(DH$8:DH19,RDGave)+COUNTIF(DH$8:DH19,RDGevent)","v":0},null,"","",{"$f":"COUNTIF(DL$8:DL19,OK)+COUNTIF(DL$8:DL19,RDGfix)+COUNTIF(DL$8:DL19,RDGave)+COUNTIF(DL$8:DL19,RDGevent)","v":0},null,"","",{"$f":"COUNTIF(DP$8:DP19,OK)+COUNTIF(DP$8:DP19,RDGfix)+COUNTIF(DP$8:DP19,RDGave)+COUNTIF(DP$8:DP19,RDGevent)","v":0},null,"","",{"$f":"COUNTIF(DT$8:DT19,OK)+COUNTIF(DT$8:DT19,RDGfix)+COUNTIF(DT$8:DT19,RDGave)+COUNTIF(DT$8:DT19,RDGevent)","v":0},null,"","",{"$f":"COUNTIF(DX$8:DX19,OK)+COUNTIF(DX$8:DX19,RDGfix)+COUNTIF(DX$8:DX19,RDGave)+COUNTIF(DX$8:DX19,RDGevent)","v":0},null,"","",{"$f":"COUNTIF(EB$8:EB19,OK)+COUNTIF(EB$8:EB19,RDGfix)+COUNTIF(EB$8:EB19,RDGave)+COUNTIF(EB$8:EB19,RDGevent)","v":0},null,"","",{"$f":"COUNTIF(EF$8:EF19,OK)+COUNTIF(EF$8:EF19,RDGfix)+COUNTIF(EF$8:EF19,RDGave)+COUNTIF(EF$8:EF19,RDGevent)","v":0},null,"","",{"$f":"COUNTIF(EJ$8:EJ19,OK)+COUNTIF(EJ$8:EJ19,RDGfix)+COUNTIF(EJ$8:EJ19,RDGave)+COUNTIF(EJ$8:EJ19,RDGevent)","v":0},null,"","",{"$f":"COUNTIF(EN$8:EN19,OK)+COUNTIF(EN$8:EN19,RDGfix)+COUNTIF(EN$8:EN19,RDGave)+COUNTIF(EN$8:EN19,RDGevent)","v":0},null,"","",{"$f":"COUNTIF(ER$8:ER19,OK)+COUNTIF(ER$8:ER19,RDGfix)+COUNTIF(ER$8:ER19,RDGave)+COUNTIF(ER$8:ER19,RDGevent)","v":0},null,"","",{"$f":"COUNTIF(EV$8:EV19,OK)+COUNTIF(EV$8:EV19,RDGfix)+COUNTIF(EV$8:EV19,RDGave)+COUNTIF(EV$8:EV19,RDGevent)","v":0},null,"","",{"$f":"COUNTIF(EZ$8:EZ19,OK)+COUNTIF(EZ$8:EZ19,RDGfix)+COUNTIF(EZ$8:EZ19,RDGave)+COUNTIF(EZ$8:EZ19,RDGevent)","v":0},null,"","",{"$f":"COUNTIF(FD$8:FD19,OK)+COUNTIF(FD$8:FD19,RDGfix)+COUNTIF(FD$8:FD19,RDGave)+COUNTIF(FD$8:FD19,RDGevent)","v":0},null,"","",{"$f":"COUNTIF(FH$8:FH19,OK)+COUNTIF(FH$8:FH19,RDGfix)+COUNTIF(FH$8:FH19,RDGave)+COUNTIF(FH$8:FH19,RDGevent)","v":0},null,1]
[null,"13th",null,"","",{"$f":"COUNTIF(D$8:D20,OK)+COUNTIF(D$8:D20,RDGfix)+COUNTIF(D$8:D20,RDGave)+COUNTIF(D$8:D20,RDGevent)","v":0},null,"","",{"$f":"COUNTIF(H$8:H20,OK)+COUNTIF(H$8:H20,RDGfix)+COUNTIF(H$8:H20,RDGave)+COUNTIF(H$8:H20,RDGevent)","v":0},null,"","",{"$f":"COUNTIF(L$8:L20,OK)+COUNTIF(L$8:L20,RDGfix)+COUNTIF(L$8:L20,RDGave)+COUNTIF(L$8:L20,RDGevent)","v":0},null,"","",{"$f":"COUNTIF(P$8:P20,OK)+COUNTIF(P$8:P20,RDGfix)+COUNTIF(P$8:P20,RDGave)+COUNTIF(P$8:P20,RDGevent)","v":0},null,"","",{"$f":"COUNTIF(T$8:T20,OK)+COUNTIF(T$8:T20,RDGfix)+COUNTIF(T$8:T20,RDGave)+COUNTIF(T$8:T20,RDGevent)","v":0},null,"","",{"$f":"COUNTIF(X$8:X20,OK)+COUNTIF(X$8:X20,RDGfix)+COUNTIF(X$8:X20,RDGave)+COUNTIF(X$8:X20,RDGevent)","v":0},null,"","",{"$f":"COUNTIF(AB$8:AB20,OK)+COUNTIF(AB$8:AB20,RDGfix)+COUNTIF(AB$8:AB20,RDGave)+COUNTIF(AB$8:AB20,RDGevent)","v":0},null,"","",{"$f":"COUNTIF(AF$8:AF20,OK)+COUNTIF(AF$8:AF20,RDGfix)+COUNTIF(AF$8:AF20,RDGave)+COUNTIF(AF$8:AF20,RDGevent)","v":0},null,"","",{"$f":"COUNTIF(AJ$8:AJ20,OK)+COUNTIF(AJ$8:AJ20,RDGfix)+COUNTIF(AJ$8:AJ20,RDGave)+COUNTIF(AJ$8:AJ20,RDGevent)","v":0},null,"","",{"$f":"COUNTIF(AN$8:AN20,OK)+COUNTIF(AN$8:AN20,RDGfix)+COUNTIF(AN$8:AN20,RDGave)+COUNTIF(AN$8:AN20,RDGevent)","v":0},null,"","",{"$f":"COUNTIF(AR$8:AR20,OK)+COUNTIF(AR$8:AR20,RDGfix)+COUNTIF(AR$8:AR20,RDGave)+COUNTIF(AR$8:AR20,RDGevent)","v":0},null,"","",{"$f":"COUNTIF(AV$8:AV20,OK)+COUNTIF(AV$8:AV20,RDGfix)+COUNTIF(AV$8:AV20,RDGave)+COUNTIF(AV$8:AV20,RDGevent)","v":0},null,"","",{"$f":"COUNTIF(AZ$8:AZ20,OK)+COUNTIF(AZ$8:AZ20,RDGfix)+COUNTIF(AZ$8:AZ20,RDGave)+COUNTIF(AZ$8:AZ20,RDGevent)","v":0},null,"","",{"$f":"COUNTIF(BD$8:BD20,OK)+COUNTIF(BD$8:BD20,RDGfix)+COUNTIF(BD$8:BD20,RDGave)+COUNTIF(BD$8:BD20,RDGevent)","v":0},null,"","",{"$f":"COUNTIF(BH$8:BH20,OK)+COUNTIF(BH$8:BH20,RDGfix)+COUNTIF(BH$8:BH20,RDGave)+COUNTIF(BH$8:BH20,RDGevent)","v":0},null,"","",{"$f":"COUNTIF(BL$8:BL20,OK)+COUNTIF(BL$8:BL20,RDGfix)+COUNTIF(BL$8:BL20,RDGave)+COUNTIF(BL$8:BL20,RDGevent)","v":0},null,"","",{"$f":"COUNTIF(BP$8:BP20,OK)+COUNTIF(BP$8:BP20,RDGfix)+COUNTIF(BP$8:BP20,RDGave)+COUNTIF(BP$8:BP20,RDGevent)","v":0},null,"","",{"$f":"COUNTIF(BT$8:BT20,OK)+COUNTIF(BT$8:BT20,RDGfix)+COUNTIF(BT$8:BT20,RDGave)+COUNTIF(BT$8:BT20,RDGevent)","v":0},null,"","",{"$f":"COUNTIF(BX$8:BX20,OK)+COUNTIF(BX$8:BX20,RDGfix)+COUNTIF(BX$8:BX20,RDGave)+COUNTIF(BX$8:BX20,RDGevent)","v":0},null,"","",{"$f":"COUNTIF(CB$8:CB20,OK)+COUNTIF(CB$8:CB20,RDGfix)+COUNTIF(CB$8:CB20,RDGave)+COUNTIF(CB$8:CB20,RDGevent)","v":0},null,"","",{"$f":"COUNTIF(CF$8:CF20,OK)+COUNTIF(CF$8:CF20,RDGfix)+COUNTIF(CF$8:CF20,RDGave)+COUNTIF(CF$8:CF20,RDGevent)","v":0},null,"","",{"$f":"COUNTIF(CJ$8:CJ20,OK)+COUNTIF(CJ$8:CJ20,RDGfix)+COUNTIF(CJ$8:CJ20,RDGave)+COUNTIF(CJ$8:CJ20,RDGevent)","v":0},null,"","",{"$f":"COUNTIF(CN$8:CN20,OK)+COUNTIF(CN$8:CN20,RDGfix)+COUNTIF(CN$8:CN20,RDGave)+COUNTIF(CN$8:CN20,RDGevent)","v":0},null,"","",{"$f":"COUNTIF(CR$8:CR20,OK)+COUNTIF(CR$8:CR20,RDGfix)+COUNTIF(CR$8:CR20,RDGave)+COUNTIF(CR$8:CR20,RDGevent)","v":0},null,"","",{"$f":"COUNTIF(CV$8:CV20,OK)+COUNTIF(CV$8:CV20,RDGfix)+COUNTIF(CV$8:CV20,RDGave)+COUNTIF(CV$8:CV20,RDGevent)","v":0},null,"","",{"$f":"COUNTIF(CZ$8:CZ20,OK)+COUNTIF(CZ$8:CZ20,RDGfix)+COUNTIF(CZ$8:CZ20,RDGave)+COUNTIF(CZ$8:CZ20,RDGevent)","v":0},null,"","",{"$f":"COUNTIF(DD$8:DD20,OK)+COUNTIF(DD$8:DD20,RDGfix)+COUNTIF(DD$8:DD20,RDGave)+COUNTIF(DD$8:DD20,RDGevent)","v":0},null,"","",{"$f":"COUNTIF(DH$8:DH20,OK)+COUNTIF(DH$8:DH20,RDGfix)+COUNTIF(DH$8:DH20,RDGave)+COUNTIF(DH$8:DH20,RDGevent)","v":0},null,"","",{"$f":"COUNTIF(DL$8:DL20,OK)+COUNTIF(DL$8:DL20,RDGfix)+COUNTIF(DL$8:DL20,RDGave)+COUNTIF(DL$8:DL20,RDGevent)","v":0},null,"","",{"$f":"COUNTIF(DP$8:DP20,OK)+COUNTIF(DP$8:DP20,RDGfix)+COUNTIF(DP$8:DP20,RDGave)+COUNTIF(DP$8:DP20,RDGevent)","v":0},null,"","",{"$f":"COUNTIF(DT$8:DT20,OK)+COUNTIF(DT$8:DT20,RDGfix)+COUNTIF(DT$8:DT20,RDGave)+COUNTIF(DT$8:DT20,RDGevent)","v":0},null,"","",{"$f":"COUNTIF(DX$8:DX20,OK)+COUNTIF(DX$8:DX20,RDGfix)+COUNTIF(DX$8:DX20,RDGave)+COUNTIF(DX$8:DX20,RDGevent)","v":0},null,"","",{"$f":"COUNTIF(EB$8:EB20,OK)+COUNTIF(EB$8:EB20,RDGfix)+COUNTIF(EB$8:EB20,RDGave)+COUNTIF(EB$8:EB20,RDGevent)","v":0},null,"","",{"$f":"COUNTIF(EF$8:EF20,OK)+COUNTIF(EF$8:EF20,RDGfix)+COUNTIF(EF$8:EF20,RDGave)+COUNTIF(EF$8:EF20,RDGevent)","v":0},null,"","",{"$f":"COUNTIF(EJ$8:EJ20,OK)+COUNTIF(EJ$8:EJ20,RDGfix)+COUNTIF(EJ$8:EJ20,RDGave)+COUNTIF(EJ$8:EJ20,RDGevent)","v":0},null,"","",{"$f":"COUNTIF(EN$8:EN20,OK)+COUNTIF(EN$8:EN20,RDGfix)+COUNTIF(EN$8:EN20,RDGave)+COUNTIF(EN$8:EN20,RDGevent)","v":0},null,"","",{"$f":"COUNTIF(ER$8:ER20,OK)+COUNTIF(ER$8:ER20,RDGfix)+COUNTIF(ER$8:ER20,RDGave)+COUNTIF(ER$8:ER20,RDGevent)","v":0},null,"","",{"$f":"COUNTIF(EV$8:EV20,OK)+COUNTIF(EV$8:EV20,RDGfix)+COUNTIF(EV$8:EV20,RDGave)+COUNTIF(EV$8:EV20,RDGevent)","v":0},null,"","",{"$f":"COUNTIF(EZ$8:EZ20,OK)+COUNTIF(EZ$8:EZ20,RDGfix)+COUNTIF(EZ$8:EZ20,RDGave)+COUNTIF(EZ$8:EZ20,RDGevent)","v":0},null,"","",{"$f":"COUNTIF(FD$8:FD20,OK)+COUNTIF(FD$8:FD20,RDGfix)+COUNTIF(FD$8:FD20,RDGave)+COUNTIF(FD$8:FD20,RDGevent)","v":0},null,"","",{"$f":"COUNTIF(FH$8:FH20,OK)+COUNTIF(FH$8:FH20,RDGfix)+COUNTIF(FH$8:FH20,RDGave)+COUNTIF(FH$8:FH20,RDGevent)","v":0},null,1]
[null,"14th",null,"","",{"$f":"COUNTIF(D$8:D21,OK)+COUNTIF(D$8:D21,RDGfix)+COUNTIF(D$8:D21,RDGave)+COUNTIF(D$8:D21,RDGevent)","v":0},null,"","",{"$f":"COUNTIF(H$8:H21,OK)+COUNTIF(H$8:H21,RDGfix)+COUNTIF(H$8:H21,RDGave)+COUNTIF(H$8:H21,RDGevent)","v":0},null,"","",{"$f":"COUNTIF(L$8:L21,OK)+COUNTIF(L$8:L21,RDGfix)+COUNTIF(L$8:L21,RDGave)+COUNTIF(L$8:L21,RDGevent)","v":0},null,"","",{"$f":"COUNTIF(P$8:P21,OK)+COUNTIF(P$8:P21,RDGfix)+COUNTIF(P$8:P21,RDGave)+COUNTIF(P$8:P21,RDGevent)","v":0},null,"","",{"$f":"COUNTIF(T$8:T21,OK)+COUNTIF(T$8:T21,RDGfix)+COUNTIF(T$8:T21,RDGave)+COUNTIF(T$8:T21,RDGevent)","v":0},null,"","",{"$f":"COUNTIF(X$8:X21,OK)+COUNTIF(X$8:X21,RDGfix)+COUNTIF(X$8:X21,RDGave)+COUNTIF(X$8:X21,RDGevent)","v":0},null,"","",{"$f":"COUNTIF(AB$8:AB21,OK)+COUNTIF(AB$8:AB21,RDGfix)+COUNTIF(AB$8:AB21,RDGave)+COUNTIF(AB$8:AB21,RDGevent)","v":0},null,"","",{"$f":"COUNTIF(AF$8:AF21,OK)+COUNTIF(AF$8:AF21,RDGfix)+COUNTIF(AF$8:AF21,RDGave)+COUNTIF(AF$8:AF21,RDGevent)","v":0},null,"","",{"$f":"COUNTIF(AJ$8:AJ21,OK)+COUNTIF(AJ$8:AJ21,RDGfix)+COUNTIF(AJ$8:AJ21,RDGave)+COUNTIF(AJ$8:AJ21,RDGevent)","v":0},null,"","",{"$f":"COUNTIF(AN$8:AN21,OK)+COUNTIF(AN$8:AN21,RDGfix)+COUNTIF(AN$8:AN21,RDGave)+COUNTIF(AN$8:AN21,RDGevent)","v":0},null,"","",{"$f":"COUNTIF(AR$8:AR21,OK)+COUNTIF(AR$8:AR21,RDGfix)+COUNTIF(AR$8:AR21,RDGave)+COUNTIF(AR$8:AR21,RDGevent)","v":0},null,"","",{"$f":"COUNTIF(AV$8:AV21,OK)+COUNTIF(AV$8:AV21,RDGfix)+COUNTIF(AV$8:AV21,RDGave)+COUNTIF(AV$8:AV21,RDGevent)","v":0},null,"","",{"$f":"COUNTIF(AZ$8:AZ21,OK)+COUNTIF(AZ$8:AZ21,RDGfix)+COUNTIF(AZ$8:AZ21,RDGave)+COUNTIF(AZ$8:AZ21,RDGevent)","v":0},null,"","",{"$f":"COUNTIF(BD$8:BD21,OK)+COUNTIF(BD$8:BD21,RDGfix)+COUNTIF(BD$8:BD21,RDGave)+COUNTIF(BD$8:BD21,RDGevent)","v":0},null,"","",{"$f":"COUNTIF(BH$8:BH21,OK)+COUNTIF(BH$8:BH21,RDGfix)+COUNTIF(BH$8:BH21,RDGave)+COUNTIF(BH$8:BH21,RDGevent)","v":0},null,"","",{"$f":"COUNTIF(BL$8:BL21,OK)+COUNTIF(BL$8:BL21,RDGfix)+COUNTIF(BL$8:BL21,RDGave)+COUNTIF(BL$8:BL21,RDGevent)","v":0},null,"","",{"$f":"COUNTIF(BP$8:BP21,OK)+COUNTIF(BP$8:BP21,RDGfix)+COUNTIF(BP$8:BP21,RDGave)+COUNTIF(BP$8:BP21,RDGevent)","v":0},null,"","",{"$f":"COUNTIF(BT$8:BT21,OK)+COUNTIF(BT$8:BT21,RDGfix)+COUNTIF(BT$8:BT21,RDGave)+COUNTIF(BT$8:BT21,RDGevent)","v":0},null,"","",{"$f":"COUNTIF(BX$8:BX21,OK)+COUNTIF(BX$8:BX21,RDGfix)+COUNTIF(BX$8:BX21,RDGave)+COUNTIF(BX$8:BX21,RDGevent)","v":0},null,"","",{"$f":"COUNTIF(CB$8:CB21,OK)+COUNTIF(CB$8:CB21,RDGfix)+COUNTIF(CB$8:CB21,RDGave)+COUNTIF(CB$8:CB21,RDGevent)","v":0},null,"","",{"$f":"COUNTIF(CF$8:CF21,OK)+COUNTIF(CF$8:CF21,RDGfix)+COUNTIF(CF$8:CF21,RDGave)+COUNTIF(CF$8:CF21,RDGevent)","v":0},null,"","",{"$f":"COUNTIF(CJ$8:CJ21,OK)+COUNTIF(CJ$8:CJ21,RDGfix)+COUNTIF(CJ$8:CJ21,RDGave)+COUNTIF(CJ$8:CJ21,RDGevent)","v":0},null,"","",{"$f":"COUNTIF(CN$8:CN21,OK)+COUNTIF(CN$8:CN21,RDGfix)+COUNTIF(CN$8:CN21,RDGave)+COUNTIF(CN$8:CN21,RDGevent)","v":0},null,"","",{"$f":"COUNTIF(CR$8:CR21,OK)+COUNTIF(CR$8:CR21,RDGfix)+COUNTIF(CR$8:CR21,RDGave)+COUNTIF(CR$8:CR21,RDGevent)","v":0},null,"","",{"$f":"COUNTIF(CV$8:CV21,OK)+COUNTIF(CV$8:CV21,RDGfix)+COUNTIF(CV$8:CV21,RDGave)+COUNTIF(CV$8:CV21,RDGevent)","v":0},null,"","",{"$f":"COUNTIF(CZ$8:CZ21,OK)+COUNTIF(CZ$8:CZ21,RDGfix)+COUNTIF(CZ$8:CZ21,RDGave)+COUNTIF(CZ$8:CZ21,RDGevent)","v":0},null,"","",{"$f":"COUNTIF(DD$8:DD21,OK)+COUNTIF(DD$8:DD21,RDGfix)+COUNTIF(DD$8:DD21,RDGave)+COUNTIF(DD$8:DD21,RDGevent)","v":0},null,"","",{"$f":"COUNTIF(DH$8:DH21,OK)+COUNTIF(DH$8:DH21,RDGfix)+COUNTIF(DH$8:DH21,RDGave)+COUNTIF(DH$8:DH21,RDGevent)","v":0},null,"","",{"$f":"COUNTIF(DL$8:DL21,OK)+COUNTIF(DL$8:DL21,RDGfix)+COUNTIF(DL$8:DL21,RDGave)+COUNTIF(DL$8:DL21,RDGevent)","v":0},null,"","",{"$f":"COUNTIF(DP$8:DP21,OK)+COUNTIF(DP$8:DP21,RDGfix)+COUNTIF(DP$8:DP21,RDGave)+COUNTIF(DP$8:DP21,RDGevent)","v":0},null,"","",{"$f":"COUNTIF(DT$8:DT21,OK)+COUNTIF(DT$8:DT21,RDGfix)+COUNTIF(DT$8:DT21,RDGave)+COUNTIF(DT$8:DT21,RDGevent)","v":0},null,"","",{"$f":"COUNTIF(DX$8:DX21,OK)+COUNTIF(DX$8:DX21,RDGfix)+COUNTIF(DX$8:DX21,RDGave)+COUNTIF(DX$8:DX21,RDGevent)","v":0},null,"","",{"$f":"COUNTIF(EB$8:EB21,OK)+COUNTIF(EB$8:EB21,RDGfix)+COUNTIF(EB$8:EB21,RDGave)+COUNTIF(EB$8:EB21,RDGevent)","v":0},null,"","",{"$f":"COUNTIF(EF$8:EF21,OK)+COUNTIF(EF$8:EF21,RDGfix)+COUNTIF(EF$8:EF21,RDGave)+COUNTIF(EF$8:EF21,RDGevent)","v":0},null,"","",{"$f":"COUNTIF(EJ$8:EJ21,OK)+COUNTIF(EJ$8:EJ21,RDGfix)+COUNTIF(EJ$8:EJ21,RDGave)+COUNTIF(EJ$8:EJ21,RDGevent)","v":0},null,"","",{"$f":"COUNTIF(EN$8:EN21,OK)+COUNTIF(EN$8:EN21,RDGfix)+COUNTIF(EN$8:EN21,RDGave)+COUNTIF(EN$8:EN21,RDGevent)","v":0},null,"","",{"$f":"COUNTIF(ER$8:ER21,OK)+COUNTIF(ER$8:ER21,RDGfix)+COUNTIF(ER$8:ER21,RDGave)+COUNTIF(ER$8:ER21,RDGevent)","v":0},null,"","",{"$f":"COUNTIF(EV$8:EV21,OK)+COUNTIF(EV$8:EV21,RDGfix)+COUNTIF(EV$8:EV21,RDGave)+COUNTIF(EV$8:EV21,RDGevent)","v":0},null,"","",{"$f":"COUNTIF(EZ$8:EZ21,OK)+COUNTIF(EZ$8:EZ21,RDGfix)+COUNTIF(EZ$8:EZ21,RDGave)+COUNTIF(EZ$8:EZ21,RDGevent)","v":0},null,"","",{"$f":"COUNTIF(FD$8:FD21,OK)+COUNTIF(FD$8:FD21,RDGfix)+COUNTIF(FD$8:FD21,RDGave)+COUNTIF(FD$8:FD21,RDGevent)","v":0},null,"","",{"$f":"COUNTIF(FH$8:FH21,OK)+COUNTIF(FH$8:FH21,RDGfix)+COUNTIF(FH$8:FH21,RDGave)+COUNTIF(FH$8:FH21,RDGevent)","v":0},null,1]
[null,"15th",null,"","",{"$f":"COUNTIF(D$8:D22,OK)+COUNTIF(D$8:D22,RDGfix)+COUNTIF(D$8:D22,RDGave)+COUNTIF(D$8:D22,RDGevent)","v":0},null,"","",{"$f":"COUNTIF(H$8:H22,OK)+COUNTIF(H$8:H22,RDGfix)+COUNTIF(H$8:H22,RDGave)+COUNTIF(H$8:H22,RDGevent)","v":0},null,"","",{"$f":"COUNTIF(L$8:L22,OK)+COUNTIF(L$8:L22,RDGfix)+COUNTIF(L$8:L22,RDGave)+COUNTIF(L$8:L22,RDGevent)","v":0},null,"","",{"$f":"COUNTIF(P$8:P22,OK)+COUNTIF(P$8:P22,RDGfix)+COUNTIF(P$8:P22,RDGave)+COUNTIF(P$8:P22,RDGevent)","v":0},null,"","",{"$f":"COUNTIF(T$8:T22,OK)+COUNTIF(T$8:T22,RDGfix)+COUNTIF(T$8:T22,RDGave)+COUNTIF(T$8:T22,RDGevent)","v":0},null,"","",{"$f":"COUNTIF(X$8:X22,OK)+COUNTIF(X$8:X22,RDGfix)+COUNTIF(X$8:X22,RDGave)+COUNTIF(X$8:X22,RDGevent)","v":0},null,"","",{"$f":"COUNTIF(AB$8:AB22,OK)+COUNTIF(AB$8:AB22,RDGfix)+COUNTIF(AB$8:AB22,RDGave)+COUNTIF(AB$8:AB22,RDGevent)","v":0},null,"","",{"$f":"COUNTIF(AF$8:AF22,OK)+COUNTIF(AF$8:AF22,RDGfix)+COUNTIF(AF$8:AF22,RDGave)+COUNTIF(AF$8:AF22,RDGevent)","v":0},null,"","",{"$f":"COUNTIF(AJ$8:AJ22,OK)+COUNTIF(AJ$8:AJ22,RDGfix)+COUNTIF(AJ$8:AJ22,RDGave)+COUNTIF(AJ$8:AJ22,RDGevent)","v":0},null,"","",{"$f":"COUNTIF(AN$8:AN22,OK)+COUNTIF(AN$8:AN22,RDGfix)+COUNTIF(AN$8:AN22,RDGave)+COUNTIF(AN$8:AN22,RDGevent)","v":0},null,"","",{"$f":"COUNTIF(AR$8:AR22,OK)+COUNTIF(AR$8:AR22,RDGfix)+COUNTIF(AR$8:AR22,RDGave)+COUNTIF(AR$8:AR22,RDGevent)","v":0},null,"","",{"$f":"COUNTIF(AV$8:AV22,OK)+COUNTIF(AV$8:AV22,RDGfix)+COUNTIF(AV$8:AV22,RDGave)+COUNTIF(AV$8:AV22,RDGevent)","v":0},null,"","",{"$f":"COUNTIF(AZ$8:AZ22,OK)+COUNTIF(AZ$8:AZ22,RDGfix)+COUNTIF(AZ$8:AZ22,RDGave)+COUNTIF(AZ$8:AZ22,RDGevent)","v":0},null,"","",{"$f":"COUNTIF(BD$8:BD22,OK)+COUNTIF(BD$8:BD22,RDGfix)+COUNTIF(BD$8:BD22,RDGave)+COUNTIF(BD$8:BD22,RDGevent)","v":0},null,"","",{"$f":"COUNTIF(BH$8:BH22,OK)+COUNTIF(BH$8:BH22,RDGfix)+COUNTIF(BH$8:BH22,RDGave)+COUNTIF(BH$8:BH22,RDGevent)","v":0},null,"","",{"$f":"COUNTIF(BL$8:BL22,OK)+COUNTIF(BL$8:BL22,RDGfix)+COUNTIF(BL$8:BL22,RDGave)+COUNTIF(BL$8:BL22,RDGevent)","v":0},null,"","",{"$f":"COUNTIF(BP$8:BP22,OK)+COUNTIF(BP$8:BP22,RDGfix)+COUNTIF(BP$8:BP22,RDGave)+COUNTIF(BP$8:BP22,RDGevent)","v":0},null,"","",{"$f":"COUNTIF(BT$8:BT22,OK)+COUNTIF(BT$8:BT22,RDGfix)+COUNTIF(BT$8:BT22,RDGave)+COUNTIF(BT$8:BT22,RDGevent)","v":0},null,"","",{"$f":"COUNTIF(BX$8:BX22,OK)+COUNTIF(BX$8:BX22,RDGfix)+COUNTIF(BX$8:BX22,RDGave)+COUNTIF(BX$8:BX22,RDGevent)","v":0},null,"","",{"$f":"COUNTIF(CB$8:CB22,OK)+COUNTIF(CB$8:CB22,RDGfix)+COUNTIF(CB$8:CB22,RDGave)+COUNTIF(CB$8:CB22,RDGevent)","v":0},null,"","",{"$f":"COUNTIF(CF$8:CF22,OK)+COUNTIF(CF$8:CF22,RDGfix)+COUNTIF(CF$8:CF22,RDGave)+COUNTIF(CF$8:CF22,RDGevent)","v":0},null,"","",{"$f":"COUNTIF(CJ$8:CJ22,OK)+COUNTIF(CJ$8:CJ22,RDGfix)+COUNTIF(CJ$8:CJ22,RDGave)+COUNTIF(CJ$8:CJ22,RDGevent)","v":0},null,"","",{"$f":"COUNTIF(CN$8:CN22,OK)+COUNTIF(CN$8:CN22,RDGfix)+COUNTIF(CN$8:CN22,RDGave)+COUNTIF(CN$8:CN22,RDGevent)","v":0},null,"","",{"$f":"COUNTIF(CR$8:CR22,OK)+COUNTIF(CR$8:CR22,RDGfix)+COUNTIF(CR$8:CR22,RDGave)+COUNTIF(CR$8:CR22,RDGevent)","v":0},null,"","",{"$f":"COUNTIF(CV$8:CV22,OK)+COUNTIF(CV$8:CV22,RDGfix)+COUNTIF(CV$8:CV22,RDGave)+COUNTIF(CV$8:CV22,RDGevent)","v":0},null,"","",{"$f":"COUNTIF(CZ$8:CZ22,OK)+COUNTIF(CZ$8:CZ22,RDGfix)+COUNTIF(CZ$8:CZ22,RDGave)+COUNTIF(CZ$8:CZ22,RDGevent)","v":0},null,"","",{"$f":"COUNTIF(DD$8:DD22,OK)+COUNTIF(DD$8:DD22,RDGfix)+COUNTIF(DD$8:DD22,RDGave)+COUNTIF(DD$8:DD22,RDGevent)","v":0},null,"","",{"$f":"COUNTIF(DH$8:DH22,OK)+COUNTIF(DH$8:DH22,RDGfix)+COUNTIF(DH$8:DH22,RDGave)+COUNTIF(DH$8:DH22,RDGevent)","v":0},null,"","",{"$f":"COUNTIF(DL$8:DL22,OK)+COUNTIF(DL$8:DL22,RDGfix)+COUNTIF(DL$8:DL22,RDGave)+COUNTIF(DL$8:DL22,RDGevent)","v":0},null,"","",{"$f":"COUNTIF(DP$8:DP22,OK)+COUNTIF(DP$8:DP22,RDGfix)+COUNTIF(DP$8:DP22,RDGave)+COUNTIF(DP$8:DP22,RDGevent)","v":0},null,"","",{"$f":"COUNTIF(DT$8:DT22,OK)+COUNTIF(DT$8:DT22,RDGfix)+COUNTIF(DT$8:DT22,RDGave)+COUNTIF(DT$8:DT22,RDGevent)","v":0},null,"","",{"$f":"COUNTIF(DX$8:DX22,OK)+COUNTIF(DX$8:DX22,RDGfix)+COUNTIF(DX$8:DX22,RDGave)+COUNTIF(DX$8:DX22,RDGevent)","v":0},null,"","",{"$f":"COUNTIF(EB$8:EB22,OK)+COUNTIF(EB$8:EB22,RDGfix)+COUNTIF(EB$8:EB22,RDGave)+COUNTIF(EB$8:EB22,RDGevent)","v":0},null,"","",{"$f":"COUNTIF(EF$8:EF22,OK)+COUNTIF(EF$8:EF22,RDGfix)+COUNTIF(EF$8:EF22,RDGave)+COUNTIF(EF$8:EF22,RDGevent)","v":0},null,"","",{"$f":"COUNTIF(EJ$8:EJ22,OK)+COUNTIF(EJ$8:EJ22,RDGfix)+COUNTIF(EJ$8:EJ22,RDGave)+COUNTIF(EJ$8:EJ22,RDGevent)","v":0},null,"","",{"$f":"COUNTIF(EN$8:EN22,OK)+COUNTIF(EN$8:EN22,RDGfix)+COUNTIF(EN$8:EN22,RDGave)+COUNTIF(EN$8:EN22,RDGevent)","v":0},null,"","",{"$f":"COUNTIF(ER$8:ER22,OK)+COUNTIF(ER$8:ER22,RDGfix)+COUNTIF(ER$8:ER22,RDGave)+COUNTIF(ER$8:ER22,RDGevent)","v":0},null,"","",{"$f":"COUNTIF(EV$8:EV22,OK)+COUNTIF(EV$8:EV22,RDGfix)+COUNTIF(EV$8:EV22,RDGave)+COUNTIF(EV$8:EV22,RDGevent)","v":0},null,"","",{"$f":"COUNTIF(EZ$8:EZ22,OK)+COUNTIF(EZ$8:EZ22,RDGfix)+COUNTIF(EZ$8:EZ22,RDGave)+COUNTIF(EZ$8:EZ22,RDGevent)","v":0},null,"","",{"$f":"COUNTIF(FD$8:FD22,OK)+COUNTIF(FD$8:FD22,RDGfix)+COUNTIF(FD$8:FD22,RDGave)+COUNTIF(FD$8:FD22,RDGevent)","v":0},null,"","",{"$f":"COUNTIF(FH$8:FH22,OK)+COUNTIF(FH$8:FH22,RDGfix)+COUNTIF(FH$8:FH22,RDGave)+COUNTIF(FH$8:FH22,RDGevent)","v":0},null,1]
[null,"16th",null,"","",{"$f":"COUNTIF(D$8:D23,OK)+COUNTIF(D$8:D23,RDGfix)+COUNTIF(D$8:D23,RDGave)+COUNTIF(D$8:D23,RDGevent)","v":0},null,"","",{"$f":"COUNTIF(H$8:H23,OK)+COUNTIF(H$8:H23,RDGfix)+COUNTIF(H$8:H23,RDGave)+COUNTIF(H$8:H23,RDGevent)","v":0},null,"","",{"$f":"COUNTIF(L$8:L23,OK)+COUNTIF(L$8:L23,RDGfix)+COUNTIF(L$8:L23,RDGave)+COUNTIF(L$8:L23,RDGevent)","v":0},null,"","",{"$f":"COUNTIF(P$8:P23,OK)+COUNTIF(P$8:P23,RDGfix)+COUNTIF(P$8:P23,RDGave)+COUNTIF(P$8:P23,RDGevent)","v":0},null,"","",{"$f":"COUNTIF(T$8:T23,OK)+COUNTIF(T$8:T23,RDGfix)+COUNTIF(T$8:T23,RDGave)+COUNTIF(T$8:T23,RDGevent)","v":0},null,"","",{"$f":"COUNTIF(X$8:X23,OK)+COUNTIF(X$8:X23,RDGfix)+COUNTIF(X$8:X23,RDGave)+COUNTIF(X$8:X23,RDGevent)","v":0},null,"","",{"$f":"COUNTIF(AB$8:AB23,OK)+COUNTIF(AB$8:AB23,RDGfix)+COUNTIF(AB$8:AB23,RDGave)+COUNTIF(AB$8:AB23,RDGevent)","v":0},null,"","",{"$f":"COUNTIF(AF$8:AF23,OK)+COUNTIF(AF$8:AF23,RDGfix)+COUNTIF(AF$8:AF23,RDGave)+COUNTIF(AF$8:AF23,RDGevent)","v":0},null,"","",{"$f":"COUNTIF(AJ$8:AJ23,OK)+COUNTIF(AJ$8:AJ23,RDGfix)+COUNTIF(AJ$8:AJ23,RDGave)+COUNTIF(AJ$8:AJ23,RDGevent)","v":0},null,"","",{"$f":"COUNTIF(AN$8:AN23,OK)+COUNTIF(AN$8:AN23,RDGfix)+COUNTIF(AN$8:AN23,RDGave)+COUNTIF(AN$8:AN23,RDGevent)","v":0},null,"","",{"$f":"COUNTIF(AR$8:AR23,OK)+COUNTIF(AR$8:AR23,RDGfix)+COUNTIF(AR$8:AR23,RDGave)+COUNTIF(AR$8:AR23,RDGevent)","v":0},null,"","",{"$f":"COUNTIF(AV$8:AV23,OK)+COUNTIF(AV$8:AV23,RDGfix)+COUNTIF(AV$8:AV23,RDGave)+COUNTIF(AV$8:AV23,RDGevent)","v":0},null,"","",{"$f":"COUNTIF(AZ$8:AZ23,OK)+COUNTIF(AZ$8:AZ23,RDGfix)+COUNTIF(AZ$8:AZ23,RDGave)+COUNTIF(AZ$8:AZ23,RDGevent)","v":0},null,"","",{"$f":"COUNTIF(BD$8:BD23,OK)+COUNTIF(BD$8:BD23,RDGfix)+COUNTIF(BD$8:BD23,RDGave)+COUNTIF(BD$8:BD23,RDGevent)","v":0},null,"","",{"$f":"COUNTIF(BH$8:BH23,OK)+COUNTIF(BH$8:BH23,RDGfix)+COUNTIF(BH$8:BH23,RDGave)+COUNTIF(BH$8:BH23,RDGevent)","v":0},null,"","",{"$f":"COUNTIF(BL$8:BL23,OK)+COUNTIF(BL$8:BL23,RDGfix)+COUNTIF(BL$8:BL23,RDGave)+COUNTIF(BL$8:BL23,RDGevent)","v":0},null,"","",{"$f":"COUNTIF(BP$8:BP23,OK)+COUNTIF(BP$8:BP23,RDGfix)+COUNTIF(BP$8:BP23,RDGave)+COUNTIF(BP$8:BP23,RDGevent)","v":0},null,"","",{"$f":"COUNTIF(BT$8:BT23,OK)+COUNTIF(BT$8:BT23,RDGfix)+COUNTIF(BT$8:BT23,RDGave)+COUNTIF(BT$8:BT23,RDGevent)","v":0},null,"","",{"$f":"COUNTIF(BX$8:BX23,OK)+COUNTIF(BX$8:BX23,RDGfix)+COUNTIF(BX$8:BX23,RDGave)+COUNTIF(BX$8:BX23,RDGevent)","v":0},null,"","",{"$f":"COUNTIF(CB$8:CB23,OK)+COUNTIF(CB$8:CB23,RDGfix)+COUNTIF(CB$8:CB23,RDGave)+COUNTIF(CB$8:CB23,RDGevent)","v":0},null,"","",{"$f":"COUNTIF(CF$8:CF23,OK)+COUNTIF(CF$8:CF23,RDGfix)+COUNTIF(CF$8:CF23,RDGave)+COUNTIF(CF$8:CF23,RDGevent)","v":0},null,"","",{"$f":"COUNTIF(CJ$8:CJ23,OK)+COUNTIF(CJ$8:CJ23,RDGfix)+COUNTIF(CJ$8:CJ23,RDGave)+COUNTIF(CJ$8:CJ23,RDGevent)","v":0},null,"","",{"$f":"COUNTIF(CN$8:CN23,OK)+COUNTIF(CN$8:CN23,RDGfix)+COUNTIF(CN$8:CN23,RDGave)+COUNTIF(CN$8:CN23,RDGevent)","v":0},null,"","",{"$f":"COUNTIF(CR$8:CR23,OK)+COUNTIF(CR$8:CR23,RDGfix)+COUNTIF(CR$8:CR23,RDGave)+COUNTIF(CR$8:CR23,RDGevent)","v":0},null,"","",{"$f":"COUNTIF(CV$8:CV23,OK)+COUNTIF(CV$8:CV23,RDGfix)+COUNTIF(CV$8:CV23,RDGave)+COUNTIF(CV$8:CV23,RDGevent)","v":0},null,"","",{"$f":"COUNTIF(CZ$8:CZ23,OK)+COUNTIF(CZ$8:CZ23,RDGfix)+COUNTIF(CZ$8:CZ23,RDGave)+COUNTIF(CZ$8:CZ23,RDGevent)","v":0},null,"","",{"$f":"COUNTIF(DD$8:DD23,OK)+COUNTIF(DD$8:DD23,RDGfix)+COUNTIF(DD$8:DD23,RDGave)+COUNTIF(DD$8:DD23,RDGevent)","v":0},null,"","",{"$f":"COUNTIF(DH$8:DH23,OK)+COUNTIF(DH$8:DH23,RDGfix)+COUNTIF(DH$8:DH23,RDGave)+COUNTIF(DH$8:DH23,RDGevent)","v":0},null,"","",{"$f":"COUNTIF(DL$8:DL23,OK)+COUNTIF(DL$8:DL23,RDGfix)+COUNTIF(DL$8:DL23,RDGave)+COUNTIF(DL$8:DL23,RDGevent)","v":0},null,"","",{"$f":"COUNTIF(DP$8:DP23,OK)+COUNTIF(DP$8:DP23,RDGfix)+COUNTIF(DP$8:DP23,RDGave)+COUNTIF(DP$8:DP23,RDGevent)","v":0},null,"","",{"$f":"COUNTIF(DT$8:DT23,OK)+COUNTIF(DT$8:DT23,RDGfix)+COUNTIF(DT$8:DT23,RDGave)+COUNTIF(DT$8:DT23,RDGevent)","v":0},null,"","",{"$f":"COUNTIF(DX$8:DX23,OK)+COUNTIF(DX$8:DX23,RDGfix)+COUNTIF(DX$8:DX23,RDGave)+COUNTIF(DX$8:DX23,RDGevent)","v":0},null,"","",{"$f":"COUNTIF(EB$8:EB23,OK)+COUNTIF(EB$8:EB23,RDGfix)+COUNTIF(EB$8:EB23,RDGave)+COUNTIF(EB$8:EB23,RDGevent)","v":0},null,"","",{"$f":"COUNTIF(EF$8:EF23,OK)+COUNTIF(EF$8:EF23,RDGfix)+COUNTIF(EF$8:EF23,RDGave)+COUNTIF(EF$8:EF23,RDGevent)","v":0},null,"","",{"$f":"COUNTIF(EJ$8:EJ23,OK)+COUNTIF(EJ$8:EJ23,RDGfix)+COUNTIF(EJ$8:EJ23,RDGave)+COUNTIF(EJ$8:EJ23,RDGevent)","v":0},null,"","",{"$f":"COUNTIF(EN$8:EN23,OK)+COUNTIF(EN$8:EN23,RDGfix)+COUNTIF(EN$8:EN23,RDGave)+COUNTIF(EN$8:EN23,RDGevent)","v":0},null,"","",{"$f":"COUNTIF(ER$8:ER23,OK)+COUNTIF(ER$8:ER23,RDGfix)+COUNTIF(ER$8:ER23,RDGave)+COUNTIF(ER$8:ER23,RDGevent)","v":0},null,"","",{"$f":"COUNTIF(EV$8:EV23,OK)+COUNTIF(EV$8:EV23,RDGfix)+COUNTIF(EV$8:EV23,RDGave)+COUNTIF(EV$8:EV23,RDGevent)","v":0},null,"","",{"$f":"COUNTIF(EZ$8:EZ23,OK)+COUNTIF(EZ$8:EZ23,RDGfix)+COUNTIF(EZ$8:EZ23,RDGave)+COUNTIF(EZ$8:EZ23,RDGevent)","v":0},null,"","",{"$f":"COUNTIF(FD$8:FD23,OK)+COUNTIF(FD$8:FD23,RDGfix)+COUNTIF(FD$8:FD23,RDGave)+COUNTIF(FD$8:FD23,RDGevent)","v":0},null,"","",{"$f":"COUNTIF(FH$8:FH23,OK)+COUNTIF(FH$8:FH23,RDGfix)+COUNTIF(FH$8:FH23,RDGave)+COUNTIF(FH$8:FH23,RDGevent)","v":0},null,1]
[null,"17th",null,"","",{"$f":"COUNTIF(D$8:D24,OK)+COUNTIF(D$8:D24,RDGfix)+COUNTIF(D$8:D24,RDGave)+COUNTIF(D$8:D24,RDGevent)","v":0},null,"","",{"$f":"COUNTIF(H$8:H24,OK)+COUNTIF(H$8:H24,RDGfix)+COUNTIF(H$8:H24,RDGave)+COUNTIF(H$8:H24,RDGevent)","v":0},null,"","",{"$f":"COUNTIF(L$8:L24,OK)+COUNTIF(L$8:L24,RDGfix)+COUNTIF(L$8:L24,RDGave)+COUNTIF(L$8:L24,RDGevent)","v":0},null,"","",{"$f":"COUNTIF(P$8:P24,OK)+COUNTIF(P$8:P24,RDGfix)+COUNTIF(P$8:P24,RDGave)+COUNTIF(P$8:P24,RDGevent)","v":0},null,"","",{"$f":"COUNTIF(T$8:T24,OK)+COUNTIF(T$8:T24,RDGfix)+COUNTIF(T$8:T24,RDGave)+COUNTIF(T$8:T24,RDGevent)","v":0},null,"","",{"$f":"COUNTIF(X$8:X24,OK)+COUNTIF(X$8:X24,RDGfix)+COUNTIF(X$8:X24,RDGave)+COUNTIF(X$8:X24,RDGevent)","v":0},null,"","",{"$f":"COUNTIF(AB$8:AB24,OK)+COUNTIF(AB$8:AB24,RDGfix)+COUNTIF(AB$8:AB24,RDGave)+COUNTIF(AB$8:AB24,RDGevent)","v":0},null,"","",{"$f":"COUNTIF(AF$8:AF24,OK)+COUNTIF(AF$8:AF24,RDGfix)+COUNTIF(AF$8:AF24,RDGave)+COUNTIF(AF$8:AF24,RDGevent)","v":0},null,"","",{"$f":"COUNTIF(AJ$8:AJ24,OK)+COUNTIF(AJ$8:AJ24,RDGfix)+COUNTIF(AJ$8:AJ24,RDGave)+COUNTIF(AJ$8:AJ24,RDGevent)","v":0},null,"","",{"$f":"COUNTIF(AN$8:AN24,OK)+COUNTIF(AN$8:AN24,RDGfix)+COUNTIF(AN$8:AN24,RDGave)+COUNTIF(AN$8:AN24,RDGevent)","v":0},null,"","",{"$f":"COUNTIF(AR$8:AR24,OK)+COUNTIF(AR$8:AR24,RDGfix)+COUNTIF(AR$8:AR24,RDGave)+COUNTIF(AR$8:AR24,RDGevent)","v":0},null,"","",{"$f":"COUNTIF(AV$8:AV24,OK)+COUNTIF(AV$8:AV24,RDGfix)+COUNTIF(AV$8:AV24,RDGave)+COUNTIF(AV$8:AV24,RDGevent)","v":0},null,"","",{"$f":"COUNTIF(AZ$8:AZ24,OK)+COUNTIF(AZ$8:AZ24,RDGfix)+COUNTIF(AZ$8:AZ24,RDGave)+COUNTIF(AZ$8:AZ24,RDGevent)","v":0},null,"","",{"$f":"COUNTIF(BD$8:BD24,OK)+COUNTIF(BD$8:BD24,RDGfix)+COUNTIF(BD$8:BD24,RDGave)+COUNTIF(BD$8:BD24,RDGevent)","v":0},null,"","",{"$f":"COUNTIF(BH$8:BH24,OK)+COUNTIF(BH$8:BH24,RDGfix)+COUNTIF(BH$8:BH24,RDGave)+COUNTIF(BH$8:BH24,RDGevent)","v":0},null,"","",{"$f":"COUNTIF(BL$8:BL24,OK)+COUNTIF(BL$8:BL24,RDGfix)+COUNTIF(BL$8:BL24,RDGave)+COUNTIF(BL$8:BL24,RDGevent)","v":0},null,"","",{"$f":"COUNTIF(BP$8:BP24,OK)+COUNTIF(BP$8:BP24,RDGfix)+COUNTIF(BP$8:BP24,RDGave)+COUNTIF(BP$8:BP24,RDGevent)","v":0},null,"","",{"$f":"COUNTIF(BT$8:BT24,OK)+COUNTIF(BT$8:BT24,RDGfix)+COUNTIF(BT$8:BT24,RDGave)+COUNTIF(BT$8:BT24,RDGevent)","v":0},null,"","",{"$f":"COUNTIF(BX$8:BX24,OK)+COUNTIF(BX$8:BX24,RDGfix)+COUNTIF(BX$8:BX24,RDGave)+COUNTIF(BX$8:BX24,RDGevent)","v":0},null,"","",{"$f":"COUNTIF(CB$8:CB24,OK)+COUNTIF(CB$8:CB24,RDGfix)+COUNTIF(CB$8:CB24,RDGave)+COUNTIF(CB$8:CB24,RDGevent)","v":0},null,"","",{"$f":"COUNTIF(CF$8:CF24,OK)+COUNTIF(CF$8:CF24,RDGfix)+COUNTIF(CF$8:CF24,RDGave)+COUNTIF(CF$8:CF24,RDGevent)","v":0},null,"","",{"$f":"COUNTIF(CJ$8:CJ24,OK)+COUNTIF(CJ$8:CJ24,RDGfix)+COUNTIF(CJ$8:CJ24,RDGave)+COUNTIF(CJ$8:CJ24,RDGevent)","v":0},null,"","",{"$f":"COUNTIF(CN$8:CN24,OK)+COUNTIF(CN$8:CN24,RDGfix)+COUNTIF(CN$8:CN24,RDGave)+COUNTIF(CN$8:CN24,RDGevent)","v":0},null,"","",{"$f":"COUNTIF(CR$8:CR24,OK)+COUNTIF(CR$8:CR24,RDGfix)+COUNTIF(CR$8:CR24,RDGave)+COUNTIF(CR$8:CR24,RDGevent)","v":0},null,"","",{"$f":"COUNTIF(CV$8:CV24,OK)+COUNTIF(CV$8:CV24,RDGfix)+COUNTIF(CV$8:CV24,RDGave)+COUNTIF(CV$8:CV24,RDGevent)","v":0},null,"","",{"$f":"COUNTIF(CZ$8:CZ24,OK)+COUNTIF(CZ$8:CZ24,RDGfix)+COUNTIF(CZ$8:CZ24,RDGave)+COUNTIF(CZ$8:CZ24,RDGevent)","v":0},null,"","",{"$f":"COUNTIF(DD$8:DD24,OK)+COUNTIF(DD$8:DD24,RDGfix)+COUNTIF(DD$8:DD24,RDGave)+COUNTIF(DD$8:DD24,RDGevent)","v":0},null,"","",{"$f":"COUNTIF(DH$8:DH24,OK)+COUNTIF(DH$8:DH24,RDGfix)+COUNTIF(DH$8:DH24,RDGave)+COUNTIF(DH$8:DH24,RDGevent)","v":0},null,"","",{"$f":"COUNTIF(DL$8:DL24,OK)+COUNTIF(DL$8:DL24,RDGfix)+COUNTIF(DL$8:DL24,RDGave)+COUNTIF(DL$8:DL24,RDGevent)","v":0},null,"","",{"$f":"COUNTIF(DP$8:DP24,OK)+COUNTIF(DP$8:DP24,RDGfix)+COUNTIF(DP$8:DP24,RDGave)+COUNTIF(DP$8:DP24,RDGevent)","v":0},null,"","",{"$f":"COUNTIF(DT$8:DT24,OK)+COUNTIF(DT$8:DT24,RDGfix)+COUNTIF(DT$8:DT24,RDGave)+COUNTIF(DT$8:DT24,RDGevent)","v":0},null,"","",{"$f":"COUNTIF(DX$8:DX24,OK)+COUNTIF(DX$8:DX24,RDGfix)+COUNTIF(DX$8:DX24,RDGave)+COUNTIF(DX$8:DX24,RDGevent)","v":0},null,"","",{"$f":"COUNTIF(EB$8:EB24,OK)+COUNTIF(EB$8:EB24,RDGfix)+COUNTIF(EB$8:EB24,RDGave)+COUNTIF(EB$8:EB24,RDGevent)","v":0},null,"","",{"$f":"COUNTIF(EF$8:EF24,OK)+COUNTIF(EF$8:EF24,RDGfix)+COUNTIF(EF$8:EF24,RDGave)+COUNTIF(EF$8:EF24,RDGevent)","v":0},null,"","",{"$f":"COUNTIF(EJ$8:EJ24,OK)+COUNTIF(EJ$8:EJ24,RDGfix)+COUNTIF(EJ$8:EJ24,RDGave)+COUNTIF(EJ$8:EJ24,RDGevent)","v":0},null,"","",{"$f":"COUNTIF(EN$8:EN24,OK)+COUNTIF(EN$8:EN24,RDGfix)+COUNTIF(EN$8:EN24,RDGave)+COUNTIF(EN$8:EN24,RDGevent)","v":0},null,"","",{"$f":"COUNTIF(ER$8:ER24,OK)+COUNTIF(ER$8:ER24,RDGfix)+COUNTIF(ER$8:ER24,RDGave)+COUNTIF(ER$8:ER24,RDGevent)","v":0},null,"","",{"$f":"COUNTIF(EV$8:EV24,OK)+COUNTIF(EV$8:EV24,RDGfix)+COUNTIF(EV$8:EV24,RDGave)+COUNTIF(EV$8:EV24,RDGevent)","v":0},null,"","",{"$f":"COUNTIF(EZ$8:EZ24,OK)+COUNTIF(EZ$8:EZ24,RDGfix)+COUNTIF(EZ$8:EZ24,RDGave)+COUNTIF(EZ$8:EZ24,RDGevent)","v":0},null,"","",{"$f":"COUNTIF(FD$8:FD24,OK)+COUNTIF(FD$8:FD24,RDGfix)+COUNTIF(FD$8:FD24,RDGave)+COUNTIF(FD$8:FD24,RDGevent)","v":0},null,"","",{"$f":"COUNTIF(FH$8:FH24,OK)+COUNTIF(FH$8:FH24,RDGfix)+COUNTIF(FH$8:FH24,RDGave)+COUNTIF(FH$8:FH24,RDGevent)","v":0},null,1]
[null,"18th",null,"","",{"$f":"COUNTIF(D$8:D25,OK)+COUNTIF(D$8:D25,RDGfix)+COUNTIF(D$8:D25,RDGave)+COUNTIF(D$8:D25,RDGevent)","v":0},null,"","",{"$f":"COUNTIF(H$8:H25,OK)+COUNTIF(H$8:H25,RDGfix)+COUNTIF(H$8:H25,RDGave)+COUNTIF(H$8:H25,RDGevent)","v":0},null,"","",{"$f":"COUNTIF(L$8:L25,OK)+COUNTIF(L$8:L25,RDGfix)+COUNTIF(L$8:L25,RDGave)+COUNTIF(L$8:L25,RDGevent)","v":0},null,"","",{"$f":"COUNTIF(P$8:P25,OK)+COUNTIF(P$8:P25,RDGfix)+COUNTIF(P$8:P25,RDGave)+COUNTIF(P$8:P25,RDGevent)","v":0},null,"","",{"$f":"COUNTIF(T$8:T25,OK)+COUNTIF(T$8:T25,RDGfix)+COUNTIF(T$8:T25,RDGave)+COUNTIF(T$8:T25,RDGevent)","v":0},null,"","",{"$f":"COUNTIF(X$8:X25,OK)+COUNTIF(X$8:X25,RDGfix)+COUNTIF(X$8:X25,RDGave)+COUNTIF(X$8:X25,RDGevent)","v":0},null,"","",{"$f":"COUNTIF(AB$8:AB25,OK)+COUNTIF(AB$8:AB25,RDGfix)+COUNTIF(AB$8:AB25,RDGave)+COUNTIF(AB$8:AB25,RDGevent)","v":0},null,"","",{"$f":"COUNTIF(AF$8:AF25,OK)+COUNTIF(AF$8:AF25,RDGfix)+COUNTIF(AF$8:AF25,RDGave)+COUNTIF(AF$8:AF25,RDGevent)","v":0},null,"","",{"$f":"COUNTIF(AJ$8:AJ25,OK)+COUNTIF(AJ$8:AJ25,RDGfix)+COUNTIF(AJ$8:AJ25,RDGave)+COUNTIF(AJ$8:AJ25,RDGevent)","v":0},null,"","",{"$f":"COUNTIF(AN$8:AN25,OK)+COUNTIF(AN$8:AN25,RDGfix)+COUNTIF(AN$8:AN25,RDGave)+COUNTIF(AN$8:AN25,RDGevent)","v":0},null,"","",{"$f":"COUNTIF(AR$8:AR25,OK)+COUNTIF(AR$8:AR25,RDGfix)+COUNTIF(AR$8:AR25,RDGave)+COUNTIF(AR$8:AR25,RDGevent)","v":0},null,"","",{"$f":"COUNTIF(AV$8:AV25,OK)+COUNTIF(AV$8:AV25,RDGfix)+COUNTIF(AV$8:AV25,RDGave)+COUNTIF(AV$8:AV25,RDGevent)","v":0},null,"","",{"$f":"COUNTIF(AZ$8:AZ25,OK)+COUNTIF(AZ$8:AZ25,RDGfix)+COUNTIF(AZ$8:AZ25,RDGave)+COUNTIF(AZ$8:AZ25,RDGevent)","v":0},null,"","",{"$f":"COUNTIF(BD$8:BD25,OK)+COUNTIF(BD$8:BD25,RDGfix)+COUNTIF(BD$8:BD25,RDGave)+COUNTIF(BD$8:BD25,RDGevent)","v":0},null,"","",{"$f":"COUNTIF(BH$8:BH25,OK)+COUNTIF(BH$8:BH25,RDGfix)+COUNTIF(BH$8:BH25,RDGave)+COUNTIF(BH$8:BH25,RDGevent)","v":0},null,"","",{"$f":"COUNTIF(BL$8:BL25,OK)+COUNTIF(BL$8:BL25,RDGfix)+COUNTIF(BL$8:BL25,RDGave)+COUNTIF(BL$8:BL25,RDGevent)","v":0},null,"","",{"$f":"COUNTIF(BP$8:BP25,OK)+COUNTIF(BP$8:BP25,RDGfix)+COUNTIF(BP$8:BP25,RDGave)+COUNTIF(BP$8:BP25,RDGevent)","v":0},null,"","",{"$f":"COUNTIF(BT$8:BT25,OK)+COUNTIF(BT$8:BT25,RDGfix)+COUNTIF(BT$8:BT25,RDGave)+COUNTIF(BT$8:BT25,RDGevent)","v":0},null,"","",{"$f":"COUNTIF(BX$8:BX25,OK)+COUNTIF(BX$8:BX25,RDGfix)+COUNTIF(BX$8:BX25,RDGave)+COUNTIF(BX$8:BX25,RDGevent)","v":0},null,"","",{"$f":"COUNTIF(CB$8:CB25,OK)+COUNTIF(CB$8:CB25,RDGfix)+COUNTIF(CB$8:CB25,RDGave)+COUNTIF(CB$8:CB25,RDGevent)","v":0},null,"","",{"$f":"COUNTIF(CF$8:CF25,OK)+COUNTIF(CF$8:CF25,RDGfix)+COUNTIF(CF$8:CF25,RDGave)+COUNTIF(CF$8:CF25,RDGevent)","v":0},null,"","",{"$f":"COUNTIF(CJ$8:CJ25,OK)+COUNTIF(CJ$8:CJ25,RDGfix)+COUNTIF(CJ$8:CJ25,RDGave)+COUNTIF(CJ$8:CJ25,RDGevent)","v":0},null,"","",{"$f":"COUNTIF(CN$8:CN25,OK)+COUNTIF(CN$8:CN25,RDGfix)+COUNTIF(CN$8:CN25,RDGave)+COUNTIF(CN$8:CN25,RDGevent)","v":0},null,"","",{"$f":"COUNTIF(CR$8:CR25,OK)+COUNTIF(CR$8:CR25,RDGfix)+COUNTIF(CR$8:CR25,RDGave)+COUNTIF(CR$8:CR25,RDGevent)","v":0},null,"","",{"$f":"COUNTIF(CV$8:CV25,OK)+COUNTIF(CV$8:CV25,RDGfix)+COUNTIF(CV$8:CV25,RDGave)+COUNTIF(CV$8:CV25,RDGevent)","v":0},null,"","",{"$f":"COUNTIF(CZ$8:CZ25,OK)+COUNTIF(CZ$8:CZ25,RDGfix)+COUNTIF(CZ$8:CZ25,RDGave)+COUNTIF(CZ$8:CZ25,RDGevent)","v":0},null,"","",{"$f":"COUNTIF(DD$8:DD25,OK)+COUNTIF(DD$8:DD25,RDGfix)+COUNTIF(DD$8:DD25,RDGave)+COUNTIF(DD$8:DD25,RDGevent)","v":0},null,"","",{"$f":"COUNTIF(DH$8:DH25,OK)+COUNTIF(DH$8:DH25,RDGfix)+COUNTIF(DH$8:DH25,RDGave)+COUNTIF(DH$8:DH25,RDGevent)","v":0},null,"","",{"$f":"COUNTIF(DL$8:DL25,OK)+COUNTIF(DL$8:DL25,RDGfix)+COUNTIF(DL$8:DL25,RDGave)+COUNTIF(DL$8:DL25,RDGevent)","v":0},null,"","",{"$f":"COUNTIF(DP$8:DP25,OK)+COUNTIF(DP$8:DP25,RDGfix)+COUNTIF(DP$8:DP25,RDGave)+COUNTIF(DP$8:DP25,RDGevent)","v":0},null,"","",{"$f":"COUNTIF(DT$8:DT25,OK)+COUNTIF(DT$8:DT25,RDGfix)+COUNTIF(DT$8:DT25,RDGave)+COUNTIF(DT$8:DT25,RDGevent)","v":0},null,"","",{"$f":"COUNTIF(DX$8:DX25,OK)+COUNTIF(DX$8:DX25,RDGfix)+COUNTIF(DX$8:DX25,RDGave)+COUNTIF(DX$8:DX25,RDGevent)","v":0},null,"","",{"$f":"COUNTIF(EB$8:EB25,OK)+COUNTIF(EB$8:EB25,RDGfix)+COUNTIF(EB$8:EB25,RDGave)+COUNTIF(EB$8:EB25,RDGevent)","v":0},null,"","",{"$f":"COUNTIF(EF$8:EF25,OK)+COUNTIF(EF$8:EF25,RDGfix)+COUNTIF(EF$8:EF25,RDGave)+COUNTIF(EF$8:EF25,RDGevent)","v":0},null,"","",{"$f":"COUNTIF(EJ$8:EJ25,OK)+COUNTIF(EJ$8:EJ25,RDGfix)+COUNTIF(EJ$8:EJ25,RDGave)+COUNTIF(EJ$8:EJ25,RDGevent)","v":0},null,"","",{"$f":"COUNTIF(EN$8:EN25,OK)+COUNTIF(EN$8:EN25,RDGfix)+COUNTIF(EN$8:EN25,RDGave)+COUNTIF(EN$8:EN25,RDGevent)","v":0},null,"","",{"$f":"COUNTIF(ER$8:ER25,OK)+COUNTIF(ER$8:ER25,RDGfix)+COUNTIF(ER$8:ER25,RDGave)+COUNTIF(ER$8:ER25,RDGevent)","v":0},null,"","",{"$f":"COUNTIF(EV$8:EV25,OK)+COUNTIF(EV$8:EV25,RDGfix)+COUNTIF(EV$8:EV25,RDGave)+COUNTIF(EV$8:EV25,RDGevent)","v":0},null,"","",{"$f":"COUNTIF(EZ$8:EZ25,OK)+COUNTIF(EZ$8:EZ25,RDGfix)+COUNTIF(EZ$8:EZ25,RDGave)+COUNTIF(EZ$8:EZ25,RDGevent)","v":0},null,"","",{"$f":"COUNTIF(FD$8:FD25,OK)+COUNTIF(FD$8:FD25,RDGfix)+COUNTIF(FD$8:FD25,RDGave)+COUNTIF(FD$8:FD25,RDGevent)","v":0},null,"","",{"$f":"COUNTIF(FH$8:FH25,OK)+COUNTIF(FH$8:FH25,RDGfix)+COUNTIF(FH$8:FH25,RDGave)+COUNTIF(FH$8:FH25,RDGevent)","v":0},null,1]
[null,"19th",null,"","",{"$f":"COUNTIF(D$8:D26,OK)+COUNTIF(D$8:D26,RDGfix)+COUNTIF(D$8:D26,RDGave)+COUNTIF(D$8:D26,RDGevent)","v":0},null,"","",{"$f":"COUNTIF(H$8:H26,OK)+COUNTIF(H$8:H26,RDGfix)+COUNTIF(H$8:H26,RDGave)+COUNTIF(H$8:H26,RDGevent)","v":0},null,"","",{"$f":"COUNTIF(L$8:L26,OK)+COUNTIF(L$8:L26,RDGfix)+COUNTIF(L$8:L26,RDGave)+COUNTIF(L$8:L26,RDGevent)","v":0},null,"","",{"$f":"COUNTIF(P$8:P26,OK)+COUNTIF(P$8:P26,RDGfix)+COUNTIF(P$8:P26,RDGave)+COUNTIF(P$8:P26,RDGevent)","v":0},null,"","",{"$f":"COUNTIF(T$8:T26,OK)+COUNTIF(T$8:T26,RDGfix)+COUNTIF(T$8:T26,RDGave)+COUNTIF(T$8:T26,RDGevent)","v":0},null,"","",{"$f":"COUNTIF(X$8:X26,OK)+COUNTIF(X$8:X26,RDGfix)+COUNTIF(X$8:X26,RDGave)+COUNTIF(X$8:X26,RDGevent)","v":0},null,"","",{"$f":"COUNTIF(AB$8:AB26,OK)+COUNTIF(AB$8:AB26,RDGfix)+COUNTIF(AB$8:AB26,RDGave)+COUNTIF(AB$8:AB26,RDGevent)","v":0},null,"","",{"$f":"COUNTIF(AF$8:AF26,OK)+COUNTIF(AF$8:AF26,RDGfix)+COUNTIF(AF$8:AF26,RDGave)+COUNTIF(AF$8:AF26,RDGevent)","v":0},null,"","",{"$f":"COUNTIF(AJ$8:AJ26,OK)+COUNTIF(AJ$8:AJ26,RDGfix)+COUNTIF(AJ$8:AJ26,RDGave)+COUNTIF(AJ$8:AJ26,RDGevent)","v":0},null,"","",{"$f":"COUNTIF(AN$8:AN26,OK)+COUNTIF(AN$8:AN26,RDGfix)+COUNTIF(AN$8:AN26,RDGave)+COUNTIF(AN$8:AN26,RDGevent)","v":0},null,"","",{"$f":"COUNTIF(AR$8:AR26,OK)+COUNTIF(AR$8:AR26,RDGfix)+COUNTIF(AR$8:AR26,RDGave)+COUNTIF(AR$8:AR26,RDGevent)","v":0},null,"","",{"$f":"COUNTIF(AV$8:AV26,OK)+COUNTIF(AV$8:AV26,RDGfix)+COUNTIF(AV$8:AV26,RDGave)+COUNTIF(AV$8:AV26,RDGevent)","v":0},null,"","",{"$f":"COUNTIF(AZ$8:AZ26,OK)+COUNTIF(AZ$8:AZ26,RDGfix)+COUNTIF(AZ$8:AZ26,RDGave)+COUNTIF(AZ$8:AZ26,RDGevent)","v":0},null,"","",{"$f":"COUNTIF(BD$8:BD26,OK)+COUNTIF(BD$8:BD26,RDGfix)+COUNTIF(BD$8:BD26,RDGave)+COUNTIF(BD$8:BD26,RDGevent)","v":0},null,"","",{"$f":"COUNTIF(BH$8:BH26,OK)+COUNTIF(BH$8:BH26,RDGfix)+COUNTIF(BH$8:BH26,RDGave)+COUNTIF(BH$8:BH26,RDGevent)","v":0},null,"","",{"$f":"COUNTIF(BL$8:BL26,OK)+COUNTIF(BL$8:BL26,RDGfix)+COUNTIF(BL$8:BL26,RDGave)+COUNTIF(BL$8:BL26,RDGevent)","v":0},null,"","",{"$f":"COUNTIF(BP$8:BP26,OK)+COUNTIF(BP$8:BP26,RDGfix)+COUNTIF(BP$8:BP26,RDGave)+COUNTIF(BP$8:BP26,RDGevent)","v":0},null,"","",{"$f":"COUNTIF(BT$8:BT26,OK)+COUNTIF(BT$8:BT26,RDGfix)+COUNTIF(BT$8:BT26,RDGave)+COUNTIF(BT$8:BT26,RDGevent)","v":0},null,"","",{"$f":"COUNTIF(BX$8:BX26,OK)+COUNTIF(BX$8:BX26,RDGfix)+COUNTIF(BX$8:BX26,RDGave)+COUNTIF(BX$8:BX26,RDGevent)","v":0},null,"","",{"$f":"COUNTIF(CB$8:CB26,OK)+COUNTIF(CB$8:CB26,RDGfix)+COUNTIF(CB$8:CB26,RDGave)+COUNTIF(CB$8:CB26,RDGevent)","v":0},null,"","",{"$f":"COUNTIF(CF$8:CF26,OK)+COUNTIF(CF$8:CF26,RDGfix)+COUNTIF(CF$8:CF26,RDGave)+COUNTIF(CF$8:CF26,RDGevent)","v":0},null,"","",{"$f":"COUNTIF(CJ$8:CJ26,OK)+COUNTIF(CJ$8:CJ26,RDGfix)+COUNTIF(CJ$8:CJ26,RDGave)+COUNTIF(CJ$8:CJ26,RDGevent)","v":0},null,"","",{"$f":"COUNTIF(CN$8:CN26,OK)+COUNTIF(CN$8:CN26,RDGfix)+COUNTIF(CN$8:CN26,RDGave)+COUNTIF(CN$8:CN26,RDGevent)","v":0},null,"","",{"$f":"COUNTIF(CR$8:CR26,OK)+COUNTIF(CR$8:CR26,RDGfix)+COUNTIF(CR$8:CR26,RDGave)+COUNTIF(CR$8:CR26,RDGevent)","v":0},null,"","",{"$f":"COUNTIF(CV$8:CV26,OK)+COUNTIF(CV$8:CV26,RDGfix)+COUNTIF(CV$8:CV26,RDGave)+COUNTIF(CV$8:CV26,RDGevent)","v":0},null,"","",{"$f":"COUNTIF(CZ$8:CZ26,OK)+COUNTIF(CZ$8:CZ26,RDGfix)+COUNTIF(CZ$8:CZ26,RDGave)+COUNTIF(CZ$8:CZ26,RDGevent)","v":0},null,"","",{"$f":"COUNTIF(DD$8:DD26,OK)+COUNTIF(DD$8:DD26,RDGfix)+COUNTIF(DD$8:DD26,RDGave)+COUNTIF(DD$8:DD26,RDGevent)","v":0},null,"","",{"$f":"COUNTIF(DH$8:DH26,OK)+COUNTIF(DH$8:DH26,RDGfix)+COUNTIF(DH$8:DH26,RDGave)+COUNTIF(DH$8:DH26,RDGevent)","v":0},null,"","",{"$f":"COUNTIF(DL$8:DL26,OK)+COUNTIF(DL$8:DL26,RDGfix)+COUNTIF(DL$8:DL26,RDGave)+COUNTIF(DL$8:DL26,RDGevent)","v":0},null,"","",{"$f":"COUNTIF(DP$8:DP26,OK)+COUNTIF(DP$8:DP26,RDGfix)+COUNTIF(DP$8:DP26,RDGave)+COUNTIF(DP$8:DP26,RDGevent)","v":0},null,"","",{"$f":"COUNTIF(DT$8:DT26,OK)+COUNTIF(DT$8:DT26,RDGfix)+COUNTIF(DT$8:DT26,RDGave)+COUNTIF(DT$8:DT26,RDGevent)","v":0},null,"","",{"$f":"COUNTIF(DX$8:DX26,OK)+COUNTIF(DX$8:DX26,RDGfix)+COUNTIF(DX$8:DX26,RDGave)+COUNTIF(DX$8:DX26,RDGevent)","v":0},null,"","",{"$f":"COUNTIF(EB$8:EB26,OK)+COUNTIF(EB$8:EB26,RDGfix)+COUNTIF(EB$8:EB26,RDGave)+COUNTIF(EB$8:EB26,RDGevent)","v":0},null,"","",{"$f":"COUNTIF(EF$8:EF26,OK)+COUNTIF(EF$8:EF26,RDGfix)+COUNTIF(EF$8:EF26,RDGave)+COUNTIF(EF$8:EF26,RDGevent)","v":0},null,"","",{"$f":"COUNTIF(EJ$8:EJ26,OK)+COUNTIF(EJ$8:EJ26,RDGfix)+COUNTIF(EJ$8:EJ26,RDGave)+COUNTIF(EJ$8:EJ26,RDGevent)","v":0},null,"","",{"$f":"COUNTIF(EN$8:EN26,OK)+COUNTIF(EN$8:EN26,RDGfix)+COUNTIF(EN$8:EN26,RDGave)+COUNTIF(EN$8:EN26,RDGevent)","v":0},null,"","",{"$f":"COUNTIF(ER$8:ER26,OK)+COUNTIF(ER$8:ER26,RDGfix)+COUNTIF(ER$8:ER26,RDGave)+COUNTIF(ER$8:ER26,RDGevent)","v":0},null,"","",{"$f":"COUNTIF(EV$8:EV26,OK)+COUNTIF(EV$8:EV26,RDGfix)+COUNTIF(EV$8:EV26,RDGave)+COUNTIF(EV$8:EV26,RDGevent)","v":0},null,"","",{"$f":"COUNTIF(EZ$8:EZ26,OK)+COUNTIF(EZ$8:EZ26,RDGfix)+COUNTIF(EZ$8:EZ26,RDGave)+COUNTIF(EZ$8:EZ26,RDGevent)","v":0},null,"","",{"$f":"COUNTIF(FD$8:FD26,OK)+COUNTIF(FD$8:FD26,RDGfix)+COUNTIF(FD$8:FD26,RDGave)+COUNTIF(FD$8:FD26,RDGevent)","v":0},null,"","",{"$f":"COUNTIF(FH$8:FH26,OK)+COUNTIF(FH$8:FH26,RDGfix)+COUNTIF(FH$8:FH26,RDGave)+COUNTIF(FH$8:FH26,RDGevent)","v":0},null,1]
[null,"20th",null,"","",{"$f":"COUNTIF(D$8:D27,OK)+COUNTIF(D$8:D27,RDGfix)+COUNTIF(D$8:D27,RDGave)+COUNTIF(D$8:D27,RDGevent)","v":0},null,"","",{"$f":"COUNTIF(H$8:H27,OK)+COUNTIF(H$8:H27,RDGfix)+COUNTIF(H$8:H27,RDGave)+COUNTIF(H$8:H27,RDGevent)","v":0},null,"","",{"$f":"COUNTIF(L$8:L27,OK)+COUNTIF(L$8:L27,RDGfix)+COUNTIF(L$8:L27,RDGave)+COUNTIF(L$8:L27,RDGevent)","v":0},null,"","",{"$f":"COUNTIF(P$8:P27,OK)+COUNTIF(P$8:P27,RDGfix)+COUNTIF(P$8:P27,RDGave)+COUNTIF(P$8:P27,RDGevent)","v":0},null,"","",{"$f":"COUNTIF(T$8:T27,OK)+COUNTIF(T$8:T27,RDGfix)+COUNTIF(T$8:T27,RDGave)+COUNTIF(T$8:T27,RDGevent)","v":0},null,"","",{"$f":"COUNTIF(X$8:X27,OK)+COUNTIF(X$8:X27,RDGfix)+COUNTIF(X$8:X27,RDGave)+COUNTIF(X$8:X27,RDGevent)","v":0},null,"","",{"$f":"COUNTIF(AB$8:AB27,OK)+COUNTIF(AB$8:AB27,RDGfix)+COUNTIF(AB$8:AB27,RDGave)+COUNTIF(AB$8:AB27,RDGevent)","v":0},null,"","",{"$f":"COUNTIF(AF$8:AF27,OK)+COUNTIF(AF$8:AF27,RDGfix)+COUNTIF(AF$8:AF27,RDGave)+COUNTIF(AF$8:AF27,RDGevent)","v":0},null,"","",{"$f":"COUNTIF(AJ$8:AJ27,OK)+COUNTIF(AJ$8:AJ27,RDGfix)+COUNTIF(AJ$8:AJ27,RDGave)+COUNTIF(AJ$8:AJ27,RDGevent)","v":0},null,"","",{"$f":"COUNTIF(AN$8:AN27,OK)+COUNTIF(AN$8:AN27,RDGfix)+COUNTIF(AN$8:AN27,RDGave)+COUNTIF(AN$8:AN27,RDGevent)","v":0},null,"","",{"$f":"COUNTIF(AR$8:AR27,OK)+COUNTIF(AR$8:AR27,RDGfix)+COUNTIF(AR$8:AR27,RDGave)+COUNTIF(AR$8:AR27,RDGevent)","v":0},null,"","",{"$f":"COUNTIF(AV$8:AV27,OK)+COUNTIF(AV$8:AV27,RDGfix)+COUNTIF(AV$8:AV27,RDGave)+COUNTIF(AV$8:AV27,RDGevent)","v":0},null,"","",{"$f":"COUNTIF(AZ$8:AZ27,OK)+COUNTIF(AZ$8:AZ27,RDGfix)+COUNTIF(AZ$8:AZ27,RDGave)+COUNTIF(AZ$8:AZ27,RDGevent)","v":0},null,"","",{"$f":"COUNTIF(BD$8:BD27,OK)+COUNTIF(BD$8:BD27,RDGfix)+COUNTIF(BD$8:BD27,RDGave)+COUNTIF(BD$8:BD27,RDGevent)","v":0},null,"","",{"$f":"COUNTIF(BH$8:BH27,OK)+COUNTIF(BH$8:BH27,RDGfix)+COUNTIF(BH$8:BH27,RDGave)+COUNTIF(BH$8:BH27,RDGevent)","v":0},null,"","",{"$f":"COUNTIF(BL$8:BL27,OK)+COUNTIF(BL$8:BL27,RDGfix)+COUNTIF(BL$8:BL27,RDGave)+COUNTIF(BL$8:BL27,RDGevent)","v":0},null,"","",{"$f":"COUNTIF(BP$8:BP27,OK)+COUNTIF(BP$8:BP27,RDGfix)+COUNTIF(BP$8:BP27,RDGave)+COUNTIF(BP$8:BP27,RDGevent)","v":0},null,"","",{"$f":"COUNTIF(BT$8:BT27,OK)+COUNTIF(BT$8:BT27,RDGfix)+COUNTIF(BT$8:BT27,RDGave)+COUNTIF(BT$8:BT27,RDGevent)","v":0},null,"","",{"$f":"COUNTIF(BX$8:BX27,OK)+COUNTIF(BX$8:BX27,RDGfix)+COUNTIF(BX$8:BX27,RDGave)+COUNTIF(BX$8:BX27,RDGevent)","v":0},null,"","",{"$f":"COUNTIF(CB$8:CB27,OK)+COUNTIF(CB$8:CB27,RDGfix)+COUNTIF(CB$8:CB27,RDGave)+COUNTIF(CB$8:CB27,RDGevent)","v":0},null,"","",{"$f":"COUNTIF(CF$8:CF27,OK)+COUNTIF(CF$8:CF27,RDGfix)+COUNTIF(CF$8:CF27,RDGave)+COUNTIF(CF$8:CF27,RDGevent)","v":0},null,"","",{"$f":"COUNTIF(CJ$8:CJ27,OK)+COUNTIF(CJ$8:CJ27,RDGfix)+COUNTIF(CJ$8:CJ27,RDGave)+COUNTIF(CJ$8:CJ27,RDGevent)","v":0},null,"","",{"$f":"COUNTIF(CN$8:CN27,OK)+COUNTIF(CN$8:CN27,RDGfix)+COUNTIF(CN$8:CN27,RDGave)+COUNTIF(CN$8:CN27,RDGevent)","v":0},null,"","",{"$f":"COUNTIF(CR$8:CR27,OK)+COUNTIF(CR$8:CR27,RDGfix)+COUNTIF(CR$8:CR27,RDGave)+COUNTIF(CR$8:CR27,RDGevent)","v":0},null,"","",{"$f":"COUNTIF(CV$8:CV27,OK)+COUNTIF(CV$8:CV27,RDGfix)+COUNTIF(CV$8:CV27,RDGave)+COUNTIF(CV$8:CV27,RDGevent)","v":0},null,"","",{"$f":"COUNTIF(CZ$8:CZ27,OK)+COUNTIF(CZ$8:CZ27,RDGfix)+COUNTIF(CZ$8:CZ27,RDGave)+COUNTIF(CZ$8:CZ27,RDGevent)","v":0},null,"","",{"$f":"COUNTIF(DD$8:DD27,OK)+COUNTIF(DD$8:DD27,RDGfix)+COUNTIF(DD$8:DD27,RDGave)+COUNTIF(DD$8:DD27,RDGevent)","v":0},null,"","",{"$f":"COUNTIF(DH$8:DH27,OK)+COUNTIF(DH$8:DH27,RDGfix)+COUNTIF(DH$8:DH27,RDGave)+COUNTIF(DH$8:DH27,RDGevent)","v":0},null,"","",{"$f":"COUNTIF(DL$8:DL27,OK)+COUNTIF(DL$8:DL27,RDGfix)+COUNTIF(DL$8:DL27,RDGave)+COUNTIF(DL$8:DL27,RDGevent)","v":0},null,"","",{"$f":"COUNTIF(DP$8:DP27,OK)+COUNTIF(DP$8:DP27,RDGfix)+COUNTIF(DP$8:DP27,RDGave)+COUNTIF(DP$8:DP27,RDGevent)","v":0},null,"","",{"$f":"COUNTIF(DT$8:DT27,OK)+COUNTIF(DT$8:DT27,RDGfix)+COUNTIF(DT$8:DT27,RDGave)+COUNTIF(DT$8:DT27,RDGevent)","v":0},null,"","",{"$f":"COUNTIF(DX$8:DX27,OK)+COUNTIF(DX$8:DX27,RDGfix)+COUNTIF(DX$8:DX27,RDGave)+COUNTIF(DX$8:DX27,RDGevent)","v":0},null,"","",{"$f":"COUNTIF(EB$8:EB27,OK)+COUNTIF(EB$8:EB27,RDGfix)+COUNTIF(EB$8:EB27,RDGave)+COUNTIF(EB$8:EB27,RDGevent)","v":0},null,"","",{"$f":"COUNTIF(EF$8:EF27,OK)+COUNTIF(EF$8:EF27,RDGfix)+COUNTIF(EF$8:EF27,RDGave)+COUNTIF(EF$8:EF27,RDGevent)","v":0},null,"","",{"$f":"COUNTIF(EJ$8:EJ27,OK)+COUNTIF(EJ$8:EJ27,RDGfix)+COUNTIF(EJ$8:EJ27,RDGave)+COUNTIF(EJ$8:EJ27,RDGevent)","v":0},null,"","",{"$f":"COUNTIF(EN$8:EN27,OK)+COUNTIF(EN$8:EN27,RDGfix)+COUNTIF(EN$8:EN27,RDGave)+COUNTIF(EN$8:EN27,RDGevent)","v":0},null,"","",{"$f":"COUNTIF(ER$8:ER27,OK)+COUNTIF(ER$8:ER27,RDGfix)+COUNTIF(ER$8:ER27,RDGave)+COUNTIF(ER$8:ER27,RDGevent)","v":0},null,"","",{"$f":"COUNTIF(EV$8:EV27,OK)+COUNTIF(EV$8:EV27,RDGfix)+COUNTIF(EV$8:EV27,RDGave)+COUNTIF(EV$8:EV27,RDGevent)","v":0},null,"","",{"$f":"COUNTIF(EZ$8:EZ27,OK)+COUNTIF(EZ$8:EZ27,RDGfix)+COUNTIF(EZ$8:EZ27,RDGave)+COUNTIF(EZ$8:EZ27,RDGevent)","v":0},null,"","",{"$f":"COUNTIF(FD$8:FD27,OK)+COUNTIF(FD$8:FD27,RDGfix)+COUNTIF(FD$8:FD27,RDGave)+COUNTIF(FD$8:FD27,RDGevent)","v":0},null,"","",{"$f":"COUNTIF(FH$8:FH27,OK)+COUNTIF(FH$8:FH27,RDGfix)+COUNTIF(FH$8:FH27,RDGave)+COUNTIF(FH$8:FH27,RDGevent)","v":0},null,1]
[null,"21st",null,"","",{"$f":"COUNTIF(D$8:D28,OK)+COUNTIF(D$8:D28,RDGfix)+COUNTIF(D$8:D28,RDGave)+COUNTIF(D$8:D28,RDGevent)","v":0},null,"","",{"$f":"COUNTIF(H$8:H28,OK)+COUNTIF(H$8:H28,RDGfix)+COUNTIF(H$8:H28,RDGave)+COUNTIF(H$8:H28,RDGevent)","v":0},null,"","",{"$f":"COUNTIF(L$8:L28,OK)+COUNTIF(L$8:L28,RDGfix)+COUNTIF(L$8:L28,RDGave)+COUNTIF(L$8:L28,RDGevent)","v":0},null,"","",{"$f":"COUNTIF(P$8:P28,OK)+COUNTIF(P$8:P28,RDGfix)+COUNTIF(P$8:P28,RDGave)+COUNTIF(P$8:P28,RDGevent)","v":0},null,"","",{"$f":"COUNTIF(T$8:T28,OK)+COUNTIF(T$8:T28,RDGfix)+COUNTIF(T$8:T28,RDGave)+COUNTIF(T$8:T28,RDGevent)","v":0},null,"","",{"$f":"COUNTIF(X$8:X28,OK)+COUNTIF(X$8:X28,RDGfix)+COUNTIF(X$8:X28,RDGave)+COUNTIF(X$8:X28,RDGevent)","v":0},null,"","",{"$f":"COUNTIF(AB$8:AB28,OK)+COUNTIF(AB$8:AB28,RDGfix)+COUNTIF(AB$8:AB28,RDGave)+COUNTIF(AB$8:AB28,RDGevent)","v":0},null,"","",{"$f":"COUNTIF(AF$8:AF28,OK)+COUNTIF(AF$8:AF28,RDGfix)+COUNTIF(AF$8:AF28,RDGave)+COUNTIF(AF$8:AF28,RDGevent)","v":0},null,"","",{"$f":"COUNTIF(AJ$8:AJ28,OK)+COUNTIF(AJ$8:AJ28,RDGfix)+COUNTIF(AJ$8:AJ28,RDGave)+COUNTIF(AJ$8:AJ28,RDGevent)","v":0},null,"","",{"$f":"COUNTIF(AN$8:AN28,OK)+COUNTIF(AN$8:AN28,RDGfix)+COUNTIF(AN$8:AN28,RDGave)+COUNTIF(AN$8:AN28,RDGevent)","v":0},null,"","",{"$f":"COUNTIF(AR$8:AR28,OK)+COUNTIF(AR$8:AR28,RDGfix)+COUNTIF(AR$8:AR28,RDGave)+COUNTIF(AR$8:AR28,RDGevent)","v":0},null,"","",{"$f":"COUNTIF(AV$8:AV28,OK)+COUNTIF(AV$8:AV28,RDGfix)+COUNTIF(AV$8:AV28,RDGave)+COUNTIF(AV$8:AV28,RDGevent)","v":0},null,"","",{"$f":"COUNTIF(AZ$8:AZ28,OK)+COUNTIF(AZ$8:AZ28,RDGfix)+COUNTIF(AZ$8:AZ28,RDGave)+COUNTIF(AZ$8:AZ28,RDGevent)","v":0},null,"","",{"$f":"COUNTIF(BD$8:BD28,OK)+COUNTIF(BD$8:BD28,RDGfix)+COUNTIF(BD$8:BD28,RDGave)+COUNTIF(BD$8:BD28,RDGevent)","v":0},null,"","",{"$f":"COUNTIF(BH$8:BH28,OK)+COUNTIF(BH$8:BH28,RDGfix)+COUNTIF(BH$8:BH28,RDGave)+COUNTIF(BH$8:BH28,RDGevent)","v":0},null,"","",{"$f":"COUNTIF(BL$8:BL28,OK)+COUNTIF(BL$8:BL28,RDGfix)+COUNTIF(BL$8:BL28,RDGave)+COUNTIF(BL$8:BL28,RDGevent)","v":0},null,"","",{"$f":"COUNTIF(BP$8:BP28,OK)+COUNTIF(BP$8:BP28,RDGfix)+COUNTIF(BP$8:BP28,RDGave)+COUNTIF(BP$8:BP28,RDGevent)","v":0},null,"","",{"$f":"COUNTIF(BT$8:BT28,OK)+COUNTIF(BT$8:BT28,RDGfix)+COUNTIF(BT$8:BT28,RDGave)+COUNTIF(BT$8:BT28,RDGevent)","v":0},null,"","",{"$f":"COUNTIF(BX$8:BX28,OK)+COUNTIF(BX$8:BX28,RDGfix)+COUNTIF(BX$8:BX28,RDGave)+COUNTIF(BX$8:BX28,RDGevent)","v":0},null,"","",{"$f":"COUNTIF(CB$8:CB28,OK)+COUNTIF(CB$8:CB28,RDGfix)+COUNTIF(CB$8:CB28,RDGave)+COUNTIF(CB$8:CB28,RDGevent)","v":0},null,"","",{"$f":"COUNTIF(CF$8:CF28,OK)+COUNTIF(CF$8:CF28,RDGfix)+COUNTIF(CF$8:CF28,RDGave)+COUNTIF(CF$8:CF28,RDGevent)","v":0},null,"","",{"$f":"COUNTIF(CJ$8:CJ28,OK)+COUNTIF(CJ$8:CJ28,RDGfix)+COUNTIF(CJ$8:CJ28,RDGave)+COUNTIF(CJ$8:CJ28,RDGevent)","v":0},null,"","",{"$f":"COUNTIF(CN$8:CN28,OK)+COUNTIF(CN$8:CN28,RDGfix)+COUNTIF(CN$8:CN28,RDGave)+COUNTIF(CN$8:CN28,RDGevent)","v":0},null,"","",{"$f":"COUNTIF(CR$8:CR28,OK)+COUNTIF(CR$8:CR28,RDGfix)+COUNTIF(CR$8:CR28,RDGave)+COUNTIF(CR$8:CR28,RDGevent)","v":0},null,"","",{"$f":"COUNTIF(CV$8:CV28,OK)+COUNTIF(CV$8:CV28,RDGfix)+COUNTIF(CV$8:CV28,RDGave)+COUNTIF(CV$8:CV28,RDGevent)","v":0},null,"","",{"$f":"COUNTIF(CZ$8:CZ28,OK)+COUNTIF(CZ$8:CZ28,RDGfix)+COUNTIF(CZ$8:CZ28,RDGave)+COUNTIF(CZ$8:CZ28,RDGevent)","v":0},null,"","",{"$f":"COUNTIF(DD$8:DD28,OK)+COUNTIF(DD$8:DD28,RDGfix)+COUNTIF(DD$8:DD28,RDGave)+COUNTIF(DD$8:DD28,RDGevent)","v":0},null,"","",{"$f":"COUNTIF(DH$8:DH28,OK)+COUNTIF(DH$8:DH28,RDGfix)+COUNTIF(DH$8:DH28,RDGave)+COUNTIF(DH$8:DH28,RDGevent)","v":0},null,"","",{"$f":"COUNTIF(DL$8:DL28,OK)+COUNTIF(DL$8:DL28,RDGfix)+COUNTIF(DL$8:DL28,RDGave)+COUNTIF(DL$8:DL28,RDGevent)","v":0},null,"","",{"$f":"COUNTIF(DP$8:DP28,OK)+COUNTIF(DP$8:DP28,RDGfix)+COUNTIF(DP$8:DP28,RDGave)+COUNTIF(DP$8:DP28,RDGevent)","v":0},null,"","",{"$f":"COUNTIF(DT$8:DT28,OK)+COUNTIF(DT$8:DT28,RDGfix)+COUNTIF(DT$8:DT28,RDGave)+COUNTIF(DT$8:DT28,RDGevent)","v":0},null,"","",{"$f":"COUNTIF(DX$8:DX28,OK)+COUNTIF(DX$8:DX28,RDGfix)+COUNTIF(DX$8:DX28,RDGave)+COUNTIF(DX$8:DX28,RDGevent)","v":0},null,"","",{"$f":"COUNTIF(EB$8:EB28,OK)+COUNTIF(EB$8:EB28,RDGfix)+COUNTIF(EB$8:EB28,RDGave)+COUNTIF(EB$8:EB28,RDGevent)","v":0},null,"","",{"$f":"COUNTIF(EF$8:EF28,OK)+COUNTIF(EF$8:EF28,RDGfix)+COUNTIF(EF$8:EF28,RDGave)+COUNTIF(EF$8:EF28,RDGevent)","v":0},null,"","",{"$f":"COUNTIF(EJ$8:EJ28,OK)+COUNTIF(EJ$8:EJ28,RDGfix)+COUNTIF(EJ$8:EJ28,RDGave)+COUNTIF(EJ$8:EJ28,RDGevent)","v":0},null,"","",{"$f":"COUNTIF(EN$8:EN28,OK)+COUNTIF(EN$8:EN28,RDGfix)+COUNTIF(EN$8:EN28,RDGave)+COUNTIF(EN$8:EN28,RDGevent)","v":0},null,"","",{"$f":"COUNTIF(ER$8:ER28,OK)+COUNTIF(ER$8:ER28,RDGfix)+COUNTIF(ER$8:ER28,RDGave)+COUNTIF(ER$8:ER28,RDGevent)","v":0},null,"","",{"$f":"COUNTIF(EV$8:EV28,OK)+COUNTIF(EV$8:EV28,RDGfix)+COUNTIF(EV$8:EV28,RDGave)+COUNTIF(EV$8:EV28,RDGevent)","v":0},null,"","",{"$f":"COUNTIF(EZ$8:EZ28,OK)+COUNTIF(EZ$8:EZ28,RDGfix)+COUNTIF(EZ$8:EZ28,RDGave)+COUNTIF(EZ$8:EZ28,RDGevent)","v":0},null,"","",{"$f":"COUNTIF(FD$8:FD28,OK)+COUNTIF(FD$8:FD28,RDGfix)+COUNTIF(FD$8:FD28,RDGave)+COUNTIF(FD$8:FD28,RDGevent)","v":0},null,"","",{"$f":"COUNTIF(FH$8:FH28,OK)+COUNTIF(FH$8:FH28,RDGfix)+COUNTIF(FH$8:FH28,RDGave)+COUNTIF(FH$8:FH28,RDGevent)","v":0},null,1]
[null,"22nd",null,"","",{"$f":"COUNTIF(D$8:D29,OK)+COUNTIF(D$8:D29,RDGfix)+COUNTIF(D$8:D29,RDGave)+COUNTIF(D$8:D29,RDGevent)","v":0},null,"","",{"$f":"COUNTIF(H$8:H29,OK)+COUNTIF(H$8:H29,RDGfix)+COUNTIF(H$8:H29,RDGave)+COUNTIF(H$8:H29,RDGevent)","v":0},null,"","",{"$f":"COUNTIF(L$8:L29,OK)+COUNTIF(L$8:L29,RDGfix)+COUNTIF(L$8:L29,RDGave)+COUNTIF(L$8:L29,RDGevent)","v":0},null,"","",{"$f":"COUNTIF(P$8:P29,OK)+COUNTIF(P$8:P29,RDGfix)+COUNTIF(P$8:P29,RDGave)+COUNTIF(P$8:P29,RDGevent)","v":0},null,"","",{"$f":"COUNTIF(T$8:T29,OK)+COUNTIF(T$8:T29,RDGfix)+COUNTIF(T$8:T29,RDGave)+COUNTIF(T$8:T29,RDGevent)","v":0},null,"","",{"$f":"COUNTIF(X$8:X29,OK)+COUNTIF(X$8:X29,RDGfix)+COUNTIF(X$8:X29,RDGave)+COUNTIF(X$8:X29,RDGevent)","v":0},null,"","",{"$f":"COUNTIF(AB$8:AB29,OK)+COUNTIF(AB$8:AB29,RDGfix)+COUNTIF(AB$8:AB29,RDGave)+COUNTIF(AB$8:AB29,RDGevent)","v":0},null,"","",{"$f":"COUNTIF(AF$8:AF29,OK)+COUNTIF(AF$8:AF29,RDGfix)+COUNTIF(AF$8:AF29,RDGave)+COUNTIF(AF$8:AF29,RDGevent)","v":0},null,"","",{"$f":"COUNTIF(AJ$8:AJ29,OK)+COUNTIF(AJ$8:AJ29,RDGfix)+COUNTIF(AJ$8:AJ29,RDGave)+COUNTIF(AJ$8:AJ29,RDGevent)","v":0},null,"","",{"$f":"COUNTIF(AN$8:AN29,OK)+COUNTIF(AN$8:AN29,RDGfix)+COUNTIF(AN$8:AN29,RDGave)+COUNTIF(AN$8:AN29,RDGevent)","v":0},null,"","",{"$f":"COUNTIF(AR$8:AR29,OK)+COUNTIF(AR$8:AR29,RDGfix)+COUNTIF(AR$8:AR29,RDGave)+COUNTIF(AR$8:AR29,RDGevent)","v":0},null,"","",{"$f":"COUNTIF(AV$8:AV29,OK)+COUNTIF(AV$8:AV29,RDGfix)+COUNTIF(AV$8:AV29,RDGave)+COUNTIF(AV$8:AV29,RDGevent)","v":0},null,"","",{"$f":"COUNTIF(AZ$8:AZ29,OK)+COUNTIF(AZ$8:AZ29,RDGfix)+COUNTIF(AZ$8:AZ29,RDGave)+COUNTIF(AZ$8:AZ29,RDGevent)","v":0},null,"","",{"$f":"COUNTIF(BD$8:BD29,OK)+COUNTIF(BD$8:BD29,RDGfix)+COUNTIF(BD$8:BD29,RDGave)+COUNTIF(BD$8:BD29,RDGevent)","v":0},null,"","",{"$f":"COUNTIF(BH$8:BH29,OK)+COUNTIF(BH$8:BH29,RDGfix)+COUNTIF(BH$8:BH29,RDGave)+COUNTIF(BH$8:BH29,RDGevent)","v":0},null,"","",{"$f":"COUNTIF(BL$8:BL29,OK)+COUNTIF(BL$8:BL29,RDGfix)+COUNTIF(BL$8:BL29,RDGave)+COUNTIF(BL$8:BL29,RDGevent)","v":0},null,"","",{"$f":"COUNTIF(BP$8:BP29,OK)+COUNTIF(BP$8:BP29,RDGfix)+COUNTIF(BP$8:BP29,RDGave)+COUNTIF(BP$8:BP29,RDGevent)","v":0},null,"","",{"$f":"COUNTIF(BT$8:BT29,OK)+COUNTIF(BT$8:BT29,RDGfix)+COUNTIF(BT$8:BT29,RDGave)+COUNTIF(BT$8:BT29,RDGevent)","v":0},null,"","",{"$f":"COUNTIF(BX$8:BX29,OK)+COUNTIF(BX$8:BX29,RDGfix)+COUNTIF(BX$8:BX29,RDGave)+COUNTIF(BX$8:BX29,RDGevent)","v":0},null,"","",{"$f":"COUNTIF(CB$8:CB29,OK)+COUNTIF(CB$8:CB29,RDGfix)+COUNTIF(CB$8:CB29,RDGave)+COUNTIF(CB$8:CB29,RDGevent)","v":0},null,"","",{"$f":"COUNTIF(CF$8:CF29,OK)+COUNTIF(CF$8:CF29,RDGfix)+COUNTIF(CF$8:CF29,RDGave)+COUNTIF(CF$8:CF29,RDGevent)","v":0},null,"","",{"$f":"COUNTIF(CJ$8:CJ29,OK)+COUNTIF(CJ$8:CJ29,RDGfix)+COUNTIF(CJ$8:CJ29,RDGave)+COUNTIF(CJ$8:CJ29,RDGevent)","v":0},null,"","",{"$f":"COUNTIF(CN$8:CN29,OK)+COUNTIF(CN$8:CN29,RDGfix)+COUNTIF(CN$8:CN29,RDGave)+COUNTIF(CN$8:CN29,RDGevent)","v":0},null,"","",{"$f":"COUNTIF(CR$8:CR29,OK)+COUNTIF(CR$8:CR29,RDGfix)+COUNTIF(CR$8:CR29,RDGave)+COUNTIF(CR$8:CR29,RDGevent)","v":0},null,"","",{"$f":"COUNTIF(CV$8:CV29,OK)+COUNTIF(CV$8:CV29,RDGfix)+COUNTIF(CV$8:CV29,RDGave)+COUNTIF(CV$8:CV29,RDGevent)","v":0},null,"","",{"$f":"COUNTIF(CZ$8:CZ29,OK)+COUNTIF(CZ$8:CZ29,RDGfix)+COUNTIF(CZ$8:CZ29,RDGave)+COUNTIF(CZ$8:CZ29,RDGevent)","v":0},null,"","",{"$f":"COUNTIF(DD$8:DD29,OK)+COUNTIF(DD$8:DD29,RDGfix)+COUNTIF(DD$8:DD29,RDGave)+COUNTIF(DD$8:DD29,RDGevent)","v":0},null,"","",{"$f":"COUNTIF(DH$8:DH29,OK)+COUNTIF(DH$8:DH29,RDGfix)+COUNTIF(DH$8:DH29,RDGave)+COUNTIF(DH$8:DH29,RDGevent)","v":0},null,"","",{"$f":"COUNTIF(DL$8:DL29,OK)+COUNTIF(DL$8:DL29,RDGfix)+COUNTIF(DL$8:DL29,RDGave)+COUNTIF(DL$8:DL29,RDGevent)","v":0},null,"","",{"$f":"COUNTIF(DP$8:DP29,OK)+COUNTIF(DP$8:DP29,RDGfix)+COUNTIF(DP$8:DP29,RDGave)+COUNTIF(DP$8:DP29,RDGevent)","v":0},null,"","",{"$f":"COUNTIF(DT$8:DT29,OK)+COUNTIF(DT$8:DT29,RDGfix)+COUNTIF(DT$8:DT29,RDGave)+COUNTIF(DT$8:DT29,RDGevent)","v":0},null,"","",{"$f":"COUNTIF(DX$8:DX29,OK)+COUNTIF(DX$8:DX29,RDGfix)+COUNTIF(DX$8:DX29,RDGave)+COUNTIF(DX$8:DX29,RDGevent)","v":0},null,"","",{"$f":"COUNTIF(EB$8:EB29,OK)+COUNTIF(EB$8:EB29,RDGfix)+COUNTIF(EB$8:EB29,RDGave)+COUNTIF(EB$8:EB29,RDGevent)","v":0},null,"","",{"$f":"COUNTIF(EF$8:EF29,OK)+COUNTIF(EF$8:EF29,RDGfix)+COUNTIF(EF$8:EF29,RDGave)+COUNTIF(EF$8:EF29,RDGevent)","v":0},null,"","",{"$f":"COUNTIF(EJ$8:EJ29,OK)+COUNTIF(EJ$8:EJ29,RDGfix)+COUNTIF(EJ$8:EJ29,RDGave)+COUNTIF(EJ$8:EJ29,RDGevent)","v":0},null,"","",{"$f":"COUNTIF(EN$8:EN29,OK)+COUNTIF(EN$8:EN29,RDGfix)+COUNTIF(EN$8:EN29,RDGave)+COUNTIF(EN$8:EN29,RDGevent)","v":0},null,"","",{"$f":"COUNTIF(ER$8:ER29,OK)+COUNTIF(ER$8:ER29,RDGfix)+COUNTIF(ER$8:ER29,RDGave)+COUNTIF(ER$8:ER29,RDGevent)","v":0},null,"","",{"$f":"COUNTIF(EV$8:EV29,OK)+COUNTIF(EV$8:EV29,RDGfix)+COUNTIF(EV$8:EV29,RDGave)+COUNTIF(EV$8:EV29,RDGevent)","v":0},null,"","",{"$f":"COUNTIF(EZ$8:EZ29,OK)+COUNTIF(EZ$8:EZ29,RDGfix)+COUNTIF(EZ$8:EZ29,RDGave)+COUNTIF(EZ$8:EZ29,RDGevent)","v":0},null,"","",{"$f":"COUNTIF(FD$8:FD29,OK)+COUNTIF(FD$8:FD29,RDGfix)+COUNTIF(FD$8:FD29,RDGave)+COUNTIF(FD$8:FD29,RDGevent)","v":0},null,"","",{"$f":"COUNTIF(FH$8:FH29,OK)+COUNTIF(FH$8:FH29,RDGfix)+COUNTIF(FH$8:FH29,RDGave)+COUNTIF(FH$8:FH29,RDGevent)","v":0},null,1]
[null,"23rd",null,"","",{"$f":"COUNTIF(D$8:D30,OK)+COUNTIF(D$8:D30,RDGfix)+COUNTIF(D$8:D30,RDGave)+COUNTIF(D$8:D30,RDGevent)","v":0},null,"","",{"$f":"COUNTIF(H$8:H30,OK)+COUNTIF(H$8:H30,RDGfix)+COUNTIF(H$8:H30,RDGave)+COUNTIF(H$8:H30,RDGevent)","v":0},null,"","",{"$f":"COUNTIF(L$8:L30,OK)+COUNTIF(L$8:L30,RDGfix)+COUNTIF(L$8:L30,RDGave)+COUNTIF(L$8:L30,RDGevent)","v":0},null,"","",{"$f":"COUNTIF(P$8:P30,OK)+COUNTIF(P$8:P30,RDGfix)+COUNTIF(P$8:P30,RDGave)+COUNTIF(P$8:P30,RDGevent)","v":0},null,"","",{"$f":"COUNTIF(T$8:T30,OK)+COUNTIF(T$8:T30,RDGfix)+COUNTIF(T$8:T30,RDGave)+COUNTIF(T$8:T30,RDGevent)","v":0},null,"","",{"$f":"COUNTIF(X$8:X30,OK)+COUNTIF(X$8:X30,RDGfix)+COUNTIF(X$8:X30,RDGave)+COUNTIF(X$8:X30,RDGevent)","v":0},null,"","",{"$f":"COUNTIF(AB$8:AB30,OK)+COUNTIF(AB$8:AB30,RDGfix)+COUNTIF(AB$8:AB30,RDGave)+COUNTIF(AB$8:AB30,RDGevent)","v":0},null,"","",{"$f":"COUNTIF(AF$8:AF30,OK)+COUNTIF(AF$8:AF30,RDGfix)+COUNTIF(AF$8:AF30,RDGave)+COUNTIF(AF$8:AF30,RDGevent)","v":0},null,"","",{"$f":"COUNTIF(AJ$8:AJ30,OK)+COUNTIF(AJ$8:AJ30,RDGfix)+COUNTIF(AJ$8:AJ30,RDGave)+COUNTIF(AJ$8:AJ30,RDGevent)","v":0},null,"","",{"$f":"COUNTIF(AN$8:AN30,OK)+COUNTIF(AN$8:AN30,RDGfix)+COUNTIF(AN$8:AN30,RDGave)+COUNTIF(AN$8:AN30,RDGevent)","v":0},null,"","",{"$f":"COUNTIF(AR$8:AR30,OK)+COUNTIF(AR$8:AR30,RDGfix)+COUNTIF(AR$8:AR30,RDGave)+COUNTIF(AR$8:AR30,RDGevent)","v":0},null,"","",{"$f":"COUNTIF(AV$8:AV30,OK)+COUNTIF(AV$8:AV30,RDGfix)+COUNTIF(AV$8:AV30,RDGave)+COUNTIF(AV$8:AV30,RDGevent)","v":0},null,"","",{"$f":"COUNTIF(AZ$8:AZ30,OK)+COUNTIF(AZ$8:AZ30,RDGfix)+COUNTIF(AZ$8:AZ30,RDGave)+COUNTIF(AZ$8:AZ30,RDGevent)","v":0},null,"","",{"$f":"COUNTIF(BD$8:BD30,OK)+COUNTIF(BD$8:BD30,RDGfix)+COUNTIF(BD$8:BD30,RDGave)+COUNTIF(BD$8:BD30,RDGevent)","v":0},null,"","",{"$f":"COUNTIF(BH$8:BH30,OK)+COUNTIF(BH$8:BH30,RDGfix)+COUNTIF(BH$8:BH30,RDGave)+COUNTIF(BH$8:BH30,RDGevent)","v":0},null,"","",{"$f":"COUNTIF(BL$8:BL30,OK)+COUNTIF(BL$8:BL30,RDGfix)+COUNTIF(BL$8:BL30,RDGave)+COUNTIF(BL$8:BL30,RDGevent)","v":0},null,"","",{"$f":"COUNTIF(BP$8:BP30,OK)+COUNTIF(BP$8:BP30,RDGfix)+COUNTIF(BP$8:BP30,RDGave)+COUNTIF(BP$8:BP30,RDGevent)","v":0},null,"","",{"$f":"COUNTIF(BT$8:BT30,OK)+COUNTIF(BT$8:BT30,RDGfix)+COUNTIF(BT$8:BT30,RDGave)+COUNTIF(BT$8:BT30,RDGevent)","v":0},null,"","",{"$f":"COUNTIF(BX$8:BX30,OK)+COUNTIF(BX$8:BX30,RDGfix)+COUNTIF(BX$8:BX30,RDGave)+COUNTIF(BX$8:BX30,RDGevent)","v":0},null,"","",{"$f":"COUNTIF(CB$8:CB30,OK)+COUNTIF(CB$8:CB30,RDGfix)+COUNTIF(CB$8:CB30,RDGave)+COUNTIF(CB$8:CB30,RDGevent)","v":0},null,"","",{"$f":"COUNTIF(CF$8:CF30,OK)+COUNTIF(CF$8:CF30,RDGfix)+COUNTIF(CF$8:CF30,RDGave)+COUNTIF(CF$8:CF30,RDGevent)","v":0},null,"","",{"$f":"COUNTIF(CJ$8:CJ30,OK)+COUNTIF(CJ$8:CJ30,RDGfix)+COUNTIF(CJ$8:CJ30,RDGave)+COUNTIF(CJ$8:CJ30,RDGevent)","v":0},null,"","",{"$f":"COUNTIF(CN$8:CN30,OK)+COUNTIF(CN$8:CN30,RDGfix)+COUNTIF(CN$8:CN30,RDGave)+COUNTIF(CN$8:CN30,RDGevent)","v":0},null,"","",{"$f":"COUNTIF(CR$8:CR30,OK)+COUNTIF(CR$8:CR30,RDGfix)+COUNTIF(CR$8:CR30,RDGave)+COUNTIF(CR$8:CR30,RDGevent)","v":0},null,"","",{"$f":"COUNTIF(CV$8:CV30,OK)+COUNTIF(CV$8:CV30,RDGfix)+COUNTIF(CV$8:CV30,RDGave)+COUNTIF(CV$8:CV30,RDGevent)","v":0},null,"","",{"$f":"COUNTIF(CZ$8:CZ30,OK)+COUNTIF(CZ$8:CZ30,RDGfix)+COUNTIF(CZ$8:CZ30,RDGave)+COUNTIF(CZ$8:CZ30,RDGevent)","v":0},null,"","",{"$f":"COUNTIF(DD$8:DD30,OK)+COUNTIF(DD$8:DD30,RDGfix)+COUNTIF(DD$8:DD30,RDGave)+COUNTIF(DD$8:DD30,RDGevent)","v":0},null,"","",{"$f":"COUNTIF(DH$8:DH30,OK)+COUNTIF(DH$8:DH30,RDGfix)+COUNTIF(DH$8:DH30,RDGave)+COUNTIF(DH$8:DH30,RDGevent)","v":0},null,"","",{"$f":"COUNTIF(DL$8:DL30,OK)+COUNTIF(DL$8:DL30,RDGfix)+COUNTIF(DL$8:DL30,RDGave)+COUNTIF(DL$8:DL30,RDGevent)","v":0},null,"","",{"$f":"COUNTIF(DP$8:DP30,OK)+COUNTIF(DP$8:DP30,RDGfix)+COUNTIF(DP$8:DP30,RDGave)+COUNTIF(DP$8:DP30,RDGevent)","v":0},null,"","",{"$f":"COUNTIF(DT$8:DT30,OK)+COUNTIF(DT$8:DT30,RDGfix)+COUNTIF(DT$8:DT30,RDGave)+COUNTIF(DT$8:DT30,RDGevent)","v":0},null,"","",{"$f":"COUNTIF(DX$8:DX30,OK)+COUNTIF(DX$8:DX30,RDGfix)+COUNTIF(DX$8:DX30,RDGave)+COUNTIF(DX$8:DX30,RDGevent)","v":0},null,"","",{"$f":"COUNTIF(EB$8:EB30,OK)+COUNTIF(EB$8:EB30,RDGfix)+COUNTIF(EB$8:EB30,RDGave)+COUNTIF(EB$8:EB30,RDGevent)","v":0},null,"","",{"$f":"COUNTIF(EF$8:EF30,OK)+COUNTIF(EF$8:EF30,RDGfix)+COUNTIF(EF$8:EF30,RDGave)+COUNTIF(EF$8:EF30,RDGevent)","v":0},null,"","",{"$f":"COUNTIF(EJ$8:EJ30,OK)+COUNTIF(EJ$8:EJ30,RDGfix)+COUNTIF(EJ$8:EJ30,RDGave)+COUNTIF(EJ$8:EJ30,RDGevent)","v":0},null,"","",{"$f":"COUNTIF(EN$8:EN30,OK)+COUNTIF(EN$8:EN30,RDGfix)+COUNTIF(EN$8:EN30,RDGave)+COUNTIF(EN$8:EN30,RDGevent)","v":0},null,"","",{"$f":"COUNTIF(ER$8:ER30,OK)+COUNTIF(ER$8:ER30,RDGfix)+COUNTIF(ER$8:ER30,RDGave)+COUNTIF(ER$8:ER30,RDGevent)","v":0},null,"","",{"$f":"COUNTIF(EV$8:EV30,OK)+COUNTIF(EV$8:EV30,RDGfix)+COUNTIF(EV$8:EV30,RDGave)+COUNTIF(EV$8:EV30,RDGevent)","v":0},null,"","",{"$f":"COUNTIF(EZ$8:EZ30,OK)+COUNTIF(EZ$8:EZ30,RDGfix)+COUNTIF(EZ$8:EZ30,RDGave)+COUNTIF(EZ$8:EZ30,RDGevent)","v":0},null,"","",{"$f":"COUNTIF(FD$8:FD30,OK)+COUNTIF(FD$8:FD30,RDGfix)+COUNTIF(FD$8:FD30,RDGave)+COUNTIF(FD$8:FD30,RDGevent)","v":0},null,"","",{"$f":"COUNTIF(FH$8:FH30,OK)+COUNTIF(FH$8:FH30,RDGfix)+COUNTIF(FH$8:FH30,RDGave)+COUNTIF(FH$8:FH30,RDGevent)","v":0},null,1]
[null,"24th",null,{"$f":"IF(C31=\"\",\"\",OK)","v":""},{"$f":"IF(C31=0,\"\",IF(D31=OK,F31,IF(HLOOKUP(D31,Comments3,3,FALSE)=M,F$159,IF(HLOOKUP(D31,Comments3,3,FALSE)=S,VLOOKUP(C31,EventAverage,2,FALSE),HLOOKUP(D31,Comments3,3,FALSE)))))","v":""},{"$f":"COUNTIF(D$8:D31,OK)+COUNTIF(D$8:D31,RDGfix)+COUNTIF(D$8:D31,RDGave)+COUNTIF(D$8:D31,RDGevent)","v":0},null,{"$f":"IF(G31=\"\",\"\",OK)","v":""},{"$f":"IF(G31=\"\",\"\",IF(AND(H$7=\"L\",$C$33>0, H31=\"DNC\"),$I$2,IF(H31=OK,J31,IF(HLOOKUP(H31,Comments3,2,FALSE)=D,J$7,IF(HLOOKUP(H31,Comments3,2,FALSE)=A,VLOOKUP(G31,Averages,G$4,FALSE),IF(HLOOKUP(H31,Comments3,2,FALSE)=E,VLOOKUP(G31,EventAverage,2,FALSE),HLOOKUP(H31,Comments4,2,FALSE)))))))","v":""},{"$f":"COUNTIF(H$8:H31,OK)+COUNTIF(H$8:H31,RDGfix)+COUNTIF(H$8:H31,RDGave)+COUNTIF(H$8:H31,RDGevent)","v":0},null,{"$f":"IF(K31=\"\",\"\",OK)","v":""},{"$f":"IF(K31=\"\",\"\",IF(AND(L$7=\"L\",$C$33>0, L31=\"DNC\"),$I$2,IF(L31=OK,N31,IF(HLOOKUP(L31,Comments3,2,FALSE)=D,N$7,IF(HLOOKUP(L31,Comments3,2,FALSE)=A,VLOOKUP(K31,Averages,K$4,FALSE),IF(HLOOKUP(L31,Comments3,2,FALSE)=E,VLOOKUP(K31,EventAverage,2,FALSE),HLOOKUP(L31,Comments4,2,FALSE)))))))","v":""},{"$f":"COUNTIF(L$8:L31,OK)+COUNTIF(L$8:L31,RDGfix)+COUNTIF(L$8:L31,RDGave)+COUNTIF(L$8:L31,RDGevent)","v":0},null,{"$f":"IF(O31=\"\",\"\",OK)","v":""},{"$f":"IF(O31=\"\",\"\",IF(AND(P$7=\"L\",$C$33>0, P31=\"DNC\"),$I$2,IF(P31=OK,R31,IF(HLOOKUP(P31,Comments3,2,FALSE)=D,R$7,IF(HLOOKUP(P31,Comments3,2,FALSE)=A,VLOOKUP(O31,Averages,O$4,FALSE),IF(HLOOKUP(P31,Comments3,2,FALSE)=E,VLOOKUP(O31,EventAverage,2,FALSE),HLOOKUP(P31,Comments4,2,FALSE)))))))","v":""},{"$f":"COUNTIF(P$8:P31,OK)+COUNTIF(P$8:P31,RDGfix)+COUNTIF(P$8:P31,RDGave)+COUNTIF(P$8:P31,RDGevent)","v":0},null,{"$f":"IF(S31=\"\",\"\",OK)","v":""},{"$f":"IF(S31=\"\",\"\",IF(AND(T$7=\"L\",$C$33>0, T31=\"DNC\"),$I$2,IF(T31=OK,V31,IF(HLOOKUP(T31,Comments3,2,FALSE)=D,V$7,IF(HLOOKUP(T31,Comments3,2,FALSE)=A,VLOOKUP(S31,Averages,S$4,FALSE),IF(HLOOKUP(T31,Comments3,2,FALSE)=E,VLOOKUP(S31,EventAverage,2,FALSE),HLOOKUP(T31,Comments4,2,FALSE)))))))","v":""},{"$f":"COUNTIF(T$8:T31,OK)+COUNTIF(T$8:T31,RDGfix)+COUNTIF(T$8:T31,RDGave)+COUNTIF(T$8:T31,RDGevent)","v":0},null,{"$f":"IF(W31=\"\",\"\",OK)","v":""},{"$f":"IF(W31=\"\",\"\",IF(AND(X$7=\"L\",$C$33>0, X31=\"DNC\"),$I$2,IF(X31=OK,Z31,IF(HLOOKUP(X31,Comments3,2,FALSE)=D,Z$7,IF(HLOOKUP(X31,Comments3,2,FALSE)=A,VLOOKUP(W31,Averages,W$4,FALSE),IF(HLOOKUP(X31,Comments3,2,FALSE)=E,VLOOKUP(W31,EventAverage,2,FALSE),HLOOKUP(X31,Comments4,2,FALSE)))))))","v":""},{"$f":"COUNTIF(X$8:X31,OK)+COUNTIF(X$8:X31,RDGfix)+COUNTIF(X$8:X31,RDGave)+COUNTIF(X$8:X31,RDGevent)","v":0},null,{"$f":"IF(AA31=\"\",\"\",OK)","v":""},"",{"$f":"COUNTIF(AB$8:AB31,OK)+COUNTIF(AB$8:AB31,RDGfix)+COUNTIF(AB$8:AB31,RDGave)+COUNTIF(AB$8:AB31,RDGevent)","v":0},null,{"$f":"IF(AE31=\"\",\"\",OK)","v":""},{"$f":"IF(AE31=\"\",\"\",IF(AND(AF$7=\"L\",$C$33>0, AF31=\"DNC\"),$I$2,IF(AF31=OK,AH31,IF(HLOOKUP(AF31,Comments3,2,FALSE)=D,AH$7,IF(HLOOKUP(AF31,Comments3,2,FALSE)=A,VLOOKUP(AE31,Averages,AE$4,FALSE),IF(HLOOKUP(AF31,Comments3,2,FALSE)=E,VLOOKUP(AE31,EventAverage,2,FALSE),HLOOKUP(AF31,Comments4,2,FALSE)))))))","v":""},{"$f":"COUNTIF(AF$8:AF31,OK)+COUNTIF(AF$8:AF31,RDGfix)+COUNTIF(AF$8:AF31,RDGave)+COUNTIF(AF$8:AF31,RDGevent)","v":0},null,{"$f":"IF(AI31=\"\",\"\",OK)","v":""},{"$f":"IF(AI31=\"\",\"\",IF(AND(AJ$7=\"L\",$C$33>0, AJ31=\"DNC\"),$I$2,IF(AJ31=OK,AL31,IF(HLOOKUP(AJ31,Comments3,2,FALSE)=D,AL$7,IF(HLOOKUP(AJ31,Comments3,2,FALSE)=A,VLOOKUP(AI31,Averages,AI$4,FALSE),IF(HLOOKUP(AJ31,Comments3,2,FALSE)=E,VLOOKUP(AI31,EventAverage,2,FALSE),HLOOKUP(AJ31,Comments4,2,FALSE)))))))","v":""},{"$f":"COUNTIF(AJ$8:AJ31,OK)+COUNTIF(AJ$8:AJ31,RDGfix)+COUNTIF(AJ$8:AJ31,RDGave)+COUNTIF(AJ$8:AJ31,RDGevent)","v":0},null,{"$f":"IF(AM31=\"\",\"\",OK)","v":""},{"$f":"IF(AM31=\"\",\"\",IF(AND(AN$7=\"L\",$C$33>0, AN31=\"DNC\"),$I$2,IF(AN31=OK,AP31,IF(HLOOKUP(AN31,Comments3,2,FALSE)=D,AP$7,IF(HLOOKUP(AN31,Comments3,2,FALSE)=A,VLOOKUP(AM31,Averages,AM$4,FALSE),IF(HLOOKUP(AN31,Comments3,2,FALSE)=E,VLOOKUP(AM31,EventAverage,2,FALSE),HLOOKUP(AN31,Comments4,2,FALSE)))))))","v":""},{"$f":"COUNTIF(AN$8:AN31,OK)+COUNTIF(AN$8:AN31,RDGfix)+COUNTIF(AN$8:AN31,RDGave)+COUNTIF(AN$8:AN31,RDGevent)","v":0},null,{"$f":"IF(AQ31=\"\",\"\",OK)","v":""},{"$f":"IF(AQ31=\"\",\"\",IF(AND(AR$7=\"L\",$C$33>0, AR31=\"DNC\"),$I$2,IF(AR31=OK,AT31,IF(HLOOKUP(AR31,Comments3,2,FALSE)=D,AT$7,IF(HLOOKUP(AR31,Comments3,2,FALSE)=A,VLOOKUP(AQ31,Averages,AQ$4,FALSE),IF(HLOOKUP(AR31,Comments3,2,FALSE)=E,VLOOKUP(AQ31,EventAverage,2,FALSE),HLOOKUP(AR31,Comments4,2,FALSE)))))))","v":""},{"$f":"COUNTIF(AR$8:AR31,OK)+COUNTIF(AR$8:AR31,RDGfix)+COUNTIF(AR$8:AR31,RDGave)+COUNTIF(AR$8:AR31,RDGevent)","v":0},null,{"$f":"IF(AU31=\"\",\"\",OK)","v":""},{"$f":"IF(AU31=\"\",\"\",IF(AND(AV$7=\"L\",$C$33>0, AV31=\"DNC\"),$I$2,IF(AV31=OK,AX31,IF(HLOOKUP(AV31,Comments3,2,FALSE)=D,AX$7,IF(HLOOKUP(AV31,Comments3,2,FALSE)=A,VLOOKUP(AU31,Averages,AU$4,FALSE),IF(HLOOKUP(AV31,Comments3,2,FALSE)=E,VLOOKUP(AU31,EventAverage,2,FALSE),HLOOKUP(AV31,Comments4,2,FALSE)))))))","v":""},{"$f":"COUNTIF(AV$8:AV31,OK)+COUNTIF(AV$8:AV31,RDGfix)+COUNTIF(AV$8:AV31,RDGave)+COUNTIF(AV$8:AV31,RDGevent)","v":0},null,{"$f":"IF(AY31=\"\",\"\",OK)","v":""},{"$f":"IF(AY31=\"\",\"\",IF(AND(AZ$7=\"L\",$C$33>0, AZ31=\"DNC\"),$I$2,IF(AZ31=OK,BB31,IF(HLOOKUP(AZ31,Comments3,2,FALSE)=D,BB$7,IF(HLOOKUP(AZ31,Comments3,2,FALSE)=A,VLOOKUP(AY31,Averages,AY$4,FALSE),IF(HLOOKUP(AZ31,Comments3,2,FALSE)=E,VLOOKUP(AY31,EventAverage,2,FALSE),HLOOKUP(AZ31,Comments4,2,FALSE)))))))","v":""},{"$f":"COUNTIF(AZ$8:AZ31,OK)+COUNTIF(AZ$8:AZ31,RDGfix)+COUNTIF(AZ$8:AZ31,RDGave)+COUNTIF(AZ$8:AZ31,RDGevent)","v":0},null,{"$f":"IF(BC31=\"\",\"\",OK)","v":""},"",{"$f":"COUNTIF(BD$8:BD31,OK)+COUNTIF(BD$8:BD31,RDGfix)+COUNTIF(BD$8:BD31,RDGave)+COUNTIF(BD$8:BD31,RDGevent)","v":0},null,{"$f":"IF(BG31=\"\",\"\",OK)","v":""},{"$f":"IF(BG31=\"\",\"\",IF(AND(BH$7=\"L\",$C$33>0, BH31=\"DNC\"),$I$2,IF(BH31=OK,BJ31,IF(HLOOKUP(BH31,Comments3,2,FALSE)=D,BJ$7,IF(HLOOKUP(BH31,Comments3,2,FALSE)=A,VLOOKUP(BG31,Averages,BG$4,FALSE),IF(HLOOKUP(BH31,Comments3,2,FALSE)=E,VLOOKUP(BG31,EventAverage,2,FALSE),HLOOKUP(BH31,Comments4,2,FALSE)))))))","v":""},{"$f":"COUNTIF(BH$8:BH31,OK)+COUNTIF(BH$8:BH31,RDGfix)+COUNTIF(BH$8:BH31,RDGave)+COUNTIF(BH$8:BH31,RDGevent)","v":0},null,{"$f":"IF(BK31=\"\",\"\",OK)","v":""},{"$f":"IF(BK31=\"\",\"\",IF(AND(BL$7=\"L\",$C$33>0, BL31=\"DNC\"),$I$2,IF(BL31=OK,BN31,IF(HLOOKUP(BL31,Comments3,2,FALSE)=D,BN$7,IF(HLOOKUP(BL31,Comments3,2,FALSE)=A,VLOOKUP(BK31,Averages,BK$4,FALSE),IF(HLOOKUP(BL31,Comments3,2,FALSE)=E,VLOOKUP(BK31,EventAverage,2,FALSE),HLOOKUP(BL31,Comments4,2,FALSE)))))))","v":""},{"$f":"COUNTIF(BL$8:BL31,OK)+COUNTIF(BL$8:BL31,RDGfix)+COUNTIF(BL$8:BL31,RDGave)+COUNTIF(BL$8:BL31,RDGevent)","v":0},null,{"$f":"IF(BO31=\"\",\"\",OK)","v":""},{"$f":"IF(BO31=\"\",\"\",IF(AND(BP$7=\"L\",$C$33>0, BP31=\"DNC\"),$I$2,IF(BP31=OK,BR31,IF(HLOOKUP(BP31,Comments3,2,FALSE)=D,BR$7,IF(HLOOKUP(BP31,Comments3,2,FALSE)=A,VLOOKUP(BO31,Averages,BO$4,FALSE),IF(HLOOKUP(BP31,Comments3,2,FALSE)=E,VLOOKUP(BO31,EventAverage,2,FALSE),HLOOKUP(BP31,Comments4,2,FALSE)))))))","v":""},{"$f":"COUNTIF(BP$8:BP31,OK)+COUNTIF(BP$8:BP31,RDGfix)+COUNTIF(BP$8:BP31,RDGave)+COUNTIF(BP$8:BP31,RDGevent)","v":0},null,{"$f":"IF(BS31=\"\",\"\",OK)","v":""},{"$f":"IF(BS31=\"\",\"\",IF(AND(BT$7=\"L\",$C$33>0, BT31=\"DNC\"),$I$2,IF(BT31=OK,BV31,IF(HLOOKUP(BT31,Comments3,2,FALSE)=D,BV$7,IF(HLOOKUP(BT31,Comments3,2,FALSE)=A,VLOOKUP(BS31,Averages,BS$4,FALSE),IF(HLOOKUP(BT31,Comments3,2,FALSE)=E,VLOOKUP(BS31,EventAverage,2,FALSE),HLOOKUP(BT31,Comments4,2,FALSE)))))))","v":""},{"$f":"COUNTIF(BT$8:BT31,OK)+COUNTIF(BT$8:BT31,RDGfix)+COUNTIF(BT$8:BT31,RDGave)+COUNTIF(BT$8:BT31,RDGevent)","v":0},null,{"$f":"IF(BW31=\"\",\"\",OK)","v":""},{"$f":"IF(BW31=\"\",\"\",IF(AND(BX$7=\"L\",$C$33>0, BX31=\"DNC\"),$I$2,IF(BX31=OK,BZ31,IF(HLOOKUP(BX31,Comments3,2,FALSE)=D,BZ$7,IF(HLOOKUP(BX31,Comments3,2,FALSE)=A,VLOOKUP(BW31,Averages,BW$4,FALSE),IF(HLOOKUP(BX31,Comments3,2,FALSE)=E,VLOOKUP(BW31,EventAverage,2,FALSE),HLOOKUP(BX31,Comments4,2,FALSE)))))))","v":""},{"$f":"COUNTIF(BX$8:BX31,OK)+COUNTIF(BX$8:BX31,RDGfix)+COUNTIF(BX$8:BX31,RDGave)+COUNTIF(BX$8:BX31,RDGevent)","v":0},null,{"$f":"IF(CA31=\"\",\"\",OK)","v":""},{"$f":"IF(CA31=\"\",\"\",IF(AND(CB$7=\"L\",$C$33>0, CB31=\"DNC\"),$I$2,IF(CB31=OK,CD31,IF(HLOOKUP(CB31,Comments3,2,FALSE)=D,CD$7,IF(HLOOKUP(CB31,Comments3,2,FALSE)=A,VLOOKUP(CA31,Averages,CA$4,FALSE),IF(HLOOKUP(CB31,Comments3,2,FALSE)=E,VLOOKUP(CA31,EventAverage,2,FALSE),HLOOKUP(CB31,Comments4,2,FALSE)))))))","v":""},{"$f":"COUNTIF(CB$8:CB31,OK)+COUNTIF(CB$8:CB31,RDGfix)+COUNTIF(CB$8:CB31,RDGave)+COUNTIF(CB$8:CB31,RDGevent)","v":0},null,{"$f":"IF(CE31=\"\",\"\",OK)","v":""},{"$f":"IF(CE31=\"\",\"\",IF(AND(CF$7=\"L\",$C$33>0, CF31=\"DNC\"),$I$2,IF(CF31=OK,CH31,IF(HLOOKUP(CF31,Comments3,2,FALSE)=D,CH$7,IF(HLOOKUP(CF31,Comments3,2,FALSE)=A,VLOOKUP(CE31,Averages,CE$4,FALSE),IF(HLOOKUP(CF31,Comments3,2,FALSE)=E,VLOOKUP(CE31,EventAverage,2,FALSE),HLOOKUP(CF31,Comments4,2,FALSE)))))))","v":""},{"$f":"COUNTIF(CF$8:CF31,OK)+COUNTIF(CF$8:CF31,RDGfix)+COUNTIF(CF$8:CF31,RDGave)+COUNTIF(CF$8:CF31,RDGevent)","v":0},null,{"$f":"IF(CI31=\"\",\"\",OK)","v":""},{"$f":"IF(CI31=\"\",\"\",IF(AND(CJ$7=\"L\",$C$33>0, CJ31=\"DNC\"),$I$2,IF(CJ31=OK,CL31,IF(HLOOKUP(CJ31,Comments3,2,FALSE)=D,CL$7,IF(HLOOKUP(CJ31,Comments3,2,FALSE)=A,VLOOKUP(CI31,Averages,CI$4,FALSE),IF(HLOOKUP(CJ31,Comments3,2,FALSE)=E,VLOOKUP(CI31,EventAverage,2,FALSE),HLOOKUP(CJ31,Comments4,2,FALSE)))))))","v":""},{"$f":"COUNTIF(CJ$8:CJ31,OK)+COUNTIF(CJ$8:CJ31,RDGfix)+COUNTIF(CJ$8:CJ31,RDGave)+COUNTIF(CJ$8:CJ31,RDGevent)","v":0},null,{"$f":"IF(CM31=\"\",\"\",OK)","v":""},{"$f":"IF(CM31=\"\",\"\",IF(AND(CN$7=\"L\",$C$33>0, CN31=\"DNC\"),$I$2,IF(CN31=OK,CP31,IF(HLOOKUP(CN31,Comments3,2,FALSE)=D,CP$7,IF(HLOOKUP(CN31,Comments3,2,FALSE)=A,VLOOKUP(CM31,Averages,CM$4,FALSE),IF(HLOOKUP(CN31,Comments3,2,FALSE)=E,VLOOKUP(CM31,EventAverage,2,FALSE),HLOOKUP(CN31,Comments4,2,FALSE)))))))","v":""},{"$f":"COUNTIF(CN$8:CN31,OK)+COUNTIF(CN$8:CN31,RDGfix)+COUNTIF(CN$8:CN31,RDGave)+COUNTIF(CN$8:CN31,RDGevent)","v":0},null,{"$f":"IF(CQ31=\"\",\"\",OK)","v":""},{"$f":"IF(CQ31=\"\",\"\",IF(AND(CR$7=\"L\",$C$33>0, CR31=\"DNC\"),$I$2,IF(CR31=OK,CT31,IF(HLOOKUP(CR31,Comments3,2,FALSE)=D,CT$7,IF(HLOOKUP(CR31,Comments3,2,FALSE)=A,VLOOKUP(CQ31,Averages,CQ$4,FALSE),IF(HLOOKUP(CR31,Comments3,2,FALSE)=E,VLOOKUP(CQ31,EventAverage,2,FALSE),HLOOKUP(CR31,Comments4,2,FALSE)))))))","v":""},{"$f":"COUNTIF(CR$8:CR31,OK)+COUNTIF(CR$8:CR31,RDGfix)+COUNTIF(CR$8:CR31,RDGave)+COUNTIF(CR$8:CR31,RDGevent)","v":0},null,{"$f":"IF(CU31=\"\",\"\",OK)","v":""},{"$f":"IF(CU31=\"\",\"\",IF(AND(CV$7=\"L\",$C$33>0, CV31=\"DNC\"),$I$2,IF(CV31=OK,CX31,IF(HLOOKUP(CV31,Comments3,2,FALSE)=D,CX$7,IF(HLOOKUP(CV31,Comments3,2,FALSE)=A,VLOOKUP(CU31,Averages,CU$4,FALSE),IF(HLOOKUP(CV31,Comments3,2,FALSE)=E,VLOOKUP(CU31,EventAverage,2,FALSE),HLOOKUP(CV31,Comments4,2,FALSE)))))))","v":""},{"$f":"COUNTIF(CV$8:CV31,OK)+COUNTIF(CV$8:CV31,RDGfix)+COUNTIF(CV$8:CV31,RDGave)+COUNTIF(CV$8:CV31,RDGevent)","v":0},null,{"$f":"IF(CY31=\"\",\"\",OK)","v":""},{"$f":"IF(CY31=\"\",\"\",IF(AND(CZ$7=\"L\",$C$33>0, CZ31=\"DNC\"),$I$2,IF(CZ31=OK,DB31,IF(HLOOKUP(CZ31,Comments3,2,FALSE)=D,DB$7,IF(HLOOKUP(CZ31,Comments3,2,FALSE)=A,VLOOKUP(CY31,Averages,CY$4,FALSE),IF(HLOOKUP(CZ31,Comments3,2,FALSE)=E,VLOOKUP(CY31,EventAverage,2,FALSE),HLOOKUP(CZ31,Comments4,2,FALSE)))))))","v":""},{"$f":"COUNTIF(CZ$8:CZ31,OK)+COUNTIF(CZ$8:CZ31,RDGfix)+COUNTIF(CZ$8:CZ31,RDGave)+COUNTIF(CZ$8:CZ31,RDGevent)","v":0},null,{"$f":"IF(DC31=\"\",\"\",OK)","v":""},{"$f":"IF(DC31=\"\",\"\",IF(AND(DD$7=\"L\",$C$33>0, DD31=\"DNC\"),$I$2,IF(DD31=OK,DF31,IF(HLOOKUP(DD31,Comments3,2,FALSE)=D,DF$7,IF(HLOOKUP(DD31,Comments3,2,FALSE)=A,VLOOKUP(DC31,Averages,DC$4,FALSE),IF(HLOOKUP(DD31,Comments3,2,FALSE)=E,VLOOKUP(DC31,EventAverage,2,FALSE),HLOOKUP(DD31,Comments4,2,FALSE)))))))","v":""},{"$f":"COUNTIF(DD$8:DD31,OK)+COUNTIF(DD$8:DD31,RDGfix)+COUNTIF(DD$8:DD31,RDGave)+COUNTIF(DD$8:DD31,RDGevent)","v":0},null,{"$f":"IF(DG31=\"\",\"\",OK)","v":""},{"$f":"IF(DG31=\"\",\"\",IF(AND(DH$7=\"L\",$C$33>0, DH31=\"DNC\"),$I$2,IF(DH31=OK,DJ31,IF(HLOOKUP(DH31,Comments3,2,FALSE)=D,DJ$7,IF(HLOOKUP(DH31,Comments3,2,FALSE)=A,VLOOKUP(DG31,Averages,DG$4,FALSE),IF(HLOOKUP(DH31,Comments3,2,FALSE)=E,VLOOKUP(DG31,EventAverage,2,FALSE),HLOOKUP(DH31,Comments4,2,FALSE)))))))","v":""},{"$f":"COUNTIF(DH$8:DH31,OK)+COUNTIF(DH$8:DH31,RDGfix)+COUNTIF(DH$8:DH31,RDGave)+COUNTIF(DH$8:DH31,RDGevent)","v":0},null,{"$f":"IF(DK31=\"\",\"\",OK)","v":""},{"$f":"IF(DK31=\"\",\"\",IF(AND(DL$7=\"L\",$C$33>0, DL31=\"DNC\"),$I$2,IF(DL31=OK,DN31,IF(HLOOKUP(DL31,Comments3,2,FALSE)=D,DN$7,IF(HLOOKUP(DL31,Comments3,2,FALSE)=A,VLOOKUP(DK31,Averages,DK$4,FALSE),IF(HLOOKUP(DL31,Comments3,2,FALSE)=E,VLOOKUP(DK31,EventAverage,2,FALSE),HLOOKUP(DL31,Comments4,2,FALSE)))))))","v":""},{"$f":"COUNTIF(DL$8:DL31,OK)+COUNTIF(DL$8:DL31,RDGfix)+COUNTIF(DL$8:DL31,RDGave)+COUNTIF(DL$8:DL31,RDGevent)","v":0},null,{"$f":"IF(DO31=\"\",\"\",OK)","v":""},{"$f":"IF(DO31=\"\",\"\",IF(AND(DP$7=\"L\",$C$33>0, DP31=\"DNC\"),$I$2,IF(DP31=OK,DR31,IF(HLOOKUP(DP31,Comments3,2,FALSE)=D,DR$7,IF(HLOOKUP(DP31,Comments3,2,FALSE)=A,VLOOKUP(DO31,Averages,DO$4,FALSE),IF(HLOOKUP(DP31,Comments3,2,FALSE)=E,VLOOKUP(DO31,EventAverage,2,FALSE),HLOOKUP(DP31,Comments4,2,FALSE)))))))","v":""},{"$f":"COUNTIF(DP$8:DP31,OK)+COUNTIF(DP$8:DP31,RDGfix)+COUNTIF(DP$8:DP31,RDGave)+COUNTIF(DP$8:DP31,RDGevent)","v":0},null,{"$f":"IF(DS31=\"\",\"\",OK)","v":""},{"$f":"IF(DS31=\"\",\"\",IF(AND(DT$7=\"L\",$C$33>0, DT31=\"DNC\"),$I$2,IF(DT31=OK,DV31,IF(HLOOKUP(DT31,Comments3,2,FALSE)=D,DV$7,IF(HLOOKUP(DT31,Comments3,2,FALSE)=A,VLOOKUP(DS31,Averages,DS$4,FALSE),IF(HLOOKUP(DT31,Comments3,2,FALSE)=E,VLOOKUP(DS31,EventAverage,2,FALSE),HLOOKUP(DT31,Comments4,2,FALSE)))))))","v":""},{"$f":"COUNTIF(DT$8:DT31,OK)+COUNTIF(DT$8:DT31,RDGfix)+COUNTIF(DT$8:DT31,RDGave)+COUNTIF(DT$8:DT31,RDGevent)","v":0},null,{"$f":"IF(DW31=\"\",\"\",OK)","v":""},{"$f":"IF(DW31=\"\",\"\",IF(AND(DX$7=\"L\",$C$33>0, DX31=\"DNC\"),$I$2,IF(DX31=OK,DZ31,IF(HLOOKUP(DX31,Comments3,2,FALSE)=D,DZ$7,IF(HLOOKUP(DX31,Comments3,2,FALSE)=A,VLOOKUP(DW31,Averages,DW$4,FALSE),IF(HLOOKUP(DX31,Comments3,2,FALSE)=E,VLOOKUP(DW31,EventAverage,2,FALSE),HLOOKUP(DX31,Comments4,2,FALSE)))))))","v":""},{"$f":"COUNTIF(DX$8:DX31,OK)+COUNTIF(DX$8:DX31,RDGfix)+COUNTIF(DX$8:DX31,RDGave)+COUNTIF(DX$8:DX31,RDGevent)","v":0},null,{"$f":"IF(EA31=\"\",\"\",OK)","v":""},{"$f":"IF(EA31=\"\",\"\",IF(AND(EB$7=\"L\",$C$33>0, EB31=\"DNC\"),$I$2,IF(EB31=OK,ED31,IF(HLOOKUP(EB31,Comments3,2,FALSE)=D,ED$7,IF(HLOOKUP(EB31,Comments3,2,FALSE)=A,VLOOKUP(EA31,Averages,EA$4,FALSE),IF(HLOOKUP(EB31,Comments3,2,FALSE)=E,VLOOKUP(EA31,EventAverage,2,FALSE),HLOOKUP(EB31,Comments4,2,FALSE)))))))","v":""},{"$f":"COUNTIF(EB$8:EB31,OK)+COUNTIF(EB$8:EB31,RDGfix)+COUNTIF(EB$8:EB31,RDGave)+COUNTIF(EB$8:EB31,RDGevent)","v":0},null,{"$f":"IF(EE31=\"\",\"\",OK)","v":""},{"$f":"IF(EE31=\"\",\"\",IF(AND(EF$7=\"L\",$C$33>0, EF31=\"DNC\"),$I$2,IF(EF31=OK,EH31,IF(HLOOKUP(EF31,Comments3,2,FALSE)=D,EH$7,IF(HLOOKUP(EF31,Comments3,2,FALSE)=A,VLOOKUP(EE31,Averages,EE$4,FALSE),IF(HLOOKUP(EF31,Comments3,2,FALSE)=E,VLOOKUP(EE31,EventAverage,2,FALSE),HLOOKUP(EF31,Comments4,2,FALSE)))))))","v":""},{"$f":"COUNTIF(EF$8:EF31,OK)+COUNTIF(EF$8:EF31,RDGfix)+COUNTIF(EF$8:EF31,RDGave)+COUNTIF(EF$8:EF31,RDGevent)","v":0},null,{"$f":"IF(EI31=\"\",\"\",OK)","v":""},{"$f":"IF(EI31=\"\",\"\",IF(AND(EJ$7=\"L\",$C$33>0, EJ31=\"DNC\"),$I$2,IF(EJ31=OK,EL31,IF(HLOOKUP(EJ31,Comments3,2,FALSE)=D,EL$7,IF(HLOOKUP(EJ31,Comments3,2,FALSE)=A,VLOOKUP(EI31,Averages,EI$4,FALSE),IF(HLOOKUP(EJ31,Comments3,2,FALSE)=E,VLOOKUP(EI31,EventAverage,2,FALSE),HLOOKUP(EJ31,Comments4,2,FALSE)))))))","v":""},{"$f":"COUNTIF(EJ$8:EJ31,OK)+COUNTIF(EJ$8:EJ31,RDGfix)+COUNTIF(EJ$8:EJ31,RDGave)+COUNTIF(EJ$8:EJ31,RDGevent)","v":0},null,{"$f":"IF(EM31=\"\",\"\",OK)","v":""},{"$f":"IF(EM31=\"\",\"\",IF(AND(EN$7=\"L\",$C$33>0, EN31=\"DNC\"),$I$2,IF(EN31=OK,EP31,IF(HLOOKUP(EN31,Comments3,2,FALSE)=D,EP$7,IF(HLOOKUP(EN31,Comments3,2,FALSE)=A,VLOOKUP(EM31,Averages,EM$4,FALSE),IF(HLOOKUP(EN31,Comments3,2,FALSE)=E,VLOOKUP(EM31,EventAverage,2,FALSE),HLOOKUP(EN31,Comments4,2,FALSE)))))))","v":""},{"$f":"COUNTIF(EN$8:EN31,OK)+COUNTIF(EN$8:EN31,RDGfix)+COUNTIF(EN$8:EN31,RDGave)+COUNTIF(EN$8:EN31,RDGevent)","v":0},null,{"$f":"IF(EQ31=\"\",\"\",OK)","v":""},{"$f":"IF(EQ31=\"\",\"\",IF(AND(ER$7=\"L\",$C$33>0, ER31=\"DNC\"),$I$2,IF(ER31=OK,ET31,IF(HLOOKUP(ER31,Comments3,2,FALSE)=D,ET$7,IF(HLOOKUP(ER31,Comments3,2,FALSE)=A,VLOOKUP(EQ31,Averages,EQ$4,FALSE),IF(HLOOKUP(ER31,Comments3,2,FALSE)=E,VLOOKUP(EQ31,EventAverage,2,FALSE),HLOOKUP(ER31,Comments4,2,FALSE)))))))","v":""},{"$f":"COUNTIF(ER$8:ER31,OK)+COUNTIF(ER$8:ER31,RDGfix)+COUNTIF(ER$8:ER31,RDGave)+COUNTIF(ER$8:ER31,RDGevent)","v":0},null,{"$f":"IF(EU31=\"\",\"\",OK)","v":""},{"$f":"IF(EU31=\"\",\"\",IF(AND(EV$7=\"L\",$C$33>0, EV31=\"DNC\"),$I$2,IF(EV31=OK,EX31,IF(HLOOKUP(EV31,Comments3,2,FALSE)=D,EX$7,IF(HLOOKUP(EV31,Comments3,2,FALSE)=A,VLOOKUP(EU31,Averages,EU$4,FALSE),IF(HLOOKUP(EV31,Comments3,2,FALSE)=E,VLOOKUP(EU31,EventAverage,2,FALSE),HLOOKUP(EV31,Comments4,2,FALSE)))))))","v":""},{"$f":"COUNTIF(EV$8:EV31,OK)+COUNTIF(EV$8:EV31,RDGfix)+COUNTIF(EV$8:EV31,RDGave)+COUNTIF(EV$8:EV31,RDGevent)","v":0},null,{"$f":"IF(EY31=\"\",\"\",OK)","v":""},{"$f":"IF(EY31=\"\",\"\",IF(AND(EZ$7=\"L\",$C$33>0, EZ31=\"DNC\"),$I$2,IF(EZ31=OK,FB31,IF(HLOOKUP(EZ31,Comments3,2,FALSE)=D,FB$7,IF(HLOOKUP(EZ31,Comments3,2,FALSE)=A,VLOOKUP(EY31,Averages,EY$4,FALSE),IF(HLOOKUP(EZ31,Comments3,2,FALSE)=E,VLOOKUP(EY31,EventAverage,2,FALSE),HLOOKUP(EZ31,Comments4,2,FALSE)))))))","v":""},{"$f":"COUNTIF(EZ$8:EZ31,OK)+COUNTIF(EZ$8:EZ31,RDGfix)+COUNTIF(EZ$8:EZ31,RDGave)+COUNTIF(EZ$8:EZ31,RDGevent)","v":0},null,{"$f":"IF(FC31=\"\",\"\",OK)","v":""},{"$f":"IF(FC31=\"\",\"\",IF(AND(FD$7=\"L\",$C$33>0, FD31=\"DNC\"),$I$2,IF(FD31=OK,FF31,IF(HLOOKUP(FD31,Comments3,2,FALSE)=D,FF$7,IF(HLOOKUP(FD31,Comments3,2,FALSE)=A,VLOOKUP(FC31,Averages,FC$4,FALSE),IF(HLOOKUP(FD31,Comments3,2,FALSE)=E,VLOOKUP(FC31,EventAverage,2,FALSE),HLOOKUP(FD31,Comments4,2,FALSE)))))))","v":""},{"$f":"COUNTIF(FD$8:FD31,OK)+COUNTIF(FD$8:FD31,RDGfix)+COUNTIF(FD$8:FD31,RDGave)+COUNTIF(FD$8:FD31,RDGevent)","v":0},null,{"$f":"IF(FG31=\"\",\"\",OK)","v":""},{"$f":"IF(FG31=\"\",\"\",IF(AND(FH$7=\"L\",$C$33>0, FH31=\"DNC\"),$I$2,IF(FH31=OK,FJ31,IF(HLOOKUP(FH31,Comments3,2,FALSE)=D,FJ$7,IF(HLOOKUP(FH31,Comments3,2,FALSE)=A,VLOOKUP(FG31,Averages,FG$4,FALSE),IF(HLOOKUP(FH31,Comments3,2,FALSE)=E,VLOOKUP(FG31,EventAverage,2,FALSE),HLOOKUP(FH31,Comments4,2,FALSE)))))))","v":""},{"$f":"COUNTIF(FH$8:FH31,OK)+COUNTIF(FH$8:FH31,RDGfix)+COUNTIF(FH$8:FH31,RDGave)+COUNTIF(FH$8:FH31,RDGevent)","v":0},null,1]
[null,"Heat B",{"$f":"COUNTA(C33:C56)","v":0},null,{"$f":"COUNTIF(D33:D56,\"WDN\")","v":0},{"$f":"C32-E32","v":0},{"$f":"COUNTA(G37:G56)","v":0},{"$f":"IF(AND(NOT(H7=\"L\"),G58=\"\"),\"L\",\"\")","v":""},{"$f":"COUNTIF(H33:H55,\"WDN\")","v":0},{"$f":"COUNTA(G37:G56)-I32+J7","v":1},{"$f":"COUNTA(K37:K56)","v":0},{"$f":"IF(AND(NOT(L7=\"L\"),K58=\"\"),\"L\",\"\")","v":""},{"$f":"COUNTIF(L33:L55,\"WDN\")","v":0},{"$f":"COUNTA(K37:K56)-M32+N7","v":1},{"$f":"COUNTA(O37:O56)","v":0},{"$f":"IF(AND(NOT(P7=\"L\"),O58=\"\"),\"L\",\"\")","v":""},{"$f":"COUNTIF(P33:P55,\"WDN\")","v":0},{"$f":"COUNTA(O37:O56)-Q32+R7","v":1},{"$f":"COUNTA(S37:S56)","v":0},{"$f":"IF(AND(NOT(T7=\"L\"),S58=\"\"),\"L\",\"\")","v":""},{"$f":"COUNTIF(T33:T55,\"WDN\")","v":0},{"$f":"COUNTA(S37:S56)-U32+V7","v":1},{"$f":"COUNTA(W37:W56)","v":0},{"$f":"IF(AND(NOT(X7=\"L\"),W58=\"\"),\"L\",\"\")","v":""},{"$f":"COUNTIF(X33:X55,\"WDN\")","v":0},{"$f":"COUNTA(W37:W56)-Y32+Z7","v":1},{"$f":"COUNTA(AA37:AA56)","v":0},{"$f":"IF(AND(NOT(AB7=\"L\"),AA58=\"\"),\"L\",\"\")","v":""},{"$f":"COUNTIF(AB33:AB55,\"WDN\")","v":0},{"$f":"COUNTA(AA37:AA56)-AC32+AD7","v":1},{"$f":"COUNTA(AE37:AE56)","v":0},{"$f":"IF(AND(NOT(AF7=\"L\"),AE58=\"\"),\"L\",\"\")","v":""},{"$f":"COUNTIF(AF33:AF55,\"WDN\")","v":0},{"$f":"COUNTA(AE37:AE56)-AG32+AH7","v":1},{"$f":"COUNTA(AI37:AI56)","v":0},{"$f":"IF(AND(NOT(AJ7=\"L\"),AI58=\"\"),\"L\",\"\")","v":""},{"$f":"COUNTIF(AJ33:AJ55,\"WDN\")","v":0},{"$f":"COUNTA(AI37:AI56)-AK32+AL7","v":1},{"$f":"COUNTA(AM37:AM56)","v":0},{"$f":"IF(AND(NOT(AN7=\"L\"),AM58=\"\"),\"L\",\"\")","v":""},{"$f":"COUNTIF(AN33:AN55,\"WDN\")","v":0},{"$f":"COUNTA(AM37:AM56)-AO32+AP7","v":1},{"$f":"COUNTA(AQ37:AQ56)","v":0},{"$f":"IF(AND(NOT(AR7=\"L\"),AQ58=\"\"),\"L\",\"\")","v":""},{"$f":"COUNTIF(AR33:AR55,\"WDN\")","v":0},{"$f":"COUNTA(AQ37:AQ56)-AS32+AT7","v":1},{"$f":"COUNTA(AU37:AU56)","v":0},{"$f":"IF(AND(NOT(AV7=\"L\"),AU58=\"\"),\"L\",\"\")","v":""},{"$f":"COUNTIF(AV33:AV55,\"WDN\")","v":0},{"$f":"COUNTA(AU37:AU56)-AW32+AX7","v":1},{"$f":"COUNTA(AY37:AY56)","v":0},{"$f":"IF(AND(NOT(AZ7=\"L\"),AY58=\"\"),\"L\",\"\")","v":""},{"$f":"COUNTIF(AZ33:AZ55,\"WDN\")","v":0},{"$f":"COUNTA(AY37:AY56)-BA32+BB7","v":1},{"$f":"COUNTA(BC37:BC56)","v":0},{"$f":"IF(AND(NOT(BD7=\"L\"),BC58=\"\"),\"L\",\"\")","v":""},{"$f":"COUNTIF(BD33:BD55,\"WDN\")","v":0},{"$f":"COUNTA(BC37:BC56)-BE32+BF7","v":1},{"$f":"COUNTA(BG37:BG56)","v":0},{"$f":"IF(AND(NOT(BH7=\"L\"),BG58=\"\"),\"L\",\"\")","v":""},{"$f":"COUNTIF(BH33:BH55,\"WDN\")","v":0},{"$f":"COUNTA(BG37:BG56)-BI32+BJ7","v":1},{"$f":"COUNTA(BK37:BK56)","v":0},{"$f":"IF(AND(NOT(BL7=\"L\"),BK58=\"\"),\"L\",\"\")","v":""},{"$f":"COUNTIF(BL33:BL55,\"WDN\")","v":0},{"$f":"COUNTA(BK37:BK56)-BM32+BN7","v":1},{"$f":"COUNTA(BO37:BO56)","v":0},{"$f":"IF(AND(NOT(BP7=\"L\"),BO58=\"\"),\"L\",\"\")","v":""},{"$f":"COUNTIF(BP33:BP55,\"WDN\")","v":0},{"$f":"COUNTA(BO37:BO56)-BQ32+BR7","v":1},{"$f":"COUNTA(BS37:BS56)","v":0},{"$f":"IF(AND(NOT(BT7=\"L\"),BS58=\"\"),\"L\",\"\")","v":""},{"$f":"COUNTIF(BT33:BT55,\"WDN\")","v":0},{"$f":"COUNTA(BS37:BS56)-BU32+BV7","v":1},{"$f":"COUNTA(BW37:BW56)","v":0},{"$f":"IF(AND(NOT(BX7=\"L\"),BW58=\"\"),\"L\",\"\")","v":""},{"$f":"COUNTIF(BX33:BX55,\"WDN\")","v":0},{"$f":"COUNTA(BW37:BW56)-BY32+BZ7","v":1},{"$f":"COUNTA(CA37:CA56)","v":0},{"$f":"IF(AND(NOT(CB7=\"L\"),CA58=\"\"),\"L\",\"\")","v":""},{"$f":"COUNTIF(CB33:CB55,\"WDN\")","v":0},{"$f":"COUNTA(CA37:CA56)-CC32+CD7","v":1},{"$f":"COUNTA(CE37:CE56)","v":0},{"$f":"IF(AND(NOT(CF7=\"L\"),CE58=\"\"),\"L\",\"\")","v":""},{"$f":"COUNTIF(CF33:CF55,\"WDN\")","v":0},{"$f":"COUNTA(CE37:CE56)-CG32+CH7","v":1},{"$f":"COUNTA(CI37:CI56)","v":0},{"$f":"IF(AND(NOT(CJ7=\"L\"),CI58=\"\"),\"L\",\"\")","v":""},{"$f":"COUNTIF(CJ33:CJ55,\"WDN\")","v":0},{"$f":"COUNTA(CI37:CI56)-CK32+CL7","v":1},{"$f":"COUNTA(CM37:CM56)","v":0},{"$f":"IF(AND(NOT(CN7=\"L\"),CM58=\"\"),\"L\",\"\")","v":""},{"$f":"COUNTIF(CN33:CN55,\"WDN\")","v":0},{"$f":"COUNTA(CM37:CM56)-CO32+CP7","v":1},{"$f":"COUNTA(CQ37:CQ56)","v":0},{"$f":"IF(AND(NOT(CR7=\"L\"),CQ58=\"\"),\"L\",\"\")","v":""},{"$f":"COUNTIF(CR33:CR55,\"WDN\")","v":0},{"$f":"COUNTA(CQ37:CQ56)-CS32+CT7","v":1},{"$f":"COUNTA(CU37:CU56)","v":0},{"$f":"IF(AND(NOT(CV7=\"L\"),CU58=\"\"),\"L\",\"\")","v":""},{"$f":"COUNTIF(CV33:CV55,\"WDN\")","v":0},{"$f":"COUNTA(CU37:CU56)-CW32+CX7","v":1},{"$f":"COUNTA(CY37:CY56)","v":0},{"$f":"IF(AND(NOT(CZ7=\"L\"),CY58=\"\"),\"L\",\"\")","v":""},{"$f":"COUNTIF(CZ33:CZ55,\"WDN\")","v":0},{"$f":"COUNTA(CY37:CY56)-DA32+DB7","v":1},{"$f":"COUNTA(DC37:DC56)","v":0},{"$f":"IF(AND(NOT(DD7=\"L\"),DC58=\"\"),\"L\",\"\")","v":""},{"$f":"COUNTIF(DD33:DD55,\"WDN\")","v":0},{"$f":"COUNTA(DC37:DC56)-DE32+DF7","v":1},{"$f":"COUNTA(DG37:DG56)","v":0},{"$f":"IF(AND(NOT(DH7=\"L\"),DG58=\"\"),\"L\",\"\")","v":""},{"$f":"COUNTIF(DH33:DH55,\"WDN\")","v":0},{"$f":"COUNTA(DG37:DG56)-DI32+DJ7","v":1},{"$f":"COUNTA(DK37:DK56)","v":0},{"$f":"IF(AND(NOT(DL7=\"L\"),DK58=\"\"),\"L\",\"\")","v":""},{"$f":"COUNTIF(DL33:DL55,\"WDN\")","v":0},{"$f":"COUNTA(DK37:DK56)-DM32+DN7","v":1},{"$f":"COUNTA(DO37:DO56)","v":0},{"$f":"IF(AND(NOT(DP7=\"L\"),DO58=\"\"),\"L\",\"\")","v":""},{"$f":"COUNTIF(DP33:DP55,\"WDN\")","v":0},{"$f":"COUNTA(DO37:DO56)-DQ32+DR7","v":1},{"$f":"COUNTA(DS37:DS56)","v":0},{"$f":"IF(AND(NOT(DT7=\"L\"),DS58=\"\"),\"L\",\"\")","v":""},{"$f":"COUNTIF(DT33:DT55,\"WDN\")","v":0},{"$f":"COUNTA(DS37:DS56)-DU32+DV7","v":1},{"$f":"COUNTA(DW37:DW56)","v":0},{"$f":"IF(AND(NOT(DX7=\"L\"),DW58=\"\"),\"L\",\"\")","v":""},{"$f":"COUNTIF(DX33:DX55,\"WDN\")","v":0},{"$f":"COUNTA(DW37:DW56)-DY32+DZ7","v":1},{"$f":"COUNTA(EA37:EA56)","v":0},{"$f":"IF(AND(NOT(EB7=\"L\"),EA58=\"\"),\"L\",\"\")","v":""},{"$f":"COUNTIF(EB33:EB55,\"WDN\")","v":0},{"$f":"COUNTA(EA37:EA56)-EC32+ED7","v":1},{"$f":"COUNTA(EE37:EE56)","v":0},{"$f":"IF(AND(NOT(EF7=\"L\"),EE58=\"\"),\"L\",\"\")","v":""},{"$f":"COUNTIF(EF33:EF55,\"WDN\")","v":0},{"$f":"COUNTA(EE37:EE56)-EG32+EH7","v":1},{"$f":"COUNTA(EI37:EI56)","v":0},{"$f":"IF(AND(NOT(EJ7=\"L\"),EI58=\"\"),\"L\",\"\")","v":""},{"$f":"COUNTIF(EJ33:EJ55,\"WDN\")","v":0},{"$f":"COUNTA(EI37:EI56)-EK32+EL7","v":1},{"$f":"COUNTA(EM37:EM56)","v":0},{"$f":"IF(AND(NOT(EN7=\"L\"),EM58=\"\"),\"L\",\"\")","v":""},{"$f":"COUNTIF(EN33:EN55,\"WDN\")","v":0},{"$f":"COUNTA(EM37:EM56)-EO32+EP7","v":1},{"$f":"COUNTA(EQ37:EQ56)","v":0},{"$f":"IF(AND(NOT(ER7=\"L\"),EQ58=\"\"),\"L\",\"\")","v":""},{"$f":"COUNTIF(ER33:ER55,\"WDN\")","v":0},{"$f":"COUNTA(EQ37:EQ56)-ES32+ET7","v":1},{"$f":"COUNTA(EU37:EU56)","v":0},{"$f":"IF(AND(NOT(EV7=\"L\"),EU58=\"\"),\"L\",\"\")","v":""},{"$f":"COUNTIF(EV33:EV55,\"WDN\")","v":0},{"$f":"COUNTA(EU37:EU56)-EW32+EX7","v":1},{"$f":"COUNTA(EY37:EY56)","v":0},{"$f":"IF(AND(NOT(EZ7=\"L\"),EY58=\"\"),\"L\",\"\")","v":""},{"$f":"COUNTIF(EZ33:EZ55,\"WDN\")","v":0},{"$f":"COUNTA(EY37:EY56)-FA32+FB7","v":1},{"$f":"COUNTA(FC37:FC56)","v":0},{"$f":"IF(AND(NOT(FD7=\"L\"),FC58=\"\"),\"L\",\"\")","v":""},{"$f":"COUNTIF(FD33:FD55,\"WDN\")","v":0},{"$f":"COUNTA(FC37:FC56)-FE32+FF7","v":1},{"$f":"COUNTA(FG37:FG56)","v":0},{"$f":"IF(AND(NOT(FH7=\"L\"),FG58=\"\"),\"L\",\"\")","v":""},{"$f":"COUNTIF(FH33:FH55,\"WDN\")","v":0},{"$f":"COUNTA(FG37:FG56)-FI32+FJ7","v":1},null,1]
[null,"1st",null,{"$f":"IF(C33=\"\",\"\",OK)","v":""},{"$f":"IF(C33=0,\"\",IF(D33=OK,F33,IF(HLOOKUP(D33,Comments3,3,FALSE)=M,F$159,IF(HLOOKUP(D33,Comments3,3,FALSE)=S,VLOOKUP(C33,EventAverage,2,FALSE),HLOOKUP(D33,Comments3,3,FALSE)))))","v":""},{"$f":"COUNTIF(D$33:D33,OK)+COUNTIF(D$33:D33,RDGfix)+COUNTIF(D$33:D33,RDGave)+COUNTIF(D$33:D33,RDGevent)","v":0},null,{"$f":"IF(G33=\"\",\"\",UP)","v":""},{"$f":"IF(G33=0,\"\",#N/A)","v":""},{"$f":"COUNTIF(H$33:H33,OK)+COUNTIF(H$33:H33,RDGfix)+COUNTIF(H$33:H33,RDGave)+COUNTIF(H$33:H33,RDGevent)+J$7-1","v":0},null,{"$f":"IF(K33=\"\",\"\",UP)","v":""},{"$f":"IF(K33=0,\"\",#N/A)","v":""},{"$f":"COUNTIF(L$33:L33,OK)+COUNTIF(L$33:L33,RDGfix)+COUNTIF(L$33:L33,RDGave)+N$7-1","v":0},null,{"$f":"IF(O33=\"\",\"\",UP)","v":""},{"$f":"IF(O33=0,\"\",#N/A)","v":""},{"$f":"COUNTIF(P$33:P33,OK)+COUNTIF(P$33:P33,RDGfix)+COUNTIF(P$33:P33,RDGave)+R$7-1","v":0},null,{"$f":"IF(S33=\"\",\"\",UP)","v":""},{"$f":"IF(S33=0,\"\",#N/A)","v":""},{"$f":"COUNTIF(T$33:T33,OK)+COUNTIF(T$33:T33,RDGfix)+COUNTIF(T$33:T33,RDGave)+V$7-1","v":0},null,{"$f":"IF(W33=\"\",\"\",UP)","v":""},{"$f":"IF(W33=0,\"\",#N/A)","v":""},{"$f":"COUNTIF(X$33:X33,OK)+COUNTIF(X$33:X33,RDGfix)+COUNTIF(X$33:X33,RDGave)+Z$7-1","v":0},null,{"$f":"IF(AA33=\"\",\"\",UP)","v":""},{"$f":"IF(AA33=0,\"\",#N/A)","v":""},{"$f":"COUNTIF(AB$33:AB33,OK)+COUNTIF(AB$33:AB33,RDGfix)+COUNTIF(AB$33:AB33,RDGave)+AD$7-1","v":0},null,{"$f":"IF(AE33=\"\",\"\",UP)","v":""},{"$f":"IF(AE33=0,\"\",#N/A)","v":""},{"$f":"COUNTIF(AF$33:AF33,OK)+COUNTIF(AF$33:AF33,RDGfix)+COUNTIF(AF$33:AF33,RDGave)+AH$7-1","v":0},null,{"$f":"IF(AI33=\"\",\"\",UP)","v":""},{"$f":"IF(AI33=0,\"\",#N/A)","v":""},{"$f":"COUNTIF(AJ$33:AJ33,OK)+COUNTIF(AJ$33:AJ33,RDGfix)+COUNTIF(AJ$33:AJ33,RDGave)+AL$7-1","v":0},null,{"$f":"IF(AM33=\"\",\"\",UP)","v":""},{"$f":"IF(AM33=0,\"\",#N/A)","v":""},{"$f":"COUNTIF(AN$33:AN33,OK)+COUNTIF(AN$33:AN33,RDGfix)+COUNTIF(AN$33:AN33,RDGave)+AP$7-1","v":0},null,{"$f":"IF(AQ33=\"\",\"\",UP)","v":""},{"$f":"IF(AQ33=0,\"\",#N/A)","v":""},{"$f":"COUNTIF(AR$33:AR33,OK)+COUNTIF(AR$33:AR33,RDGfix)+COUNTIF(AR$33:AR33,RDGave)+AT$7-1","v":0},null,{"$f":"IF(AU33=\"\",\"\",UP)","v":""},{"$f":"IF(AU33=0,\"\",#N/A)","v":""},{"$f":"COUNTIF(AV$33:AV33,OK)+COUNTIF(AV$33:AV33,RDGfix)+COUNTIF(AV$33:AV33,RDGave)+AX$7-1","v":0},null,{"$f":"IF(AY33=\"\",\"\",UP)","v":""},{"$f":"IF(AY33=0,\"\",#N/A)","v":""},{"$f":"COUNTIF(AZ$33:AZ33,OK)+COUNTIF(AZ$33:AZ33,RDGfix)+COUNTIF(AZ$33:AZ33,RDGave)+BB$7-1","v":0},null,{"$f":"IF(BC33=\"\",\"\",UP)","v":""},{"$f":"IF(BC33=0,\"\",#N/A)","v":""},{"$f":"COUNTIF(BD$33:BD33,OK)+COUNTIF(BD$33:BD33,RDGfix)+COUNTIF(BD$33:BD33,RDGave)+BF$7-1","v":0},null,{"$f":"IF(BG33=\"\",\"\",UP)","v":""},{"$f":"IF(BG33=0,\"\",#N/A)","v":""},{"$f":"COUNTIF(BH$33:BH33,OK)+COUNTIF(BH$33:BH33,RDGfix)+COUNTIF(BH$33:BH33,RDGave)+BJ$7-1","v":0},null,{"$f":"IF(BK33=\"\",\"\",UP)","v":""},{"$f":"IF(BK33=0,\"\",#N/A)","v":""},{"$f":"COUNTIF(BL$33:BL33,OK)+COUNTIF(BL$33:BL33,RDGfix)+COUNTIF(BL$33:BL33,RDGave)+BN$7-1","v":0},null,{"$f":"IF(BO33=\"\",\"\",UP)","v":""},{"$f":"IF(BO33=0,\"\",#N/A)","v":""},{"$f":"COUNTIF(BP$33:BP33,OK)+COUNTIF(BP$33:BP33,RDGfix)+COUNTIF(BP$33:BP33,RDGave)+BR$7-1","v":0},null,{"$f":"IF(BS33=\"\",\"\",UP)","v":""},{"$f":"IF(BS33=0,\"\",#N/A)","v":""},{"$f":"COUNTIF(BT$33:BT33,OK)+COUNTIF(BT$33:BT33,RDGfix)+COUNTIF(BT$33:BT33,RDGave)+BV$7-1","v":0},null,{"$f":"IF(BW33=\"\",\"\",UP)","v":""},{"$f":"IF(BW33=0,\"\",#N/A)","v":""},{"$f":"COUNTIF(BX$33:BX33,OK)+COUNTIF(BX$33:BX33,RDGfix)+COUNTIF(BX$33:BX33,RDGave)+BZ$7-1","v":0},null,{"$f":"IF(CA33=\"\",\"\",UP)","v":""},{"$f":"IF(CA33=0,\"\",#N/A)","v":""},{"$f":"COUNTIF(CB$33:CB33,OK)+COUNTIF(CB$33:CB33,RDGfix)+COUNTIF(CB$33:CB33,RDGave)+CD$7-1","v":0},null,{"$f":"IF(CE33=\"\",\"\",UP)","v":""},{"$f":"IF(CE33=0,\"\",#N/A)","v":""},{"$f":"COUNTIF(CF$33:CF33,OK)+COUNTIF(CF$33:CF33,RDGfix)+COUNTIF(CF$33:CF33,RDGave)+CH$7-1","v":0},null,{"$f":"IF(CI33=\"\",\"\",UP)","v":""},{"$f":"IF(CI33=0,\"\",#N/A)","v":""},{"$f":"COUNTIF(CJ$33:CJ33,OK)+COUNTIF(CJ$33:CJ33,RDGfix)+COUNTIF(CJ$33:CJ33,RDGave)+CL$7-1","v":0},null,{"$f":"IF(CM33=\"\",\"\",UP)","v":""},{"$f":"IF(CM33=0,\"\",#N/A)","v":""},{"$f":"COUNTIF(CN$33:CN33,OK)+COUNTIF(CN$33:CN33,RDGfix)+COUNTIF(CN$33:CN33,RDGave)+CP$7-1","v":0},null,{"$f":"IF(CQ33=\"\",\"\",UP)","v":""},{"$f":"IF(CQ33=0,\"\",#N/A)","v":""},{"$f":"COUNTIF(CR$33:CR33,OK)+COUNTIF(CR$33:CR33,RDGfix)+COUNTIF(CR$33:CR33,RDGave)+CT$7-1","v":0},null,{"$f":"IF(CU33=\"\",\"\",UP)","v":""},{"$f":"IF(CU33=0,\"\",#N/A)","v":""},{"$f":"COUNTIF(CV$33:CV33,OK)+COUNTIF(CV$33:CV33,RDGfix)+COUNTIF(CV$33:CV33,RDGave)+CX$7-1","v":0},null,{"$f":"IF(CY33=\"\",\"\",UP)","v":""},{"$f":"IF(CY33=0,\"\",#N/A)","v":""},{"$f":"COUNTIF(CZ$33:CZ33,OK)+COUNTIF(CZ$33:CZ33,RDGfix)+COUNTIF(CZ$33:CZ33,RDGave)+DB$7-1","v":0},null,{"$f":"IF(DC33=\"\",\"\",UP)","v":""},{"$f":"IF(DC33=0,\"\",#N/A)","v":""},{"$f":"COUNTIF(DD$33:DD33,OK)+COUNTIF(DD$33:DD33,RDGfix)+COUNTIF(DD$33:DD33,RDGave)+DF$7-1","v":0},null,{"$f":"IF(DG33=\"\",\"\",UP)","v":""},{"$f":"IF(DG33=0,\"\",#N/A)","v":""},{"$f":"COUNTIF(DH$33:DH33,OK)+COUNTIF(DH$33:DH33,RDGfix)+COUNTIF(DH$33:DH33,RDGave)+DJ$7-1","v":0},null,{"$f":"IF(DK33=\"\",\"\",UP)","v":""},{"$f":"IF(DK33=0,\"\",#N/A)","v":""},{"$f":"COUNTIF(DL$33:DL33,OK)+COUNTIF(DL$33:DL33,RDGfix)+COUNTIF(DL$33:DL33,RDGave)+DN$7-1","v":0},null,{"$f":"IF(DO33=\"\",\"\",UP)","v":""},{"$f":"IF(DO33=0,\"\",#N/A)","v":""},{"$f":"COUNTIF(DP$33:DP33,OK)+COUNTIF(DP$33:DP33,RDGfix)+COUNTIF(DP$33:DP33,RDGave)+DR$7-1","v":0},null,{"$f":"IF(DS33=\"\",\"\",UP)","v":""},{"$f":"IF(DS33=0,\"\",#N/A)","v":""},{"$f":"COUNTIF(DT$33:DT33,OK)+COUNTIF(DT$33:DT33,RDGfix)+COUNTIF(DT$33:DT33,RDGave)+DV$7-1","v":0},null,{"$f":"IF(DW33=\"\",\"\",UP)","v":""},{"$f":"IF(DW33=0,\"\",#N/A)","v":""},{"$f":"COUNTIF(DX$33:DX33,OK)+COUNTIF(DX$33:DX33,RDGfix)+COUNTIF(DX$33:DX33,RDGave)+DZ$7-1","v":0},null,{"$f":"IF(EA33=\"\",\"\",UP)","v":""},{"$f":"IF(EA33=0,\"\",#N/A)","v":""},{"$f":"COUNTIF(EB$33:EB33,OK)+COUNTIF(EB$33:EB33,RDGfix)+COUNTIF(EB$33:EB33,RDGave)+ED$7-1","v":0},null,{"$f":"IF(EE33=\"\",\"\",UP)","v":""},{"$f":"IF(EE33=0,\"\",#N/A)","v":""},{"$f":"COUNTIF(EF$33:EF33,OK)+COUNTIF(EF$33:EF33,RDGfix)+COUNTIF(EF$33:EF33,RDGave)+EH$7-1","v":0},null,{"$f":"IF(EI33=\"\",\"\",UP)","v":""},{"$f":"IF(EI33=0,\"\",#N/A)","v":""},{"$f":"COUNTIF(EJ$33:EJ33,OK)+COUNTIF(EJ$33:EJ33,RDGfix)+COUNTIF(EJ$33:EJ33,RDGave)+EL$7-1","v":0},null,{"$f":"IF(EM33=\"\",\"\",UP)","v":""},{"$f":"IF(EM33=0,\"\",#N/A)","v":""},{"$f":"COUNTIF(EN$33:EN33,OK)+COUNTIF(EN$33:EN33,RDGfix)+COUNTIF(EN$33:EN33,RDGave)+EP$7-1","v":0},null,{"$f":"IF(EQ33=\"\",\"\",UP)","v":""},{"$f":"IF(EQ33=0,\"\",#N/A)","v":""},{"$f":"COUNTIF(ER$33:ER33,OK)+COUNTIF(ER$33:ER33,RDGfix)+COUNTIF(ER$33:ER33,RDGave)+ET$7-1","v":0},null,{"$f":"IF(EU33=\"\",\"\",UP)","v":""},{"$f":"IF(EU33=0,\"\",#N/A)","v":""},{"$f":"COUNTIF(EV$33:EV33,OK)+COUNTIF(EV$33:EV33,RDGfix)+COUNTIF(EV$33:EV33,RDGave)+EX$7-1","v":0},null,{"$f":"IF(EY33=\"\",\"\",UP)","v":""},{"$f":"IF(EY33=0,\"\",#N/A)","v":""},{"$f":"COUNTIF(EZ$33:EZ33,OK)+COUNTIF(EZ$33:EZ33,RDGfix)+COUNTIF(EZ$33:EZ33,RDGave)+FB$7-1","v":0},null,{"$f":"IF(FC33=\"\",\"\",UP)","v":""},{"$f":"IF(FC33=0,\"\",#N/A)","v":""},{"$f":"COUNTIF(FD$33:FD33,OK)+COUNTIF(FD$33:FD33,RDGfix)+COUNTIF(FD$33:FD33,RDGave)+FF$7-1","v":0},null,{"$f":"IF(FG33=\"\",\"\",UP)","v":""},{"$f":"IF(FG33=0,\"\",#N/A)","v":""},{"$f":"COUNTIF(FH$33:FH33,OK)+COUNTIF(FH$33:FH33,RDGfix)+COUNTIF(FH$33:FH33,RDGave)+FJ$7-1","v":0},null,1]
[null,"2nd",null,"","",{"$f":"COUNTIF(D$33:D34,OK)+COUNTIF(D$33:D34,RDGfix)+COUNTIF(D$33:D34,RDGave)+COUNTIF(D$33:D34,RDGevent)","v":0},null,"",{"$f":"IF(G34=0,\"\",#N/A)","v":""},{"$f":"COUNTIF(H$33:H34,OK)+COUNTIF(H$33:H34,RDGfix)+COUNTIF(H$33:H34,RDGave)+COUNTIF(H$33:H34,RDGevent)+J$7-1","v":0},null,"",{"$f":"IF(K34=0,\"\",#N/A)","v":""},{"$f":"COUNTIF(L$33:L34,OK)+COUNTIF(L$33:L34,RDGfix)+COUNTIF(L$33:L34,RDGave)+N$7-1","v":0},null,"",{"$f":"IF(O34=0,\"\",#N/A)","v":""},{"$f":"COUNTIF(P$33:P34,OK)+COUNTIF(P$33:P34,RDGfix)+COUNTIF(P$33:P34,RDGave)+R$7-1","v":0},null,"",{"$f":"IF(S34=0,\"\",#N/A)","v":""},{"$f":"COUNTIF(T$33:T34,OK)+COUNTIF(T$33:T34,RDGfix)+COUNTIF(T$33:T34,RDGave)+V$7-1","v":0},null,"",{"$f":"IF(W34=0,\"\",#N/A)","v":""},{"$f":"COUNTIF(X$33:X34,OK)+COUNTIF(X$33:X34,RDGfix)+COUNTIF(X$33:X34,RDGave)+Z$7-1","v":0},null,"",{"$f":"IF(AA34=0,\"\",#N/A)","v":""},{"$f":"COUNTIF(AB$33:AB34,OK)+COUNTIF(AB$33:AB34,RDGfix)+COUNTIF(AB$33:AB34,RDGave)+AD$7-1","v":0},null,"",{"$f":"IF(AE34=0,\"\",#N/A)","v":""},{"$f":"COUNTIF(AF$33:AF34,OK)+COUNTIF(AF$33:AF34,RDGfix)+COUNTIF(AF$33:AF34,RDGave)+AH$7-1","v":0},null,"",{"$f":"IF(AI34=0,\"\",#N/A)","v":""},{"$f":"COUNTIF(AJ$33:AJ34,OK)+COUNTIF(AJ$33:AJ34,RDGfix)+COUNTIF(AJ$33:AJ34,RDGave)+AL$7-1","v":0},null,"",{"$f":"IF(AM34=0,\"\",#N/A)","v":""},{"$f":"COUNTIF(AN$33:AN34,OK)+COUNTIF(AN$33:AN34,RDGfix)+COUNTIF(AN$33:AN34,RDGave)+AP$7-1","v":0},null,"",{"$f":"IF(AQ34=0,\"\",#N/A)","v":""},{"$f":"COUNTIF(AR$33:AR34,OK)+COUNTIF(AR$33:AR34,RDGfix)+COUNTIF(AR$33:AR34,RDGave)+AT$7-1","v":0},null,"",{"$f":"IF(AU34=0,\"\",#N/A)","v":""},{"$f":"COUNTIF(AV$33:AV34,OK)+COUNTIF(AV$33:AV34,RDGfix)+COUNTIF(AV$33:AV34,RDGave)+AX$7-1","v":0},null,"",{"$f":"IF(AY34=0,\"\",#N/A)","v":""},{"$f":"COUNTIF(AZ$33:AZ34,OK)+COUNTIF(AZ$33:AZ34,RDGfix)+COUNTIF(AZ$33:AZ34,RDGave)+BB$7-1","v":0},null,"",{"$f":"IF(BC34=0,\"\",#N/A)","v":""},{"$f":"COUNTIF(BD$33:BD34,OK)+COUNTIF(BD$33:BD34,RDGfix)+COUNTIF(BD$33:BD34,RDGave)+BF$7-1","v":0},null,"",{"$f":"IF(BG34=0,\"\",#N/A)","v":""},{"$f":"COUNTIF(BH$33:BH34,OK)+COUNTIF(BH$33:BH34,RDGfix)+COUNTIF(BH$33:BH34,RDGave)+BJ$7-1","v":0},null,"",{"$f":"IF(BK34=0,\"\",#N/A)","v":""},{"$f":"COUNTIF(BL$33:BL34,OK)+COUNTIF(BL$33:BL34,RDGfix)+COUNTIF(BL$33:BL34,RDGave)+BN$7-1","v":0},null,"",{"$f":"IF(BO34=0,\"\",#N/A)","v":""},{"$f":"COUNTIF(BP$33:BP34,OK)+COUNTIF(BP$33:BP34,RDGfix)+COUNTIF(BP$33:BP34,RDGave)+BR$7-1","v":0},null,"",{"$f":"IF(BS34=0,\"\",#N/A)","v":""},{"$f":"COUNTIF(BT$33:BT34,OK)+COUNTIF(BT$33:BT34,RDGfix)+COUNTIF(BT$33:BT34,RDGave)+BV$7-1","v":0},null,"",{"$f":"IF(BW34=0,\"\",#N/A)","v":""},{"$f":"COUNTIF(BX$33:BX34,OK)+COUNTIF(BX$33:BX34,RDGfix)+COUNTIF(BX$33:BX34,RDGave)+BZ$7-1","v":0},null,"",{"$f":"IF(CA34=0,\"\",#N/A)","v":""},{"$f":"COUNTIF(CB$33:CB34,OK)+COUNTIF(CB$33:CB34,RDGfix)+COUNTIF(CB$33:CB34,RDGave)+CD$7-1","v":0},null,"",{"$f":"IF(CE34=0,\"\",#N/A)","v":""},{"$f":"COUNTIF(CF$33:CF34,OK)+COUNTIF(CF$33:CF34,RDGfix)+COUNTIF(CF$33:CF34,RDGave)+CH$7-1","v":0},null,"",{"$f":"IF(CI34=0,\"\",#N/A)","v":""},{"$f":"COUNTIF(CJ$33:CJ34,OK)+COUNTIF(CJ$33:CJ34,RDGfix)+COUNTIF(CJ$33:CJ34,RDGave)+CL$7-1","v":0},null,"",{"$f":"IF(CM34=0,\"\",#N/A)","v":""},{"$f":"COUNTIF(CN$33:CN34,OK)+COUNTIF(CN$33:CN34,RDGfix)+COUNTIF(CN$33:CN34,RDGave)+CP$7-1","v":0},null,"",{"$f":"IF(CQ34=0,\"\",#N/A)","v":""},{"$f":"COUNTIF(CR$33:CR34,OK)+COUNTIF(CR$33:CR34,RDGfix)+COUNTIF(CR$33:CR34,RDGave)+CT$7-1","v":0},null,"",{"$f":"IF(CU34=0,\"\",#N/A)","v":""},{"$f":"COUNTIF(CV$33:CV34,OK)+COUNTIF(CV$33:CV34,RDGfix)+COUNTIF(CV$33:CV34,RDGave)+CX$7-1","v":0},null,"",{"$f":"IF(CY34=0,\"\",#N/A)","v":""},{"$f":"COUNTIF(CZ$33:CZ34,OK)+COUNTIF(CZ$33:CZ34,RDGfix)+COUNTIF(CZ$33:CZ34,RDGave)+DB$7-1","v":0},null,"",{"$f":"IF(DC34=0,\"\",#N/A)","v":""},{"$f":"COUNTIF(DD$33:DD34,OK)+COUNTIF(DD$33:DD34,RDGfix)+COUNTIF(DD$33:DD34,RDGave)+DF$7-1","v":0},null,"",{"$f":"IF(DG34=0,\"\",#N/A)","v":""},{"$f":"COUNTIF(DH$33:DH34,OK)+COUNTIF(DH$33:DH34,RDGfix)+COUNTIF(DH$33:DH34,RDGave)+DJ$7-1","v":0},null,"",{"$f":"IF(DK34=0,\"\",#N/A)","v":""},{"$f":"COUNTIF(DL$33:DL34,OK)+COUNTIF(DL$33:DL34,RDGfix)+COUNTIF(DL$33:DL34,RDGave)+DN$7-1","v":0},null,"",{"$f":"IF(DO34=0,\"\",#N/A)","v":""},{"$f":"COUNTIF(DP$33:DP34,OK)+COUNTIF(DP$33:DP34,RDGfix)+COUNTIF(DP$33:DP34,RDGave)+DR$7-1","v":0},null,"",{"$f":"IF(DS34=0,\"\",#N/A)","v":""},{"$f":"COUNTIF(DT$33:DT34,OK)+COUNTIF(DT$33:DT34,RDGfix)+COUNTIF(DT$33:DT34,RDGave)+DV$7-1","v":0},null,"",{"$f":"IF(DW34=0,\"\",#N/A)","v":""},{"$f":"COUNTIF(DX$33:DX34,OK)+COUNTIF(DX$33:DX34,RDGfix)+COUNTIF(DX$33:DX34,RDGave)+DZ$7-1","v":0},null,"",{"$f":"IF(EA34=0,\"\",#N/A)","v":""},{"$f":"COUNTIF(EB$33:EB34,OK)+COUNTIF(EB$33:EB34,RDGfix)+COUNTIF(EB$33:EB34,RDGave)+ED$7-1","v":0},null,"",{"$f":"IF(EE34=0,\"\",#N/A)","v":""},{"$f":"COUNTIF(EF$33:EF34,OK)+COUNTIF(EF$33:EF34,RDGfix)+COUNTIF(EF$33:EF34,RDGave)+EH$7-1","v":0},null,"",{"$f":"IF(EI34=0,\"\",#N/A)","v":""},{"$f":"COUNTIF(EJ$33:EJ34,OK)+COUNTIF(EJ$33:EJ34,RDGfix)+COUNTIF(EJ$33:EJ34,RDGave)+EL$7-1","v":0},null,"",{"$f":"IF(EM34=0,\"\",#N/A)","v":""},{"$f":"COUNTIF(EN$33:EN34,OK)+COUNTIF(EN$33:EN34,RDGfix)+COUNTIF(EN$33:EN34,RDGave)+EP$7-1","v":0},null,"",{"$f":"IF(EQ34=0,\"\",#N/A)","v":""},{"$f":"COUNTIF(ER$33:ER34,OK)+COUNTIF(ER$33:ER34,RDGfix)+COUNTIF(ER$33:ER34,RDGave)+ET$7-1","v":0},null,"",{"$f":"IF(EU34=0,\"\",#N/A)","v":""},{"$f":"COUNTIF(EV$33:EV34,OK)+COUNTIF(EV$33:EV34,RDGfix)+COUNTIF(EV$33:EV34,RDGave)+EX$7-1","v":0},null,"",{"$f":"IF(EY34=0,\"\",#N/A)","v":""},{"$f":"COUNTIF(EZ$33:EZ34,OK)+COUNTIF(EZ$33:EZ34,RDGfix)+COUNTIF(EZ$33:EZ34,RDGave)+FB$7-1","v":0},null,"",{"$f":"IF(FC34=0,\"\",#N/A)","v":""},{"$f":"COUNTIF(FD$33:FD34,OK)+COUNTIF(FD$33:FD34,RDGfix)+COUNTIF(FD$33:FD34,RDGave)+FF$7-1","v":0},null,"",{"$f":"IF(FG34=0,\"\",#N/A)","v":""},{"$f":"COUNTIF(FH$33:FH34,OK)+COUNTIF(FH$33:FH34,RDGfix)+COUNTIF(FH$33:FH34,RDGave)+FJ$7-1","v":0},null,1]
[null,"3rd",null,"","",{"$f":"COUNTIF(D$33:D35,OK)+COUNTIF(D$33:D35,RDGfix)+COUNTIF(D$33:D35,RDGave)+COUNTIF(D$33:D35,RDGevent)","v":0},null,"","",{"$f":"COUNTIF(H$33:H35,OK)+COUNTIF(H$33:H35,RDGfix)+COUNTIF(H$33:H35,RDGave)+COUNTIF(H$33:H35,RDGevent)+J$7-1","v":0},null,"","",{"$f":"COUNTIF(L$33:L35,OK)+COUNTIF(L$33:L35,RDGfix)+COUNTIF(L$33:L35,RDGave)+N$7-1","v":0},null,"","",{"$f":"COUNTIF(P$33:P35,OK)+COUNTIF(P$33:P35,RDGfix)+COUNTIF(P$33:P35,RDGave)+R$7-1","v":0},null,"","",{"$f":"COUNTIF(T$33:T35,OK)+COUNTIF(T$33:T35,RDGfix)+COUNTIF(T$33:T35,RDGave)+V$7-1","v":0},null,"","",{"$f":"COUNTIF(X$33:X35,OK)+COUNTIF(X$33:X35,RDGfix)+COUNTIF(X$33:X35,RDGave)+Z$7-1","v":0},null,"","",{"$f":"COUNTIF(AB$33:AB35,OK)+COUNTIF(AB$33:AB35,RDGfix)+COUNTIF(AB$33:AB35,RDGave)+AD$7-1","v":0},null,"","",{"$f":"COUNTIF(AF$33:AF35,OK)+COUNTIF(AF$33:AF35,RDGfix)+COUNTIF(AF$33:AF35,RDGave)+AH$7-1","v":0},null,"","",{"$f":"COUNTIF(AJ$33:AJ35,OK)+COUNTIF(AJ$33:AJ35,RDGfix)+COUNTIF(AJ$33:AJ35,RDGave)+AL$7-1","v":0},null,"","",{"$f":"COUNTIF(AN$33:AN35,OK)+COUNTIF(AN$33:AN35,RDGfix)+COUNTIF(AN$33:AN35,RDGave)+AP$7-1","v":0},null,"","",{"$f":"COUNTIF(AR$33:AR35,OK)+COUNTIF(AR$33:AR35,RDGfix)+COUNTIF(AR$33:AR35,RDGave)+AT$7-1","v":0},null,"","",{"$f":"COUNTIF(AV$33:AV35,OK)+COUNTIF(AV$33:AV35,RDGfix)+COUNTIF(AV$33:AV35,RDGave)+AX$7-1","v":0},null,"","",{"$f":"COUNTIF(AZ$33:AZ35,OK)+COUNTIF(AZ$33:AZ35,RDGfix)+COUNTIF(AZ$33:AZ35,RDGave)+BB$7-1","v":0},null,"","",{"$f":"COUNTIF(BD$33:BD35,OK)+COUNTIF(BD$33:BD35,RDGfix)+COUNTIF(BD$33:BD35,RDGave)+BF$7-1","v":0},null,"","",{"$f":"COUNTIF(BH$33:BH35,OK)+COUNTIF(BH$33:BH35,RDGfix)+COUNTIF(BH$33:BH35,RDGave)+BJ$7-1","v":0},null,"","",{"$f":"COUNTIF(BL$33:BL35,OK)+COUNTIF(BL$33:BL35,RDGfix)+COUNTIF(BL$33:BL35,RDGave)+BN$7-1","v":0},null,"","",{"$f":"COUNTIF(BP$33:BP35,OK)+COUNTIF(BP$33:BP35,RDGfix)+COUNTIF(BP$33:BP35,RDGave)+BR$7-1","v":0},null,"","",{"$f":"COUNTIF(BT$33:BT35,OK)+COUNTIF(BT$33:BT35,RDGfix)+COUNTIF(BT$33:BT35,RDGave)+BV$7-1","v":0},null,"","",{"$f":"COUNTIF(BX$33:BX35,OK)+COUNTIF(BX$33:BX35,RDGfix)+COUNTIF(BX$33:BX35,RDGave)+BZ$7-1","v":0},null,"","",{"$f":"COUNTIF(CB$33:CB35,OK)+COUNTIF(CB$33:CB35,RDGfix)+COUNTIF(CB$33:CB35,RDGave)+CD$7-1","v":0},null,"","",{"$f":"COUNTIF(CF$33:CF35,OK)+COUNTIF(CF$33:CF35,RDGfix)+COUNTIF(CF$33:CF35,RDGave)+CH$7-1","v":0},null,"","",{"$f":"COUNTIF(CJ$33:CJ35,OK)+COUNTIF(CJ$33:CJ35,RDGfix)+COUNTIF(CJ$33:CJ35,RDGave)+CL$7-1","v":0},null,"","",{"$f":"COUNTIF(CN$33:CN35,OK)+COUNTIF(CN$33:CN35,RDGfix)+COUNTIF(CN$33:CN35,RDGave)+CP$7-1","v":0},null,"","",{"$f":"COUNTIF(CR$33:CR35,OK)+COUNTIF(CR$33:CR35,RDGfix)+COUNTIF(CR$33:CR35,RDGave)+CT$7-1","v":0},null,"","",{"$f":"COUNTIF(CV$33:CV35,OK)+COUNTIF(CV$33:CV35,RDGfix)+COUNTIF(CV$33:CV35,RDGave)+CX$7-1","v":0},null,"","",{"$f":"COUNTIF(CZ$33:CZ35,OK)+COUNTIF(CZ$33:CZ35,RDGfix)+COUNTIF(CZ$33:CZ35,RDGave)+DB$7-1","v":0},null,"","",{"$f":"COUNTIF(DD$33:DD35,OK)+COUNTIF(DD$33:DD35,RDGfix)+COUNTIF(DD$33:DD35,RDGave)+DF$7-1","v":0},null,"","",{"$f":"COUNTIF(DH$33:DH35,OK)+COUNTIF(DH$33:DH35,RDGfix)+COUNTIF(DH$33:DH35,RDGave)+DJ$7-1","v":0},null,"","",{"$f":"COUNTIF(DL$33:DL35,OK)+COUNTIF(DL$33:DL35,RDGfix)+COUNTIF(DL$33:DL35,RDGave)+DN$7-1","v":0},null,"","",{"$f":"COUNTIF(DP$33:DP35,OK)+COUNTIF(DP$33:DP35,RDGfix)+COUNTIF(DP$33:DP35,RDGave)+DR$7-1","v":0},null,"","",{"$f":"COUNTIF(DT$33:DT35,OK)+COUNTIF(DT$33:DT35,RDGfix)+COUNTIF(DT$33:DT35,RDGave)+DV$7-1","v":0},null,"","",{"$f":"COUNTIF(DX$33:DX35,OK)+COUNTIF(DX$33:DX35,RDGfix)+COUNTIF(DX$33:DX35,RDGave)+DZ$7-1","v":0},null,"","",{"$f":"COUNTIF(EB$33:EB35,OK)+COUNTIF(EB$33:EB35,RDGfix)+COUNTIF(EB$33:EB35,RDGave)+ED$7-1","v":0},null,"","",{"$f":"COUNTIF(EF$33:EF35,OK)+COUNTIF(EF$33:EF35,RDGfix)+COUNTIF(EF$33:EF35,RDGave)+EH$7-1","v":0},null,"","",{"$f":"COUNTIF(EJ$33:EJ35,OK)+COUNTIF(EJ$33:EJ35,RDGfix)+COUNTIF(EJ$33:EJ35,RDGave)+EL$7-1","v":0},null,"","",{"$f":"COUNTIF(EN$33:EN35,OK)+COUNTIF(EN$33:EN35,RDGfix)+COUNTIF(EN$33:EN35,RDGave)+EP$7-1","v":0},null,"","",{"$f":"COUNTIF(ER$33:ER35,OK)+COUNTIF(ER$33:ER35,RDGfix)+COUNTIF(ER$33:ER35,RDGave)+ET$7-1","v":0},null,"","",{"$f":"COUNTIF(EV$33:EV35,OK)+COUNTIF(EV$33:EV35,RDGfix)+COUNTIF(EV$33:EV35,RDGave)+EX$7-1","v":0},null,"","",{"$f":"COUNTIF(EZ$33:EZ35,OK)+COUNTIF(EZ$33:EZ35,RDGfix)+COUNTIF(EZ$33:EZ35,RDGave)+FB$7-1","v":0},null,"","",{"$f":"COUNTIF(FD$33:FD35,OK)+COUNTIF(FD$33:FD35,RDGfix)+COUNTIF(FD$33:FD35,RDGave)+FF$7-1","v":0},null,"","",{"$f":"COUNTIF(FH$33:FH35,OK)+COUNTIF(FH$33:FH35,RDGfix)+COUNTIF(FH$33:FH35,RDGave)+FJ$7-1","v":0},null,1]
[null,"4th",null,"","",{"$f":"COUNTIF(D$33:D36,OK)+COUNTIF(D$33:D36,RDGfix)+COUNTIF(D$33:D36,RDGave)+COUNTIF(D$33:D36,RDGevent)","v":0},null,"","",{"$f":"COUNTIF(H$33:H36,OK)+COUNTIF(H$33:H36,RDGfix)+COUNTIF(H$33:H36,RDGave)+COUNTIF(H$33:H36,RDGevent)+J$7-1","v":0},null,"","",{"$f":"COUNTIF(L$33:L36,OK)+COUNTIF(L$33:L36,RDGfix)+COUNTIF(L$33:L36,RDGave)+N$7-1","v":0},null,"","",{"$f":"COUNTIF(P$33:P36,OK)+COUNTIF(P$33:P36,RDGfix)+COUNTIF(P$33:P36,RDGave)+R$7-1","v":0},null,"","",{"$f":"COUNTIF(T$33:T36,OK)+COUNTIF(T$33:T36,RDGfix)+COUNTIF(T$33:T36,RDGave)+V$7-1","v":0},null,"","",{"$f":"COUNTIF(X$33:X36,OK)+COUNTIF(X$33:X36,RDGfix)+COUNTIF(X$33:X36,RDGave)+Z$7-1","v":0},null,"","",{"$f":"COUNTIF(AB$33:AB36,OK)+COUNTIF(AB$33:AB36,RDGfix)+COUNTIF(AB$33:AB36,RDGave)+AD$7-1","v":0},null,"","",{"$f":"COUNTIF(AF$33:AF36,OK)+COUNTIF(AF$33:AF36,RDGfix)+COUNTIF(AF$33:AF36,RDGave)+AH$7-1","v":0},null,"","",{"$f":"COUNTIF(AJ$33:AJ36,OK)+COUNTIF(AJ$33:AJ36,RDGfix)+COUNTIF(AJ$33:AJ36,RDGave)+AL$7-1","v":0},null,"","",{"$f":"COUNTIF(AN$33:AN36,OK)+COUNTIF(AN$33:AN36,RDGfix)+COUNTIF(AN$33:AN36,RDGave)+AP$7-1","v":0},null,"","",{"$f":"COUNTIF(AR$33:AR36,OK)+COUNTIF(AR$33:AR36,RDGfix)+COUNTIF(AR$33:AR36,RDGave)+AT$7-1","v":0},null,"","",{"$f":"COUNTIF(AV$33:AV36,OK)+COUNTIF(AV$33:AV36,RDGfix)+COUNTIF(AV$33:AV36,RDGave)+AX$7-1","v":0},null,"","",{"$f":"COUNTIF(AZ$33:AZ36,OK)+COUNTIF(AZ$33:AZ36,RDGfix)+COUNTIF(AZ$33:AZ36,RDGave)+BB$7-1","v":0},null,"","",{"$f":"COUNTIF(BD$33:BD36,OK)+COUNTIF(BD$33:BD36,RDGfix)+COUNTIF(BD$33:BD36,RDGave)+BF$7-1","v":0},null,"","",{"$f":"COUNTIF(BH$33:BH36,OK)+COUNTIF(BH$33:BH36,RDGfix)+COUNTIF(BH$33:BH36,RDGave)+BJ$7-1","v":0},null,"","",{"$f":"COUNTIF(BL$33:BL36,OK)+COUNTIF(BL$33:BL36,RDGfix)+COUNTIF(BL$33:BL36,RDGave)+BN$7-1","v":0},null,"","",{"$f":"COUNTIF(BP$33:BP36,OK)+COUNTIF(BP$33:BP36,RDGfix)+COUNTIF(BP$33:BP36,RDGave)+BR$7-1","v":0},null,"","",{"$f":"COUNTIF(BT$33:BT36,OK)+COUNTIF(BT$33:BT36,RDGfix)+COUNTIF(BT$33:BT36,RDGave)+BV$7-1","v":0},null,"","",{"$f":"COUNTIF(BX$33:BX36,OK)+COUNTIF(BX$33:BX36,RDGfix)+COUNTIF(BX$33:BX36,RDGave)+BZ$7-1","v":0},null,"","",{"$f":"COUNTIF(CB$33:CB36,OK)+COUNTIF(CB$33:CB36,RDGfix)+COUNTIF(CB$33:CB36,RDGave)+CD$7-1","v":0},null,"","",{"$f":"COUNTIF(CF$33:CF36,OK)+COUNTIF(CF$33:CF36,RDGfix)+COUNTIF(CF$33:CF36,RDGave)+CH$7-1","v":0},null,"","",{"$f":"COUNTIF(CJ$33:CJ36,OK)+COUNTIF(CJ$33:CJ36,RDGfix)+COUNTIF(CJ$33:CJ36,RDGave)+CL$7-1","v":0},null,"","",{"$f":"COUNTIF(CN$33:CN36,OK)+COUNTIF(CN$33:CN36,RDGfix)+COUNTIF(CN$33:CN36,RDGave)+CP$7-1","v":0},null,"","",{"$f":"COUNTIF(CR$33:CR36,OK)+COUNTIF(CR$33:CR36,RDGfix)+COUNTIF(CR$33:CR36,RDGave)+CT$7-1","v":0},null,"","",{"$f":"COUNTIF(CV$33:CV36,OK)+COUNTIF(CV$33:CV36,RDGfix)+COUNTIF(CV$33:CV36,RDGave)+CX$7-1","v":0},null,"","",{"$f":"COUNTIF(CZ$33:CZ36,OK)+COUNTIF(CZ$33:CZ36,RDGfix)+COUNTIF(CZ$33:CZ36,RDGave)+DB$7-1","v":0},null,"","",{"$f":"COUNTIF(DD$33:DD36,OK)+COUNTIF(DD$33:DD36,RDGfix)+COUNTIF(DD$33:DD36,RDGave)+DF$7-1","v":0},null,"","",{"$f":"COUNTIF(DH$33:DH36,OK)+COUNTIF(DH$33:DH36,RDGfix)+COUNTIF(DH$33:DH36,RDGave)+DJ$7-1","v":0},null,"","",{"$f":"COUNTIF(DL$33:DL36,OK)+COUNTIF(DL$33:DL36,RDGfix)+COUNTIF(DL$33:DL36,RDGave)+DN$7-1","v":0},null,"","",{"$f":"COUNTIF(DP$33:DP36,OK)+COUNTIF(DP$33:DP36,RDGfix)+COUNTIF(DP$33:DP36,RDGave)+DR$7-1","v":0},null,"","",{"$f":"COUNTIF(DT$33:DT36,OK)+COUNTIF(DT$33:DT36,RDGfix)+COUNTIF(DT$33:DT36,RDGave)+DV$7-1","v":0},null,"","",{"$f":"COUNTIF(DX$33:DX36,OK)+COUNTIF(DX$33:DX36,RDGfix)+COUNTIF(DX$33:DX36,RDGave)+DZ$7-1","v":0},null,"","",{"$f":"COUNTIF(EB$33:EB36,OK)+COUNTIF(EB$33:EB36,RDGfix)+COUNTIF(EB$33:EB36,RDGave)+ED$7-1","v":0},null,"","",{"$f":"COUNTIF(EF$33:EF36,OK)+COUNTIF(EF$33:EF36,RDGfix)+COUNTIF(EF$33:EF36,RDGave)+EH$7-1","v":0},null,"","",{"$f":"COUNTIF(EJ$33:EJ36,OK)+COUNTIF(EJ$33:EJ36,RDGfix)+COUNTIF(EJ$33:EJ36,RDGave)+EL$7-1","v":0},null,"","",{"$f":"COUNTIF(EN$33:EN36,OK)+COUNTIF(EN$33:EN36,RDGfix)+COUNTIF(EN$33:EN36,RDGave)+EP$7-1","v":0},null,"","",{"$f":"COUNTIF(ER$33:ER36,OK)+COUNTIF(ER$33:ER36,RDGfix)+COUNTIF(ER$33:ER36,RDGave)+ET$7-1","v":0},null,"","",{"$f":"COUNTIF(EV$33:EV36,OK)+COUNTIF(EV$33:EV36,RDGfix)+COUNTIF(EV$33:EV36,RDGave)+EX$7-1","v":0},null,"","",{"$f":"COUNTIF(EZ$33:EZ36,OK)+COUNTIF(EZ$33:EZ36,RDGfix)+COUNTIF(EZ$33:EZ36,RDGave)+FB$7-1","v":0},null,"","",{"$f":"COUNTIF(FD$33:FD36,OK)+COUNTIF(FD$33:FD36,RDGfix)+COUNTIF(FD$33:FD36,RDGave)+FF$7-1","v":0},null,"","",{"$f":"COUNTIF(FH$33:FH36,OK)+COUNTIF(FH$33:FH36,RDGfix)+COUNTIF(FH$33:FH36,RDGave)+FJ$7-1","v":0},null,1]
[null,"5th",null,"","",{"$f":"COUNTIF(D$33:D37,OK)+COUNTIF(D$33:D37,RDGfix)+COUNTIF(D$33:D37,RDGave)+COUNTIF(D$33:D37,RDGevent)","v":0},null,{"$f":"IF(G37=\"\",\"\",OK)","v":""},{"$f":"IF(G37=\"\",\"\",IF(AND(H$32=\"L\",H37=\"DNC\"),$I$2,\nIF(H37=OK,J37,IF(HLOOKUP(H37,Comments3,2,FALSE)=D,J$32,IF(HLOOKUP(H37,Comments3,2,FALSE)=A,VLOOKUP(G37,Averages,G$4,FALSE),IF(HLOOKUP(H37,Comments3,2,FALSE)=E,VLOOKUP(G37,EventAverage,2,FALSE), HLOOKUP(H37,Comments4,2,FALSE)))))))","v":""},{"$f":"COUNTIF(H$33:H37,OK)+COUNTIF(H$33:H37,RDGfix)+COUNTIF(H$33:H37,RDGave)+COUNTIF(H$33:H37,RDGevent)+J$7-1","v":0},null,{"$f":"IF(K37=\"\",\"\",OK)","v":""},{"$f":"IF(K37=\"\",\"\",IF(AND(L$32=\"L\",L37=\"DNC\"),$I$2,\nIF(L37=OK,N37,IF(HLOOKUP(L37,Comments3,2,FALSE)=D,N$32,IF(HLOOKUP(L37,Comments3,2,FALSE)=A,VLOOKUP(K37,Averages,K$4,FALSE),IF(HLOOKUP(L37,Comments3,2,FALSE)=E,VLOOKUP(K37,EventAverage,2,FALSE), HLOOKUP(L37,Comments4,2,FALSE)))))))","v":""},{"$f":"COUNTIF(L$33:L37,OK)+COUNTIF(L$33:L37,RDGfix)+COUNTIF(L$33:L37,RDGave)+COUNTIF(L$33:L37,RDGevent)+N$7-1","v":0},null,{"$f":"IF(O37=\"\",\"\",OK)","v":""},{"$f":"IF(O37=\"\",\"\",IF(AND(P$32=\"L\",P37=\"DNC\"),$I$2,\nIF(P37=OK,R37,IF(HLOOKUP(P37,Comments3,2,FALSE)=D,R$32,IF(HLOOKUP(P37,Comments3,2,FALSE)=A,VLOOKUP(O37,Averages,O$4,FALSE),IF(HLOOKUP(P37,Comments3,2,FALSE)=E,VLOOKUP(O37,EventAverage,2,FALSE), HLOOKUP(P37,Comments4,2,FALSE)))))))","v":""},{"$f":"COUNTIF(P$33:P37,OK)+COUNTIF(P$33:P37,RDGfix)+COUNTIF(P$33:P37,RDGave)+COUNTIF(P$33:P37,RDGevent)+R$7-1","v":0},null,{"$f":"IF(S37=\"\",\"\",OK)","v":""},{"$f":"IF(S37=\"\",\"\",IF(AND(T$32=\"L\",T37=\"DNC\"),$I$2,\nIF(T37=OK,V37,IF(HLOOKUP(T37,Comments3,2,FALSE)=D,V$32,IF(HLOOKUP(T37,Comments3,2,FALSE)=A,VLOOKUP(S37,Averages,S$4,FALSE),IF(HLOOKUP(T37,Comments3,2,FALSE)=E,VLOOKUP(S37,EventAverage,2,FALSE), HLOOKUP(T37,Comments4,2,FALSE)))))))","v":""},{"$f":"COUNTIF(T$33:T37,OK)+COUNTIF(T$33:T37,RDGfix)+COUNTIF(T$33:T37,RDGave)+COUNTIF(T$33:T37,RDGevent)+V$7-1","v":0},null,{"$f":"IF(W37=\"\",\"\",OK)","v":""},{"$f":"IF(W37=\"\",\"\",IF(AND(X$32=\"L\",X37=\"DNC\"),$I$2,\nIF(X37=OK,Z37,IF(HLOOKUP(X37,Comments3,2,FALSE)=D,Z$32,IF(HLOOKUP(X37,Comments3,2,FALSE)=A,VLOOKUP(W37,Averages,W$4,FALSE),IF(HLOOKUP(X37,Comments3,2,FALSE)=E,VLOOKUP(W37,EventAverage,2,FALSE), HLOOKUP(X37,Comments4,2,FALSE)))))))","v":""},{"$f":"COUNTIF(X$33:X37,OK)+COUNTIF(X$33:X37,RDGfix)+COUNTIF(X$33:X37,RDGave)+COUNTIF(X$33:X37,RDGevent)+Z$7-1","v":0},null,{"$f":"IF(AA37=\"\",\"\",OK)","v":""},{"$f":"IF(AA37=\"\",\"\",IF(AND(AB$32=\"L\",AB37=\"DNC\"),$I$2,\nIF(AB37=OK,AD37,IF(HLOOKUP(AB37,Comments3,2,FALSE)=D,AD$32,IF(HLOOKUP(AB37,Comments3,2,FALSE)=A,VLOOKUP(AA37,Averages,AA$4,FALSE),IF(HLOOKUP(AB37,Comments3,2,FALSE)=E,VLOOKUP(AA37,EventAverage,2,FALSE), HLOOKUP(AB37,Comments4,2,FALSE)))))))","v":""},{"$f":"COUNTIF(AB$33:AB37,OK)+COUNTIF(AB$33:AB37,RDGfix)+COUNTIF(AB$33:AB37,RDGave)+COUNTIF(AB$33:AB37,RDGevent)+AD$7-1","v":0},null,{"$f":"IF(AE37=\"\",\"\",OK)","v":""},{"$f":"IF(AE37=\"\",\"\",IF(AND(AF$32=\"L\",AF37=\"DNC\"),$I$2,\nIF(AF37=OK,AH37,IF(HLOOKUP(AF37,Comments3,2,FALSE)=D,AH$32,IF(HLOOKUP(AF37,Comments3,2,FALSE)=A,VLOOKUP(AE37,Averages,AE$4,FALSE),IF(HLOOKUP(AF37,Comments3,2,FALSE)=E,VLOOKUP(AE37,EventAverage,2,FALSE), HLOOKUP(AF37,Comments4,2,FALSE)))))))","v":""},{"$f":"COUNTIF(AF$33:AF37,OK)+COUNTIF(AF$33:AF37,RDGfix)+COUNTIF(AF$33:AF37,RDGave)+COUNTIF(AF$33:AF37,RDGevent)+AH$7-1","v":0},null,{"$f":"IF(AI37=\"\",\"\",OK)","v":""},{"$f":"IF(AI37=\"\",\"\",IF(AND(AJ$32=\"L\",AJ37=\"DNC\"),$I$2,\nIF(AJ37=OK,AL37,IF(HLOOKUP(AJ37,Comments3,2,FALSE)=D,AL$32,IF(HLOOKUP(AJ37,Comments3,2,FALSE)=A,VLOOKUP(AI37,Averages,AI$4,FALSE),IF(HLOOKUP(AJ37,Comments3,2,FALSE)=E,VLOOKUP(AI37,EventAverage,2,FALSE), HLOOKUP(AJ37,Comments4,2,FALSE)))))))","v":""},{"$f":"COUNTIF(AJ$33:AJ37,OK)+COUNTIF(AJ$33:AJ37,RDGfix)+COUNTIF(AJ$33:AJ37,RDGave)+COUNTIF(AJ$33:AJ37,RDGevent)+AL$7-1","v":0},null,{"$f":"IF(AM37=\"\",\"\",OK)","v":""},{"$f":"IF(AM37=\"\",\"\",IF(AND(AN$32=\"L\",AN37=\"DNC\"),$I$2,\nIF(AN37=OK,AP37,IF(HLOOKUP(AN37,Comments3,2,FALSE)=D,AP$32,IF(HLOOKUP(AN37,Comments3,2,FALSE)=A,VLOOKUP(AM37,Averages,AM$4,FALSE),IF(HLOOKUP(AN37,Comments3,2,FALSE)=E,VLOOKUP(AM37,EventAverage,2,FALSE), HLOOKUP(AN37,Comments4,2,FALSE)))))))","v":""},{"$f":"COUNTIF(AN$33:AN37,OK)+COUNTIF(AN$33:AN37,RDGfix)+COUNTIF(AN$33:AN37,RDGave)+COUNTIF(AN$33:AN37,RDGevent)+AP$7-1","v":0},null,{"$f":"IF(AQ37=\"\",\"\",OK)","v":""},{"$f":"IF(AQ37=\"\",\"\",IF(AND(AR$32=\"L\",AR37=\"DNC\"),$I$2,\nIF(AR37=OK,AT37,IF(HLOOKUP(AR37,Comments3,2,FALSE)=D,AT$32,IF(HLOOKUP(AR37,Comments3,2,FALSE)=A,VLOOKUP(AQ37,Averages,AQ$4,FALSE),IF(HLOOKUP(AR37,Comments3,2,FALSE)=E,VLOOKUP(AQ37,EventAverage,2,FALSE), HLOOKUP(AR37,Comments4,2,FALSE)))))))","v":""},{"$f":"COUNTIF(AR$33:AR37,OK)+COUNTIF(AR$33:AR37,RDGfix)+COUNTIF(AR$33:AR37,RDGave)+COUNTIF(AR$33:AR37,RDGevent)+AT$7-1","v":0},null,{"$f":"IF(AU37=\"\",\"\",OK)","v":""},{"$f":"IF(AU37=\"\",\"\",IF(AND(AV$32=\"L\",AV37=\"DNC\"),$I$2,\nIF(AV37=OK,AX37,IF(HLOOKUP(AV37,Comments3,2,FALSE)=D,AX$32,IF(HLOOKUP(AV37,Comments3,2,FALSE)=A,VLOOKUP(AU37,Averages,AU$4,FALSE),IF(HLOOKUP(AV37,Comments3,2,FALSE)=E,VLOOKUP(AU37,EventAverage,2,FALSE), HLOOKUP(AV37,Comments4,2,FALSE)))))))","v":""},{"$f":"COUNTIF(AV$33:AV37,OK)+COUNTIF(AV$33:AV37,RDGfix)+COUNTIF(AV$33:AV37,RDGave)+COUNTIF(AV$33:AV37,RDGevent)+AX$7-1","v":0},null,{"$f":"IF(AY37=\"\",\"\",OK)","v":""},{"$f":"IF(AY37=\"\",\"\",IF(AND(AZ$32=\"L\",AZ37=\"DNC\"),$I$2,\nIF(AZ37=OK,BB37,IF(HLOOKUP(AZ37,Comments3,2,FALSE)=D,BB$32,IF(HLOOKUP(AZ37,Comments3,2,FALSE)=A,VLOOKUP(AY37,Averages,AY$4,FALSE),IF(HLOOKUP(AZ37,Comments3,2,FALSE)=E,VLOOKUP(AY37,EventAverage,2,FALSE), HLOOKUP(AZ37,Comments4,2,FALSE)))))))","v":""},{"$f":"COUNTIF(AZ$33:AZ37,OK)+COUNTIF(AZ$33:AZ37,RDGfix)+COUNTIF(AZ$33:AZ37,RDGave)+COUNTIF(AZ$33:AZ37,RDGevent)+BB$7-1","v":0},null,{"$f":"IF(BC37=\"\",\"\",OK)","v":""},{"$f":"IF(BC37=\"\",\"\",IF(AND(BD$32=\"L\",BD37=\"DNC\"),$I$2,\nIF(BD37=OK,BF37,IF(HLOOKUP(BD37,Comments3,2,FALSE)=D,BF$32,IF(HLOOKUP(BD37,Comments3,2,FALSE)=A,VLOOKUP(BC37,Averages,BC$4,FALSE),IF(HLOOKUP(BD37,Comments3,2,FALSE)=E,VLOOKUP(BC37,EventAverage,2,FALSE), HLOOKUP(BD37,Comments4,2,FALSE)))))))","v":""},{"$f":"COUNTIF(BD$33:BD37,OK)+COUNTIF(BD$33:BD37,RDGfix)+COUNTIF(BD$33:BD37,RDGave)+COUNTIF(BD$33:BD37,RDGevent)+BF$7-1","v":0},null,{"$f":"IF(BG37=\"\",\"\",OK)","v":""},{"$f":"IF(BG37=\"\",\"\",IF(AND(BH$32=\"L\",BH37=\"DNC\"),$I$2,\nIF(BH37=OK,BJ37,IF(HLOOKUP(BH37,Comments3,2,FALSE)=D,BJ$32,IF(HLOOKUP(BH37,Comments3,2,FALSE)=A,VLOOKUP(BG37,Averages,BG$4,FALSE),IF(HLOOKUP(BH37,Comments3,2,FALSE)=E,VLOOKUP(BG37,EventAverage,2,FALSE), HLOOKUP(BH37,Comments4,2,FALSE)))))))","v":""},{"$f":"COUNTIF(BH$33:BH37,OK)+COUNTIF(BH$33:BH37,RDGfix)+COUNTIF(BH$33:BH37,RDGave)+COUNTIF(BH$33:BH37,RDGevent)+BJ$7-1","v":0},null,{"$f":"IF(BK37=\"\",\"\",OK)","v":""},{"$f":"IF(BK37=\"\",\"\",IF(AND(BL$32=\"L\",BL37=\"DNC\"),$I$2,\nIF(BL37=OK,BN37,IF(HLOOKUP(BL37,Comments3,2,FALSE)=D,BN$32,IF(HLOOKUP(BL37,Comments3,2,FALSE)=A,VLOOKUP(BK37,Averages,BK$4,FALSE),IF(HLOOKUP(BL37,Comments3,2,FALSE)=E,VLOOKUP(BK37,EventAverage,2,FALSE), HLOOKUP(BL37,Comments4,2,FALSE)))))))","v":""},{"$f":"COUNTIF(BL$33:BL37,OK)+COUNTIF(BL$33:BL37,RDGfix)+COUNTIF(BL$33:BL37,RDGave)+COUNTIF(BL$33:BL37,RDGevent)+BN$7-1","v":0},null,{"$f":"IF(BO37=\"\",\"\",OK)","v":""},{"$f":"IF(BO37=\"\",\"\",IF(AND(BP$32=\"L\",BP37=\"DNC\"),$I$2,\nIF(BP37=OK,BR37,IF(HLOOKUP(BP37,Comments3,2,FALSE)=D,BR$32,IF(HLOOKUP(BP37,Comments3,2,FALSE)=A,VLOOKUP(BO37,Averages,BO$4,FALSE),IF(HLOOKUP(BP37,Comments3,2,FALSE)=E,VLOOKUP(BO37,EventAverage,2,FALSE), HLOOKUP(BP37,Comments4,2,FALSE)))))))","v":""},{"$f":"COUNTIF(BP$33:BP37,OK)+COUNTIF(BP$33:BP37,RDGfix)+COUNTIF(BP$33:BP37,RDGave)+COUNTIF(BP$33:BP37,RDGevent)+BR$7-1","v":0},null,{"$f":"IF(BS37=\"\",\"\",OK)","v":""},{"$f":"IF(BS37=\"\",\"\",IF(AND(BT$32=\"L\",BT37=\"DNC\"),$I$2,\nIF(BT37=OK,BV37,IF(HLOOKUP(BT37,Comments3,2,FALSE)=D,BV$32,IF(HLOOKUP(BT37,Comments3,2,FALSE)=A,VLOOKUP(BS37,Averages,BS$4,FALSE),IF(HLOOKUP(BT37,Comments3,2,FALSE)=E,VLOOKUP(BS37,EventAverage,2,FALSE), HLOOKUP(BT37,Comments4,2,FALSE)))))))","v":""},{"$f":"COUNTIF(BT$33:BT37,OK)+COUNTIF(BT$33:BT37,RDGfix)+COUNTIF(BT$33:BT37,RDGave)+COUNTIF(BT$33:BT37,RDGevent)+BV$7-1","v":0},null,{"$f":"IF(BW37=\"\",\"\",OK)","v":""},{"$f":"IF(BW37=\"\",\"\",IF(AND(BX$32=\"L\",BX37=\"DNC\"),$I$2,\nIF(BX37=OK,BZ37,IF(HLOOKUP(BX37,Comments3,2,FALSE)=D,BZ$32,IF(HLOOKUP(BX37,Comments3,2,FALSE)=A,VLOOKUP(BW37,Averages,BW$4,FALSE),IF(HLOOKUP(BX37,Comments3,2,FALSE)=E,VLOOKUP(BW37,EventAverage,2,FALSE), HLOOKUP(BX37,Comments4,2,FALSE)))))))","v":""},{"$f":"COUNTIF(BX$33:BX37,OK)+COUNTIF(BX$33:BX37,RDGfix)+COUNTIF(BX$33:BX37,RDGave)+COUNTIF(BX$33:BX37,RDGevent)+BZ$7-1","v":0},null,{"$f":"IF(CA37=\"\",\"\",OK)","v":""},{"$f":"IF(CA37=\"\",\"\",IF(AND(CB$32=\"L\",CB37=\"DNC\"),$I$2,\nIF(CB37=OK,CD37,IF(HLOOKUP(CB37,Comments3,2,FALSE)=D,CD$32,IF(HLOOKUP(CB37,Comments3,2,FALSE)=A,VLOOKUP(CA37,Averages,CA$4,FALSE),IF(HLOOKUP(CB37,Comments3,2,FALSE)=E,VLOOKUP(CA37,EventAverage,2,FALSE), HLOOKUP(CB37,Comments4,2,FALSE)))))))","v":""},{"$f":"COUNTIF(CB$33:CB37,OK)+COUNTIF(CB$33:CB37,RDGfix)+COUNTIF(CB$33:CB37,RDGave)+COUNTIF(CB$33:CB37,RDGevent)+CD$7-1","v":0},null,{"$f":"IF(CE37=\"\",\"\",OK)","v":""},{"$f":"IF(CE37=\"\",\"\",IF(AND(CF$32=\"L\",CF37=\"DNC\"),$I$2,\nIF(CF37=OK,CH37,IF(HLOOKUP(CF37,Comments3,2,FALSE)=D,CH$32,IF(HLOOKUP(CF37,Comments3,2,FALSE)=A,VLOOKUP(CE37,Averages,CE$4,FALSE),IF(HLOOKUP(CF37,Comments3,2,FALSE)=E,VLOOKUP(CE37,EventAverage,2,FALSE), HLOOKUP(CF37,Comments4,2,FALSE)))))))","v":""},{"$f":"COUNTIF(CF$33:CF37,OK)+COUNTIF(CF$33:CF37,RDGfix)+COUNTIF(CF$33:CF37,RDGave)+COUNTIF(CF$33:CF37,RDGevent)+CH$7-1","v":0},null,{"$f":"IF(CI37=\"\",\"\",OK)","v":""},{"$f":"IF(CI37=\"\",\"\",IF(AND(CJ$32=\"L\",CJ37=\"DNC\"),$I$2,\nIF(CJ37=OK,CL37,IF(HLOOKUP(CJ37,Comments3,2,FALSE)=D,CL$32,IF(HLOOKUP(CJ37,Comments3,2,FALSE)=A,VLOOKUP(CI37,Averages,CI$4,FALSE),IF(HLOOKUP(CJ37,Comments3,2,FALSE)=E,VLOOKUP(CI37,EventAverage,2,FALSE), HLOOKUP(CJ37,Comments4,2,FALSE)))))))","v":""},{"$f":"COUNTIF(CJ$33:CJ37,OK)+COUNTIF(CJ$33:CJ37,RDGfix)+COUNTIF(CJ$33:CJ37,RDGave)+COUNTIF(CJ$33:CJ37,RDGevent)+CL$7-1","v":0},null,{"$f":"IF(CM37=\"\",\"\",OK)","v":""},{"$f":"IF(CM37=\"\",\"\",IF(AND(CN$32=\"L\",CN37=\"DNC\"),$I$2,\nIF(CN37=OK,CP37,IF(HLOOKUP(CN37,Comments3,2,FALSE)=D,CP$32,IF(HLOOKUP(CN37,Comments3,2,FALSE)=A,VLOOKUP(CM37,Averages,CM$4,FALSE),IF(HLOOKUP(CN37,Comments3,2,FALSE)=E,VLOOKUP(CM37,EventAverage,2,FALSE), HLOOKUP(CN37,Comments4,2,FALSE)))))))","v":""},{"$f":"COUNTIF(CN$33:CN37,OK)+COUNTIF(CN$33:CN37,RDGfix)+COUNTIF(CN$33:CN37,RDGave)+COUNTIF(CN$33:CN37,RDGevent)+CP$7-1","v":0},null,{"$f":"IF(CQ37=\"\",\"\",OK)","v":""},{"$f":"IF(CQ37=\"\",\"\",IF(AND(CR$32=\"L\",CR37=\"DNC\"),$I$2,\nIF(CR37=OK,CT37,IF(HLOOKUP(CR37,Comments3,2,FALSE)=D,CT$32,IF(HLOOKUP(CR37,Comments3,2,FALSE)=A,VLOOKUP(CQ37,Averages,CQ$4,FALSE),IF(HLOOKUP(CR37,Comments3,2,FALSE)=E,VLOOKUP(CQ37,EventAverage,2,FALSE), HLOOKUP(CR37,Comments4,2,FALSE)))))))","v":""},{"$f":"COUNTIF(CR$33:CR37,OK)+COUNTIF(CR$33:CR37,RDGfix)+COUNTIF(CR$33:CR37,RDGave)+COUNTIF(CR$33:CR37,RDGevent)+CT$7-1","v":0},null,{"$f":"IF(CU37=\"\",\"\",OK)","v":""},{"$f":"IF(CU37=\"\",\"\",IF(AND(CV$32=\"L\",CV37=\"DNC\"),$I$2,\nIF(CV37=OK,CX37,IF(HLOOKUP(CV37,Comments3,2,FALSE)=D,CX$32,IF(HLOOKUP(CV37,Comments3,2,FALSE)=A,VLOOKUP(CU37,Averages,CU$4,FALSE),IF(HLOOKUP(CV37,Comments3,2,FALSE)=E,VLOOKUP(CU37,EventAverage,2,FALSE), HLOOKUP(CV37,Comments4,2,FALSE)))))))","v":""},{"$f":"COUNTIF(CV$33:CV37,OK)+COUNTIF(CV$33:CV37,RDGfix)+COUNTIF(CV$33:CV37,RDGave)+COUNTIF(CV$33:CV37,RDGevent)+CX$7-1","v":0},null,{"$f":"IF(CY37=\"\",\"\",OK)","v":""},{"$f":"IF(CY37=\"\",\"\",IF(AND(CZ$32=\"L\",CZ37=\"DNC\"),$I$2,\nIF(CZ37=OK,DB37,IF(HLOOKUP(CZ37,Comments3,2,FALSE)=D,DB$32,IF(HLOOKUP(CZ37,Comments3,2,FALSE)=A,VLOOKUP(CY37,Averages,CY$4,FALSE),IF(HLOOKUP(CZ37,Comments3,2,FALSE)=E,VLOOKUP(CY37,EventAverage,2,FALSE), HLOOKUP(CZ37,Comments4,2,FALSE)))))))","v":""},{"$f":"COUNTIF(CZ$33:CZ37,OK)+COUNTIF(CZ$33:CZ37,RDGfix)+COUNTIF(CZ$33:CZ37,RDGave)+COUNTIF(CZ$33:CZ37,RDGevent)+DB$7-1","v":0},null,{"$f":"IF(DC37=\"\",\"\",OK)","v":""},{"$f":"IF(DC37=\"\",\"\",IF(AND(DD$32=\"L\",DD37=\"DNC\"),$I$2,\nIF(DD37=OK,DF37,IF(HLOOKUP(DD37,Comments3,2,FALSE)=D,DF$32,IF(HLOOKUP(DD37,Comments3,2,FALSE)=A,VLOOKUP(DC37,Averages,DC$4,FALSE),IF(HLOOKUP(DD37,Comments3,2,FALSE)=E,VLOOKUP(DC37,EventAverage,2,FALSE), HLOOKUP(DD37,Comments4,2,FALSE)))))))","v":""},{"$f":"COUNTIF(DD$33:DD37,OK)+COUNTIF(DD$33:DD37,RDGfix)+COUNTIF(DD$33:DD37,RDGave)+COUNTIF(DD$33:DD37,RDGevent)+DF$7-1","v":0},null,{"$f":"IF(DG37=\"\",\"\",OK)","v":""},{"$f":"IF(DG37=\"\",\"\",IF(AND(DH$32=\"L\",DH37=\"DNC\"),$I$2,\nIF(DH37=OK,DJ37,IF(HLOOKUP(DH37,Comments3,2,FALSE)=D,DJ$32,IF(HLOOKUP(DH37,Comments3,2,FALSE)=A,VLOOKUP(DG37,Averages,DG$4,FALSE),IF(HLOOKUP(DH37,Comments3,2,FALSE)=E,VLOOKUP(DG37,EventAverage,2,FALSE), HLOOKUP(DH37,Comments4,2,FALSE)))))))","v":""},{"$f":"COUNTIF(DH$33:DH37,OK)+COUNTIF(DH$33:DH37,RDGfix)+COUNTIF(DH$33:DH37,RDGave)+COUNTIF(DH$33:DH37,RDGevent)+DJ$7-1","v":0},null,{"$f":"IF(DK37=\"\",\"\",OK)","v":""},{"$f":"IF(DK37=\"\",\"\",IF(AND(DL$32=\"L\",DL37=\"DNC\"),$I$2,\nIF(DL37=OK,DN37,IF(HLOOKUP(DL37,Comments3,2,FALSE)=D,DN$32,IF(HLOOKUP(DL37,Comments3,2,FALSE)=A,VLOOKUP(DK37,Averages,DK$4,FALSE),IF(HLOOKUP(DL37,Comments3,2,FALSE)=E,VLOOKUP(DK37,EventAverage,2,FALSE), HLOOKUP(DL37,Comments4,2,FALSE)))))))","v":""},{"$f":"COUNTIF(DL$33:DL37,OK)+COUNTIF(DL$33:DL37,RDGfix)+COUNTIF(DL$33:DL37,RDGave)+COUNTIF(DL$33:DL37,RDGevent)+DN$7-1","v":0},null,{"$f":"IF(DO37=\"\",\"\",OK)","v":""},{"$f":"IF(DO37=\"\",\"\",IF(AND(DP$32=\"L\",DP37=\"DNC\"),$I$2,\nIF(DP37=OK,DR37,IF(HLOOKUP(DP37,Comments3,2,FALSE)=D,DR$32,IF(HLOOKUP(DP37,Comments3,2,FALSE)=A,VLOOKUP(DO37,Averages,DO$4,FALSE),IF(HLOOKUP(DP37,Comments3,2,FALSE)=E,VLOOKUP(DO37,EventAverage,2,FALSE), HLOOKUP(DP37,Comments4,2,FALSE)))))))","v":""},{"$f":"COUNTIF(DP$33:DP37,OK)+COUNTIF(DP$33:DP37,RDGfix)+COUNTIF(DP$33:DP37,RDGave)+COUNTIF(DP$33:DP37,RDGevent)+DR$7-1","v":0},null,{"$f":"IF(DS37=\"\",\"\",OK)","v":""},{"$f":"IF(DS37=\"\",\"\",IF(AND(DT$32=\"L\",DT37=\"DNC\"),$I$2,\nIF(DT37=OK,DV37,IF(HLOOKUP(DT37,Comments3,2,FALSE)=D,DV$32,IF(HLOOKUP(DT37,Comments3,2,FALSE)=A,VLOOKUP(DS37,Averages,DS$4,FALSE),IF(HLOOKUP(DT37,Comments3,2,FALSE)=E,VLOOKUP(DS37,EventAverage,2,FALSE), HLOOKUP(DT37,Comments4,2,FALSE)))))))","v":""},{"$f":"COUNTIF(DT$33:DT37,OK)+COUNTIF(DT$33:DT37,RDGfix)+COUNTIF(DT$33:DT37,RDGave)+COUNTIF(DT$33:DT37,RDGevent)+DV$7-1","v":0},null,{"$f":"IF(DW37=\"\",\"\",OK)","v":""},{"$f":"IF(DW37=\"\",\"\",IF(AND(DX$32=\"L\",DX37=\"DNC\"),$I$2,\nIF(DX37=OK,DZ37,IF(HLOOKUP(DX37,Comments3,2,FALSE)=D,DZ$32,IF(HLOOKUP(DX37,Comments3,2,FALSE)=A,VLOOKUP(DW37,Averages,DW$4,FALSE),IF(HLOOKUP(DX37,Comments3,2,FALSE)=E,VLOOKUP(DW37,EventAverage,2,FALSE), HLOOKUP(DX37,Comments4,2,FALSE)))))))","v":""},{"$f":"COUNTIF(DX$33:DX37,OK)+COUNTIF(DX$33:DX37,RDGfix)+COUNTIF(DX$33:DX37,RDGave)+COUNTIF(DX$33:DX37,RDGevent)+DZ$7-1","v":0},null,{"$f":"IF(EA37=\"\",\"\",OK)","v":""},{"$f":"IF(EA37=\"\",\"\",IF(AND(EB$32=\"L\",EB37=\"DNC\"),$I$2,\nIF(EB37=OK,ED37,IF(HLOOKUP(EB37,Comments3,2,FALSE)=D,ED$32,IF(HLOOKUP(EB37,Comments3,2,FALSE)=A,VLOOKUP(EA37,Averages,EA$4,FALSE),IF(HLOOKUP(EB37,Comments3,2,FALSE)=E,VLOOKUP(EA37,EventAverage,2,FALSE), HLOOKUP(EB37,Comments4,2,FALSE)))))))","v":""},{"$f":"COUNTIF(EB$33:EB37,OK)+COUNTIF(EB$33:EB37,RDGfix)+COUNTIF(EB$33:EB37,RDGave)+COUNTIF(EB$33:EB37,RDGevent)+ED$7-1","v":0},null,{"$f":"IF(EE37=\"\",\"\",OK)","v":""},{"$f":"IF(EE37=\"\",\"\",IF(AND(EF$32=\"L\",EF37=\"DNC\"),$I$2,\nIF(EF37=OK,EH37,IF(HLOOKUP(EF37,Comments3,2,FALSE)=D,EH$32,IF(HLOOKUP(EF37,Comments3,2,FALSE)=A,VLOOKUP(EE37,Averages,EE$4,FALSE),IF(HLOOKUP(EF37,Comments3,2,FALSE)=E,VLOOKUP(EE37,EventAverage,2,FALSE), HLOOKUP(EF37,Comments4,2,FALSE)))))))","v":""},{"$f":"COUNTIF(EF$33:EF37,OK)+COUNTIF(EF$33:EF37,RDGfix)+COUNTIF(EF$33:EF37,RDGave)+COUNTIF(EF$33:EF37,RDGevent)+EH$7-1","v":0},null,{"$f":"IF(EI37=\"\",\"\",OK)","v":""},{"$f":"IF(EI37=\"\",\"\",IF(AND(EJ$32=\"L\",EJ37=\"DNC\"),$I$2,\nIF(EJ37=OK,EL37,IF(HLOOKUP(EJ37,Comments3,2,FALSE)=D,EL$32,IF(HLOOKUP(EJ37,Comments3,2,FALSE)=A,VLOOKUP(EI37,Averages,EI$4,FALSE),IF(HLOOKUP(EJ37,Comments3,2,FALSE)=E,VLOOKUP(EI37,EventAverage,2,FALSE), HLOOKUP(EJ37,Comments4,2,FALSE)))))))","v":""},{"$f":"COUNTIF(EJ$33:EJ37,OK)+COUNTIF(EJ$33:EJ37,RDGfix)+COUNTIF(EJ$33:EJ37,RDGave)+COUNTIF(EJ$33:EJ37,RDGevent)+EL$7-1","v":0},null,{"$f":"IF(EM37=\"\",\"\",OK)","v":""},{"$f":"IF(EM37=\"\",\"\",IF(AND(EN$32=\"L\",EN37=\"DNC\"),$I$2,\nIF(EN37=OK,EP37,IF(HLOOKUP(EN37,Comments3,2,FALSE)=D,EP$32,IF(HLOOKUP(EN37,Comments3,2,FALSE)=A,VLOOKUP(EM37,Averages,EM$4,FALSE),IF(HLOOKUP(EN37,Comments3,2,FALSE)=E,VLOOKUP(EM37,EventAverage,2,FALSE), HLOOKUP(EN37,Comments4,2,FALSE)))))))","v":""},{"$f":"COUNTIF(EN$33:EN37,OK)+COUNTIF(EN$33:EN37,RDGfix)+COUNTIF(EN$33:EN37,RDGave)+COUNTIF(EN$33:EN37,RDGevent)+EP$7-1","v":0},null,{"$f":"IF(EQ37=\"\",\"\",OK)","v":""},{"$f":"IF(EQ37=\"\",\"\",IF(AND(ER$32=\"L\",ER37=\"DNC\"),$I$2,\nIF(ER37=OK,ET37,IF(HLOOKUP(ER37,Comments3,2,FALSE)=D,ET$32,IF(HLOOKUP(ER37,Comments3,2,FALSE)=A,VLOOKUP(EQ37,Averages,EQ$4,FALSE),IF(HLOOKUP(ER37,Comments3,2,FALSE)=E,VLOOKUP(EQ37,EventAverage,2,FALSE), HLOOKUP(ER37,Comments4,2,FALSE)))))))","v":""},{"$f":"COUNTIF(ER$33:ER37,OK)+COUNTIF(ER$33:ER37,RDGfix)+COUNTIF(ER$33:ER37,RDGave)+COUNTIF(ER$33:ER37,RDGevent)+ET$7-1","v":0},null,{"$f":"IF(EU37=\"\",\"\",OK)","v":""},{"$f":"IF(EU37=\"\",\"\",IF(AND(EV$32=\"L\",EV37=\"DNC\"),$I$2,\nIF(EV37=OK,EX37,IF(HLOOKUP(EV37,Comments3,2,FALSE)=D,EX$32,IF(HLOOKUP(EV37,Comments3,2,FALSE)=A,VLOOKUP(EU37,Averages,EU$4,FALSE),IF(HLOOKUP(EV37,Comments3,2,FALSE)=E,VLOOKUP(EU37,EventAverage,2,FALSE), HLOOKUP(EV37,Comments4,2,FALSE)))))))","v":""},{"$f":"COUNTIF(EV$33:EV37,OK)+COUNTIF(EV$33:EV37,RDGfix)+COUNTIF(EV$33:EV37,RDGave)+COUNTIF(EV$33:EV37,RDGevent)+EX$7-1","v":0},null,{"$f":"IF(EY37=\"\",\"\",OK)","v":""},{"$f":"IF(EY37=\"\",\"\",IF(AND(EZ$32=\"L\",EZ37=\"DNC\"),$I$2,\nIF(EZ37=OK,FB37,IF(HLOOKUP(EZ37,Comments3,2,FALSE)=D,FB$32,IF(HLOOKUP(EZ37,Comments3,2,FALSE)=A,VLOOKUP(EY37,Averages,EY$4,FALSE),IF(HLOOKUP(EZ37,Comments3,2,FALSE)=E,VLOOKUP(EY37,EventAverage,2,FALSE), HLOOKUP(EZ37,Comments4,2,FALSE)))))))","v":""},{"$f":"COUNTIF(EZ$33:EZ37,OK)+COUNTIF(EZ$33:EZ37,RDGfix)+COUNTIF(EZ$33:EZ37,RDGave)+COUNTIF(EZ$33:EZ37,RDGevent)+FB$7-1","v":0},null,{"$f":"IF(FC37=\"\",\"\",OK)","v":""},{"$f":"IF(FC37=\"\",\"\",IF(AND(FD$32=\"L\",FD37=\"DNC\"),$I$2,\nIF(FD37=OK,FF37,IF(HLOOKUP(FD37,Comments3,2,FALSE)=D,FF$32,IF(HLOOKUP(FD37,Comments3,2,FALSE)=A,VLOOKUP(FC37,Averages,FC$4,FALSE),IF(HLOOKUP(FD37,Comments3,2,FALSE)=E,VLOOKUP(FC37,EventAverage,2,FALSE), HLOOKUP(FD37,Comments4,2,FALSE)))))))","v":""},{"$f":"COUNTIF(FD$33:FD37,OK)+COUNTIF(FD$33:FD37,RDGfix)+COUNTIF(FD$33:FD37,RDGave)+COUNTIF(FD$33:FD37,RDGevent)+FF$7-1","v":0},null,{"$f":"IF(FG37=\"\",\"\",OK)","v":""},{"$f":"IF(FG37=\"\",\"\",IF(AND(FH$32=\"L\",FH37=\"DNC\"),$I$2,\nIF(FH37=OK,FJ37,IF(HLOOKUP(FH37,Comments3,2,FALSE)=D,FJ$32,IF(HLOOKUP(FH37,Comments3,2,FALSE)=A,VLOOKUP(FG37,Averages,FG$4,FALSE),IF(HLOOKUP(FH37,Comments3,2,FALSE)=E,VLOOKUP(FG37,EventAverage,2,FALSE), HLOOKUP(FH37,Comments4,2,FALSE)))))))","v":""},{"$f":"COUNTIF(FH$33:FH37,OK)+COUNTIF(FH$33:FH37,RDGfix)+COUNTIF(FH$33:FH37,RDGave)+COUNTIF(FH$33:FH37,RDGevent)+FJ$7-1","v":0},null,1]
[null,"6th",null,"","",{"$f":"COUNTIF(D$33:D38,OK)+COUNTIF(D$33:D38,RDGfix)+COUNTIF(D$33:D38,RDGave)+COUNTIF(D$33:D38,RDGevent)","v":0},null,"","",{"$f":"COUNTIF(H$33:H38,OK)+COUNTIF(H$33:H38,RDGfix)+COUNTIF(H$33:H38,RDGave)+COUNTIF(H$33:H38,RDGevent)+J$7-1","v":0},null,"","",{"$f":"COUNTIF(L$33:L38,OK)+COUNTIF(L$33:L38,RDGfix)+COUNTIF(L$33:L38,RDGave)+COUNTIF(L$33:L38,RDGevent)+N$7-1","v":0},null,"","",{"$f":"COUNTIF(P$33:P38,OK)+COUNTIF(P$33:P38,RDGfix)+COUNTIF(P$33:P38,RDGave)+COUNTIF(P$33:P38,RDGevent)+R$7-1","v":0},null,"","",{"$f":"COUNTIF(T$33:T38,OK)+COUNTIF(T$33:T38,RDGfix)+COUNTIF(T$33:T38,RDGave)+COUNTIF(T$33:T38,RDGevent)+V$7-1","v":0},null,"","",{"$f":"COUNTIF(X$33:X38,OK)+COUNTIF(X$33:X38,RDGfix)+COUNTIF(X$33:X38,RDGave)+COUNTIF(X$33:X38,RDGevent)+Z$7-1","v":0},null,"","",{"$f":"COUNTIF(AB$33:AB38,OK)+COUNTIF(AB$33:AB38,RDGfix)+COUNTIF(AB$33:AB38,RDGave)+COUNTIF(AB$33:AB38,RDGevent)+AD$7-1","v":0},null,"","",{"$f":"COUNTIF(AF$33:AF38,OK)+COUNTIF(AF$33:AF38,RDGfix)+COUNTIF(AF$33:AF38,RDGave)+COUNTIF(AF$33:AF38,RDGevent)+AH$7-1","v":0},null,"","",{"$f":"COUNTIF(AJ$33:AJ38,OK)+COUNTIF(AJ$33:AJ38,RDGfix)+COUNTIF(AJ$33:AJ38,RDGave)+COUNTIF(AJ$33:AJ38,RDGevent)+AL$7-1","v":0},null,"","",{"$f":"COUNTIF(AN$33:AN38,OK)+COUNTIF(AN$33:AN38,RDGfix)+COUNTIF(AN$33:AN38,RDGave)+COUNTIF(AN$33:AN38,RDGevent)+AP$7-1","v":0},null,"","",{"$f":"COUNTIF(AR$33:AR38,OK)+COUNTIF(AR$33:AR38,RDGfix)+COUNTIF(AR$33:AR38,RDGave)+COUNTIF(AR$33:AR38,RDGevent)+AT$7-1","v":0},null,"","",{"$f":"COUNTIF(AV$33:AV38,OK)+COUNTIF(AV$33:AV38,RDGfix)+COUNTIF(AV$33:AV38,RDGave)+COUNTIF(AV$33:AV38,RDGevent)+AX$7-1","v":0},null,"","",{"$f":"COUNTIF(AZ$33:AZ38,OK)+COUNTIF(AZ$33:AZ38,RDGfix)+COUNTIF(AZ$33:AZ38,RDGave)+COUNTIF(AZ$33:AZ38,RDGevent)+BB$7-1","v":0},null,"","",{"$f":"COUNTIF(BD$33:BD38,OK)+COUNTIF(BD$33:BD38,RDGfix)+COUNTIF(BD$33:BD38,RDGave)+COUNTIF(BD$33:BD38,RDGevent)+BF$7-1","v":0},null,"","",{"$f":"COUNTIF(BH$33:BH38,OK)+COUNTIF(BH$33:BH38,RDGfix)+COUNTIF(BH$33:BH38,RDGave)+COUNTIF(BH$33:BH38,RDGevent)+BJ$7-1","v":0},null,"","",{"$f":"COUNTIF(BL$33:BL38,OK)+COUNTIF(BL$33:BL38,RDGfix)+COUNTIF(BL$33:BL38,RDGave)+COUNTIF(BL$33:BL38,RDGevent)+BN$7-1","v":0},null,"","",{"$f":"COUNTIF(BP$33:BP38,OK)+COUNTIF(BP$33:BP38,RDGfix)+COUNTIF(BP$33:BP38,RDGave)+COUNTIF(BP$33:BP38,RDGevent)+BR$7-1","v":0},null,"","",{"$f":"COUNTIF(BT$33:BT38,OK)+COUNTIF(BT$33:BT38,RDGfix)+COUNTIF(BT$33:BT38,RDGave)+COUNTIF(BT$33:BT38,RDGevent)+BV$7-1","v":0},null,"","",{"$f":"COUNTIF(BX$33:BX38,OK)+COUNTIF(BX$33:BX38,RDGfix)+COUNTIF(BX$33:BX38,RDGave)+COUNTIF(BX$33:BX38,RDGevent)+BZ$7-1","v":0},null,"","",{"$f":"COUNTIF(CB$33:CB38,OK)+COUNTIF(CB$33:CB38,RDGfix)+COUNTIF(CB$33:CB38,RDGave)+COUNTIF(CB$33:CB38,RDGevent)+CD$7-1","v":0},null,"","",{"$f":"COUNTIF(CF$33:CF38,OK)+COUNTIF(CF$33:CF38,RDGfix)+COUNTIF(CF$33:CF38,RDGave)+COUNTIF(CF$33:CF38,RDGevent)+CH$7-1","v":0},null,"","",{"$f":"COUNTIF(CJ$33:CJ38,OK)+COUNTIF(CJ$33:CJ38,RDGfix)+COUNTIF(CJ$33:CJ38,RDGave)+COUNTIF(CJ$33:CJ38,RDGevent)+CL$7-1","v":0},null,"","",{"$f":"COUNTIF(CN$33:CN38,OK)+COUNTIF(CN$33:CN38,RDGfix)+COUNTIF(CN$33:CN38,RDGave)+COUNTIF(CN$33:CN38,RDGevent)+CP$7-1","v":0},null,"","",{"$f":"COUNTIF(CR$33:CR38,OK)+COUNTIF(CR$33:CR38,RDGfix)+COUNTIF(CR$33:CR38,RDGave)+COUNTIF(CR$33:CR38,RDGevent)+CT$7-1","v":0},null,"","",{"$f":"COUNTIF(CV$33:CV38,OK)+COUNTIF(CV$33:CV38,RDGfix)+COUNTIF(CV$33:CV38,RDGave)+COUNTIF(CV$33:CV38,RDGevent)+CX$7-1","v":0},null,"","",{"$f":"COUNTIF(CZ$33:CZ38,OK)+COUNTIF(CZ$33:CZ38,RDGfix)+COUNTIF(CZ$33:CZ38,RDGave)+COUNTIF(CZ$33:CZ38,RDGevent)+DB$7-1","v":0},null,"","",{"$f":"COUNTIF(DD$33:DD38,OK)+COUNTIF(DD$33:DD38,RDGfix)+COUNTIF(DD$33:DD38,RDGave)+COUNTIF(DD$33:DD38,RDGevent)+DF$7-1","v":0},null,"","",{"$f":"COUNTIF(DH$33:DH38,OK)+COUNTIF(DH$33:DH38,RDGfix)+COUNTIF(DH$33:DH38,RDGave)+COUNTIF(DH$33:DH38,RDGevent)+DJ$7-1","v":0},null,"","",{"$f":"COUNTIF(DL$33:DL38,OK)+COUNTIF(DL$33:DL38,RDGfix)+COUNTIF(DL$33:DL38,RDGave)+COUNTIF(DL$33:DL38,RDGevent)+DN$7-1","v":0},null,"","",{"$f":"COUNTIF(DP$33:DP38,OK)+COUNTIF(DP$33:DP38,RDGfix)+COUNTIF(DP$33:DP38,RDGave)+COUNTIF(DP$33:DP38,RDGevent)+DR$7-1","v":0},null,"","",{"$f":"COUNTIF(DT$33:DT38,OK)+COUNTIF(DT$33:DT38,RDGfix)+COUNTIF(DT$33:DT38,RDGave)+COUNTIF(DT$33:DT38,RDGevent)+DV$7-1","v":0},null,"","",{"$f":"COUNTIF(DX$33:DX38,OK)+COUNTIF(DX$33:DX38,RDGfix)+COUNTIF(DX$33:DX38,RDGave)+COUNTIF(DX$33:DX38,RDGevent)+DZ$7-1","v":0},null,"","",{"$f":"COUNTIF(EB$33:EB38,OK)+COUNTIF(EB$33:EB38,RDGfix)+COUNTIF(EB$33:EB38,RDGave)+COUNTIF(EB$33:EB38,RDGevent)+ED$7-1","v":0},null,"","",{"$f":"COUNTIF(EF$33:EF38,OK)+COUNTIF(EF$33:EF38,RDGfix)+COUNTIF(EF$33:EF38,RDGave)+COUNTIF(EF$33:EF38,RDGevent)+EH$7-1","v":0},null,"","",{"$f":"COUNTIF(EJ$33:EJ38,OK)+COUNTIF(EJ$33:EJ38,RDGfix)+COUNTIF(EJ$33:EJ38,RDGave)+COUNTIF(EJ$33:EJ38,RDGevent)+EL$7-1","v":0},null,"","",{"$f":"COUNTIF(EN$33:EN38,OK)+COUNTIF(EN$33:EN38,RDGfix)+COUNTIF(EN$33:EN38,RDGave)+COUNTIF(EN$33:EN38,RDGevent)+EP$7-1","v":0},null,"","",{"$f":"COUNTIF(ER$33:ER38,OK)+COUNTIF(ER$33:ER38,RDGfix)+COUNTIF(ER$33:ER38,RDGave)+COUNTIF(ER$33:ER38,RDGevent)+ET$7-1","v":0},null,"","",{"$f":"COUNTIF(EV$33:EV38,OK)+COUNTIF(EV$33:EV38,RDGfix)+COUNTIF(EV$33:EV38,RDGave)+COUNTIF(EV$33:EV38,RDGevent)+EX$7-1","v":0},null,"","",{"$f":"COUNTIF(EZ$33:EZ38,OK)+COUNTIF(EZ$33:EZ38,RDGfix)+COUNTIF(EZ$33:EZ38,RDGave)+COUNTIF(EZ$33:EZ38,RDGevent)+FB$7-1","v":0},null,"","",{"$f":"COUNTIF(FD$33:FD38,OK)+COUNTIF(FD$33:FD38,RDGfix)+COUNTIF(FD$33:FD38,RDGave)+COUNTIF(FD$33:FD38,RDGevent)+FF$7-1","v":0},null,"","",{"$f":"COUNTIF(FH$33:FH38,OK)+COUNTIF(FH$33:FH38,RDGfix)+COUNTIF(FH$33:FH38,RDGave)+COUNTIF(FH$33:FH38,RDGevent)+FJ$7-1","v":0},null,1]
[null,"7th",null,"","",{"$f":"COUNTIF(D$33:D39,OK)+COUNTIF(D$33:D39,RDGfix)+COUNTIF(D$33:D39,RDGave)+COUNTIF(D$33:D39,RDGevent)","v":0},null,"","",{"$f":"COUNTIF(H$33:H39,OK)+COUNTIF(H$33:H39,RDGfix)+COUNTIF(H$33:H39,RDGave)+COUNTIF(H$33:H39,RDGevent)+J$7-1","v":0},null,"","",{"$f":"COUNTIF(L$33:L39,OK)+COUNTIF(L$33:L39,RDGfix)+COUNTIF(L$33:L39,RDGave)+COUNTIF(L$33:L39,RDGevent)+N$7-1","v":0},null,"","",{"$f":"COUNTIF(P$33:P39,OK)+COUNTIF(P$33:P39,RDGfix)+COUNTIF(P$33:P39,RDGave)+COUNTIF(P$33:P39,RDGevent)+R$7-1","v":0},null,"","",{"$f":"COUNTIF(T$33:T39,OK)+COUNTIF(T$33:T39,RDGfix)+COUNTIF(T$33:T39,RDGave)+COUNTIF(T$33:T39,RDGevent)+V$7-1","v":0},null,"","",{"$f":"COUNTIF(X$33:X39,OK)+COUNTIF(X$33:X39,RDGfix)+COUNTIF(X$33:X39,RDGave)+COUNTIF(X$33:X39,RDGevent)+Z$7-1","v":0},null,"","",{"$f":"COUNTIF(AB$33:AB39,OK)+COUNTIF(AB$33:AB39,RDGfix)+COUNTIF(AB$33:AB39,RDGave)+COUNTIF(AB$33:AB39,RDGevent)+AD$7-1","v":0},null,"","",{"$f":"COUNTIF(AF$33:AF39,OK)+COUNTIF(AF$33:AF39,RDGfix)+COUNTIF(AF$33:AF39,RDGave)+COUNTIF(AF$33:AF39,RDGevent)+AH$7-1","v":0},null,"","",{"$f":"COUNTIF(AJ$33:AJ39,OK)+COUNTIF(AJ$33:AJ39,RDGfix)+COUNTIF(AJ$33:AJ39,RDGave)+COUNTIF(AJ$33:AJ39,RDGevent)+AL$7-1","v":0},null,"","",{"$f":"COUNTIF(AN$33:AN39,OK)+COUNTIF(AN$33:AN39,RDGfix)+COUNTIF(AN$33:AN39,RDGave)+COUNTIF(AN$33:AN39,RDGevent)+AP$7-1","v":0},null,"","",{"$f":"COUNTIF(AR$33:AR39,OK)+COUNTIF(AR$33:AR39,RDGfix)+COUNTIF(AR$33:AR39,RDGave)+COUNTIF(AR$33:AR39,RDGevent)+AT$7-1","v":0},null,"","",{"$f":"COUNTIF(AV$33:AV39,OK)+COUNTIF(AV$33:AV39,RDGfix)+COUNTIF(AV$33:AV39,RDGave)+COUNTIF(AV$33:AV39,RDGevent)+AX$7-1","v":0},null,"","",{"$f":"COUNTIF(AZ$33:AZ39,OK)+COUNTIF(AZ$33:AZ39,RDGfix)+COUNTIF(AZ$33:AZ39,RDGave)+COUNTIF(AZ$33:AZ39,RDGevent)+BB$7-1","v":0},null,"","",{"$f":"COUNTIF(BD$33:BD39,OK)+COUNTIF(BD$33:BD39,RDGfix)+COUNTIF(BD$33:BD39,RDGave)+COUNTIF(BD$33:BD39,RDGevent)+BF$7-1","v":0},null,"","",{"$f":"COUNTIF(BH$33:BH39,OK)+COUNTIF(BH$33:BH39,RDGfix)+COUNTIF(BH$33:BH39,RDGave)+COUNTIF(BH$33:BH39,RDGevent)+BJ$7-1","v":0},null,"","",{"$f":"COUNTIF(BL$33:BL39,OK)+COUNTIF(BL$33:BL39,RDGfix)+COUNTIF(BL$33:BL39,RDGave)+COUNTIF(BL$33:BL39,RDGevent)+BN$7-1","v":0},null,"","",{"$f":"COUNTIF(BP$33:BP39,OK)+COUNTIF(BP$33:BP39,RDGfix)+COUNTIF(BP$33:BP39,RDGave)+COUNTIF(BP$33:BP39,RDGevent)+BR$7-1","v":0},null,"","",{"$f":"COUNTIF(BT$33:BT39,OK)+COUNTIF(BT$33:BT39,RDGfix)+COUNTIF(BT$33:BT39,RDGave)+COUNTIF(BT$33:BT39,RDGevent)+BV$7-1","v":0},null,"","",{"$f":"COUNTIF(BX$33:BX39,OK)+COUNTIF(BX$33:BX39,RDGfix)+COUNTIF(BX$33:BX39,RDGave)+COUNTIF(BX$33:BX39,RDGevent)+BZ$7-1","v":0},null,"","",{"$f":"COUNTIF(CB$33:CB39,OK)+COUNTIF(CB$33:CB39,RDGfix)+COUNTIF(CB$33:CB39,RDGave)+COUNTIF(CB$33:CB39,RDGevent)+CD$7-1","v":0},null,"","",{"$f":"COUNTIF(CF$33:CF39,OK)+COUNTIF(CF$33:CF39,RDGfix)+COUNTIF(CF$33:CF39,RDGave)+COUNTIF(CF$33:CF39,RDGevent)+CH$7-1","v":0},null,"","",{"$f":"COUNTIF(CJ$33:CJ39,OK)+COUNTIF(CJ$33:CJ39,RDGfix)+COUNTIF(CJ$33:CJ39,RDGave)+COUNTIF(CJ$33:CJ39,RDGevent)+CL$7-1","v":0},null,"","",{"$f":"COUNTIF(CN$33:CN39,OK)+COUNTIF(CN$33:CN39,RDGfix)+COUNTIF(CN$33:CN39,RDGave)+COUNTIF(CN$33:CN39,RDGevent)+CP$7-1","v":0},null,"","",{"$f":"COUNTIF(CR$33:CR39,OK)+COUNTIF(CR$33:CR39,RDGfix)+COUNTIF(CR$33:CR39,RDGave)+COUNTIF(CR$33:CR39,RDGevent)+CT$7-1","v":0},null,"","",{"$f":"COUNTIF(CV$33:CV39,OK)+COUNTIF(CV$33:CV39,RDGfix)+COUNTIF(CV$33:CV39,RDGave)+COUNTIF(CV$33:CV39,RDGevent)+CX$7-1","v":0},null,"","",{"$f":"COUNTIF(CZ$33:CZ39,OK)+COUNTIF(CZ$33:CZ39,RDGfix)+COUNTIF(CZ$33:CZ39,RDGave)+COUNTIF(CZ$33:CZ39,RDGevent)+DB$7-1","v":0},null,"","",{"$f":"COUNTIF(DD$33:DD39,OK)+COUNTIF(DD$33:DD39,RDGfix)+COUNTIF(DD$33:DD39,RDGave)+COUNTIF(DD$33:DD39,RDGevent)+DF$7-1","v":0},null,"","",{"$f":"COUNTIF(DH$33:DH39,OK)+COUNTIF(DH$33:DH39,RDGfix)+COUNTIF(DH$33:DH39,RDGave)+COUNTIF(DH$33:DH39,RDGevent)+DJ$7-1","v":0},null,"","",{"$f":"COUNTIF(DL$33:DL39,OK)+COUNTIF(DL$33:DL39,RDGfix)+COUNTIF(DL$33:DL39,RDGave)+COUNTIF(DL$33:DL39,RDGevent)+DN$7-1","v":0},null,"","",{"$f":"COUNTIF(DP$33:DP39,OK)+COUNTIF(DP$33:DP39,RDGfix)+COUNTIF(DP$33:DP39,RDGave)+COUNTIF(DP$33:DP39,RDGevent)+DR$7-1","v":0},null,"","",{"$f":"COUNTIF(DT$33:DT39,OK)+COUNTIF(DT$33:DT39,RDGfix)+COUNTIF(DT$33:DT39,RDGave)+COUNTIF(DT$33:DT39,RDGevent)+DV$7-1","v":0},null,"","",{"$f":"COUNTIF(DX$33:DX39,OK)+COUNTIF(DX$33:DX39,RDGfix)+COUNTIF(DX$33:DX39,RDGave)+COUNTIF(DX$33:DX39,RDGevent)+DZ$7-1","v":0},null,"","",{"$f":"COUNTIF(EB$33:EB39,OK)+COUNTIF(EB$33:EB39,RDGfix)+COUNTIF(EB$33:EB39,RDGave)+COUNTIF(EB$33:EB39,RDGevent)+ED$7-1","v":0},null,"","",{"$f":"COUNTIF(EF$33:EF39,OK)+COUNTIF(EF$33:EF39,RDGfix)+COUNTIF(EF$33:EF39,RDGave)+COUNTIF(EF$33:EF39,RDGevent)+EH$7-1","v":0},null,"","",{"$f":"COUNTIF(EJ$33:EJ39,OK)+COUNTIF(EJ$33:EJ39,RDGfix)+COUNTIF(EJ$33:EJ39,RDGave)+COUNTIF(EJ$33:EJ39,RDGevent)+EL$7-1","v":0},null,"","",{"$f":"COUNTIF(EN$33:EN39,OK)+COUNTIF(EN$33:EN39,RDGfix)+COUNTIF(EN$33:EN39,RDGave)+COUNTIF(EN$33:EN39,RDGevent)+EP$7-1","v":0},null,"","",{"$f":"COUNTIF(ER$33:ER39,OK)+COUNTIF(ER$33:ER39,RDGfix)+COUNTIF(ER$33:ER39,RDGave)+COUNTIF(ER$33:ER39,RDGevent)+ET$7-1","v":0},null,"","",{"$f":"COUNTIF(EV$33:EV39,OK)+COUNTIF(EV$33:EV39,RDGfix)+COUNTIF(EV$33:EV39,RDGave)+COUNTIF(EV$33:EV39,RDGevent)+EX$7-1","v":0},null,"","",{"$f":"COUNTIF(EZ$33:EZ39,OK)+COUNTIF(EZ$33:EZ39,RDGfix)+COUNTIF(EZ$33:EZ39,RDGave)+COUNTIF(EZ$33:EZ39,RDGevent)+FB$7-1","v":0},null,"","",{"$f":"COUNTIF(FD$33:FD39,OK)+COUNTIF(FD$33:FD39,RDGfix)+COUNTIF(FD$33:FD39,RDGave)+COUNTIF(FD$33:FD39,RDGevent)+FF$7-1","v":0},null,"","",{"$f":"COUNTIF(FH$33:FH39,OK)+COUNTIF(FH$33:FH39,RDGfix)+COUNTIF(FH$33:FH39,RDGave)+COUNTIF(FH$33:FH39,RDGevent)+FJ$7-1","v":0},null,1]
[null,"8th",null,"","",{"$f":"COUNTIF(D$33:D40,OK)+COUNTIF(D$33:D40,RDGfix)+COUNTIF(D$33:D40,RDGave)+COUNTIF(D$33:D40,RDGevent)","v":0},null,"","",{"$f":"COUNTIF(H$33:H40,OK)+COUNTIF(H$33:H40,RDGfix)+COUNTIF(H$33:H40,RDGave)+COUNTIF(H$33:H40,RDGevent)+J$7-1","v":0},null,"","",{"$f":"COUNTIF(L$33:L40,OK)+COUNTIF(L$33:L40,RDGfix)+COUNTIF(L$33:L40,RDGave)+COUNTIF(L$33:L40,RDGevent)+N$7-1","v":0},null,"","",{"$f":"COUNTIF(P$33:P40,OK)+COUNTIF(P$33:P40,RDGfix)+COUNTIF(P$33:P40,RDGave)+COUNTIF(P$33:P40,RDGevent)+R$7-1","v":0},null,"","",{"$f":"COUNTIF(T$33:T40,OK)+COUNTIF(T$33:T40,RDGfix)+COUNTIF(T$33:T40,RDGave)+COUNTIF(T$33:T40,RDGevent)+V$7-1","v":0},null,"","",{"$f":"COUNTIF(X$33:X40,OK)+COUNTIF(X$33:X40,RDGfix)+COUNTIF(X$33:X40,RDGave)+COUNTIF(X$33:X40,RDGevent)+Z$7-1","v":0},null,"","",{"$f":"COUNTIF(AB$33:AB40,OK)+COUNTIF(AB$33:AB40,RDGfix)+COUNTIF(AB$33:AB40,RDGave)+COUNTIF(AB$33:AB40,RDGevent)+AD$7-1","v":0},null,"","",{"$f":"COUNTIF(AF$33:AF40,OK)+COUNTIF(AF$33:AF40,RDGfix)+COUNTIF(AF$33:AF40,RDGave)+COUNTIF(AF$33:AF40,RDGevent)+AH$7-1","v":0},null,"","",{"$f":"COUNTIF(AJ$33:AJ40,OK)+COUNTIF(AJ$33:AJ40,RDGfix)+COUNTIF(AJ$33:AJ40,RDGave)+COUNTIF(AJ$33:AJ40,RDGevent)+AL$7-1","v":0},null,"","",{"$f":"COUNTIF(AN$33:AN40,OK)+COUNTIF(AN$33:AN40,RDGfix)+COUNTIF(AN$33:AN40,RDGave)+COUNTIF(AN$33:AN40,RDGevent)+AP$7-1","v":0},null,"","",{"$f":"COUNTIF(AR$33:AR40,OK)+COUNTIF(AR$33:AR40,RDGfix)+COUNTIF(AR$33:AR40,RDGave)+COUNTIF(AR$33:AR40,RDGevent)+AT$7-1","v":0},null,"","",{"$f":"COUNTIF(AV$33:AV40,OK)+COUNTIF(AV$33:AV40,RDGfix)+COUNTIF(AV$33:AV40,RDGave)+COUNTIF(AV$33:AV40,RDGevent)+AX$7-1","v":0},null,"","",{"$f":"COUNTIF(AZ$33:AZ40,OK)+COUNTIF(AZ$33:AZ40,RDGfix)+COUNTIF(AZ$33:AZ40,RDGave)+COUNTIF(AZ$33:AZ40,RDGevent)+BB$7-1","v":0},null,"","",{"$f":"COUNTIF(BD$33:BD40,OK)+COUNTIF(BD$33:BD40,RDGfix)+COUNTIF(BD$33:BD40,RDGave)+COUNTIF(BD$33:BD40,RDGevent)+BF$7-1","v":0},null,"","",{"$f":"COUNTIF(BH$33:BH40,OK)+COUNTIF(BH$33:BH40,RDGfix)+COUNTIF(BH$33:BH40,RDGave)+COUNTIF(BH$33:BH40,RDGevent)+BJ$7-1","v":0},null,"","",{"$f":"COUNTIF(BL$33:BL40,OK)+COUNTIF(BL$33:BL40,RDGfix)+COUNTIF(BL$33:BL40,RDGave)+COUNTIF(BL$33:BL40,RDGevent)+BN$7-1","v":0},null,"","",{"$f":"COUNTIF(BP$33:BP40,OK)+COUNTIF(BP$33:BP40,RDGfix)+COUNTIF(BP$33:BP40,RDGave)+COUNTIF(BP$33:BP40,RDGevent)+BR$7-1","v":0},null,"","",{"$f":"COUNTIF(BT$33:BT40,OK)+COUNTIF(BT$33:BT40,RDGfix)+COUNTIF(BT$33:BT40,RDGave)+COUNTIF(BT$33:BT40,RDGevent)+BV$7-1","v":0},null,"","",{"$f":"COUNTIF(BX$33:BX40,OK)+COUNTIF(BX$33:BX40,RDGfix)+COUNTIF(BX$33:BX40,RDGave)+COUNTIF(BX$33:BX40,RDGevent)+BZ$7-1","v":0},null,"","",{"$f":"COUNTIF(CB$33:CB40,OK)+COUNTIF(CB$33:CB40,RDGfix)+COUNTIF(CB$33:CB40,RDGave)+COUNTIF(CB$33:CB40,RDGevent)+CD$7-1","v":0},null,"","",{"$f":"COUNTIF(CF$33:CF40,OK)+COUNTIF(CF$33:CF40,RDGfix)+COUNTIF(CF$33:CF40,RDGave)+COUNTIF(CF$33:CF40,RDGevent)+CH$7-1","v":0},null,"","",{"$f":"COUNTIF(CJ$33:CJ40,OK)+COUNTIF(CJ$33:CJ40,RDGfix)+COUNTIF(CJ$33:CJ40,RDGave)+COUNTIF(CJ$33:CJ40,RDGevent)+CL$7-1","v":0},null,"","",{"$f":"COUNTIF(CN$33:CN40,OK)+COUNTIF(CN$33:CN40,RDGfix)+COUNTIF(CN$33:CN40,RDGave)+COUNTIF(CN$33:CN40,RDGevent)+CP$7-1","v":0},null,"","",{"$f":"COUNTIF(CR$33:CR40,OK)+COUNTIF(CR$33:CR40,RDGfix)+COUNTIF(CR$33:CR40,RDGave)+COUNTIF(CR$33:CR40,RDGevent)+CT$7-1","v":0},null,"","",{"$f":"COUNTIF(CV$33:CV40,OK)+COUNTIF(CV$33:CV40,RDGfix)+COUNTIF(CV$33:CV40,RDGave)+COUNTIF(CV$33:CV40,RDGevent)+CX$7-1","v":0},null,"","",{"$f":"COUNTIF(CZ$33:CZ40,OK)+COUNTIF(CZ$33:CZ40,RDGfix)+COUNTIF(CZ$33:CZ40,RDGave)+COUNTIF(CZ$33:CZ40,RDGevent)+DB$7-1","v":0},null,"","",{"$f":"COUNTIF(DD$33:DD40,OK)+COUNTIF(DD$33:DD40,RDGfix)+COUNTIF(DD$33:DD40,RDGave)+COUNTIF(DD$33:DD40,RDGevent)+DF$7-1","v":0},null,"","",{"$f":"COUNTIF(DH$33:DH40,OK)+COUNTIF(DH$33:DH40,RDGfix)+COUNTIF(DH$33:DH40,RDGave)+COUNTIF(DH$33:DH40,RDGevent)+DJ$7-1","v":0},null,"","",{"$f":"COUNTIF(DL$33:DL40,OK)+COUNTIF(DL$33:DL40,RDGfix)+COUNTIF(DL$33:DL40,RDGave)+COUNTIF(DL$33:DL40,RDGevent)+DN$7-1","v":0},null,"","",{"$f":"COUNTIF(DP$33:DP40,OK)+COUNTIF(DP$33:DP40,RDGfix)+COUNTIF(DP$33:DP40,RDGave)+COUNTIF(DP$33:DP40,RDGevent)+DR$7-1","v":0},null,"","",{"$f":"COUNTIF(DT$33:DT40,OK)+COUNTIF(DT$33:DT40,RDGfix)+COUNTIF(DT$33:DT40,RDGave)+COUNTIF(DT$33:DT40,RDGevent)+DV$7-1","v":0},null,"","",{"$f":"COUNTIF(DX$33:DX40,OK)+COUNTIF(DX$33:DX40,RDGfix)+COUNTIF(DX$33:DX40,RDGave)+COUNTIF(DX$33:DX40,RDGevent)+DZ$7-1","v":0},null,"","",{"$f":"COUNTIF(EB$33:EB40,OK)+COUNTIF(EB$33:EB40,RDGfix)+COUNTIF(EB$33:EB40,RDGave)+COUNTIF(EB$33:EB40,RDGevent)+ED$7-1","v":0},null,"","",{"$f":"COUNTIF(EF$33:EF40,OK)+COUNTIF(EF$33:EF40,RDGfix)+COUNTIF(EF$33:EF40,RDGave)+COUNTIF(EF$33:EF40,RDGevent)+EH$7-1","v":0},null,"","",{"$f":"COUNTIF(EJ$33:EJ40,OK)+COUNTIF(EJ$33:EJ40,RDGfix)+COUNTIF(EJ$33:EJ40,RDGave)+COUNTIF(EJ$33:EJ40,RDGevent)+EL$7-1","v":0},null,"","",{"$f":"COUNTIF(EN$33:EN40,OK)+COUNTIF(EN$33:EN40,RDGfix)+COUNTIF(EN$33:EN40,RDGave)+COUNTIF(EN$33:EN40,RDGevent)+EP$7-1","v":0},null,"","",{"$f":"COUNTIF(ER$33:ER40,OK)+COUNTIF(ER$33:ER40,RDGfix)+COUNTIF(ER$33:ER40,RDGave)+COUNTIF(ER$33:ER40,RDGevent)+ET$7-1","v":0},null,"","",{"$f":"COUNTIF(EV$33:EV40,OK)+COUNTIF(EV$33:EV40,RDGfix)+COUNTIF(EV$33:EV40,RDGave)+COUNTIF(EV$33:EV40,RDGevent)+EX$7-1","v":0},null,"","",{"$f":"COUNTIF(EZ$33:EZ40,OK)+COUNTIF(EZ$33:EZ40,RDGfix)+COUNTIF(EZ$33:EZ40,RDGave)+COUNTIF(EZ$33:EZ40,RDGevent)+FB$7-1","v":0},null,"","",{"$f":"COUNTIF(FD$33:FD40,OK)+COUNTIF(FD$33:FD40,RDGfix)+COUNTIF(FD$33:FD40,RDGave)+COUNTIF(FD$33:FD40,RDGevent)+FF$7-1","v":0},null,"","",{"$f":"COUNTIF(FH$33:FH40,OK)+COUNTIF(FH$33:FH40,RDGfix)+COUNTIF(FH$33:FH40,RDGave)+COUNTIF(FH$33:FH40,RDGevent)+FJ$7-1","v":0},null,1]
[null,"9th",null,"","",{"$f":"COUNTIF(D$33:D41,OK)+COUNTIF(D$33:D41,RDGfix)+COUNTIF(D$33:D41,RDGave)+COUNTIF(D$33:D41,RDGevent)","v":0},null,"","",{"$f":"COUNTIF(H$33:H41,OK)+COUNTIF(H$33:H41,RDGfix)+COUNTIF(H$33:H41,RDGave)+COUNTIF(H$33:H41,RDGevent)+J$7-1","v":0},null,"","",{"$f":"COUNTIF(L$33:L41,OK)+COUNTIF(L$33:L41,RDGfix)+COUNTIF(L$33:L41,RDGave)+COUNTIF(L$33:L41,RDGevent)+N$7-1","v":0},null,"","",{"$f":"COUNTIF(P$33:P41,OK)+COUNTIF(P$33:P41,RDGfix)+COUNTIF(P$33:P41,RDGave)+COUNTIF(P$33:P41,RDGevent)+R$7-1","v":0},null,"","",{"$f":"COUNTIF(T$33:T41,OK)+COUNTIF(T$33:T41,RDGfix)+COUNTIF(T$33:T41,RDGave)+COUNTIF(T$33:T41,RDGevent)+V$7-1","v":0},null,"","",{"$f":"COUNTIF(X$33:X41,OK)+COUNTIF(X$33:X41,RDGfix)+COUNTIF(X$33:X41,RDGave)+COUNTIF(X$33:X41,RDGevent)+Z$7-1","v":0},null,"","",{"$f":"COUNTIF(AB$33:AB41,OK)+COUNTIF(AB$33:AB41,RDGfix)+COUNTIF(AB$33:AB41,RDGave)+COUNTIF(AB$33:AB41,RDGevent)+AD$7-1","v":0},null,"","",{"$f":"COUNTIF(AF$33:AF41,OK)+COUNTIF(AF$33:AF41,RDGfix)+COUNTIF(AF$33:AF41,RDGave)+COUNTIF(AF$33:AF41,RDGevent)+AH$7-1","v":0},null,"","",{"$f":"COUNTIF(AJ$33:AJ41,OK)+COUNTIF(AJ$33:AJ41,RDGfix)+COUNTIF(AJ$33:AJ41,RDGave)+COUNTIF(AJ$33:AJ41,RDGevent)+AL$7-1","v":0},null,"","",{"$f":"COUNTIF(AN$33:AN41,OK)+COUNTIF(AN$33:AN41,RDGfix)+COUNTIF(AN$33:AN41,RDGave)+COUNTIF(AN$33:AN41,RDGevent)+AP$7-1","v":0},null,"","",{"$f":"COUNTIF(AR$33:AR41,OK)+COUNTIF(AR$33:AR41,RDGfix)+COUNTIF(AR$33:AR41,RDGave)+COUNTIF(AR$33:AR41,RDGevent)+AT$7-1","v":0},null,"","",{"$f":"COUNTIF(AV$33:AV41,OK)+COUNTIF(AV$33:AV41,RDGfix)+COUNTIF(AV$33:AV41,RDGave)+COUNTIF(AV$33:AV41,RDGevent)+AX$7-1","v":0},null,"","",{"$f":"COUNTIF(AZ$33:AZ41,OK)+COUNTIF(AZ$33:AZ41,RDGfix)+COUNTIF(AZ$33:AZ41,RDGave)+COUNTIF(AZ$33:AZ41,RDGevent)+BB$7-1","v":0},null,"","",{"$f":"COUNTIF(BD$33:BD41,OK)+COUNTIF(BD$33:BD41,RDGfix)+COUNTIF(BD$33:BD41,RDGave)+COUNTIF(BD$33:BD41,RDGevent)+BF$7-1","v":0},null,"","",{"$f":"COUNTIF(BH$33:BH41,OK)+COUNTIF(BH$33:BH41,RDGfix)+COUNTIF(BH$33:BH41,RDGave)+COUNTIF(BH$33:BH41,RDGevent)+BJ$7-1","v":0},null,"","",{"$f":"COUNTIF(BL$33:BL41,OK)+COUNTIF(BL$33:BL41,RDGfix)+COUNTIF(BL$33:BL41,RDGave)+COUNTIF(BL$33:BL41,RDGevent)+BN$7-1","v":0},null,"","",{"$f":"COUNTIF(BP$33:BP41,OK)+COUNTIF(BP$33:BP41,RDGfix)+COUNTIF(BP$33:BP41,RDGave)+COUNTIF(BP$33:BP41,RDGevent)+BR$7-1","v":0},null,"","",{"$f":"COUNTIF(BT$33:BT41,OK)+COUNTIF(BT$33:BT41,RDGfix)+COUNTIF(BT$33:BT41,RDGave)+COUNTIF(BT$33:BT41,RDGevent)+BV$7-1","v":0},null,"","",{"$f":"COUNTIF(BX$33:BX41,OK)+COUNTIF(BX$33:BX41,RDGfix)+COUNTIF(BX$33:BX41,RDGave)+COUNTIF(BX$33:BX41,RDGevent)+BZ$7-1","v":0},null,"","",{"$f":"COUNTIF(CB$33:CB41,OK)+COUNTIF(CB$33:CB41,RDGfix)+COUNTIF(CB$33:CB41,RDGave)+COUNTIF(CB$33:CB41,RDGevent)+CD$7-1","v":0},null,"","",{"$f":"COUNTIF(CF$33:CF41,OK)+COUNTIF(CF$33:CF41,RDGfix)+COUNTIF(CF$33:CF41,RDGave)+COUNTIF(CF$33:CF41,RDGevent)+CH$7-1","v":0},null,"","",{"$f":"COUNTIF(CJ$33:CJ41,OK)+COUNTIF(CJ$33:CJ41,RDGfix)+COUNTIF(CJ$33:CJ41,RDGave)+COUNTIF(CJ$33:CJ41,RDGevent)+CL$7-1","v":0},null,"","",{"$f":"COUNTIF(CN$33:CN41,OK)+COUNTIF(CN$33:CN41,RDGfix)+COUNTIF(CN$33:CN41,RDGave)+COUNTIF(CN$33:CN41,RDGevent)+CP$7-1","v":0},null,"","",{"$f":"COUNTIF(CR$33:CR41,OK)+COUNTIF(CR$33:CR41,RDGfix)+COUNTIF(CR$33:CR41,RDGave)+COUNTIF(CR$33:CR41,RDGevent)+CT$7-1","v":0},null,"","",{"$f":"COUNTIF(CV$33:CV41,OK)+COUNTIF(CV$33:CV41,RDGfix)+COUNTIF(CV$33:CV41,RDGave)+COUNTIF(CV$33:CV41,RDGevent)+CX$7-1","v":0},null,"","",{"$f":"COUNTIF(CZ$33:CZ41,OK)+COUNTIF(CZ$33:CZ41,RDGfix)+COUNTIF(CZ$33:CZ41,RDGave)+COUNTIF(CZ$33:CZ41,RDGevent)+DB$7-1","v":0},null,"","",{"$f":"COUNTIF(DD$33:DD41,OK)+COUNTIF(DD$33:DD41,RDGfix)+COUNTIF(DD$33:DD41,RDGave)+COUNTIF(DD$33:DD41,RDGevent)+DF$7-1","v":0},null,"","",{"$f":"COUNTIF(DH$33:DH41,OK)+COUNTIF(DH$33:DH41,RDGfix)+COUNTIF(DH$33:DH41,RDGave)+COUNTIF(DH$33:DH41,RDGevent)+DJ$7-1","v":0},null,"","",{"$f":"COUNTIF(DL$33:DL41,OK)+COUNTIF(DL$33:DL41,RDGfix)+COUNTIF(DL$33:DL41,RDGave)+COUNTIF(DL$33:DL41,RDGevent)+DN$7-1","v":0},null,"","",{"$f":"COUNTIF(DP$33:DP41,OK)+COUNTIF(DP$33:DP41,RDGfix)+COUNTIF(DP$33:DP41,RDGave)+COUNTIF(DP$33:DP41,RDGevent)+DR$7-1","v":0},null,"","",{"$f":"COUNTIF(DT$33:DT41,OK)+COUNTIF(DT$33:DT41,RDGfix)+COUNTIF(DT$33:DT41,RDGave)+COUNTIF(DT$33:DT41,RDGevent)+DV$7-1","v":0},null,"","",{"$f":"COUNTIF(DX$33:DX41,OK)+COUNTIF(DX$33:DX41,RDGfix)+COUNTIF(DX$33:DX41,RDGave)+COUNTIF(DX$33:DX41,RDGevent)+DZ$7-1","v":0},null,"","",{"$f":"COUNTIF(EB$33:EB41,OK)+COUNTIF(EB$33:EB41,RDGfix)+COUNTIF(EB$33:EB41,RDGave)+COUNTIF(EB$33:EB41,RDGevent)+ED$7-1","v":0},null,"","",{"$f":"COUNTIF(EF$33:EF41,OK)+COUNTIF(EF$33:EF41,RDGfix)+COUNTIF(EF$33:EF41,RDGave)+COUNTIF(EF$33:EF41,RDGevent)+EH$7-1","v":0},null,"","",{"$f":"COUNTIF(EJ$33:EJ41,OK)+COUNTIF(EJ$33:EJ41,RDGfix)+COUNTIF(EJ$33:EJ41,RDGave)+COUNTIF(EJ$33:EJ41,RDGevent)+EL$7-1","v":0},null,"","",{"$f":"COUNTIF(EN$33:EN41,OK)+COUNTIF(EN$33:EN41,RDGfix)+COUNTIF(EN$33:EN41,RDGave)+COUNTIF(EN$33:EN41,RDGevent)+EP$7-1","v":0},null,"","",{"$f":"COUNTIF(ER$33:ER41,OK)+COUNTIF(ER$33:ER41,RDGfix)+COUNTIF(ER$33:ER41,RDGave)+COUNTIF(ER$33:ER41,RDGevent)+ET$7-1","v":0},null,"","",{"$f":"COUNTIF(EV$33:EV41,OK)+COUNTIF(EV$33:EV41,RDGfix)+COUNTIF(EV$33:EV41,RDGave)+COUNTIF(EV$33:EV41,RDGevent)+EX$7-1","v":0},null,"","",{"$f":"COUNTIF(EZ$33:EZ41,OK)+COUNTIF(EZ$33:EZ41,RDGfix)+COUNTIF(EZ$33:EZ41,RDGave)+COUNTIF(EZ$33:EZ41,RDGevent)+FB$7-1","v":0},null,"","",{"$f":"COUNTIF(FD$33:FD41,OK)+COUNTIF(FD$33:FD41,RDGfix)+COUNTIF(FD$33:FD41,RDGave)+COUNTIF(FD$33:FD41,RDGevent)+FF$7-1","v":0},null,"","",{"$f":"COUNTIF(FH$33:FH41,OK)+COUNTIF(FH$33:FH41,RDGfix)+COUNTIF(FH$33:FH41,RDGave)+COUNTIF(FH$33:FH41,RDGevent)+FJ$7-1","v":0},null,1]
[null,"10th",null,"","",{"$f":"COUNTIF(D$33:D42,OK)+COUNTIF(D$33:D42,RDGfix)+COUNTIF(D$33:D42,RDGave)+COUNTIF(D$33:D42,RDGevent)","v":0},null,"","",{"$f":"COUNTIF(H$33:H42,OK)+COUNTIF(H$33:H42,RDGfix)+COUNTIF(H$33:H42,RDGave)+COUNTIF(H$33:H42,RDGevent)+J$7-1","v":0},null,"","",{"$f":"COUNTIF(L$33:L42,OK)+COUNTIF(L$33:L42,RDGfix)+COUNTIF(L$33:L42,RDGave)+COUNTIF(L$33:L42,RDGevent)+N$7-1","v":0},null,"","",{"$f":"COUNTIF(P$33:P42,OK)+COUNTIF(P$33:P42,RDGfix)+COUNTIF(P$33:P42,RDGave)+COUNTIF(P$33:P42,RDGevent)+R$7-1","v":0},null,"","",{"$f":"COUNTIF(T$33:T42,OK)+COUNTIF(T$33:T42,RDGfix)+COUNTIF(T$33:T42,RDGave)+COUNTIF(T$33:T42,RDGevent)+V$7-1","v":0},null,"","",{"$f":"COUNTIF(X$33:X42,OK)+COUNTIF(X$33:X42,RDGfix)+COUNTIF(X$33:X42,RDGave)+COUNTIF(X$33:X42,RDGevent)+Z$7-1","v":0},null,"","",{"$f":"COUNTIF(AB$33:AB42,OK)+COUNTIF(AB$33:AB42,RDGfix)+COUNTIF(AB$33:AB42,RDGave)+COUNTIF(AB$33:AB42,RDGevent)+AD$7-1","v":0},null,"","",{"$f":"COUNTIF(AF$33:AF42,OK)+COUNTIF(AF$33:AF42,RDGfix)+COUNTIF(AF$33:AF42,RDGave)+COUNTIF(AF$33:AF42,RDGevent)+AH$7-1","v":0},null,"","",{"$f":"COUNTIF(AJ$33:AJ42,OK)+COUNTIF(AJ$33:AJ42,RDGfix)+COUNTIF(AJ$33:AJ42,RDGave)+COUNTIF(AJ$33:AJ42,RDGevent)+AL$7-1","v":0},null,"","",{"$f":"COUNTIF(AN$33:AN42,OK)+COUNTIF(AN$33:AN42,RDGfix)+COUNTIF(AN$33:AN42,RDGave)+COUNTIF(AN$33:AN42,RDGevent)+AP$7-1","v":0},null,"","",{"$f":"COUNTIF(AR$33:AR42,OK)+COUNTIF(AR$33:AR42,RDGfix)+COUNTIF(AR$33:AR42,RDGave)+COUNTIF(AR$33:AR42,RDGevent)+AT$7-1","v":0},null,"","",{"$f":"COUNTIF(AV$33:AV42,OK)+COUNTIF(AV$33:AV42,RDGfix)+COUNTIF(AV$33:AV42,RDGave)+COUNTIF(AV$33:AV42,RDGevent)+AX$7-1","v":0},null,"","",{"$f":"COUNTIF(AZ$33:AZ42,OK)+COUNTIF(AZ$33:AZ42,RDGfix)+COUNTIF(AZ$33:AZ42,RDGave)+COUNTIF(AZ$33:AZ42,RDGevent)+BB$7-1","v":0},null,"","",{"$f":"COUNTIF(BD$33:BD42,OK)+COUNTIF(BD$33:BD42,RDGfix)+COUNTIF(BD$33:BD42,RDGave)+COUNTIF(BD$33:BD42,RDGevent)+BF$7-1","v":0},null,"","",{"$f":"COUNTIF(BH$33:BH42,OK)+COUNTIF(BH$33:BH42,RDGfix)+COUNTIF(BH$33:BH42,RDGave)+COUNTIF(BH$33:BH42,RDGevent)+BJ$7-1","v":0},null,"","",{"$f":"COUNTIF(BL$33:BL42,OK)+COUNTIF(BL$33:BL42,RDGfix)+COUNTIF(BL$33:BL42,RDGave)+COUNTIF(BL$33:BL42,RDGevent)+BN$7-1","v":0},null,"","",{"$f":"COUNTIF(BP$33:BP42,OK)+COUNTIF(BP$33:BP42,RDGfix)+COUNTIF(BP$33:BP42,RDGave)+COUNTIF(BP$33:BP42,RDGevent)+BR$7-1","v":0},null,"","",{"$f":"COUNTIF(BT$33:BT42,OK)+COUNTIF(BT$33:BT42,RDGfix)+COUNTIF(BT$33:BT42,RDGave)+COUNTIF(BT$33:BT42,RDGevent)+BV$7-1","v":0},null,"","",{"$f":"COUNTIF(BX$33:BX42,OK)+COUNTIF(BX$33:BX42,RDGfix)+COUNTIF(BX$33:BX42,RDGave)+COUNTIF(BX$33:BX42,RDGevent)+BZ$7-1","v":0},null,"","",{"$f":"COUNTIF(CB$33:CB42,OK)+COUNTIF(CB$33:CB42,RDGfix)+COUNTIF(CB$33:CB42,RDGave)+COUNTIF(CB$33:CB42,RDGevent)+CD$7-1","v":0},null,"","",{"$f":"COUNTIF(CF$33:CF42,OK)+COUNTIF(CF$33:CF42,RDGfix)+COUNTIF(CF$33:CF42,RDGave)+COUNTIF(CF$33:CF42,RDGevent)+CH$7-1","v":0},null,"","",{"$f":"COUNTIF(CJ$33:CJ42,OK)+COUNTIF(CJ$33:CJ42,RDGfix)+COUNTIF(CJ$33:CJ42,RDGave)+COUNTIF(CJ$33:CJ42,RDGevent)+CL$7-1","v":0},null,"","",{"$f":"COUNTIF(CN$33:CN42,OK)+COUNTIF(CN$33:CN42,RDGfix)+COUNTIF(CN$33:CN42,RDGave)+COUNTIF(CN$33:CN42,RDGevent)+CP$7-1","v":0},null,"","",{"$f":"COUNTIF(CR$33:CR42,OK)+COUNTIF(CR$33:CR42,RDGfix)+COUNTIF(CR$33:CR42,RDGave)+COUNTIF(CR$33:CR42,RDGevent)+CT$7-1","v":0},null,"","",{"$f":"COUNTIF(CV$33:CV42,OK)+COUNTIF(CV$33:CV42,RDGfix)+COUNTIF(CV$33:CV42,RDGave)+COUNTIF(CV$33:CV42,RDGevent)+CX$7-1","v":0},null,"","",{"$f":"COUNTIF(CZ$33:CZ42,OK)+COUNTIF(CZ$33:CZ42,RDGfix)+COUNTIF(CZ$33:CZ42,RDGave)+COUNTIF(CZ$33:CZ42,RDGevent)+DB$7-1","v":0},null,"","",{"$f":"COUNTIF(DD$33:DD42,OK)+COUNTIF(DD$33:DD42,RDGfix)+COUNTIF(DD$33:DD42,RDGave)+COUNTIF(DD$33:DD42,RDGevent)+DF$7-1","v":0},null,"","",{"$f":"COUNTIF(DH$33:DH42,OK)+COUNTIF(DH$33:DH42,RDGfix)+COUNTIF(DH$33:DH42,RDGave)+COUNTIF(DH$33:DH42,RDGevent)+DJ$7-1","v":0},null,"","",{"$f":"COUNTIF(DL$33:DL42,OK)+COUNTIF(DL$33:DL42,RDGfix)+COUNTIF(DL$33:DL42,RDGave)+COUNTIF(DL$33:DL42,RDGevent)+DN$7-1","v":0},null,"","",{"$f":"COUNTIF(DP$33:DP42,OK)+COUNTIF(DP$33:DP42,RDGfix)+COUNTIF(DP$33:DP42,RDGave)+COUNTIF(DP$33:DP42,RDGevent)+DR$7-1","v":0},null,"","",{"$f":"COUNTIF(DT$33:DT42,OK)+COUNTIF(DT$33:DT42,RDGfix)+COUNTIF(DT$33:DT42,RDGave)+COUNTIF(DT$33:DT42,RDGevent)+DV$7-1","v":0},null,"","",{"$f":"COUNTIF(DX$33:DX42,OK)+COUNTIF(DX$33:DX42,RDGfix)+COUNTIF(DX$33:DX42,RDGave)+COUNTIF(DX$33:DX42,RDGevent)+DZ$7-1","v":0},null,"","",{"$f":"COUNTIF(EB$33:EB42,OK)+COUNTIF(EB$33:EB42,RDGfix)+COUNTIF(EB$33:EB42,RDGave)+COUNTIF(EB$33:EB42,RDGevent)+ED$7-1","v":0},null,"","",{"$f":"COUNTIF(EF$33:EF42,OK)+COUNTIF(EF$33:EF42,RDGfix)+COUNTIF(EF$33:EF42,RDGave)+COUNTIF(EF$33:EF42,RDGevent)+EH$7-1","v":0},null,"","",{"$f":"COUNTIF(EJ$33:EJ42,OK)+COUNTIF(EJ$33:EJ42,RDGfix)+COUNTIF(EJ$33:EJ42,RDGave)+COUNTIF(EJ$33:EJ42,RDGevent)+EL$7-1","v":0},null,"","",{"$f":"COUNTIF(EN$33:EN42,OK)+COUNTIF(EN$33:EN42,RDGfix)+COUNTIF(EN$33:EN42,RDGave)+COUNTIF(EN$33:EN42,RDGevent)+EP$7-1","v":0},null,"","",{"$f":"COUNTIF(ER$33:ER42,OK)+COUNTIF(ER$33:ER42,RDGfix)+COUNTIF(ER$33:ER42,RDGave)+COUNTIF(ER$33:ER42,RDGevent)+ET$7-1","v":0},null,"","",{"$f":"COUNTIF(EV$33:EV42,OK)+COUNTIF(EV$33:EV42,RDGfix)+COUNTIF(EV$33:EV42,RDGave)+COUNTIF(EV$33:EV42,RDGevent)+EX$7-1","v":0},null,"","",{"$f":"COUNTIF(EZ$33:EZ42,OK)+COUNTIF(EZ$33:EZ42,RDGfix)+COUNTIF(EZ$33:EZ42,RDGave)+COUNTIF(EZ$33:EZ42,RDGevent)+FB$7-1","v":0},null,"","",{"$f":"COUNTIF(FD$33:FD42,OK)+COUNTIF(FD$33:FD42,RDGfix)+COUNTIF(FD$33:FD42,RDGave)+COUNTIF(FD$33:FD42,RDGevent)+FF$7-1","v":0},null,"","",{"$f":"COUNTIF(FH$33:FH42,OK)+COUNTIF(FH$33:FH42,RDGfix)+COUNTIF(FH$33:FH42,RDGave)+COUNTIF(FH$33:FH42,RDGevent)+FJ$7-1","v":0},null,1]
[null,"11th",null,"","",{"$f":"COUNTIF(D$33:D43,OK)+COUNTIF(D$33:D43,RDGfix)+COUNTIF(D$33:D43,RDGave)+COUNTIF(D$33:D43,RDGevent)","v":0},null,"","",{"$f":"COUNTIF(H$33:H43,OK)+COUNTIF(H$33:H43,RDGfix)+COUNTIF(H$33:H43,RDGave)+COUNTIF(H$33:H43,RDGevent)+J$7-1","v":0},null,"","",{"$f":"COUNTIF(L$33:L43,OK)+COUNTIF(L$33:L43,RDGfix)+COUNTIF(L$33:L43,RDGave)+COUNTIF(L$33:L43,RDGevent)+N$7-1","v":0},null,"","",{"$f":"COUNTIF(P$33:P43,OK)+COUNTIF(P$33:P43,RDGfix)+COUNTIF(P$33:P43,RDGave)+COUNTIF(P$33:P43,RDGevent)+R$7-1","v":0},null,"","",{"$f":"COUNTIF(T$33:T43,OK)+COUNTIF(T$33:T43,RDGfix)+COUNTIF(T$33:T43,RDGave)+COUNTIF(T$33:T43,RDGevent)+V$7-1","v":0},null,"","",{"$f":"COUNTIF(X$33:X43,OK)+COUNTIF(X$33:X43,RDGfix)+COUNTIF(X$33:X43,RDGave)+COUNTIF(X$33:X43,RDGevent)+Z$7-1","v":0},null,"","",{"$f":"COUNTIF(AB$33:AB43,OK)+COUNTIF(AB$33:AB43,RDGfix)+COUNTIF(AB$33:AB43,RDGave)+COUNTIF(AB$33:AB43,RDGevent)+AD$7-1","v":0},null,"","",{"$f":"COUNTIF(AF$33:AF43,OK)+COUNTIF(AF$33:AF43,RDGfix)+COUNTIF(AF$33:AF43,RDGave)+COUNTIF(AF$33:AF43,RDGevent)+AH$7-1","v":0},null,"","",{"$f":"COUNTIF(AJ$33:AJ43,OK)+COUNTIF(AJ$33:AJ43,RDGfix)+COUNTIF(AJ$33:AJ43,RDGave)+COUNTIF(AJ$33:AJ43,RDGevent)+AL$7-1","v":0},null,"","",{"$f":"COUNTIF(AN$33:AN43,OK)+COUNTIF(AN$33:AN43,RDGfix)+COUNTIF(AN$33:AN43,RDGave)+COUNTIF(AN$33:AN43,RDGevent)+AP$7-1","v":0},null,"","",{"$f":"COUNTIF(AR$33:AR43,OK)+COUNTIF(AR$33:AR43,RDGfix)+COUNTIF(AR$33:AR43,RDGave)+COUNTIF(AR$33:AR43,RDGevent)+AT$7-1","v":0},null,"","",{"$f":"COUNTIF(AV$33:AV43,OK)+COUNTIF(AV$33:AV43,RDGfix)+COUNTIF(AV$33:AV43,RDGave)+COUNTIF(AV$33:AV43,RDGevent)+AX$7-1","v":0},null,"","",{"$f":"COUNTIF(AZ$33:AZ43,OK)+COUNTIF(AZ$33:AZ43,RDGfix)+COUNTIF(AZ$33:AZ43,RDGave)+COUNTIF(AZ$33:AZ43,RDGevent)+BB$7-1","v":0},null,"","",{"$f":"COUNTIF(BD$33:BD43,OK)+COUNTIF(BD$33:BD43,RDGfix)+COUNTIF(BD$33:BD43,RDGave)+COUNTIF(BD$33:BD43,RDGevent)+BF$7-1","v":0},null,"","",{"$f":"COUNTIF(BH$33:BH43,OK)+COUNTIF(BH$33:BH43,RDGfix)+COUNTIF(BH$33:BH43,RDGave)+COUNTIF(BH$33:BH43,RDGevent)+BJ$7-1","v":0},null,"","",{"$f":"COUNTIF(BL$33:BL43,OK)+COUNTIF(BL$33:BL43,RDGfix)+COUNTIF(BL$33:BL43,RDGave)+COUNTIF(BL$33:BL43,RDGevent)+BN$7-1","v":0},null,"","",{"$f":"COUNTIF(BP$33:BP43,OK)+COUNTIF(BP$33:BP43,RDGfix)+COUNTIF(BP$33:BP43,RDGave)+COUNTIF(BP$33:BP43,RDGevent)+BR$7-1","v":0},null,"","",{"$f":"COUNTIF(BT$33:BT43,OK)+COUNTIF(BT$33:BT43,RDGfix)+COUNTIF(BT$33:BT43,RDGave)+COUNTIF(BT$33:BT43,RDGevent)+BV$7-1","v":0},null,"","",{"$f":"COUNTIF(BX$33:BX43,OK)+COUNTIF(BX$33:BX43,RDGfix)+COUNTIF(BX$33:BX43,RDGave)+COUNTIF(BX$33:BX43,RDGevent)+BZ$7-1","v":0},null,"","",{"$f":"COUNTIF(CB$33:CB43,OK)+COUNTIF(CB$33:CB43,RDGfix)+COUNTIF(CB$33:CB43,RDGave)+COUNTIF(CB$33:CB43,RDGevent)+CD$7-1","v":0},null,"","",{"$f":"COUNTIF(CF$33:CF43,OK)+COUNTIF(CF$33:CF43,RDGfix)+COUNTIF(CF$33:CF43,RDGave)+COUNTIF(CF$33:CF43,RDGevent)+CH$7-1","v":0},null,"","",{"$f":"COUNTIF(CJ$33:CJ43,OK)+COUNTIF(CJ$33:CJ43,RDGfix)+COUNTIF(CJ$33:CJ43,RDGave)+COUNTIF(CJ$33:CJ43,RDGevent)+CL$7-1","v":0},null,"","",{"$f":"COUNTIF(CN$33:CN43,OK)+COUNTIF(CN$33:CN43,RDGfix)+COUNTIF(CN$33:CN43,RDGave)+COUNTIF(CN$33:CN43,RDGevent)+CP$7-1","v":0},null,"","",{"$f":"COUNTIF(CR$33:CR43,OK)+COUNTIF(CR$33:CR43,RDGfix)+COUNTIF(CR$33:CR43,RDGave)+COUNTIF(CR$33:CR43,RDGevent)+CT$7-1","v":0},null,"","",{"$f":"COUNTIF(CV$33:CV43,OK)+COUNTIF(CV$33:CV43,RDGfix)+COUNTIF(CV$33:CV43,RDGave)+COUNTIF(CV$33:CV43,RDGevent)+CX$7-1","v":0},null,"","",{"$f":"COUNTIF(CZ$33:CZ43,OK)+COUNTIF(CZ$33:CZ43,RDGfix)+COUNTIF(CZ$33:CZ43,RDGave)+COUNTIF(CZ$33:CZ43,RDGevent)+DB$7-1","v":0},null,"","",{"$f":"COUNTIF(DD$33:DD43,OK)+COUNTIF(DD$33:DD43,RDGfix)+COUNTIF(DD$33:DD43,RDGave)+COUNTIF(DD$33:DD43,RDGevent)+DF$7-1","v":0},null,"","",{"$f":"COUNTIF(DH$33:DH43,OK)+COUNTIF(DH$33:DH43,RDGfix)+COUNTIF(DH$33:DH43,RDGave)+COUNTIF(DH$33:DH43,RDGevent)+DJ$7-1","v":0},null,"","",{"$f":"COUNTIF(DL$33:DL43,OK)+COUNTIF(DL$33:DL43,RDGfix)+COUNTIF(DL$33:DL43,RDGave)+COUNTIF(DL$33:DL43,RDGevent)+DN$7-1","v":0},null,"","",{"$f":"COUNTIF(DP$33:DP43,OK)+COUNTIF(DP$33:DP43,RDGfix)+COUNTIF(DP$33:DP43,RDGave)+COUNTIF(DP$33:DP43,RDGevent)+DR$7-1","v":0},null,"","",{"$f":"COUNTIF(DT$33:DT43,OK)+COUNTIF(DT$33:DT43,RDGfix)+COUNTIF(DT$33:DT43,RDGave)+COUNTIF(DT$33:DT43,RDGevent)+DV$7-1","v":0},null,"","",{"$f":"COUNTIF(DX$33:DX43,OK)+COUNTIF(DX$33:DX43,RDGfix)+COUNTIF(DX$33:DX43,RDGave)+COUNTIF(DX$33:DX43,RDGevent)+DZ$7-1","v":0},null,"","",{"$f":"COUNTIF(EB$33:EB43,OK)+COUNTIF(EB$33:EB43,RDGfix)+COUNTIF(EB$33:EB43,RDGave)+COUNTIF(EB$33:EB43,RDGevent)+ED$7-1","v":0},null,"","",{"$f":"COUNTIF(EF$33:EF43,OK)+COUNTIF(EF$33:EF43,RDGfix)+COUNTIF(EF$33:EF43,RDGave)+COUNTIF(EF$33:EF43,RDGevent)+EH$7-1","v":0},null,"","",{"$f":"COUNTIF(EJ$33:EJ43,OK)+COUNTIF(EJ$33:EJ43,RDGfix)+COUNTIF(EJ$33:EJ43,RDGave)+COUNTIF(EJ$33:EJ43,RDGevent)+EL$7-1","v":0},null,"","",{"$f":"COUNTIF(EN$33:EN43,OK)+COUNTIF(EN$33:EN43,RDGfix)+COUNTIF(EN$33:EN43,RDGave)+COUNTIF(EN$33:EN43,RDGevent)+EP$7-1","v":0},null,"","",{"$f":"COUNTIF(ER$33:ER43,OK)+COUNTIF(ER$33:ER43,RDGfix)+COUNTIF(ER$33:ER43,RDGave)+COUNTIF(ER$33:ER43,RDGevent)+ET$7-1","v":0},null,"","",{"$f":"COUNTIF(EV$33:EV43,OK)+COUNTIF(EV$33:EV43,RDGfix)+COUNTIF(EV$33:EV43,RDGave)+COUNTIF(EV$33:EV43,RDGevent)+EX$7-1","v":0},null,"","",{"$f":"COUNTIF(EZ$33:EZ43,OK)+COUNTIF(EZ$33:EZ43,RDGfix)+COUNTIF(EZ$33:EZ43,RDGave)+COUNTIF(EZ$33:EZ43,RDGevent)+FB$7-1","v":0},null,"","",{"$f":"COUNTIF(FD$33:FD43,OK)+COUNTIF(FD$33:FD43,RDGfix)+COUNTIF(FD$33:FD43,RDGave)+COUNTIF(FD$33:FD43,RDGevent)+FF$7-1","v":0},null,"","",{"$f":"COUNTIF(FH$33:FH43,OK)+COUNTIF(FH$33:FH43,RDGfix)+COUNTIF(FH$33:FH43,RDGave)+COUNTIF(FH$33:FH43,RDGevent)+FJ$7-1","v":0},null,1]
[null,"12th",null,"","",{"$f":"COUNTIF(D$33:D44,OK)+COUNTIF(D$33:D44,RDGfix)+COUNTIF(D$33:D44,RDGave)+COUNTIF(D$33:D44,RDGevent)","v":0},null,"","",{"$f":"COUNTIF(H$33:H44,OK)+COUNTIF(H$33:H44,RDGfix)+COUNTIF(H$33:H44,RDGave)+COUNTIF(H$33:H44,RDGevent)+J$7-1","v":0},null,"","",{"$f":"COUNTIF(L$33:L44,OK)+COUNTIF(L$33:L44,RDGfix)+COUNTIF(L$33:L44,RDGave)+COUNTIF(L$33:L44,RDGevent)+N$7-1","v":0},null,"","",{"$f":"COUNTIF(P$33:P44,OK)+COUNTIF(P$33:P44,RDGfix)+COUNTIF(P$33:P44,RDGave)+COUNTIF(P$33:P44,RDGevent)+R$7-1","v":0},null,"","",{"$f":"COUNTIF(T$33:T44,OK)+COUNTIF(T$33:T44,RDGfix)+COUNTIF(T$33:T44,RDGave)+COUNTIF(T$33:T44,RDGevent)+V$7-1","v":0},null,"","",{"$f":"COUNTIF(X$33:X44,OK)+COUNTIF(X$33:X44,RDGfix)+COUNTIF(X$33:X44,RDGave)+COUNTIF(X$33:X44,RDGevent)+Z$7-1","v":0},null,"","",{"$f":"COUNTIF(AB$33:AB44,OK)+COUNTIF(AB$33:AB44,RDGfix)+COUNTIF(AB$33:AB44,RDGave)+COUNTIF(AB$33:AB44,RDGevent)+AD$7-1","v":0},null,"","",{"$f":"COUNTIF(AF$33:AF44,OK)+COUNTIF(AF$33:AF44,RDGfix)+COUNTIF(AF$33:AF44,RDGave)+COUNTIF(AF$33:AF44,RDGevent)+AH$7-1","v":0},null,"","",{"$f":"COUNTIF(AJ$33:AJ44,OK)+COUNTIF(AJ$33:AJ44,RDGfix)+COUNTIF(AJ$33:AJ44,RDGave)+COUNTIF(AJ$33:AJ44,RDGevent)+AL$7-1","v":0},null,"","",{"$f":"COUNTIF(AN$33:AN44,OK)+COUNTIF(AN$33:AN44,RDGfix)+COUNTIF(AN$33:AN44,RDGave)+COUNTIF(AN$33:AN44,RDGevent)+AP$7-1","v":0},null,"","",{"$f":"COUNTIF(AR$33:AR44,OK)+COUNTIF(AR$33:AR44,RDGfix)+COUNTIF(AR$33:AR44,RDGave)+COUNTIF(AR$33:AR44,RDGevent)+AT$7-1","v":0},null,"","",{"$f":"COUNTIF(AV$33:AV44,OK)+COUNTIF(AV$33:AV44,RDGfix)+COUNTIF(AV$33:AV44,RDGave)+COUNTIF(AV$33:AV44,RDGevent)+AX$7-1","v":0},null,"","",{"$f":"COUNTIF(AZ$33:AZ44,OK)+COUNTIF(AZ$33:AZ44,RDGfix)+COUNTIF(AZ$33:AZ44,RDGave)+COUNTIF(AZ$33:AZ44,RDGevent)+BB$7-1","v":0},null,"","",{"$f":"COUNTIF(BD$33:BD44,OK)+COUNTIF(BD$33:BD44,RDGfix)+COUNTIF(BD$33:BD44,RDGave)+COUNTIF(BD$33:BD44,RDGevent)+BF$7-1","v":0},null,"","",{"$f":"COUNTIF(BH$33:BH44,OK)+COUNTIF(BH$33:BH44,RDGfix)+COUNTIF(BH$33:BH44,RDGave)+COUNTIF(BH$33:BH44,RDGevent)+BJ$7-1","v":0},null,"","",{"$f":"COUNTIF(BL$33:BL44,OK)+COUNTIF(BL$33:BL44,RDGfix)+COUNTIF(BL$33:BL44,RDGave)+COUNTIF(BL$33:BL44,RDGevent)+BN$7-1","v":0},null,"","",{"$f":"COUNTIF(BP$33:BP44,OK)+COUNTIF(BP$33:BP44,RDGfix)+COUNTIF(BP$33:BP44,RDGave)+COUNTIF(BP$33:BP44,RDGevent)+BR$7-1","v":0},null,"","",{"$f":"COUNTIF(BT$33:BT44,OK)+COUNTIF(BT$33:BT44,RDGfix)+COUNTIF(BT$33:BT44,RDGave)+COUNTIF(BT$33:BT44,RDGevent)+BV$7-1","v":0},null,"","",{"$f":"COUNTIF(BX$33:BX44,OK)+COUNTIF(BX$33:BX44,RDGfix)+COUNTIF(BX$33:BX44,RDGave)+COUNTIF(BX$33:BX44,RDGevent)+BZ$7-1","v":0},null,"","",{"$f":"COUNTIF(CB$33:CB44,OK)+COUNTIF(CB$33:CB44,RDGfix)+COUNTIF(CB$33:CB44,RDGave)+COUNTIF(CB$33:CB44,RDGevent)+CD$7-1","v":0},null,"","",{"$f":"COUNTIF(CF$33:CF44,OK)+COUNTIF(CF$33:CF44,RDGfix)+COUNTIF(CF$33:CF44,RDGave)+COUNTIF(CF$33:CF44,RDGevent)+CH$7-1","v":0},null,"","",{"$f":"COUNTIF(CJ$33:CJ44,OK)+COUNTIF(CJ$33:CJ44,RDGfix)+COUNTIF(CJ$33:CJ44,RDGave)+COUNTIF(CJ$33:CJ44,RDGevent)+CL$7-1","v":0},null,"","",{"$f":"COUNTIF(CN$33:CN44,OK)+COUNTIF(CN$33:CN44,RDGfix)+COUNTIF(CN$33:CN44,RDGave)+COUNTIF(CN$33:CN44,RDGevent)+CP$7-1","v":0},null,"","",{"$f":"COUNTIF(CR$33:CR44,OK)+COUNTIF(CR$33:CR44,RDGfix)+COUNTIF(CR$33:CR44,RDGave)+COUNTIF(CR$33:CR44,RDGevent)+CT$7-1","v":0},null,"","",{"$f":"COUNTIF(CV$33:CV44,OK)+COUNTIF(CV$33:CV44,RDGfix)+COUNTIF(CV$33:CV44,RDGave)+COUNTIF(CV$33:CV44,RDGevent)+CX$7-1","v":0},null,"","",{"$f":"COUNTIF(CZ$33:CZ44,OK)+COUNTIF(CZ$33:CZ44,RDGfix)+COUNTIF(CZ$33:CZ44,RDGave)+COUNTIF(CZ$33:CZ44,RDGevent)+DB$7-1","v":0},null,"","",{"$f":"COUNTIF(DD$33:DD44,OK)+COUNTIF(DD$33:DD44,RDGfix)+COUNTIF(DD$33:DD44,RDGave)+COUNTIF(DD$33:DD44,RDGevent)+DF$7-1","v":0},null,"","",{"$f":"COUNTIF(DH$33:DH44,OK)+COUNTIF(DH$33:DH44,RDGfix)+COUNTIF(DH$33:DH44,RDGave)+COUNTIF(DH$33:DH44,RDGevent)+DJ$7-1","v":0},null,"","",{"$f":"COUNTIF(DL$33:DL44,OK)+COUNTIF(DL$33:DL44,RDGfix)+COUNTIF(DL$33:DL44,RDGave)+COUNTIF(DL$33:DL44,RDGevent)+DN$7-1","v":0},null,"","",{"$f":"COUNTIF(DP$33:DP44,OK)+COUNTIF(DP$33:DP44,RDGfix)+COUNTIF(DP$33:DP44,RDGave)+COUNTIF(DP$33:DP44,RDGevent)+DR$7-1","v":0},null,"","",{"$f":"COUNTIF(DT$33:DT44,OK)+COUNTIF(DT$33:DT44,RDGfix)+COUNTIF(DT$33:DT44,RDGave)+COUNTIF(DT$33:DT44,RDGevent)+DV$7-1","v":0},null,"","",{"$f":"COUNTIF(DX$33:DX44,OK)+COUNTIF(DX$33:DX44,RDGfix)+COUNTIF(DX$33:DX44,RDGave)+COUNTIF(DX$33:DX44,RDGevent)+DZ$7-1","v":0},null,"","",{"$f":"COUNTIF(EB$33:EB44,OK)+COUNTIF(EB$33:EB44,RDGfix)+COUNTIF(EB$33:EB44,RDGave)+COUNTIF(EB$33:EB44,RDGevent)+ED$7-1","v":0},null,"","",{"$f":"COUNTIF(EF$33:EF44,OK)+COUNTIF(EF$33:EF44,RDGfix)+COUNTIF(EF$33:EF44,RDGave)+COUNTIF(EF$33:EF44,RDGevent)+EH$7-1","v":0},null,"","",{"$f":"COUNTIF(EJ$33:EJ44,OK)+COUNTIF(EJ$33:EJ44,RDGfix)+COUNTIF(EJ$33:EJ44,RDGave)+COUNTIF(EJ$33:EJ44,RDGevent)+EL$7-1","v":0},null,"","",{"$f":"COUNTIF(EN$33:EN44,OK)+COUNTIF(EN$33:EN44,RDGfix)+COUNTIF(EN$33:EN44,RDGave)+COUNTIF(EN$33:EN44,RDGevent)+EP$7-1","v":0},null,"","",{"$f":"COUNTIF(ER$33:ER44,OK)+COUNTIF(ER$33:ER44,RDGfix)+COUNTIF(ER$33:ER44,RDGave)+COUNTIF(ER$33:ER44,RDGevent)+ET$7-1","v":0},null,"","",{"$f":"COUNTIF(EV$33:EV44,OK)+COUNTIF(EV$33:EV44,RDGfix)+COUNTIF(EV$33:EV44,RDGave)+COUNTIF(EV$33:EV44,RDGevent)+EX$7-1","v":0},null,"","",{"$f":"COUNTIF(EZ$33:EZ44,OK)+COUNTIF(EZ$33:EZ44,RDGfix)+COUNTIF(EZ$33:EZ44,RDGave)+COUNTIF(EZ$33:EZ44,RDGevent)+FB$7-1","v":0},null,"","",{"$f":"COUNTIF(FD$33:FD44,OK)+COUNTIF(FD$33:FD44,RDGfix)+COUNTIF(FD$33:FD44,RDGave)+COUNTIF(FD$33:FD44,RDGevent)+FF$7-1","v":0},null,"","",{"$f":"COUNTIF(FH$33:FH44,OK)+COUNTIF(FH$33:FH44,RDGfix)+COUNTIF(FH$33:FH44,RDGave)+COUNTIF(FH$33:FH44,RDGevent)+FJ$7-1","v":0}]
[null,"13th",null,"","",{"$f":"COUNTIF(D$33:D45,OK)+COUNTIF(D$33:D45,RDGfix)+COUNTIF(D$33:D45,RDGave)+COUNTIF(D$33:D45,RDGevent)","v":0},null,"","",{"$f":"COUNTIF(H$33:H45,OK)+COUNTIF(H$33:H45,RDGfix)+COUNTIF(H$33:H45,RDGave)+COUNTIF(H$33:H45,RDGevent)+J$7-1","v":0},null,"","",{"$f":"COUNTIF(L$33:L45,OK)+COUNTIF(L$33:L45,RDGfix)+COUNTIF(L$33:L45,RDGave)+COUNTIF(L$33:L45,RDGevent)+N$7-1","v":0},null,"","",{"$f":"COUNTIF(P$33:P45,OK)+COUNTIF(P$33:P45,RDGfix)+COUNTIF(P$33:P45,RDGave)+COUNTIF(P$33:P45,RDGevent)+R$7-1","v":0},null,"","",{"$f":"COUNTIF(T$33:T45,OK)+COUNTIF(T$33:T45,RDGfix)+COUNTIF(T$33:T45,RDGave)+COUNTIF(T$33:T45,RDGevent)+V$7-1","v":0},null,"","",{"$f":"COUNTIF(X$33:X45,OK)+COUNTIF(X$33:X45,RDGfix)+COUNTIF(X$33:X45,RDGave)+COUNTIF(X$33:X45,RDGevent)+Z$7-1","v":0},null,"","",{"$f":"COUNTIF(AB$33:AB45,OK)+COUNTIF(AB$33:AB45,RDGfix)+COUNTIF(AB$33:AB45,RDGave)+COUNTIF(AB$33:AB45,RDGevent)+AD$7-1","v":0},null,"","",{"$f":"COUNTIF(AF$33:AF45,OK)+COUNTIF(AF$33:AF45,RDGfix)+COUNTIF(AF$33:AF45,RDGave)+COUNTIF(AF$33:AF45,RDGevent)+AH$7-1","v":0},null,"","",{"$f":"COUNTIF(AJ$33:AJ45,OK)+COUNTIF(AJ$33:AJ45,RDGfix)+COUNTIF(AJ$33:AJ45,RDGave)+COUNTIF(AJ$33:AJ45,RDGevent)+AL$7-1","v":0},null,"","",{"$f":"COUNTIF(AN$33:AN45,OK)+COUNTIF(AN$33:AN45,RDGfix)+COUNTIF(AN$33:AN45,RDGave)+COUNTIF(AN$33:AN45,RDGevent)+AP$7-1","v":0},null,"","",{"$f":"COUNTIF(AR$33:AR45,OK)+COUNTIF(AR$33:AR45,RDGfix)+COUNTIF(AR$33:AR45,RDGave)+COUNTIF(AR$33:AR45,RDGevent)+AT$7-1","v":0},null,"","",{"$f":"COUNTIF(AV$33:AV45,OK)+COUNTIF(AV$33:AV45,RDGfix)+COUNTIF(AV$33:AV45,RDGave)+COUNTIF(AV$33:AV45,RDGevent)+AX$7-1","v":0},null,"","",{"$f":"COUNTIF(AZ$33:AZ45,OK)+COUNTIF(AZ$33:AZ45,RDGfix)+COUNTIF(AZ$33:AZ45,RDGave)+COUNTIF(AZ$33:AZ45,RDGevent)+BB$7-1","v":0},null,"","",{"$f":"COUNTIF(BD$33:BD45,OK)+COUNTIF(BD$33:BD45,RDGfix)+COUNTIF(BD$33:BD45,RDGave)+COUNTIF(BD$33:BD45,RDGevent)+BF$7-1","v":0},null,"","",{"$f":"COUNTIF(BH$33:BH45,OK)+COUNTIF(BH$33:BH45,RDGfix)+COUNTIF(BH$33:BH45,RDGave)+COUNTIF(BH$33:BH45,RDGevent)+BJ$7-1","v":0},null,"","",{"$f":"COUNTIF(BL$33:BL45,OK)+COUNTIF(BL$33:BL45,RDGfix)+COUNTIF(BL$33:BL45,RDGave)+COUNTIF(BL$33:BL45,RDGevent)+BN$7-1","v":0},null,"","",{"$f":"COUNTIF(BP$33:BP45,OK)+COUNTIF(BP$33:BP45,RDGfix)+COUNTIF(BP$33:BP45,RDGave)+COUNTIF(BP$33:BP45,RDGevent)+BR$7-1","v":0},null,"","",{"$f":"COUNTIF(BT$33:BT45,OK)+COUNTIF(BT$33:BT45,RDGfix)+COUNTIF(BT$33:BT45,RDGave)+COUNTIF(BT$33:BT45,RDGevent)+BV$7-1","v":0},null,"","",{"$f":"COUNTIF(BX$33:BX45,OK)+COUNTIF(BX$33:BX45,RDGfix)+COUNTIF(BX$33:BX45,RDGave)+COUNTIF(BX$33:BX45,RDGevent)+BZ$7-1","v":0},null,"","",{"$f":"COUNTIF(CB$33:CB45,OK)+COUNTIF(CB$33:CB45,RDGfix)+COUNTIF(CB$33:CB45,RDGave)+COUNTIF(CB$33:CB45,RDGevent)+CD$7-1","v":0},null,"","",{"$f":"COUNTIF(CF$33:CF45,OK)+COUNTIF(CF$33:CF45,RDGfix)+COUNTIF(CF$33:CF45,RDGave)+COUNTIF(CF$33:CF45,RDGevent)+CH$7-1","v":0},null,"","",{"$f":"COUNTIF(CJ$33:CJ45,OK)+COUNTIF(CJ$33:CJ45,RDGfix)+COUNTIF(CJ$33:CJ45,RDGave)+COUNTIF(CJ$33:CJ45,RDGevent)+CL$7-1","v":0},null,"","",{"$f":"COUNTIF(CN$33:CN45,OK)+COUNTIF(CN$33:CN45,RDGfix)+COUNTIF(CN$33:CN45,RDGave)+COUNTIF(CN$33:CN45,RDGevent)+CP$7-1","v":0},null,"","",{"$f":"COUNTIF(CR$33:CR45,OK)+COUNTIF(CR$33:CR45,RDGfix)+COUNTIF(CR$33:CR45,RDGave)+COUNTIF(CR$33:CR45,RDGevent)+CT$7-1","v":0},null,"","",{"$f":"COUNTIF(CV$33:CV45,OK)+COUNTIF(CV$33:CV45,RDGfix)+COUNTIF(CV$33:CV45,RDGave)+COUNTIF(CV$33:CV45,RDGevent)+CX$7-1","v":0},null,"","",{"$f":"COUNTIF(CZ$33:CZ45,OK)+COUNTIF(CZ$33:CZ45,RDGfix)+COUNTIF(CZ$33:CZ45,RDGave)+COUNTIF(CZ$33:CZ45,RDGevent)+DB$7-1","v":0},null,"","",{"$f":"COUNTIF(DD$33:DD45,OK)+COUNTIF(DD$33:DD45,RDGfix)+COUNTIF(DD$33:DD45,RDGave)+COUNTIF(DD$33:DD45,RDGevent)+DF$7-1","v":0},null,"","",{"$f":"COUNTIF(DH$33:DH45,OK)+COUNTIF(DH$33:DH45,RDGfix)+COUNTIF(DH$33:DH45,RDGave)+COUNTIF(DH$33:DH45,RDGevent)+DJ$7-1","v":0},null,"","",{"$f":"COUNTIF(DL$33:DL45,OK)+COUNTIF(DL$33:DL45,RDGfix)+COUNTIF(DL$33:DL45,RDGave)+COUNTIF(DL$33:DL45,RDGevent)+DN$7-1","v":0},null,"","",{"$f":"COUNTIF(DP$33:DP45,OK)+COUNTIF(DP$33:DP45,RDGfix)+COUNTIF(DP$33:DP45,RDGave)+COUNTIF(DP$33:DP45,RDGevent)+DR$7-1","v":0},null,"","",{"$f":"COUNTIF(DT$33:DT45,OK)+COUNTIF(DT$33:DT45,RDGfix)+COUNTIF(DT$33:DT45,RDGave)+COUNTIF(DT$33:DT45,RDGevent)+DV$7-1","v":0},null,"","",{"$f":"COUNTIF(DX$33:DX45,OK)+COUNTIF(DX$33:DX45,RDGfix)+COUNTIF(DX$33:DX45,RDGave)+COUNTIF(DX$33:DX45,RDGevent)+DZ$7-1","v":0},null,"","",{"$f":"COUNTIF(EB$33:EB45,OK)+COUNTIF(EB$33:EB45,RDGfix)+COUNTIF(EB$33:EB45,RDGave)+COUNTIF(EB$33:EB45,RDGevent)+ED$7-1","v":0},null,"","",{"$f":"COUNTIF(EF$33:EF45,OK)+COUNTIF(EF$33:EF45,RDGfix)+COUNTIF(EF$33:EF45,RDGave)+COUNTIF(EF$33:EF45,RDGevent)+EH$7-1","v":0},null,"","",{"$f":"COUNTIF(EJ$33:EJ45,OK)+COUNTIF(EJ$33:EJ45,RDGfix)+COUNTIF(EJ$33:EJ45,RDGave)+COUNTIF(EJ$33:EJ45,RDGevent)+EL$7-1","v":0},null,"","",{"$f":"COUNTIF(EN$33:EN45,OK)+COUNTIF(EN$33:EN45,RDGfix)+COUNTIF(EN$33:EN45,RDGave)+COUNTIF(EN$33:EN45,RDGevent)+EP$7-1","v":0},null,"","",{"$f":"COUNTIF(ER$33:ER45,OK)+COUNTIF(ER$33:ER45,RDGfix)+COUNTIF(ER$33:ER45,RDGave)+COUNTIF(ER$33:ER45,RDGevent)+ET$7-1","v":0},null,"","",{"$f":"COUNTIF(EV$33:EV45,OK)+COUNTIF(EV$33:EV45,RDGfix)+COUNTIF(EV$33:EV45,RDGave)+COUNTIF(EV$33:EV45,RDGevent)+EX$7-1","v":0},null,"","",{"$f":"COUNTIF(EZ$33:EZ45,OK)+COUNTIF(EZ$33:EZ45,RDGfix)+COUNTIF(EZ$33:EZ45,RDGave)+COUNTIF(EZ$33:EZ45,RDGevent)+FB$7-1","v":0},null,"","",{"$f":"COUNTIF(FD$33:FD45,OK)+COUNTIF(FD$33:FD45,RDGfix)+COUNTIF(FD$33:FD45,RDGave)+COUNTIF(FD$33:FD45,RDGevent)+FF$7-1","v":0},null,"","",{"$f":"COUNTIF(FH$33:FH45,OK)+COUNTIF(FH$33:FH45,RDGfix)+COUNTIF(FH$33:FH45,RDGave)+COUNTIF(FH$33:FH45,RDGevent)+FJ$7-1","v":0}]
[null,"14th",null,"","",{"$f":"COUNTIF(D$33:D46,OK)+COUNTIF(D$33:D46,RDGfix)+COUNTIF(D$33:D46,RDGave)+COUNTIF(D$33:D46,RDGevent)","v":0},null,"","",{"$f":"COUNTIF(H$33:H46,OK)+COUNTIF(H$33:H46,RDGfix)+COUNTIF(H$33:H46,RDGave)+COUNTIF(H$33:H46,RDGevent)+J$7-1","v":0},null,"","",{"$f":"COUNTIF(L$33:L46,OK)+COUNTIF(L$33:L46,RDGfix)+COUNTIF(L$33:L46,RDGave)+COUNTIF(L$33:L46,RDGevent)+N$7-1","v":0},null,"","",{"$f":"COUNTIF(P$33:P46,OK)+COUNTIF(P$33:P46,RDGfix)+COUNTIF(P$33:P46,RDGave)+COUNTIF(P$33:P46,RDGevent)+R$7-1","v":0},null,"","",{"$f":"COUNTIF(T$33:T46,OK)+COUNTIF(T$33:T46,RDGfix)+COUNTIF(T$33:T46,RDGave)+COUNTIF(T$33:T46,RDGevent)+V$7-1","v":0},null,"","",{"$f":"COUNTIF(X$33:X46,OK)+COUNTIF(X$33:X46,RDGfix)+COUNTIF(X$33:X46,RDGave)+COUNTIF(X$33:X46,RDGevent)+Z$7-1","v":0},null,"","",{"$f":"COUNTIF(AB$33:AB46,OK)+COUNTIF(AB$33:AB46,RDGfix)+COUNTIF(AB$33:AB46,RDGave)+COUNTIF(AB$33:AB46,RDGevent)+AD$7-1","v":0},null,"","",{"$f":"COUNTIF(AF$33:AF46,OK)+COUNTIF(AF$33:AF46,RDGfix)+COUNTIF(AF$33:AF46,RDGave)+COUNTIF(AF$33:AF46,RDGevent)+AH$7-1","v":0},null,"","",{"$f":"COUNTIF(AJ$33:AJ46,OK)+COUNTIF(AJ$33:AJ46,RDGfix)+COUNTIF(AJ$33:AJ46,RDGave)+COUNTIF(AJ$33:AJ46,RDGevent)+AL$7-1","v":0},null,"","",{"$f":"COUNTIF(AN$33:AN46,OK)+COUNTIF(AN$33:AN46,RDGfix)+COUNTIF(AN$33:AN46,RDGave)+COUNTIF(AN$33:AN46,RDGevent)+AP$7-1","v":0},null,"","",{"$f":"COUNTIF(AR$33:AR46,OK)+COUNTIF(AR$33:AR46,RDGfix)+COUNTIF(AR$33:AR46,RDGave)+COUNTIF(AR$33:AR46,RDGevent)+AT$7-1","v":0},null,"","",{"$f":"COUNTIF(AV$33:AV46,OK)+COUNTIF(AV$33:AV46,RDGfix)+COUNTIF(AV$33:AV46,RDGave)+COUNTIF(AV$33:AV46,RDGevent)+AX$7-1","v":0},null,"","",{"$f":"COUNTIF(AZ$33:AZ46,OK)+COUNTIF(AZ$33:AZ46,RDGfix)+COUNTIF(AZ$33:AZ46,RDGave)+COUNTIF(AZ$33:AZ46,RDGevent)+BB$7-1","v":0},null,"","",{"$f":"COUNTIF(BD$33:BD46,OK)+COUNTIF(BD$33:BD46,RDGfix)+COUNTIF(BD$33:BD46,RDGave)+COUNTIF(BD$33:BD46,RDGevent)+BF$7-1","v":0},null,"","",{"$f":"COUNTIF(BH$33:BH46,OK)+COUNTIF(BH$33:BH46,RDGfix)+COUNTIF(BH$33:BH46,RDGave)+COUNTIF(BH$33:BH46,RDGevent)+BJ$7-1","v":0},null,"","",{"$f":"COUNTIF(BL$33:BL46,OK)+COUNTIF(BL$33:BL46,RDGfix)+COUNTIF(BL$33:BL46,RDGave)+COUNTIF(BL$33:BL46,RDGevent)+BN$7-1","v":0},null,"","",{"$f":"COUNTIF(BP$33:BP46,OK)+COUNTIF(BP$33:BP46,RDGfix)+COUNTIF(BP$33:BP46,RDGave)+COUNTIF(BP$33:BP46,RDGevent)+BR$7-1","v":0},null,"","",{"$f":"COUNTIF(BT$33:BT46,OK)+COUNTIF(BT$33:BT46,RDGfix)+COUNTIF(BT$33:BT46,RDGave)+COUNTIF(BT$33:BT46,RDGevent)+BV$7-1","v":0},null,"","",{"$f":"COUNTIF(BX$33:BX46,OK)+COUNTIF(BX$33:BX46,RDGfix)+COUNTIF(BX$33:BX46,RDGave)+COUNTIF(BX$33:BX46,RDGevent)+BZ$7-1","v":0},null,"","",{"$f":"COUNTIF(CB$33:CB46,OK)+COUNTIF(CB$33:CB46,RDGfix)+COUNTIF(CB$33:CB46,RDGave)+COUNTIF(CB$33:CB46,RDGevent)+CD$7-1","v":0},null,"","",{"$f":"COUNTIF(CF$33:CF46,OK)+COUNTIF(CF$33:CF46,RDGfix)+COUNTIF(CF$33:CF46,RDGave)+COUNTIF(CF$33:CF46,RDGevent)+CH$7-1","v":0},null,"","",{"$f":"COUNTIF(CJ$33:CJ46,OK)+COUNTIF(CJ$33:CJ46,RDGfix)+COUNTIF(CJ$33:CJ46,RDGave)+COUNTIF(CJ$33:CJ46,RDGevent)+CL$7-1","v":0},null,"","",{"$f":"COUNTIF(CN$33:CN46,OK)+COUNTIF(CN$33:CN46,RDGfix)+COUNTIF(CN$33:CN46,RDGave)+COUNTIF(CN$33:CN46,RDGevent)+CP$7-1","v":0},null,"","",{"$f":"COUNTIF(CR$33:CR46,OK)+COUNTIF(CR$33:CR46,RDGfix)+COUNTIF(CR$33:CR46,RDGave)+COUNTIF(CR$33:CR46,RDGevent)+CT$7-1","v":0},null,"","",{"$f":"COUNTIF(CV$33:CV46,OK)+COUNTIF(CV$33:CV46,RDGfix)+COUNTIF(CV$33:CV46,RDGave)+COUNTIF(CV$33:CV46,RDGevent)+CX$7-1","v":0},null,"","",{"$f":"COUNTIF(CZ$33:CZ46,OK)+COUNTIF(CZ$33:CZ46,RDGfix)+COUNTIF(CZ$33:CZ46,RDGave)+COUNTIF(CZ$33:CZ46,RDGevent)+DB$7-1","v":0},null,"","",{"$f":"COUNTIF(DD$33:DD46,OK)+COUNTIF(DD$33:DD46,RDGfix)+COUNTIF(DD$33:DD46,RDGave)+COUNTIF(DD$33:DD46,RDGevent)+DF$7-1","v":0},null,"","",{"$f":"COUNTIF(DH$33:DH46,OK)+COUNTIF(DH$33:DH46,RDGfix)+COUNTIF(DH$33:DH46,RDGave)+COUNTIF(DH$33:DH46,RDGevent)+DJ$7-1","v":0},null,"","",{"$f":"COUNTIF(DL$33:DL46,OK)+COUNTIF(DL$33:DL46,RDGfix)+COUNTIF(DL$33:DL46,RDGave)+COUNTIF(DL$33:DL46,RDGevent)+DN$7-1","v":0},null,"","",{"$f":"COUNTIF(DP$33:DP46,OK)+COUNTIF(DP$33:DP46,RDGfix)+COUNTIF(DP$33:DP46,RDGave)+COUNTIF(DP$33:DP46,RDGevent)+DR$7-1","v":0},null,"","",{"$f":"COUNTIF(DT$33:DT46,OK)+COUNTIF(DT$33:DT46,RDGfix)+COUNTIF(DT$33:DT46,RDGave)+COUNTIF(DT$33:DT46,RDGevent)+DV$7-1","v":0},null,"","",{"$f":"COUNTIF(DX$33:DX46,OK)+COUNTIF(DX$33:DX46,RDGfix)+COUNTIF(DX$33:DX46,RDGave)+COUNTIF(DX$33:DX46,RDGevent)+DZ$7-1","v":0},null,"","",{"$f":"COUNTIF(EB$33:EB46,OK)+COUNTIF(EB$33:EB46,RDGfix)+COUNTIF(EB$33:EB46,RDGave)+COUNTIF(EB$33:EB46,RDGevent)+ED$7-1","v":0},null,"","",{"$f":"COUNTIF(EF$33:EF46,OK)+COUNTIF(EF$33:EF46,RDGfix)+COUNTIF(EF$33:EF46,RDGave)+COUNTIF(EF$33:EF46,RDGevent)+EH$7-1","v":0},null,"","",{"$f":"COUNTIF(EJ$33:EJ46,OK)+COUNTIF(EJ$33:EJ46,RDGfix)+COUNTIF(EJ$33:EJ46,RDGave)+COUNTIF(EJ$33:EJ46,RDGevent)+EL$7-1","v":0},null,"","",{"$f":"COUNTIF(EN$33:EN46,OK)+COUNTIF(EN$33:EN46,RDGfix)+COUNTIF(EN$33:EN46,RDGave)+COUNTIF(EN$33:EN46,RDGevent)+EP$7-1","v":0},null,"","",{"$f":"COUNTIF(ER$33:ER46,OK)+COUNTIF(ER$33:ER46,RDGfix)+COUNTIF(ER$33:ER46,RDGave)+COUNTIF(ER$33:ER46,RDGevent)+ET$7-1","v":0},null,"","",{"$f":"COUNTIF(EV$33:EV46,OK)+COUNTIF(EV$33:EV46,RDGfix)+COUNTIF(EV$33:EV46,RDGave)+COUNTIF(EV$33:EV46,RDGevent)+EX$7-1","v":0},null,"","",{"$f":"COUNTIF(EZ$33:EZ46,OK)+COUNTIF(EZ$33:EZ46,RDGfix)+COUNTIF(EZ$33:EZ46,RDGave)+COUNTIF(EZ$33:EZ46,RDGevent)+FB$7-1","v":0},null,"","",{"$f":"COUNTIF(FD$33:FD46,OK)+COUNTIF(FD$33:FD46,RDGfix)+COUNTIF(FD$33:FD46,RDGave)+COUNTIF(FD$33:FD46,RDGevent)+FF$7-1","v":0},null,"","",{"$f":"COUNTIF(FH$33:FH46,OK)+COUNTIF(FH$33:FH46,RDGfix)+COUNTIF(FH$33:FH46,RDGave)+COUNTIF(FH$33:FH46,RDGevent)+FJ$7-1","v":0}]
[null,"15th",null,"","",{"$f":"COUNTIF(D$33:D47,OK)+COUNTIF(D$33:D47,RDGfix)+COUNTIF(D$33:D47,RDGave)+COUNTIF(D$33:D47,RDGevent)","v":0},null,"","",{"$f":"COUNTIF(H$33:H47,OK)+COUNTIF(H$33:H47,RDGfix)+COUNTIF(H$33:H47,RDGave)+COUNTIF(H$33:H47,RDGevent)+J$7-1","v":0},null,"","",{"$f":"COUNTIF(L$33:L47,OK)+COUNTIF(L$33:L47,RDGfix)+COUNTIF(L$33:L47,RDGave)+COUNTIF(L$33:L47,RDGevent)+N$7-1","v":0},null,"","",{"$f":"COUNTIF(P$33:P47,OK)+COUNTIF(P$33:P47,RDGfix)+COUNTIF(P$33:P47,RDGave)+COUNTIF(P$33:P47,RDGevent)+R$7-1","v":0},null,"","",{"$f":"COUNTIF(T$33:T47,OK)+COUNTIF(T$33:T47,RDGfix)+COUNTIF(T$33:T47,RDGave)+COUNTIF(T$33:T47,RDGevent)+V$7-1","v":0},null,"","",{"$f":"COUNTIF(X$33:X47,OK)+COUNTIF(X$33:X47,RDGfix)+COUNTIF(X$33:X47,RDGave)+COUNTIF(X$33:X47,RDGevent)+Z$7-1","v":0},null,"","",{"$f":"COUNTIF(AB$33:AB47,OK)+COUNTIF(AB$33:AB47,RDGfix)+COUNTIF(AB$33:AB47,RDGave)+COUNTIF(AB$33:AB47,RDGevent)+AD$7-1","v":0},null,"","",{"$f":"COUNTIF(AF$33:AF47,OK)+COUNTIF(AF$33:AF47,RDGfix)+COUNTIF(AF$33:AF47,RDGave)+COUNTIF(AF$33:AF47,RDGevent)+AH$7-1","v":0},null,"","",{"$f":"COUNTIF(AJ$33:AJ47,OK)+COUNTIF(AJ$33:AJ47,RDGfix)+COUNTIF(AJ$33:AJ47,RDGave)+COUNTIF(AJ$33:AJ47,RDGevent)+AL$7-1","v":0},null,"","",{"$f":"COUNTIF(AN$33:AN47,OK)+COUNTIF(AN$33:AN47,RDGfix)+COUNTIF(AN$33:AN47,RDGave)+COUNTIF(AN$33:AN47,RDGevent)+AP$7-1","v":0},null,"","",{"$f":"COUNTIF(AR$33:AR47,OK)+COUNTIF(AR$33:AR47,RDGfix)+COUNTIF(AR$33:AR47,RDGave)+COUNTIF(AR$33:AR47,RDGevent)+AT$7-1","v":0},null,"","",{"$f":"COUNTIF(AV$33:AV47,OK)+COUNTIF(AV$33:AV47,RDGfix)+COUNTIF(AV$33:AV47,RDGave)+COUNTIF(AV$33:AV47,RDGevent)+AX$7-1","v":0},null,"","",{"$f":"COUNTIF(AZ$33:AZ47,OK)+COUNTIF(AZ$33:AZ47,RDGfix)+COUNTIF(AZ$33:AZ47,RDGave)+COUNTIF(AZ$33:AZ47,RDGevent)+BB$7-1","v":0},null,"","",{"$f":"COUNTIF(BD$33:BD47,OK)+COUNTIF(BD$33:BD47,RDGfix)+COUNTIF(BD$33:BD47,RDGave)+COUNTIF(BD$33:BD47,RDGevent)+BF$7-1","v":0},null,"","",{"$f":"COUNTIF(BH$33:BH47,OK)+COUNTIF(BH$33:BH47,RDGfix)+COUNTIF(BH$33:BH47,RDGave)+COUNTIF(BH$33:BH47,RDGevent)+BJ$7-1","v":0},null,"","",{"$f":"COUNTIF(BL$33:BL47,OK)+COUNTIF(BL$33:BL47,RDGfix)+COUNTIF(BL$33:BL47,RDGave)+COUNTIF(BL$33:BL47,RDGevent)+BN$7-1","v":0},null,"","",{"$f":"COUNTIF(BP$33:BP47,OK)+COUNTIF(BP$33:BP47,RDGfix)+COUNTIF(BP$33:BP47,RDGave)+COUNTIF(BP$33:BP47,RDGevent)+BR$7-1","v":0},null,"","",{"$f":"COUNTIF(BT$33:BT47,OK)+COUNTIF(BT$33:BT47,RDGfix)+COUNTIF(BT$33:BT47,RDGave)+COUNTIF(BT$33:BT47,RDGevent)+BV$7-1","v":0},null,"","",{"$f":"COUNTIF(BX$33:BX47,OK)+COUNTIF(BX$33:BX47,RDGfix)+COUNTIF(BX$33:BX47,RDGave)+COUNTIF(BX$33:BX47,RDGevent)+BZ$7-1","v":0},null,"","",{"$f":"COUNTIF(CB$33:CB47,OK)+COUNTIF(CB$33:CB47,RDGfix)+COUNTIF(CB$33:CB47,RDGave)+COUNTIF(CB$33:CB47,RDGevent)+CD$7-1","v":0},null,"","",{"$f":"COUNTIF(CF$33:CF47,OK)+COUNTIF(CF$33:CF47,RDGfix)+COUNTIF(CF$33:CF47,RDGave)+COUNTIF(CF$33:CF47,RDGevent)+CH$7-1","v":0},null,"","",{"$f":"COUNTIF(CJ$33:CJ47,OK)+COUNTIF(CJ$33:CJ47,RDGfix)+COUNTIF(CJ$33:CJ47,RDGave)+COUNTIF(CJ$33:CJ47,RDGevent)+CL$7-1","v":0},null,"","",{"$f":"COUNTIF(CN$33:CN47,OK)+COUNTIF(CN$33:CN47,RDGfix)+COUNTIF(CN$33:CN47,RDGave)+COUNTIF(CN$33:CN47,RDGevent)+CP$7-1","v":0},null,"","",{"$f":"COUNTIF(CR$33:CR47,OK)+COUNTIF(CR$33:CR47,RDGfix)+COUNTIF(CR$33:CR47,RDGave)+COUNTIF(CR$33:CR47,RDGevent)+CT$7-1","v":0},null,"","",{"$f":"COUNTIF(CV$33:CV47,OK)+COUNTIF(CV$33:CV47,RDGfix)+COUNTIF(CV$33:CV47,RDGave)+COUNTIF(CV$33:CV47,RDGevent)+CX$7-1","v":0},null,"","",{"$f":"COUNTIF(CZ$33:CZ47,OK)+COUNTIF(CZ$33:CZ47,RDGfix)+COUNTIF(CZ$33:CZ47,RDGave)+COUNTIF(CZ$33:CZ47,RDGevent)+DB$7-1","v":0},null,"","",{"$f":"COUNTIF(DD$33:DD47,OK)+COUNTIF(DD$33:DD47,RDGfix)+COUNTIF(DD$33:DD47,RDGave)+COUNTIF(DD$33:DD47,RDGevent)+DF$7-1","v":0},null,"","",{"$f":"COUNTIF(DH$33:DH47,OK)+COUNTIF(DH$33:DH47,RDGfix)+COUNTIF(DH$33:DH47,RDGave)+COUNTIF(DH$33:DH47,RDGevent)+DJ$7-1","v":0},null,"","",{"$f":"COUNTIF(DL$33:DL47,OK)+COUNTIF(DL$33:DL47,RDGfix)+COUNTIF(DL$33:DL47,RDGave)+COUNTIF(DL$33:DL47,RDGevent)+DN$7-1","v":0},null,"","",{"$f":"COUNTIF(DP$33:DP47,OK)+COUNTIF(DP$33:DP47,RDGfix)+COUNTIF(DP$33:DP47,RDGave)+COUNTIF(DP$33:DP47,RDGevent)+DR$7-1","v":0},null,"","",{"$f":"COUNTIF(DT$33:DT47,OK)+COUNTIF(DT$33:DT47,RDGfix)+COUNTIF(DT$33:DT47,RDGave)+COUNTIF(DT$33:DT47,RDGevent)+DV$7-1","v":0},null,"","",{"$f":"COUNTIF(DX$33:DX47,OK)+COUNTIF(DX$33:DX47,RDGfix)+COUNTIF(DX$33:DX47,RDGave)+COUNTIF(DX$33:DX47,RDGevent)+DZ$7-1","v":0},null,"","",{"$f":"COUNTIF(EB$33:EB47,OK)+COUNTIF(EB$33:EB47,RDGfix)+COUNTIF(EB$33:EB47,RDGave)+COUNTIF(EB$33:EB47,RDGevent)+ED$7-1","v":0},null,"","",{"$f":"COUNTIF(EF$33:EF47,OK)+COUNTIF(EF$33:EF47,RDGfix)+COUNTIF(EF$33:EF47,RDGave)+COUNTIF(EF$33:EF47,RDGevent)+EH$7-1","v":0},null,"","",{"$f":"COUNTIF(EJ$33:EJ47,OK)+COUNTIF(EJ$33:EJ47,RDGfix)+COUNTIF(EJ$33:EJ47,RDGave)+COUNTIF(EJ$33:EJ47,RDGevent)+EL$7-1","v":0},null,"","",{"$f":"COUNTIF(EN$33:EN47,OK)+COUNTIF(EN$33:EN47,RDGfix)+COUNTIF(EN$33:EN47,RDGave)+COUNTIF(EN$33:EN47,RDGevent)+EP$7-1","v":0},null,"","",{"$f":"COUNTIF(ER$33:ER47,OK)+COUNTIF(ER$33:ER47,RDGfix)+COUNTIF(ER$33:ER47,RDGave)+COUNTIF(ER$33:ER47,RDGevent)+ET$7-1","v":0},null,"","",{"$f":"COUNTIF(EV$33:EV47,OK)+COUNTIF(EV$33:EV47,RDGfix)+COUNTIF(EV$33:EV47,RDGave)+COUNTIF(EV$33:EV47,RDGevent)+EX$7-1","v":0},null,"","",{"$f":"COUNTIF(EZ$33:EZ47,OK)+COUNTIF(EZ$33:EZ47,RDGfix)+COUNTIF(EZ$33:EZ47,RDGave)+COUNTIF(EZ$33:EZ47,RDGevent)+FB$7-1","v":0},null,"","",{"$f":"COUNTIF(FD$33:FD47,OK)+COUNTIF(FD$33:FD47,RDGfix)+COUNTIF(FD$33:FD47,RDGave)+COUNTIF(FD$33:FD47,RDGevent)+FF$7-1","v":0},null,"","",{"$f":"COUNTIF(FH$33:FH47,OK)+COUNTIF(FH$33:FH47,RDGfix)+COUNTIF(FH$33:FH47,RDGave)+COUNTIF(FH$33:FH47,RDGevent)+FJ$7-1","v":0}]
[null,"16th",null,"","",{"$f":"COUNTIF(D$33:D48,OK)+COUNTIF(D$33:D48,RDGfix)+COUNTIF(D$33:D48,RDGave)+COUNTIF(D$33:D48,RDGevent)","v":0},null,"","",{"$f":"COUNTIF(H$33:H48,OK)+COUNTIF(H$33:H48,RDGfix)+COUNTIF(H$33:H48,RDGave)+COUNTIF(H$33:H48,RDGevent)+J$7-1","v":0},null,"","",{"$f":"COUNTIF(L$33:L48,OK)+COUNTIF(L$33:L48,RDGfix)+COUNTIF(L$33:L48,RDGave)+COUNTIF(L$33:L48,RDGevent)+N$7-1","v":0},null,"","",{"$f":"COUNTIF(P$33:P48,OK)+COUNTIF(P$33:P48,RDGfix)+COUNTIF(P$33:P48,RDGave)+COUNTIF(P$33:P48,RDGevent)+R$7-1","v":0},null,"","",{"$f":"COUNTIF(T$33:T48,OK)+COUNTIF(T$33:T48,RDGfix)+COUNTIF(T$33:T48,RDGave)+COUNTIF(T$33:T48,RDGevent)+V$7-1","v":0},null,"","",{"$f":"COUNTIF(X$33:X48,OK)+COUNTIF(X$33:X48,RDGfix)+COUNTIF(X$33:X48,RDGave)+COUNTIF(X$33:X48,RDGevent)+Z$7-1","v":0},null,"","",{"$f":"COUNTIF(AB$33:AB48,OK)+COUNTIF(AB$33:AB48,RDGfix)+COUNTIF(AB$33:AB48,RDGave)+COUNTIF(AB$33:AB48,RDGevent)+AD$7-1","v":0},null,"","",{"$f":"COUNTIF(AF$33:AF48,OK)+COUNTIF(AF$33:AF48,RDGfix)+COUNTIF(AF$33:AF48,RDGave)+COUNTIF(AF$33:AF48,RDGevent)+AH$7-1","v":0},null,"","",{"$f":"COUNTIF(AJ$33:AJ48,OK)+COUNTIF(AJ$33:AJ48,RDGfix)+COUNTIF(AJ$33:AJ48,RDGave)+COUNTIF(AJ$33:AJ48,RDGevent)+AL$7-1","v":0},null,"","",{"$f":"COUNTIF(AN$33:AN48,OK)+COUNTIF(AN$33:AN48,RDGfix)+COUNTIF(AN$33:AN48,RDGave)+COUNTIF(AN$33:AN48,RDGevent)+AP$7-1","v":0},null,"","",{"$f":"COUNTIF(AR$33:AR48,OK)+COUNTIF(AR$33:AR48,RDGfix)+COUNTIF(AR$33:AR48,RDGave)+COUNTIF(AR$33:AR48,RDGevent)+AT$7-1","v":0},null,"","",{"$f":"COUNTIF(AV$33:AV48,OK)+COUNTIF(AV$33:AV48,RDGfix)+COUNTIF(AV$33:AV48,RDGave)+COUNTIF(AV$33:AV48,RDGevent)+AX$7-1","v":0},null,"","",{"$f":"COUNTIF(AZ$33:AZ48,OK)+COUNTIF(AZ$33:AZ48,RDGfix)+COUNTIF(AZ$33:AZ48,RDGave)+COUNTIF(AZ$33:AZ48,RDGevent)+BB$7-1","v":0},null,"","",{"$f":"COUNTIF(BD$33:BD48,OK)+COUNTIF(BD$33:BD48,RDGfix)+COUNTIF(BD$33:BD48,RDGave)+COUNTIF(BD$33:BD48,RDGevent)+BF$7-1","v":0},null,"","",{"$f":"COUNTIF(BH$33:BH48,OK)+COUNTIF(BH$33:BH48,RDGfix)+COUNTIF(BH$33:BH48,RDGave)+COUNTIF(BH$33:BH48,RDGevent)+BJ$7-1","v":0},null,"","",{"$f":"COUNTIF(BL$33:BL48,OK)+COUNTIF(BL$33:BL48,RDGfix)+COUNTIF(BL$33:BL48,RDGave)+COUNTIF(BL$33:BL48,RDGevent)+BN$7-1","v":0},null,"","",{"$f":"COUNTIF(BP$33:BP48,OK)+COUNTIF(BP$33:BP48,RDGfix)+COUNTIF(BP$33:BP48,RDGave)+COUNTIF(BP$33:BP48,RDGevent)+BR$7-1","v":0},null,"","",{"$f":"COUNTIF(BT$33:BT48,OK)+COUNTIF(BT$33:BT48,RDGfix)+COUNTIF(BT$33:BT48,RDGave)+COUNTIF(BT$33:BT48,RDGevent)+BV$7-1","v":0},null,"","",{"$f":"COUNTIF(BX$33:BX48,OK)+COUNTIF(BX$33:BX48,RDGfix)+COUNTIF(BX$33:BX48,RDGave)+COUNTIF(BX$33:BX48,RDGevent)+BZ$7-1","v":0},null,"","",{"$f":"COUNTIF(CB$33:CB48,OK)+COUNTIF(CB$33:CB48,RDGfix)+COUNTIF(CB$33:CB48,RDGave)+COUNTIF(CB$33:CB48,RDGevent)+CD$7-1","v":0},null,"","",{"$f":"COUNTIF(CF$33:CF48,OK)+COUNTIF(CF$33:CF48,RDGfix)+COUNTIF(CF$33:CF48,RDGave)+COUNTIF(CF$33:CF48,RDGevent)+CH$7-1","v":0},null,"","",{"$f":"COUNTIF(CJ$33:CJ48,OK)+COUNTIF(CJ$33:CJ48,RDGfix)+COUNTIF(CJ$33:CJ48,RDGave)+COUNTIF(CJ$33:CJ48,RDGevent)+CL$7-1","v":0},null,"","",{"$f":"COUNTIF(CN$33:CN48,OK)+COUNTIF(CN$33:CN48,RDGfix)+COUNTIF(CN$33:CN48,RDGave)+COUNTIF(CN$33:CN48,RDGevent)+CP$7-1","v":0},null,"","",{"$f":"COUNTIF(CR$33:CR48,OK)+COUNTIF(CR$33:CR48,RDGfix)+COUNTIF(CR$33:CR48,RDGave)+COUNTIF(CR$33:CR48,RDGevent)+CT$7-1","v":0},null,"","",{"$f":"COUNTIF(CV$33:CV48,OK)+COUNTIF(CV$33:CV48,RDGfix)+COUNTIF(CV$33:CV48,RDGave)+COUNTIF(CV$33:CV48,RDGevent)+CX$7-1","v":0},null,"","",{"$f":"COUNTIF(CZ$33:CZ48,OK)+COUNTIF(CZ$33:CZ48,RDGfix)+COUNTIF(CZ$33:CZ48,RDGave)+COUNTIF(CZ$33:CZ48,RDGevent)+DB$7-1","v":0},null,"","",{"$f":"COUNTIF(DD$33:DD48,OK)+COUNTIF(DD$33:DD48,RDGfix)+COUNTIF(DD$33:DD48,RDGave)+COUNTIF(DD$33:DD48,RDGevent)+DF$7-1","v":0},null,"","",{"$f":"COUNTIF(DH$33:DH48,OK)+COUNTIF(DH$33:DH48,RDGfix)+COUNTIF(DH$33:DH48,RDGave)+COUNTIF(DH$33:DH48,RDGevent)+DJ$7-1","v":0},null,"","",{"$f":"COUNTIF(DL$33:DL48,OK)+COUNTIF(DL$33:DL48,RDGfix)+COUNTIF(DL$33:DL48,RDGave)+COUNTIF(DL$33:DL48,RDGevent)+DN$7-1","v":0},null,"","",{"$f":"COUNTIF(DP$33:DP48,OK)+COUNTIF(DP$33:DP48,RDGfix)+COUNTIF(DP$33:DP48,RDGave)+COUNTIF(DP$33:DP48,RDGevent)+DR$7-1","v":0},null,"","",{"$f":"COUNTIF(DT$33:DT48,OK)+COUNTIF(DT$33:DT48,RDGfix)+COUNTIF(DT$33:DT48,RDGave)+COUNTIF(DT$33:DT48,RDGevent)+DV$7-1","v":0},null,"","",{"$f":"COUNTIF(DX$33:DX48,OK)+COUNTIF(DX$33:DX48,RDGfix)+COUNTIF(DX$33:DX48,RDGave)+COUNTIF(DX$33:DX48,RDGevent)+DZ$7-1","v":0},null,"","",{"$f":"COUNTIF(EB$33:EB48,OK)+COUNTIF(EB$33:EB48,RDGfix)+COUNTIF(EB$33:EB48,RDGave)+COUNTIF(EB$33:EB48,RDGevent)+ED$7-1","v":0},null,"","",{"$f":"COUNTIF(EF$33:EF48,OK)+COUNTIF(EF$33:EF48,RDGfix)+COUNTIF(EF$33:EF48,RDGave)+COUNTIF(EF$33:EF48,RDGevent)+EH$7-1","v":0},null,"","",{"$f":"COUNTIF(EJ$33:EJ48,OK)+COUNTIF(EJ$33:EJ48,RDGfix)+COUNTIF(EJ$33:EJ48,RDGave)+COUNTIF(EJ$33:EJ48,RDGevent)+EL$7-1","v":0},null,"","",{"$f":"COUNTIF(EN$33:EN48,OK)+COUNTIF(EN$33:EN48,RDGfix)+COUNTIF(EN$33:EN48,RDGave)+COUNTIF(EN$33:EN48,RDGevent)+EP$7-1","v":0},null,"","",{"$f":"COUNTIF(ER$33:ER48,OK)+COUNTIF(ER$33:ER48,RDGfix)+COUNTIF(ER$33:ER48,RDGave)+COUNTIF(ER$33:ER48,RDGevent)+ET$7-1","v":0},null,"","",{"$f":"COUNTIF(EV$33:EV48,OK)+COUNTIF(EV$33:EV48,RDGfix)+COUNTIF(EV$33:EV48,RDGave)+COUNTIF(EV$33:EV48,RDGevent)+EX$7-1","v":0},null,"","",{"$f":"COUNTIF(EZ$33:EZ48,OK)+COUNTIF(EZ$33:EZ48,RDGfix)+COUNTIF(EZ$33:EZ48,RDGave)+COUNTIF(EZ$33:EZ48,RDGevent)+FB$7-1","v":0},null,"","",{"$f":"COUNTIF(FD$33:FD48,OK)+COUNTIF(FD$33:FD48,RDGfix)+COUNTIF(FD$33:FD48,RDGave)+COUNTIF(FD$33:FD48,RDGevent)+FF$7-1","v":0},null,"","",{"$f":"COUNTIF(FH$33:FH48,OK)+COUNTIF(FH$33:FH48,RDGfix)+COUNTIF(FH$33:FH48,RDGave)+COUNTIF(FH$33:FH48,RDGevent)+FJ$7-1","v":0}]
[null,"17th",null,"","",{"$f":"COUNTIF(D$33:D49,OK)+COUNTIF(D$33:D49,RDGfix)+COUNTIF(D$33:D49,RDGave)+COUNTIF(D$33:D49,RDGevent)","v":0},null,"","",{"$f":"COUNTIF(H$33:H49,OK)+COUNTIF(H$33:H49,RDGfix)+COUNTIF(H$33:H49,RDGave)+COUNTIF(H$33:H49,RDGevent)+J$7-1","v":0},null,"","",{"$f":"COUNTIF(L$33:L49,OK)+COUNTIF(L$33:L49,RDGfix)+COUNTIF(L$33:L49,RDGave)+COUNTIF(L$33:L49,RDGevent)+N$7-1","v":0},null,"","",{"$f":"COUNTIF(P$33:P49,OK)+COUNTIF(P$33:P49,RDGfix)+COUNTIF(P$33:P49,RDGave)+COUNTIF(P$33:P49,RDGevent)+R$7-1","v":0},null,"","",{"$f":"COUNTIF(T$33:T49,OK)+COUNTIF(T$33:T49,RDGfix)+COUNTIF(T$33:T49,RDGave)+COUNTIF(T$33:T49,RDGevent)+V$7-1","v":0},null,"","",{"$f":"COUNTIF(X$33:X49,OK)+COUNTIF(X$33:X49,RDGfix)+COUNTIF(X$33:X49,RDGave)+COUNTIF(X$33:X49,RDGevent)+Z$7-1","v":0},null,"","",{"$f":"COUNTIF(AB$33:AB49,OK)+COUNTIF(AB$33:AB49,RDGfix)+COUNTIF(AB$33:AB49,RDGave)+COUNTIF(AB$33:AB49,RDGevent)+AD$7-1","v":0},null,"","",{"$f":"COUNTIF(AF$33:AF49,OK)+COUNTIF(AF$33:AF49,RDGfix)+COUNTIF(AF$33:AF49,RDGave)+COUNTIF(AF$33:AF49,RDGevent)+AH$7-1","v":0},null,"","",{"$f":"COUNTIF(AJ$33:AJ49,OK)+COUNTIF(AJ$33:AJ49,RDGfix)+COUNTIF(AJ$33:AJ49,RDGave)+COUNTIF(AJ$33:AJ49,RDGevent)+AL$7-1","v":0},null,"","",{"$f":"COUNTIF(AN$33:AN49,OK)+COUNTIF(AN$33:AN49,RDGfix)+COUNTIF(AN$33:AN49,RDGave)+COUNTIF(AN$33:AN49,RDGevent)+AP$7-1","v":0},null,"","",{"$f":"COUNTIF(AR$33:AR49,OK)+COUNTIF(AR$33:AR49,RDGfix)+COUNTIF(AR$33:AR49,RDGave)+COUNTIF(AR$33:AR49,RDGevent)+AT$7-1","v":0},null,"","",{"$f":"COUNTIF(AV$33:AV49,OK)+COUNTIF(AV$33:AV49,RDGfix)+COUNTIF(AV$33:AV49,RDGave)+COUNTIF(AV$33:AV49,RDGevent)+AX$7-1","v":0},null,"","",{"$f":"COUNTIF(AZ$33:AZ49,OK)+COUNTIF(AZ$33:AZ49,RDGfix)+COUNTIF(AZ$33:AZ49,RDGave)+COUNTIF(AZ$33:AZ49,RDGevent)+BB$7-1","v":0},null,"","",{"$f":"COUNTIF(BD$33:BD49,OK)+COUNTIF(BD$33:BD49,RDGfix)+COUNTIF(BD$33:BD49,RDGave)+COUNTIF(BD$33:BD49,RDGevent)+BF$7-1","v":0},null,"","",{"$f":"COUNTIF(BH$33:BH49,OK)+COUNTIF(BH$33:BH49,RDGfix)+COUNTIF(BH$33:BH49,RDGave)+COUNTIF(BH$33:BH49,RDGevent)+BJ$7-1","v":0},null,"","",{"$f":"COUNTIF(BL$33:BL49,OK)+COUNTIF(BL$33:BL49,RDGfix)+COUNTIF(BL$33:BL49,RDGave)+COUNTIF(BL$33:BL49,RDGevent)+BN$7-1","v":0},null,"","",{"$f":"COUNTIF(BP$33:BP49,OK)+COUNTIF(BP$33:BP49,RDGfix)+COUNTIF(BP$33:BP49,RDGave)+COUNTIF(BP$33:BP49,RDGevent)+BR$7-1","v":0},null,"","",{"$f":"COUNTIF(BT$33:BT49,OK)+COUNTIF(BT$33:BT49,RDGfix)+COUNTIF(BT$33:BT49,RDGave)+COUNTIF(BT$33:BT49,RDGevent)+BV$7-1","v":0},null,"","",{"$f":"COUNTIF(BX$33:BX49,OK)+COUNTIF(BX$33:BX49,RDGfix)+COUNTIF(BX$33:BX49,RDGave)+COUNTIF(BX$33:BX49,RDGevent)+BZ$7-1","v":0},null,"","",{"$f":"COUNTIF(CB$33:CB49,OK)+COUNTIF(CB$33:CB49,RDGfix)+COUNTIF(CB$33:CB49,RDGave)+COUNTIF(CB$33:CB49,RDGevent)+CD$7-1","v":0},null,"","",{"$f":"COUNTIF(CF$33:CF49,OK)+COUNTIF(CF$33:CF49,RDGfix)+COUNTIF(CF$33:CF49,RDGave)+COUNTIF(CF$33:CF49,RDGevent)+CH$7-1","v":0},null,"","",{"$f":"COUNTIF(CJ$33:CJ49,OK)+COUNTIF(CJ$33:CJ49,RDGfix)+COUNTIF(CJ$33:CJ49,RDGave)+COUNTIF(CJ$33:CJ49,RDGevent)+CL$7-1","v":0},null,"","",{"$f":"COUNTIF(CN$33:CN49,OK)+COUNTIF(CN$33:CN49,RDGfix)+COUNTIF(CN$33:CN49,RDGave)+COUNTIF(CN$33:CN49,RDGevent)+CP$7-1","v":0},null,"","",{"$f":"COUNTIF(CR$33:CR49,OK)+COUNTIF(CR$33:CR49,RDGfix)+COUNTIF(CR$33:CR49,RDGave)+COUNTIF(CR$33:CR49,RDGevent)+CT$7-1","v":0},null,"","",{"$f":"COUNTIF(CV$33:CV49,OK)+COUNTIF(CV$33:CV49,RDGfix)+COUNTIF(CV$33:CV49,RDGave)+COUNTIF(CV$33:CV49,RDGevent)+CX$7-1","v":0},null,"","",{"$f":"COUNTIF(CZ$33:CZ49,OK)+COUNTIF(CZ$33:CZ49,RDGfix)+COUNTIF(CZ$33:CZ49,RDGave)+COUNTIF(CZ$33:CZ49,RDGevent)+DB$7-1","v":0},null,"","",{"$f":"COUNTIF(DD$33:DD49,OK)+COUNTIF(DD$33:DD49,RDGfix)+COUNTIF(DD$33:DD49,RDGave)+COUNTIF(DD$33:DD49,RDGevent)+DF$7-1","v":0},null,"","",{"$f":"COUNTIF(DH$33:DH49,OK)+COUNTIF(DH$33:DH49,RDGfix)+COUNTIF(DH$33:DH49,RDGave)+COUNTIF(DH$33:DH49,RDGevent)+DJ$7-1","v":0},null,"","",{"$f":"COUNTIF(DL$33:DL49,OK)+COUNTIF(DL$33:DL49,RDGfix)+COUNTIF(DL$33:DL49,RDGave)+COUNTIF(DL$33:DL49,RDGevent)+DN$7-1","v":0},null,"","",{"$f":"COUNTIF(DP$33:DP49,OK)+COUNTIF(DP$33:DP49,RDGfix)+COUNTIF(DP$33:DP49,RDGave)+COUNTIF(DP$33:DP49,RDGevent)+DR$7-1","v":0},null,"","",{"$f":"COUNTIF(DT$33:DT49,OK)+COUNTIF(DT$33:DT49,RDGfix)+COUNTIF(DT$33:DT49,RDGave)+COUNTIF(DT$33:DT49,RDGevent)+DV$7-1","v":0},null,"","",{"$f":"COUNTIF(DX$33:DX49,OK)+COUNTIF(DX$33:DX49,RDGfix)+COUNTIF(DX$33:DX49,RDGave)+COUNTIF(DX$33:DX49,RDGevent)+DZ$7-1","v":0},null,"","",{"$f":"COUNTIF(EB$33:EB49,OK)+COUNTIF(EB$33:EB49,RDGfix)+COUNTIF(EB$33:EB49,RDGave)+COUNTIF(EB$33:EB49,RDGevent)+ED$7-1","v":0},null,"","",{"$f":"COUNTIF(EF$33:EF49,OK)+COUNTIF(EF$33:EF49,RDGfix)+COUNTIF(EF$33:EF49,RDGave)+COUNTIF(EF$33:EF49,RDGevent)+EH$7-1","v":0},null,"","",{"$f":"COUNTIF(EJ$33:EJ49,OK)+COUNTIF(EJ$33:EJ49,RDGfix)+COUNTIF(EJ$33:EJ49,RDGave)+COUNTIF(EJ$33:EJ49,RDGevent)+EL$7-1","v":0},null,"","",{"$f":"COUNTIF(EN$33:EN49,OK)+COUNTIF(EN$33:EN49,RDGfix)+COUNTIF(EN$33:EN49,RDGave)+COUNTIF(EN$33:EN49,RDGevent)+EP$7-1","v":0},null,"","",{"$f":"COUNTIF(ER$33:ER49,OK)+COUNTIF(ER$33:ER49,RDGfix)+COUNTIF(ER$33:ER49,RDGave)+COUNTIF(ER$33:ER49,RDGevent)+ET$7-1","v":0},null,"","",{"$f":"COUNTIF(EV$33:EV49,OK)+COUNTIF(EV$33:EV49,RDGfix)+COUNTIF(EV$33:EV49,RDGave)+COUNTIF(EV$33:EV49,RDGevent)+EX$7-1","v":0},null,"","",{"$f":"COUNTIF(EZ$33:EZ49,OK)+COUNTIF(EZ$33:EZ49,RDGfix)+COUNTIF(EZ$33:EZ49,RDGave)+COUNTIF(EZ$33:EZ49,RDGevent)+FB$7-1","v":0},null,"","",{"$f":"COUNTIF(FD$33:FD49,OK)+COUNTIF(FD$33:FD49,RDGfix)+COUNTIF(FD$33:FD49,RDGave)+COUNTIF(FD$33:FD49,RDGevent)+FF$7-1","v":0},null,"","",{"$f":"COUNTIF(FH$33:FH49,OK)+COUNTIF(FH$33:FH49,RDGfix)+COUNTIF(FH$33:FH49,RDGave)+COUNTIF(FH$33:FH49,RDGevent)+FJ$7-1","v":0}]
[null,"18th",null,"","",{"$f":"COUNTIF(D$33:D50,OK)+COUNTIF(D$33:D50,RDGfix)+COUNTIF(D$33:D50,RDGave)+COUNTIF(D$33:D50,RDGevent)","v":0},null,"","",{"$f":"COUNTIF(H$33:H50,OK)+COUNTIF(H$33:H50,RDGfix)+COUNTIF(H$33:H50,RDGave)+COUNTIF(H$33:H50,RDGevent)+J$7-1","v":0},null,"","",{"$f":"COUNTIF(L$33:L50,OK)+COUNTIF(L$33:L50,RDGfix)+COUNTIF(L$33:L50,RDGave)+COUNTIF(L$33:L50,RDGevent)+N$7-1","v":0},null,"","",{"$f":"COUNTIF(P$33:P50,OK)+COUNTIF(P$33:P50,RDGfix)+COUNTIF(P$33:P50,RDGave)+COUNTIF(P$33:P50,RDGevent)+R$7-1","v":0},null,"","",{"$f":"COUNTIF(T$33:T50,OK)+COUNTIF(T$33:T50,RDGfix)+COUNTIF(T$33:T50,RDGave)+COUNTIF(T$33:T50,RDGevent)+V$7-1","v":0},null,"","",{"$f":"COUNTIF(X$33:X50,OK)+COUNTIF(X$33:X50,RDGfix)+COUNTIF(X$33:X50,RDGave)+COUNTIF(X$33:X50,RDGevent)+Z$7-1","v":0},null,"","",{"$f":"COUNTIF(AB$33:AB50,OK)+COUNTIF(AB$33:AB50,RDGfix)+COUNTIF(AB$33:AB50,RDGave)+COUNTIF(AB$33:AB50,RDGevent)+AD$7-1","v":0},null,"","",{"$f":"COUNTIF(AF$33:AF50,OK)+COUNTIF(AF$33:AF50,RDGfix)+COUNTIF(AF$33:AF50,RDGave)+COUNTIF(AF$33:AF50,RDGevent)+AH$7-1","v":0},null,"","",{"$f":"COUNTIF(AJ$33:AJ50,OK)+COUNTIF(AJ$33:AJ50,RDGfix)+COUNTIF(AJ$33:AJ50,RDGave)+COUNTIF(AJ$33:AJ50,RDGevent)+AL$7-1","v":0},null,"","",{"$f":"COUNTIF(AN$33:AN50,OK)+COUNTIF(AN$33:AN50,RDGfix)+COUNTIF(AN$33:AN50,RDGave)+COUNTIF(AN$33:AN50,RDGevent)+AP$7-1","v":0},null,"","",{"$f":"COUNTIF(AR$33:AR50,OK)+COUNTIF(AR$33:AR50,RDGfix)+COUNTIF(AR$33:AR50,RDGave)+COUNTIF(AR$33:AR50,RDGevent)+AT$7-1","v":0},null,"","",{"$f":"COUNTIF(AV$33:AV50,OK)+COUNTIF(AV$33:AV50,RDGfix)+COUNTIF(AV$33:AV50,RDGave)+COUNTIF(AV$33:AV50,RDGevent)+AX$7-1","v":0},null,"","",{"$f":"COUNTIF(AZ$33:AZ50,OK)+COUNTIF(AZ$33:AZ50,RDGfix)+COUNTIF(AZ$33:AZ50,RDGave)+COUNTIF(AZ$33:AZ50,RDGevent)+BB$7-1","v":0},null,"","",{"$f":"COUNTIF(BD$33:BD50,OK)+COUNTIF(BD$33:BD50,RDGfix)+COUNTIF(BD$33:BD50,RDGave)+COUNTIF(BD$33:BD50,RDGevent)+BF$7-1","v":0},null,"","",{"$f":"COUNTIF(BH$33:BH50,OK)+COUNTIF(BH$33:BH50,RDGfix)+COUNTIF(BH$33:BH50,RDGave)+COUNTIF(BH$33:BH50,RDGevent)+BJ$7-1","v":0},null,"","",{"$f":"COUNTIF(BL$33:BL50,OK)+COUNTIF(BL$33:BL50,RDGfix)+COUNTIF(BL$33:BL50,RDGave)+COUNTIF(BL$33:BL50,RDGevent)+BN$7-1","v":0},null,"","",{"$f":"COUNTIF(BP$33:BP50,OK)+COUNTIF(BP$33:BP50,RDGfix)+COUNTIF(BP$33:BP50,RDGave)+COUNTIF(BP$33:BP50,RDGevent)+BR$7-1","v":0},null,"","",{"$f":"COUNTIF(BT$33:BT50,OK)+COUNTIF(BT$33:BT50,RDGfix)+COUNTIF(BT$33:BT50,RDGave)+COUNTIF(BT$33:BT50,RDGevent)+BV$7-1","v":0},null,"","",{"$f":"COUNTIF(BX$33:BX50,OK)+COUNTIF(BX$33:BX50,RDGfix)+COUNTIF(BX$33:BX50,RDGave)+COUNTIF(BX$33:BX50,RDGevent)+BZ$7-1","v":0},null,"","",{"$f":"COUNTIF(CB$33:CB50,OK)+COUNTIF(CB$33:CB50,RDGfix)+COUNTIF(CB$33:CB50,RDGave)+COUNTIF(CB$33:CB50,RDGevent)+CD$7-1","v":0},null,"","",{"$f":"COUNTIF(CF$33:CF50,OK)+COUNTIF(CF$33:CF50,RDGfix)+COUNTIF(CF$33:CF50,RDGave)+COUNTIF(CF$33:CF50,RDGevent)+CH$7-1","v":0},null,"","",{"$f":"COUNTIF(CJ$33:CJ50,OK)+COUNTIF(CJ$33:CJ50,RDGfix)+COUNTIF(CJ$33:CJ50,RDGave)+COUNTIF(CJ$33:CJ50,RDGevent)+CL$7-1","v":0},null,"","",{"$f":"COUNTIF(CN$33:CN50,OK)+COUNTIF(CN$33:CN50,RDGfix)+COUNTIF(CN$33:CN50,RDGave)+COUNTIF(CN$33:CN50,RDGevent)+CP$7-1","v":0},null,"","",{"$f":"COUNTIF(CR$33:CR50,OK)+COUNTIF(CR$33:CR50,RDGfix)+COUNTIF(CR$33:CR50,RDGave)+COUNTIF(CR$33:CR50,RDGevent)+CT$7-1","v":0},null,"","",{"$f":"COUNTIF(CV$33:CV50,OK)+COUNTIF(CV$33:CV50,RDGfix)+COUNTIF(CV$33:CV50,RDGave)+COUNTIF(CV$33:CV50,RDGevent)+CX$7-1","v":0},null,"","",{"$f":"COUNTIF(CZ$33:CZ50,OK)+COUNTIF(CZ$33:CZ50,RDGfix)+COUNTIF(CZ$33:CZ50,RDGave)+COUNTIF(CZ$33:CZ50,RDGevent)+DB$7-1","v":0},null,"","",{"$f":"COUNTIF(DD$33:DD50,OK)+COUNTIF(DD$33:DD50,RDGfix)+COUNTIF(DD$33:DD50,RDGave)+COUNTIF(DD$33:DD50,RDGevent)+DF$7-1","v":0},null,"","",{"$f":"COUNTIF(DH$33:DH50,OK)+COUNTIF(DH$33:DH50,RDGfix)+COUNTIF(DH$33:DH50,RDGave)+COUNTIF(DH$33:DH50,RDGevent)+DJ$7-1","v":0},null,"","",{"$f":"COUNTIF(DL$33:DL50,OK)+COUNTIF(DL$33:DL50,RDGfix)+COUNTIF(DL$33:DL50,RDGave)+COUNTIF(DL$33:DL50,RDGevent)+DN$7-1","v":0},null,"","",{"$f":"COUNTIF(DP$33:DP50,OK)+COUNTIF(DP$33:DP50,RDGfix)+COUNTIF(DP$33:DP50,RDGave)+COUNTIF(DP$33:DP50,RDGevent)+DR$7-1","v":0},null,"","",{"$f":"COUNTIF(DT$33:DT50,OK)+COUNTIF(DT$33:DT50,RDGfix)+COUNTIF(DT$33:DT50,RDGave)+COUNTIF(DT$33:DT50,RDGevent)+DV$7-1","v":0},null,"","",{"$f":"COUNTIF(DX$33:DX50,OK)+COUNTIF(DX$33:DX50,RDGfix)+COUNTIF(DX$33:DX50,RDGave)+COUNTIF(DX$33:DX50,RDGevent)+DZ$7-1","v":0},null,"","",{"$f":"COUNTIF(EB$33:EB50,OK)+COUNTIF(EB$33:EB50,RDGfix)+COUNTIF(EB$33:EB50,RDGave)+COUNTIF(EB$33:EB50,RDGevent)+ED$7-1","v":0},null,"","",{"$f":"COUNTIF(EF$33:EF50,OK)+COUNTIF(EF$33:EF50,RDGfix)+COUNTIF(EF$33:EF50,RDGave)+COUNTIF(EF$33:EF50,RDGevent)+EH$7-1","v":0},null,"","",{"$f":"COUNTIF(EJ$33:EJ50,OK)+COUNTIF(EJ$33:EJ50,RDGfix)+COUNTIF(EJ$33:EJ50,RDGave)+COUNTIF(EJ$33:EJ50,RDGevent)+EL$7-1","v":0},null,"","",{"$f":"COUNTIF(EN$33:EN50,OK)+COUNTIF(EN$33:EN50,RDGfix)+COUNTIF(EN$33:EN50,RDGave)+COUNTIF(EN$33:EN50,RDGevent)+EP$7-1","v":0},null,"","",{"$f":"COUNTIF(ER$33:ER50,OK)+COUNTIF(ER$33:ER50,RDGfix)+COUNTIF(ER$33:ER50,RDGave)+COUNTIF(ER$33:ER50,RDGevent)+ET$7-1","v":0},null,"","",{"$f":"COUNTIF(EV$33:EV50,OK)+COUNTIF(EV$33:EV50,RDGfix)+COUNTIF(EV$33:EV50,RDGave)+COUNTIF(EV$33:EV50,RDGevent)+EX$7-1","v":0},null,"","",{"$f":"COUNTIF(EZ$33:EZ50,OK)+COUNTIF(EZ$33:EZ50,RDGfix)+COUNTIF(EZ$33:EZ50,RDGave)+COUNTIF(EZ$33:EZ50,RDGevent)+FB$7-1","v":0},null,"","",{"$f":"COUNTIF(FD$33:FD50,OK)+COUNTIF(FD$33:FD50,RDGfix)+COUNTIF(FD$33:FD50,RDGave)+COUNTIF(FD$33:FD50,RDGevent)+FF$7-1","v":0},null,"","",{"$f":"COUNTIF(FH$33:FH50,OK)+COUNTIF(FH$33:FH50,RDGfix)+COUNTIF(FH$33:FH50,RDGave)+COUNTIF(FH$33:FH50,RDGevent)+FJ$7-1","v":0}]
[null,"19th",null,"","",{"$f":"COUNTIF(D$33:D51,OK)+COUNTIF(D$33:D51,RDGfix)+COUNTIF(D$33:D51,RDGave)+COUNTIF(D$33:D51,RDGevent)","v":0},null,"","",{"$f":"COUNTIF(H$33:H51,OK)+COUNTIF(H$33:H51,RDGfix)+COUNTIF(H$33:H51,RDGave)+COUNTIF(H$33:H51,RDGevent)+J$7-1","v":0},null,"","",{"$f":"COUNTIF(L$33:L51,OK)+COUNTIF(L$33:L51,RDGfix)+COUNTIF(L$33:L51,RDGave)+COUNTIF(L$33:L51,RDGevent)+N$7-1","v":0},null,"","",{"$f":"COUNTIF(P$33:P51,OK)+COUNTIF(P$33:P51,RDGfix)+COUNTIF(P$33:P51,RDGave)+COUNTIF(P$33:P51,RDGevent)+R$7-1","v":0},null,"","",{"$f":"COUNTIF(T$33:T51,OK)+COUNTIF(T$33:T51,RDGfix)+COUNTIF(T$33:T51,RDGave)+COUNTIF(T$33:T51,RDGevent)+V$7-1","v":0},null,"","",{"$f":"COUNTIF(X$33:X51,OK)+COUNTIF(X$33:X51,RDGfix)+COUNTIF(X$33:X51,RDGave)+COUNTIF(X$33:X51,RDGevent)+Z$7-1","v":0},null,"","",{"$f":"COUNTIF(AB$33:AB51,OK)+COUNTIF(AB$33:AB51,RDGfix)+COUNTIF(AB$33:AB51,RDGave)+COUNTIF(AB$33:AB51,RDGevent)+AD$7-1","v":0},null,"","",{"$f":"COUNTIF(AF$33:AF51,OK)+COUNTIF(AF$33:AF51,RDGfix)+COUNTIF(AF$33:AF51,RDGave)+COUNTIF(AF$33:AF51,RDGevent)+AH$7-1","v":0},null,"","",{"$f":"COUNTIF(AJ$33:AJ51,OK)+COUNTIF(AJ$33:AJ51,RDGfix)+COUNTIF(AJ$33:AJ51,RDGave)+COUNTIF(AJ$33:AJ51,RDGevent)+AL$7-1","v":0},null,"","",{"$f":"COUNTIF(AN$33:AN51,OK)+COUNTIF(AN$33:AN51,RDGfix)+COUNTIF(AN$33:AN51,RDGave)+COUNTIF(AN$33:AN51,RDGevent)+AP$7-1","v":0},null,"","",{"$f":"COUNTIF(AR$33:AR51,OK)+COUNTIF(AR$33:AR51,RDGfix)+COUNTIF(AR$33:AR51,RDGave)+COUNTIF(AR$33:AR51,RDGevent)+AT$7-1","v":0},null,"","",{"$f":"COUNTIF(AV$33:AV51,OK)+COUNTIF(AV$33:AV51,RDGfix)+COUNTIF(AV$33:AV51,RDGave)+COUNTIF(AV$33:AV51,RDGevent)+AX$7-1","v":0},null,"","",{"$f":"COUNTIF(AZ$33:AZ51,OK)+COUNTIF(AZ$33:AZ51,RDGfix)+COUNTIF(AZ$33:AZ51,RDGave)+COUNTIF(AZ$33:AZ51,RDGevent)+BB$7-1","v":0},null,"","",{"$f":"COUNTIF(BD$33:BD51,OK)+COUNTIF(BD$33:BD51,RDGfix)+COUNTIF(BD$33:BD51,RDGave)+COUNTIF(BD$33:BD51,RDGevent)+BF$7-1","v":0},null,"","",{"$f":"COUNTIF(BH$33:BH51,OK)+COUNTIF(BH$33:BH51,RDGfix)+COUNTIF(BH$33:BH51,RDGave)+COUNTIF(BH$33:BH51,RDGevent)+BJ$7-1","v":0},null,"","",{"$f":"COUNTIF(BL$33:BL51,OK)+COUNTIF(BL$33:BL51,RDGfix)+COUNTIF(BL$33:BL51,RDGave)+COUNTIF(BL$33:BL51,RDGevent)+BN$7-1","v":0},null,"","",{"$f":"COUNTIF(BP$33:BP51,OK)+COUNTIF(BP$33:BP51,RDGfix)+COUNTIF(BP$33:BP51,RDGave)+COUNTIF(BP$33:BP51,RDGevent)+BR$7-1","v":0},null,"","",{"$f":"COUNTIF(BT$33:BT51,OK)+COUNTIF(BT$33:BT51,RDGfix)+COUNTIF(BT$33:BT51,RDGave)+COUNTIF(BT$33:BT51,RDGevent)+BV$7-1","v":0},null,"","",{"$f":"COUNTIF(BX$33:BX51,OK)+COUNTIF(BX$33:BX51,RDGfix)+COUNTIF(BX$33:BX51,RDGave)+COUNTIF(BX$33:BX51,RDGevent)+BZ$7-1","v":0},null,"","",{"$f":"COUNTIF(CB$33:CB51,OK)+COUNTIF(CB$33:CB51,RDGfix)+COUNTIF(CB$33:CB51,RDGave)+COUNTIF(CB$33:CB51,RDGevent)+CD$7-1","v":0},null,"","",{"$f":"COUNTIF(CF$33:CF51,OK)+COUNTIF(CF$33:CF51,RDGfix)+COUNTIF(CF$33:CF51,RDGave)+COUNTIF(CF$33:CF51,RDGevent)+CH$7-1","v":0},null,"","",{"$f":"COUNTIF(CJ$33:CJ51,OK)+COUNTIF(CJ$33:CJ51,RDGfix)+COUNTIF(CJ$33:CJ51,RDGave)+COUNTIF(CJ$33:CJ51,RDGevent)+CL$7-1","v":0},null,"","",{"$f":"COUNTIF(CN$33:CN51,OK)+COUNTIF(CN$33:CN51,RDGfix)+COUNTIF(CN$33:CN51,RDGave)+COUNTIF(CN$33:CN51,RDGevent)+CP$7-1","v":0},null,"","",{"$f":"COUNTIF(CR$33:CR51,OK)+COUNTIF(CR$33:CR51,RDGfix)+COUNTIF(CR$33:CR51,RDGave)+COUNTIF(CR$33:CR51,RDGevent)+CT$7-1","v":0},null,"","",{"$f":"COUNTIF(CV$33:CV51,OK)+COUNTIF(CV$33:CV51,RDGfix)+COUNTIF(CV$33:CV51,RDGave)+COUNTIF(CV$33:CV51,RDGevent)+CX$7-1","v":0},null,"","",{"$f":"COUNTIF(CZ$33:CZ51,OK)+COUNTIF(CZ$33:CZ51,RDGfix)+COUNTIF(CZ$33:CZ51,RDGave)+COUNTIF(CZ$33:CZ51,RDGevent)+DB$7-1","v":0},null,"","",{"$f":"COUNTIF(DD$33:DD51,OK)+COUNTIF(DD$33:DD51,RDGfix)+COUNTIF(DD$33:DD51,RDGave)+COUNTIF(DD$33:DD51,RDGevent)+DF$7-1","v":0},null,"","",{"$f":"COUNTIF(DH$33:DH51,OK)+COUNTIF(DH$33:DH51,RDGfix)+COUNTIF(DH$33:DH51,RDGave)+COUNTIF(DH$33:DH51,RDGevent)+DJ$7-1","v":0},null,"","",{"$f":"COUNTIF(DL$33:DL51,OK)+COUNTIF(DL$33:DL51,RDGfix)+COUNTIF(DL$33:DL51,RDGave)+COUNTIF(DL$33:DL51,RDGevent)+DN$7-1","v":0},null,"","",{"$f":"COUNTIF(DP$33:DP51,OK)+COUNTIF(DP$33:DP51,RDGfix)+COUNTIF(DP$33:DP51,RDGave)+COUNTIF(DP$33:DP51,RDGevent)+DR$7-1","v":0},null,"","",{"$f":"COUNTIF(DT$33:DT51,OK)+COUNTIF(DT$33:DT51,RDGfix)+COUNTIF(DT$33:DT51,RDGave)+COUNTIF(DT$33:DT51,RDGevent)+DV$7-1","v":0},null,"","",{"$f":"COUNTIF(DX$33:DX51,OK)+COUNTIF(DX$33:DX51,RDGfix)+COUNTIF(DX$33:DX51,RDGave)+COUNTIF(DX$33:DX51,RDGevent)+DZ$7-1","v":0},null,"","",{"$f":"COUNTIF(EB$33:EB51,OK)+COUNTIF(EB$33:EB51,RDGfix)+COUNTIF(EB$33:EB51,RDGave)+COUNTIF(EB$33:EB51,RDGevent)+ED$7-1","v":0},null,"","",{"$f":"COUNTIF(EF$33:EF51,OK)+COUNTIF(EF$33:EF51,RDGfix)+COUNTIF(EF$33:EF51,RDGave)+COUNTIF(EF$33:EF51,RDGevent)+EH$7-1","v":0},null,"","",{"$f":"COUNTIF(EJ$33:EJ51,OK)+COUNTIF(EJ$33:EJ51,RDGfix)+COUNTIF(EJ$33:EJ51,RDGave)+COUNTIF(EJ$33:EJ51,RDGevent)+EL$7-1","v":0},null,"","",{"$f":"COUNTIF(EN$33:EN51,OK)+COUNTIF(EN$33:EN51,RDGfix)+COUNTIF(EN$33:EN51,RDGave)+COUNTIF(EN$33:EN51,RDGevent)+EP$7-1","v":0},null,"","",{"$f":"COUNTIF(ER$33:ER51,OK)+COUNTIF(ER$33:ER51,RDGfix)+COUNTIF(ER$33:ER51,RDGave)+COUNTIF(ER$33:ER51,RDGevent)+ET$7-1","v":0},null,"","",{"$f":"COUNTIF(EV$33:EV51,OK)+COUNTIF(EV$33:EV51,RDGfix)+COUNTIF(EV$33:EV51,RDGave)+COUNTIF(EV$33:EV51,RDGevent)+EX$7-1","v":0},null,"","",{"$f":"COUNTIF(EZ$33:EZ51,OK)+COUNTIF(EZ$33:EZ51,RDGfix)+COUNTIF(EZ$33:EZ51,RDGave)+COUNTIF(EZ$33:EZ51,RDGevent)+FB$7-1","v":0},null,"","",{"$f":"COUNTIF(FD$33:FD51,OK)+COUNTIF(FD$33:FD51,RDGfix)+COUNTIF(FD$33:FD51,RDGave)+COUNTIF(FD$33:FD51,RDGevent)+FF$7-1","v":0},null,"","",{"$f":"COUNTIF(FH$33:FH51,OK)+COUNTIF(FH$33:FH51,RDGfix)+COUNTIF(FH$33:FH51,RDGave)+COUNTIF(FH$33:FH51,RDGevent)+FJ$7-1","v":0}]
[null,"20th",null,"","",{"$f":"COUNTIF(D$33:D52,OK)+COUNTIF(D$33:D52,RDGfix)+COUNTIF(D$33:D52,RDGave)+COUNTIF(D$33:D52,RDGevent)","v":0},null,"","",{"$f":"COUNTIF(H$33:H52,OK)+COUNTIF(H$33:H52,RDGfix)+COUNTIF(H$33:H52,RDGave)+COUNTIF(H$33:H52,RDGevent)+J$7-1","v":0},null,"","",{"$f":"COUNTIF(L$33:L52,OK)+COUNTIF(L$33:L52,RDGfix)+COUNTIF(L$33:L52,RDGave)+COUNTIF(L$33:L52,RDGevent)+N$7-1","v":0},null,"","",{"$f":"COUNTIF(P$33:P52,OK)+COUNTIF(P$33:P52,RDGfix)+COUNTIF(P$33:P52,RDGave)+COUNTIF(P$33:P52,RDGevent)+R$7-1","v":0},null,"","",{"$f":"COUNTIF(T$33:T52,OK)+COUNTIF(T$33:T52,RDGfix)+COUNTIF(T$33:T52,RDGave)+COUNTIF(T$33:T52,RDGevent)+V$7-1","v":0},null,"","",{"$f":"COUNTIF(X$33:X52,OK)+COUNTIF(X$33:X52,RDGfix)+COUNTIF(X$33:X52,RDGave)+COUNTIF(X$33:X52,RDGevent)+Z$7-1","v":0},null,"","",{"$f":"COUNTIF(AB$33:AB52,OK)+COUNTIF(AB$33:AB52,RDGfix)+COUNTIF(AB$33:AB52,RDGave)+COUNTIF(AB$33:AB52,RDGevent)+AD$7-1","v":0},null,"","",{"$f":"COUNTIF(AF$33:AF52,OK)+COUNTIF(AF$33:AF52,RDGfix)+COUNTIF(AF$33:AF52,RDGave)+COUNTIF(AF$33:AF52,RDGevent)+AH$7-1","v":0},null,"","",{"$f":"COUNTIF(AJ$33:AJ52,OK)+COUNTIF(AJ$33:AJ52,RDGfix)+COUNTIF(AJ$33:AJ52,RDGave)+COUNTIF(AJ$33:AJ52,RDGevent)+AL$7-1","v":0},null,"","",{"$f":"COUNTIF(AN$33:AN52,OK)+COUNTIF(AN$33:AN52,RDGfix)+COUNTIF(AN$33:AN52,RDGave)+COUNTIF(AN$33:AN52,RDGevent)+AP$7-1","v":0},null,"","",{"$f":"COUNTIF(AR$33:AR52,OK)+COUNTIF(AR$33:AR52,RDGfix)+COUNTIF(AR$33:AR52,RDGave)+COUNTIF(AR$33:AR52,RDGevent)+AT$7-1","v":0},null,"","",{"$f":"COUNTIF(AV$33:AV52,OK)+COUNTIF(AV$33:AV52,RDGfix)+COUNTIF(AV$33:AV52,RDGave)+COUNTIF(AV$33:AV52,RDGevent)+AX$7-1","v":0},null,"","",{"$f":"COUNTIF(AZ$33:AZ52,OK)+COUNTIF(AZ$33:AZ52,RDGfix)+COUNTIF(AZ$33:AZ52,RDGave)+COUNTIF(AZ$33:AZ52,RDGevent)+BB$7-1","v":0},null,"","",{"$f":"COUNTIF(BD$33:BD52,OK)+COUNTIF(BD$33:BD52,RDGfix)+COUNTIF(BD$33:BD52,RDGave)+COUNTIF(BD$33:BD52,RDGevent)+BF$7-1","v":0},null,"","",{"$f":"COUNTIF(BH$33:BH52,OK)+COUNTIF(BH$33:BH52,RDGfix)+COUNTIF(BH$33:BH52,RDGave)+COUNTIF(BH$33:BH52,RDGevent)+BJ$7-1","v":0},null,"","",{"$f":"COUNTIF(BL$33:BL52,OK)+COUNTIF(BL$33:BL52,RDGfix)+COUNTIF(BL$33:BL52,RDGave)+COUNTIF(BL$33:BL52,RDGevent)+BN$7-1","v":0},null,"","",{"$f":"COUNTIF(BP$33:BP52,OK)+COUNTIF(BP$33:BP52,RDGfix)+COUNTIF(BP$33:BP52,RDGave)+COUNTIF(BP$33:BP52,RDGevent)+BR$7-1","v":0},null,"","",{"$f":"COUNTIF(BT$33:BT52,OK)+COUNTIF(BT$33:BT52,RDGfix)+COUNTIF(BT$33:BT52,RDGave)+COUNTIF(BT$33:BT52,RDGevent)+BV$7-1","v":0},null,"","",{"$f":"COUNTIF(BX$33:BX52,OK)+COUNTIF(BX$33:BX52,RDGfix)+COUNTIF(BX$33:BX52,RDGave)+COUNTIF(BX$33:BX52,RDGevent)+BZ$7-1","v":0},null,"","",{"$f":"COUNTIF(CB$33:CB52,OK)+COUNTIF(CB$33:CB52,RDGfix)+COUNTIF(CB$33:CB52,RDGave)+COUNTIF(CB$33:CB52,RDGevent)+CD$7-1","v":0},null,"","",{"$f":"COUNTIF(CF$33:CF52,OK)+COUNTIF(CF$33:CF52,RDGfix)+COUNTIF(CF$33:CF52,RDGave)+COUNTIF(CF$33:CF52,RDGevent)+CH$7-1","v":0},null,"","",{"$f":"COUNTIF(CJ$33:CJ52,OK)+COUNTIF(CJ$33:CJ52,RDGfix)+COUNTIF(CJ$33:CJ52,RDGave)+COUNTIF(CJ$33:CJ52,RDGevent)+CL$7-1","v":0},null,"","",{"$f":"COUNTIF(CN$33:CN52,OK)+COUNTIF(CN$33:CN52,RDGfix)+COUNTIF(CN$33:CN52,RDGave)+COUNTIF(CN$33:CN52,RDGevent)+CP$7-1","v":0},null,"","",{"$f":"COUNTIF(CR$33:CR52,OK)+COUNTIF(CR$33:CR52,RDGfix)+COUNTIF(CR$33:CR52,RDGave)+COUNTIF(CR$33:CR52,RDGevent)+CT$7-1","v":0},null,"","",{"$f":"COUNTIF(CV$33:CV52,OK)+COUNTIF(CV$33:CV52,RDGfix)+COUNTIF(CV$33:CV52,RDGave)+COUNTIF(CV$33:CV52,RDGevent)+CX$7-1","v":0},null,"","",{"$f":"COUNTIF(CZ$33:CZ52,OK)+COUNTIF(CZ$33:CZ52,RDGfix)+COUNTIF(CZ$33:CZ52,RDGave)+COUNTIF(CZ$33:CZ52,RDGevent)+DB$7-1","v":0},null,"","",{"$f":"COUNTIF(DD$33:DD52,OK)+COUNTIF(DD$33:DD52,RDGfix)+COUNTIF(DD$33:DD52,RDGave)+COUNTIF(DD$33:DD52,RDGevent)+DF$7-1","v":0},null,"","",{"$f":"COUNTIF(DH$33:DH52,OK)+COUNTIF(DH$33:DH52,RDGfix)+COUNTIF(DH$33:DH52,RDGave)+COUNTIF(DH$33:DH52,RDGevent)+DJ$7-1","v":0},null,"","",{"$f":"COUNTIF(DL$33:DL52,OK)+COUNTIF(DL$33:DL52,RDGfix)+COUNTIF(DL$33:DL52,RDGave)+COUNTIF(DL$33:DL52,RDGevent)+DN$7-1","v":0},null,"","",{"$f":"COUNTIF(DP$33:DP52,OK)+COUNTIF(DP$33:DP52,RDGfix)+COUNTIF(DP$33:DP52,RDGave)+COUNTIF(DP$33:DP52,RDGevent)+DR$7-1","v":0},null,"","",{"$f":"COUNTIF(DT$33:DT52,OK)+COUNTIF(DT$33:DT52,RDGfix)+COUNTIF(DT$33:DT52,RDGave)+COUNTIF(DT$33:DT52,RDGevent)+DV$7-1","v":0},null,"","",{"$f":"COUNTIF(DX$33:DX52,OK)+COUNTIF(DX$33:DX52,RDGfix)+COUNTIF(DX$33:DX52,RDGave)+COUNTIF(DX$33:DX52,RDGevent)+DZ$7-1","v":0},null,"","",{"$f":"COUNTIF(EB$33:EB52,OK)+COUNTIF(EB$33:EB52,RDGfix)+COUNTIF(EB$33:EB52,RDGave)+COUNTIF(EB$33:EB52,RDGevent)+ED$7-1","v":0},null,"","",{"$f":"COUNTIF(EF$33:EF52,OK)+COUNTIF(EF$33:EF52,RDGfix)+COUNTIF(EF$33:EF52,RDGave)+COUNTIF(EF$33:EF52,RDGevent)+EH$7-1","v":0},null,"","",{"$f":"COUNTIF(EJ$33:EJ52,OK)+COUNTIF(EJ$33:EJ52,RDGfix)+COUNTIF(EJ$33:EJ52,RDGave)+COUNTIF(EJ$33:EJ52,RDGevent)+EL$7-1","v":0},null,"","",{"$f":"COUNTIF(EN$33:EN52,OK)+COUNTIF(EN$33:EN52,RDGfix)+COUNTIF(EN$33:EN52,RDGave)+COUNTIF(EN$33:EN52,RDGevent)+EP$7-1","v":0},null,"","",{"$f":"COUNTIF(ER$33:ER52,OK)+COUNTIF(ER$33:ER52,RDGfix)+COUNTIF(ER$33:ER52,RDGave)+COUNTIF(ER$33:ER52,RDGevent)+ET$7-1","v":0},null,"","",{"$f":"COUNTIF(EV$33:EV52,OK)+COUNTIF(EV$33:EV52,RDGfix)+COUNTIF(EV$33:EV52,RDGave)+COUNTIF(EV$33:EV52,RDGevent)+EX$7-1","v":0},null,"","",{"$f":"COUNTIF(EZ$33:EZ52,OK)+COUNTIF(EZ$33:EZ52,RDGfix)+COUNTIF(EZ$33:EZ52,RDGave)+COUNTIF(EZ$33:EZ52,RDGevent)+FB$7-1","v":0},null,"","",{"$f":"COUNTIF(FD$33:FD52,OK)+COUNTIF(FD$33:FD52,RDGfix)+COUNTIF(FD$33:FD52,RDGave)+COUNTIF(FD$33:FD52,RDGevent)+FF$7-1","v":0},null,"","",{"$f":"COUNTIF(FH$33:FH52,OK)+COUNTIF(FH$33:FH52,RDGfix)+COUNTIF(FH$33:FH52,RDGave)+COUNTIF(FH$33:FH52,RDGevent)+FJ$7-1","v":0}]
[null,"21st",null,"","",{"$f":"COUNTIF(D$33:D53,OK)+COUNTIF(D$33:D53,RDGfix)+COUNTIF(D$33:D53,RDGave)+COUNTIF(D$33:D53,RDGevent)","v":0},null,"","",{"$f":"COUNTIF(H$33:H53,OK)+COUNTIF(H$33:H53,RDGfix)+COUNTIF(H$33:H53,RDGave)+COUNTIF(H$33:H53,RDGevent)+J$7-1","v":0},null,"","",{"$f":"COUNTIF(L$33:L53,OK)+COUNTIF(L$33:L53,RDGfix)+COUNTIF(L$33:L53,RDGave)+COUNTIF(L$33:L53,RDGevent)+N$7-1","v":0},null,"","",{"$f":"COUNTIF(P$33:P53,OK)+COUNTIF(P$33:P53,RDGfix)+COUNTIF(P$33:P53,RDGave)+COUNTIF(P$33:P53,RDGevent)+R$7-1","v":0},null,"","",{"$f":"COUNTIF(T$33:T53,OK)+COUNTIF(T$33:T53,RDGfix)+COUNTIF(T$33:T53,RDGave)+COUNTIF(T$33:T53,RDGevent)+V$7-1","v":0},null,"","",{"$f":"COUNTIF(X$33:X53,OK)+COUNTIF(X$33:X53,RDGfix)+COUNTIF(X$33:X53,RDGave)+COUNTIF(X$33:X53,RDGevent)+Z$7-1","v":0},null,"","",{"$f":"COUNTIF(AB$33:AB53,OK)+COUNTIF(AB$33:AB53,RDGfix)+COUNTIF(AB$33:AB53,RDGave)+COUNTIF(AB$33:AB53,RDGevent)+AD$7-1","v":0},null,"","",{"$f":"COUNTIF(AF$33:AF53,OK)+COUNTIF(AF$33:AF53,RDGfix)+COUNTIF(AF$33:AF53,RDGave)+COUNTIF(AF$33:AF53,RDGevent)+AH$7-1","v":0},null,"","",{"$f":"COUNTIF(AJ$33:AJ53,OK)+COUNTIF(AJ$33:AJ53,RDGfix)+COUNTIF(AJ$33:AJ53,RDGave)+COUNTIF(AJ$33:AJ53,RDGevent)+AL$7-1","v":0},null,"","",{"$f":"COUNTIF(AN$33:AN53,OK)+COUNTIF(AN$33:AN53,RDGfix)+COUNTIF(AN$33:AN53,RDGave)+COUNTIF(AN$33:AN53,RDGevent)+AP$7-1","v":0},null,"","",{"$f":"COUNTIF(AR$33:AR53,OK)+COUNTIF(AR$33:AR53,RDGfix)+COUNTIF(AR$33:AR53,RDGave)+COUNTIF(AR$33:AR53,RDGevent)+AT$7-1","v":0},null,"","",{"$f":"COUNTIF(AV$33:AV53,OK)+COUNTIF(AV$33:AV53,RDGfix)+COUNTIF(AV$33:AV53,RDGave)+COUNTIF(AV$33:AV53,RDGevent)+AX$7-1","v":0},null,"","",{"$f":"COUNTIF(AZ$33:AZ53,OK)+COUNTIF(AZ$33:AZ53,RDGfix)+COUNTIF(AZ$33:AZ53,RDGave)+COUNTIF(AZ$33:AZ53,RDGevent)+BB$7-1","v":0},null,"","",{"$f":"COUNTIF(BD$33:BD53,OK)+COUNTIF(BD$33:BD53,RDGfix)+COUNTIF(BD$33:BD53,RDGave)+COUNTIF(BD$33:BD53,RDGevent)+BF$7-1","v":0},null,"","",{"$f":"COUNTIF(BH$33:BH53,OK)+COUNTIF(BH$33:BH53,RDGfix)+COUNTIF(BH$33:BH53,RDGave)+COUNTIF(BH$33:BH53,RDGevent)+BJ$7-1","v":0},null,"","",{"$f":"COUNTIF(BL$33:BL53,OK)+COUNTIF(BL$33:BL53,RDGfix)+COUNTIF(BL$33:BL53,RDGave)+COUNTIF(BL$33:BL53,RDGevent)+BN$7-1","v":0},null,"","",{"$f":"COUNTIF(BP$33:BP53,OK)+COUNTIF(BP$33:BP53,RDGfix)+COUNTIF(BP$33:BP53,RDGave)+COUNTIF(BP$33:BP53,RDGevent)+BR$7-1","v":0},null,"","",{"$f":"COUNTIF(BT$33:BT53,OK)+COUNTIF(BT$33:BT53,RDGfix)+COUNTIF(BT$33:BT53,RDGave)+COUNTIF(BT$33:BT53,RDGevent)+BV$7-1","v":0},null,"","",{"$f":"COUNTIF(BX$33:BX53,OK)+COUNTIF(BX$33:BX53,RDGfix)+COUNTIF(BX$33:BX53,RDGave)+COUNTIF(BX$33:BX53,RDGevent)+BZ$7-1","v":0},null,"","",{"$f":"COUNTIF(CB$33:CB53,OK)+COUNTIF(CB$33:CB53,RDGfix)+COUNTIF(CB$33:CB53,RDGave)+COUNTIF(CB$33:CB53,RDGevent)+CD$7-1","v":0},null,"","",{"$f":"COUNTIF(CF$33:CF53,OK)+COUNTIF(CF$33:CF53,RDGfix)+COUNTIF(CF$33:CF53,RDGave)+COUNTIF(CF$33:CF53,RDGevent)+CH$7-1","v":0},null,"","",{"$f":"COUNTIF(CJ$33:CJ53,OK)+COUNTIF(CJ$33:CJ53,RDGfix)+COUNTIF(CJ$33:CJ53,RDGave)+COUNTIF(CJ$33:CJ53,RDGevent)+CL$7-1","v":0},null,"","",{"$f":"COUNTIF(CN$33:CN53,OK)+COUNTIF(CN$33:CN53,RDGfix)+COUNTIF(CN$33:CN53,RDGave)+COUNTIF(CN$33:CN53,RDGevent)+CP$7-1","v":0},null,"","",{"$f":"COUNTIF(CR$33:CR53,OK)+COUNTIF(CR$33:CR53,RDGfix)+COUNTIF(CR$33:CR53,RDGave)+COUNTIF(CR$33:CR53,RDGevent)+CT$7-1","v":0},null,"","",{"$f":"COUNTIF(CV$33:CV53,OK)+COUNTIF(CV$33:CV53,RDGfix)+COUNTIF(CV$33:CV53,RDGave)+COUNTIF(CV$33:CV53,RDGevent)+CX$7-1","v":0},null,"","",{"$f":"COUNTIF(CZ$33:CZ53,OK)+COUNTIF(CZ$33:CZ53,RDGfix)+COUNTIF(CZ$33:CZ53,RDGave)+COUNTIF(CZ$33:CZ53,RDGevent)+DB$7-1","v":0},null,"","",{"$f":"COUNTIF(DD$33:DD53,OK)+COUNTIF(DD$33:DD53,RDGfix)+COUNTIF(DD$33:DD53,RDGave)+COUNTIF(DD$33:DD53,RDGevent)+DF$7-1","v":0},null,"","",{"$f":"COUNTIF(DH$33:DH53,OK)+COUNTIF(DH$33:DH53,RDGfix)+COUNTIF(DH$33:DH53,RDGave)+COUNTIF(DH$33:DH53,RDGevent)+DJ$7-1","v":0},null,"","",{"$f":"COUNTIF(DL$33:DL53,OK)+COUNTIF(DL$33:DL53,RDGfix)+COUNTIF(DL$33:DL53,RDGave)+COUNTIF(DL$33:DL53,RDGevent)+DN$7-1","v":0},null,"","",{"$f":"COUNTIF(DP$33:DP53,OK)+COUNTIF(DP$33:DP53,RDGfix)+COUNTIF(DP$33:DP53,RDGave)+COUNTIF(DP$33:DP53,RDGevent)+DR$7-1","v":0},null,"","",{"$f":"COUNTIF(DT$33:DT53,OK)+COUNTIF(DT$33:DT53,RDGfix)+COUNTIF(DT$33:DT53,RDGave)+COUNTIF(DT$33:DT53,RDGevent)+DV$7-1","v":0},null,"","",{"$f":"COUNTIF(DX$33:DX53,OK)+COUNTIF(DX$33:DX53,RDGfix)+COUNTIF(DX$33:DX53,RDGave)+COUNTIF(DX$33:DX53,RDGevent)+DZ$7-1","v":0},null,"","",{"$f":"COUNTIF(EB$33:EB53,OK)+COUNTIF(EB$33:EB53,RDGfix)+COUNTIF(EB$33:EB53,RDGave)+COUNTIF(EB$33:EB53,RDGevent)+ED$7-1","v":0},null,"","",{"$f":"COUNTIF(EF$33:EF53,OK)+COUNTIF(EF$33:EF53,RDGfix)+COUNTIF(EF$33:EF53,RDGave)+COUNTIF(EF$33:EF53,RDGevent)+EH$7-1","v":0},null,"","",{"$f":"COUNTIF(EJ$33:EJ53,OK)+COUNTIF(EJ$33:EJ53,RDGfix)+COUNTIF(EJ$33:EJ53,RDGave)+COUNTIF(EJ$33:EJ53,RDGevent)+EL$7-1","v":0},null,"","",{"$f":"COUNTIF(EN$33:EN53,OK)+COUNTIF(EN$33:EN53,RDGfix)+COUNTIF(EN$33:EN53,RDGave)+COUNTIF(EN$33:EN53,RDGevent)+EP$7-1","v":0},null,"","",{"$f":"COUNTIF(ER$33:ER53,OK)+COUNTIF(ER$33:ER53,RDGfix)+COUNTIF(ER$33:ER53,RDGave)+COUNTIF(ER$33:ER53,RDGevent)+ET$7-1","v":0},null,"","",{"$f":"COUNTIF(EV$33:EV53,OK)+COUNTIF(EV$33:EV53,RDGfix)+COUNTIF(EV$33:EV53,RDGave)+COUNTIF(EV$33:EV53,RDGevent)+EX$7-1","v":0},null,"","",{"$f":"COUNTIF(EZ$33:EZ53,OK)+COUNTIF(EZ$33:EZ53,RDGfix)+COUNTIF(EZ$33:EZ53,RDGave)+COUNTIF(EZ$33:EZ53,RDGevent)+FB$7-1","v":0},null,"","",{"$f":"COUNTIF(FD$33:FD53,OK)+COUNTIF(FD$33:FD53,RDGfix)+COUNTIF(FD$33:FD53,RDGave)+COUNTIF(FD$33:FD53,RDGevent)+FF$7-1","v":0},null,"","",{"$f":"COUNTIF(FH$33:FH53,OK)+COUNTIF(FH$33:FH53,RDGfix)+COUNTIF(FH$33:FH53,RDGave)+COUNTIF(FH$33:FH53,RDGevent)+FJ$7-1","v":0}]
[null,"22nd",null,"","",{"$f":"COUNTIF(D$33:D54,OK)+COUNTIF(D$33:D54,RDGfix)+COUNTIF(D$33:D54,RDGave)+COUNTIF(D$33:D54,RDGevent)","v":0},null,"","",{"$f":"COUNTIF(H$33:H54,OK)+COUNTIF(H$33:H54,RDGfix)+COUNTIF(H$33:H54,RDGave)+COUNTIF(H$33:H54,RDGevent)+J$7-1","v":0},null,"","",{"$f":"COUNTIF(L$33:L54,OK)+COUNTIF(L$33:L54,RDGfix)+COUNTIF(L$33:L54,RDGave)+COUNTIF(L$33:L54,RDGevent)+N$7-1","v":0},null,"","",{"$f":"COUNTIF(P$33:P54,OK)+COUNTIF(P$33:P54,RDGfix)+COUNTIF(P$33:P54,RDGave)+COUNTIF(P$33:P54,RDGevent)+R$7-1","v":0},null,"","",{"$f":"COUNTIF(T$33:T54,OK)+COUNTIF(T$33:T54,RDGfix)+COUNTIF(T$33:T54,RDGave)+COUNTIF(T$33:T54,RDGevent)+V$7-1","v":0},null,"","",{"$f":"COUNTIF(X$33:X54,OK)+COUNTIF(X$33:X54,RDGfix)+COUNTIF(X$33:X54,RDGave)+COUNTIF(X$33:X54,RDGevent)+Z$7-1","v":0},null,"","",{"$f":"COUNTIF(AB$33:AB54,OK)+COUNTIF(AB$33:AB54,RDGfix)+COUNTIF(AB$33:AB54,RDGave)+COUNTIF(AB$33:AB54,RDGevent)+AD$7-1","v":0},null,"","",{"$f":"COUNTIF(AF$33:AF54,OK)+COUNTIF(AF$33:AF54,RDGfix)+COUNTIF(AF$33:AF54,RDGave)+COUNTIF(AF$33:AF54,RDGevent)+AH$7-1","v":0},null,"","",{"$f":"COUNTIF(AJ$33:AJ54,OK)+COUNTIF(AJ$33:AJ54,RDGfix)+COUNTIF(AJ$33:AJ54,RDGave)+COUNTIF(AJ$33:AJ54,RDGevent)+AL$7-1","v":0},null,"","",{"$f":"COUNTIF(AN$33:AN54,OK)+COUNTIF(AN$33:AN54,RDGfix)+COUNTIF(AN$33:AN54,RDGave)+COUNTIF(AN$33:AN54,RDGevent)+AP$7-1","v":0},null,"","",{"$f":"COUNTIF(AR$33:AR54,OK)+COUNTIF(AR$33:AR54,RDGfix)+COUNTIF(AR$33:AR54,RDGave)+COUNTIF(AR$33:AR54,RDGevent)+AT$7-1","v":0},null,"","",{"$f":"COUNTIF(AV$33:AV54,OK)+COUNTIF(AV$33:AV54,RDGfix)+COUNTIF(AV$33:AV54,RDGave)+COUNTIF(AV$33:AV54,RDGevent)+AX$7-1","v":0},null,"","",{"$f":"COUNTIF(AZ$33:AZ54,OK)+COUNTIF(AZ$33:AZ54,RDGfix)+COUNTIF(AZ$33:AZ54,RDGave)+COUNTIF(AZ$33:AZ54,RDGevent)+BB$7-1","v":0},null,"","",{"$f":"COUNTIF(BD$33:BD54,OK)+COUNTIF(BD$33:BD54,RDGfix)+COUNTIF(BD$33:BD54,RDGave)+COUNTIF(BD$33:BD54,RDGevent)+BF$7-1","v":0},null,"","",{"$f":"COUNTIF(BH$33:BH54,OK)+COUNTIF(BH$33:BH54,RDGfix)+COUNTIF(BH$33:BH54,RDGave)+COUNTIF(BH$33:BH54,RDGevent)+BJ$7-1","v":0},null,"","",{"$f":"COUNTIF(BL$33:BL54,OK)+COUNTIF(BL$33:BL54,RDGfix)+COUNTIF(BL$33:BL54,RDGave)+COUNTIF(BL$33:BL54,RDGevent)+BN$7-1","v":0},null,"","",{"$f":"COUNTIF(BP$33:BP54,OK)+COUNTIF(BP$33:BP54,RDGfix)+COUNTIF(BP$33:BP54,RDGave)+COUNTIF(BP$33:BP54,RDGevent)+BR$7-1","v":0},null,"","",{"$f":"COUNTIF(BT$33:BT54,OK)+COUNTIF(BT$33:BT54,RDGfix)+COUNTIF(BT$33:BT54,RDGave)+COUNTIF(BT$33:BT54,RDGevent)+BV$7-1","v":0},null,"","",{"$f":"COUNTIF(BX$33:BX54,OK)+COUNTIF(BX$33:BX54,RDGfix)+COUNTIF(BX$33:BX54,RDGave)+COUNTIF(BX$33:BX54,RDGevent)+BZ$7-1","v":0},null,"","",{"$f":"COUNTIF(CB$33:CB54,OK)+COUNTIF(CB$33:CB54,RDGfix)+COUNTIF(CB$33:CB54,RDGave)+COUNTIF(CB$33:CB54,RDGevent)+CD$7-1","v":0},null,"","",{"$f":"COUNTIF(CF$33:CF54,OK)+COUNTIF(CF$33:CF54,RDGfix)+COUNTIF(CF$33:CF54,RDGave)+COUNTIF(CF$33:CF54,RDGevent)+CH$7-1","v":0},null,"","",{"$f":"COUNTIF(CJ$33:CJ54,OK)+COUNTIF(CJ$33:CJ54,RDGfix)+COUNTIF(CJ$33:CJ54,RDGave)+COUNTIF(CJ$33:CJ54,RDGevent)+CL$7-1","v":0},null,"","",{"$f":"COUNTIF(CN$33:CN54,OK)+COUNTIF(CN$33:CN54,RDGfix)+COUNTIF(CN$33:CN54,RDGave)+COUNTIF(CN$33:CN54,RDGevent)+CP$7-1","v":0},null,"","",{"$f":"COUNTIF(CR$33:CR54,OK)+COUNTIF(CR$33:CR54,RDGfix)+COUNTIF(CR$33:CR54,RDGave)+COUNTIF(CR$33:CR54,RDGevent)+CT$7-1","v":0},null,"","",{"$f":"COUNTIF(CV$33:CV54,OK)+COUNTIF(CV$33:CV54,RDGfix)+COUNTIF(CV$33:CV54,RDGave)+COUNTIF(CV$33:CV54,RDGevent)+CX$7-1","v":0},null,"","",{"$f":"COUNTIF(CZ$33:CZ54,OK)+COUNTIF(CZ$33:CZ54,RDGfix)+COUNTIF(CZ$33:CZ54,RDGave)+COUNTIF(CZ$33:CZ54,RDGevent)+DB$7-1","v":0},null,"","",{"$f":"COUNTIF(DD$33:DD54,OK)+COUNTIF(DD$33:DD54,RDGfix)+COUNTIF(DD$33:DD54,RDGave)+COUNTIF(DD$33:DD54,RDGevent)+DF$7-1","v":0},null,"","",{"$f":"COUNTIF(DH$33:DH54,OK)+COUNTIF(DH$33:DH54,RDGfix)+COUNTIF(DH$33:DH54,RDGave)+COUNTIF(DH$33:DH54,RDGevent)+DJ$7-1","v":0},null,"","",{"$f":"COUNTIF(DL$33:DL54,OK)+COUNTIF(DL$33:DL54,RDGfix)+COUNTIF(DL$33:DL54,RDGave)+COUNTIF(DL$33:DL54,RDGevent)+DN$7-1","v":0},null,"","",{"$f":"COUNTIF(DP$33:DP54,OK)+COUNTIF(DP$33:DP54,RDGfix)+COUNTIF(DP$33:DP54,RDGave)+COUNTIF(DP$33:DP54,RDGevent)+DR$7-1","v":0},null,"","",{"$f":"COUNTIF(DT$33:DT54,OK)+COUNTIF(DT$33:DT54,RDGfix)+COUNTIF(DT$33:DT54,RDGave)+COUNTIF(DT$33:DT54,RDGevent)+DV$7-1","v":0},null,"","",{"$f":"COUNTIF(DX$33:DX54,OK)+COUNTIF(DX$33:DX54,RDGfix)+COUNTIF(DX$33:DX54,RDGave)+COUNTIF(DX$33:DX54,RDGevent)+DZ$7-1","v":0},null,"","",{"$f":"COUNTIF(EB$33:EB54,OK)+COUNTIF(EB$33:EB54,RDGfix)+COUNTIF(EB$33:EB54,RDGave)+COUNTIF(EB$33:EB54,RDGevent)+ED$7-1","v":0},null,"","",{"$f":"COUNTIF(EF$33:EF54,OK)+COUNTIF(EF$33:EF54,RDGfix)+COUNTIF(EF$33:EF54,RDGave)+COUNTIF(EF$33:EF54,RDGevent)+EH$7-1","v":0},null,"","",{"$f":"COUNTIF(EJ$33:EJ54,OK)+COUNTIF(EJ$33:EJ54,RDGfix)+COUNTIF(EJ$33:EJ54,RDGave)+COUNTIF(EJ$33:EJ54,RDGevent)+EL$7-1","v":0},null,"","",{"$f":"COUNTIF(EN$33:EN54,OK)+COUNTIF(EN$33:EN54,RDGfix)+COUNTIF(EN$33:EN54,RDGave)+COUNTIF(EN$33:EN54,RDGevent)+EP$7-1","v":0},null,"","",{"$f":"COUNTIF(ER$33:ER54,OK)+COUNTIF(ER$33:ER54,RDGfix)+COUNTIF(ER$33:ER54,RDGave)+COUNTIF(ER$33:ER54,RDGevent)+ET$7-1","v":0},null,"","",{"$f":"COUNTIF(EV$33:EV54,OK)+COUNTIF(EV$33:EV54,RDGfix)+COUNTIF(EV$33:EV54,RDGave)+COUNTIF(EV$33:EV54,RDGevent)+EX$7-1","v":0},null,"","",{"$f":"COUNTIF(EZ$33:EZ54,OK)+COUNTIF(EZ$33:EZ54,RDGfix)+COUNTIF(EZ$33:EZ54,RDGave)+COUNTIF(EZ$33:EZ54,RDGevent)+FB$7-1","v":0},null,"","",{"$f":"COUNTIF(FD$33:FD54,OK)+COUNTIF(FD$33:FD54,RDGfix)+COUNTIF(FD$33:FD54,RDGave)+COUNTIF(FD$33:FD54,RDGevent)+FF$7-1","v":0},null,"","",{"$f":"COUNTIF(FH$33:FH54,OK)+COUNTIF(FH$33:FH54,RDGfix)+COUNTIF(FH$33:FH54,RDGave)+COUNTIF(FH$33:FH54,RDGevent)+FJ$7-1","v":0}]
[null,"23rd",null,"","",{"$f":"COUNTIF(D$33:D55,OK)+COUNTIF(D$33:D55,RDGfix)+COUNTIF(D$33:D55,RDGave)+COUNTIF(D$33:D55,RDGevent)","v":0},null,"","",{"$f":"COUNTIF(H$33:H55,OK)+COUNTIF(H$33:H55,RDGfix)+COUNTIF(H$33:H55,RDGave)+COUNTIF(H$33:H55,RDGevent)+J$7-1","v":0},null,"","",{"$f":"COUNTIF(L$33:L55,OK)+COUNTIF(L$33:L55,RDGfix)+COUNTIF(L$33:L55,RDGave)+COUNTIF(L$33:L55,RDGevent)+N$7-1","v":0},null,"","",{"$f":"COUNTIF(P$33:P55,OK)+COUNTIF(P$33:P55,RDGfix)+COUNTIF(P$33:P55,RDGave)+COUNTIF(P$33:P55,RDGevent)+R$7-1","v":0},null,"","",{"$f":"COUNTIF(T$33:T55,OK)+COUNTIF(T$33:T55,RDGfix)+COUNTIF(T$33:T55,RDGave)+COUNTIF(T$33:T55,RDGevent)+V$7-1","v":0},null,"","",{"$f":"COUNTIF(X$33:X55,OK)+COUNTIF(X$33:X55,RDGfix)+COUNTIF(X$33:X55,RDGave)+COUNTIF(X$33:X55,RDGevent)+Z$7-1","v":0},null,"","",{"$f":"COUNTIF(AB$33:AB55,OK)+COUNTIF(AB$33:AB55,RDGfix)+COUNTIF(AB$33:AB55,RDGave)+COUNTIF(AB$33:AB55,RDGevent)+AD$7-1","v":0},null,"","",{"$f":"COUNTIF(AF$33:AF55,OK)+COUNTIF(AF$33:AF55,RDGfix)+COUNTIF(AF$33:AF55,RDGave)+COUNTIF(AF$33:AF55,RDGevent)+AH$7-1","v":0},null,"","",{"$f":"COUNTIF(AJ$33:AJ55,OK)+COUNTIF(AJ$33:AJ55,RDGfix)+COUNTIF(AJ$33:AJ55,RDGave)+COUNTIF(AJ$33:AJ55,RDGevent)+AL$7-1","v":0},null,"","",{"$f":"COUNTIF(AN$33:AN55,OK)+COUNTIF(AN$33:AN55,RDGfix)+COUNTIF(AN$33:AN55,RDGave)+COUNTIF(AN$33:AN55,RDGevent)+AP$7-1","v":0},null,"","",{"$f":"COUNTIF(AR$33:AR55,OK)+COUNTIF(AR$33:AR55,RDGfix)+COUNTIF(AR$33:AR55,RDGave)+COUNTIF(AR$33:AR55,RDGevent)+AT$7-1","v":0},null,"","",{"$f":"COUNTIF(AV$33:AV55,OK)+COUNTIF(AV$33:AV55,RDGfix)+COUNTIF(AV$33:AV55,RDGave)+COUNTIF(AV$33:AV55,RDGevent)+AX$7-1","v":0},null,"","",{"$f":"COUNTIF(AZ$33:AZ55,OK)+COUNTIF(AZ$33:AZ55,RDGfix)+COUNTIF(AZ$33:AZ55,RDGave)+COUNTIF(AZ$33:AZ55,RDGevent)+BB$7-1","v":0},null,"","",{"$f":"COUNTIF(BD$33:BD55,OK)+COUNTIF(BD$33:BD55,RDGfix)+COUNTIF(BD$33:BD55,RDGave)+COUNTIF(BD$33:BD55,RDGevent)+BF$7-1","v":0},null,"","",{"$f":"COUNTIF(BH$33:BH55,OK)+COUNTIF(BH$33:BH55,RDGfix)+COUNTIF(BH$33:BH55,RDGave)+COUNTIF(BH$33:BH55,RDGevent)+BJ$7-1","v":0},null,"","",{"$f":"COUNTIF(BL$33:BL55,OK)+COUNTIF(BL$33:BL55,RDGfix)+COUNTIF(BL$33:BL55,RDGave)+COUNTIF(BL$33:BL55,RDGevent)+BN$7-1","v":0},null,"","",{"$f":"COUNTIF(BP$33:BP55,OK)+COUNTIF(BP$33:BP55,RDGfix)+COUNTIF(BP$33:BP55,RDGave)+COUNTIF(BP$33:BP55,RDGevent)+BR$7-1","v":0},null,"","",{"$f":"COUNTIF(BT$33:BT55,OK)+COUNTIF(BT$33:BT55,RDGfix)+COUNTIF(BT$33:BT55,RDGave)+COUNTIF(BT$33:BT55,RDGevent)+BV$7-1","v":0},null,"","",{"$f":"COUNTIF(BX$33:BX55,OK)+COUNTIF(BX$33:BX55,RDGfix)+COUNTIF(BX$33:BX55,RDGave)+COUNTIF(BX$33:BX55,RDGevent)+BZ$7-1","v":0},null,"","",{"$f":"COUNTIF(CB$33:CB55,OK)+COUNTIF(CB$33:CB55,RDGfix)+COUNTIF(CB$33:CB55,RDGave)+COUNTIF(CB$33:CB55,RDGevent)+CD$7-1","v":0},null,"","",{"$f":"COUNTIF(CF$33:CF55,OK)+COUNTIF(CF$33:CF55,RDGfix)+COUNTIF(CF$33:CF55,RDGave)+COUNTIF(CF$33:CF55,RDGevent)+CH$7-1","v":0},null,"","",{"$f":"COUNTIF(CJ$33:CJ55,OK)+COUNTIF(CJ$33:CJ55,RDGfix)+COUNTIF(CJ$33:CJ55,RDGave)+COUNTIF(CJ$33:CJ55,RDGevent)+CL$7-1","v":0},null,"","",{"$f":"COUNTIF(CN$33:CN55,OK)+COUNTIF(CN$33:CN55,RDGfix)+COUNTIF(CN$33:CN55,RDGave)+COUNTIF(CN$33:CN55,RDGevent)+CP$7-1","v":0},null,"","",{"$f":"COUNTIF(CR$33:CR55,OK)+COUNTIF(CR$33:CR55,RDGfix)+COUNTIF(CR$33:CR55,RDGave)+COUNTIF(CR$33:CR55,RDGevent)+CT$7-1","v":0},null,"","",{"$f":"COUNTIF(CV$33:CV55,OK)+COUNTIF(CV$33:CV55,RDGfix)+COUNTIF(CV$33:CV55,RDGave)+COUNTIF(CV$33:CV55,RDGevent)+CX$7-1","v":0},null,"","",{"$f":"COUNTIF(CZ$33:CZ55,OK)+COUNTIF(CZ$33:CZ55,RDGfix)+COUNTIF(CZ$33:CZ55,RDGave)+COUNTIF(CZ$33:CZ55,RDGevent)+DB$7-1","v":0},null,"","",{"$f":"COUNTIF(DD$33:DD55,OK)+COUNTIF(DD$33:DD55,RDGfix)+COUNTIF(DD$33:DD55,RDGave)+COUNTIF(DD$33:DD55,RDGevent)+DF$7-1","v":0},null,"","",{"$f":"COUNTIF(DH$33:DH55,OK)+COUNTIF(DH$33:DH55,RDGfix)+COUNTIF(DH$33:DH55,RDGave)+COUNTIF(DH$33:DH55,RDGevent)+DJ$7-1","v":0},null,"","",{"$f":"COUNTIF(DL$33:DL55,OK)+COUNTIF(DL$33:DL55,RDGfix)+COUNTIF(DL$33:DL55,RDGave)+COUNTIF(DL$33:DL55,RDGevent)+DN$7-1","v":0},null,"","",{"$f":"COUNTIF(DP$33:DP55,OK)+COUNTIF(DP$33:DP55,RDGfix)+COUNTIF(DP$33:DP55,RDGave)+COUNTIF(DP$33:DP55,RDGevent)+DR$7-1","v":0},null,"","",{"$f":"COUNTIF(DT$33:DT55,OK)+COUNTIF(DT$33:DT55,RDGfix)+COUNTIF(DT$33:DT55,RDGave)+COUNTIF(DT$33:DT55,RDGevent)+DV$7-1","v":0},null,"","",{"$f":"COUNTIF(DX$33:DX55,OK)+COUNTIF(DX$33:DX55,RDGfix)+COUNTIF(DX$33:DX55,RDGave)+COUNTIF(DX$33:DX55,RDGevent)+DZ$7-1","v":0},null,"","",{"$f":"COUNTIF(EB$33:EB55,OK)+COUNTIF(EB$33:EB55,RDGfix)+COUNTIF(EB$33:EB55,RDGave)+COUNTIF(EB$33:EB55,RDGevent)+ED$7-1","v":0},null,"","",{"$f":"COUNTIF(EF$33:EF55,OK)+COUNTIF(EF$33:EF55,RDGfix)+COUNTIF(EF$33:EF55,RDGave)+COUNTIF(EF$33:EF55,RDGevent)+EH$7-1","v":0},null,"","",{"$f":"COUNTIF(EJ$33:EJ55,OK)+COUNTIF(EJ$33:EJ55,RDGfix)+COUNTIF(EJ$33:EJ55,RDGave)+COUNTIF(EJ$33:EJ55,RDGevent)+EL$7-1","v":0},null,"","",{"$f":"COUNTIF(EN$33:EN55,OK)+COUNTIF(EN$33:EN55,RDGfix)+COUNTIF(EN$33:EN55,RDGave)+COUNTIF(EN$33:EN55,RDGevent)+EP$7-1","v":0},null,"","",{"$f":"COUNTIF(ER$33:ER55,OK)+COUNTIF(ER$33:ER55,RDGfix)+COUNTIF(ER$33:ER55,RDGave)+COUNTIF(ER$33:ER55,RDGevent)+ET$7-1","v":0},null,"","",{"$f":"COUNTIF(EV$33:EV55,OK)+COUNTIF(EV$33:EV55,RDGfix)+COUNTIF(EV$33:EV55,RDGave)+COUNTIF(EV$33:EV55,RDGevent)+EX$7-1","v":0},null,"","",{"$f":"COUNTIF(EZ$33:EZ55,OK)+COUNTIF(EZ$33:EZ55,RDGfix)+COUNTIF(EZ$33:EZ55,RDGave)+COUNTIF(EZ$33:EZ55,RDGevent)+FB$7-1","v":0},null,"","",{"$f":"COUNTIF(FD$33:FD55,OK)+COUNTIF(FD$33:FD55,RDGfix)+COUNTIF(FD$33:FD55,RDGave)+COUNTIF(FD$33:FD55,RDGevent)+FF$7-1","v":0},null,"","",{"$f":"COUNTIF(FH$33:FH55,OK)+COUNTIF(FH$33:FH55,RDGfix)+COUNTIF(FH$33:FH55,RDGave)+COUNTIF(FH$33:FH55,RDGevent)+FJ$7-1","v":0}]
[null,"24th",null,{"$f":"IF(C56=\"\",\"\",OK)","v":""},{"$f":"IF(C56=0,\"\",IF(D56=OK,F56,IF(HLOOKUP(D56,Comments3,3,FALSE)=M,F$159,IF(HLOOKUP(D56,Comments3,3,FALSE)=S,VLOOKUP(C56,EventAverage,2,FALSE),HLOOKUP(D56,Comments3,3,FALSE)))))","v":""},{"$f":"COUNTIF(D$33:D56,OK)+COUNTIF(D$33:D56,RDGfix)+COUNTIF(D$33:D56,RDGave)+COUNTIF(D$33:D56,RDGevent)","v":0},null,{"$f":"IF(G56=\"\",\"\",OK)","v":""},{"$f":"IF(G56=\"\",\"\",IF(AND(H$32=\"L\",H56=\"DNC\"),$I$2,\nIF(H56=OK,J56,IF(HLOOKUP(H56,Comments3,2,FALSE)=D,J$32,IF(HLOOKUP(H56,Comments3,2,FALSE)=A,VLOOKUP(G56,Averages,G$4,FALSE),IF(HLOOKUP(H56,Comments3,2,FALSE)=E,VLOOKUP(G56,EventAverage,2,FALSE), HLOOKUP(H56,Comments4,2,FALSE)))))))","v":""},{"$f":"COUNTIF(H$33:H56,OK)+COUNTIF(H$33:H56,RDGfix)+COUNTIF(H$33:H56,RDGave)+COUNTIF(H$33:H56,RDGevent)+J$7-1","v":0},null,{"$f":"IF(K56=\"\",\"\",OK)","v":""},{"$f":"IF(K56=\"\",\"\",IF(AND(L$32=\"L\",L56=\"DNC\"),$I$2,\nIF(L56=OK,N56,IF(HLOOKUP(L56,Comments3,2,FALSE)=D,N$32,IF(HLOOKUP(L56,Comments3,2,FALSE)=A,VLOOKUP(K56,Averages,K$4,FALSE),IF(HLOOKUP(L56,Comments3,2,FALSE)=E,VLOOKUP(K56,EventAverage,2,FALSE), HLOOKUP(L56,Comments4,2,FALSE)))))))","v":""},{"$f":"COUNTIF(L$33:L56,OK)+COUNTIF(L$33:L56,RDGfix)+COUNTIF(L$33:L56,RDGave)+COUNTIF(L$33:L56,RDGevent)+N$7-1","v":0},null,{"$f":"IF(O56=\"\",\"\",OK)","v":""},{"$f":"IF(O56=\"\",\"\",IF(AND(P$32=\"L\",P56=\"DNC\"),$I$2,\nIF(P56=OK,R56,IF(HLOOKUP(P56,Comments3,2,FALSE)=D,R$32,IF(HLOOKUP(P56,Comments3,2,FALSE)=A,VLOOKUP(O56,Averages,O$4,FALSE),IF(HLOOKUP(P56,Comments3,2,FALSE)=E,VLOOKUP(O56,EventAverage,2,FALSE), HLOOKUP(P56,Comments4,2,FALSE)))))))","v":""},{"$f":"COUNTIF(P$33:P56,OK)+COUNTIF(P$33:P56,RDGfix)+COUNTIF(P$33:P56,RDGave)+COUNTIF(P$33:P56,RDGevent)+R$7-1","v":0},null,{"$f":"IF(S56=\"\",\"\",OK)","v":""},{"$f":"IF(S56=\"\",\"\",IF(AND(T$32=\"L\",T56=\"DNC\"),$I$2,\nIF(T56=OK,V56,IF(HLOOKUP(T56,Comments3,2,FALSE)=D,V$32,IF(HLOOKUP(T56,Comments3,2,FALSE)=A,VLOOKUP(S56,Averages,S$4,FALSE),IF(HLOOKUP(T56,Comments3,2,FALSE)=E,VLOOKUP(S56,EventAverage,2,FALSE), HLOOKUP(T56,Comments4,2,FALSE)))))))","v":""},{"$f":"COUNTIF(T$33:T56,OK)+COUNTIF(T$33:T56,RDGfix)+COUNTIF(T$33:T56,RDGave)+COUNTIF(T$33:T56,RDGevent)+V$7-1","v":0},null,{"$f":"IF(W56=\"\",\"\",OK)","v":""},{"$f":"IF(W56=\"\",\"\",IF(AND(X$32=\"L\",X56=\"DNC\"),$I$2,\nIF(X56=OK,Z56,IF(HLOOKUP(X56,Comments3,2,FALSE)=D,Z$32,IF(HLOOKUP(X56,Comments3,2,FALSE)=A,VLOOKUP(W56,Averages,W$4,FALSE),IF(HLOOKUP(X56,Comments3,2,FALSE)=E,VLOOKUP(W56,EventAverage,2,FALSE), HLOOKUP(X56,Comments4,2,FALSE)))))))","v":""},{"$f":"COUNTIF(X$33:X56,OK)+COUNTIF(X$33:X56,RDGfix)+COUNTIF(X$33:X56,RDGave)+COUNTIF(X$33:X56,RDGevent)+Z$7-1","v":0},null,{"$f":"IF(AA56=\"\",\"\",OK)","v":""},{"$f":"IF(AA56=\"\",\"\",IF(AND(AB$32=\"L\",AB56=\"DNC\"),$I$2,\nIF(AB56=OK,AD56,IF(HLOOKUP(AB56,Comments3,2,FALSE)=D,AD$32,IF(HLOOKUP(AB56,Comments3,2,FALSE)=A,VLOOKUP(AA56,Averages,AA$4,FALSE),IF(HLOOKUP(AB56,Comments3,2,FALSE)=E,VLOOKUP(AA56,EventAverage,2,FALSE), HLOOKUP(AB56,Comments4,2,FALSE)))))))","v":""},{"$f":"COUNTIF(AB$33:AB56,OK)+COUNTIF(AB$33:AB56,RDGfix)+COUNTIF(AB$33:AB56,RDGave)+COUNTIF(AB$33:AB56,RDGevent)+AD$7-1","v":0},null,{"$f":"IF(AE56=\"\",\"\",OK)","v":""},{"$f":"IF(AE56=\"\",\"\",IF(AND(AF$32=\"L\",AF56=\"DNC\"),$I$2,\nIF(AF56=OK,AH56,IF(HLOOKUP(AF56,Comments3,2,FALSE)=D,AH$32,IF(HLOOKUP(AF56,Comments3,2,FALSE)=A,VLOOKUP(AE56,Averages,AE$4,FALSE),IF(HLOOKUP(AF56,Comments3,2,FALSE)=E,VLOOKUP(AE56,EventAverage,2,FALSE), HLOOKUP(AF56,Comments4,2,FALSE)))))))","v":""},{"$f":"COUNTIF(AF$33:AF56,OK)+COUNTIF(AF$33:AF56,RDGfix)+COUNTIF(AF$33:AF56,RDGave)+COUNTIF(AF$33:AF56,RDGevent)+AH$7-1","v":0},null,{"$f":"IF(AI56=\"\",\"\",OK)","v":""},{"$f":"IF(AI56=\"\",\"\",IF(AND(AJ$32=\"L\",AJ56=\"DNC\"),$I$2,\nIF(AJ56=OK,AL56,IF(HLOOKUP(AJ56,Comments3,2,FALSE)=D,AL$32,IF(HLOOKUP(AJ56,Comments3,2,FALSE)=A,VLOOKUP(AI56,Averages,AI$4,FALSE),IF(HLOOKUP(AJ56,Comments3,2,FALSE)=E,VLOOKUP(AI56,EventAverage,2,FALSE), HLOOKUP(AJ56,Comments4,2,FALSE)))))))","v":""},{"$f":"COUNTIF(AJ$33:AJ56,OK)+COUNTIF(AJ$33:AJ56,RDGfix)+COUNTIF(AJ$33:AJ56,RDGave)+COUNTIF(AJ$33:AJ56,RDGevent)+AL$7-1","v":0},null,{"$f":"IF(AM56=\"\",\"\",OK)","v":""},{"$f":"IF(AM56=\"\",\"\",IF(AND(AN$32=\"L\",AN56=\"DNC\"),$I$2,\nIF(AN56=OK,AP56,IF(HLOOKUP(AN56,Comments3,2,FALSE)=D,AP$32,IF(HLOOKUP(AN56,Comments3,2,FALSE)=A,VLOOKUP(AM56,Averages,AM$4,FALSE),IF(HLOOKUP(AN56,Comments3,2,FALSE)=E,VLOOKUP(AM56,EventAverage,2,FALSE), HLOOKUP(AN56,Comments4,2,FALSE)))))))","v":""},{"$f":"COUNTIF(AN$33:AN56,OK)+COUNTIF(AN$33:AN56,RDGfix)+COUNTIF(AN$33:AN56,RDGave)+COUNTIF(AN$33:AN56,RDGevent)+AP$7-1","v":0},null,{"$f":"IF(AQ56=\"\",\"\",OK)","v":""},{"$f":"IF(AQ56=\"\",\"\",IF(AND(AR$32=\"L\",AR56=\"DNC\"),$I$2,\nIF(AR56=OK,AT56,IF(HLOOKUP(AR56,Comments3,2,FALSE)=D,AT$32,IF(HLOOKUP(AR56,Comments3,2,FALSE)=A,VLOOKUP(AQ56,Averages,AQ$4,FALSE),IF(HLOOKUP(AR56,Comments3,2,FALSE)=E,VLOOKUP(AQ56,EventAverage,2,FALSE), HLOOKUP(AR56,Comments4,2,FALSE)))))))","v":""},{"$f":"COUNTIF(AR$33:AR56,OK)+COUNTIF(AR$33:AR56,RDGfix)+COUNTIF(AR$33:AR56,RDGave)+COUNTIF(AR$33:AR56,RDGevent)+AT$7-1","v":0},null,{"$f":"IF(AU56=\"\",\"\",OK)","v":""},{"$f":"IF(AU56=\"\",\"\",IF(AND(AV$32=\"L\",AV56=\"DNC\"),$I$2,\nIF(AV56=OK,AX56,IF(HLOOKUP(AV56,Comments3,2,FALSE)=D,AX$32,IF(HLOOKUP(AV56,Comments3,2,FALSE)=A,VLOOKUP(AU56,Averages,AU$4,FALSE),IF(HLOOKUP(AV56,Comments3,2,FALSE)=E,VLOOKUP(AU56,EventAverage,2,FALSE), HLOOKUP(AV56,Comments4,2,FALSE)))))))","v":""},{"$f":"COUNTIF(AV$33:AV56,OK)+COUNTIF(AV$33:AV56,RDGfix)+COUNTIF(AV$33:AV56,RDGave)+COUNTIF(AV$33:AV56,RDGevent)+AX$7-1","v":0},null,{"$f":"IF(AY56=\"\",\"\",OK)","v":""},{"$f":"IF(AY56=\"\",\"\",IF(AND(AZ$32=\"L\",AZ56=\"DNC\"),$I$2,\nIF(AZ56=OK,BB56,IF(HLOOKUP(AZ56,Comments3,2,FALSE)=D,BB$32,IF(HLOOKUP(AZ56,Comments3,2,FALSE)=A,VLOOKUP(AY56,Averages,AY$4,FALSE),IF(HLOOKUP(AZ56,Comments3,2,FALSE)=E,VLOOKUP(AY56,EventAverage,2,FALSE), HLOOKUP(AZ56,Comments4,2,FALSE)))))))","v":""},{"$f":"COUNTIF(AZ$33:AZ56,OK)+COUNTIF(AZ$33:AZ56,RDGfix)+COUNTIF(AZ$33:AZ56,RDGave)+COUNTIF(AZ$33:AZ56,RDGevent)+BB$7-1","v":0},null,{"$f":"IF(BC56=\"\",\"\",OK)","v":""},{"$f":"IF(BC56=\"\",\"\",IF(AND(BD$32=\"L\",BD56=\"DNC\"),$I$2,\nIF(BD56=OK,BF56,IF(HLOOKUP(BD56,Comments3,2,FALSE)=D,BF$32,IF(HLOOKUP(BD56,Comments3,2,FALSE)=A,VLOOKUP(BC56,Averages,BC$4,FALSE),IF(HLOOKUP(BD56,Comments3,2,FALSE)=E,VLOOKUP(BC56,EventAverage,2,FALSE), HLOOKUP(BD56,Comments4,2,FALSE)))))))","v":""},{"$f":"COUNTIF(BD$33:BD56,OK)+COUNTIF(BD$33:BD56,RDGfix)+COUNTIF(BD$33:BD56,RDGave)+COUNTIF(BD$33:BD56,RDGevent)+BF$7-1","v":0},null,{"$f":"IF(BG56=\"\",\"\",OK)","v":""},{"$f":"IF(BG56=\"\",\"\",IF(AND(BH$32=\"L\",BH56=\"DNC\"),$I$2,\nIF(BH56=OK,BJ56,IF(HLOOKUP(BH56,Comments3,2,FALSE)=D,BJ$32,IF(HLOOKUP(BH56,Comments3,2,FALSE)=A,VLOOKUP(BG56,Averages,BG$4,FALSE),IF(HLOOKUP(BH56,Comments3,2,FALSE)=E,VLOOKUP(BG56,EventAverage,2,FALSE), HLOOKUP(BH56,Comments4,2,FALSE)))))))","v":""},{"$f":"COUNTIF(BH$33:BH56,OK)+COUNTIF(BH$33:BH56,RDGfix)+COUNTIF(BH$33:BH56,RDGave)+COUNTIF(BH$33:BH56,RDGevent)+BJ$7-1","v":0},null,{"$f":"IF(BK56=\"\",\"\",OK)","v":""},{"$f":"IF(BK56=\"\",\"\",IF(AND(BL$32=\"L\",BL56=\"DNC\"),$I$2,\nIF(BL56=OK,BN56,IF(HLOOKUP(BL56,Comments3,2,FALSE)=D,BN$32,IF(HLOOKUP(BL56,Comments3,2,FALSE)=A,VLOOKUP(BK56,Averages,BK$4,FALSE),IF(HLOOKUP(BL56,Comments3,2,FALSE)=E,VLOOKUP(BK56,EventAverage,2,FALSE), HLOOKUP(BL56,Comments4,2,FALSE)))))))","v":""},{"$f":"COUNTIF(BL$33:BL56,OK)+COUNTIF(BL$33:BL56,RDGfix)+COUNTIF(BL$33:BL56,RDGave)+COUNTIF(BL$33:BL56,RDGevent)+BN$7-1","v":0},null,{"$f":"IF(BO56=\"\",\"\",OK)","v":""},{"$f":"IF(BO56=\"\",\"\",IF(AND(BP$32=\"L\",BP56=\"DNC\"),$I$2,\nIF(BP56=OK,BR56,IF(HLOOKUP(BP56,Comments3,2,FALSE)=D,BR$32,IF(HLOOKUP(BP56,Comments3,2,FALSE)=A,VLOOKUP(BO56,Averages,BO$4,FALSE),IF(HLOOKUP(BP56,Comments3,2,FALSE)=E,VLOOKUP(BO56,EventAverage,2,FALSE), HLOOKUP(BP56,Comments4,2,FALSE)))))))","v":""},{"$f":"COUNTIF(BP$33:BP56,OK)+COUNTIF(BP$33:BP56,RDGfix)+COUNTIF(BP$33:BP56,RDGave)+COUNTIF(BP$33:BP56,RDGevent)+BR$7-1","v":0},null,{"$f":"IF(BS56=\"\",\"\",OK)","v":""},{"$f":"IF(BS56=\"\",\"\",IF(AND(BT$32=\"L\",BT56=\"DNC\"),$I$2,\nIF(BT56=OK,BV56,IF(HLOOKUP(BT56,Comments3,2,FALSE)=D,BV$32,IF(HLOOKUP(BT56,Comments3,2,FALSE)=A,VLOOKUP(BS56,Averages,BS$4,FALSE),IF(HLOOKUP(BT56,Comments3,2,FALSE)=E,VLOOKUP(BS56,EventAverage,2,FALSE), HLOOKUP(BT56,Comments4,2,FALSE)))))))","v":""},{"$f":"COUNTIF(BT$33:BT56,OK)+COUNTIF(BT$33:BT56,RDGfix)+COUNTIF(BT$33:BT56,RDGave)+COUNTIF(BT$33:BT56,RDGevent)+BV$7-1","v":0},null,{"$f":"IF(BW56=\"\",\"\",OK)","v":""},{"$f":"IF(BW56=\"\",\"\",IF(AND(BX$32=\"L\",BX56=\"DNC\"),$I$2,\nIF(BX56=OK,BZ56,IF(HLOOKUP(BX56,Comments3,2,FALSE)=D,BZ$32,IF(HLOOKUP(BX56,Comments3,2,FALSE)=A,VLOOKUP(BW56,Averages,BW$4,FALSE),IF(HLOOKUP(BX56,Comments3,2,FALSE)=E,VLOOKUP(BW56,EventAverage,2,FALSE), HLOOKUP(BX56,Comments4,2,FALSE)))))))","v":""},{"$f":"COUNTIF(BX$33:BX56,OK)+COUNTIF(BX$33:BX56,RDGfix)+COUNTIF(BX$33:BX56,RDGave)+COUNTIF(BX$33:BX56,RDGevent)+BZ$7-1","v":0},null,{"$f":"IF(CA56=\"\",\"\",OK)","v":""},{"$f":"IF(CA56=\"\",\"\",IF(AND(CB$32=\"L\",CB56=\"DNC\"),$I$2,\nIF(CB56=OK,CD56,IF(HLOOKUP(CB56,Comments3,2,FALSE)=D,CD$32,IF(HLOOKUP(CB56,Comments3,2,FALSE)=A,VLOOKUP(CA56,Averages,CA$4,FALSE),IF(HLOOKUP(CB56,Comments3,2,FALSE)=E,VLOOKUP(CA56,EventAverage,2,FALSE), HLOOKUP(CB56,Comments4,2,FALSE)))))))","v":""},{"$f":"COUNTIF(CB$33:CB56,OK)+COUNTIF(CB$33:CB56,RDGfix)+COUNTIF(CB$33:CB56,RDGave)+COUNTIF(CB$33:CB56,RDGevent)+CD$7-1","v":0},null,{"$f":"IF(CE56=\"\",\"\",OK)","v":""},{"$f":"IF(CE56=\"\",\"\",IF(AND(CF$32=\"L\",CF56=\"DNC\"),$I$2,\nIF(CF56=OK,CH56,IF(HLOOKUP(CF56,Comments3,2,FALSE)=D,CH$32,IF(HLOOKUP(CF56,Comments3,2,FALSE)=A,VLOOKUP(CE56,Averages,CE$4,FALSE),IF(HLOOKUP(CF56,Comments3,2,FALSE)=E,VLOOKUP(CE56,EventAverage,2,FALSE), HLOOKUP(CF56,Comments4,2,FALSE)))))))","v":""},{"$f":"COUNTIF(CF$33:CF56,OK)+COUNTIF(CF$33:CF56,RDGfix)+COUNTIF(CF$33:CF56,RDGave)+COUNTIF(CF$33:CF56,RDGevent)+CH$7-1","v":0},null,{"$f":"IF(CI56=\"\",\"\",OK)","v":""},{"$f":"IF(CI56=\"\",\"\",IF(AND(CJ$32=\"L\",CJ56=\"DNC\"),$I$2,\nIF(CJ56=OK,CL56,IF(HLOOKUP(CJ56,Comments3,2,FALSE)=D,CL$32,IF(HLOOKUP(CJ56,Comments3,2,FALSE)=A,VLOOKUP(CI56,Averages,CI$4,FALSE),IF(HLOOKUP(CJ56,Comments3,2,FALSE)=E,VLOOKUP(CI56,EventAverage,2,FALSE), HLOOKUP(CJ56,Comments4,2,FALSE)))))))","v":""},{"$f":"COUNTIF(CJ$33:CJ56,OK)+COUNTIF(CJ$33:CJ56,RDGfix)+COUNTIF(CJ$33:CJ56,RDGave)+COUNTIF(CJ$33:CJ56,RDGevent)+CL$7-1","v":0},null,{"$f":"IF(CM56=\"\",\"\",OK)","v":""},{"$f":"IF(CM56=\"\",\"\",IF(AND(CN$32=\"L\",CN56=\"DNC\"),$I$2,\nIF(CN56=OK,CP56,IF(HLOOKUP(CN56,Comments3,2,FALSE)=D,CP$32,IF(HLOOKUP(CN56,Comments3,2,FALSE)=A,VLOOKUP(CM56,Averages,CM$4,FALSE),IF(HLOOKUP(CN56,Comments3,2,FALSE)=E,VLOOKUP(CM56,EventAverage,2,FALSE), HLOOKUP(CN56,Comments4,2,FALSE)))))))","v":""},{"$f":"COUNTIF(CN$33:CN56,OK)+COUNTIF(CN$33:CN56,RDGfix)+COUNTIF(CN$33:CN56,RDGave)+COUNTIF(CN$33:CN56,RDGevent)+CP$7-1","v":0},null,{"$f":"IF(CQ56=\"\",\"\",OK)","v":""},{"$f":"IF(CQ56=\"\",\"\",IF(AND(CR$32=\"L\",CR56=\"DNC\"),$I$2,\nIF(CR56=OK,CT56,IF(HLOOKUP(CR56,Comments3,2,FALSE)=D,CT$32,IF(HLOOKUP(CR56,Comments3,2,FALSE)=A,VLOOKUP(CQ56,Averages,CQ$4,FALSE),IF(HLOOKUP(CR56,Comments3,2,FALSE)=E,VLOOKUP(CQ56,EventAverage,2,FALSE), HLOOKUP(CR56,Comments4,2,FALSE)))))))","v":""},{"$f":"COUNTIF(CR$33:CR56,OK)+COUNTIF(CR$33:CR56,RDGfix)+COUNTIF(CR$33:CR56,RDGave)+COUNTIF(CR$33:CR56,RDGevent)+CT$7-1","v":0},null,{"$f":"IF(CU56=\"\",\"\",OK)","v":""},{"$f":"IF(CU56=\"\",\"\",IF(AND(CV$32=\"L\",CV56=\"DNC\"),$I$2,\nIF(CV56=OK,CX56,IF(HLOOKUP(CV56,Comments3,2,FALSE)=D,CX$32,IF(HLOOKUP(CV56,Comments3,2,FALSE)=A,VLOOKUP(CU56,Averages,CU$4,FALSE),IF(HLOOKUP(CV56,Comments3,2,FALSE)=E,VLOOKUP(CU56,EventAverage,2,FALSE), HLOOKUP(CV56,Comments4,2,FALSE)))))))","v":""},{"$f":"COUNTIF(CV$33:CV56,OK)+COUNTIF(CV$33:CV56,RDGfix)+COUNTIF(CV$33:CV56,RDGave)+COUNTIF(CV$33:CV56,RDGevent)+CX$7-1","v":0},null,{"$f":"IF(CY56=\"\",\"\",OK)","v":""},{"$f":"IF(CY56=\"\",\"\",IF(AND(CZ$32=\"L\",CZ56=\"DNC\"),$I$2,\nIF(CZ56=OK,DB56,IF(HLOOKUP(CZ56,Comments3,2,FALSE)=D,DB$32,IF(HLOOKUP(CZ56,Comments3,2,FALSE)=A,VLOOKUP(CY56,Averages,CY$4,FALSE),IF(HLOOKUP(CZ56,Comments3,2,FALSE)=E,VLOOKUP(CY56,EventAverage,2,FALSE), HLOOKUP(CZ56,Comments4,2,FALSE)))))))","v":""},{"$f":"COUNTIF(CZ$33:CZ56,OK)+COUNTIF(CZ$33:CZ56,RDGfix)+COUNTIF(CZ$33:CZ56,RDGave)+COUNTIF(CZ$33:CZ56,RDGevent)+DB$7-1","v":0},null,{"$f":"IF(DC56=\"\",\"\",OK)","v":""},{"$f":"IF(DC56=\"\",\"\",IF(AND(DD$32=\"L\",DD56=\"DNC\"),$I$2,\nIF(DD56=OK,DF56,IF(HLOOKUP(DD56,Comments3,2,FALSE)=D,DF$32,IF(HLOOKUP(DD56,Comments3,2,FALSE)=A,VLOOKUP(DC56,Averages,DC$4,FALSE),IF(HLOOKUP(DD56,Comments3,2,FALSE)=E,VLOOKUP(DC56,EventAverage,2,FALSE), HLOOKUP(DD56,Comments4,2,FALSE)))))))","v":""},{"$f":"COUNTIF(DD$33:DD56,OK)+COUNTIF(DD$33:DD56,RDGfix)+COUNTIF(DD$33:DD56,RDGave)+COUNTIF(DD$33:DD56,RDGevent)+DF$7-1","v":0},null,{"$f":"IF(DG56=\"\",\"\",OK)","v":""},{"$f":"IF(DG56=\"\",\"\",IF(AND(DH$32=\"L\",DH56=\"DNC\"),$I$2,\nIF(DH56=OK,DJ56,IF(HLOOKUP(DH56,Comments3,2,FALSE)=D,DJ$32,IF(HLOOKUP(DH56,Comments3,2,FALSE)=A,VLOOKUP(DG56,Averages,DG$4,FALSE),IF(HLOOKUP(DH56,Comments3,2,FALSE)=E,VLOOKUP(DG56,EventAverage,2,FALSE), HLOOKUP(DH56,Comments4,2,FALSE)))))))","v":""},{"$f":"COUNTIF(DH$33:DH56,OK)+COUNTIF(DH$33:DH56,RDGfix)+COUNTIF(DH$33:DH56,RDGave)+COUNTIF(DH$33:DH56,RDGevent)+DJ$7-1","v":0},null,{"$f":"IF(DK56=\"\",\"\",OK)","v":""},{"$f":"IF(DK56=\"\",\"\",IF(AND(DL$32=\"L\",DL56=\"DNC\"),$I$2,\nIF(DL56=OK,DN56,IF(HLOOKUP(DL56,Comments3,2,FALSE)=D,DN$32,IF(HLOOKUP(DL56,Comments3,2,FALSE)=A,VLOOKUP(DK56,Averages,DK$4,FALSE),IF(HLOOKUP(DL56,Comments3,2,FALSE)=E,VLOOKUP(DK56,EventAverage,2,FALSE), HLOOKUP(DL56,Comments4,2,FALSE)))))))","v":""},{"$f":"COUNTIF(DL$33:DL56,OK)+COUNTIF(DL$33:DL56,RDGfix)+COUNTIF(DL$33:DL56,RDGave)+COUNTIF(DL$33:DL56,RDGevent)+DN$7-1","v":0},null,{"$f":"IF(DO56=\"\",\"\",OK)","v":""},{"$f":"IF(DO56=\"\",\"\",IF(AND(DP$32=\"L\",DP56=\"DNC\"),$I$2,\nIF(DP56=OK,DR56,IF(HLOOKUP(DP56,Comments3,2,FALSE)=D,DR$32,IF(HLOOKUP(DP56,Comments3,2,FALSE)=A,VLOOKUP(DO56,Averages,DO$4,FALSE),IF(HLOOKUP(DP56,Comments3,2,FALSE)=E,VLOOKUP(DO56,EventAverage,2,FALSE), HLOOKUP(DP56,Comments4,2,FALSE)))))))","v":""},{"$f":"COUNTIF(DP$33:DP56,OK)+COUNTIF(DP$33:DP56,RDGfix)+COUNTIF(DP$33:DP56,RDGave)+COUNTIF(DP$33:DP56,RDGevent)+DR$7-1","v":0},null,{"$f":"IF(DS56=\"\",\"\",OK)","v":""},{"$f":"IF(DS56=\"\",\"\",IF(AND(DT$32=\"L\",DT56=\"DNC\"),$I$2,\nIF(DT56=OK,DV56,IF(HLOOKUP(DT56,Comments3,2,FALSE)=D,DV$32,IF(HLOOKUP(DT56,Comments3,2,FALSE)=A,VLOOKUP(DS56,Averages,DS$4,FALSE),IF(HLOOKUP(DT56,Comments3,2,FALSE)=E,VLOOKUP(DS56,EventAverage,2,FALSE), HLOOKUP(DT56,Comments4,2,FALSE)))))))","v":""},{"$f":"COUNTIF(DT$33:DT56,OK)+COUNTIF(DT$33:DT56,RDGfix)+COUNTIF(DT$33:DT56,RDGave)+COUNTIF(DT$33:DT56,RDGevent)+DV$7-1","v":0},null,{"$f":"IF(DW56=\"\",\"\",OK)","v":""},{"$f":"IF(DW56=\"\",\"\",IF(AND(DX$32=\"L\",DX56=\"DNC\"),$I$2,\nIF(DX56=OK,DZ56,IF(HLOOKUP(DX56,Comments3,2,FALSE)=D,DZ$32,IF(HLOOKUP(DX56,Comments3,2,FALSE)=A,VLOOKUP(DW56,Averages,DW$4,FALSE),IF(HLOOKUP(DX56,Comments3,2,FALSE)=E,VLOOKUP(DW56,EventAverage,2,FALSE), HLOOKUP(DX56,Comments4,2,FALSE)))))))","v":""},{"$f":"COUNTIF(DX$33:DX56,OK)+COUNTIF(DX$33:DX56,RDGfix)+COUNTIF(DX$33:DX56,RDGave)+COUNTIF(DX$33:DX56,RDGevent)+DZ$7-1","v":0},null,{"$f":"IF(EA56=\"\",\"\",OK)","v":""},{"$f":"IF(EA56=\"\",\"\",IF(AND(EB$32=\"L\",EB56=\"DNC\"),$I$2,\nIF(EB56=OK,ED56,IF(HLOOKUP(EB56,Comments3,2,FALSE)=D,ED$32,IF(HLOOKUP(EB56,Comments3,2,FALSE)=A,VLOOKUP(EA56,Averages,EA$4,FALSE),IF(HLOOKUP(EB56,Comments3,2,FALSE)=E,VLOOKUP(EA56,EventAverage,2,FALSE), HLOOKUP(EB56,Comments4,2,FALSE)))))))","v":""},{"$f":"COUNTIF(EB$33:EB56,OK)+COUNTIF(EB$33:EB56,RDGfix)+COUNTIF(EB$33:EB56,RDGave)+COUNTIF(EB$33:EB56,RDGevent)+ED$7-1","v":0},null,{"$f":"IF(EE56=\"\",\"\",OK)","v":""},{"$f":"IF(EE56=\"\",\"\",IF(AND(EF$32=\"L\",EF56=\"DNC\"),$I$2,\nIF(EF56=OK,EH56,IF(HLOOKUP(EF56,Comments3,2,FALSE)=D,EH$32,IF(HLOOKUP(EF56,Comments3,2,FALSE)=A,VLOOKUP(EE56,Averages,EE$4,FALSE),IF(HLOOKUP(EF56,Comments3,2,FALSE)=E,VLOOKUP(EE56,EventAverage,2,FALSE), HLOOKUP(EF56,Comments4,2,FALSE)))))))","v":""},{"$f":"COUNTIF(EF$33:EF56,OK)+COUNTIF(EF$33:EF56,RDGfix)+COUNTIF(EF$33:EF56,RDGave)+COUNTIF(EF$33:EF56,RDGevent)+EH$7-1","v":0},null,{"$f":"IF(EI56=\"\",\"\",OK)","v":""},{"$f":"IF(EI56=\"\",\"\",IF(AND(EJ$32=\"L\",EJ56=\"DNC\"),$I$2,\nIF(EJ56=OK,EL56,IF(HLOOKUP(EJ56,Comments3,2,FALSE)=D,EL$32,IF(HLOOKUP(EJ56,Comments3,2,FALSE)=A,VLOOKUP(EI56,Averages,EI$4,FALSE),IF(HLOOKUP(EJ56,Comments3,2,FALSE)=E,VLOOKUP(EI56,EventAverage,2,FALSE), HLOOKUP(EJ56,Comments4,2,FALSE)))))))","v":""},{"$f":"COUNTIF(EJ$33:EJ56,OK)+COUNTIF(EJ$33:EJ56,RDGfix)+COUNTIF(EJ$33:EJ56,RDGave)+COUNTIF(EJ$33:EJ56,RDGevent)+EL$7-1","v":0},null,{"$f":"IF(EM56=\"\",\"\",OK)","v":""},{"$f":"IF(EM56=\"\",\"\",IF(AND(EN$32=\"L\",EN56=\"DNC\"),$I$2,\nIF(EN56=OK,EP56,IF(HLOOKUP(EN56,Comments3,2,FALSE)=D,EP$32,IF(HLOOKUP(EN56,Comments3,2,FALSE)=A,VLOOKUP(EM56,Averages,EM$4,FALSE),IF(HLOOKUP(EN56,Comments3,2,FALSE)=E,VLOOKUP(EM56,EventAverage,2,FALSE), HLOOKUP(EN56,Comments4,2,FALSE)))))))","v":""},{"$f":"COUNTIF(EN$33:EN56,OK)+COUNTIF(EN$33:EN56,RDGfix)+COUNTIF(EN$33:EN56,RDGave)+COUNTIF(EN$33:EN56,RDGevent)+EP$7-1","v":0},null,{"$f":"IF(EQ56=\"\",\"\",OK)","v":""},{"$f":"IF(EQ56=\"\",\"\",IF(AND(ER$32=\"L\",ER56=\"DNC\"),$I$2,\nIF(ER56=OK,ET56,IF(HLOOKUP(ER56,Comments3,2,FALSE)=D,ET$32,IF(HLOOKUP(ER56,Comments3,2,FALSE)=A,VLOOKUP(EQ56,Averages,EQ$4,FALSE),IF(HLOOKUP(ER56,Comments3,2,FALSE)=E,VLOOKUP(EQ56,EventAverage,2,FALSE), HLOOKUP(ER56,Comments4,2,FALSE)))))))","v":""},{"$f":"COUNTIF(ER$33:ER56,OK)+COUNTIF(ER$33:ER56,RDGfix)+COUNTIF(ER$33:ER56,RDGave)+COUNTIF(ER$33:ER56,RDGevent)+ET$7-1","v":0},null,{"$f":"IF(EU56=\"\",\"\",OK)","v":""},{"$f":"IF(EU56=\"\",\"\",IF(AND(EV$32=\"L\",EV56=\"DNC\"),$I$2,\nIF(EV56=OK,EX56,IF(HLOOKUP(EV56,Comments3,2,FALSE)=D,EX$32,IF(HLOOKUP(EV56,Comments3,2,FALSE)=A,VLOOKUP(EU56,Averages,EU$4,FALSE),IF(HLOOKUP(EV56,Comments3,2,FALSE)=E,VLOOKUP(EU56,EventAverage,2,FALSE), HLOOKUP(EV56,Comments4,2,FALSE)))))))","v":""},{"$f":"COUNTIF(EV$33:EV56,OK)+COUNTIF(EV$33:EV56,RDGfix)+COUNTIF(EV$33:EV56,RDGave)+COUNTIF(EV$33:EV56,RDGevent)+EX$7-1","v":0},null,{"$f":"IF(EY56=\"\",\"\",OK)","v":""},{"$f":"IF(EY56=\"\",\"\",IF(AND(EZ$32=\"L\",EZ56=\"DNC\"),$I$2,\nIF(EZ56=OK,FB56,IF(HLOOKUP(EZ56,Comments3,2,FALSE)=D,FB$32,IF(HLOOKUP(EZ56,Comments3,2,FALSE)=A,VLOOKUP(EY56,Averages,EY$4,FALSE),IF(HLOOKUP(EZ56,Comments3,2,FALSE)=E,VLOOKUP(EY56,EventAverage,2,FALSE), HLOOKUP(EZ56,Comments4,2,FALSE)))))))","v":""},{"$f":"COUNTIF(EZ$33:EZ56,OK)+COUNTIF(EZ$33:EZ56,RDGfix)+COUNTIF(EZ$33:EZ56,RDGave)+COUNTIF(EZ$33:EZ56,RDGevent)+FB$7-1","v":0},null,{"$f":"IF(FC56=\"\",\"\",OK)","v":""},{"$f":"IF(FC56=\"\",\"\",IF(AND(FD$32=\"L\",FD56=\"DNC\"),$I$2,\nIF(FD56=OK,FF56,IF(HLOOKUP(FD56,Comments3,2,FALSE)=D,FF$32,IF(HLOOKUP(FD56,Comments3,2,FALSE)=A,VLOOKUP(FC56,Averages,FC$4,FALSE),IF(HLOOKUP(FD56,Comments3,2,FALSE)=E,VLOOKUP(FC56,EventAverage,2,FALSE), HLOOKUP(FD56,Comments4,2,FALSE)))))))","v":""},{"$f":"COUNTIF(FD$33:FD56,OK)+COUNTIF(FD$33:FD56,RDGfix)+COUNTIF(FD$33:FD56,RDGave)+COUNTIF(FD$33:FD56,RDGevent)+FF$7-1","v":0},null,{"$f":"IF(FG56=\"\",\"\",OK)","v":""},{"$f":"IF(FG56=\"\",\"\",IF(AND(FH$32=\"L\",FH56=\"DNC\"),$I$2,\nIF(FH56=OK,FJ56,IF(HLOOKUP(FH56,Comments3,2,FALSE)=D,FJ$32,IF(HLOOKUP(FH56,Comments3,2,FALSE)=A,VLOOKUP(FG56,Averages,FG$4,FALSE),IF(HLOOKUP(FH56,Comments3,2,FALSE)=E,VLOOKUP(FG56,EventAverage,2,FALSE), HLOOKUP(FH56,Comments4,2,FALSE)))))))","v":""},{"$f":"COUNTIF(FH$33:FH56,OK)+COUNTIF(FH$33:FH56,RDGfix)+COUNTIF(FH$33:FH56,RDGave)+COUNTIF(FH$33:FH56,RDGevent)+FJ$7-1","v":0}]
[null,"Heat C",{"$f":"COUNTA(C58:C81)","v":0},null,{"$f":"COUNTIF(D58:D81,\"WDN\")","v":0},{"$f":"C57-E57","v":0},{"$f":"COUNTA(G62:G81)","v":0},{"$f":"IF(AND(NOT(OR(H32=\"L\",H7=\"L\")),G83=\"\"),\"L\",\"\")","v":""},{"$f":"COUNTIF(H58:H80,\"WDN\")","v":0},{"$f":"COUNTA(G62:G81)-I57+J32","v":1},{"$f":"COUNTA(K62:K81)","v":0},{"$f":"IF(AND(NOT(OR(L32=\"L\",L7=\"L\")),K83=\"\"),\"L\",\"\")","v":""},{"$f":"COUNTIF(L58:L80,\"WDN\")","v":0},{"$f":"COUNTA(K62:K81)-M57+N32","v":1},{"$f":"COUNTA(O62:O81)","v":0},{"$f":"IF(AND(NOT(OR(P32=\"L\",P7=\"L\")),O83=\"\"),\"L\",\"\")","v":""},{"$f":"COUNTIF(P58:P80,\"WDN\")","v":0},{"$f":"COUNTA(O62:O81)-Q57+R32","v":1},{"$f":"COUNTA(S62:S81)","v":0},{"$f":"IF(AND(NOT(OR(T32=\"L\",T7=\"L\")),S83=\"\"),\"L\",\"\")","v":""},{"$f":"COUNTIF(T58:T80,\"WDN\")","v":0},{"$f":"COUNTA(S62:S81)-U57+V32","v":1},{"$f":"COUNTA(W62:W81)","v":0},{"$f":"IF(AND(NOT(OR(X32=\"L\",X7=\"L\")),W83=\"\"),\"L\",\"\")","v":""},{"$f":"COUNTIF(X58:X80,\"WDN\")","v":0},{"$f":"COUNTA(W62:W81)-Y57+Z32","v":1},{"$f":"COUNTA(AA62:AA81)","v":0},{"$f":"IF(AND(NOT(OR(AB32=\"L\",AB7=\"L\")),AA83=\"\"),\"L\",\"\")","v":""},{"$f":"COUNTIF(AB58:AB80,\"WDN\")","v":0},{"$f":"COUNTA(AA62:AA81)-AC57+AD32","v":1},{"$f":"COUNTA(AE62:AE81)","v":0},{"$f":"IF(AND(NOT(OR(AF32=\"L\",AF7=\"L\")),AE83=\"\"),\"L\",\"\")","v":""},{"$f":"COUNTIF(AF58:AF80,\"WDN\")","v":0},{"$f":"COUNTA(AE62:AE81)-AG57+AH32","v":1},{"$f":"COUNTA(AI62:AI81)","v":0},{"$f":"IF(AND(NOT(OR(AJ32=\"L\",AJ7=\"L\")),AI83=\"\"),\"L\",\"\")","v":""},{"$f":"COUNTIF(AJ58:AJ80,\"WDN\")","v":0},{"$f":"COUNTA(AI62:AI81)-AK57+AL32","v":1},{"$f":"COUNTA(AM62:AM81)","v":0},{"$f":"IF(AND(NOT(OR(AN32=\"L\",AN7=\"L\")),AM83=\"\"),\"L\",\"\")","v":""},{"$f":"COUNTIF(AN58:AN80,\"WDN\")","v":0},{"$f":"COUNTA(AM62:AM81)-AO57+AP32","v":1},{"$f":"COUNTA(AQ62:AQ81)","v":0},{"$f":"IF(AND(NOT(OR(AR32=\"L\",AR7=\"L\")),AQ83=\"\"),\"L\",\"\")","v":""},{"$f":"COUNTIF(AR58:AR80,\"WDN\")","v":0},{"$f":"COUNTA(AQ62:AQ81)-AS57+AT32","v":1},{"$f":"COUNTA(AU62:AU81)","v":0},{"$f":"IF(AND(NOT(OR(AV32=\"L\",AV7=\"L\")),AU83=\"\"),\"L\",\"\")","v":""},{"$f":"COUNTIF(AV58:AV80,\"WDN\")","v":0},{"$f":"COUNTA(AU62:AU81)-AW57+AX32","v":1},{"$f":"COUNTA(AY62:AY81)","v":0},{"$f":"IF(AND(NOT(OR(AZ32=\"L\",AZ7=\"L\")),AY83=\"\"),\"L\",\"\")","v":""},{"$f":"COUNTIF(AZ58:AZ80,\"WDN\")","v":0},{"$f":"COUNTA(AY62:AY81)-BA57+BB32","v":1},{"$f":"COUNTA(BC62:BC81)","v":0},{"$f":"IF(AND(NOT(OR(BD32=\"L\",BD7=\"L\")),BC83=\"\"),\"L\",\"\")","v":""},{"$f":"COUNTIF(BD58:BD80,\"WDN\")","v":0},{"$f":"COUNTA(BC62:BC81)-BE57+BF32","v":1},{"$f":"COUNTA(BG62:BG81)","v":0},{"$f":"IF(AND(NOT(OR(BH32=\"L\",BH7=\"L\")),BG83=\"\"),\"L\",\"\")","v":""},{"$f":"COUNTIF(BH58:BH80,\"WDN\")","v":0},{"$f":"COUNTA(BG62:BG81)-BI57+BJ32","v":1},{"$f":"COUNTA(BK62:BK81)","v":0},{"$f":"IF(AND(NOT(OR(BL32=\"L\",BL7=\"L\")),BK83=\"\"),\"L\",\"\")","v":""},{"$f":"COUNTIF(BL58:BL80,\"WDN\")","v":0},{"$f":"COUNTA(BK62:BK81)-BM57+BN32","v":1},{"$f":"COUNTA(BO62:BO81)","v":0},{"$f":"IF(AND(NOT(OR(BP32=\"L\",BP7=\"L\")),BO83=\"\"),\"L\",\"\")","v":""},{"$f":"COUNTIF(BP58:BP80,\"WDN\")","v":0},{"$f":"COUNTA(BO62:BO81)-BQ57+BR32","v":1},{"$f":"COUNTA(BS62:BS81)","v":0},{"$f":"IF(AND(NOT(OR(BT32=\"L\",BT7=\"L\")),BS83=\"\"),\"L\",\"\")","v":""},{"$f":"COUNTIF(BT58:BT80,\"WDN\")","v":0},{"$f":"COUNTA(BS62:BS81)-BU57+BV32","v":1},{"$f":"COUNTA(BW62:BW81)","v":0},{"$f":"IF(AND(NOT(OR(BX32=\"L\",BX7=\"L\")),BW83=\"\"),\"L\",\"\")","v":""},{"$f":"COUNTIF(BX58:BX80,\"WDN\")","v":0},{"$f":"COUNTA(BW62:BW81)-BY57+BZ32","v":1},{"$f":"COUNTA(CA62:CA81)","v":0},{"$f":"IF(AND(NOT(OR(CB32=\"L\",CB7=\"L\")),CA83=\"\"),\"L\",\"\")","v":""},{"$f":"COUNTIF(CB58:CB80,\"WDN\")","v":0},{"$f":"COUNTA(CA62:CA81)-CC57+CD32","v":1},{"$f":"COUNTA(CE62:CE81)","v":0},{"$f":"IF(AND(NOT(OR(CF32=\"L\",CF7=\"L\")),CE83=\"\"),\"L\",\"\")","v":""},{"$f":"COUNTIF(CF58:CF80,\"WDN\")","v":0},{"$f":"COUNTA(CE62:CE81)-CG57+CH32","v":1},{"$f":"COUNTA(CI62:CI81)","v":0},{"$f":"IF(AND(NOT(OR(CJ32=\"L\",CJ7=\"L\")),CI83=\"\"),\"L\",\"\")","v":""},{"$f":"COUNTIF(CJ58:CJ80,\"WDN\")","v":0},{"$f":"COUNTA(CI62:CI81)-CK57+CL32","v":1},{"$f":"COUNTA(CM62:CM81)","v":0},{"$f":"IF(AND(NOT(OR(CN32=\"L\",CN7=\"L\")),CM83=\"\"),\"L\",\"\")","v":""},{"$f":"COUNTIF(CN58:CN80,\"WDN\")","v":0},{"$f":"COUNTA(CM62:CM81)-CO57+CP32","v":1},{"$f":"COUNTA(CQ62:CQ81)","v":0},{"$f":"IF(AND(NOT(OR(CR32=\"L\",CR7=\"L\")),CQ83=\"\"),\"L\",\"\")","v":""},{"$f":"COUNTIF(CR58:CR80,\"WDN\")","v":0},{"$f":"COUNTA(CQ62:CQ81)-CS57+CT32","v":1},{"$f":"COUNTA(CU62:CU81)","v":0},{"$f":"IF(AND(NOT(OR(CV32=\"L\",CV7=\"L\")),CU83=\"\"),\"L\",\"\")","v":""},{"$f":"COUNTIF(CV58:CV80,\"WDN\")","v":0},{"$f":"COUNTA(CU62:CU81)-CW57+CX32","v":1},{"$f":"COUNTA(CY62:CY81)","v":0},{"$f":"IF(AND(NOT(OR(CZ32=\"L\",CZ7=\"L\")),CY83=\"\"),\"L\",\"\")","v":""},{"$f":"COUNTIF(CZ58:CZ80,\"WDN\")","v":0},{"$f":"COUNTA(CY62:CY81)-DA57+DB32","v":1},{"$f":"COUNTA(DC62:DC81)","v":0},{"$f":"IF(AND(NOT(OR(DD32=\"L\",DD7=\"L\")),DC83=\"\"),\"L\",\"\")","v":""},{"$f":"COUNTIF(DD58:DD80,\"WDN\")","v":0},{"$f":"COUNTA(DC62:DC81)-DE57+DF32","v":1},{"$f":"COUNTA(DG62:DG81)","v":0},{"$f":"IF(AND(NOT(OR(DH32=\"L\",DH7=\"L\")),DG83=\"\"),\"L\",\"\")","v":""},{"$f":"COUNTIF(DH58:DH80,\"WDN\")","v":0},{"$f":"COUNTA(DG62:DG81)-DI57+DJ32","v":1},{"$f":"COUNTA(DK62:DK81)","v":0},{"$f":"IF(AND(NOT(OR(DL32=\"L\",DL7=\"L\")),DK83=\"\"),\"L\",\"\")","v":""},{"$f":"COUNTIF(DL58:DL80,\"WDN\")","v":0},{"$f":"COUNTA(DK62:DK81)-DM57+DN32","v":1},{"$f":"COUNTA(DO62:DO81)","v":0},{"$f":"IF(AND(NOT(OR(DP32=\"L\",DP7=\"L\")),DO83=\"\"),\"L\",\"\")","v":""},{"$f":"COUNTIF(DP58:DP80,\"WDN\")","v":0},{"$f":"COUNTA(DO62:DO81)-DQ57+DR32","v":1},{"$f":"COUNTA(DS62:DS81)","v":0},{"$f":"IF(AND(NOT(OR(DT32=\"L\",DT7=\"L\")),DS83=\"\"),\"L\",\"\")","v":""},{"$f":"COUNTIF(DT58:DT80,\"WDN\")","v":0},{"$f":"COUNTA(DS62:DS81)-DU57+DV32","v":1},{"$f":"COUNTA(DW62:DW81)","v":0},{"$f":"IF(AND(NOT(OR(DX32=\"L\",DX7=\"L\")),DW83=\"\"),\"L\",\"\")","v":""},{"$f":"COUNTIF(DX58:DX80,\"WDN\")","v":0},{"$f":"COUNTA(DW62:DW81)-DY57+DZ32","v":1},{"$f":"COUNTA(EA62:EA81)","v":0},{"$f":"IF(AND(NOT(OR(EB32=\"L\",EB7=\"L\")),EA83=\"\"),\"L\",\"\")","v":""},{"$f":"COUNTIF(EB58:EB80,\"WDN\")","v":0},{"$f":"COUNTA(EA62:EA81)-EC57+ED32","v":1},{"$f":"COUNTA(EE62:EE81)","v":0},{"$f":"IF(AND(NOT(OR(EF32=\"L\",EF7=\"L\")),EE83=\"\"),\"L\",\"\")","v":""},{"$f":"COUNTIF(EF58:EF80,\"WDN\")","v":0},{"$f":"COUNTA(EE62:EE81)-EG57+EH32","v":1},{"$f":"COUNTA(EI62:EI81)","v":0},{"$f":"IF(AND(NOT(OR(EJ32=\"L\",EJ7=\"L\")),EI83=\"\"),\"L\",\"\")","v":""},{"$f":"COUNTIF(EJ58:EJ80,\"WDN\")","v":0},{"$f":"COUNTA(EI62:EI81)-EK57+EL32","v":1},{"$f":"COUNTA(EM62:EM81)","v":0},{"$f":"IF(AND(NOT(OR(EN32=\"L\",EN7=\"L\")),EM83=\"\"),\"L\",\"\")","v":""},{"$f":"COUNTIF(EN58:EN80,\"WDN\")","v":0},{"$f":"COUNTA(EM62:EM81)-EO57+EP32","v":1},{"$f":"COUNTA(EQ62:EQ81)","v":0},{"$f":"IF(AND(NOT(OR(ER32=\"L\",ER7=\"L\")),EQ83=\"\"),\"L\",\"\")","v":""},{"$f":"COUNTIF(ER58:ER80,\"WDN\")","v":0},{"$f":"COUNTA(EQ62:EQ81)-ES57+ET32","v":1},{"$f":"COUNTA(EU62:EU81)","v":0},{"$f":"IF(AND(NOT(OR(EV32=\"L\",EV7=\"L\")),EU83=\"\"),\"L\",\"\")","v":""},{"$f":"COUNTIF(EV58:EV80,\"WDN\")","v":0},{"$f":"COUNTA(EU62:EU81)-EW57+EX32","v":1},{"$f":"COUNTA(EY62:EY81)","v":0},{"$f":"IF(AND(NOT(OR(EZ32=\"L\",EZ7=\"L\")),EY83=\"\"),\"L\",\"\")","v":""},{"$f":"COUNTIF(EZ58:EZ80,\"WDN\")","v":0},{"$f":"COUNTA(EY62:EY81)-FA57+FB32","v":1},{"$f":"COUNTA(FC62:FC81)","v":0},{"$f":"IF(AND(NOT(OR(FD32=\"L\",FD7=\"L\")),FC83=\"\"),\"L\",\"\")","v":""},{"$f":"COUNTIF(FD58:FD80,\"WDN\")","v":0},{"$f":"COUNTA(FC62:FC81)-FE57+FF32","v":1},{"$f":"COUNTA(FG62:FG81)","v":0},{"$f":"IF(AND(NOT(OR(FH32=\"L\",FH7=\"L\")),FG83=\"\"),\"L\",\"\")","v":""},{"$f":"COUNTIF(FH58:FH80,\"WDN\")","v":0},{"$f":"COUNTA(FG62:FG81)-FI57+FJ32","v":1}]
[null,"1st",null,{"$f":"IF(C58=\"\",\"\",OK)","v":""},{"$f":"IF(C58=0,\"\",IF(D58=OK,F58,IF(HLOOKUP(D58,Comments3,3,FALSE)=M,F$159,IF(HLOOKUP(D58,Comments3,3,FALSE)=S,VLOOKUP(C58,EventAverage,2,FALSE),HLOOKUP(D58,Comments3,3,FALSE)))))","v":""},{"$f":"COUNTIF(D$58:D58,OK)+COUNTIF(D$58:D58,RDGfix)+COUNTIF(D$58:D58,RDGave)+COUNTIF(D$58:D58,RDGevent)","v":0},null,{"$f":"IF(G58=\"\",\"\",UP)","v":""},{"$f":"IF(G58=0,\"\",#N/A)","v":""},{"$f":"COUNTIF(H$58:H58,OK)+COUNTIF(H$58:H58,RDGfix)+COUNTIF(H$58:H58,RDGave)+COUNTIF(H$58:H58,RDGevent)+J$32-1","v":0},null,{"$f":"IF(K58=\"\",\"\",UP)","v":""},{"$f":"IF(K58=0,\"\",#N/A)","v":""},{"$f":"COUNTIF(L$58:L58,OK)+COUNTIF(L$58:L58,RDGfix)+COUNTIF(L$58:L58,RDGave)+N$32-1","v":0},null,{"$f":"IF(O58=\"\",\"\",UP)","v":""},{"$f":"IF(O58=0,\"\",#N/A)","v":""},{"$f":"COUNTIF(P$58:P58,OK)+COUNTIF(P$58:P58,RDGfix)+COUNTIF(P$58:P58,RDGave)+R$32-1","v":0},null,{"$f":"IF(S58=\"\",\"\",UP)","v":""},{"$f":"IF(S58=0,\"\",#N/A)","v":""},{"$f":"COUNTIF(T$58:T58,OK)+COUNTIF(T$58:T58,RDGfix)+COUNTIF(T$58:T58,RDGave)+V$32-1","v":0},null,{"$f":"IF(W58=\"\",\"\",UP)","v":""},{"$f":"IF(W58=0,\"\",#N/A)","v":""},{"$f":"COUNTIF(X$58:X58,OK)+COUNTIF(X$58:X58,RDGfix)+COUNTIF(X$58:X58,RDGave)+Z$32-1","v":0},null,{"$f":"IF(AA58=\"\",\"\",UP)","v":""},{"$f":"IF(AA58=0,\"\",#N/A)","v":""},{"$f":"COUNTIF(AB$58:AB58,OK)+COUNTIF(AB$58:AB58,RDGfix)+COUNTIF(AB$58:AB58,RDGave)+AD$32-1","v":0},null,{"$f":"IF(AE58=\"\",\"\",UP)","v":""},{"$f":"IF(AE58=0,\"\",#N/A)","v":""},{"$f":"COUNTIF(AF$58:AF58,OK)+COUNTIF(AF$58:AF58,RDGfix)+COUNTIF(AF$58:AF58,RDGave)+AH$32-1","v":0},null,{"$f":"IF(AI58=\"\",\"\",UP)","v":""},{"$f":"IF(AI58=0,\"\",#N/A)","v":""},{"$f":"COUNTIF(AJ$58:AJ58,OK)+COUNTIF(AJ$58:AJ58,RDGfix)+COUNTIF(AJ$58:AJ58,RDGave)+AL$32-1","v":0},null,{"$f":"IF(AM58=\"\",\"\",UP)","v":""},{"$f":"IF(AM58=0,\"\",#N/A)","v":""},{"$f":"COUNTIF(AN$58:AN58,OK)+COUNTIF(AN$58:AN58,RDGfix)+COUNTIF(AN$58:AN58,RDGave)+AP$32-1","v":0},null,{"$f":"IF(AQ58=\"\",\"\",UP)","v":""},{"$f":"IF(AQ58=0,\"\",#N/A)","v":""},{"$f":"COUNTIF(AR$58:AR58,OK)+COUNTIF(AR$58:AR58,RDGfix)+COUNTIF(AR$58:AR58,RDGave)+AT$32-1","v":0},null,{"$f":"IF(AU58=\"\",\"\",UP)","v":""},{"$f":"IF(AU58=0,\"\",#N/A)","v":""},{"$f":"COUNTIF(AV$58:AV58,OK)+COUNTIF(AV$58:AV58,RDGfix)+COUNTIF(AV$58:AV58,RDGave)+AX$32-1","v":0},null,{"$f":"IF(AY58=\"\",\"\",UP)","v":""},{"$f":"IF(AY58=0,\"\",#N/A)","v":""},{"$f":"COUNTIF(AZ$58:AZ58,OK)+COUNTIF(AZ$58:AZ58,RDGfix)+COUNTIF(AZ$58:AZ58,RDGave)+BB$32-1","v":0},null,{"$f":"IF(BC58=\"\",\"\",UP)","v":""},{"$f":"IF(BC58=0,\"\",#N/A)","v":""},{"$f":"COUNTIF(BD$58:BD58,OK)+COUNTIF(BD$58:BD58,RDGfix)+COUNTIF(BD$58:BD58,RDGave)+BF$32-1","v":0},null,{"$f":"IF(BG58=\"\",\"\",UP)","v":""},{"$f":"IF(BG58=0,\"\",#N/A)","v":""},{"$f":"COUNTIF(BH$58:BH58,OK)+COUNTIF(BH$58:BH58,RDGfix)+COUNTIF(BH$58:BH58,RDGave)+BJ$32-1","v":0},null,{"$f":"IF(BK58=\"\",\"\",UP)","v":""},{"$f":"IF(BK58=0,\"\",#N/A)","v":""},{"$f":"COUNTIF(BL$58:BL58,OK)+COUNTIF(BL$58:BL58,RDGfix)+COUNTIF(BL$58:BL58,RDGave)+BN$32-1","v":0},null,{"$f":"IF(BO58=\"\",\"\",UP)","v":""},{"$f":"IF(BO58=0,\"\",#N/A)","v":""},{"$f":"COUNTIF(BP$58:BP58,OK)+COUNTIF(BP$58:BP58,RDGfix)+COUNTIF(BP$58:BP58,RDGave)+BR$32-1","v":0},null,{"$f":"IF(BS58=\"\",\"\",UP)","v":""},{"$f":"IF(BS58=0,\"\",#N/A)","v":""},{"$f":"COUNTIF(BT$58:BT58,OK)+COUNTIF(BT$58:BT58,RDGfix)+COUNTIF(BT$58:BT58,RDGave)+BV$32-1","v":0},null,{"$f":"IF(BW58=\"\",\"\",UP)","v":""},{"$f":"IF(BW58=0,\"\",#N/A)","v":""},{"$f":"COUNTIF(BX$58:BX58,OK)+COUNTIF(BX$58:BX58,RDGfix)+COUNTIF(BX$58:BX58,RDGave)+BZ$32-1","v":0},null,{"$f":"IF(CA58=\"\",\"\",UP)","v":""},{"$f":"IF(CA58=0,\"\",#N/A)","v":""},{"$f":"COUNTIF(CB$58:CB58,OK)+COUNTIF(CB$58:CB58,RDGfix)+COUNTIF(CB$58:CB58,RDGave)+CD$32-1","v":0},null,{"$f":"IF(CE58=\"\",\"\",UP)","v":""},{"$f":"IF(CE58=0,\"\",#N/A)","v":""},{"$f":"COUNTIF(CF$58:CF58,OK)+COUNTIF(CF$58:CF58,RDGfix)+COUNTIF(CF$58:CF58,RDGave)+CH$32-1","v":0},null,{"$f":"IF(CI58=\"\",\"\",UP)","v":""},{"$f":"IF(CI58=0,\"\",#N/A)","v":""},{"$f":"COUNTIF(CJ$58:CJ58,OK)+COUNTIF(CJ$58:CJ58,RDGfix)+COUNTIF(CJ$58:CJ58,RDGave)+CL$32-1","v":0},null,{"$f":"IF(CM58=\"\",\"\",UP)","v":""},{"$f":"IF(CM58=0,\"\",#N/A)","v":""},{"$f":"COUNTIF(CN$58:CN58,OK)+COUNTIF(CN$58:CN58,RDGfix)+COUNTIF(CN$58:CN58,RDGave)+CP$32-1","v":0},null,{"$f":"IF(CQ58=\"\",\"\",UP)","v":""},{"$f":"IF(CQ58=0,\"\",#N/A)","v":""},{"$f":"COUNTIF(CR$58:CR58,OK)+COUNTIF(CR$58:CR58,RDGfix)+COUNTIF(CR$58:CR58,RDGave)+CT$32-1","v":0},null,{"$f":"IF(CU58=\"\",\"\",UP)","v":""},{"$f":"IF(CU58=0,\"\",#N/A)","v":""},{"$f":"COUNTIF(CV$58:CV58,OK)+COUNTIF(CV$58:CV58,RDGfix)+COUNTIF(CV$58:CV58,RDGave)+CX$32-1","v":0},null,{"$f":"IF(CY58=\"\",\"\",UP)","v":""},{"$f":"IF(CY58=0,\"\",#N/A)","v":""},{"$f":"COUNTIF(CZ$58:CZ58,OK)+COUNTIF(CZ$58:CZ58,RDGfix)+COUNTIF(CZ$58:CZ58,RDGave)+DB$32-1","v":0},null,{"$f":"IF(DC58=\"\",\"\",UP)","v":""},{"$f":"IF(DC58=0,\"\",#N/A)","v":""},{"$f":"COUNTIF(DD$58:DD58,OK)+COUNTIF(DD$58:DD58,RDGfix)+COUNTIF(DD$58:DD58,RDGave)+DF$32-1","v":0},null,{"$f":"IF(DG58=\"\",\"\",UP)","v":""},{"$f":"IF(DG58=0,\"\",#N/A)","v":""},{"$f":"COUNTIF(DH$58:DH58,OK)+COUNTIF(DH$58:DH58,RDGfix)+COUNTIF(DH$58:DH58,RDGave)+DJ$32-1","v":0},null,{"$f":"IF(DK58=\"\",\"\",UP)","v":""},{"$f":"IF(DK58=0,\"\",#N/A)","v":""},{"$f":"COUNTIF(DL$58:DL58,OK)+COUNTIF(DL$58:DL58,RDGfix)+COUNTIF(DL$58:DL58,RDGave)+DN$32-1","v":0},null,{"$f":"IF(DO58=\"\",\"\",UP)","v":""},{"$f":"IF(DO58=0,\"\",#N/A)","v":""},{"$f":"COUNTIF(DP$58:DP58,OK)+COUNTIF(DP$58:DP58,RDGfix)+COUNTIF(DP$58:DP58,RDGave)+DR$32-1","v":0},null,{"$f":"IF(DS58=\"\",\"\",UP)","v":""},{"$f":"IF(DS58=0,\"\",#N/A)","v":""},{"$f":"COUNTIF(DT$58:DT58,OK)+COUNTIF(DT$58:DT58,RDGfix)+COUNTIF(DT$58:DT58,RDGave)+DV$32-1","v":0},null,{"$f":"IF(DW58=\"\",\"\",UP)","v":""},{"$f":"IF(DW58=0,\"\",#N/A)","v":""},{"$f":"COUNTIF(DX$58:DX58,OK)+COUNTIF(DX$58:DX58,RDGfix)+COUNTIF(DX$58:DX58,RDGave)+DZ$32-1","v":0},null,{"$f":"IF(EA58=\"\",\"\",UP)","v":""},{"$f":"IF(EA58=0,\"\",#N/A)","v":""},{"$f":"COUNTIF(EB$58:EB58,OK)+COUNTIF(EB$58:EB58,RDGfix)+COUNTIF(EB$58:EB58,RDGave)+ED$32-1","v":0},null,{"$f":"IF(EE58=\"\",\"\",UP)","v":""},{"$f":"IF(EE58=0,\"\",#N/A)","v":""},{"$f":"COUNTIF(EF$58:EF58,OK)+COUNTIF(EF$58:EF58,RDGfix)+COUNTIF(EF$58:EF58,RDGave)+EH$32-1","v":0},null,{"$f":"IF(EI58=\"\",\"\",UP)","v":""},{"$f":"IF(EI58=0,\"\",#N/A)","v":""},{"$f":"COUNTIF(EJ$58:EJ58,OK)+COUNTIF(EJ$58:EJ58,RDGfix)+COUNTIF(EJ$58:EJ58,RDGave)+EL$32-1","v":0},null,{"$f":"IF(EM58=\"\",\"\",UP)","v":""},{"$f":"IF(EM58=0,\"\",#N/A)","v":""},{"$f":"COUNTIF(EN$58:EN58,OK)+COUNTIF(EN$58:EN58,RDGfix)+COUNTIF(EN$58:EN58,RDGave)+EP$32-1","v":0},null,{"$f":"IF(EQ58=\"\",\"\",UP)","v":""},{"$f":"IF(EQ58=0,\"\",#N/A)","v":""},{"$f":"COUNTIF(ER$58:ER58,OK)+COUNTIF(ER$58:ER58,RDGfix)+COUNTIF(ER$58:ER58,RDGave)+ET$32-1","v":0},null,{"$f":"IF(EU58=\"\",\"\",UP)","v":""},{"$f":"IF(EU58=0,\"\",#N/A)","v":""},{"$f":"COUNTIF(EV$58:EV58,OK)+COUNTIF(EV$58:EV58,RDGfix)+COUNTIF(EV$58:EV58,RDGave)+EX$32-1","v":0},null,{"$f":"IF(EY58=\"\",\"\",UP)","v":""},{"$f":"IF(EY58=0,\"\",#N/A)","v":""},{"$f":"COUNTIF(EZ$58:EZ58,OK)+COUNTIF(EZ$58:EZ58,RDGfix)+COUNTIF(EZ$58:EZ58,RDGave)+FB$32-1","v":0},null,{"$f":"IF(FC58=\"\",\"\",UP)","v":""},{"$f":"IF(FC58=0,\"\",#N/A)","v":""},{"$f":"COUNTIF(FD$58:FD58,OK)+COUNTIF(FD$58:FD58,RDGfix)+COUNTIF(FD$58:FD58,RDGave)+FF$32-1","v":0},null,{"$f":"IF(FG58=\"\",\"\",UP)","v":""},{"$f":"IF(FG58=0,\"\",#N/A)","v":""},{"$f":"COUNTIF(FH$58:FH58,OK)+COUNTIF(FH$58:FH58,RDGfix)+COUNTIF(FH$58:FH58,RDGave)+FJ$32-1","v":0}]
[null,"2nd",null,"","",{"$f":"COUNTIF(D$58:D59,OK)+COUNTIF(D$58:D59,RDGfix)+COUNTIF(D$58:D59,RDGave)+COUNTIF(D$58:D59,RDGevent)","v":0},null,"",{"$f":"IF(G59=0,\"\",#N/A)","v":""},{"$f":"COUNTIF(H$58:H59,OK)+COUNTIF(H$58:H59,RDGfix)+COUNTIF(H$58:H59,RDGave)+COUNTIF(H$58:H59,RDGevent)+J$32-1","v":0},null,"",{"$f":"IF(K59=0,\"\",#N/A)","v":""},{"$f":"COUNTIF(L$58:L59,OK)+COUNTIF(L$58:L59,RDGfix)+COUNTIF(L$58:L59,RDGave)+N$32-1","v":0},null,"",{"$f":"IF(O59=0,\"\",#N/A)","v":""},{"$f":"COUNTIF(P$58:P59,OK)+COUNTIF(P$58:P59,RDGfix)+COUNTIF(P$58:P59,RDGave)+R$32-1","v":0},null,"",{"$f":"IF(S59=0,\"\",#N/A)","v":""},{"$f":"COUNTIF(T$58:T59,OK)+COUNTIF(T$58:T59,RDGfix)+COUNTIF(T$58:T59,RDGave)+V$32-1","v":0},null,"",{"$f":"IF(W59=0,\"\",#N/A)","v":""},{"$f":"COUNTIF(X$58:X59,OK)+COUNTIF(X$58:X59,RDGfix)+COUNTIF(X$58:X59,RDGave)+Z$32-1","v":0},null,"",{"$f":"IF(AA59=0,\"\",#N/A)","v":""},{"$f":"COUNTIF(AB$58:AB59,OK)+COUNTIF(AB$58:AB59,RDGfix)+COUNTIF(AB$58:AB59,RDGave)+AD$32-1","v":0},null,"",{"$f":"IF(AE59=0,\"\",#N/A)","v":""},{"$f":"COUNTIF(AF$58:AF59,OK)+COUNTIF(AF$58:AF59,RDGfix)+COUNTIF(AF$58:AF59,RDGave)+AH$32-1","v":0},null,"",{"$f":"IF(AI59=0,\"\",#N/A)","v":""},{"$f":"COUNTIF(AJ$58:AJ59,OK)+COUNTIF(AJ$58:AJ59,RDGfix)+COUNTIF(AJ$58:AJ59,RDGave)+AL$32-1","v":0},null,"",{"$f":"IF(AM59=0,\"\",#N/A)","v":""},{"$f":"COUNTIF(AN$58:AN59,OK)+COUNTIF(AN$58:AN59,RDGfix)+COUNTIF(AN$58:AN59,RDGave)+AP$32-1","v":0},null,"",{"$f":"IF(AQ59=0,\"\",#N/A)","v":""},{"$f":"COUNTIF(AR$58:AR59,OK)+COUNTIF(AR$58:AR59,RDGfix)+COUNTIF(AR$58:AR59,RDGave)+AT$32-1","v":0},null,"",{"$f":"IF(AU59=0,\"\",#N/A)","v":""},{"$f":"COUNTIF(AV$58:AV59,OK)+COUNTIF(AV$58:AV59,RDGfix)+COUNTIF(AV$58:AV59,RDGave)+AX$32-1","v":0},null,"",{"$f":"IF(AY59=0,\"\",#N/A)","v":""},{"$f":"COUNTIF(AZ$58:AZ59,OK)+COUNTIF(AZ$58:AZ59,RDGfix)+COUNTIF(AZ$58:AZ59,RDGave)+BB$32-1","v":0},null,"",{"$f":"IF(BC59=0,\"\",#N/A)","v":""},{"$f":"COUNTIF(BD$58:BD59,OK)+COUNTIF(BD$58:BD59,RDGfix)+COUNTIF(BD$58:BD59,RDGave)+BF$32-1","v":0},null,"",{"$f":"IF(BG59=0,\"\",#N/A)","v":""},{"$f":"COUNTIF(BH$58:BH59,OK)+COUNTIF(BH$58:BH59,RDGfix)+COUNTIF(BH$58:BH59,RDGave)+BJ$32-1","v":0},null,"",{"$f":"IF(BK59=0,\"\",#N/A)","v":""},{"$f":"COUNTIF(BL$58:BL59,OK)+COUNTIF(BL$58:BL59,RDGfix)+COUNTIF(BL$58:BL59,RDGave)+BN$32-1","v":0},null,"",{"$f":"IF(BO59=0,\"\",#N/A)","v":""},{"$f":"COUNTIF(BP$58:BP59,OK)+COUNTIF(BP$58:BP59,RDGfix)+COUNTIF(BP$58:BP59,RDGave)+BR$32-1","v":0},null,"",{"$f":"IF(BS59=0,\"\",#N/A)","v":""},{"$f":"COUNTIF(BT$58:BT59,OK)+COUNTIF(BT$58:BT59,RDGfix)+COUNTIF(BT$58:BT59,RDGave)+BV$32-1","v":0},null,"",{"$f":"IF(BW59=0,\"\",#N/A)","v":""},{"$f":"COUNTIF(BX$58:BX59,OK)+COUNTIF(BX$58:BX59,RDGfix)+COUNTIF(BX$58:BX59,RDGave)+BZ$32-1","v":0},null,"",{"$f":"IF(CA59=0,\"\",#N/A)","v":""},{"$f":"COUNTIF(CB$58:CB59,OK)+COUNTIF(CB$58:CB59,RDGfix)+COUNTIF(CB$58:CB59,RDGave)+CD$32-1","v":0},null,"",{"$f":"IF(CE59=0,\"\",#N/A)","v":""},{"$f":"COUNTIF(CF$58:CF59,OK)+COUNTIF(CF$58:CF59,RDGfix)+COUNTIF(CF$58:CF59,RDGave)+CH$32-1","v":0},null,"",{"$f":"IF(CI59=0,\"\",#N/A)","v":""},{"$f":"COUNTIF(CJ$58:CJ59,OK)+COUNTIF(CJ$58:CJ59,RDGfix)+COUNTIF(CJ$58:CJ59,RDGave)+CL$32-1","v":0},null,"",{"$f":"IF(CM59=0,\"\",#N/A)","v":""},{"$f":"COUNTIF(CN$58:CN59,OK)+COUNTIF(CN$58:CN59,RDGfix)+COUNTIF(CN$58:CN59,RDGave)+CP$32-1","v":0},null,"",{"$f":"IF(CQ59=0,\"\",#N/A)","v":""},{"$f":"COUNTIF(CR$58:CR59,OK)+COUNTIF(CR$58:CR59,RDGfix)+COUNTIF(CR$58:CR59,RDGave)+CT$32-1","v":0},null,"",{"$f":"IF(CU59=0,\"\",#N/A)","v":""},{"$f":"COUNTIF(CV$58:CV59,OK)+COUNTIF(CV$58:CV59,RDGfix)+COUNTIF(CV$58:CV59,RDGave)+CX$32-1","v":0},null,"",{"$f":"IF(CY59=0,\"\",#N/A)","v":""},{"$f":"COUNTIF(CZ$58:CZ59,OK)+COUNTIF(CZ$58:CZ59,RDGfix)+COUNTIF(CZ$58:CZ59,RDGave)+DB$32-1","v":0},null,"",{"$f":"IF(DC59=0,\"\",#N/A)","v":""},{"$f":"COUNTIF(DD$58:DD59,OK)+COUNTIF(DD$58:DD59,RDGfix)+COUNTIF(DD$58:DD59,RDGave)+DF$32-1","v":0},null,"",{"$f":"IF(DG59=0,\"\",#N/A)","v":""},{"$f":"COUNTIF(DH$58:DH59,OK)+COUNTIF(DH$58:DH59,RDGfix)+COUNTIF(DH$58:DH59,RDGave)+DJ$32-1","v":0},null,"",{"$f":"IF(DK59=0,\"\",#N/A)","v":""},{"$f":"COUNTIF(DL$58:DL59,OK)+COUNTIF(DL$58:DL59,RDGfix)+COUNTIF(DL$58:DL59,RDGave)+DN$32-1","v":0},null,"",{"$f":"IF(DO59=0,\"\",#N/A)","v":""},{"$f":"COUNTIF(DP$58:DP59,OK)+COUNTIF(DP$58:DP59,RDGfix)+COUNTIF(DP$58:DP59,RDGave)+DR$32-1","v":0},null,"",{"$f":"IF(DS59=0,\"\",#N/A)","v":""},{"$f":"COUNTIF(DT$58:DT59,OK)+COUNTIF(DT$58:DT59,RDGfix)+COUNTIF(DT$58:DT59,RDGave)+DV$32-1","v":0},null,"",{"$f":"IF(DW59=0,\"\",#N/A)","v":""},{"$f":"COUNTIF(DX$58:DX59,OK)+COUNTIF(DX$58:DX59,RDGfix)+COUNTIF(DX$58:DX59,RDGave)+DZ$32-1","v":0},null,"",{"$f":"IF(EA59=0,\"\",#N/A)","v":""},{"$f":"COUNTIF(EB$58:EB59,OK)+COUNTIF(EB$58:EB59,RDGfix)+COUNTIF(EB$58:EB59,RDGave)+ED$32-1","v":0},null,"",{"$f":"IF(EE59=0,\"\",#N/A)","v":""},{"$f":"COUNTIF(EF$58:EF59,OK)+COUNTIF(EF$58:EF59,RDGfix)+COUNTIF(EF$58:EF59,RDGave)+EH$32-1","v":0},null,"",{"$f":"IF(EI59=0,\"\",#N/A)","v":""},{"$f":"COUNTIF(EJ$58:EJ59,OK)+COUNTIF(EJ$58:EJ59,RDGfix)+COUNTIF(EJ$58:EJ59,RDGave)+EL$32-1","v":0},null,"",{"$f":"IF(EM59=0,\"\",#N/A)","v":""},{"$f":"COUNTIF(EN$58:EN59,OK)+COUNTIF(EN$58:EN59,RDGfix)+COUNTIF(EN$58:EN59,RDGave)+EP$32-1","v":0},null,"",{"$f":"IF(EQ59=0,\"\",#N/A)","v":""},{"$f":"COUNTIF(ER$58:ER59,OK)+COUNTIF(ER$58:ER59,RDGfix)+COUNTIF(ER$58:ER59,RDGave)+ET$32-1","v":0},null,"",{"$f":"IF(EU59=0,\"\",#N/A)","v":""},{"$f":"COUNTIF(EV$58:EV59,OK)+COUNTIF(EV$58:EV59,RDGfix)+COUNTIF(EV$58:EV59,RDGave)+EX$32-1","v":0},null,"",{"$f":"IF(EY59=0,\"\",#N/A)","v":""},{"$f":"COUNTIF(EZ$58:EZ59,OK)+COUNTIF(EZ$58:EZ59,RDGfix)+COUNTIF(EZ$58:EZ59,RDGave)+FB$32-1","v":0},null,"",{"$f":"IF(FC59=0,\"\",#N/A)","v":""},{"$f":"COUNTIF(FD$58:FD59,OK)+COUNTIF(FD$58:FD59,RDGfix)+COUNTIF(FD$58:FD59,RDGave)+FF$32-1","v":0},null,"",{"$f":"IF(FG59=0,\"\",#N/A)","v":""},{"$f":"COUNTIF(FH$58:FH59,OK)+COUNTIF(FH$58:FH59,RDGfix)+COUNTIF(FH$58:FH59,RDGave)+FJ$32-1","v":0}]
[null,"3rd",null,"","",{"$f":"COUNTIF(D$58:D60,OK)+COUNTIF(D$58:D60,RDGfix)+COUNTIF(D$58:D60,RDGave)+COUNTIF(D$58:D60,RDGevent)","v":0},null,"","",{"$f":"COUNTIF(H$58:H60,OK)+COUNTIF(H$58:H60,RDGfix)+COUNTIF(H$58:H60,RDGave)+COUNTIF(H$58:H60,RDGevent)+J$32-1","v":0},null,"","",{"$f":"COUNTIF(L$58:L60,OK)+COUNTIF(L$58:L60,RDGfix)+COUNTIF(L$58:L60,RDGave)+N$32-1","v":0},null,"","",{"$f":"COUNTIF(P$58:P60,OK)+COUNTIF(P$58:P60,RDGfix)+COUNTIF(P$58:P60,RDGave)+R$32-1","v":0},null,"","",{"$f":"COUNTIF(T$58:T60,OK)+COUNTIF(T$58:T60,RDGfix)+COUNTIF(T$58:T60,RDGave)+V$32-1","v":0},null,"","",{"$f":"COUNTIF(X$58:X60,OK)+COUNTIF(X$58:X60,RDGfix)+COUNTIF(X$58:X60,RDGave)+Z$32-1","v":0},null,"","",{"$f":"COUNTIF(AB$58:AB60,OK)+COUNTIF(AB$58:AB60,RDGfix)+COUNTIF(AB$58:AB60,RDGave)+AD$32-1","v":0},null,"","",{"$f":"COUNTIF(AF$58:AF60,OK)+COUNTIF(AF$58:AF60,RDGfix)+COUNTIF(AF$58:AF60,RDGave)+AH$32-1","v":0},null,"","",{"$f":"COUNTIF(AJ$58:AJ60,OK)+COUNTIF(AJ$58:AJ60,RDGfix)+COUNTIF(AJ$58:AJ60,RDGave)+AL$32-1","v":0},null,"","",{"$f":"COUNTIF(AN$58:AN60,OK)+COUNTIF(AN$58:AN60,RDGfix)+COUNTIF(AN$58:AN60,RDGave)+AP$32-1","v":0},null,"","",{"$f":"COUNTIF(AR$58:AR60,OK)+COUNTIF(AR$58:AR60,RDGfix)+COUNTIF(AR$58:AR60,RDGave)+AT$32-1","v":0},null,"","",{"$f":"COUNTIF(AV$58:AV60,OK)+COUNTIF(AV$58:AV60,RDGfix)+COUNTIF(AV$58:AV60,RDGave)+AX$32-1","v":0},null,"","",{"$f":"COUNTIF(AZ$58:AZ60,OK)+COUNTIF(AZ$58:AZ60,RDGfix)+COUNTIF(AZ$58:AZ60,RDGave)+BB$32-1","v":0},null,"","",{"$f":"COUNTIF(BD$58:BD60,OK)+COUNTIF(BD$58:BD60,RDGfix)+COUNTIF(BD$58:BD60,RDGave)+BF$32-1","v":0},null,"","",{"$f":"COUNTIF(BH$58:BH60,OK)+COUNTIF(BH$58:BH60,RDGfix)+COUNTIF(BH$58:BH60,RDGave)+BJ$32-1","v":0},null,"","",{"$f":"COUNTIF(BL$58:BL60,OK)+COUNTIF(BL$58:BL60,RDGfix)+COUNTIF(BL$58:BL60,RDGave)+BN$32-1","v":0},null,"","",{"$f":"COUNTIF(BP$58:BP60,OK)+COUNTIF(BP$58:BP60,RDGfix)+COUNTIF(BP$58:BP60,RDGave)+BR$32-1","v":0},null,"","",{"$f":"COUNTIF(BT$58:BT60,OK)+COUNTIF(BT$58:BT60,RDGfix)+COUNTIF(BT$58:BT60,RDGave)+BV$32-1","v":0},null,"","",{"$f":"COUNTIF(BX$58:BX60,OK)+COUNTIF(BX$58:BX60,RDGfix)+COUNTIF(BX$58:BX60,RDGave)+BZ$32-1","v":0},null,"","",{"$f":"COUNTIF(CB$58:CB60,OK)+COUNTIF(CB$58:CB60,RDGfix)+COUNTIF(CB$58:CB60,RDGave)+CD$32-1","v":0},null,"","",{"$f":"COUNTIF(CF$58:CF60,OK)+COUNTIF(CF$58:CF60,RDGfix)+COUNTIF(CF$58:CF60,RDGave)+CH$32-1","v":0},null,"","",{"$f":"COUNTIF(CJ$58:CJ60,OK)+COUNTIF(CJ$58:CJ60,RDGfix)+COUNTIF(CJ$58:CJ60,RDGave)+CL$32-1","v":0},null,"","",{"$f":"COUNTIF(CN$58:CN60,OK)+COUNTIF(CN$58:CN60,RDGfix)+COUNTIF(CN$58:CN60,RDGave)+CP$32-1","v":0},null,"","",{"$f":"COUNTIF(CR$58:CR60,OK)+COUNTIF(CR$58:CR60,RDGfix)+COUNTIF(CR$58:CR60,RDGave)+CT$32-1","v":0},null,"","",{"$f":"COUNTIF(CV$58:CV60,OK)+COUNTIF(CV$58:CV60,RDGfix)+COUNTIF(CV$58:CV60,RDGave)+CX$32-1","v":0},null,"","",{"$f":"COUNTIF(CZ$58:CZ60,OK)+COUNTIF(CZ$58:CZ60,RDGfix)+COUNTIF(CZ$58:CZ60,RDGave)+DB$32-1","v":0},null,"","",{"$f":"COUNTIF(DD$58:DD60,OK)+COUNTIF(DD$58:DD60,RDGfix)+COUNTIF(DD$58:DD60,RDGave)+DF$32-1","v":0},null,"","",{"$f":"COUNTIF(DH$58:DH60,OK)+COUNTIF(DH$58:DH60,RDGfix)+COUNTIF(DH$58:DH60,RDGave)+DJ$32-1","v":0},null,"","",{"$f":"COUNTIF(DL$58:DL60,OK)+COUNTIF(DL$58:DL60,RDGfix)+COUNTIF(DL$58:DL60,RDGave)+DN$32-1","v":0},null,"","",{"$f":"COUNTIF(DP$58:DP60,OK)+COUNTIF(DP$58:DP60,RDGfix)+COUNTIF(DP$58:DP60,RDGave)+DR$32-1","v":0},null,"","",{"$f":"COUNTIF(DT$58:DT60,OK)+COUNTIF(DT$58:DT60,RDGfix)+COUNTIF(DT$58:DT60,RDGave)+DV$32-1","v":0},null,"","",{"$f":"COUNTIF(DX$58:DX60,OK)+COUNTIF(DX$58:DX60,RDGfix)+COUNTIF(DX$58:DX60,RDGave)+DZ$32-1","v":0},null,"","",{"$f":"COUNTIF(EB$58:EB60,OK)+COUNTIF(EB$58:EB60,RDGfix)+COUNTIF(EB$58:EB60,RDGave)+ED$32-1","v":0},null,"","",{"$f":"COUNTIF(EF$58:EF60,OK)+COUNTIF(EF$58:EF60,RDGfix)+COUNTIF(EF$58:EF60,RDGave)+EH$32-1","v":0},null,"","",{"$f":"COUNTIF(EJ$58:EJ60,OK)+COUNTIF(EJ$58:EJ60,RDGfix)+COUNTIF(EJ$58:EJ60,RDGave)+EL$32-1","v":0},null,"","",{"$f":"COUNTIF(EN$58:EN60,OK)+COUNTIF(EN$58:EN60,RDGfix)+COUNTIF(EN$58:EN60,RDGave)+EP$32-1","v":0},null,"","",{"$f":"COUNTIF(ER$58:ER60,OK)+COUNTIF(ER$58:ER60,RDGfix)+COUNTIF(ER$58:ER60,RDGave)+ET$32-1","v":0},null,"","",{"$f":"COUNTIF(EV$58:EV60,OK)+COUNTIF(EV$58:EV60,RDGfix)+COUNTIF(EV$58:EV60,RDGave)+EX$32-1","v":0},null,"","",{"$f":"COUNTIF(EZ$58:EZ60,OK)+COUNTIF(EZ$58:EZ60,RDGfix)+COUNTIF(EZ$58:EZ60,RDGave)+FB$32-1","v":0},null,"","",{"$f":"COUNTIF(FD$58:FD60,OK)+COUNTIF(FD$58:FD60,RDGfix)+COUNTIF(FD$58:FD60,RDGave)+FF$32-1","v":0},null,"","",{"$f":"COUNTIF(FH$58:FH60,OK)+COUNTIF(FH$58:FH60,RDGfix)+COUNTIF(FH$58:FH60,RDGave)+FJ$32-1","v":0}]
[null,"4th",null,"","",{"$f":"COUNTIF(D$58:D61,OK)+COUNTIF(D$58:D61,RDGfix)+COUNTIF(D$58:D61,RDGave)+COUNTIF(D$58:D61,RDGevent)","v":0},null,"","",{"$f":"COUNTIF(H$58:H61,OK)+COUNTIF(H$58:H61,RDGfix)+COUNTIF(H$58:H61,RDGave)+COUNTIF(H$58:H61,RDGevent)+J$32-1","v":0},null,"","",{"$f":"COUNTIF(L$58:L61,OK)+COUNTIF(L$58:L61,RDGfix)+COUNTIF(L$58:L61,RDGave)+N$32-1","v":0},null,"","",{"$f":"COUNTIF(P$58:P61,OK)+COUNTIF(P$58:P61,RDGfix)+COUNTIF(P$58:P61,RDGave)+R$32-1","v":0},null,"","",{"$f":"COUNTIF(T$58:T61,OK)+COUNTIF(T$58:T61,RDGfix)+COUNTIF(T$58:T61,RDGave)+V$32-1","v":0},null,"","",{"$f":"COUNTIF(X$58:X61,OK)+COUNTIF(X$58:X61,RDGfix)+COUNTIF(X$58:X61,RDGave)+Z$32-1","v":0},null,"","",{"$f":"COUNTIF(AB$58:AB61,OK)+COUNTIF(AB$58:AB61,RDGfix)+COUNTIF(AB$58:AB61,RDGave)+AD$32-1","v":0},null,"","",{"$f":"COUNTIF(AF$58:AF61,OK)+COUNTIF(AF$58:AF61,RDGfix)+COUNTIF(AF$58:AF61,RDGave)+AH$32-1","v":0},null,"","",{"$f":"COUNTIF(AJ$58:AJ61,OK)+COUNTIF(AJ$58:AJ61,RDGfix)+COUNTIF(AJ$58:AJ61,RDGave)+AL$32-1","v":0},null,"","",{"$f":"COUNTIF(AN$58:AN61,OK)+COUNTIF(AN$58:AN61,RDGfix)+COUNTIF(AN$58:AN61,RDGave)+AP$32-1","v":0},null,"","",{"$f":"COUNTIF(AR$58:AR61,OK)+COUNTIF(AR$58:AR61,RDGfix)+COUNTIF(AR$58:AR61,RDGave)+AT$32-1","v":0},null,"","",{"$f":"COUNTIF(AV$58:AV61,OK)+COUNTIF(AV$58:AV61,RDGfix)+COUNTIF(AV$58:AV61,RDGave)+AX$32-1","v":0},null,"","",{"$f":"COUNTIF(AZ$58:AZ61,OK)+COUNTIF(AZ$58:AZ61,RDGfix)+COUNTIF(AZ$58:AZ61,RDGave)+BB$32-1","v":0},null,"","",{"$f":"COUNTIF(BD$58:BD61,OK)+COUNTIF(BD$58:BD61,RDGfix)+COUNTIF(BD$58:BD61,RDGave)+BF$32-1","v":0},null,"","",{"$f":"COUNTIF(BH$58:BH61,OK)+COUNTIF(BH$58:BH61,RDGfix)+COUNTIF(BH$58:BH61,RDGave)+BJ$32-1","v":0},null,"","",{"$f":"COUNTIF(BL$58:BL61,OK)+COUNTIF(BL$58:BL61,RDGfix)+COUNTIF(BL$58:BL61,RDGave)+BN$32-1","v":0},null,"","",{"$f":"COUNTIF(BP$58:BP61,OK)+COUNTIF(BP$58:BP61,RDGfix)+COUNTIF(BP$58:BP61,RDGave)+BR$32-1","v":0},null,"","",{"$f":"COUNTIF(BT$58:BT61,OK)+COUNTIF(BT$58:BT61,RDGfix)+COUNTIF(BT$58:BT61,RDGave)+BV$32-1","v":0},null,"","",{"$f":"COUNTIF(BX$58:BX61,OK)+COUNTIF(BX$58:BX61,RDGfix)+COUNTIF(BX$58:BX61,RDGave)+BZ$32-1","v":0},null,"","",{"$f":"COUNTIF(CB$58:CB61,OK)+COUNTIF(CB$58:CB61,RDGfix)+COUNTIF(CB$58:CB61,RDGave)+CD$32-1","v":0},null,"","",{"$f":"COUNTIF(CF$58:CF61,OK)+COUNTIF(CF$58:CF61,RDGfix)+COUNTIF(CF$58:CF61,RDGave)+CH$32-1","v":0},null,"","",{"$f":"COUNTIF(CJ$58:CJ61,OK)+COUNTIF(CJ$58:CJ61,RDGfix)+COUNTIF(CJ$58:CJ61,RDGave)+CL$32-1","v":0},null,"","",{"$f":"COUNTIF(CN$58:CN61,OK)+COUNTIF(CN$58:CN61,RDGfix)+COUNTIF(CN$58:CN61,RDGave)+CP$32-1","v":0},null,"","",{"$f":"COUNTIF(CR$58:CR61,OK)+COUNTIF(CR$58:CR61,RDGfix)+COUNTIF(CR$58:CR61,RDGave)+CT$32-1","v":0},null,"","",{"$f":"COUNTIF(CV$58:CV61,OK)+COUNTIF(CV$58:CV61,RDGfix)+COUNTIF(CV$58:CV61,RDGave)+CX$32-1","v":0},null,"","",{"$f":"COUNTIF(CZ$58:CZ61,OK)+COUNTIF(CZ$58:CZ61,RDGfix)+COUNTIF(CZ$58:CZ61,RDGave)+DB$32-1","v":0},null,"","",{"$f":"COUNTIF(DD$58:DD61,OK)+COUNTIF(DD$58:DD61,RDGfix)+COUNTIF(DD$58:DD61,RDGave)+DF$32-1","v":0},null,"","",{"$f":"COUNTIF(DH$58:DH61,OK)+COUNTIF(DH$58:DH61,RDGfix)+COUNTIF(DH$58:DH61,RDGave)+DJ$32-1","v":0},null,"","",{"$f":"COUNTIF(DL$58:DL61,OK)+COUNTIF(DL$58:DL61,RDGfix)+COUNTIF(DL$58:DL61,RDGave)+DN$32-1","v":0},null,"","",{"$f":"COUNTIF(DP$58:DP61,OK)+COUNTIF(DP$58:DP61,RDGfix)+COUNTIF(DP$58:DP61,RDGave)+DR$32-1","v":0},null,"","",{"$f":"COUNTIF(DT$58:DT61,OK)+COUNTIF(DT$58:DT61,RDGfix)+COUNTIF(DT$58:DT61,RDGave)+DV$32-1","v":0},null,"","",{"$f":"COUNTIF(DX$58:DX61,OK)+COUNTIF(DX$58:DX61,RDGfix)+COUNTIF(DX$58:DX61,RDGave)+DZ$32-1","v":0},null,"","",{"$f":"COUNTIF(EB$58:EB61,OK)+COUNTIF(EB$58:EB61,RDGfix)+COUNTIF(EB$58:EB61,RDGave)+ED$32-1","v":0},null,"","",{"$f":"COUNTIF(EF$58:EF61,OK)+COUNTIF(EF$58:EF61,RDGfix)+COUNTIF(EF$58:EF61,RDGave)+EH$32-1","v":0},null,"","",{"$f":"COUNTIF(EJ$58:EJ61,OK)+COUNTIF(EJ$58:EJ61,RDGfix)+COUNTIF(EJ$58:EJ61,RDGave)+EL$32-1","v":0},null,"","",{"$f":"COUNTIF(EN$58:EN61,OK)+COUNTIF(EN$58:EN61,RDGfix)+COUNTIF(EN$58:EN61,RDGave)+EP$32-1","v":0},null,"","",{"$f":"COUNTIF(ER$58:ER61,OK)+COUNTIF(ER$58:ER61,RDGfix)+COUNTIF(ER$58:ER61,RDGave)+ET$32-1","v":0},null,"","",{"$f":"COUNTIF(EV$58:EV61,OK)+COUNTIF(EV$58:EV61,RDGfix)+COUNTIF(EV$58:EV61,RDGave)+EX$32-1","v":0},null,"","",{"$f":"COUNTIF(EZ$58:EZ61,OK)+COUNTIF(EZ$58:EZ61,RDGfix)+COUNTIF(EZ$58:EZ61,RDGave)+FB$32-1","v":0},null,"","",{"$f":"COUNTIF(FD$58:FD61,OK)+COUNTIF(FD$58:FD61,RDGfix)+COUNTIF(FD$58:FD61,RDGave)+FF$32-1","v":0},null,"","",{"$f":"COUNTIF(FH$58:FH61,OK)+COUNTIF(FH$58:FH61,RDGfix)+COUNTIF(FH$58:FH61,RDGave)+FJ$32-1","v":0}]
[null,"5th",null,"","",{"$f":"COUNTIF(D$58:D62,OK)+COUNTIF(D$58:D62,RDGfix)+COUNTIF(D$58:D62,RDGave)+COUNTIF(D$58:D62,RDGevent)","v":0},null,{"$f":"IF(G62=\"\",\"\",OK)","v":""},{"$f":"IF(G62=\"\",\"\",IF(AND(H$57=\"L\",H62=\"DNC\"),$I$2,\nIF(H62=OK,J62,IF(HLOOKUP(H62,Comments3,2,FALSE)=D,J$57,IF(HLOOKUP(H62,Comments3,2,FALSE)=A,VLOOKUP(G62,Averages,G$4,FALSE),IF(HLOOKUP(H62,Comments3,2,FALSE)=E,VLOOKUP(G62,EventAverage,2,FALSE), HLOOKUP(H62,Comments4,2,FALSE)))))))","v":""},{"$f":"COUNTIF(H$58:H62,OK)+COUNTIF(H$58:H62,RDGfix)+COUNTIF(H$58:H62,RDGave)+COUNTIF(H$58:H62,RDGevent)+J$32-1","v":0},null,{"$f":"IF(K62=\"\",\"\",OK)","v":""},{"$f":"IF(K62=\"\",\"\",IF(AND(L$57=\"L\",L62=\"DNC\"),$I$2,\nIF(L62=OK,N62,IF(HLOOKUP(L62,Comments3,2,FALSE)=D,N$57,IF(HLOOKUP(L62,Comments3,2,FALSE)=A,VLOOKUP(K62,Averages,K$4,FALSE),IF(HLOOKUP(L62,Comments3,2,FALSE)=E,VLOOKUP(K62,EventAverage,2,FALSE), HLOOKUP(L62,Comments4,2,FALSE)))))))","v":""},{"$f":"COUNTIF(L$58:L62,OK)+COUNTIF(L$58:L62,RDGfix)+COUNTIF(L$58:L62,RDGave)+COUNTIF(L$58:L62,RDGevent)+N$32-1","v":0},null,{"$f":"IF(O62=\"\",\"\",OK)","v":""},{"$f":"IF(O62=\"\",\"\",IF(AND(P$57=\"L\",P62=\"DNC\"),$I$2,\nIF(P62=OK,R62,IF(HLOOKUP(P62,Comments3,2,FALSE)=D,R$57,IF(HLOOKUP(P62,Comments3,2,FALSE)=A,VLOOKUP(O62,Averages,O$4,FALSE),IF(HLOOKUP(P62,Comments3,2,FALSE)=E,VLOOKUP(O62,EventAverage,2,FALSE), HLOOKUP(P62,Comments4,2,FALSE)))))))","v":""},{"$f":"COUNTIF(P$58:P62,OK)+COUNTIF(P$58:P62,RDGfix)+COUNTIF(P$58:P62,RDGave)+COUNTIF(P$58:P62,RDGevent)+R$32-1","v":0},null,{"$f":"IF(S62=\"\",\"\",OK)","v":""},{"$f":"IF(S62=\"\",\"\",IF(AND(T$57=\"L\",T62=\"DNC\"),$I$2,\nIF(T62=OK,V62,IF(HLOOKUP(T62,Comments3,2,FALSE)=D,V$57,IF(HLOOKUP(T62,Comments3,2,FALSE)=A,VLOOKUP(S62,Averages,S$4,FALSE),IF(HLOOKUP(T62,Comments3,2,FALSE)=E,VLOOKUP(S62,EventAverage,2,FALSE), HLOOKUP(T62,Comments4,2,FALSE)))))))","v":""},{"$f":"COUNTIF(T$58:T62,OK)+COUNTIF(T$58:T62,RDGfix)+COUNTIF(T$58:T62,RDGave)+COUNTIF(T$58:T62,RDGevent)+V$32-1","v":0},null,{"$f":"IF(W62=\"\",\"\",OK)","v":""},{"$f":"IF(W62=\"\",\"\",IF(AND(X$57=\"L\",X62=\"DNC\"),$I$2,\nIF(X62=OK,Z62,IF(HLOOKUP(X62,Comments3,2,FALSE)=D,Z$57,IF(HLOOKUP(X62,Comments3,2,FALSE)=A,VLOOKUP(W62,Averages,W$4,FALSE),IF(HLOOKUP(X62,Comments3,2,FALSE)=E,VLOOKUP(W62,EventAverage,2,FALSE), HLOOKUP(X62,Comments4,2,FALSE)))))))","v":""},{"$f":"COUNTIF(X$58:X62,OK)+COUNTIF(X$58:X62,RDGfix)+COUNTIF(X$58:X62,RDGave)+COUNTIF(X$58:X62,RDGevent)+Z$32-1","v":0},null,{"$f":"IF(AA62=\"\",\"\",OK)","v":""},{"$f":"IF(AA62=\"\",\"\",IF(AND(AB$57=\"L\",AB62=\"DNC\"),$I$2,\nIF(AB62=OK,AD62,IF(HLOOKUP(AB62,Comments3,2,FALSE)=D,AD$57,IF(HLOOKUP(AB62,Comments3,2,FALSE)=A,VLOOKUP(AA62,Averages,AA$4,FALSE),IF(HLOOKUP(AB62,Comments3,2,FALSE)=E,VLOOKUP(AA62,EventAverage,2,FALSE), HLOOKUP(AB62,Comments4,2,FALSE)))))))","v":""},{"$f":"COUNTIF(AB$58:AB62,OK)+COUNTIF(AB$58:AB62,RDGfix)+COUNTIF(AB$58:AB62,RDGave)+COUNTIF(AB$58:AB62,RDGevent)+AD$32-1","v":0},null,{"$f":"IF(AE62=\"\",\"\",OK)","v":""},{"$f":"IF(AE62=\"\",\"\",IF(AND(AF$57=\"L\",AF62=\"DNC\"),$I$2,\nIF(AF62=OK,AH62,IF(HLOOKUP(AF62,Comments3,2,FALSE)=D,AH$57,IF(HLOOKUP(AF62,Comments3,2,FALSE)=A,VLOOKUP(AE62,Averages,AE$4,FALSE),IF(HLOOKUP(AF62,Comments3,2,FALSE)=E,VLOOKUP(AE62,EventAverage,2,FALSE), HLOOKUP(AF62,Comments4,2,FALSE)))))))","v":""},{"$f":"COUNTIF(AF$58:AF62,OK)+COUNTIF(AF$58:AF62,RDGfix)+COUNTIF(AF$58:AF62,RDGave)+COUNTIF(AF$58:AF62,RDGevent)+AH$32-1","v":0},null,{"$f":"IF(AI62=\"\",\"\",OK)","v":""},{"$f":"IF(AI62=\"\",\"\",IF(AND(AJ$57=\"L\",AJ62=\"DNC\"),$I$2,\nIF(AJ62=OK,AL62,IF(HLOOKUP(AJ62,Comments3,2,FALSE)=D,AL$57,IF(HLOOKUP(AJ62,Comments3,2,FALSE)=A,VLOOKUP(AI62,Averages,AI$4,FALSE),IF(HLOOKUP(AJ62,Comments3,2,FALSE)=E,VLOOKUP(AI62,EventAverage,2,FALSE), HLOOKUP(AJ62,Comments4,2,FALSE)))))))","v":""},{"$f":"COUNTIF(AJ$58:AJ62,OK)+COUNTIF(AJ$58:AJ62,RDGfix)+COUNTIF(AJ$58:AJ62,RDGave)+COUNTIF(AJ$58:AJ62,RDGevent)+AL$32-1","v":0},null,{"$f":"IF(AM62=\"\",\"\",OK)","v":""},{"$f":"IF(AM62=\"\",\"\",IF(AND(AN$57=\"L\",AN62=\"DNC\"),$I$2,\nIF(AN62=OK,AP62,IF(HLOOKUP(AN62,Comments3,2,FALSE)=D,AP$32,IF(HLOOKUP(AN62,Comments3,2,FALSE)=A,VLOOKUP(AM62,Averages,AM$4,FALSE),IF(HLOOKUP(AN62,Comments3,2,FALSE)=E,VLOOKUP(AM62,EventAverage,2,FALSE), HLOOKUP(AN62,Comments4,2,FALSE)))))))","v":""},{"$f":"COUNTIF(AN$58:AN62,OK)+COUNTIF(AN$58:AN62,RDGfix)+COUNTIF(AN$58:AN62,RDGave)+COUNTIF(AN$58:AN62,RDGevent)+AP$32-1","v":0},null,{"$f":"IF(AQ62=\"\",\"\",OK)","v":""},{"$f":"IF(AQ62=\"\",\"\",IF(AND(AR$57=\"L\",AR62=\"DNC\"),$I$2,\nIF(AR62=OK,AT62,IF(HLOOKUP(AR62,Comments3,2,FALSE)=D,AT$57,IF(HLOOKUP(AR62,Comments3,2,FALSE)=A,VLOOKUP(AQ62,Averages,AQ$4,FALSE),IF(HLOOKUP(AR62,Comments3,2,FALSE)=E,VLOOKUP(AQ62,EventAverage,2,FALSE), HLOOKUP(AR62,Comments4,2,FALSE)))))))","v":""},{"$f":"COUNTIF(AR$58:AR62,OK)+COUNTIF(AR$58:AR62,RDGfix)+COUNTIF(AR$58:AR62,RDGave)+COUNTIF(AR$58:AR62,RDGevent)+AT$32-1","v":0},null,{"$f":"IF(AU62=\"\",\"\",OK)","v":""},{"$f":"IF(AU62=\"\",\"\",IF(AND(AV$57=\"L\",AV62=\"DNC\"),$I$2,\nIF(AV62=OK,AX62,IF(HLOOKUP(AV62,Comments3,2,FALSE)=D,AX$57,IF(HLOOKUP(AV62,Comments3,2,FALSE)=A,VLOOKUP(AU62,Averages,AU$4,FALSE),IF(HLOOKUP(AV62,Comments3,2,FALSE)=E,VLOOKUP(AU62,EventAverage,2,FALSE), HLOOKUP(AV62,Comments4,2,FALSE)))))))","v":""},{"$f":"COUNTIF(AV$58:AV62,OK)+COUNTIF(AV$58:AV62,RDGfix)+COUNTIF(AV$58:AV62,RDGave)+COUNTIF(AV$58:AV62,RDGevent)+AX$32-1","v":0},null,{"$f":"IF(AY62=\"\",\"\",OK)","v":""},{"$f":"IF(AY62=\"\",\"\",IF(AND(AZ$57=\"L\",AZ62=\"DNC\"),$I$2,\nIF(AZ62=OK,BB62,IF(HLOOKUP(AZ62,Comments3,2,FALSE)=D,BB$57,IF(HLOOKUP(AZ62,Comments3,2,FALSE)=A,VLOOKUP(AY62,Averages,AY$4,FALSE),IF(HLOOKUP(AZ62,Comments3,2,FALSE)=E,VLOOKUP(AY62,EventAverage,2,FALSE), HLOOKUP(AZ62,Comments4,2,FALSE)))))))","v":""},{"$f":"COUNTIF(AZ$58:AZ62,OK)+COUNTIF(AZ$58:AZ62,RDGfix)+COUNTIF(AZ$58:AZ62,RDGave)+COUNTIF(AZ$58:AZ62,RDGevent)+BB$32-1","v":0},null,{"$f":"IF(BC62=\"\",\"\",OK)","v":""},{"$f":"IF(BC62=\"\",\"\",IF(AND(BD$57=\"L\",BD62=\"DNC\"),$I$2,\nIF(BD62=OK,BF62,IF(HLOOKUP(BD62,Comments3,2,FALSE)=D,BF$57,IF(HLOOKUP(BD62,Comments3,2,FALSE)=A,VLOOKUP(BC62,Averages,BC$4,FALSE),IF(HLOOKUP(BD62,Comments3,2,FALSE)=E,VLOOKUP(BC62,EventAverage,2,FALSE), HLOOKUP(BD62,Comments4,2,FALSE)))))))","v":""},{"$f":"COUNTIF(BD$58:BD62,OK)+COUNTIF(BD$58:BD62,RDGfix)+COUNTIF(BD$58:BD62,RDGave)+COUNTIF(BD$58:BD62,RDGevent)+BF$32-1","v":0},null,{"$f":"IF(BG62=\"\",\"\",OK)","v":""},{"$f":"IF(BG62=\"\",\"\",IF(AND(BH$57=\"L\",BH62=\"DNC\"),$I$2,\nIF(BH62=OK,BJ62,IF(HLOOKUP(BH62,Comments3,2,FALSE)=D,BJ$57,IF(HLOOKUP(BH62,Comments3,2,FALSE)=A,VLOOKUP(BG62,Averages,BG$4,FALSE),IF(HLOOKUP(BH62,Comments3,2,FALSE)=E,VLOOKUP(BG62,EventAverage,2,FALSE), HLOOKUP(BH62,Comments4,2,FALSE)))))))","v":""},{"$f":"COUNTIF(BH$58:BH62,OK)+COUNTIF(BH$58:BH62,RDGfix)+COUNTIF(BH$58:BH62,RDGave)+COUNTIF(BH$58:BH62,RDGevent)+BJ$32-1","v":0},null,{"$f":"IF(BK62=\"\",\"\",OK)","v":""},{"$f":"IF(BK62=\"\",\"\",IF(AND(BL$57=\"L\",BL62=\"DNC\"),$I$2,\nIF(BL62=OK,BN62,IF(HLOOKUP(BL62,Comments3,2,FALSE)=D,BN$57,IF(HLOOKUP(BL62,Comments3,2,FALSE)=A,VLOOKUP(BK62,Averages,BK$4,FALSE),IF(HLOOKUP(BL62,Comments3,2,FALSE)=E,VLOOKUP(BK62,EventAverage,2,FALSE), HLOOKUP(BL62,Comments4,2,FALSE)))))))","v":""},{"$f":"COUNTIF(BL$58:BL62,OK)+COUNTIF(BL$58:BL62,RDGfix)+COUNTIF(BL$58:BL62,RDGave)+COUNTIF(BL$58:BL62,RDGevent)+BN$32-1","v":0},null,{"$f":"IF(BO62=\"\",\"\",OK)","v":""},{"$f":"IF(BO62=\"\",\"\",IF(AND(BP$57=\"L\",BP62=\"DNC\"),$I$2,\nIF(BP62=OK,BR62,IF(HLOOKUP(BP62,Comments3,2,FALSE)=D,BR$57,IF(HLOOKUP(BP62,Comments3,2,FALSE)=A,VLOOKUP(BO62,Averages,BO$4,FALSE),IF(HLOOKUP(BP62,Comments3,2,FALSE)=E,VLOOKUP(BO62,EventAverage,2,FALSE), HLOOKUP(BP62,Comments4,2,FALSE)))))))","v":""},{"$f":"COUNTIF(BP$58:BP62,OK)+COUNTIF(BP$58:BP62,RDGfix)+COUNTIF(BP$58:BP62,RDGave)+COUNTIF(BP$58:BP62,RDGevent)+BR$32-1","v":0},null,{"$f":"IF(BS62=\"\",\"\",OK)","v":""},{"$f":"IF(BS62=\"\",\"\",IF(AND(BT$57=\"L\",BT62=\"DNC\"),$I$2,\nIF(BT62=OK,BV62,IF(HLOOKUP(BT62,Comments3,2,FALSE)=D,BV$57,IF(HLOOKUP(BT62,Comments3,2,FALSE)=A,VLOOKUP(BS62,Averages,BS$4,FALSE),IF(HLOOKUP(BT62,Comments3,2,FALSE)=E,VLOOKUP(BS62,EventAverage,2,FALSE), HLOOKUP(BT62,Comments4,2,FALSE)))))))","v":""},{"$f":"COUNTIF(BT$58:BT62,OK)+COUNTIF(BT$58:BT62,RDGfix)+COUNTIF(BT$58:BT62,RDGave)+COUNTIF(BT$58:BT62,RDGevent)+BV$32-1","v":0},null,{"$f":"IF(BW62=\"\",\"\",OK)","v":""},{"$f":"IF(BW62=\"\",\"\",IF(AND(BX$57=\"L\",BX62=\"DNC\"),$I$2,\nIF(BX62=OK,BZ62,IF(HLOOKUP(BX62,Comments3,2,FALSE)=D,BZ$57,IF(HLOOKUP(BX62,Comments3,2,FALSE)=A,VLOOKUP(BW62,Averages,BW$4,FALSE),IF(HLOOKUP(BX62,Comments3,2,FALSE)=E,VLOOKUP(BW62,EventAverage,2,FALSE), HLOOKUP(BX62,Comments4,2,FALSE)))))))","v":""},{"$f":"COUNTIF(BX$58:BX62,OK)+COUNTIF(BX$58:BX62,RDGfix)+COUNTIF(BX$58:BX62,RDGave)+COUNTIF(BX$58:BX62,RDGevent)+BZ$32-1","v":0},null,{"$f":"IF(CA62=\"\",\"\",OK)","v":""},{"$f":"IF(CA62=\"\",\"\",IF(AND(CB$57=\"L\",CB62=\"DNC\"),$I$2,\nIF(CB62=OK,CD62,IF(HLOOKUP(CB62,Comments3,2,FALSE)=D,CD$57,IF(HLOOKUP(CB62,Comments3,2,FALSE)=A,VLOOKUP(CA62,Averages,CA$4,FALSE),IF(HLOOKUP(CB62,Comments3,2,FALSE)=E,VLOOKUP(CA62,EventAverage,2,FALSE), HLOOKUP(CB62,Comments4,2,FALSE)))))))","v":""},{"$f":"COUNTIF(CB$58:CB62,OK)+COUNTIF(CB$58:CB62,RDGfix)+COUNTIF(CB$58:CB62,RDGave)+COUNTIF(CB$58:CB62,RDGevent)+CD$32-1","v":0},null,{"$f":"IF(CE62=\"\",\"\",OK)","v":""},{"$f":"IF(CE62=\"\",\"\",IF(AND(CF$57=\"L\",CF62=\"DNC\"),$I$2,\nIF(CF62=OK,CH62,IF(HLOOKUP(CF62,Comments3,2,FALSE)=D,CH$57,IF(HLOOKUP(CF62,Comments3,2,FALSE)=A,VLOOKUP(CE62,Averages,CE$4,FALSE),IF(HLOOKUP(CF62,Comments3,2,FALSE)=E,VLOOKUP(CE62,EventAverage,2,FALSE), HLOOKUP(CF62,Comments4,2,FALSE)))))))","v":""},{"$f":"COUNTIF(CF$58:CF62,OK)+COUNTIF(CF$58:CF62,RDGfix)+COUNTIF(CF$58:CF62,RDGave)+COUNTIF(CF$58:CF62,RDGevent)+CH$32-1","v":0},null,{"$f":"IF(CI62=\"\",\"\",OK)","v":""},{"$f":"IF(CI62=\"\",\"\",IF(AND(CJ$57=\"L\",CJ62=\"DNC\"),$I$2,\nIF(CJ62=OK,CL62,IF(HLOOKUP(CJ62,Comments3,2,FALSE)=D,CL$57,IF(HLOOKUP(CJ62,Comments3,2,FALSE)=A,VLOOKUP(CI62,Averages,CI$4,FALSE),IF(HLOOKUP(CJ62,Comments3,2,FALSE)=E,VLOOKUP(CI62,EventAverage,2,FALSE), HLOOKUP(CJ62,Comments4,2,FALSE)))))))","v":""},{"$f":"COUNTIF(CJ$58:CJ62,OK)+COUNTIF(CJ$58:CJ62,RDGfix)+COUNTIF(CJ$58:CJ62,RDGave)+COUNTIF(CJ$58:CJ62,RDGevent)+CL$32-1","v":0},null,{"$f":"IF(CM62=\"\",\"\",OK)","v":""},{"$f":"IF(CM62=\"\",\"\",IF(AND(CN$57=\"L\",CN62=\"DNC\"),$I$2,\nIF(CN62=OK,CP62,IF(HLOOKUP(CN62,Comments3,2,FALSE)=D,CP$57,IF(HLOOKUP(CN62,Comments3,2,FALSE)=A,VLOOKUP(CM62,Averages,CM$4,FALSE),IF(HLOOKUP(CN62,Comments3,2,FALSE)=E,VLOOKUP(CM62,EventAverage,2,FALSE), HLOOKUP(CN62,Comments4,2,FALSE)))))))","v":""},{"$f":"COUNTIF(CN$58:CN62,OK)+COUNTIF(CN$58:CN62,RDGfix)+COUNTIF(CN$58:CN62,RDGave)+COUNTIF(CN$58:CN62,RDGevent)+CP$32-1","v":0},null,{"$f":"IF(CQ62=\"\",\"\",OK)","v":""},{"$f":"IF(CQ62=\"\",\"\",IF(AND(CR$57=\"L\",CR62=\"DNC\"),$I$2,\nIF(CR62=OK,CT62,IF(HLOOKUP(CR62,Comments3,2,FALSE)=D,CT$57,IF(HLOOKUP(CR62,Comments3,2,FALSE)=A,VLOOKUP(CQ62,Averages,CQ$4,FALSE),IF(HLOOKUP(CR62,Comments3,2,FALSE)=E,VLOOKUP(CQ62,EventAverage,2,FALSE), HLOOKUP(CR62,Comments4,2,FALSE)))))))","v":""},{"$f":"COUNTIF(CR$58:CR62,OK)+COUNTIF(CR$58:CR62,RDGfix)+COUNTIF(CR$58:CR62,RDGave)+COUNTIF(CR$58:CR62,RDGevent)+CT$32-1","v":0},null,{"$f":"IF(CU62=\"\",\"\",OK)","v":""},{"$f":"IF(CU62=\"\",\"\",IF(AND(CV$57=\"L\",CV62=\"DNC\"),$I$2,\nIF(CV62=OK,CX62,IF(HLOOKUP(CV62,Comments3,2,FALSE)=D,CX$57,IF(HLOOKUP(CV62,Comments3,2,FALSE)=A,VLOOKUP(CU62,Averages,CU$4,FALSE),IF(HLOOKUP(CV62,Comments3,2,FALSE)=E,VLOOKUP(CU62,EventAverage,2,FALSE), HLOOKUP(CV62,Comments4,2,FALSE)))))))","v":""},{"$f":"COUNTIF(CV$58:CV62,OK)+COUNTIF(CV$58:CV62,RDGfix)+COUNTIF(CV$58:CV62,RDGave)+COUNTIF(CV$58:CV62,RDGevent)+CX$32-1","v":0},null,{"$f":"IF(CY62=\"\",\"\",OK)","v":""},{"$f":"IF(CY62=\"\",\"\",IF(AND(CZ$57=\"L\",CZ62=\"DNC\"),$I$2,\nIF(CZ62=OK,DB62,IF(HLOOKUP(CZ62,Comments3,2,FALSE)=D,DB$57,IF(HLOOKUP(CZ62,Comments3,2,FALSE)=A,VLOOKUP(CY62,Averages,CY$4,FALSE),IF(HLOOKUP(CZ62,Comments3,2,FALSE)=E,VLOOKUP(CY62,EventAverage,2,FALSE), HLOOKUP(CZ62,Comments4,2,FALSE)))))))","v":""},{"$f":"COUNTIF(CZ$58:CZ62,OK)+COUNTIF(CZ$58:CZ62,RDGfix)+COUNTIF(CZ$58:CZ62,RDGave)+COUNTIF(CZ$58:CZ62,RDGevent)+DB$32-1","v":0},null,{"$f":"IF(DC62=\"\",\"\",OK)","v":""},{"$f":"IF(DC62=\"\",\"\",IF(AND(DD$57=\"L\",DD62=\"DNC\"),$I$2,\nIF(DD62=OK,DF62,IF(HLOOKUP(DD62,Comments3,2,FALSE)=D,DF$57,IF(HLOOKUP(DD62,Comments3,2,FALSE)=A,VLOOKUP(DC62,Averages,DC$4,FALSE),IF(HLOOKUP(DD62,Comments3,2,FALSE)=E,VLOOKUP(DC62,EventAverage,2,FALSE), HLOOKUP(DD62,Comments4,2,FALSE)))))))","v":""},{"$f":"COUNTIF(DD$58:DD62,OK)+COUNTIF(DD$58:DD62,RDGfix)+COUNTIF(DD$58:DD62,RDGave)+COUNTIF(DD$58:DD62,RDGevent)+DF$32-1","v":0},null,{"$f":"IF(DG62=\"\",\"\",OK)","v":""},{"$f":"IF(DG62=\"\",\"\",IF(AND(DH$57=\"L\",DH62=\"DNC\"),$I$2,\nIF(DH62=OK,DJ62,IF(HLOOKUP(DH62,Comments3,2,FALSE)=D,DJ$57,IF(HLOOKUP(DH62,Comments3,2,FALSE)=A,VLOOKUP(DG62,Averages,DG$4,FALSE),IF(HLOOKUP(DH62,Comments3,2,FALSE)=E,VLOOKUP(DG62,EventAverage,2,FALSE), HLOOKUP(DH62,Comments4,2,FALSE)))))))","v":""},{"$f":"COUNTIF(DH$58:DH62,OK)+COUNTIF(DH$58:DH62,RDGfix)+COUNTIF(DH$58:DH62,RDGave)+COUNTIF(DH$58:DH62,RDGevent)+DJ$32-1","v":0},null,{"$f":"IF(DK62=\"\",\"\",OK)","v":""},{"$f":"IF(DK62=\"\",\"\",IF(AND(DL$57=\"L\",DL62=\"DNC\"),$I$2,\nIF(DL62=OK,DN62,IF(HLOOKUP(DL62,Comments3,2,FALSE)=D,DN$57,IF(HLOOKUP(DL62,Comments3,2,FALSE)=A,VLOOKUP(DK62,Averages,DK$4,FALSE),IF(HLOOKUP(DL62,Comments3,2,FALSE)=E,VLOOKUP(DK62,EventAverage,2,FALSE), HLOOKUP(DL62,Comments4,2,FALSE)))))))","v":""},{"$f":"COUNTIF(DL$58:DL62,OK)+COUNTIF(DL$58:DL62,RDGfix)+COUNTIF(DL$58:DL62,RDGave)+COUNTIF(DL$58:DL62,RDGevent)+DN$32-1","v":0},null,{"$f":"IF(DO62=\"\",\"\",OK)","v":""},{"$f":"IF(DO62=\"\",\"\",IF(AND(DP$57=\"L\",DP62=\"DNC\"),$I$2,\nIF(DP62=OK,DR62,IF(HLOOKUP(DP62,Comments3,2,FALSE)=D,DR$57,IF(HLOOKUP(DP62,Comments3,2,FALSE)=A,VLOOKUP(DO62,Averages,DO$4,FALSE),IF(HLOOKUP(DP62,Comments3,2,FALSE)=E,VLOOKUP(DO62,EventAverage,2,FALSE), HLOOKUP(DP62,Comments4,2,FALSE)))))))","v":""},{"$f":"COUNTIF(DP$58:DP62,OK)+COUNTIF(DP$58:DP62,RDGfix)+COUNTIF(DP$58:DP62,RDGave)+COUNTIF(DP$58:DP62,RDGevent)+DR$32-1","v":0},null,{"$f":"IF(DS62=\"\",\"\",OK)","v":""},{"$f":"IF(DS62=\"\",\"\",IF(AND(DT$57=\"L\",DT62=\"DNC\"),$I$2,\nIF(DT62=OK,DV62,IF(HLOOKUP(DT62,Comments3,2,FALSE)=D,DV$57,IF(HLOOKUP(DT62,Comments3,2,FALSE)=A,VLOOKUP(DS62,Averages,DS$4,FALSE),IF(HLOOKUP(DT62,Comments3,2,FALSE)=E,VLOOKUP(DS62,EventAverage,2,FALSE), HLOOKUP(DT62,Comments4,2,FALSE)))))))","v":""},{"$f":"COUNTIF(DT$58:DT62,OK)+COUNTIF(DT$58:DT62,RDGfix)+COUNTIF(DT$58:DT62,RDGave)+COUNTIF(DT$58:DT62,RDGevent)+DV$32-1","v":0},null,{"$f":"IF(DW62=\"\",\"\",OK)","v":""},{"$f":"IF(DW62=\"\",\"\",IF(AND(DX$57=\"L\",DX62=\"DNC\"),$I$2,\nIF(DX62=OK,DZ62,IF(HLOOKUP(DX62,Comments3,2,FALSE)=D,DZ$57,IF(HLOOKUP(DX62,Comments3,2,FALSE)=A,VLOOKUP(DW62,Averages,DW$4,FALSE),IF(HLOOKUP(DX62,Comments3,2,FALSE)=E,VLOOKUP(DW62,EventAverage,2,FALSE), HLOOKUP(DX62,Comments4,2,FALSE)))))))","v":""},{"$f":"COUNTIF(DX$58:DX62,OK)+COUNTIF(DX$58:DX62,RDGfix)+COUNTIF(DX$58:DX62,RDGave)+COUNTIF(DX$58:DX62,RDGevent)+DZ$32-1","v":0},null,{"$f":"IF(EA62=\"\",\"\",OK)","v":""},{"$f":"IF(EA62=\"\",\"\",IF(AND(EB$57=\"L\",EB62=\"DNC\"),$I$2,\nIF(EB62=OK,ED62,IF(HLOOKUP(EB62,Comments3,2,FALSE)=D,ED$57,IF(HLOOKUP(EB62,Comments3,2,FALSE)=A,VLOOKUP(EA62,Averages,EA$4,FALSE),IF(HLOOKUP(EB62,Comments3,2,FALSE)=E,VLOOKUP(EA62,EventAverage,2,FALSE), HLOOKUP(EB62,Comments4,2,FALSE)))))))","v":""},{"$f":"COUNTIF(EB$58:EB62,OK)+COUNTIF(EB$58:EB62,RDGfix)+COUNTIF(EB$58:EB62,RDGave)+COUNTIF(EB$58:EB62,RDGevent)+ED$32-1","v":0},null,{"$f":"IF(EE62=\"\",\"\",OK)","v":""},{"$f":"IF(EE62=\"\",\"\",IF(AND(EF$57=\"L\",EF62=\"DNC\"),$I$2,\nIF(EF62=OK,EH62,IF(HLOOKUP(EF62,Comments3,2,FALSE)=D,EH$57,IF(HLOOKUP(EF62,Comments3,2,FALSE)=A,VLOOKUP(EE62,Averages,EE$4,FALSE),IF(HLOOKUP(EF62,Comments3,2,FALSE)=E,VLOOKUP(EE62,EventAverage,2,FALSE), HLOOKUP(EF62,Comments4,2,FALSE)))))))","v":""},{"$f":"COUNTIF(EF$58:EF62,OK)+COUNTIF(EF$58:EF62,RDGfix)+COUNTIF(EF$58:EF62,RDGave)+COUNTIF(EF$58:EF62,RDGevent)+EH$32-1","v":0},null,{"$f":"IF(EI62=\"\",\"\",OK)","v":""},{"$f":"IF(EI62=\"\",\"\",IF(AND(EJ$57=\"L\",EJ62=\"DNC\"),$I$2,\nIF(EJ62=OK,EL62,IF(HLOOKUP(EJ62,Comments3,2,FALSE)=D,EL$57,IF(HLOOKUP(EJ62,Comments3,2,FALSE)=A,VLOOKUP(EI62,Averages,EI$4,FALSE),IF(HLOOKUP(EJ62,Comments3,2,FALSE)=E,VLOOKUP(EI62,EventAverage,2,FALSE), HLOOKUP(EJ62,Comments4,2,FALSE)))))))","v":""},{"$f":"COUNTIF(EJ$58:EJ62,OK)+COUNTIF(EJ$58:EJ62,RDGfix)+COUNTIF(EJ$58:EJ62,RDGave)+COUNTIF(EJ$58:EJ62,RDGevent)+EL$32-1","v":0},null,{"$f":"IF(EM62=\"\",\"\",OK)","v":""},{"$f":"IF(EM62=\"\",\"\",IF(AND(EN$57=\"L\",EN62=\"DNC\"),$I$2,\nIF(EN62=OK,EP62,IF(HLOOKUP(EN62,Comments3,2,FALSE)=D,EP$57,IF(HLOOKUP(EN62,Comments3,2,FALSE)=A,VLOOKUP(EM62,Averages,EM$4,FALSE),IF(HLOOKUP(EN62,Comments3,2,FALSE)=E,VLOOKUP(EM62,EventAverage,2,FALSE), HLOOKUP(EN62,Comments4,2,FALSE)))))))","v":""},{"$f":"COUNTIF(EN$58:EN62,OK)+COUNTIF(EN$58:EN62,RDGfix)+COUNTIF(EN$58:EN62,RDGave)+COUNTIF(EN$58:EN62,RDGevent)+EP$32-1","v":0},null,{"$f":"IF(EQ62=\"\",\"\",OK)","v":""},{"$f":"IF(EQ62=\"\",\"\",IF(AND(ER$57=\"L\",ER62=\"DNC\"),$I$2,\nIF(ER62=OK,ET62,IF(HLOOKUP(ER62,Comments3,2,FALSE)=D,ET$57,IF(HLOOKUP(ER62,Comments3,2,FALSE)=A,VLOOKUP(EQ62,Averages,EQ$4,FALSE),IF(HLOOKUP(ER62,Comments3,2,FALSE)=E,VLOOKUP(EQ62,EventAverage,2,FALSE), HLOOKUP(ER62,Comments4,2,FALSE)))))))","v":""},{"$f":"COUNTIF(ER$58:ER62,OK)+COUNTIF(ER$58:ER62,RDGfix)+COUNTIF(ER$58:ER62,RDGave)+COUNTIF(ER$58:ER62,RDGevent)+ET$32-1","v":0},null,{"$f":"IF(EU62=\"\",\"\",OK)","v":""},{"$f":"IF(EU62=\"\",\"\",IF(AND(EV$57=\"L\",EV62=\"DNC\"),$I$2,\nIF(EV62=OK,EX62,IF(HLOOKUP(EV62,Comments3,2,FALSE)=D,EX$57,IF(HLOOKUP(EV62,Comments3,2,FALSE)=A,VLOOKUP(EU62,Averages,EU$4,FALSE),IF(HLOOKUP(EV62,Comments3,2,FALSE)=E,VLOOKUP(EU62,EventAverage,2,FALSE), HLOOKUP(EV62,Comments4,2,FALSE)))))))","v":""},{"$f":"COUNTIF(EV$58:EV62,OK)+COUNTIF(EV$58:EV62,RDGfix)+COUNTIF(EV$58:EV62,RDGave)+COUNTIF(EV$58:EV62,RDGevent)+EX$32-1","v":0},null,{"$f":"IF(EY62=\"\",\"\",OK)","v":""},{"$f":"IF(EY62=\"\",\"\",IF(AND(EZ$57=\"L\",EZ62=\"DNC\"),$I$2,\nIF(EZ62=OK,FB62,IF(HLOOKUP(EZ62,Comments3,2,FALSE)=D,FB$57,IF(HLOOKUP(EZ62,Comments3,2,FALSE)=A,VLOOKUP(EY62,Averages,EY$4,FALSE),IF(HLOOKUP(EZ62,Comments3,2,FALSE)=E,VLOOKUP(EY62,EventAverage,2,FALSE), HLOOKUP(EZ62,Comments4,2,FALSE)))))))","v":""},{"$f":"COUNTIF(EZ$58:EZ62,OK)+COUNTIF(EZ$58:EZ62,RDGfix)+COUNTIF(EZ$58:EZ62,RDGave)+COUNTIF(EZ$58:EZ62,RDGevent)+FB$32-1","v":0},null,{"$f":"IF(FC62=\"\",\"\",OK)","v":""},{"$f":"IF(FC62=\"\",\"\",IF(AND(FD$57=\"L\",FD62=\"DNC\"),$I$2,\nIF(FD62=OK,FF62,IF(HLOOKUP(FD62,Comments3,2,FALSE)=D,FF$57,IF(HLOOKUP(FD62,Comments3,2,FALSE)=A,VLOOKUP(FC62,Averages,FC$4,FALSE),IF(HLOOKUP(FD62,Comments3,2,FALSE)=E,VLOOKUP(FC62,EventAverage,2,FALSE), HLOOKUP(FD62,Comments4,2,FALSE)))))))","v":""},{"$f":"COUNTIF(FD$58:FD62,OK)+COUNTIF(FD$58:FD62,RDGfix)+COUNTIF(FD$58:FD62,RDGave)+COUNTIF(FD$58:FD62,RDGevent)+FF$32-1","v":0},null,{"$f":"IF(FG62=\"\",\"\",OK)","v":""},{"$f":"IF(FG62=\"\",\"\",IF(AND(FH$57=\"L\",FH62=\"DNC\"),$I$2,\nIF(FH62=OK,FJ62,IF(HLOOKUP(FH62,Comments3,2,FALSE)=D,FJ$57,IF(HLOOKUP(FH62,Comments3,2,FALSE)=A,VLOOKUP(FG62,Averages,FG$4,FALSE),IF(HLOOKUP(FH62,Comments3,2,FALSE)=E,VLOOKUP(FG62,EventAverage,2,FALSE), HLOOKUP(FH62,Comments4,2,FALSE)))))))","v":""},{"$f":"COUNTIF(FH$58:FH62,OK)+COUNTIF(FH$58:FH62,RDGfix)+COUNTIF(FH$58:FH62,RDGave)+COUNTIF(FH$58:FH62,RDGevent)+FJ$32-1","v":0}]
[null,"6th",null,"","",{"$f":"COUNTIF(D$58:D63,OK)+COUNTIF(D$58:D63,RDGfix)+COUNTIF(D$58:D63,RDGave)+COUNTIF(D$58:D63,RDGevent)","v":0},null,"","",{"$f":"COUNTIF(H$58:H63,OK)+COUNTIF(H$58:H63,RDGfix)+COUNTIF(H$58:H63,RDGave)+COUNTIF(H$58:H63,RDGevent)+J$32-1","v":0},null,"","",{"$f":"COUNTIF(L$58:L63,OK)+COUNTIF(L$58:L63,RDGfix)+COUNTIF(L$58:L63,RDGave)+COUNTIF(L$58:L63,RDGevent)+N$32-1","v":0},null,"","",{"$f":"COUNTIF(P$58:P63,OK)+COUNTIF(P$58:P63,RDGfix)+COUNTIF(P$58:P63,RDGave)+COUNTIF(P$58:P63,RDGevent)+R$32-1","v":0},null,"","",{"$f":"COUNTIF(T$58:T63,OK)+COUNTIF(T$58:T63,RDGfix)+COUNTIF(T$58:T63,RDGave)+COUNTIF(T$58:T63,RDGevent)+V$32-1","v":0},null,"","",{"$f":"COUNTIF(X$58:X63,OK)+COUNTIF(X$58:X63,RDGfix)+COUNTIF(X$58:X63,RDGave)+COUNTIF(X$58:X63,RDGevent)+Z$32-1","v":0},null,"","",{"$f":"COUNTIF(AB$58:AB63,OK)+COUNTIF(AB$58:AB63,RDGfix)+COUNTIF(AB$58:AB63,RDGave)+COUNTIF(AB$58:AB63,RDGevent)+AD$32-1","v":0},null,"","",{"$f":"COUNTIF(AF$58:AF63,OK)+COUNTIF(AF$58:AF63,RDGfix)+COUNTIF(AF$58:AF63,RDGave)+COUNTIF(AF$58:AF63,RDGevent)+AH$32-1","v":0},null,"","",{"$f":"COUNTIF(AJ$58:AJ63,OK)+COUNTIF(AJ$58:AJ63,RDGfix)+COUNTIF(AJ$58:AJ63,RDGave)+COUNTIF(AJ$58:AJ63,RDGevent)+AL$32-1","v":0},null,"","",{"$f":"COUNTIF(AN$58:AN63,OK)+COUNTIF(AN$58:AN63,RDGfix)+COUNTIF(AN$58:AN63,RDGave)+COUNTIF(AN$58:AN63,RDGevent)+AP$32-1","v":0},null,"","",{"$f":"COUNTIF(AR$58:AR63,OK)+COUNTIF(AR$58:AR63,RDGfix)+COUNTIF(AR$58:AR63,RDGave)+COUNTIF(AR$58:AR63,RDGevent)+AT$32-1","v":0},null,"","",{"$f":"COUNTIF(AV$58:AV63,OK)+COUNTIF(AV$58:AV63,RDGfix)+COUNTIF(AV$58:AV63,RDGave)+COUNTIF(AV$58:AV63,RDGevent)+AX$32-1","v":0},null,"","",{"$f":"COUNTIF(AZ$58:AZ63,OK)+COUNTIF(AZ$58:AZ63,RDGfix)+COUNTIF(AZ$58:AZ63,RDGave)+COUNTIF(AZ$58:AZ63,RDGevent)+BB$32-1","v":0},null,"","",{"$f":"COUNTIF(BD$58:BD63,OK)+COUNTIF(BD$58:BD63,RDGfix)+COUNTIF(BD$58:BD63,RDGave)+COUNTIF(BD$58:BD63,RDGevent)+BF$32-1","v":0},null,"","",{"$f":"COUNTIF(BH$58:BH63,OK)+COUNTIF(BH$58:BH63,RDGfix)+COUNTIF(BH$58:BH63,RDGave)+COUNTIF(BH$58:BH63,RDGevent)+BJ$32-1","v":0},null,"","",{"$f":"COUNTIF(BL$58:BL63,OK)+COUNTIF(BL$58:BL63,RDGfix)+COUNTIF(BL$58:BL63,RDGave)+COUNTIF(BL$58:BL63,RDGevent)+BN$32-1","v":0},null,"","",{"$f":"COUNTIF(BP$58:BP63,OK)+COUNTIF(BP$58:BP63,RDGfix)+COUNTIF(BP$58:BP63,RDGave)+COUNTIF(BP$58:BP63,RDGevent)+BR$32-1","v":0},null,"","",{"$f":"COUNTIF(BT$58:BT63,OK)+COUNTIF(BT$58:BT63,RDGfix)+COUNTIF(BT$58:BT63,RDGave)+COUNTIF(BT$58:BT63,RDGevent)+BV$32-1","v":0},null,"","",{"$f":"COUNTIF(BX$58:BX63,OK)+COUNTIF(BX$58:BX63,RDGfix)+COUNTIF(BX$58:BX63,RDGave)+COUNTIF(BX$58:BX63,RDGevent)+BZ$32-1","v":0},null,"","",{"$f":"COUNTIF(CB$58:CB63,OK)+COUNTIF(CB$58:CB63,RDGfix)+COUNTIF(CB$58:CB63,RDGave)+COUNTIF(CB$58:CB63,RDGevent)+CD$32-1","v":0},null,"","",{"$f":"COUNTIF(CF$58:CF63,OK)+COUNTIF(CF$58:CF63,RDGfix)+COUNTIF(CF$58:CF63,RDGave)+COUNTIF(CF$58:CF63,RDGevent)+CH$32-1","v":0},null,"","",{"$f":"COUNTIF(CJ$58:CJ63,OK)+COUNTIF(CJ$58:CJ63,RDGfix)+COUNTIF(CJ$58:CJ63,RDGave)+COUNTIF(CJ$58:CJ63,RDGevent)+CL$32-1","v":0},null,"","",{"$f":"COUNTIF(CN$58:CN63,OK)+COUNTIF(CN$58:CN63,RDGfix)+COUNTIF(CN$58:CN63,RDGave)+COUNTIF(CN$58:CN63,RDGevent)+CP$32-1","v":0},null,"","",{"$f":"COUNTIF(CR$58:CR63,OK)+COUNTIF(CR$58:CR63,RDGfix)+COUNTIF(CR$58:CR63,RDGave)+COUNTIF(CR$58:CR63,RDGevent)+CT$32-1","v":0},null,"","",{"$f":"COUNTIF(CV$58:CV63,OK)+COUNTIF(CV$58:CV63,RDGfix)+COUNTIF(CV$58:CV63,RDGave)+COUNTIF(CV$58:CV63,RDGevent)+CX$32-1","v":0},null,"","",{"$f":"COUNTIF(CZ$58:CZ63,OK)+COUNTIF(CZ$58:CZ63,RDGfix)+COUNTIF(CZ$58:CZ63,RDGave)+COUNTIF(CZ$58:CZ63,RDGevent)+DB$32-1","v":0},null,"","",{"$f":"COUNTIF(DD$58:DD63,OK)+COUNTIF(DD$58:DD63,RDGfix)+COUNTIF(DD$58:DD63,RDGave)+COUNTIF(DD$58:DD63,RDGevent)+DF$32-1","v":0},null,"","",{"$f":"COUNTIF(DH$58:DH63,OK)+COUNTIF(DH$58:DH63,RDGfix)+COUNTIF(DH$58:DH63,RDGave)+COUNTIF(DH$58:DH63,RDGevent)+DJ$32-1","v":0},null,"","",{"$f":"COUNTIF(DL$58:DL63,OK)+COUNTIF(DL$58:DL63,RDGfix)+COUNTIF(DL$58:DL63,RDGave)+COUNTIF(DL$58:DL63,RDGevent)+DN$32-1","v":0},null,"","",{"$f":"COUNTIF(DP$58:DP63,OK)+COUNTIF(DP$58:DP63,RDGfix)+COUNTIF(DP$58:DP63,RDGave)+COUNTIF(DP$58:DP63,RDGevent)+DR$32-1","v":0},null,"","",{"$f":"COUNTIF(DT$58:DT63,OK)+COUNTIF(DT$58:DT63,RDGfix)+COUNTIF(DT$58:DT63,RDGave)+COUNTIF(DT$58:DT63,RDGevent)+DV$32-1","v":0},null,"","",{"$f":"COUNTIF(DX$58:DX63,OK)+COUNTIF(DX$58:DX63,RDGfix)+COUNTIF(DX$58:DX63,RDGave)+COUNTIF(DX$58:DX63,RDGevent)+DZ$32-1","v":0},null,"","",{"$f":"COUNTIF(EB$58:EB63,OK)+COUNTIF(EB$58:EB63,RDGfix)+COUNTIF(EB$58:EB63,RDGave)+COUNTIF(EB$58:EB63,RDGevent)+ED$32-1","v":0},null,"","",{"$f":"COUNTIF(EF$58:EF63,OK)+COUNTIF(EF$58:EF63,RDGfix)+COUNTIF(EF$58:EF63,RDGave)+COUNTIF(EF$58:EF63,RDGevent)+EH$32-1","v":0},null,"","",{"$f":"COUNTIF(EJ$58:EJ63,OK)+COUNTIF(EJ$58:EJ63,RDGfix)+COUNTIF(EJ$58:EJ63,RDGave)+COUNTIF(EJ$58:EJ63,RDGevent)+EL$32-1","v":0},null,"","",{"$f":"COUNTIF(EN$58:EN63,OK)+COUNTIF(EN$58:EN63,RDGfix)+COUNTIF(EN$58:EN63,RDGave)+COUNTIF(EN$58:EN63,RDGevent)+EP$32-1","v":0},null,"","",{"$f":"COUNTIF(ER$58:ER63,OK)+COUNTIF(ER$58:ER63,RDGfix)+COUNTIF(ER$58:ER63,RDGave)+COUNTIF(ER$58:ER63,RDGevent)+ET$32-1","v":0},null,"","",{"$f":"COUNTIF(EV$58:EV63,OK)+COUNTIF(EV$58:EV63,RDGfix)+COUNTIF(EV$58:EV63,RDGave)+COUNTIF(EV$58:EV63,RDGevent)+EX$32-1","v":0},null,"","",{"$f":"COUNTIF(EZ$58:EZ63,OK)+COUNTIF(EZ$58:EZ63,RDGfix)+COUNTIF(EZ$58:EZ63,RDGave)+COUNTIF(EZ$58:EZ63,RDGevent)+FB$32-1","v":0},null,"","",{"$f":"COUNTIF(FD$58:FD63,OK)+COUNTIF(FD$58:FD63,RDGfix)+COUNTIF(FD$58:FD63,RDGave)+COUNTIF(FD$58:FD63,RDGevent)+FF$32-1","v":0},null,"","",{"$f":"COUNTIF(FH$58:FH63,OK)+COUNTIF(FH$58:FH63,RDGfix)+COUNTIF(FH$58:FH63,RDGave)+COUNTIF(FH$58:FH63,RDGevent)+FJ$32-1","v":0}]
[null,"7th",null,"","",{"$f":"COUNTIF(D$58:D64,OK)+COUNTIF(D$58:D64,RDGfix)+COUNTIF(D$58:D64,RDGave)+COUNTIF(D$58:D64,RDGevent)","v":0},null,"","",{"$f":"COUNTIF(H$58:H64,OK)+COUNTIF(H$58:H64,RDGfix)+COUNTIF(H$58:H64,RDGave)+COUNTIF(H$58:H64,RDGevent)+J$32-1","v":0},null,"","",{"$f":"COUNTIF(L$58:L64,OK)+COUNTIF(L$58:L64,RDGfix)+COUNTIF(L$58:L64,RDGave)+COUNTIF(L$58:L64,RDGevent)+N$32-1","v":0},null,"","",{"$f":"COUNTIF(P$58:P64,OK)+COUNTIF(P$58:P64,RDGfix)+COUNTIF(P$58:P64,RDGave)+COUNTIF(P$58:P64,RDGevent)+R$32-1","v":0},null,"","",{"$f":"COUNTIF(T$58:T64,OK)+COUNTIF(T$58:T64,RDGfix)+COUNTIF(T$58:T64,RDGave)+COUNTIF(T$58:T64,RDGevent)+V$32-1","v":0},null,"","",{"$f":"COUNTIF(X$58:X64,OK)+COUNTIF(X$58:X64,RDGfix)+COUNTIF(X$58:X64,RDGave)+COUNTIF(X$58:X64,RDGevent)+Z$32-1","v":0},null,"","",{"$f":"COUNTIF(AB$58:AB64,OK)+COUNTIF(AB$58:AB64,RDGfix)+COUNTIF(AB$58:AB64,RDGave)+COUNTIF(AB$58:AB64,RDGevent)+AD$32-1","v":0},null,"","",{"$f":"COUNTIF(AF$58:AF64,OK)+COUNTIF(AF$58:AF64,RDGfix)+COUNTIF(AF$58:AF64,RDGave)+COUNTIF(AF$58:AF64,RDGevent)+AH$32-1","v":0},null,"","",{"$f":"COUNTIF(AJ$58:AJ64,OK)+COUNTIF(AJ$58:AJ64,RDGfix)+COUNTIF(AJ$58:AJ64,RDGave)+COUNTIF(AJ$58:AJ64,RDGevent)+AL$32-1","v":0},null,"","",{"$f":"COUNTIF(AN$58:AN64,OK)+COUNTIF(AN$58:AN64,RDGfix)+COUNTIF(AN$58:AN64,RDGave)+COUNTIF(AN$58:AN64,RDGevent)+AP$32-1","v":0},null,"","",{"$f":"COUNTIF(AR$58:AR64,OK)+COUNTIF(AR$58:AR64,RDGfix)+COUNTIF(AR$58:AR64,RDGave)+COUNTIF(AR$58:AR64,RDGevent)+AT$32-1","v":0},null,"","",{"$f":"COUNTIF(AV$58:AV64,OK)+COUNTIF(AV$58:AV64,RDGfix)+COUNTIF(AV$58:AV64,RDGave)+COUNTIF(AV$58:AV64,RDGevent)+AX$32-1","v":0},null,"","",{"$f":"COUNTIF(AZ$58:AZ64,OK)+COUNTIF(AZ$58:AZ64,RDGfix)+COUNTIF(AZ$58:AZ64,RDGave)+COUNTIF(AZ$58:AZ64,RDGevent)+BB$32-1","v":0},null,"","",{"$f":"COUNTIF(BD$58:BD64,OK)+COUNTIF(BD$58:BD64,RDGfix)+COUNTIF(BD$58:BD64,RDGave)+COUNTIF(BD$58:BD64,RDGevent)+BF$32-1","v":0},null,"","",{"$f":"COUNTIF(BH$58:BH64,OK)+COUNTIF(BH$58:BH64,RDGfix)+COUNTIF(BH$58:BH64,RDGave)+COUNTIF(BH$58:BH64,RDGevent)+BJ$32-1","v":0},null,"","",{"$f":"COUNTIF(BL$58:BL64,OK)+COUNTIF(BL$58:BL64,RDGfix)+COUNTIF(BL$58:BL64,RDGave)+COUNTIF(BL$58:BL64,RDGevent)+BN$32-1","v":0},null,"","",{"$f":"COUNTIF(BP$58:BP64,OK)+COUNTIF(BP$58:BP64,RDGfix)+COUNTIF(BP$58:BP64,RDGave)+COUNTIF(BP$58:BP64,RDGevent)+BR$32-1","v":0},null,"","",{"$f":"COUNTIF(BT$58:BT64,OK)+COUNTIF(BT$58:BT64,RDGfix)+COUNTIF(BT$58:BT64,RDGave)+COUNTIF(BT$58:BT64,RDGevent)+BV$32-1","v":0},null,"","",{"$f":"COUNTIF(BX$58:BX64,OK)+COUNTIF(BX$58:BX64,RDGfix)+COUNTIF(BX$58:BX64,RDGave)+COUNTIF(BX$58:BX64,RDGevent)+BZ$32-1","v":0},null,"","",{"$f":"COUNTIF(CB$58:CB64,OK)+COUNTIF(CB$58:CB64,RDGfix)+COUNTIF(CB$58:CB64,RDGave)+COUNTIF(CB$58:CB64,RDGevent)+CD$32-1","v":0},null,"","",{"$f":"COUNTIF(CF$58:CF64,OK)+COUNTIF(CF$58:CF64,RDGfix)+COUNTIF(CF$58:CF64,RDGave)+COUNTIF(CF$58:CF64,RDGevent)+CH$32-1","v":0},null,"","",{"$f":"COUNTIF(CJ$58:CJ64,OK)+COUNTIF(CJ$58:CJ64,RDGfix)+COUNTIF(CJ$58:CJ64,RDGave)+COUNTIF(CJ$58:CJ64,RDGevent)+CL$32-1","v":0},null,"","",{"$f":"COUNTIF(CN$58:CN64,OK)+COUNTIF(CN$58:CN64,RDGfix)+COUNTIF(CN$58:CN64,RDGave)+COUNTIF(CN$58:CN64,RDGevent)+CP$32-1","v":0},null,"","",{"$f":"COUNTIF(CR$58:CR64,OK)+COUNTIF(CR$58:CR64,RDGfix)+COUNTIF(CR$58:CR64,RDGave)+COUNTIF(CR$58:CR64,RDGevent)+CT$32-1","v":0},null,"","",{"$f":"COUNTIF(CV$58:CV64,OK)+COUNTIF(CV$58:CV64,RDGfix)+COUNTIF(CV$58:CV64,RDGave)+COUNTIF(CV$58:CV64,RDGevent)+CX$32-1","v":0},null,"","",{"$f":"COUNTIF(CZ$58:CZ64,OK)+COUNTIF(CZ$58:CZ64,RDGfix)+COUNTIF(CZ$58:CZ64,RDGave)+COUNTIF(CZ$58:CZ64,RDGevent)+DB$32-1","v":0},null,"","",{"$f":"COUNTIF(DD$58:DD64,OK)+COUNTIF(DD$58:DD64,RDGfix)+COUNTIF(DD$58:DD64,RDGave)+COUNTIF(DD$58:DD64,RDGevent)+DF$32-1","v":0},null,"","",{"$f":"COUNTIF(DH$58:DH64,OK)+COUNTIF(DH$58:DH64,RDGfix)+COUNTIF(DH$58:DH64,RDGave)+COUNTIF(DH$58:DH64,RDGevent)+DJ$32-1","v":0},null,"","",{"$f":"COUNTIF(DL$58:DL64,OK)+COUNTIF(DL$58:DL64,RDGfix)+COUNTIF(DL$58:DL64,RDGave)+COUNTIF(DL$58:DL64,RDGevent)+DN$32-1","v":0},null,"","",{"$f":"COUNTIF(DP$58:DP64,OK)+COUNTIF(DP$58:DP64,RDGfix)+COUNTIF(DP$58:DP64,RDGave)+COUNTIF(DP$58:DP64,RDGevent)+DR$32-1","v":0},null,"","",{"$f":"COUNTIF(DT$58:DT64,OK)+COUNTIF(DT$58:DT64,RDGfix)+COUNTIF(DT$58:DT64,RDGave)+COUNTIF(DT$58:DT64,RDGevent)+DV$32-1","v":0},null,"","",{"$f":"COUNTIF(DX$58:DX64,OK)+COUNTIF(DX$58:DX64,RDGfix)+COUNTIF(DX$58:DX64,RDGave)+COUNTIF(DX$58:DX64,RDGevent)+DZ$32-1","v":0},null,"","",{"$f":"COUNTIF(EB$58:EB64,OK)+COUNTIF(EB$58:EB64,RDGfix)+COUNTIF(EB$58:EB64,RDGave)+COUNTIF(EB$58:EB64,RDGevent)+ED$32-1","v":0},null,"","",{"$f":"COUNTIF(EF$58:EF64,OK)+COUNTIF(EF$58:EF64,RDGfix)+COUNTIF(EF$58:EF64,RDGave)+COUNTIF(EF$58:EF64,RDGevent)+EH$32-1","v":0},null,"","",{"$f":"COUNTIF(EJ$58:EJ64,OK)+COUNTIF(EJ$58:EJ64,RDGfix)+COUNTIF(EJ$58:EJ64,RDGave)+COUNTIF(EJ$58:EJ64,RDGevent)+EL$32-1","v":0},null,"","",{"$f":"COUNTIF(EN$58:EN64,OK)+COUNTIF(EN$58:EN64,RDGfix)+COUNTIF(EN$58:EN64,RDGave)+COUNTIF(EN$58:EN64,RDGevent)+EP$32-1","v":0},null,"","",{"$f":"COUNTIF(ER$58:ER64,OK)+COUNTIF(ER$58:ER64,RDGfix)+COUNTIF(ER$58:ER64,RDGave)+COUNTIF(ER$58:ER64,RDGevent)+ET$32-1","v":0},null,"","",{"$f":"COUNTIF(EV$58:EV64,OK)+COUNTIF(EV$58:EV64,RDGfix)+COUNTIF(EV$58:EV64,RDGave)+COUNTIF(EV$58:EV64,RDGevent)+EX$32-1","v":0},null,"","",{"$f":"COUNTIF(EZ$58:EZ64,OK)+COUNTIF(EZ$58:EZ64,RDGfix)+COUNTIF(EZ$58:EZ64,RDGave)+COUNTIF(EZ$58:EZ64,RDGevent)+FB$32-1","v":0},null,"","",{"$f":"COUNTIF(FD$58:FD64,OK)+COUNTIF(FD$58:FD64,RDGfix)+COUNTIF(FD$58:FD64,RDGave)+COUNTIF(FD$58:FD64,RDGevent)+FF$32-1","v":0},null,"","",{"$f":"COUNTIF(FH$58:FH64,OK)+COUNTIF(FH$58:FH64,RDGfix)+COUNTIF(FH$58:FH64,RDGave)+COUNTIF(FH$58:FH64,RDGevent)+FJ$32-1","v":0}]
[null,"8th",null,"","",{"$f":"COUNTIF(D$58:D65,OK)+COUNTIF(D$58:D65,RDGfix)+COUNTIF(D$58:D65,RDGave)+COUNTIF(D$58:D65,RDGevent)","v":0},null,"","",{"$f":"COUNTIF(H$58:H65,OK)+COUNTIF(H$58:H65,RDGfix)+COUNTIF(H$58:H65,RDGave)+COUNTIF(H$58:H65,RDGevent)+J$32-1","v":0},null,"","",{"$f":"COUNTIF(L$58:L65,OK)+COUNTIF(L$58:L65,RDGfix)+COUNTIF(L$58:L65,RDGave)+COUNTIF(L$58:L65,RDGevent)+N$32-1","v":0},null,"","",{"$f":"COUNTIF(P$58:P65,OK)+COUNTIF(P$58:P65,RDGfix)+COUNTIF(P$58:P65,RDGave)+COUNTIF(P$58:P65,RDGevent)+R$32-1","v":0},null,"","",{"$f":"COUNTIF(T$58:T65,OK)+COUNTIF(T$58:T65,RDGfix)+COUNTIF(T$58:T65,RDGave)+COUNTIF(T$58:T65,RDGevent)+V$32-1","v":0},null,"","",{"$f":"COUNTIF(X$58:X65,OK)+COUNTIF(X$58:X65,RDGfix)+COUNTIF(X$58:X65,RDGave)+COUNTIF(X$58:X65,RDGevent)+Z$32-1","v":0},null,"","",{"$f":"COUNTIF(AB$58:AB65,OK)+COUNTIF(AB$58:AB65,RDGfix)+COUNTIF(AB$58:AB65,RDGave)+COUNTIF(AB$58:AB65,RDGevent)+AD$32-1","v":0},null,"","",{"$f":"COUNTIF(AF$58:AF65,OK)+COUNTIF(AF$58:AF65,RDGfix)+COUNTIF(AF$58:AF65,RDGave)+COUNTIF(AF$58:AF65,RDGevent)+AH$32-1","v":0},null,"","",{"$f":"COUNTIF(AJ$58:AJ65,OK)+COUNTIF(AJ$58:AJ65,RDGfix)+COUNTIF(AJ$58:AJ65,RDGave)+COUNTIF(AJ$58:AJ65,RDGevent)+AL$32-1","v":0},null,"","",{"$f":"COUNTIF(AN$58:AN65,OK)+COUNTIF(AN$58:AN65,RDGfix)+COUNTIF(AN$58:AN65,RDGave)+COUNTIF(AN$58:AN65,RDGevent)+AP$32-1","v":0},null,"","",{"$f":"COUNTIF(AR$58:AR65,OK)+COUNTIF(AR$58:AR65,RDGfix)+COUNTIF(AR$58:AR65,RDGave)+COUNTIF(AR$58:AR65,RDGevent)+AT$32-1","v":0},null,"","",{"$f":"COUNTIF(AV$58:AV65,OK)+COUNTIF(AV$58:AV65,RDGfix)+COUNTIF(AV$58:AV65,RDGave)+COUNTIF(AV$58:AV65,RDGevent)+AX$32-1","v":0},null,"","",{"$f":"COUNTIF(AZ$58:AZ65,OK)+COUNTIF(AZ$58:AZ65,RDGfix)+COUNTIF(AZ$58:AZ65,RDGave)+COUNTIF(AZ$58:AZ65,RDGevent)+BB$32-1","v":0},null,"","",{"$f":"COUNTIF(BD$58:BD65,OK)+COUNTIF(BD$58:BD65,RDGfix)+COUNTIF(BD$58:BD65,RDGave)+COUNTIF(BD$58:BD65,RDGevent)+BF$32-1","v":0},null,"","",{"$f":"COUNTIF(BH$58:BH65,OK)+COUNTIF(BH$58:BH65,RDGfix)+COUNTIF(BH$58:BH65,RDGave)+COUNTIF(BH$58:BH65,RDGevent)+BJ$32-1","v":0},null,"","",{"$f":"COUNTIF(BL$58:BL65,OK)+COUNTIF(BL$58:BL65,RDGfix)+COUNTIF(BL$58:BL65,RDGave)+COUNTIF(BL$58:BL65,RDGevent)+BN$32-1","v":0},null,"","",{"$f":"COUNTIF(BP$58:BP65,OK)+COUNTIF(BP$58:BP65,RDGfix)+COUNTIF(BP$58:BP65,RDGave)+COUNTIF(BP$58:BP65,RDGevent)+BR$32-1","v":0},null,"","",{"$f":"COUNTIF(BT$58:BT65,OK)+COUNTIF(BT$58:BT65,RDGfix)+COUNTIF(BT$58:BT65,RDGave)+COUNTIF(BT$58:BT65,RDGevent)+BV$32-1","v":0},null,"","",{"$f":"COUNTIF(BX$58:BX65,OK)+COUNTIF(BX$58:BX65,RDGfix)+COUNTIF(BX$58:BX65,RDGave)+COUNTIF(BX$58:BX65,RDGevent)+BZ$32-1","v":0},null,"","",{"$f":"COUNTIF(CB$58:CB65,OK)+COUNTIF(CB$58:CB65,RDGfix)+COUNTIF(CB$58:CB65,RDGave)+COUNTIF(CB$58:CB65,RDGevent)+CD$32-1","v":0},null,"","",{"$f":"COUNTIF(CF$58:CF65,OK)+COUNTIF(CF$58:CF65,RDGfix)+COUNTIF(CF$58:CF65,RDGave)+COUNTIF(CF$58:CF65,RDGevent)+CH$32-1","v":0},null,"","",{"$f":"COUNTIF(CJ$58:CJ65,OK)+COUNTIF(CJ$58:CJ65,RDGfix)+COUNTIF(CJ$58:CJ65,RDGave)+COUNTIF(CJ$58:CJ65,RDGevent)+CL$32-1","v":0},null,"","",{"$f":"COUNTIF(CN$58:CN65,OK)+COUNTIF(CN$58:CN65,RDGfix)+COUNTIF(CN$58:CN65,RDGave)+COUNTIF(CN$58:CN65,RDGevent)+CP$32-1","v":0},null,"","",{"$f":"COUNTIF(CR$58:CR65,OK)+COUNTIF(CR$58:CR65,RDGfix)+COUNTIF(CR$58:CR65,RDGave)+COUNTIF(CR$58:CR65,RDGevent)+CT$32-1","v":0},null,"","",{"$f":"COUNTIF(CV$58:CV65,OK)+COUNTIF(CV$58:CV65,RDGfix)+COUNTIF(CV$58:CV65,RDGave)+COUNTIF(CV$58:CV65,RDGevent)+CX$32-1","v":0},null,"","",{"$f":"COUNTIF(CZ$58:CZ65,OK)+COUNTIF(CZ$58:CZ65,RDGfix)+COUNTIF(CZ$58:CZ65,RDGave)+COUNTIF(CZ$58:CZ65,RDGevent)+DB$32-1","v":0},null,"","",{"$f":"COUNTIF(DD$58:DD65,OK)+COUNTIF(DD$58:DD65,RDGfix)+COUNTIF(DD$58:DD65,RDGave)+COUNTIF(DD$58:DD65,RDGevent)+DF$32-1","v":0},null,"","",{"$f":"COUNTIF(DH$58:DH65,OK)+COUNTIF(DH$58:DH65,RDGfix)+COUNTIF(DH$58:DH65,RDGave)+COUNTIF(DH$58:DH65,RDGevent)+DJ$32-1","v":0},null,"","",{"$f":"COUNTIF(DL$58:DL65,OK)+COUNTIF(DL$58:DL65,RDGfix)+COUNTIF(DL$58:DL65,RDGave)+COUNTIF(DL$58:DL65,RDGevent)+DN$32-1","v":0},null,"","",{"$f":"COUNTIF(DP$58:DP65,OK)+COUNTIF(DP$58:DP65,RDGfix)+COUNTIF(DP$58:DP65,RDGave)+COUNTIF(DP$58:DP65,RDGevent)+DR$32-1","v":0},null,"","",{"$f":"COUNTIF(DT$58:DT65,OK)+COUNTIF(DT$58:DT65,RDGfix)+COUNTIF(DT$58:DT65,RDGave)+COUNTIF(DT$58:DT65,RDGevent)+DV$32-1","v":0},null,"","",{"$f":"COUNTIF(DX$58:DX65,OK)+COUNTIF(DX$58:DX65,RDGfix)+COUNTIF(DX$58:DX65,RDGave)+COUNTIF(DX$58:DX65,RDGevent)+DZ$32-1","v":0},null,"","",{"$f":"COUNTIF(EB$58:EB65,OK)+COUNTIF(EB$58:EB65,RDGfix)+COUNTIF(EB$58:EB65,RDGave)+COUNTIF(EB$58:EB65,RDGevent)+ED$32-1","v":0},null,"","",{"$f":"COUNTIF(EF$58:EF65,OK)+COUNTIF(EF$58:EF65,RDGfix)+COUNTIF(EF$58:EF65,RDGave)+COUNTIF(EF$58:EF65,RDGevent)+EH$32-1","v":0},null,"","",{"$f":"COUNTIF(EJ$58:EJ65,OK)+COUNTIF(EJ$58:EJ65,RDGfix)+COUNTIF(EJ$58:EJ65,RDGave)+COUNTIF(EJ$58:EJ65,RDGevent)+EL$32-1","v":0},null,"","",{"$f":"COUNTIF(EN$58:EN65,OK)+COUNTIF(EN$58:EN65,RDGfix)+COUNTIF(EN$58:EN65,RDGave)+COUNTIF(EN$58:EN65,RDGevent)+EP$32-1","v":0},null,"","",{"$f":"COUNTIF(ER$58:ER65,OK)+COUNTIF(ER$58:ER65,RDGfix)+COUNTIF(ER$58:ER65,RDGave)+COUNTIF(ER$58:ER65,RDGevent)+ET$32-1","v":0},null,"","",{"$f":"COUNTIF(EV$58:EV65,OK)+COUNTIF(EV$58:EV65,RDGfix)+COUNTIF(EV$58:EV65,RDGave)+COUNTIF(EV$58:EV65,RDGevent)+EX$32-1","v":0},null,"","",{"$f":"COUNTIF(EZ$58:EZ65,OK)+COUNTIF(EZ$58:EZ65,RDGfix)+COUNTIF(EZ$58:EZ65,RDGave)+COUNTIF(EZ$58:EZ65,RDGevent)+FB$32-1","v":0},null,"","",{"$f":"COUNTIF(FD$58:FD65,OK)+COUNTIF(FD$58:FD65,RDGfix)+COUNTIF(FD$58:FD65,RDGave)+COUNTIF(FD$58:FD65,RDGevent)+FF$32-1","v":0},null,"","",{"$f":"COUNTIF(FH$58:FH65,OK)+COUNTIF(FH$58:FH65,RDGfix)+COUNTIF(FH$58:FH65,RDGave)+COUNTIF(FH$58:FH65,RDGevent)+FJ$32-1","v":0}]
[null,"9th",null,"","",{"$f":"COUNTIF(D$58:D66,OK)+COUNTIF(D$58:D66,RDGfix)+COUNTIF(D$58:D66,RDGave)+COUNTIF(D$58:D66,RDGevent)","v":0},null,"","",{"$f":"COUNTIF(H$58:H66,OK)+COUNTIF(H$58:H66,RDGfix)+COUNTIF(H$58:H66,RDGave)+COUNTIF(H$58:H66,RDGevent)+J$32-1","v":0},null,"","",{"$f":"COUNTIF(L$58:L66,OK)+COUNTIF(L$58:L66,RDGfix)+COUNTIF(L$58:L66,RDGave)+COUNTIF(L$58:L66,RDGevent)+N$32-1","v":0},null,"","",{"$f":"COUNTIF(P$58:P66,OK)+COUNTIF(P$58:P66,RDGfix)+COUNTIF(P$58:P66,RDGave)+COUNTIF(P$58:P66,RDGevent)+R$32-1","v":0},null,"","",{"$f":"COUNTIF(T$58:T66,OK)+COUNTIF(T$58:T66,RDGfix)+COUNTIF(T$58:T66,RDGave)+COUNTIF(T$58:T66,RDGevent)+V$32-1","v":0},null,"","",{"$f":"COUNTIF(X$58:X66,OK)+COUNTIF(X$58:X66,RDGfix)+COUNTIF(X$58:X66,RDGave)+COUNTIF(X$58:X66,RDGevent)+Z$32-1","v":0},null,"","",{"$f":"COUNTIF(AB$58:AB66,OK)+COUNTIF(AB$58:AB66,RDGfix)+COUNTIF(AB$58:AB66,RDGave)+COUNTIF(AB$58:AB66,RDGevent)+AD$32-1","v":0},null,"","",{"$f":"COUNTIF(AF$58:AF66,OK)+COUNTIF(AF$58:AF66,RDGfix)+COUNTIF(AF$58:AF66,RDGave)+COUNTIF(AF$58:AF66,RDGevent)+AH$32-1","v":0},null,"","",{"$f":"COUNTIF(AJ$58:AJ66,OK)+COUNTIF(AJ$58:AJ66,RDGfix)+COUNTIF(AJ$58:AJ66,RDGave)+COUNTIF(AJ$58:AJ66,RDGevent)+AL$32-1","v":0},null,"","",{"$f":"COUNTIF(AN$58:AN66,OK)+COUNTIF(AN$58:AN66,RDGfix)+COUNTIF(AN$58:AN66,RDGave)+COUNTIF(AN$58:AN66,RDGevent)+AP$32-1","v":0},null,"","",{"$f":"COUNTIF(AR$58:AR66,OK)+COUNTIF(AR$58:AR66,RDGfix)+COUNTIF(AR$58:AR66,RDGave)+COUNTIF(AR$58:AR66,RDGevent)+AT$32-1","v":0},null,"","",{"$f":"COUNTIF(AV$58:AV66,OK)+COUNTIF(AV$58:AV66,RDGfix)+COUNTIF(AV$58:AV66,RDGave)+COUNTIF(AV$58:AV66,RDGevent)+AX$32-1","v":0},null,"","",{"$f":"COUNTIF(AZ$58:AZ66,OK)+COUNTIF(AZ$58:AZ66,RDGfix)+COUNTIF(AZ$58:AZ66,RDGave)+COUNTIF(AZ$58:AZ66,RDGevent)+BB$32-1","v":0},null,"","",{"$f":"COUNTIF(BD$58:BD66,OK)+COUNTIF(BD$58:BD66,RDGfix)+COUNTIF(BD$58:BD66,RDGave)+COUNTIF(BD$58:BD66,RDGevent)+BF$32-1","v":0},null,"","",{"$f":"COUNTIF(BH$58:BH66,OK)+COUNTIF(BH$58:BH66,RDGfix)+COUNTIF(BH$58:BH66,RDGave)+COUNTIF(BH$58:BH66,RDGevent)+BJ$32-1","v":0},null,"","",{"$f":"COUNTIF(BL$58:BL66,OK)+COUNTIF(BL$58:BL66,RDGfix)+COUNTIF(BL$58:BL66,RDGave)+COUNTIF(BL$58:BL66,RDGevent)+BN$32-1","v":0},null,"","",{"$f":"COUNTIF(BP$58:BP66,OK)+COUNTIF(BP$58:BP66,RDGfix)+COUNTIF(BP$58:BP66,RDGave)+COUNTIF(BP$58:BP66,RDGevent)+BR$32-1","v":0},null,"","",{"$f":"COUNTIF(BT$58:BT66,OK)+COUNTIF(BT$58:BT66,RDGfix)+COUNTIF(BT$58:BT66,RDGave)+COUNTIF(BT$58:BT66,RDGevent)+BV$32-1","v":0},null,"","",{"$f":"COUNTIF(BX$58:BX66,OK)+COUNTIF(BX$58:BX66,RDGfix)+COUNTIF(BX$58:BX66,RDGave)+COUNTIF(BX$58:BX66,RDGevent)+BZ$32-1","v":0},null,"","",{"$f":"COUNTIF(CB$58:CB66,OK)+COUNTIF(CB$58:CB66,RDGfix)+COUNTIF(CB$58:CB66,RDGave)+COUNTIF(CB$58:CB66,RDGevent)+CD$32-1","v":0},null,"","",{"$f":"COUNTIF(CF$58:CF66,OK)+COUNTIF(CF$58:CF66,RDGfix)+COUNTIF(CF$58:CF66,RDGave)+COUNTIF(CF$58:CF66,RDGevent)+CH$32-1","v":0},null,"","",{"$f":"COUNTIF(CJ$58:CJ66,OK)+COUNTIF(CJ$58:CJ66,RDGfix)+COUNTIF(CJ$58:CJ66,RDGave)+COUNTIF(CJ$58:CJ66,RDGevent)+CL$32-1","v":0},null,"","",{"$f":"COUNTIF(CN$58:CN66,OK)+COUNTIF(CN$58:CN66,RDGfix)+COUNTIF(CN$58:CN66,RDGave)+COUNTIF(CN$58:CN66,RDGevent)+CP$32-1","v":0},null,"","",{"$f":"COUNTIF(CR$58:CR66,OK)+COUNTIF(CR$58:CR66,RDGfix)+COUNTIF(CR$58:CR66,RDGave)+COUNTIF(CR$58:CR66,RDGevent)+CT$32-1","v":0},null,"","",{"$f":"COUNTIF(CV$58:CV66,OK)+COUNTIF(CV$58:CV66,RDGfix)+COUNTIF(CV$58:CV66,RDGave)+COUNTIF(CV$58:CV66,RDGevent)+CX$32-1","v":0},null,"","",{"$f":"COUNTIF(CZ$58:CZ66,OK)+COUNTIF(CZ$58:CZ66,RDGfix)+COUNTIF(CZ$58:CZ66,RDGave)+COUNTIF(CZ$58:CZ66,RDGevent)+DB$32-1","v":0},null,"","",{"$f":"COUNTIF(DD$58:DD66,OK)+COUNTIF(DD$58:DD66,RDGfix)+COUNTIF(DD$58:DD66,RDGave)+COUNTIF(DD$58:DD66,RDGevent)+DF$32-1","v":0},null,"","",{"$f":"COUNTIF(DH$58:DH66,OK)+COUNTIF(DH$58:DH66,RDGfix)+COUNTIF(DH$58:DH66,RDGave)+COUNTIF(DH$58:DH66,RDGevent)+DJ$32-1","v":0},null,"","",{"$f":"COUNTIF(DL$58:DL66,OK)+COUNTIF(DL$58:DL66,RDGfix)+COUNTIF(DL$58:DL66,RDGave)+COUNTIF(DL$58:DL66,RDGevent)+DN$32-1","v":0},null,"","",{"$f":"COUNTIF(DP$58:DP66,OK)+COUNTIF(DP$58:DP66,RDGfix)+COUNTIF(DP$58:DP66,RDGave)+COUNTIF(DP$58:DP66,RDGevent)+DR$32-1","v":0},null,"","",{"$f":"COUNTIF(DT$58:DT66,OK)+COUNTIF(DT$58:DT66,RDGfix)+COUNTIF(DT$58:DT66,RDGave)+COUNTIF(DT$58:DT66,RDGevent)+DV$32-1","v":0},null,"","",{"$f":"COUNTIF(DX$58:DX66,OK)+COUNTIF(DX$58:DX66,RDGfix)+COUNTIF(DX$58:DX66,RDGave)+COUNTIF(DX$58:DX66,RDGevent)+DZ$32-1","v":0},null,"","",{"$f":"COUNTIF(EB$58:EB66,OK)+COUNTIF(EB$58:EB66,RDGfix)+COUNTIF(EB$58:EB66,RDGave)+COUNTIF(EB$58:EB66,RDGevent)+ED$32-1","v":0},null,"","",{"$f":"COUNTIF(EF$58:EF66,OK)+COUNTIF(EF$58:EF66,RDGfix)+COUNTIF(EF$58:EF66,RDGave)+COUNTIF(EF$58:EF66,RDGevent)+EH$32-1","v":0},null,"","",{"$f":"COUNTIF(EJ$58:EJ66,OK)+COUNTIF(EJ$58:EJ66,RDGfix)+COUNTIF(EJ$58:EJ66,RDGave)+COUNTIF(EJ$58:EJ66,RDGevent)+EL$32-1","v":0},null,"","",{"$f":"COUNTIF(EN$58:EN66,OK)+COUNTIF(EN$58:EN66,RDGfix)+COUNTIF(EN$58:EN66,RDGave)+COUNTIF(EN$58:EN66,RDGevent)+EP$32-1","v":0},null,"","",{"$f":"COUNTIF(ER$58:ER66,OK)+COUNTIF(ER$58:ER66,RDGfix)+COUNTIF(ER$58:ER66,RDGave)+COUNTIF(ER$58:ER66,RDGevent)+ET$32-1","v":0},null,"","",{"$f":"COUNTIF(EV$58:EV66,OK)+COUNTIF(EV$58:EV66,RDGfix)+COUNTIF(EV$58:EV66,RDGave)+COUNTIF(EV$58:EV66,RDGevent)+EX$32-1","v":0},null,"","",{"$f":"COUNTIF(EZ$58:EZ66,OK)+COUNTIF(EZ$58:EZ66,RDGfix)+COUNTIF(EZ$58:EZ66,RDGave)+COUNTIF(EZ$58:EZ66,RDGevent)+FB$32-1","v":0},null,"","",{"$f":"COUNTIF(FD$58:FD66,OK)+COUNTIF(FD$58:FD66,RDGfix)+COUNTIF(FD$58:FD66,RDGave)+COUNTIF(FD$58:FD66,RDGevent)+FF$32-1","v":0},null,"","",{"$f":"COUNTIF(FH$58:FH66,OK)+COUNTIF(FH$58:FH66,RDGfix)+COUNTIF(FH$58:FH66,RDGave)+COUNTIF(FH$58:FH66,RDGevent)+FJ$32-1","v":0}]
[null,"10th",null,"","",{"$f":"COUNTIF(D$58:D67,OK)+COUNTIF(D$58:D67,RDGfix)+COUNTIF(D$58:D67,RDGave)+COUNTIF(D$58:D67,RDGevent)","v":0},null,"","",{"$f":"COUNTIF(H$58:H67,OK)+COUNTIF(H$58:H67,RDGfix)+COUNTIF(H$58:H67,RDGave)+COUNTIF(H$58:H67,RDGevent)+J$32-1","v":0},null,"","",{"$f":"COUNTIF(L$58:L67,OK)+COUNTIF(L$58:L67,RDGfix)+COUNTIF(L$58:L67,RDGave)+COUNTIF(L$58:L67,RDGevent)+N$32-1","v":0},null,"","",{"$f":"COUNTIF(P$58:P67,OK)+COUNTIF(P$58:P67,RDGfix)+COUNTIF(P$58:P67,RDGave)+COUNTIF(P$58:P67,RDGevent)+R$32-1","v":0},null,"","",{"$f":"COUNTIF(T$58:T67,OK)+COUNTIF(T$58:T67,RDGfix)+COUNTIF(T$58:T67,RDGave)+COUNTIF(T$58:T67,RDGevent)+V$32-1","v":0},null,"","",{"$f":"COUNTIF(X$58:X67,OK)+COUNTIF(X$58:X67,RDGfix)+COUNTIF(X$58:X67,RDGave)+COUNTIF(X$58:X67,RDGevent)+Z$32-1","v":0},null,"","",{"$f":"COUNTIF(AB$58:AB67,OK)+COUNTIF(AB$58:AB67,RDGfix)+COUNTIF(AB$58:AB67,RDGave)+COUNTIF(AB$58:AB67,RDGevent)+AD$32-1","v":0},null,"","",{"$f":"COUNTIF(AF$58:AF67,OK)+COUNTIF(AF$58:AF67,RDGfix)+COUNTIF(AF$58:AF67,RDGave)+COUNTIF(AF$58:AF67,RDGevent)+AH$32-1","v":0},null,"","",{"$f":"COUNTIF(AJ$58:AJ67,OK)+COUNTIF(AJ$58:AJ67,RDGfix)+COUNTIF(AJ$58:AJ67,RDGave)+COUNTIF(AJ$58:AJ67,RDGevent)+AL$32-1","v":0},null,"","",{"$f":"COUNTIF(AN$58:AN67,OK)+COUNTIF(AN$58:AN67,RDGfix)+COUNTIF(AN$58:AN67,RDGave)+COUNTIF(AN$58:AN67,RDGevent)+AP$32-1","v":0},null,"","",{"$f":"COUNTIF(AR$58:AR67,OK)+COUNTIF(AR$58:AR67,RDGfix)+COUNTIF(AR$58:AR67,RDGave)+COUNTIF(AR$58:AR67,RDGevent)+AT$32-1","v":0},null,"","",{"$f":"COUNTIF(AV$58:AV67,OK)+COUNTIF(AV$58:AV67,RDGfix)+COUNTIF(AV$58:AV67,RDGave)+COUNTIF(AV$58:AV67,RDGevent)+AX$32-1","v":0},null,"","",{"$f":"COUNTIF(AZ$58:AZ67,OK)+COUNTIF(AZ$58:AZ67,RDGfix)+COUNTIF(AZ$58:AZ67,RDGave)+COUNTIF(AZ$58:AZ67,RDGevent)+BB$32-1","v":0},null,"","",{"$f":"COUNTIF(BD$58:BD67,OK)+COUNTIF(BD$58:BD67,RDGfix)+COUNTIF(BD$58:BD67,RDGave)+COUNTIF(BD$58:BD67,RDGevent)+BF$32-1","v":0},null,"","",{"$f":"COUNTIF(BH$58:BH67,OK)+COUNTIF(BH$58:BH67,RDGfix)+COUNTIF(BH$58:BH67,RDGave)+COUNTIF(BH$58:BH67,RDGevent)+BJ$32-1","v":0},null,"","",{"$f":"COUNTIF(BL$58:BL67,OK)+COUNTIF(BL$58:BL67,RDGfix)+COUNTIF(BL$58:BL67,RDGave)+COUNTIF(BL$58:BL67,RDGevent)+BN$32-1","v":0},null,"","",{"$f":"COUNTIF(BP$58:BP67,OK)+COUNTIF(BP$58:BP67,RDGfix)+COUNTIF(BP$58:BP67,RDGave)+COUNTIF(BP$58:BP67,RDGevent)+BR$32-1","v":0},null,"","",{"$f":"COUNTIF(BT$58:BT67,OK)+COUNTIF(BT$58:BT67,RDGfix)+COUNTIF(BT$58:BT67,RDGave)+COUNTIF(BT$58:BT67,RDGevent)+BV$32-1","v":0},null,"","",{"$f":"COUNTIF(BX$58:BX67,OK)+COUNTIF(BX$58:BX67,RDGfix)+COUNTIF(BX$58:BX67,RDGave)+COUNTIF(BX$58:BX67,RDGevent)+BZ$32-1","v":0},null,"","",{"$f":"COUNTIF(CB$58:CB67,OK)+COUNTIF(CB$58:CB67,RDGfix)+COUNTIF(CB$58:CB67,RDGave)+COUNTIF(CB$58:CB67,RDGevent)+CD$32-1","v":0},null,"","",{"$f":"COUNTIF(CF$58:CF67,OK)+COUNTIF(CF$58:CF67,RDGfix)+COUNTIF(CF$58:CF67,RDGave)+COUNTIF(CF$58:CF67,RDGevent)+CH$32-1","v":0},null,"","",{"$f":"COUNTIF(CJ$58:CJ67,OK)+COUNTIF(CJ$58:CJ67,RDGfix)+COUNTIF(CJ$58:CJ67,RDGave)+COUNTIF(CJ$58:CJ67,RDGevent)+CL$32-1","v":0},null,"","",{"$f":"COUNTIF(CN$58:CN67,OK)+COUNTIF(CN$58:CN67,RDGfix)+COUNTIF(CN$58:CN67,RDGave)+COUNTIF(CN$58:CN67,RDGevent)+CP$32-1","v":0},null,"","",{"$f":"COUNTIF(CR$58:CR67,OK)+COUNTIF(CR$58:CR67,RDGfix)+COUNTIF(CR$58:CR67,RDGave)+COUNTIF(CR$58:CR67,RDGevent)+CT$32-1","v":0},null,"","",{"$f":"COUNTIF(CV$58:CV67,OK)+COUNTIF(CV$58:CV67,RDGfix)+COUNTIF(CV$58:CV67,RDGave)+COUNTIF(CV$58:CV67,RDGevent)+CX$32-1","v":0},null,"","",{"$f":"COUNTIF(CZ$58:CZ67,OK)+COUNTIF(CZ$58:CZ67,RDGfix)+COUNTIF(CZ$58:CZ67,RDGave)+COUNTIF(CZ$58:CZ67,RDGevent)+DB$32-1","v":0},null,"","",{"$f":"COUNTIF(DD$58:DD67,OK)+COUNTIF(DD$58:DD67,RDGfix)+COUNTIF(DD$58:DD67,RDGave)+COUNTIF(DD$58:DD67,RDGevent)+DF$32-1","v":0},null,"","",{"$f":"COUNTIF(DH$58:DH67,OK)+COUNTIF(DH$58:DH67,RDGfix)+COUNTIF(DH$58:DH67,RDGave)+COUNTIF(DH$58:DH67,RDGevent)+DJ$32-1","v":0},null,"","",{"$f":"COUNTIF(DL$58:DL67,OK)+COUNTIF(DL$58:DL67,RDGfix)+COUNTIF(DL$58:DL67,RDGave)+COUNTIF(DL$58:DL67,RDGevent)+DN$32-1","v":0},null,"","",{"$f":"COUNTIF(DP$58:DP67,OK)+COUNTIF(DP$58:DP67,RDGfix)+COUNTIF(DP$58:DP67,RDGave)+COUNTIF(DP$58:DP67,RDGevent)+DR$32-1","v":0},null,"","",{"$f":"COUNTIF(DT$58:DT67,OK)+COUNTIF(DT$58:DT67,RDGfix)+COUNTIF(DT$58:DT67,RDGave)+COUNTIF(DT$58:DT67,RDGevent)+DV$32-1","v":0},null,"","",{"$f":"COUNTIF(DX$58:DX67,OK)+COUNTIF(DX$58:DX67,RDGfix)+COUNTIF(DX$58:DX67,RDGave)+COUNTIF(DX$58:DX67,RDGevent)+DZ$32-1","v":0},null,"","",{"$f":"COUNTIF(EB$58:EB67,OK)+COUNTIF(EB$58:EB67,RDGfix)+COUNTIF(EB$58:EB67,RDGave)+COUNTIF(EB$58:EB67,RDGevent)+ED$32-1","v":0},null,"","",{"$f":"COUNTIF(EF$58:EF67,OK)+COUNTIF(EF$58:EF67,RDGfix)+COUNTIF(EF$58:EF67,RDGave)+COUNTIF(EF$58:EF67,RDGevent)+EH$32-1","v":0},null,"","",{"$f":"COUNTIF(EJ$58:EJ67,OK)+COUNTIF(EJ$58:EJ67,RDGfix)+COUNTIF(EJ$58:EJ67,RDGave)+COUNTIF(EJ$58:EJ67,RDGevent)+EL$32-1","v":0},null,"","",{"$f":"COUNTIF(EN$58:EN67,OK)+COUNTIF(EN$58:EN67,RDGfix)+COUNTIF(EN$58:EN67,RDGave)+COUNTIF(EN$58:EN67,RDGevent)+EP$32-1","v":0},null,"","",{"$f":"COUNTIF(ER$58:ER67,OK)+COUNTIF(ER$58:ER67,RDGfix)+COUNTIF(ER$58:ER67,RDGave)+COUNTIF(ER$58:ER67,RDGevent)+ET$32-1","v":0},null,"","",{"$f":"COUNTIF(EV$58:EV67,OK)+COUNTIF(EV$58:EV67,RDGfix)+COUNTIF(EV$58:EV67,RDGave)+COUNTIF(EV$58:EV67,RDGevent)+EX$32-1","v":0},null,"","",{"$f":"COUNTIF(EZ$58:EZ67,OK)+COUNTIF(EZ$58:EZ67,RDGfix)+COUNTIF(EZ$58:EZ67,RDGave)+COUNTIF(EZ$58:EZ67,RDGevent)+FB$32-1","v":0},null,"","",{"$f":"COUNTIF(FD$58:FD67,OK)+COUNTIF(FD$58:FD67,RDGfix)+COUNTIF(FD$58:FD67,RDGave)+COUNTIF(FD$58:FD67,RDGevent)+FF$32-1","v":0},null,"","",{"$f":"COUNTIF(FH$58:FH67,OK)+COUNTIF(FH$58:FH67,RDGfix)+COUNTIF(FH$58:FH67,RDGave)+COUNTIF(FH$58:FH67,RDGevent)+FJ$32-1","v":0}]
[null,"11th",null,"","",{"$f":"COUNTIF(D$58:D68,OK)+COUNTIF(D$58:D68,RDGfix)+COUNTIF(D$58:D68,RDGave)+COUNTIF(D$58:D68,RDGevent)","v":0},null,"","",{"$f":"COUNTIF(H$58:H68,OK)+COUNTIF(H$58:H68,RDGfix)+COUNTIF(H$58:H68,RDGave)+COUNTIF(H$58:H68,RDGevent)+J$32-1","v":0},null,"","",{"$f":"COUNTIF(L$58:L68,OK)+COUNTIF(L$58:L68,RDGfix)+COUNTIF(L$58:L68,RDGave)+COUNTIF(L$58:L68,RDGevent)+N$32-1","v":0},null,"","",{"$f":"COUNTIF(P$58:P68,OK)+COUNTIF(P$58:P68,RDGfix)+COUNTIF(P$58:P68,RDGave)+COUNTIF(P$58:P68,RDGevent)+R$32-1","v":0},null,"","",{"$f":"COUNTIF(T$58:T68,OK)+COUNTIF(T$58:T68,RDGfix)+COUNTIF(T$58:T68,RDGave)+COUNTIF(T$58:T68,RDGevent)+V$32-1","v":0},null,"","",{"$f":"COUNTIF(X$58:X68,OK)+COUNTIF(X$58:X68,RDGfix)+COUNTIF(X$58:X68,RDGave)+COUNTIF(X$58:X68,RDGevent)+Z$32-1","v":0},null,"","",{"$f":"COUNTIF(AB$58:AB68,OK)+COUNTIF(AB$58:AB68,RDGfix)+COUNTIF(AB$58:AB68,RDGave)+COUNTIF(AB$58:AB68,RDGevent)+AD$32-1","v":0},null,"","",{"$f":"COUNTIF(AF$58:AF68,OK)+COUNTIF(AF$58:AF68,RDGfix)+COUNTIF(AF$58:AF68,RDGave)+COUNTIF(AF$58:AF68,RDGevent)+AH$32-1","v":0},null,"","",{"$f":"COUNTIF(AJ$58:AJ68,OK)+COUNTIF(AJ$58:AJ68,RDGfix)+COUNTIF(AJ$58:AJ68,RDGave)+COUNTIF(AJ$58:AJ68,RDGevent)+AL$32-1","v":0},null,"","",{"$f":"COUNTIF(AN$58:AN68,OK)+COUNTIF(AN$58:AN68,RDGfix)+COUNTIF(AN$58:AN68,RDGave)+COUNTIF(AN$58:AN68,RDGevent)+AP$32-1","v":0},null,"","",{"$f":"COUNTIF(AR$58:AR68,OK)+COUNTIF(AR$58:AR68,RDGfix)+COUNTIF(AR$58:AR68,RDGave)+COUNTIF(AR$58:AR68,RDGevent)+AT$32-1","v":0},null,"","",{"$f":"COUNTIF(AV$58:AV68,OK)+COUNTIF(AV$58:AV68,RDGfix)+COUNTIF(AV$58:AV68,RDGave)+COUNTIF(AV$58:AV68,RDGevent)+AX$32-1","v":0},null,"","",{"$f":"COUNTIF(AZ$58:AZ68,OK)+COUNTIF(AZ$58:AZ68,RDGfix)+COUNTIF(AZ$58:AZ68,RDGave)+COUNTIF(AZ$58:AZ68,RDGevent)+BB$32-1","v":0},null,"","",{"$f":"COUNTIF(BD$58:BD68,OK)+COUNTIF(BD$58:BD68,RDGfix)+COUNTIF(BD$58:BD68,RDGave)+COUNTIF(BD$58:BD68,RDGevent)+BF$32-1","v":0},null,"","",{"$f":"COUNTIF(BH$58:BH68,OK)+COUNTIF(BH$58:BH68,RDGfix)+COUNTIF(BH$58:BH68,RDGave)+COUNTIF(BH$58:BH68,RDGevent)+BJ$32-1","v":0},null,"","",{"$f":"COUNTIF(BL$58:BL68,OK)+COUNTIF(BL$58:BL68,RDGfix)+COUNTIF(BL$58:BL68,RDGave)+COUNTIF(BL$58:BL68,RDGevent)+BN$32-1","v":0},null,"","",{"$f":"COUNTIF(BP$58:BP68,OK)+COUNTIF(BP$58:BP68,RDGfix)+COUNTIF(BP$58:BP68,RDGave)+COUNTIF(BP$58:BP68,RDGevent)+BR$32-1","v":0},null,"","",{"$f":"COUNTIF(BT$58:BT68,OK)+COUNTIF(BT$58:BT68,RDGfix)+COUNTIF(BT$58:BT68,RDGave)+COUNTIF(BT$58:BT68,RDGevent)+BV$32-1","v":0},null,"","",{"$f":"COUNTIF(BX$58:BX68,OK)+COUNTIF(BX$58:BX68,RDGfix)+COUNTIF(BX$58:BX68,RDGave)+COUNTIF(BX$58:BX68,RDGevent)+BZ$32-1","v":0},null,"","",{"$f":"COUNTIF(CB$58:CB68,OK)+COUNTIF(CB$58:CB68,RDGfix)+COUNTIF(CB$58:CB68,RDGave)+COUNTIF(CB$58:CB68,RDGevent)+CD$32-1","v":0},null,"","",{"$f":"COUNTIF(CF$58:CF68,OK)+COUNTIF(CF$58:CF68,RDGfix)+COUNTIF(CF$58:CF68,RDGave)+COUNTIF(CF$58:CF68,RDGevent)+CH$32-1","v":0},null,"","",{"$f":"COUNTIF(CJ$58:CJ68,OK)+COUNTIF(CJ$58:CJ68,RDGfix)+COUNTIF(CJ$58:CJ68,RDGave)+COUNTIF(CJ$58:CJ68,RDGevent)+CL$32-1","v":0},null,"","",{"$f":"COUNTIF(CN$58:CN68,OK)+COUNTIF(CN$58:CN68,RDGfix)+COUNTIF(CN$58:CN68,RDGave)+COUNTIF(CN$58:CN68,RDGevent)+CP$32-1","v":0},null,"","",{"$f":"COUNTIF(CR$58:CR68,OK)+COUNTIF(CR$58:CR68,RDGfix)+COUNTIF(CR$58:CR68,RDGave)+COUNTIF(CR$58:CR68,RDGevent)+CT$32-1","v":0},null,"","",{"$f":"COUNTIF(CV$58:CV68,OK)+COUNTIF(CV$58:CV68,RDGfix)+COUNTIF(CV$58:CV68,RDGave)+COUNTIF(CV$58:CV68,RDGevent)+CX$32-1","v":0},null,"","",{"$f":"COUNTIF(CZ$58:CZ68,OK)+COUNTIF(CZ$58:CZ68,RDGfix)+COUNTIF(CZ$58:CZ68,RDGave)+COUNTIF(CZ$58:CZ68,RDGevent)+DB$32-1","v":0},null,"","",{"$f":"COUNTIF(DD$58:DD68,OK)+COUNTIF(DD$58:DD68,RDGfix)+COUNTIF(DD$58:DD68,RDGave)+COUNTIF(DD$58:DD68,RDGevent)+DF$32-1","v":0},null,"","",{"$f":"COUNTIF(DH$58:DH68,OK)+COUNTIF(DH$58:DH68,RDGfix)+COUNTIF(DH$58:DH68,RDGave)+COUNTIF(DH$58:DH68,RDGevent)+DJ$32-1","v":0},null,"","",{"$f":"COUNTIF(DL$58:DL68,OK)+COUNTIF(DL$58:DL68,RDGfix)+COUNTIF(DL$58:DL68,RDGave)+COUNTIF(DL$58:DL68,RDGevent)+DN$32-1","v":0},null,"","",{"$f":"COUNTIF(DP$58:DP68,OK)+COUNTIF(DP$58:DP68,RDGfix)+COUNTIF(DP$58:DP68,RDGave)+COUNTIF(DP$58:DP68,RDGevent)+DR$32-1","v":0},null,"","",{"$f":"COUNTIF(DT$58:DT68,OK)+COUNTIF(DT$58:DT68,RDGfix)+COUNTIF(DT$58:DT68,RDGave)+COUNTIF(DT$58:DT68,RDGevent)+DV$32-1","v":0},null,"","",{"$f":"COUNTIF(DX$58:DX68,OK)+COUNTIF(DX$58:DX68,RDGfix)+COUNTIF(DX$58:DX68,RDGave)+COUNTIF(DX$58:DX68,RDGevent)+DZ$32-1","v":0},null,"","",{"$f":"COUNTIF(EB$58:EB68,OK)+COUNTIF(EB$58:EB68,RDGfix)+COUNTIF(EB$58:EB68,RDGave)+COUNTIF(EB$58:EB68,RDGevent)+ED$32-1","v":0},null,"","",{"$f":"COUNTIF(EF$58:EF68,OK)+COUNTIF(EF$58:EF68,RDGfix)+COUNTIF(EF$58:EF68,RDGave)+COUNTIF(EF$58:EF68,RDGevent)+EH$32-1","v":0},null,"","",{"$f":"COUNTIF(EJ$58:EJ68,OK)+COUNTIF(EJ$58:EJ68,RDGfix)+COUNTIF(EJ$58:EJ68,RDGave)+COUNTIF(EJ$58:EJ68,RDGevent)+EL$32-1","v":0},null,"","",{"$f":"COUNTIF(EN$58:EN68,OK)+COUNTIF(EN$58:EN68,RDGfix)+COUNTIF(EN$58:EN68,RDGave)+COUNTIF(EN$58:EN68,RDGevent)+EP$32-1","v":0},null,"","",{"$f":"COUNTIF(ER$58:ER68,OK)+COUNTIF(ER$58:ER68,RDGfix)+COUNTIF(ER$58:ER68,RDGave)+COUNTIF(ER$58:ER68,RDGevent)+ET$32-1","v":0},null,"","",{"$f":"COUNTIF(EV$58:EV68,OK)+COUNTIF(EV$58:EV68,RDGfix)+COUNTIF(EV$58:EV68,RDGave)+COUNTIF(EV$58:EV68,RDGevent)+EX$32-1","v":0},null,"","",{"$f":"COUNTIF(EZ$58:EZ68,OK)+COUNTIF(EZ$58:EZ68,RDGfix)+COUNTIF(EZ$58:EZ68,RDGave)+COUNTIF(EZ$58:EZ68,RDGevent)+FB$32-1","v":0},null,"","",{"$f":"COUNTIF(FD$58:FD68,OK)+COUNTIF(FD$58:FD68,RDGfix)+COUNTIF(FD$58:FD68,RDGave)+COUNTIF(FD$58:FD68,RDGevent)+FF$32-1","v":0},null,"","",{"$f":"COUNTIF(FH$58:FH68,OK)+COUNTIF(FH$58:FH68,RDGfix)+COUNTIF(FH$58:FH68,RDGave)+COUNTIF(FH$58:FH68,RDGevent)+FJ$32-1","v":0}]
[null,"12th",null,"","",{"$f":"COUNTIF(D$58:D69,OK)+COUNTIF(D$58:D69,RDGfix)+COUNTIF(D$58:D69,RDGave)+COUNTIF(D$58:D69,RDGevent)","v":0},null,"","",{"$f":"COUNTIF(H$58:H69,OK)+COUNTIF(H$58:H69,RDGfix)+COUNTIF(H$58:H69,RDGave)+COUNTIF(H$58:H69,RDGevent)+J$32-1","v":0},null,"","",{"$f":"COUNTIF(L$58:L69,OK)+COUNTIF(L$58:L69,RDGfix)+COUNTIF(L$58:L69,RDGave)+COUNTIF(L$58:L69,RDGevent)+N$32-1","v":0},null,"","",{"$f":"COUNTIF(P$58:P69,OK)+COUNTIF(P$58:P69,RDGfix)+COUNTIF(P$58:P69,RDGave)+COUNTIF(P$58:P69,RDGevent)+R$32-1","v":0},null,"","",{"$f":"COUNTIF(T$58:T69,OK)+COUNTIF(T$58:T69,RDGfix)+COUNTIF(T$58:T69,RDGave)+COUNTIF(T$58:T69,RDGevent)+V$32-1","v":0},null,"","",{"$f":"COUNTIF(X$58:X69,OK)+COUNTIF(X$58:X69,RDGfix)+COUNTIF(X$58:X69,RDGave)+COUNTIF(X$58:X69,RDGevent)+Z$32-1","v":0},null,"","",{"$f":"COUNTIF(AB$58:AB69,OK)+COUNTIF(AB$58:AB69,RDGfix)+COUNTIF(AB$58:AB69,RDGave)+COUNTIF(AB$58:AB69,RDGevent)+AD$32-1","v":0},null,"","",{"$f":"COUNTIF(AF$58:AF69,OK)+COUNTIF(AF$58:AF69,RDGfix)+COUNTIF(AF$58:AF69,RDGave)+COUNTIF(AF$58:AF69,RDGevent)+AH$32-1","v":0},null,"","",{"$f":"COUNTIF(AJ$58:AJ69,OK)+COUNTIF(AJ$58:AJ69,RDGfix)+COUNTIF(AJ$58:AJ69,RDGave)+COUNTIF(AJ$58:AJ69,RDGevent)+AL$32-1","v":0},null,"","",{"$f":"COUNTIF(AN$58:AN69,OK)+COUNTIF(AN$58:AN69,RDGfix)+COUNTIF(AN$58:AN69,RDGave)+COUNTIF(AN$58:AN69,RDGevent)+AP$32-1","v":0},null,"","",{"$f":"COUNTIF(AR$58:AR69,OK)+COUNTIF(AR$58:AR69,RDGfix)+COUNTIF(AR$58:AR69,RDGave)+COUNTIF(AR$58:AR69,RDGevent)+AT$32-1","v":0},null,"","",{"$f":"COUNTIF(AV$58:AV69,OK)+COUNTIF(AV$58:AV69,RDGfix)+COUNTIF(AV$58:AV69,RDGave)+COUNTIF(AV$58:AV69,RDGevent)+AX$32-1","v":0},null,"","",{"$f":"COUNTIF(AZ$58:AZ69,OK)+COUNTIF(AZ$58:AZ69,RDGfix)+COUNTIF(AZ$58:AZ69,RDGave)+COUNTIF(AZ$58:AZ69,RDGevent)+BB$32-1","v":0},null,"","",{"$f":"COUNTIF(BD$58:BD69,OK)+COUNTIF(BD$58:BD69,RDGfix)+COUNTIF(BD$58:BD69,RDGave)+COUNTIF(BD$58:BD69,RDGevent)+BF$32-1","v":0},null,"","",{"$f":"COUNTIF(BH$58:BH69,OK)+COUNTIF(BH$58:BH69,RDGfix)+COUNTIF(BH$58:BH69,RDGave)+COUNTIF(BH$58:BH69,RDGevent)+BJ$32-1","v":0},null,"","",{"$f":"COUNTIF(BL$58:BL69,OK)+COUNTIF(BL$58:BL69,RDGfix)+COUNTIF(BL$58:BL69,RDGave)+COUNTIF(BL$58:BL69,RDGevent)+BN$32-1","v":0},null,"","",{"$f":"COUNTIF(BP$58:BP69,OK)+COUNTIF(BP$58:BP69,RDGfix)+COUNTIF(BP$58:BP69,RDGave)+COUNTIF(BP$58:BP69,RDGevent)+BR$32-1","v":0},null,"","",{"$f":"COUNTIF(BT$58:BT69,OK)+COUNTIF(BT$58:BT69,RDGfix)+COUNTIF(BT$58:BT69,RDGave)+COUNTIF(BT$58:BT69,RDGevent)+BV$32-1","v":0},null,"","",{"$f":"COUNTIF(BX$58:BX69,OK)+COUNTIF(BX$58:BX69,RDGfix)+COUNTIF(BX$58:BX69,RDGave)+COUNTIF(BX$58:BX69,RDGevent)+BZ$32-1","v":0},null,"","",{"$f":"COUNTIF(CB$58:CB69,OK)+COUNTIF(CB$58:CB69,RDGfix)+COUNTIF(CB$58:CB69,RDGave)+COUNTIF(CB$58:CB69,RDGevent)+CD$32-1","v":0},null,"","",{"$f":"COUNTIF(CF$58:CF69,OK)+COUNTIF(CF$58:CF69,RDGfix)+COUNTIF(CF$58:CF69,RDGave)+COUNTIF(CF$58:CF69,RDGevent)+CH$32-1","v":0},null,"","",{"$f":"COUNTIF(CJ$58:CJ69,OK)+COUNTIF(CJ$58:CJ69,RDGfix)+COUNTIF(CJ$58:CJ69,RDGave)+COUNTIF(CJ$58:CJ69,RDGevent)+CL$32-1","v":0},null,"","",{"$f":"COUNTIF(CN$58:CN69,OK)+COUNTIF(CN$58:CN69,RDGfix)+COUNTIF(CN$58:CN69,RDGave)+COUNTIF(CN$58:CN69,RDGevent)+CP$32-1","v":0},null,"","",{"$f":"COUNTIF(CR$58:CR69,OK)+COUNTIF(CR$58:CR69,RDGfix)+COUNTIF(CR$58:CR69,RDGave)+COUNTIF(CR$58:CR69,RDGevent)+CT$32-1","v":0},null,"","",{"$f":"COUNTIF(CV$58:CV69,OK)+COUNTIF(CV$58:CV69,RDGfix)+COUNTIF(CV$58:CV69,RDGave)+COUNTIF(CV$58:CV69,RDGevent)+CX$32-1","v":0},null,"","",{"$f":"COUNTIF(CZ$58:CZ69,OK)+COUNTIF(CZ$58:CZ69,RDGfix)+COUNTIF(CZ$58:CZ69,RDGave)+COUNTIF(CZ$58:CZ69,RDGevent)+DB$32-1","v":0},null,"","",{"$f":"COUNTIF(DD$58:DD69,OK)+COUNTIF(DD$58:DD69,RDGfix)+COUNTIF(DD$58:DD69,RDGave)+COUNTIF(DD$58:DD69,RDGevent)+DF$32-1","v":0},null,"","",{"$f":"COUNTIF(DH$58:DH69,OK)+COUNTIF(DH$58:DH69,RDGfix)+COUNTIF(DH$58:DH69,RDGave)+COUNTIF(DH$58:DH69,RDGevent)+DJ$32-1","v":0},null,"","",{"$f":"COUNTIF(DL$58:DL69,OK)+COUNTIF(DL$58:DL69,RDGfix)+COUNTIF(DL$58:DL69,RDGave)+COUNTIF(DL$58:DL69,RDGevent)+DN$32-1","v":0},null,"","",{"$f":"COUNTIF(DP$58:DP69,OK)+COUNTIF(DP$58:DP69,RDGfix)+COUNTIF(DP$58:DP69,RDGave)+COUNTIF(DP$58:DP69,RDGevent)+DR$32-1","v":0},null,"","",{"$f":"COUNTIF(DT$58:DT69,OK)+COUNTIF(DT$58:DT69,RDGfix)+COUNTIF(DT$58:DT69,RDGave)+COUNTIF(DT$58:DT69,RDGevent)+DV$32-1","v":0},null,"","",{"$f":"COUNTIF(DX$58:DX69,OK)+COUNTIF(DX$58:DX69,RDGfix)+COUNTIF(DX$58:DX69,RDGave)+COUNTIF(DX$58:DX69,RDGevent)+DZ$32-1","v":0},null,"","",{"$f":"COUNTIF(EB$58:EB69,OK)+COUNTIF(EB$58:EB69,RDGfix)+COUNTIF(EB$58:EB69,RDGave)+COUNTIF(EB$58:EB69,RDGevent)+ED$32-1","v":0},null,"","",{"$f":"COUNTIF(EF$58:EF69,OK)+COUNTIF(EF$58:EF69,RDGfix)+COUNTIF(EF$58:EF69,RDGave)+COUNTIF(EF$58:EF69,RDGevent)+EH$32-1","v":0},null,"","",{"$f":"COUNTIF(EJ$58:EJ69,OK)+COUNTIF(EJ$58:EJ69,RDGfix)+COUNTIF(EJ$58:EJ69,RDGave)+COUNTIF(EJ$58:EJ69,RDGevent)+EL$32-1","v":0},null,"","",{"$f":"COUNTIF(EN$58:EN69,OK)+COUNTIF(EN$58:EN69,RDGfix)+COUNTIF(EN$58:EN69,RDGave)+COUNTIF(EN$58:EN69,RDGevent)+EP$32-1","v":0},null,"","",{"$f":"COUNTIF(ER$58:ER69,OK)+COUNTIF(ER$58:ER69,RDGfix)+COUNTIF(ER$58:ER69,RDGave)+COUNTIF(ER$58:ER69,RDGevent)+ET$32-1","v":0},null,"","",{"$f":"COUNTIF(EV$58:EV69,OK)+COUNTIF(EV$58:EV69,RDGfix)+COUNTIF(EV$58:EV69,RDGave)+COUNTIF(EV$58:EV69,RDGevent)+EX$32-1","v":0},null,"","",{"$f":"COUNTIF(EZ$58:EZ69,OK)+COUNTIF(EZ$58:EZ69,RDGfix)+COUNTIF(EZ$58:EZ69,RDGave)+COUNTIF(EZ$58:EZ69,RDGevent)+FB$32-1","v":0},null,"","",{"$f":"COUNTIF(FD$58:FD69,OK)+COUNTIF(FD$58:FD69,RDGfix)+COUNTIF(FD$58:FD69,RDGave)+COUNTIF(FD$58:FD69,RDGevent)+FF$32-1","v":0},null,"","",{"$f":"COUNTIF(FH$58:FH69,OK)+COUNTIF(FH$58:FH69,RDGfix)+COUNTIF(FH$58:FH69,RDGave)+COUNTIF(FH$58:FH69,RDGevent)+FJ$32-1","v":0}]
[null,"13th",null,"","",{"$f":"COUNTIF(D$58:D70,OK)+COUNTIF(D$58:D70,RDGfix)+COUNTIF(D$58:D70,RDGave)+COUNTIF(D$58:D70,RDGevent)","v":0},null,"","",{"$f":"COUNTIF(H$58:H70,OK)+COUNTIF(H$58:H70,RDGfix)+COUNTIF(H$58:H70,RDGave)+COUNTIF(H$58:H70,RDGevent)+J$32-1","v":0},null,"","",{"$f":"COUNTIF(L$58:L70,OK)+COUNTIF(L$58:L70,RDGfix)+COUNTIF(L$58:L70,RDGave)+COUNTIF(L$58:L70,RDGevent)+N$32-1","v":0},null,"","",{"$f":"COUNTIF(P$58:P70,OK)+COUNTIF(P$58:P70,RDGfix)+COUNTIF(P$58:P70,RDGave)+COUNTIF(P$58:P70,RDGevent)+R$32-1","v":0},null,"","",{"$f":"COUNTIF(T$58:T70,OK)+COUNTIF(T$58:T70,RDGfix)+COUNTIF(T$58:T70,RDGave)+COUNTIF(T$58:T70,RDGevent)+V$32-1","v":0},null,"","",{"$f":"COUNTIF(X$58:X70,OK)+COUNTIF(X$58:X70,RDGfix)+COUNTIF(X$58:X70,RDGave)+COUNTIF(X$58:X70,RDGevent)+Z$32-1","v":0},null,"","",{"$f":"COUNTIF(AB$58:AB70,OK)+COUNTIF(AB$58:AB70,RDGfix)+COUNTIF(AB$58:AB70,RDGave)+COUNTIF(AB$58:AB70,RDGevent)+AD$32-1","v":0},null,"","",{"$f":"COUNTIF(AF$58:AF70,OK)+COUNTIF(AF$58:AF70,RDGfix)+COUNTIF(AF$58:AF70,RDGave)+COUNTIF(AF$58:AF70,RDGevent)+AH$32-1","v":0},null,"","",{"$f":"COUNTIF(AJ$58:AJ70,OK)+COUNTIF(AJ$58:AJ70,RDGfix)+COUNTIF(AJ$58:AJ70,RDGave)+COUNTIF(AJ$58:AJ70,RDGevent)+AL$32-1","v":0},null,"","",{"$f":"COUNTIF(AN$58:AN70,OK)+COUNTIF(AN$58:AN70,RDGfix)+COUNTIF(AN$58:AN70,RDGave)+COUNTIF(AN$58:AN70,RDGevent)+AP$32-1","v":0},null,"","",{"$f":"COUNTIF(AR$58:AR70,OK)+COUNTIF(AR$58:AR70,RDGfix)+COUNTIF(AR$58:AR70,RDGave)+COUNTIF(AR$58:AR70,RDGevent)+AT$32-1","v":0},null,"","",{"$f":"COUNTIF(AV$58:AV70,OK)+COUNTIF(AV$58:AV70,RDGfix)+COUNTIF(AV$58:AV70,RDGave)+COUNTIF(AV$58:AV70,RDGevent)+AX$32-1","v":0},null,"","",{"$f":"COUNTIF(AZ$58:AZ70,OK)+COUNTIF(AZ$58:AZ70,RDGfix)+COUNTIF(AZ$58:AZ70,RDGave)+COUNTIF(AZ$58:AZ70,RDGevent)+BB$32-1","v":0},null,"","",{"$f":"COUNTIF(BD$58:BD70,OK)+COUNTIF(BD$58:BD70,RDGfix)+COUNTIF(BD$58:BD70,RDGave)+COUNTIF(BD$58:BD70,RDGevent)+BF$32-1","v":0},null,"","",{"$f":"COUNTIF(BH$58:BH70,OK)+COUNTIF(BH$58:BH70,RDGfix)+COUNTIF(BH$58:BH70,RDGave)+COUNTIF(BH$58:BH70,RDGevent)+BJ$32-1","v":0},null,"","",{"$f":"COUNTIF(BL$58:BL70,OK)+COUNTIF(BL$58:BL70,RDGfix)+COUNTIF(BL$58:BL70,RDGave)+COUNTIF(BL$58:BL70,RDGevent)+BN$32-1","v":0},null,"","",{"$f":"COUNTIF(BP$58:BP70,OK)+COUNTIF(BP$58:BP70,RDGfix)+COUNTIF(BP$58:BP70,RDGave)+COUNTIF(BP$58:BP70,RDGevent)+BR$32-1","v":0},null,"","",{"$f":"COUNTIF(BT$58:BT70,OK)+COUNTIF(BT$58:BT70,RDGfix)+COUNTIF(BT$58:BT70,RDGave)+COUNTIF(BT$58:BT70,RDGevent)+BV$32-1","v":0},null,"","",{"$f":"COUNTIF(BX$58:BX70,OK)+COUNTIF(BX$58:BX70,RDGfix)+COUNTIF(BX$58:BX70,RDGave)+COUNTIF(BX$58:BX70,RDGevent)+BZ$32-1","v":0},null,"","",{"$f":"COUNTIF(CB$58:CB70,OK)+COUNTIF(CB$58:CB70,RDGfix)+COUNTIF(CB$58:CB70,RDGave)+COUNTIF(CB$58:CB70,RDGevent)+CD$32-1","v":0},null,"","",{"$f":"COUNTIF(CF$58:CF70,OK)+COUNTIF(CF$58:CF70,RDGfix)+COUNTIF(CF$58:CF70,RDGave)+COUNTIF(CF$58:CF70,RDGevent)+CH$32-1","v":0},null,"","",{"$f":"COUNTIF(CJ$58:CJ70,OK)+COUNTIF(CJ$58:CJ70,RDGfix)+COUNTIF(CJ$58:CJ70,RDGave)+COUNTIF(CJ$58:CJ70,RDGevent)+CL$32-1","v":0},null,"","",{"$f":"COUNTIF(CN$58:CN70,OK)+COUNTIF(CN$58:CN70,RDGfix)+COUNTIF(CN$58:CN70,RDGave)+COUNTIF(CN$58:CN70,RDGevent)+CP$32-1","v":0},null,"","",{"$f":"COUNTIF(CR$58:CR70,OK)+COUNTIF(CR$58:CR70,RDGfix)+COUNTIF(CR$58:CR70,RDGave)+COUNTIF(CR$58:CR70,RDGevent)+CT$32-1","v":0},null,"","",{"$f":"COUNTIF(CV$58:CV70,OK)+COUNTIF(CV$58:CV70,RDGfix)+COUNTIF(CV$58:CV70,RDGave)+COUNTIF(CV$58:CV70,RDGevent)+CX$32-1","v":0},null,"","",{"$f":"COUNTIF(CZ$58:CZ70,OK)+COUNTIF(CZ$58:CZ70,RDGfix)+COUNTIF(CZ$58:CZ70,RDGave)+COUNTIF(CZ$58:CZ70,RDGevent)+DB$32-1","v":0},null,"","",{"$f":"COUNTIF(DD$58:DD70,OK)+COUNTIF(DD$58:DD70,RDGfix)+COUNTIF(DD$58:DD70,RDGave)+COUNTIF(DD$58:DD70,RDGevent)+DF$32-1","v":0},null,"","",{"$f":"COUNTIF(DH$58:DH70,OK)+COUNTIF(DH$58:DH70,RDGfix)+COUNTIF(DH$58:DH70,RDGave)+COUNTIF(DH$58:DH70,RDGevent)+DJ$32-1","v":0},null,"","",{"$f":"COUNTIF(DL$58:DL70,OK)+COUNTIF(DL$58:DL70,RDGfix)+COUNTIF(DL$58:DL70,RDGave)+COUNTIF(DL$58:DL70,RDGevent)+DN$32-1","v":0},null,"","",{"$f":"COUNTIF(DP$58:DP70,OK)+COUNTIF(DP$58:DP70,RDGfix)+COUNTIF(DP$58:DP70,RDGave)+COUNTIF(DP$58:DP70,RDGevent)+DR$32-1","v":0},null,"","",{"$f":"COUNTIF(DT$58:DT70,OK)+COUNTIF(DT$58:DT70,RDGfix)+COUNTIF(DT$58:DT70,RDGave)+COUNTIF(DT$58:DT70,RDGevent)+DV$32-1","v":0},null,"","",{"$f":"COUNTIF(DX$58:DX70,OK)+COUNTIF(DX$58:DX70,RDGfix)+COUNTIF(DX$58:DX70,RDGave)+COUNTIF(DX$58:DX70,RDGevent)+DZ$32-1","v":0},null,"","",{"$f":"COUNTIF(EB$58:EB70,OK)+COUNTIF(EB$58:EB70,RDGfix)+COUNTIF(EB$58:EB70,RDGave)+COUNTIF(EB$58:EB70,RDGevent)+ED$32-1","v":0},null,"","",{"$f":"COUNTIF(EF$58:EF70,OK)+COUNTIF(EF$58:EF70,RDGfix)+COUNTIF(EF$58:EF70,RDGave)+COUNTIF(EF$58:EF70,RDGevent)+EH$32-1","v":0},null,"","",{"$f":"COUNTIF(EJ$58:EJ70,OK)+COUNTIF(EJ$58:EJ70,RDGfix)+COUNTIF(EJ$58:EJ70,RDGave)+COUNTIF(EJ$58:EJ70,RDGevent)+EL$32-1","v":0},null,"","",{"$f":"COUNTIF(EN$58:EN70,OK)+COUNTIF(EN$58:EN70,RDGfix)+COUNTIF(EN$58:EN70,RDGave)+COUNTIF(EN$58:EN70,RDGevent)+EP$32-1","v":0},null,"","",{"$f":"COUNTIF(ER$58:ER70,OK)+COUNTIF(ER$58:ER70,RDGfix)+COUNTIF(ER$58:ER70,RDGave)+COUNTIF(ER$58:ER70,RDGevent)+ET$32-1","v":0},null,"","",{"$f":"COUNTIF(EV$58:EV70,OK)+COUNTIF(EV$58:EV70,RDGfix)+COUNTIF(EV$58:EV70,RDGave)+COUNTIF(EV$58:EV70,RDGevent)+EX$32-1","v":0},null,"","",{"$f":"COUNTIF(EZ$58:EZ70,OK)+COUNTIF(EZ$58:EZ70,RDGfix)+COUNTIF(EZ$58:EZ70,RDGave)+COUNTIF(EZ$58:EZ70,RDGevent)+FB$32-1","v":0},null,"","",{"$f":"COUNTIF(FD$58:FD70,OK)+COUNTIF(FD$58:FD70,RDGfix)+COUNTIF(FD$58:FD70,RDGave)+COUNTIF(FD$58:FD70,RDGevent)+FF$32-1","v":0},null,"","",{"$f":"COUNTIF(FH$58:FH70,OK)+COUNTIF(FH$58:FH70,RDGfix)+COUNTIF(FH$58:FH70,RDGave)+COUNTIF(FH$58:FH70,RDGevent)+FJ$32-1","v":0}]
[null,"14th",null,"","",{"$f":"COUNTIF(D$58:D71,OK)+COUNTIF(D$58:D71,RDGfix)+COUNTIF(D$58:D71,RDGave)+COUNTIF(D$58:D71,RDGevent)","v":0},null,"","",{"$f":"COUNTIF(H$58:H71,OK)+COUNTIF(H$58:H71,RDGfix)+COUNTIF(H$58:H71,RDGave)+COUNTIF(H$58:H71,RDGevent)+J$32-1","v":0},null,"","",{"$f":"COUNTIF(L$58:L71,OK)+COUNTIF(L$58:L71,RDGfix)+COUNTIF(L$58:L71,RDGave)+COUNTIF(L$58:L71,RDGevent)+N$32-1","v":0},null,"","",{"$f":"COUNTIF(P$58:P71,OK)+COUNTIF(P$58:P71,RDGfix)+COUNTIF(P$58:P71,RDGave)+COUNTIF(P$58:P71,RDGevent)+R$32-1","v":0},null,"","",{"$f":"COUNTIF(T$58:T71,OK)+COUNTIF(T$58:T71,RDGfix)+COUNTIF(T$58:T71,RDGave)+COUNTIF(T$58:T71,RDGevent)+V$32-1","v":0},null,"","",{"$f":"COUNTIF(X$58:X71,OK)+COUNTIF(X$58:X71,RDGfix)+COUNTIF(X$58:X71,RDGave)+COUNTIF(X$58:X71,RDGevent)+Z$32-1","v":0},null,"","",{"$f":"COUNTIF(AB$58:AB71,OK)+COUNTIF(AB$58:AB71,RDGfix)+COUNTIF(AB$58:AB71,RDGave)+COUNTIF(AB$58:AB71,RDGevent)+AD$32-1","v":0},null,"","",{"$f":"COUNTIF(AF$58:AF71,OK)+COUNTIF(AF$58:AF71,RDGfix)+COUNTIF(AF$58:AF71,RDGave)+COUNTIF(AF$58:AF71,RDGevent)+AH$32-1","v":0},null,"","",{"$f":"COUNTIF(AJ$58:AJ71,OK)+COUNTIF(AJ$58:AJ71,RDGfix)+COUNTIF(AJ$58:AJ71,RDGave)+COUNTIF(AJ$58:AJ71,RDGevent)+AL$32-1","v":0},null,"","",{"$f":"COUNTIF(AN$58:AN71,OK)+COUNTIF(AN$58:AN71,RDGfix)+COUNTIF(AN$58:AN71,RDGave)+COUNTIF(AN$58:AN71,RDGevent)+AP$32-1","v":0},null,"","",{"$f":"COUNTIF(AR$58:AR71,OK)+COUNTIF(AR$58:AR71,RDGfix)+COUNTIF(AR$58:AR71,RDGave)+COUNTIF(AR$58:AR71,RDGevent)+AT$32-1","v":0},null,"","",{"$f":"COUNTIF(AV$58:AV71,OK)+COUNTIF(AV$58:AV71,RDGfix)+COUNTIF(AV$58:AV71,RDGave)+COUNTIF(AV$58:AV71,RDGevent)+AX$32-1","v":0},null,"","",{"$f":"COUNTIF(AZ$58:AZ71,OK)+COUNTIF(AZ$58:AZ71,RDGfix)+COUNTIF(AZ$58:AZ71,RDGave)+COUNTIF(AZ$58:AZ71,RDGevent)+BB$32-1","v":0},null,"","",{"$f":"COUNTIF(BD$58:BD71,OK)+COUNTIF(BD$58:BD71,RDGfix)+COUNTIF(BD$58:BD71,RDGave)+COUNTIF(BD$58:BD71,RDGevent)+BF$32-1","v":0},null,"","",{"$f":"COUNTIF(BH$58:BH71,OK)+COUNTIF(BH$58:BH71,RDGfix)+COUNTIF(BH$58:BH71,RDGave)+COUNTIF(BH$58:BH71,RDGevent)+BJ$32-1","v":0},null,"","",{"$f":"COUNTIF(BL$58:BL71,OK)+COUNTIF(BL$58:BL71,RDGfix)+COUNTIF(BL$58:BL71,RDGave)+COUNTIF(BL$58:BL71,RDGevent)+BN$32-1","v":0},null,"","",{"$f":"COUNTIF(BP$58:BP71,OK)+COUNTIF(BP$58:BP71,RDGfix)+COUNTIF(BP$58:BP71,RDGave)+COUNTIF(BP$58:BP71,RDGevent)+BR$32-1","v":0},null,"","",{"$f":"COUNTIF(BT$58:BT71,OK)+COUNTIF(BT$58:BT71,RDGfix)+COUNTIF(BT$58:BT71,RDGave)+COUNTIF(BT$58:BT71,RDGevent)+BV$32-1","v":0},null,"","",{"$f":"COUNTIF(BX$58:BX71,OK)+COUNTIF(BX$58:BX71,RDGfix)+COUNTIF(BX$58:BX71,RDGave)+COUNTIF(BX$58:BX71,RDGevent)+BZ$32-1","v":0},null,"","",{"$f":"COUNTIF(CB$58:CB71,OK)+COUNTIF(CB$58:CB71,RDGfix)+COUNTIF(CB$58:CB71,RDGave)+COUNTIF(CB$58:CB71,RDGevent)+CD$32-1","v":0},null,"","",{"$f":"COUNTIF(CF$58:CF71,OK)+COUNTIF(CF$58:CF71,RDGfix)+COUNTIF(CF$58:CF71,RDGave)+COUNTIF(CF$58:CF71,RDGevent)+CH$32-1","v":0},null,"","",{"$f":"COUNTIF(CJ$58:CJ71,OK)+COUNTIF(CJ$58:CJ71,RDGfix)+COUNTIF(CJ$58:CJ71,RDGave)+COUNTIF(CJ$58:CJ71,RDGevent)+CL$32-1","v":0},null,"","",{"$f":"COUNTIF(CN$58:CN71,OK)+COUNTIF(CN$58:CN71,RDGfix)+COUNTIF(CN$58:CN71,RDGave)+COUNTIF(CN$58:CN71,RDGevent)+CP$32-1","v":0},null,"","",{"$f":"COUNTIF(CR$58:CR71,OK)+COUNTIF(CR$58:CR71,RDGfix)+COUNTIF(CR$58:CR71,RDGave)+COUNTIF(CR$58:CR71,RDGevent)+CT$32-1","v":0},null,"","",{"$f":"COUNTIF(CV$58:CV71,OK)+COUNTIF(CV$58:CV71,RDGfix)+COUNTIF(CV$58:CV71,RDGave)+COUNTIF(CV$58:CV71,RDGevent)+CX$32-1","v":0},null,"","",{"$f":"COUNTIF(CZ$58:CZ71,OK)+COUNTIF(CZ$58:CZ71,RDGfix)+COUNTIF(CZ$58:CZ71,RDGave)+COUNTIF(CZ$58:CZ71,RDGevent)+DB$32-1","v":0},null,"","",{"$f":"COUNTIF(DD$58:DD71,OK)+COUNTIF(DD$58:DD71,RDGfix)+COUNTIF(DD$58:DD71,RDGave)+COUNTIF(DD$58:DD71,RDGevent)+DF$32-1","v":0},null,"","",{"$f":"COUNTIF(DH$58:DH71,OK)+COUNTIF(DH$58:DH71,RDGfix)+COUNTIF(DH$58:DH71,RDGave)+COUNTIF(DH$58:DH71,RDGevent)+DJ$32-1","v":0},null,"","",{"$f":"COUNTIF(DL$58:DL71,OK)+COUNTIF(DL$58:DL71,RDGfix)+COUNTIF(DL$58:DL71,RDGave)+COUNTIF(DL$58:DL71,RDGevent)+DN$32-1","v":0},null,"","",{"$f":"COUNTIF(DP$58:DP71,OK)+COUNTIF(DP$58:DP71,RDGfix)+COUNTIF(DP$58:DP71,RDGave)+COUNTIF(DP$58:DP71,RDGevent)+DR$32-1","v":0},null,"","",{"$f":"COUNTIF(DT$58:DT71,OK)+COUNTIF(DT$58:DT71,RDGfix)+COUNTIF(DT$58:DT71,RDGave)+COUNTIF(DT$58:DT71,RDGevent)+DV$32-1","v":0},null,"","",{"$f":"COUNTIF(DX$58:DX71,OK)+COUNTIF(DX$58:DX71,RDGfix)+COUNTIF(DX$58:DX71,RDGave)+COUNTIF(DX$58:DX71,RDGevent)+DZ$32-1","v":0},null,"","",{"$f":"COUNTIF(EB$58:EB71,OK)+COUNTIF(EB$58:EB71,RDGfix)+COUNTIF(EB$58:EB71,RDGave)+COUNTIF(EB$58:EB71,RDGevent)+ED$32-1","v":0},null,"","",{"$f":"COUNTIF(EF$58:EF71,OK)+COUNTIF(EF$58:EF71,RDGfix)+COUNTIF(EF$58:EF71,RDGave)+COUNTIF(EF$58:EF71,RDGevent)+EH$32-1","v":0},null,"","",{"$f":"COUNTIF(EJ$58:EJ71,OK)+COUNTIF(EJ$58:EJ71,RDGfix)+COUNTIF(EJ$58:EJ71,RDGave)+COUNTIF(EJ$58:EJ71,RDGevent)+EL$32-1","v":0},null,"","",{"$f":"COUNTIF(EN$58:EN71,OK)+COUNTIF(EN$58:EN71,RDGfix)+COUNTIF(EN$58:EN71,RDGave)+COUNTIF(EN$58:EN71,RDGevent)+EP$32-1","v":0},null,"","",{"$f":"COUNTIF(ER$58:ER71,OK)+COUNTIF(ER$58:ER71,RDGfix)+COUNTIF(ER$58:ER71,RDGave)+COUNTIF(ER$58:ER71,RDGevent)+ET$32-1","v":0},null,"","",{"$f":"COUNTIF(EV$58:EV71,OK)+COUNTIF(EV$58:EV71,RDGfix)+COUNTIF(EV$58:EV71,RDGave)+COUNTIF(EV$58:EV71,RDGevent)+EX$32-1","v":0},null,"","",{"$f":"COUNTIF(EZ$58:EZ71,OK)+COUNTIF(EZ$58:EZ71,RDGfix)+COUNTIF(EZ$58:EZ71,RDGave)+COUNTIF(EZ$58:EZ71,RDGevent)+FB$32-1","v":0},null,"","",{"$f":"COUNTIF(FD$58:FD71,OK)+COUNTIF(FD$58:FD71,RDGfix)+COUNTIF(FD$58:FD71,RDGave)+COUNTIF(FD$58:FD71,RDGevent)+FF$32-1","v":0},null,"","",{"$f":"COUNTIF(FH$58:FH71,OK)+COUNTIF(FH$58:FH71,RDGfix)+COUNTIF(FH$58:FH71,RDGave)+COUNTIF(FH$58:FH71,RDGevent)+FJ$32-1","v":0}]
[null,"15th",null,"","",{"$f":"COUNTIF(D$58:D72,OK)+COUNTIF(D$58:D72,RDGfix)+COUNTIF(D$58:D72,RDGave)+COUNTIF(D$58:D72,RDGevent)","v":0},null,"","",{"$f":"COUNTIF(H$58:H72,OK)+COUNTIF(H$58:H72,RDGfix)+COUNTIF(H$58:H72,RDGave)+COUNTIF(H$58:H72,RDGevent)+J$32-1","v":0},null,"","",{"$f":"COUNTIF(L$58:L72,OK)+COUNTIF(L$58:L72,RDGfix)+COUNTIF(L$58:L72,RDGave)+COUNTIF(L$58:L72,RDGevent)+N$32-1","v":0},null,"","",{"$f":"COUNTIF(P$58:P72,OK)+COUNTIF(P$58:P72,RDGfix)+COUNTIF(P$58:P72,RDGave)+COUNTIF(P$58:P72,RDGevent)+R$32-1","v":0},null,"","",{"$f":"COUNTIF(T$58:T72,OK)+COUNTIF(T$58:T72,RDGfix)+COUNTIF(T$58:T72,RDGave)+COUNTIF(T$58:T72,RDGevent)+V$32-1","v":0},null,"","",{"$f":"COUNTIF(X$58:X72,OK)+COUNTIF(X$58:X72,RDGfix)+COUNTIF(X$58:X72,RDGave)+COUNTIF(X$58:X72,RDGevent)+Z$32-1","v":0},null,"","",{"$f":"COUNTIF(AB$58:AB72,OK)+COUNTIF(AB$58:AB72,RDGfix)+COUNTIF(AB$58:AB72,RDGave)+COUNTIF(AB$58:AB72,RDGevent)+AD$32-1","v":0},null,"","",{"$f":"COUNTIF(AF$58:AF72,OK)+COUNTIF(AF$58:AF72,RDGfix)+COUNTIF(AF$58:AF72,RDGave)+COUNTIF(AF$58:AF72,RDGevent)+AH$32-1","v":0},null,"","",{"$f":"COUNTIF(AJ$58:AJ72,OK)+COUNTIF(AJ$58:AJ72,RDGfix)+COUNTIF(AJ$58:AJ72,RDGave)+COUNTIF(AJ$58:AJ72,RDGevent)+AL$32-1","v":0},null,"","",{"$f":"COUNTIF(AN$58:AN72,OK)+COUNTIF(AN$58:AN72,RDGfix)+COUNTIF(AN$58:AN72,RDGave)+COUNTIF(AN$58:AN72,RDGevent)+AP$32-1","v":0},null,"","",{"$f":"COUNTIF(AR$58:AR72,OK)+COUNTIF(AR$58:AR72,RDGfix)+COUNTIF(AR$58:AR72,RDGave)+COUNTIF(AR$58:AR72,RDGevent)+AT$32-1","v":0},null,"","",{"$f":"COUNTIF(AV$58:AV72,OK)+COUNTIF(AV$58:AV72,RDGfix)+COUNTIF(AV$58:AV72,RDGave)+COUNTIF(AV$58:AV72,RDGevent)+AX$32-1","v":0},null,"","",{"$f":"COUNTIF(AZ$58:AZ72,OK)+COUNTIF(AZ$58:AZ72,RDGfix)+COUNTIF(AZ$58:AZ72,RDGave)+COUNTIF(AZ$58:AZ72,RDGevent)+BB$32-1","v":0},null,"","",{"$f":"COUNTIF(BD$58:BD72,OK)+COUNTIF(BD$58:BD72,RDGfix)+COUNTIF(BD$58:BD72,RDGave)+COUNTIF(BD$58:BD72,RDGevent)+BF$32-1","v":0},null,"","",{"$f":"COUNTIF(BH$58:BH72,OK)+COUNTIF(BH$58:BH72,RDGfix)+COUNTIF(BH$58:BH72,RDGave)+COUNTIF(BH$58:BH72,RDGevent)+BJ$32-1","v":0},null,"","",{"$f":"COUNTIF(BL$58:BL72,OK)+COUNTIF(BL$58:BL72,RDGfix)+COUNTIF(BL$58:BL72,RDGave)+COUNTIF(BL$58:BL72,RDGevent)+BN$32-1","v":0},null,"","",{"$f":"COUNTIF(BP$58:BP72,OK)+COUNTIF(BP$58:BP72,RDGfix)+COUNTIF(BP$58:BP72,RDGave)+COUNTIF(BP$58:BP72,RDGevent)+BR$32-1","v":0},null,"","",{"$f":"COUNTIF(BT$58:BT72,OK)+COUNTIF(BT$58:BT72,RDGfix)+COUNTIF(BT$58:BT72,RDGave)+COUNTIF(BT$58:BT72,RDGevent)+BV$32-1","v":0},null,"","",{"$f":"COUNTIF(BX$58:BX72,OK)+COUNTIF(BX$58:BX72,RDGfix)+COUNTIF(BX$58:BX72,RDGave)+COUNTIF(BX$58:BX72,RDGevent)+BZ$32-1","v":0},null,"","",{"$f":"COUNTIF(CB$58:CB72,OK)+COUNTIF(CB$58:CB72,RDGfix)+COUNTIF(CB$58:CB72,RDGave)+COUNTIF(CB$58:CB72,RDGevent)+CD$32-1","v":0},null,"","",{"$f":"COUNTIF(CF$58:CF72,OK)+COUNTIF(CF$58:CF72,RDGfix)+COUNTIF(CF$58:CF72,RDGave)+COUNTIF(CF$58:CF72,RDGevent)+CH$32-1","v":0},null,"","",{"$f":"COUNTIF(CJ$58:CJ72,OK)+COUNTIF(CJ$58:CJ72,RDGfix)+COUNTIF(CJ$58:CJ72,RDGave)+COUNTIF(CJ$58:CJ72,RDGevent)+CL$32-1","v":0},null,"","",{"$f":"COUNTIF(CN$58:CN72,OK)+COUNTIF(CN$58:CN72,RDGfix)+COUNTIF(CN$58:CN72,RDGave)+COUNTIF(CN$58:CN72,RDGevent)+CP$32-1","v":0},null,"","",{"$f":"COUNTIF(CR$58:CR72,OK)+COUNTIF(CR$58:CR72,RDGfix)+COUNTIF(CR$58:CR72,RDGave)+COUNTIF(CR$58:CR72,RDGevent)+CT$32-1","v":0},null,"","",{"$f":"COUNTIF(CV$58:CV72,OK)+COUNTIF(CV$58:CV72,RDGfix)+COUNTIF(CV$58:CV72,RDGave)+COUNTIF(CV$58:CV72,RDGevent)+CX$32-1","v":0},null,"","",{"$f":"COUNTIF(CZ$58:CZ72,OK)+COUNTIF(CZ$58:CZ72,RDGfix)+COUNTIF(CZ$58:CZ72,RDGave)+COUNTIF(CZ$58:CZ72,RDGevent)+DB$32-1","v":0},null,"","",{"$f":"COUNTIF(DD$58:DD72,OK)+COUNTIF(DD$58:DD72,RDGfix)+COUNTIF(DD$58:DD72,RDGave)+COUNTIF(DD$58:DD72,RDGevent)+DF$32-1","v":0},null,"","",{"$f":"COUNTIF(DH$58:DH72,OK)+COUNTIF(DH$58:DH72,RDGfix)+COUNTIF(DH$58:DH72,RDGave)+COUNTIF(DH$58:DH72,RDGevent)+DJ$32-1","v":0},null,"","",{"$f":"COUNTIF(DL$58:DL72,OK)+COUNTIF(DL$58:DL72,RDGfix)+COUNTIF(DL$58:DL72,RDGave)+COUNTIF(DL$58:DL72,RDGevent)+DN$32-1","v":0},null,"","",{"$f":"COUNTIF(DP$58:DP72,OK)+COUNTIF(DP$58:DP72,RDGfix)+COUNTIF(DP$58:DP72,RDGave)+COUNTIF(DP$58:DP72,RDGevent)+DR$32-1","v":0},null,"","",{"$f":"COUNTIF(DT$58:DT72,OK)+COUNTIF(DT$58:DT72,RDGfix)+COUNTIF(DT$58:DT72,RDGave)+COUNTIF(DT$58:DT72,RDGevent)+DV$32-1","v":0},null,"","",{"$f":"COUNTIF(DX$58:DX72,OK)+COUNTIF(DX$58:DX72,RDGfix)+COUNTIF(DX$58:DX72,RDGave)+COUNTIF(DX$58:DX72,RDGevent)+DZ$32-1","v":0},null,"","",{"$f":"COUNTIF(EB$58:EB72,OK)+COUNTIF(EB$58:EB72,RDGfix)+COUNTIF(EB$58:EB72,RDGave)+COUNTIF(EB$58:EB72,RDGevent)+ED$32-1","v":0},null,"","",{"$f":"COUNTIF(EF$58:EF72,OK)+COUNTIF(EF$58:EF72,RDGfix)+COUNTIF(EF$58:EF72,RDGave)+COUNTIF(EF$58:EF72,RDGevent)+EH$32-1","v":0},null,"","",{"$f":"COUNTIF(EJ$58:EJ72,OK)+COUNTIF(EJ$58:EJ72,RDGfix)+COUNTIF(EJ$58:EJ72,RDGave)+COUNTIF(EJ$58:EJ72,RDGevent)+EL$32-1","v":0},null,"","",{"$f":"COUNTIF(EN$58:EN72,OK)+COUNTIF(EN$58:EN72,RDGfix)+COUNTIF(EN$58:EN72,RDGave)+COUNTIF(EN$58:EN72,RDGevent)+EP$32-1","v":0},null,"","",{"$f":"COUNTIF(ER$58:ER72,OK)+COUNTIF(ER$58:ER72,RDGfix)+COUNTIF(ER$58:ER72,RDGave)+COUNTIF(ER$58:ER72,RDGevent)+ET$32-1","v":0},null,"","",{"$f":"COUNTIF(EV$58:EV72,OK)+COUNTIF(EV$58:EV72,RDGfix)+COUNTIF(EV$58:EV72,RDGave)+COUNTIF(EV$58:EV72,RDGevent)+EX$32-1","v":0},null,"","",{"$f":"COUNTIF(EZ$58:EZ72,OK)+COUNTIF(EZ$58:EZ72,RDGfix)+COUNTIF(EZ$58:EZ72,RDGave)+COUNTIF(EZ$58:EZ72,RDGevent)+FB$32-1","v":0},null,"","",{"$f":"COUNTIF(FD$58:FD72,OK)+COUNTIF(FD$58:FD72,RDGfix)+COUNTIF(FD$58:FD72,RDGave)+COUNTIF(FD$58:FD72,RDGevent)+FF$32-1","v":0},null,"","",{"$f":"COUNTIF(FH$58:FH72,OK)+COUNTIF(FH$58:FH72,RDGfix)+COUNTIF(FH$58:FH72,RDGave)+COUNTIF(FH$58:FH72,RDGevent)+FJ$32-1","v":0}]
[null,"16th",null,"","",{"$f":"COUNTIF(D$58:D73,OK)+COUNTIF(D$58:D73,RDGfix)+COUNTIF(D$58:D73,RDGave)+COUNTIF(D$58:D73,RDGevent)","v":0},null,"","",{"$f":"COUNTIF(H$58:H73,OK)+COUNTIF(H$58:H73,RDGfix)+COUNTIF(H$58:H73,RDGave)+COUNTIF(H$58:H73,RDGevent)+J$32-1","v":0},null,"","",{"$f":"COUNTIF(L$58:L73,OK)+COUNTIF(L$58:L73,RDGfix)+COUNTIF(L$58:L73,RDGave)+COUNTIF(L$58:L73,RDGevent)+N$32-1","v":0},null,"","",{"$f":"COUNTIF(P$58:P73,OK)+COUNTIF(P$58:P73,RDGfix)+COUNTIF(P$58:P73,RDGave)+COUNTIF(P$58:P73,RDGevent)+R$32-1","v":0},null,"","",{"$f":"COUNTIF(T$58:T73,OK)+COUNTIF(T$58:T73,RDGfix)+COUNTIF(T$58:T73,RDGave)+COUNTIF(T$58:T73,RDGevent)+V$32-1","v":0},null,"","",{"$f":"COUNTIF(X$58:X73,OK)+COUNTIF(X$58:X73,RDGfix)+COUNTIF(X$58:X73,RDGave)+COUNTIF(X$58:X73,RDGevent)+Z$32-1","v":0},null,"","",{"$f":"COUNTIF(AB$58:AB73,OK)+COUNTIF(AB$58:AB73,RDGfix)+COUNTIF(AB$58:AB73,RDGave)+COUNTIF(AB$58:AB73,RDGevent)+AD$32-1","v":0},null,"","",{"$f":"COUNTIF(AF$58:AF73,OK)+COUNTIF(AF$58:AF73,RDGfix)+COUNTIF(AF$58:AF73,RDGave)+COUNTIF(AF$58:AF73,RDGevent)+AH$32-1","v":0},null,"","",{"$f":"COUNTIF(AJ$58:AJ73,OK)+COUNTIF(AJ$58:AJ73,RDGfix)+COUNTIF(AJ$58:AJ73,RDGave)+COUNTIF(AJ$58:AJ73,RDGevent)+AL$32-1","v":0},null,"","",{"$f":"COUNTIF(AN$58:AN73,OK)+COUNTIF(AN$58:AN73,RDGfix)+COUNTIF(AN$58:AN73,RDGave)+COUNTIF(AN$58:AN73,RDGevent)+AP$32-1","v":0},null,"","",{"$f":"COUNTIF(AR$58:AR73,OK)+COUNTIF(AR$58:AR73,RDGfix)+COUNTIF(AR$58:AR73,RDGave)+COUNTIF(AR$58:AR73,RDGevent)+AT$32-1","v":0},null,"","",{"$f":"COUNTIF(AV$58:AV73,OK)+COUNTIF(AV$58:AV73,RDGfix)+COUNTIF(AV$58:AV73,RDGave)+COUNTIF(AV$58:AV73,RDGevent)+AX$32-1","v":0},null,"","",{"$f":"COUNTIF(AZ$58:AZ73,OK)+COUNTIF(AZ$58:AZ73,RDGfix)+COUNTIF(AZ$58:AZ73,RDGave)+COUNTIF(AZ$58:AZ73,RDGevent)+BB$32-1","v":0},null,"","",{"$f":"COUNTIF(BD$58:BD73,OK)+COUNTIF(BD$58:BD73,RDGfix)+COUNTIF(BD$58:BD73,RDGave)+COUNTIF(BD$58:BD73,RDGevent)+BF$32-1","v":0},null,"","",{"$f":"COUNTIF(BH$58:BH73,OK)+COUNTIF(BH$58:BH73,RDGfix)+COUNTIF(BH$58:BH73,RDGave)+COUNTIF(BH$58:BH73,RDGevent)+BJ$32-1","v":0},null,"","",{"$f":"COUNTIF(BL$58:BL73,OK)+COUNTIF(BL$58:BL73,RDGfix)+COUNTIF(BL$58:BL73,RDGave)+COUNTIF(BL$58:BL73,RDGevent)+BN$32-1","v":0},null,"","",{"$f":"COUNTIF(BP$58:BP73,OK)+COUNTIF(BP$58:BP73,RDGfix)+COUNTIF(BP$58:BP73,RDGave)+COUNTIF(BP$58:BP73,RDGevent)+BR$32-1","v":0},null,"","",{"$f":"COUNTIF(BT$58:BT73,OK)+COUNTIF(BT$58:BT73,RDGfix)+COUNTIF(BT$58:BT73,RDGave)+COUNTIF(BT$58:BT73,RDGevent)+BV$32-1","v":0},null,"","",{"$f":"COUNTIF(BX$58:BX73,OK)+COUNTIF(BX$58:BX73,RDGfix)+COUNTIF(BX$58:BX73,RDGave)+COUNTIF(BX$58:BX73,RDGevent)+BZ$32-1","v":0},null,"","",{"$f":"COUNTIF(CB$58:CB73,OK)+COUNTIF(CB$58:CB73,RDGfix)+COUNTIF(CB$58:CB73,RDGave)+COUNTIF(CB$58:CB73,RDGevent)+CD$32-1","v":0},null,"","",{"$f":"COUNTIF(CF$58:CF73,OK)+COUNTIF(CF$58:CF73,RDGfix)+COUNTIF(CF$58:CF73,RDGave)+COUNTIF(CF$58:CF73,RDGevent)+CH$32-1","v":0},null,"","",{"$f":"COUNTIF(CJ$58:CJ73,OK)+COUNTIF(CJ$58:CJ73,RDGfix)+COUNTIF(CJ$58:CJ73,RDGave)+COUNTIF(CJ$58:CJ73,RDGevent)+CL$32-1","v":0},null,"","",{"$f":"COUNTIF(CN$58:CN73,OK)+COUNTIF(CN$58:CN73,RDGfix)+COUNTIF(CN$58:CN73,RDGave)+COUNTIF(CN$58:CN73,RDGevent)+CP$32-1","v":0},null,"","",{"$f":"COUNTIF(CR$58:CR73,OK)+COUNTIF(CR$58:CR73,RDGfix)+COUNTIF(CR$58:CR73,RDGave)+COUNTIF(CR$58:CR73,RDGevent)+CT$32-1","v":0},null,"","",{"$f":"COUNTIF(CV$58:CV73,OK)+COUNTIF(CV$58:CV73,RDGfix)+COUNTIF(CV$58:CV73,RDGave)+COUNTIF(CV$58:CV73,RDGevent)+CX$32-1","v":0},null,"","",{"$f":"COUNTIF(CZ$58:CZ73,OK)+COUNTIF(CZ$58:CZ73,RDGfix)+COUNTIF(CZ$58:CZ73,RDGave)+COUNTIF(CZ$58:CZ73,RDGevent)+DB$32-1","v":0},null,"","",{"$f":"COUNTIF(DD$58:DD73,OK)+COUNTIF(DD$58:DD73,RDGfix)+COUNTIF(DD$58:DD73,RDGave)+COUNTIF(DD$58:DD73,RDGevent)+DF$32-1","v":0},null,"","",{"$f":"COUNTIF(DH$58:DH73,OK)+COUNTIF(DH$58:DH73,RDGfix)+COUNTIF(DH$58:DH73,RDGave)+COUNTIF(DH$58:DH73,RDGevent)+DJ$32-1","v":0},null,"","",{"$f":"COUNTIF(DL$58:DL73,OK)+COUNTIF(DL$58:DL73,RDGfix)+COUNTIF(DL$58:DL73,RDGave)+COUNTIF(DL$58:DL73,RDGevent)+DN$32-1","v":0},null,"","",{"$f":"COUNTIF(DP$58:DP73,OK)+COUNTIF(DP$58:DP73,RDGfix)+COUNTIF(DP$58:DP73,RDGave)+COUNTIF(DP$58:DP73,RDGevent)+DR$32-1","v":0},null,"","",{"$f":"COUNTIF(DT$58:DT73,OK)+COUNTIF(DT$58:DT73,RDGfix)+COUNTIF(DT$58:DT73,RDGave)+COUNTIF(DT$58:DT73,RDGevent)+DV$32-1","v":0},null,"","",{"$f":"COUNTIF(DX$58:DX73,OK)+COUNTIF(DX$58:DX73,RDGfix)+COUNTIF(DX$58:DX73,RDGave)+COUNTIF(DX$58:DX73,RDGevent)+DZ$32-1","v":0},null,"","",{"$f":"COUNTIF(EB$58:EB73,OK)+COUNTIF(EB$58:EB73,RDGfix)+COUNTIF(EB$58:EB73,RDGave)+COUNTIF(EB$58:EB73,RDGevent)+ED$32-1","v":0},null,"","",{"$f":"COUNTIF(EF$58:EF73,OK)+COUNTIF(EF$58:EF73,RDGfix)+COUNTIF(EF$58:EF73,RDGave)+COUNTIF(EF$58:EF73,RDGevent)+EH$32-1","v":0},null,"","",{"$f":"COUNTIF(EJ$58:EJ73,OK)+COUNTIF(EJ$58:EJ73,RDGfix)+COUNTIF(EJ$58:EJ73,RDGave)+COUNTIF(EJ$58:EJ73,RDGevent)+EL$32-1","v":0},null,"","",{"$f":"COUNTIF(EN$58:EN73,OK)+COUNTIF(EN$58:EN73,RDGfix)+COUNTIF(EN$58:EN73,RDGave)+COUNTIF(EN$58:EN73,RDGevent)+EP$32-1","v":0},null,"","",{"$f":"COUNTIF(ER$58:ER73,OK)+COUNTIF(ER$58:ER73,RDGfix)+COUNTIF(ER$58:ER73,RDGave)+COUNTIF(ER$58:ER73,RDGevent)+ET$32-1","v":0},null,"","",{"$f":"COUNTIF(EV$58:EV73,OK)+COUNTIF(EV$58:EV73,RDGfix)+COUNTIF(EV$58:EV73,RDGave)+COUNTIF(EV$58:EV73,RDGevent)+EX$32-1","v":0},null,"","",{"$f":"COUNTIF(EZ$58:EZ73,OK)+COUNTIF(EZ$58:EZ73,RDGfix)+COUNTIF(EZ$58:EZ73,RDGave)+COUNTIF(EZ$58:EZ73,RDGevent)+FB$32-1","v":0},null,"","",{"$f":"COUNTIF(FD$58:FD73,OK)+COUNTIF(FD$58:FD73,RDGfix)+COUNTIF(FD$58:FD73,RDGave)+COUNTIF(FD$58:FD73,RDGevent)+FF$32-1","v":0},null,"","",{"$f":"COUNTIF(FH$58:FH73,OK)+COUNTIF(FH$58:FH73,RDGfix)+COUNTIF(FH$58:FH73,RDGave)+COUNTIF(FH$58:FH73,RDGevent)+FJ$32-1","v":0}]
[null,"17th",null,"","",{"$f":"COUNTIF(D$58:D74,OK)+COUNTIF(D$58:D74,RDGfix)+COUNTIF(D$58:D74,RDGave)+COUNTIF(D$58:D74,RDGevent)","v":0},null,"","",{"$f":"COUNTIF(H$58:H74,OK)+COUNTIF(H$58:H74,RDGfix)+COUNTIF(H$58:H74,RDGave)+COUNTIF(H$58:H74,RDGevent)+J$32-1","v":0},null,"","",{"$f":"COUNTIF(L$58:L74,OK)+COUNTIF(L$58:L74,RDGfix)+COUNTIF(L$58:L74,RDGave)+COUNTIF(L$58:L74,RDGevent)+N$32-1","v":0},null,"","",{"$f":"COUNTIF(P$58:P74,OK)+COUNTIF(P$58:P74,RDGfix)+COUNTIF(P$58:P74,RDGave)+COUNTIF(P$58:P74,RDGevent)+R$32-1","v":0},null,"","",{"$f":"COUNTIF(T$58:T74,OK)+COUNTIF(T$58:T74,RDGfix)+COUNTIF(T$58:T74,RDGave)+COUNTIF(T$58:T74,RDGevent)+V$32-1","v":0},null,"","",{"$f":"COUNTIF(X$58:X74,OK)+COUNTIF(X$58:X74,RDGfix)+COUNTIF(X$58:X74,RDGave)+COUNTIF(X$58:X74,RDGevent)+Z$32-1","v":0},null,"","",{"$f":"COUNTIF(AB$58:AB74,OK)+COUNTIF(AB$58:AB74,RDGfix)+COUNTIF(AB$58:AB74,RDGave)+COUNTIF(AB$58:AB74,RDGevent)+AD$32-1","v":0},null,"","",{"$f":"COUNTIF(AF$58:AF74,OK)+COUNTIF(AF$58:AF74,RDGfix)+COUNTIF(AF$58:AF74,RDGave)+COUNTIF(AF$58:AF74,RDGevent)+AH$32-1","v":0},null,"","",{"$f":"COUNTIF(AJ$58:AJ74,OK)+COUNTIF(AJ$58:AJ74,RDGfix)+COUNTIF(AJ$58:AJ74,RDGave)+COUNTIF(AJ$58:AJ74,RDGevent)+AL$32-1","v":0},null,"","",{"$f":"COUNTIF(AN$58:AN74,OK)+COUNTIF(AN$58:AN74,RDGfix)+COUNTIF(AN$58:AN74,RDGave)+COUNTIF(AN$58:AN74,RDGevent)+AP$32-1","v":0},null,"","",{"$f":"COUNTIF(AR$58:AR74,OK)+COUNTIF(AR$58:AR74,RDGfix)+COUNTIF(AR$58:AR74,RDGave)+COUNTIF(AR$58:AR74,RDGevent)+AT$32-1","v":0},null,"","",{"$f":"COUNTIF(AV$58:AV74,OK)+COUNTIF(AV$58:AV74,RDGfix)+COUNTIF(AV$58:AV74,RDGave)+COUNTIF(AV$58:AV74,RDGevent)+AX$32-1","v":0},null,"","",{"$f":"COUNTIF(AZ$58:AZ74,OK)+COUNTIF(AZ$58:AZ74,RDGfix)+COUNTIF(AZ$58:AZ74,RDGave)+COUNTIF(AZ$58:AZ74,RDGevent)+BB$32-1","v":0},null,"","",{"$f":"COUNTIF(BD$58:BD74,OK)+COUNTIF(BD$58:BD74,RDGfix)+COUNTIF(BD$58:BD74,RDGave)+COUNTIF(BD$58:BD74,RDGevent)+BF$32-1","v":0},null,"","",{"$f":"COUNTIF(BH$58:BH74,OK)+COUNTIF(BH$58:BH74,RDGfix)+COUNTIF(BH$58:BH74,RDGave)+COUNTIF(BH$58:BH74,RDGevent)+BJ$32-1","v":0},null,"","",{"$f":"COUNTIF(BL$58:BL74,OK)+COUNTIF(BL$58:BL74,RDGfix)+COUNTIF(BL$58:BL74,RDGave)+COUNTIF(BL$58:BL74,RDGevent)+BN$32-1","v":0},null,"","",{"$f":"COUNTIF(BP$58:BP74,OK)+COUNTIF(BP$58:BP74,RDGfix)+COUNTIF(BP$58:BP74,RDGave)+COUNTIF(BP$58:BP74,RDGevent)+BR$32-1","v":0},null,"","",{"$f":"COUNTIF(BT$58:BT74,OK)+COUNTIF(BT$58:BT74,RDGfix)+COUNTIF(BT$58:BT74,RDGave)+COUNTIF(BT$58:BT74,RDGevent)+BV$32-1","v":0},null,"","",{"$f":"COUNTIF(BX$58:BX74,OK)+COUNTIF(BX$58:BX74,RDGfix)+COUNTIF(BX$58:BX74,RDGave)+COUNTIF(BX$58:BX74,RDGevent)+BZ$32-1","v":0},null,"","",{"$f":"COUNTIF(CB$58:CB74,OK)+COUNTIF(CB$58:CB74,RDGfix)+COUNTIF(CB$58:CB74,RDGave)+COUNTIF(CB$58:CB74,RDGevent)+CD$32-1","v":0},null,"","",{"$f":"COUNTIF(CF$58:CF74,OK)+COUNTIF(CF$58:CF74,RDGfix)+COUNTIF(CF$58:CF74,RDGave)+COUNTIF(CF$58:CF74,RDGevent)+CH$32-1","v":0},null,"","",{"$f":"COUNTIF(CJ$58:CJ74,OK)+COUNTIF(CJ$58:CJ74,RDGfix)+COUNTIF(CJ$58:CJ74,RDGave)+COUNTIF(CJ$58:CJ74,RDGevent)+CL$32-1","v":0},null,"","",{"$f":"COUNTIF(CN$58:CN74,OK)+COUNTIF(CN$58:CN74,RDGfix)+COUNTIF(CN$58:CN74,RDGave)+COUNTIF(CN$58:CN74,RDGevent)+CP$32-1","v":0},null,"","",{"$f":"COUNTIF(CR$58:CR74,OK)+COUNTIF(CR$58:CR74,RDGfix)+COUNTIF(CR$58:CR74,RDGave)+COUNTIF(CR$58:CR74,RDGevent)+CT$32-1","v":0},null,"","",{"$f":"COUNTIF(CV$58:CV74,OK)+COUNTIF(CV$58:CV74,RDGfix)+COUNTIF(CV$58:CV74,RDGave)+COUNTIF(CV$58:CV74,RDGevent)+CX$32-1","v":0},null,"","",{"$f":"COUNTIF(CZ$58:CZ74,OK)+COUNTIF(CZ$58:CZ74,RDGfix)+COUNTIF(CZ$58:CZ74,RDGave)+COUNTIF(CZ$58:CZ74,RDGevent)+DB$32-1","v":0},null,"","",{"$f":"COUNTIF(DD$58:DD74,OK)+COUNTIF(DD$58:DD74,RDGfix)+COUNTIF(DD$58:DD74,RDGave)+COUNTIF(DD$58:DD74,RDGevent)+DF$32-1","v":0},null,"","",{"$f":"COUNTIF(DH$58:DH74,OK)+COUNTIF(DH$58:DH74,RDGfix)+COUNTIF(DH$58:DH74,RDGave)+COUNTIF(DH$58:DH74,RDGevent)+DJ$32-1","v":0},null,"","",{"$f":"COUNTIF(DL$58:DL74,OK)+COUNTIF(DL$58:DL74,RDGfix)+COUNTIF(DL$58:DL74,RDGave)+COUNTIF(DL$58:DL74,RDGevent)+DN$32-1","v":0},null,"","",{"$f":"COUNTIF(DP$58:DP74,OK)+COUNTIF(DP$58:DP74,RDGfix)+COUNTIF(DP$58:DP74,RDGave)+COUNTIF(DP$58:DP74,RDGevent)+DR$32-1","v":0},null,"","",{"$f":"COUNTIF(DT$58:DT74,OK)+COUNTIF(DT$58:DT74,RDGfix)+COUNTIF(DT$58:DT74,RDGave)+COUNTIF(DT$58:DT74,RDGevent)+DV$32-1","v":0},null,"","",{"$f":"COUNTIF(DX$58:DX74,OK)+COUNTIF(DX$58:DX74,RDGfix)+COUNTIF(DX$58:DX74,RDGave)+COUNTIF(DX$58:DX74,RDGevent)+DZ$32-1","v":0},null,"","",{"$f":"COUNTIF(EB$58:EB74,OK)+COUNTIF(EB$58:EB74,RDGfix)+COUNTIF(EB$58:EB74,RDGave)+COUNTIF(EB$58:EB74,RDGevent)+ED$32-1","v":0},null,"","",{"$f":"COUNTIF(EF$58:EF74,OK)+COUNTIF(EF$58:EF74,RDGfix)+COUNTIF(EF$58:EF74,RDGave)+COUNTIF(EF$58:EF74,RDGevent)+EH$32-1","v":0},null,"","",{"$f":"COUNTIF(EJ$58:EJ74,OK)+COUNTIF(EJ$58:EJ74,RDGfix)+COUNTIF(EJ$58:EJ74,RDGave)+COUNTIF(EJ$58:EJ74,RDGevent)+EL$32-1","v":0},null,"","",{"$f":"COUNTIF(EN$58:EN74,OK)+COUNTIF(EN$58:EN74,RDGfix)+COUNTIF(EN$58:EN74,RDGave)+COUNTIF(EN$58:EN74,RDGevent)+EP$32-1","v":0},null,"","",{"$f":"COUNTIF(ER$58:ER74,OK)+COUNTIF(ER$58:ER74,RDGfix)+COUNTIF(ER$58:ER74,RDGave)+COUNTIF(ER$58:ER74,RDGevent)+ET$32-1","v":0},null,"","",{"$f":"COUNTIF(EV$58:EV74,OK)+COUNTIF(EV$58:EV74,RDGfix)+COUNTIF(EV$58:EV74,RDGave)+COUNTIF(EV$58:EV74,RDGevent)+EX$32-1","v":0},null,"","",{"$f":"COUNTIF(EZ$58:EZ74,OK)+COUNTIF(EZ$58:EZ74,RDGfix)+COUNTIF(EZ$58:EZ74,RDGave)+COUNTIF(EZ$58:EZ74,RDGevent)+FB$32-1","v":0},null,"","",{"$f":"COUNTIF(FD$58:FD74,OK)+COUNTIF(FD$58:FD74,RDGfix)+COUNTIF(FD$58:FD74,RDGave)+COUNTIF(FD$58:FD74,RDGevent)+FF$32-1","v":0},null,"","",{"$f":"COUNTIF(FH$58:FH74,OK)+COUNTIF(FH$58:FH74,RDGfix)+COUNTIF(FH$58:FH74,RDGave)+COUNTIF(FH$58:FH74,RDGevent)+FJ$32-1","v":0}]
[null,"18th",null,"","",{"$f":"COUNTIF(D$58:D75,OK)+COUNTIF(D$58:D75,RDGfix)+COUNTIF(D$58:D75,RDGave)+COUNTIF(D$58:D75,RDGevent)","v":0},null,"","",{"$f":"COUNTIF(H$58:H75,OK)+COUNTIF(H$58:H75,RDGfix)+COUNTIF(H$58:H75,RDGave)+COUNTIF(H$58:H75,RDGevent)+J$32-1","v":0},null,"","",{"$f":"COUNTIF(L$58:L75,OK)+COUNTIF(L$58:L75,RDGfix)+COUNTIF(L$58:L75,RDGave)+COUNTIF(L$58:L75,RDGevent)+N$32-1","v":0},null,"","",{"$f":"COUNTIF(P$58:P75,OK)+COUNTIF(P$58:P75,RDGfix)+COUNTIF(P$58:P75,RDGave)+COUNTIF(P$58:P75,RDGevent)+R$32-1","v":0},null,"","",{"$f":"COUNTIF(T$58:T75,OK)+COUNTIF(T$58:T75,RDGfix)+COUNTIF(T$58:T75,RDGave)+COUNTIF(T$58:T75,RDGevent)+V$32-1","v":0},null,"","",{"$f":"COUNTIF(X$58:X75,OK)+COUNTIF(X$58:X75,RDGfix)+COUNTIF(X$58:X75,RDGave)+COUNTIF(X$58:X75,RDGevent)+Z$32-1","v":0},null,"","",{"$f":"COUNTIF(AB$58:AB75,OK)+COUNTIF(AB$58:AB75,RDGfix)+COUNTIF(AB$58:AB75,RDGave)+COUNTIF(AB$58:AB75,RDGevent)+AD$32-1","v":0},null,"","",{"$f":"COUNTIF(AF$58:AF75,OK)+COUNTIF(AF$58:AF75,RDGfix)+COUNTIF(AF$58:AF75,RDGave)+COUNTIF(AF$58:AF75,RDGevent)+AH$32-1","v":0},null,"","",{"$f":"COUNTIF(AJ$58:AJ75,OK)+COUNTIF(AJ$58:AJ75,RDGfix)+COUNTIF(AJ$58:AJ75,RDGave)+COUNTIF(AJ$58:AJ75,RDGevent)+AL$32-1","v":0},null,"","",{"$f":"COUNTIF(AN$58:AN75,OK)+COUNTIF(AN$58:AN75,RDGfix)+COUNTIF(AN$58:AN75,RDGave)+COUNTIF(AN$58:AN75,RDGevent)+AP$32-1","v":0},null,"","",{"$f":"COUNTIF(AR$58:AR75,OK)+COUNTIF(AR$58:AR75,RDGfix)+COUNTIF(AR$58:AR75,RDGave)+COUNTIF(AR$58:AR75,RDGevent)+AT$32-1","v":0},null,"","",{"$f":"COUNTIF(AV$58:AV75,OK)+COUNTIF(AV$58:AV75,RDGfix)+COUNTIF(AV$58:AV75,RDGave)+COUNTIF(AV$58:AV75,RDGevent)+AX$32-1","v":0},null,"","",{"$f":"COUNTIF(AZ$58:AZ75,OK)+COUNTIF(AZ$58:AZ75,RDGfix)+COUNTIF(AZ$58:AZ75,RDGave)+COUNTIF(AZ$58:AZ75,RDGevent)+BB$32-1","v":0},null,"","",{"$f":"COUNTIF(BD$58:BD75,OK)+COUNTIF(BD$58:BD75,RDGfix)+COUNTIF(BD$58:BD75,RDGave)+COUNTIF(BD$58:BD75,RDGevent)+BF$32-1","v":0},null,"","",{"$f":"COUNTIF(BH$58:BH75,OK)+COUNTIF(BH$58:BH75,RDGfix)+COUNTIF(BH$58:BH75,RDGave)+COUNTIF(BH$58:BH75,RDGevent)+BJ$32-1","v":0},null,"","",{"$f":"COUNTIF(BL$58:BL75,OK)+COUNTIF(BL$58:BL75,RDGfix)+COUNTIF(BL$58:BL75,RDGave)+COUNTIF(BL$58:BL75,RDGevent)+BN$32-1","v":0},null,"","",{"$f":"COUNTIF(BP$58:BP75,OK)+COUNTIF(BP$58:BP75,RDGfix)+COUNTIF(BP$58:BP75,RDGave)+COUNTIF(BP$58:BP75,RDGevent)+BR$32-1","v":0},null,"","",{"$f":"COUNTIF(BT$58:BT75,OK)+COUNTIF(BT$58:BT75,RDGfix)+COUNTIF(BT$58:BT75,RDGave)+COUNTIF(BT$58:BT75,RDGevent)+BV$32-1","v":0},null,"","",{"$f":"COUNTIF(BX$58:BX75,OK)+COUNTIF(BX$58:BX75,RDGfix)+COUNTIF(BX$58:BX75,RDGave)+COUNTIF(BX$58:BX75,RDGevent)+BZ$32-1","v":0},null,"","",{"$f":"COUNTIF(CB$58:CB75,OK)+COUNTIF(CB$58:CB75,RDGfix)+COUNTIF(CB$58:CB75,RDGave)+COUNTIF(CB$58:CB75,RDGevent)+CD$32-1","v":0},null,"","",{"$f":"COUNTIF(CF$58:CF75,OK)+COUNTIF(CF$58:CF75,RDGfix)+COUNTIF(CF$58:CF75,RDGave)+COUNTIF(CF$58:CF75,RDGevent)+CH$32-1","v":0},null,"","",{"$f":"COUNTIF(CJ$58:CJ75,OK)+COUNTIF(CJ$58:CJ75,RDGfix)+COUNTIF(CJ$58:CJ75,RDGave)+COUNTIF(CJ$58:CJ75,RDGevent)+CL$32-1","v":0},null,"","",{"$f":"COUNTIF(CN$58:CN75,OK)+COUNTIF(CN$58:CN75,RDGfix)+COUNTIF(CN$58:CN75,RDGave)+COUNTIF(CN$58:CN75,RDGevent)+CP$32-1","v":0},null,"","",{"$f":"COUNTIF(CR$58:CR75,OK)+COUNTIF(CR$58:CR75,RDGfix)+COUNTIF(CR$58:CR75,RDGave)+COUNTIF(CR$58:CR75,RDGevent)+CT$32-1","v":0},null,"","",{"$f":"COUNTIF(CV$58:CV75,OK)+COUNTIF(CV$58:CV75,RDGfix)+COUNTIF(CV$58:CV75,RDGave)+COUNTIF(CV$58:CV75,RDGevent)+CX$32-1","v":0},null,"","",{"$f":"COUNTIF(CZ$58:CZ75,OK)+COUNTIF(CZ$58:CZ75,RDGfix)+COUNTIF(CZ$58:CZ75,RDGave)+COUNTIF(CZ$58:CZ75,RDGevent)+DB$32-1","v":0},null,"","",{"$f":"COUNTIF(DD$58:DD75,OK)+COUNTIF(DD$58:DD75,RDGfix)+COUNTIF(DD$58:DD75,RDGave)+COUNTIF(DD$58:DD75,RDGevent)+DF$32-1","v":0},null,"","",{"$f":"COUNTIF(DH$58:DH75,OK)+COUNTIF(DH$58:DH75,RDGfix)+COUNTIF(DH$58:DH75,RDGave)+COUNTIF(DH$58:DH75,RDGevent)+DJ$32-1","v":0},null,"","",{"$f":"COUNTIF(DL$58:DL75,OK)+COUNTIF(DL$58:DL75,RDGfix)+COUNTIF(DL$58:DL75,RDGave)+COUNTIF(DL$58:DL75,RDGevent)+DN$32-1","v":0},null,"","",{"$f":"COUNTIF(DP$58:DP75,OK)+COUNTIF(DP$58:DP75,RDGfix)+COUNTIF(DP$58:DP75,RDGave)+COUNTIF(DP$58:DP75,RDGevent)+DR$32-1","v":0},null,"","",{"$f":"COUNTIF(DT$58:DT75,OK)+COUNTIF(DT$58:DT75,RDGfix)+COUNTIF(DT$58:DT75,RDGave)+COUNTIF(DT$58:DT75,RDGevent)+DV$32-1","v":0},null,"","",{"$f":"COUNTIF(DX$58:DX75,OK)+COUNTIF(DX$58:DX75,RDGfix)+COUNTIF(DX$58:DX75,RDGave)+COUNTIF(DX$58:DX75,RDGevent)+DZ$32-1","v":0},null,"","",{"$f":"COUNTIF(EB$58:EB75,OK)+COUNTIF(EB$58:EB75,RDGfix)+COUNTIF(EB$58:EB75,RDGave)+COUNTIF(EB$58:EB75,RDGevent)+ED$32-1","v":0},null,"","",{"$f":"COUNTIF(EF$58:EF75,OK)+COUNTIF(EF$58:EF75,RDGfix)+COUNTIF(EF$58:EF75,RDGave)+COUNTIF(EF$58:EF75,RDGevent)+EH$32-1","v":0},null,"","",{"$f":"COUNTIF(EJ$58:EJ75,OK)+COUNTIF(EJ$58:EJ75,RDGfix)+COUNTIF(EJ$58:EJ75,RDGave)+COUNTIF(EJ$58:EJ75,RDGevent)+EL$32-1","v":0},null,"","",{"$f":"COUNTIF(EN$58:EN75,OK)+COUNTIF(EN$58:EN75,RDGfix)+COUNTIF(EN$58:EN75,RDGave)+COUNTIF(EN$58:EN75,RDGevent)+EP$32-1","v":0},null,"","",{"$f":"COUNTIF(ER$58:ER75,OK)+COUNTIF(ER$58:ER75,RDGfix)+COUNTIF(ER$58:ER75,RDGave)+COUNTIF(ER$58:ER75,RDGevent)+ET$32-1","v":0},null,"","",{"$f":"COUNTIF(EV$58:EV75,OK)+COUNTIF(EV$58:EV75,RDGfix)+COUNTIF(EV$58:EV75,RDGave)+COUNTIF(EV$58:EV75,RDGevent)+EX$32-1","v":0},null,"","",{"$f":"COUNTIF(EZ$58:EZ75,OK)+COUNTIF(EZ$58:EZ75,RDGfix)+COUNTIF(EZ$58:EZ75,RDGave)+COUNTIF(EZ$58:EZ75,RDGevent)+FB$32-1","v":0},null,"","",{"$f":"COUNTIF(FD$58:FD75,OK)+COUNTIF(FD$58:FD75,RDGfix)+COUNTIF(FD$58:FD75,RDGave)+COUNTIF(FD$58:FD75,RDGevent)+FF$32-1","v":0},null,"","",{"$f":"COUNTIF(FH$58:FH75,OK)+COUNTIF(FH$58:FH75,RDGfix)+COUNTIF(FH$58:FH75,RDGave)+COUNTIF(FH$58:FH75,RDGevent)+FJ$32-1","v":0}]
[null,"19th",null,"","",{"$f":"COUNTIF(D$58:D76,OK)+COUNTIF(D$58:D76,RDGfix)+COUNTIF(D$58:D76,RDGave)+COUNTIF(D$58:D76,RDGevent)","v":0},null,"","",{"$f":"COUNTIF(H$58:H76,OK)+COUNTIF(H$58:H76,RDGfix)+COUNTIF(H$58:H76,RDGave)+COUNTIF(H$58:H76,RDGevent)+J$32-1","v":0},null,"","",{"$f":"COUNTIF(L$58:L76,OK)+COUNTIF(L$58:L76,RDGfix)+COUNTIF(L$58:L76,RDGave)+COUNTIF(L$58:L76,RDGevent)+N$32-1","v":0},null,"","",{"$f":"COUNTIF(P$58:P76,OK)+COUNTIF(P$58:P76,RDGfix)+COUNTIF(P$58:P76,RDGave)+COUNTIF(P$58:P76,RDGevent)+R$32-1","v":0},null,"","",{"$f":"COUNTIF(T$58:T76,OK)+COUNTIF(T$58:T76,RDGfix)+COUNTIF(T$58:T76,RDGave)+COUNTIF(T$58:T76,RDGevent)+V$32-1","v":0},null,"","",{"$f":"COUNTIF(X$58:X76,OK)+COUNTIF(X$58:X76,RDGfix)+COUNTIF(X$58:X76,RDGave)+COUNTIF(X$58:X76,RDGevent)+Z$32-1","v":0},null,"","",{"$f":"COUNTIF(AB$58:AB76,OK)+COUNTIF(AB$58:AB76,RDGfix)+COUNTIF(AB$58:AB76,RDGave)+COUNTIF(AB$58:AB76,RDGevent)+AD$32-1","v":0},null,"","",{"$f":"COUNTIF(AF$58:AF76,OK)+COUNTIF(AF$58:AF76,RDGfix)+COUNTIF(AF$58:AF76,RDGave)+COUNTIF(AF$58:AF76,RDGevent)+AH$32-1","v":0},null,"","",{"$f":"COUNTIF(AJ$58:AJ76,OK)+COUNTIF(AJ$58:AJ76,RDGfix)+COUNTIF(AJ$58:AJ76,RDGave)+COUNTIF(AJ$58:AJ76,RDGevent)+AL$32-1","v":0},null,"","",{"$f":"COUNTIF(AN$58:AN76,OK)+COUNTIF(AN$58:AN76,RDGfix)+COUNTIF(AN$58:AN76,RDGave)+COUNTIF(AN$58:AN76,RDGevent)+AP$32-1","v":0},null,"","",{"$f":"COUNTIF(AR$58:AR76,OK)+COUNTIF(AR$58:AR76,RDGfix)+COUNTIF(AR$58:AR76,RDGave)+COUNTIF(AR$58:AR76,RDGevent)+AT$32-1","v":0},null,"","",{"$f":"COUNTIF(AV$58:AV76,OK)+COUNTIF(AV$58:AV76,RDGfix)+COUNTIF(AV$58:AV76,RDGave)+COUNTIF(AV$58:AV76,RDGevent)+AX$32-1","v":0},null,"","",{"$f":"COUNTIF(AZ$58:AZ76,OK)+COUNTIF(AZ$58:AZ76,RDGfix)+COUNTIF(AZ$58:AZ76,RDGave)+COUNTIF(AZ$58:AZ76,RDGevent)+BB$32-1","v":0},null,"","",{"$f":"COUNTIF(BD$58:BD76,OK)+COUNTIF(BD$58:BD76,RDGfix)+COUNTIF(BD$58:BD76,RDGave)+COUNTIF(BD$58:BD76,RDGevent)+BF$32-1","v":0},null,"","",{"$f":"COUNTIF(BH$58:BH76,OK)+COUNTIF(BH$58:BH76,RDGfix)+COUNTIF(BH$58:BH76,RDGave)+COUNTIF(BH$58:BH76,RDGevent)+BJ$32-1","v":0},null,"","",{"$f":"COUNTIF(BL$58:BL76,OK)+COUNTIF(BL$58:BL76,RDGfix)+COUNTIF(BL$58:BL76,RDGave)+COUNTIF(BL$58:BL76,RDGevent)+BN$32-1","v":0},null,"","",{"$f":"COUNTIF(BP$58:BP76,OK)+COUNTIF(BP$58:BP76,RDGfix)+COUNTIF(BP$58:BP76,RDGave)+COUNTIF(BP$58:BP76,RDGevent)+BR$32-1","v":0},null,"","",{"$f":"COUNTIF(BT$58:BT76,OK)+COUNTIF(BT$58:BT76,RDGfix)+COUNTIF(BT$58:BT76,RDGave)+COUNTIF(BT$58:BT76,RDGevent)+BV$32-1","v":0},null,"","",{"$f":"COUNTIF(BX$58:BX76,OK)+COUNTIF(BX$58:BX76,RDGfix)+COUNTIF(BX$58:BX76,RDGave)+COUNTIF(BX$58:BX76,RDGevent)+BZ$32-1","v":0},null,"","",{"$f":"COUNTIF(CB$58:CB76,OK)+COUNTIF(CB$58:CB76,RDGfix)+COUNTIF(CB$58:CB76,RDGave)+COUNTIF(CB$58:CB76,RDGevent)+CD$32-1","v":0},null,"","",{"$f":"COUNTIF(CF$58:CF76,OK)+COUNTIF(CF$58:CF76,RDGfix)+COUNTIF(CF$58:CF76,RDGave)+COUNTIF(CF$58:CF76,RDGevent)+CH$32-1","v":0},null,"","",{"$f":"COUNTIF(CJ$58:CJ76,OK)+COUNTIF(CJ$58:CJ76,RDGfix)+COUNTIF(CJ$58:CJ76,RDGave)+COUNTIF(CJ$58:CJ76,RDGevent)+CL$32-1","v":0},null,"","",{"$f":"COUNTIF(CN$58:CN76,OK)+COUNTIF(CN$58:CN76,RDGfix)+COUNTIF(CN$58:CN76,RDGave)+COUNTIF(CN$58:CN76,RDGevent)+CP$32-1","v":0},null,"","",{"$f":"COUNTIF(CR$58:CR76,OK)+COUNTIF(CR$58:CR76,RDGfix)+COUNTIF(CR$58:CR76,RDGave)+COUNTIF(CR$58:CR76,RDGevent)+CT$32-1","v":0},null,"","",{"$f":"COUNTIF(CV$58:CV76,OK)+COUNTIF(CV$58:CV76,RDGfix)+COUNTIF(CV$58:CV76,RDGave)+COUNTIF(CV$58:CV76,RDGevent)+CX$32-1","v":0},null,"","",{"$f":"COUNTIF(CZ$58:CZ76,OK)+COUNTIF(CZ$58:CZ76,RDGfix)+COUNTIF(CZ$58:CZ76,RDGave)+COUNTIF(CZ$58:CZ76,RDGevent)+DB$32-1","v":0},null,"","",{"$f":"COUNTIF(DD$58:DD76,OK)+COUNTIF(DD$58:DD76,RDGfix)+COUNTIF(DD$58:DD76,RDGave)+COUNTIF(DD$58:DD76,RDGevent)+DF$32-1","v":0},null,"","",{"$f":"COUNTIF(DH$58:DH76,OK)+COUNTIF(DH$58:DH76,RDGfix)+COUNTIF(DH$58:DH76,RDGave)+COUNTIF(DH$58:DH76,RDGevent)+DJ$32-1","v":0},null,"","",{"$f":"COUNTIF(DL$58:DL76,OK)+COUNTIF(DL$58:DL76,RDGfix)+COUNTIF(DL$58:DL76,RDGave)+COUNTIF(DL$58:DL76,RDGevent)+DN$32-1","v":0},null,"","",{"$f":"COUNTIF(DP$58:DP76,OK)+COUNTIF(DP$58:DP76,RDGfix)+COUNTIF(DP$58:DP76,RDGave)+COUNTIF(DP$58:DP76,RDGevent)+DR$32-1","v":0},null,"","",{"$f":"COUNTIF(DT$58:DT76,OK)+COUNTIF(DT$58:DT76,RDGfix)+COUNTIF(DT$58:DT76,RDGave)+COUNTIF(DT$58:DT76,RDGevent)+DV$32-1","v":0},null,"","",{"$f":"COUNTIF(DX$58:DX76,OK)+COUNTIF(DX$58:DX76,RDGfix)+COUNTIF(DX$58:DX76,RDGave)+COUNTIF(DX$58:DX76,RDGevent)+DZ$32-1","v":0},null,"","",{"$f":"COUNTIF(EB$58:EB76,OK)+COUNTIF(EB$58:EB76,RDGfix)+COUNTIF(EB$58:EB76,RDGave)+COUNTIF(EB$58:EB76,RDGevent)+ED$32-1","v":0},null,"","",{"$f":"COUNTIF(EF$58:EF76,OK)+COUNTIF(EF$58:EF76,RDGfix)+COUNTIF(EF$58:EF76,RDGave)+COUNTIF(EF$58:EF76,RDGevent)+EH$32-1","v":0},null,"","",{"$f":"COUNTIF(EJ$58:EJ76,OK)+COUNTIF(EJ$58:EJ76,RDGfix)+COUNTIF(EJ$58:EJ76,RDGave)+COUNTIF(EJ$58:EJ76,RDGevent)+EL$32-1","v":0},null,"","",{"$f":"COUNTIF(EN$58:EN76,OK)+COUNTIF(EN$58:EN76,RDGfix)+COUNTIF(EN$58:EN76,RDGave)+COUNTIF(EN$58:EN76,RDGevent)+EP$32-1","v":0},null,"","",{"$f":"COUNTIF(ER$58:ER76,OK)+COUNTIF(ER$58:ER76,RDGfix)+COUNTIF(ER$58:ER76,RDGave)+COUNTIF(ER$58:ER76,RDGevent)+ET$32-1","v":0},null,"","",{"$f":"COUNTIF(EV$58:EV76,OK)+COUNTIF(EV$58:EV76,RDGfix)+COUNTIF(EV$58:EV76,RDGave)+COUNTIF(EV$58:EV76,RDGevent)+EX$32-1","v":0},null,"","",{"$f":"COUNTIF(EZ$58:EZ76,OK)+COUNTIF(EZ$58:EZ76,RDGfix)+COUNTIF(EZ$58:EZ76,RDGave)+COUNTIF(EZ$58:EZ76,RDGevent)+FB$32-1","v":0},null,"","",{"$f":"COUNTIF(FD$58:FD76,OK)+COUNTIF(FD$58:FD76,RDGfix)+COUNTIF(FD$58:FD76,RDGave)+COUNTIF(FD$58:FD76,RDGevent)+FF$32-1","v":0},null,"","",{"$f":"COUNTIF(FH$58:FH76,OK)+COUNTIF(FH$58:FH76,RDGfix)+COUNTIF(FH$58:FH76,RDGave)+COUNTIF(FH$58:FH76,RDGevent)+FJ$32-1","v":0}]
[null,"20th",null,"","",{"$f":"COUNTIF(D$58:D77,OK)+COUNTIF(D$58:D77,RDGfix)+COUNTIF(D$58:D77,RDGave)+COUNTIF(D$58:D77,RDGevent)","v":0},null,"","",{"$f":"COUNTIF(H$58:H77,OK)+COUNTIF(H$58:H77,RDGfix)+COUNTIF(H$58:H77,RDGave)+COUNTIF(H$58:H77,RDGevent)+J$32-1","v":0},null,"","",{"$f":"COUNTIF(L$58:L77,OK)+COUNTIF(L$58:L77,RDGfix)+COUNTIF(L$58:L77,RDGave)+COUNTIF(L$58:L77,RDGevent)+N$32-1","v":0},null,"","",{"$f":"COUNTIF(P$58:P77,OK)+COUNTIF(P$58:P77,RDGfix)+COUNTIF(P$58:P77,RDGave)+COUNTIF(P$58:P77,RDGevent)+R$32-1","v":0},null,"","",{"$f":"COUNTIF(T$58:T77,OK)+COUNTIF(T$58:T77,RDGfix)+COUNTIF(T$58:T77,RDGave)+COUNTIF(T$58:T77,RDGevent)+V$32-1","v":0},null,"","",{"$f":"COUNTIF(X$58:X77,OK)+COUNTIF(X$58:X77,RDGfix)+COUNTIF(X$58:X77,RDGave)+COUNTIF(X$58:X77,RDGevent)+Z$32-1","v":0},null,"","",{"$f":"COUNTIF(AB$58:AB77,OK)+COUNTIF(AB$58:AB77,RDGfix)+COUNTIF(AB$58:AB77,RDGave)+COUNTIF(AB$58:AB77,RDGevent)+AD$32-1","v":0},null,"","",{"$f":"COUNTIF(AF$58:AF77,OK)+COUNTIF(AF$58:AF77,RDGfix)+COUNTIF(AF$58:AF77,RDGave)+COUNTIF(AF$58:AF77,RDGevent)+AH$32-1","v":0},null,"","",{"$f":"COUNTIF(AJ$58:AJ77,OK)+COUNTIF(AJ$58:AJ77,RDGfix)+COUNTIF(AJ$58:AJ77,RDGave)+COUNTIF(AJ$58:AJ77,RDGevent)+AL$32-1","v":0},null,"","",{"$f":"COUNTIF(AN$58:AN77,OK)+COUNTIF(AN$58:AN77,RDGfix)+COUNTIF(AN$58:AN77,RDGave)+COUNTIF(AN$58:AN77,RDGevent)+AP$32-1","v":0},null,"","",{"$f":"COUNTIF(AR$58:AR77,OK)+COUNTIF(AR$58:AR77,RDGfix)+COUNTIF(AR$58:AR77,RDGave)+COUNTIF(AR$58:AR77,RDGevent)+AT$32-1","v":0},null,"","",{"$f":"COUNTIF(AV$58:AV77,OK)+COUNTIF(AV$58:AV77,RDGfix)+COUNTIF(AV$58:AV77,RDGave)+COUNTIF(AV$58:AV77,RDGevent)+AX$32-1","v":0},null,"","",{"$f":"COUNTIF(AZ$58:AZ77,OK)+COUNTIF(AZ$58:AZ77,RDGfix)+COUNTIF(AZ$58:AZ77,RDGave)+COUNTIF(AZ$58:AZ77,RDGevent)+BB$32-1","v":0},null,"","",{"$f":"COUNTIF(BD$58:BD77,OK)+COUNTIF(BD$58:BD77,RDGfix)+COUNTIF(BD$58:BD77,RDGave)+COUNTIF(BD$58:BD77,RDGevent)+BF$32-1","v":0},null,"","",{"$f":"COUNTIF(BH$58:BH77,OK)+COUNTIF(BH$58:BH77,RDGfix)+COUNTIF(BH$58:BH77,RDGave)+COUNTIF(BH$58:BH77,RDGevent)+BJ$32-1","v":0},null,"","",{"$f":"COUNTIF(BL$58:BL77,OK)+COUNTIF(BL$58:BL77,RDGfix)+COUNTIF(BL$58:BL77,RDGave)+COUNTIF(BL$58:BL77,RDGevent)+BN$32-1","v":0},null,"","",{"$f":"COUNTIF(BP$58:BP77,OK)+COUNTIF(BP$58:BP77,RDGfix)+COUNTIF(BP$58:BP77,RDGave)+COUNTIF(BP$58:BP77,RDGevent)+BR$32-1","v":0},null,"","",{"$f":"COUNTIF(BT$58:BT77,OK)+COUNTIF(BT$58:BT77,RDGfix)+COUNTIF(BT$58:BT77,RDGave)+COUNTIF(BT$58:BT77,RDGevent)+BV$32-1","v":0},null,"","",{"$f":"COUNTIF(BX$58:BX77,OK)+COUNTIF(BX$58:BX77,RDGfix)+COUNTIF(BX$58:BX77,RDGave)+COUNTIF(BX$58:BX77,RDGevent)+BZ$32-1","v":0},null,"","",{"$f":"COUNTIF(CB$58:CB77,OK)+COUNTIF(CB$58:CB77,RDGfix)+COUNTIF(CB$58:CB77,RDGave)+COUNTIF(CB$58:CB77,RDGevent)+CD$32-1","v":0},null,"","",{"$f":"COUNTIF(CF$58:CF77,OK)+COUNTIF(CF$58:CF77,RDGfix)+COUNTIF(CF$58:CF77,RDGave)+COUNTIF(CF$58:CF77,RDGevent)+CH$32-1","v":0},null,"","",{"$f":"COUNTIF(CJ$58:CJ77,OK)+COUNTIF(CJ$58:CJ77,RDGfix)+COUNTIF(CJ$58:CJ77,RDGave)+COUNTIF(CJ$58:CJ77,RDGevent)+CL$32-1","v":0},null,"","",{"$f":"COUNTIF(CN$58:CN77,OK)+COUNTIF(CN$58:CN77,RDGfix)+COUNTIF(CN$58:CN77,RDGave)+COUNTIF(CN$58:CN77,RDGevent)+CP$32-1","v":0},null,"","",{"$f":"COUNTIF(CR$58:CR77,OK)+COUNTIF(CR$58:CR77,RDGfix)+COUNTIF(CR$58:CR77,RDGave)+COUNTIF(CR$58:CR77,RDGevent)+CT$32-1","v":0},null,"","",{"$f":"COUNTIF(CV$58:CV77,OK)+COUNTIF(CV$58:CV77,RDGfix)+COUNTIF(CV$58:CV77,RDGave)+COUNTIF(CV$58:CV77,RDGevent)+CX$32-1","v":0},null,"","",{"$f":"COUNTIF(CZ$58:CZ77,OK)+COUNTIF(CZ$58:CZ77,RDGfix)+COUNTIF(CZ$58:CZ77,RDGave)+COUNTIF(CZ$58:CZ77,RDGevent)+DB$32-1","v":0},null,"","",{"$f":"COUNTIF(DD$58:DD77,OK)+COUNTIF(DD$58:DD77,RDGfix)+COUNTIF(DD$58:DD77,RDGave)+COUNTIF(DD$58:DD77,RDGevent)+DF$32-1","v":0},null,"","",{"$f":"COUNTIF(DH$58:DH77,OK)+COUNTIF(DH$58:DH77,RDGfix)+COUNTIF(DH$58:DH77,RDGave)+COUNTIF(DH$58:DH77,RDGevent)+DJ$32-1","v":0},null,"","",{"$f":"COUNTIF(DL$58:DL77,OK)+COUNTIF(DL$58:DL77,RDGfix)+COUNTIF(DL$58:DL77,RDGave)+COUNTIF(DL$58:DL77,RDGevent)+DN$32-1","v":0},null,"","",{"$f":"COUNTIF(DP$58:DP77,OK)+COUNTIF(DP$58:DP77,RDGfix)+COUNTIF(DP$58:DP77,RDGave)+COUNTIF(DP$58:DP77,RDGevent)+DR$32-1","v":0},null,"","",{"$f":"COUNTIF(DT$58:DT77,OK)+COUNTIF(DT$58:DT77,RDGfix)+COUNTIF(DT$58:DT77,RDGave)+COUNTIF(DT$58:DT77,RDGevent)+DV$32-1","v":0},null,"","",{"$f":"COUNTIF(DX$58:DX77,OK)+COUNTIF(DX$58:DX77,RDGfix)+COUNTIF(DX$58:DX77,RDGave)+COUNTIF(DX$58:DX77,RDGevent)+DZ$32-1","v":0},null,"","",{"$f":"COUNTIF(EB$58:EB77,OK)+COUNTIF(EB$58:EB77,RDGfix)+COUNTIF(EB$58:EB77,RDGave)+COUNTIF(EB$58:EB77,RDGevent)+ED$32-1","v":0},null,"","",{"$f":"COUNTIF(EF$58:EF77,OK)+COUNTIF(EF$58:EF77,RDGfix)+COUNTIF(EF$58:EF77,RDGave)+COUNTIF(EF$58:EF77,RDGevent)+EH$32-1","v":0},null,"","",{"$f":"COUNTIF(EJ$58:EJ77,OK)+COUNTIF(EJ$58:EJ77,RDGfix)+COUNTIF(EJ$58:EJ77,RDGave)+COUNTIF(EJ$58:EJ77,RDGevent)+EL$32-1","v":0},null,"","",{"$f":"COUNTIF(EN$58:EN77,OK)+COUNTIF(EN$58:EN77,RDGfix)+COUNTIF(EN$58:EN77,RDGave)+COUNTIF(EN$58:EN77,RDGevent)+EP$32-1","v":0},null,"","",{"$f":"COUNTIF(ER$58:ER77,OK)+COUNTIF(ER$58:ER77,RDGfix)+COUNTIF(ER$58:ER77,RDGave)+COUNTIF(ER$58:ER77,RDGevent)+ET$32-1","v":0},null,"","",{"$f":"COUNTIF(EV$58:EV77,OK)+COUNTIF(EV$58:EV77,RDGfix)+COUNTIF(EV$58:EV77,RDGave)+COUNTIF(EV$58:EV77,RDGevent)+EX$32-1","v":0},null,"","",{"$f":"COUNTIF(EZ$58:EZ77,OK)+COUNTIF(EZ$58:EZ77,RDGfix)+COUNTIF(EZ$58:EZ77,RDGave)+COUNTIF(EZ$58:EZ77,RDGevent)+FB$32-1","v":0},null,"","",{"$f":"COUNTIF(FD$58:FD77,OK)+COUNTIF(FD$58:FD77,RDGfix)+COUNTIF(FD$58:FD77,RDGave)+COUNTIF(FD$58:FD77,RDGevent)+FF$32-1","v":0},null,"","",{"$f":"COUNTIF(FH$58:FH77,OK)+COUNTIF(FH$58:FH77,RDGfix)+COUNTIF(FH$58:FH77,RDGave)+COUNTIF(FH$58:FH77,RDGevent)+FJ$32-1","v":0}]
[null,"21st",null,"","",{"$f":"COUNTIF(D$58:D78,OK)+COUNTIF(D$58:D78,RDGfix)+COUNTIF(D$58:D78,RDGave)+COUNTIF(D$58:D78,RDGevent)","v":0},null,"","",{"$f":"COUNTIF(H$58:H78,OK)+COUNTIF(H$58:H78,RDGfix)+COUNTIF(H$58:H78,RDGave)+COUNTIF(H$58:H78,RDGevent)+J$32-1","v":0},null,"","",{"$f":"COUNTIF(L$58:L78,OK)+COUNTIF(L$58:L78,RDGfix)+COUNTIF(L$58:L78,RDGave)+COUNTIF(L$58:L78,RDGevent)+N$32-1","v":0},null,"","",{"$f":"COUNTIF(P$58:P78,OK)+COUNTIF(P$58:P78,RDGfix)+COUNTIF(P$58:P78,RDGave)+COUNTIF(P$58:P78,RDGevent)+R$32-1","v":0},null,"","",{"$f":"COUNTIF(T$58:T78,OK)+COUNTIF(T$58:T78,RDGfix)+COUNTIF(T$58:T78,RDGave)+COUNTIF(T$58:T78,RDGevent)+V$32-1","v":0},null,"","",{"$f":"COUNTIF(X$58:X78,OK)+COUNTIF(X$58:X78,RDGfix)+COUNTIF(X$58:X78,RDGave)+COUNTIF(X$58:X78,RDGevent)+Z$32-1","v":0},null,"","",{"$f":"COUNTIF(AB$58:AB78,OK)+COUNTIF(AB$58:AB78,RDGfix)+COUNTIF(AB$58:AB78,RDGave)+COUNTIF(AB$58:AB78,RDGevent)+AD$32-1","v":0},null,"","",{"$f":"COUNTIF(AF$58:AF78,OK)+COUNTIF(AF$58:AF78,RDGfix)+COUNTIF(AF$58:AF78,RDGave)+COUNTIF(AF$58:AF78,RDGevent)+AH$32-1","v":0},null,"","",{"$f":"COUNTIF(AJ$58:AJ78,OK)+COUNTIF(AJ$58:AJ78,RDGfix)+COUNTIF(AJ$58:AJ78,RDGave)+COUNTIF(AJ$58:AJ78,RDGevent)+AL$32-1","v":0},null,"","",{"$f":"COUNTIF(AN$58:AN78,OK)+COUNTIF(AN$58:AN78,RDGfix)+COUNTIF(AN$58:AN78,RDGave)+COUNTIF(AN$58:AN78,RDGevent)+AP$32-1","v":0},null,"","",{"$f":"COUNTIF(AR$58:AR78,OK)+COUNTIF(AR$58:AR78,RDGfix)+COUNTIF(AR$58:AR78,RDGave)+COUNTIF(AR$58:AR78,RDGevent)+AT$32-1","v":0},null,"","",{"$f":"COUNTIF(AV$58:AV78,OK)+COUNTIF(AV$58:AV78,RDGfix)+COUNTIF(AV$58:AV78,RDGave)+COUNTIF(AV$58:AV78,RDGevent)+AX$32-1","v":0},null,"","",{"$f":"COUNTIF(AZ$58:AZ78,OK)+COUNTIF(AZ$58:AZ78,RDGfix)+COUNTIF(AZ$58:AZ78,RDGave)+COUNTIF(AZ$58:AZ78,RDGevent)+BB$32-1","v":0},null,"","",{"$f":"COUNTIF(BD$58:BD78,OK)+COUNTIF(BD$58:BD78,RDGfix)+COUNTIF(BD$58:BD78,RDGave)+COUNTIF(BD$58:BD78,RDGevent)+BF$32-1","v":0},null,"","",{"$f":"COUNTIF(BH$58:BH78,OK)+COUNTIF(BH$58:BH78,RDGfix)+COUNTIF(BH$58:BH78,RDGave)+COUNTIF(BH$58:BH78,RDGevent)+BJ$32-1","v":0},null,"","",{"$f":"COUNTIF(BL$58:BL78,OK)+COUNTIF(BL$58:BL78,RDGfix)+COUNTIF(BL$58:BL78,RDGave)+COUNTIF(BL$58:BL78,RDGevent)+BN$32-1","v":0},null,"","",{"$f":"COUNTIF(BP$58:BP78,OK)+COUNTIF(BP$58:BP78,RDGfix)+COUNTIF(BP$58:BP78,RDGave)+COUNTIF(BP$58:BP78,RDGevent)+BR$32-1","v":0},null,"","",{"$f":"COUNTIF(BT$58:BT78,OK)+COUNTIF(BT$58:BT78,RDGfix)+COUNTIF(BT$58:BT78,RDGave)+COUNTIF(BT$58:BT78,RDGevent)+BV$32-1","v":0},null,"","",{"$f":"COUNTIF(BX$58:BX78,OK)+COUNTIF(BX$58:BX78,RDGfix)+COUNTIF(BX$58:BX78,RDGave)+COUNTIF(BX$58:BX78,RDGevent)+BZ$32-1","v":0},null,"","",{"$f":"COUNTIF(CB$58:CB78,OK)+COUNTIF(CB$58:CB78,RDGfix)+COUNTIF(CB$58:CB78,RDGave)+COUNTIF(CB$58:CB78,RDGevent)+CD$32-1","v":0},null,"","",{"$f":"COUNTIF(CF$58:CF78,OK)+COUNTIF(CF$58:CF78,RDGfix)+COUNTIF(CF$58:CF78,RDGave)+COUNTIF(CF$58:CF78,RDGevent)+CH$32-1","v":0},null,"","",{"$f":"COUNTIF(CJ$58:CJ78,OK)+COUNTIF(CJ$58:CJ78,RDGfix)+COUNTIF(CJ$58:CJ78,RDGave)+COUNTIF(CJ$58:CJ78,RDGevent)+CL$32-1","v":0},null,"","",{"$f":"COUNTIF(CN$58:CN78,OK)+COUNTIF(CN$58:CN78,RDGfix)+COUNTIF(CN$58:CN78,RDGave)+COUNTIF(CN$58:CN78,RDGevent)+CP$32-1","v":0},null,"","",{"$f":"COUNTIF(CR$58:CR78,OK)+COUNTIF(CR$58:CR78,RDGfix)+COUNTIF(CR$58:CR78,RDGave)+COUNTIF(CR$58:CR78,RDGevent)+CT$32-1","v":0},null,"","",{"$f":"COUNTIF(CV$58:CV78,OK)+COUNTIF(CV$58:CV78,RDGfix)+COUNTIF(CV$58:CV78,RDGave)+COUNTIF(CV$58:CV78,RDGevent)+CX$32-1","v":0},null,"","",{"$f":"COUNTIF(CZ$58:CZ78,OK)+COUNTIF(CZ$58:CZ78,RDGfix)+COUNTIF(CZ$58:CZ78,RDGave)+COUNTIF(CZ$58:CZ78,RDGevent)+DB$32-1","v":0},null,"","",{"$f":"COUNTIF(DD$58:DD78,OK)+COUNTIF(DD$58:DD78,RDGfix)+COUNTIF(DD$58:DD78,RDGave)+COUNTIF(DD$58:DD78,RDGevent)+DF$32-1","v":0},null,"","",{"$f":"COUNTIF(DH$58:DH78,OK)+COUNTIF(DH$58:DH78,RDGfix)+COUNTIF(DH$58:DH78,RDGave)+COUNTIF(DH$58:DH78,RDGevent)+DJ$32-1","v":0},null,"","",{"$f":"COUNTIF(DL$58:DL78,OK)+COUNTIF(DL$58:DL78,RDGfix)+COUNTIF(DL$58:DL78,RDGave)+COUNTIF(DL$58:DL78,RDGevent)+DN$32-1","v":0},null,"","",{"$f":"COUNTIF(DP$58:DP78,OK)+COUNTIF(DP$58:DP78,RDGfix)+COUNTIF(DP$58:DP78,RDGave)+COUNTIF(DP$58:DP78,RDGevent)+DR$32-1","v":0},null,"","",{"$f":"COUNTIF(DT$58:DT78,OK)+COUNTIF(DT$58:DT78,RDGfix)+COUNTIF(DT$58:DT78,RDGave)+COUNTIF(DT$58:DT78,RDGevent)+DV$32-1","v":0},null,"","",{"$f":"COUNTIF(DX$58:DX78,OK)+COUNTIF(DX$58:DX78,RDGfix)+COUNTIF(DX$58:DX78,RDGave)+COUNTIF(DX$58:DX78,RDGevent)+DZ$32-1","v":0},null,"","",{"$f":"COUNTIF(EB$58:EB78,OK)+COUNTIF(EB$58:EB78,RDGfix)+COUNTIF(EB$58:EB78,RDGave)+COUNTIF(EB$58:EB78,RDGevent)+ED$32-1","v":0},null,"","",{"$f":"COUNTIF(EF$58:EF78,OK)+COUNTIF(EF$58:EF78,RDGfix)+COUNTIF(EF$58:EF78,RDGave)+COUNTIF(EF$58:EF78,RDGevent)+EH$32-1","v":0},null,"","",{"$f":"COUNTIF(EJ$58:EJ78,OK)+COUNTIF(EJ$58:EJ78,RDGfix)+COUNTIF(EJ$58:EJ78,RDGave)+COUNTIF(EJ$58:EJ78,RDGevent)+EL$32-1","v":0},null,"","",{"$f":"COUNTIF(EN$58:EN78,OK)+COUNTIF(EN$58:EN78,RDGfix)+COUNTIF(EN$58:EN78,RDGave)+COUNTIF(EN$58:EN78,RDGevent)+EP$32-1","v":0},null,"","",{"$f":"COUNTIF(ER$58:ER78,OK)+COUNTIF(ER$58:ER78,RDGfix)+COUNTIF(ER$58:ER78,RDGave)+COUNTIF(ER$58:ER78,RDGevent)+ET$32-1","v":0},null,"","",{"$f":"COUNTIF(EV$58:EV78,OK)+COUNTIF(EV$58:EV78,RDGfix)+COUNTIF(EV$58:EV78,RDGave)+COUNTIF(EV$58:EV78,RDGevent)+EX$32-1","v":0},null,"","",{"$f":"COUNTIF(EZ$58:EZ78,OK)+COUNTIF(EZ$58:EZ78,RDGfix)+COUNTIF(EZ$58:EZ78,RDGave)+COUNTIF(EZ$58:EZ78,RDGevent)+FB$32-1","v":0},null,"","",{"$f":"COUNTIF(FD$58:FD78,OK)+COUNTIF(FD$58:FD78,RDGfix)+COUNTIF(FD$58:FD78,RDGave)+COUNTIF(FD$58:FD78,RDGevent)+FF$32-1","v":0},null,"","",{"$f":"COUNTIF(FH$58:FH78,OK)+COUNTIF(FH$58:FH78,RDGfix)+COUNTIF(FH$58:FH78,RDGave)+COUNTIF(FH$58:FH78,RDGevent)+FJ$32-1","v":0}]
[null,"22nd",null,"","",{"$f":"COUNTIF(D$58:D79,OK)+COUNTIF(D$58:D79,RDGfix)+COUNTIF(D$58:D79,RDGave)+COUNTIF(D$58:D79,RDGevent)","v":0},null,"","",{"$f":"COUNTIF(H$58:H79,OK)+COUNTIF(H$58:H79,RDGfix)+COUNTIF(H$58:H79,RDGave)+COUNTIF(H$58:H79,RDGevent)+J$32-1","v":0},null,"","",{"$f":"COUNTIF(L$58:L79,OK)+COUNTIF(L$58:L79,RDGfix)+COUNTIF(L$58:L79,RDGave)+COUNTIF(L$58:L79,RDGevent)+N$32-1","v":0},null,"","",{"$f":"COUNTIF(P$58:P79,OK)+COUNTIF(P$58:P79,RDGfix)+COUNTIF(P$58:P79,RDGave)+COUNTIF(P$58:P79,RDGevent)+R$32-1","v":0},null,"","",{"$f":"COUNTIF(T$58:T79,OK)+COUNTIF(T$58:T79,RDGfix)+COUNTIF(T$58:T79,RDGave)+COUNTIF(T$58:T79,RDGevent)+V$32-1","v":0},null,"","",{"$f":"COUNTIF(X$58:X79,OK)+COUNTIF(X$58:X79,RDGfix)+COUNTIF(X$58:X79,RDGave)+COUNTIF(X$58:X79,RDGevent)+Z$32-1","v":0},null,"","",{"$f":"COUNTIF(AB$58:AB79,OK)+COUNTIF(AB$58:AB79,RDGfix)+COUNTIF(AB$58:AB79,RDGave)+COUNTIF(AB$58:AB79,RDGevent)+AD$32-1","v":0},null,"","",{"$f":"COUNTIF(AF$58:AF79,OK)+COUNTIF(AF$58:AF79,RDGfix)+COUNTIF(AF$58:AF79,RDGave)+COUNTIF(AF$58:AF79,RDGevent)+AH$32-1","v":0},null,"","",{"$f":"COUNTIF(AJ$58:AJ79,OK)+COUNTIF(AJ$58:AJ79,RDGfix)+COUNTIF(AJ$58:AJ79,RDGave)+COUNTIF(AJ$58:AJ79,RDGevent)+AL$32-1","v":0},null,"","",{"$f":"COUNTIF(AN$58:AN79,OK)+COUNTIF(AN$58:AN79,RDGfix)+COUNTIF(AN$58:AN79,RDGave)+COUNTIF(AN$58:AN79,RDGevent)+AP$32-1","v":0},null,"","",{"$f":"COUNTIF(AR$58:AR79,OK)+COUNTIF(AR$58:AR79,RDGfix)+COUNTIF(AR$58:AR79,RDGave)+COUNTIF(AR$58:AR79,RDGevent)+AT$32-1","v":0},null,"","",{"$f":"COUNTIF(AV$58:AV79,OK)+COUNTIF(AV$58:AV79,RDGfix)+COUNTIF(AV$58:AV79,RDGave)+COUNTIF(AV$58:AV79,RDGevent)+AX$32-1","v":0},null,"","",{"$f":"COUNTIF(AZ$58:AZ79,OK)+COUNTIF(AZ$58:AZ79,RDGfix)+COUNTIF(AZ$58:AZ79,RDGave)+COUNTIF(AZ$58:AZ79,RDGevent)+BB$32-1","v":0},null,"","",{"$f":"COUNTIF(BD$58:BD79,OK)+COUNTIF(BD$58:BD79,RDGfix)+COUNTIF(BD$58:BD79,RDGave)+COUNTIF(BD$58:BD79,RDGevent)+BF$32-1","v":0},null,"","",{"$f":"COUNTIF(BH$58:BH79,OK)+COUNTIF(BH$58:BH79,RDGfix)+COUNTIF(BH$58:BH79,RDGave)+COUNTIF(BH$58:BH79,RDGevent)+BJ$32-1","v":0},null,"","",{"$f":"COUNTIF(BL$58:BL79,OK)+COUNTIF(BL$58:BL79,RDGfix)+COUNTIF(BL$58:BL79,RDGave)+COUNTIF(BL$58:BL79,RDGevent)+BN$32-1","v":0},null,"","",{"$f":"COUNTIF(BP$58:BP79,OK)+COUNTIF(BP$58:BP79,RDGfix)+COUNTIF(BP$58:BP79,RDGave)+COUNTIF(BP$58:BP79,RDGevent)+BR$32-1","v":0},null,"","",{"$f":"COUNTIF(BT$58:BT79,OK)+COUNTIF(BT$58:BT79,RDGfix)+COUNTIF(BT$58:BT79,RDGave)+COUNTIF(BT$58:BT79,RDGevent)+BV$32-1","v":0},null,"","",{"$f":"COUNTIF(BX$58:BX79,OK)+COUNTIF(BX$58:BX79,RDGfix)+COUNTIF(BX$58:BX79,RDGave)+COUNTIF(BX$58:BX79,RDGevent)+BZ$32-1","v":0},null,"","",{"$f":"COUNTIF(CB$58:CB79,OK)+COUNTIF(CB$58:CB79,RDGfix)+COUNTIF(CB$58:CB79,RDGave)+COUNTIF(CB$58:CB79,RDGevent)+CD$32-1","v":0},null,"","",{"$f":"COUNTIF(CF$58:CF79,OK)+COUNTIF(CF$58:CF79,RDGfix)+COUNTIF(CF$58:CF79,RDGave)+COUNTIF(CF$58:CF79,RDGevent)+CH$32-1","v":0},null,"","",{"$f":"COUNTIF(CJ$58:CJ79,OK)+COUNTIF(CJ$58:CJ79,RDGfix)+COUNTIF(CJ$58:CJ79,RDGave)+COUNTIF(CJ$58:CJ79,RDGevent)+CL$32-1","v":0},null,"","",{"$f":"COUNTIF(CN$58:CN79,OK)+COUNTIF(CN$58:CN79,RDGfix)+COUNTIF(CN$58:CN79,RDGave)+COUNTIF(CN$58:CN79,RDGevent)+CP$32-1","v":0},null,"","",{"$f":"COUNTIF(CR$58:CR79,OK)+COUNTIF(CR$58:CR79,RDGfix)+COUNTIF(CR$58:CR79,RDGave)+COUNTIF(CR$58:CR79,RDGevent)+CT$32-1","v":0},null,"","",{"$f":"COUNTIF(CV$58:CV79,OK)+COUNTIF(CV$58:CV79,RDGfix)+COUNTIF(CV$58:CV79,RDGave)+COUNTIF(CV$58:CV79,RDGevent)+CX$32-1","v":0},null,"","",{"$f":"COUNTIF(CZ$58:CZ79,OK)+COUNTIF(CZ$58:CZ79,RDGfix)+COUNTIF(CZ$58:CZ79,RDGave)+COUNTIF(CZ$58:CZ79,RDGevent)+DB$32-1","v":0},null,"","",{"$f":"COUNTIF(DD$58:DD79,OK)+COUNTIF(DD$58:DD79,RDGfix)+COUNTIF(DD$58:DD79,RDGave)+COUNTIF(DD$58:DD79,RDGevent)+DF$32-1","v":0},null,"","",{"$f":"COUNTIF(DH$58:DH79,OK)+COUNTIF(DH$58:DH79,RDGfix)+COUNTIF(DH$58:DH79,RDGave)+COUNTIF(DH$58:DH79,RDGevent)+DJ$32-1","v":0},null,"","",{"$f":"COUNTIF(DL$58:DL79,OK)+COUNTIF(DL$58:DL79,RDGfix)+COUNTIF(DL$58:DL79,RDGave)+COUNTIF(DL$58:DL79,RDGevent)+DN$32-1","v":0},null,"","",{"$f":"COUNTIF(DP$58:DP79,OK)+COUNTIF(DP$58:DP79,RDGfix)+COUNTIF(DP$58:DP79,RDGave)+COUNTIF(DP$58:DP79,RDGevent)+DR$32-1","v":0},null,"","",{"$f":"COUNTIF(DT$58:DT79,OK)+COUNTIF(DT$58:DT79,RDGfix)+COUNTIF(DT$58:DT79,RDGave)+COUNTIF(DT$58:DT79,RDGevent)+DV$32-1","v":0},null,"","",{"$f":"COUNTIF(DX$58:DX79,OK)+COUNTIF(DX$58:DX79,RDGfix)+COUNTIF(DX$58:DX79,RDGave)+COUNTIF(DX$58:DX79,RDGevent)+DZ$32-1","v":0},null,"","",{"$f":"COUNTIF(EB$58:EB79,OK)+COUNTIF(EB$58:EB79,RDGfix)+COUNTIF(EB$58:EB79,RDGave)+COUNTIF(EB$58:EB79,RDGevent)+ED$32-1","v":0},null,"","",{"$f":"COUNTIF(EF$58:EF79,OK)+COUNTIF(EF$58:EF79,RDGfix)+COUNTIF(EF$58:EF79,RDGave)+COUNTIF(EF$58:EF79,RDGevent)+EH$32-1","v":0},null,"","",{"$f":"COUNTIF(EJ$58:EJ79,OK)+COUNTIF(EJ$58:EJ79,RDGfix)+COUNTIF(EJ$58:EJ79,RDGave)+COUNTIF(EJ$58:EJ79,RDGevent)+EL$32-1","v":0},null,"","",{"$f":"COUNTIF(EN$58:EN79,OK)+COUNTIF(EN$58:EN79,RDGfix)+COUNTIF(EN$58:EN79,RDGave)+COUNTIF(EN$58:EN79,RDGevent)+EP$32-1","v":0},null,"","",{"$f":"COUNTIF(ER$58:ER79,OK)+COUNTIF(ER$58:ER79,RDGfix)+COUNTIF(ER$58:ER79,RDGave)+COUNTIF(ER$58:ER79,RDGevent)+ET$32-1","v":0},null,"","",{"$f":"COUNTIF(EV$58:EV79,OK)+COUNTIF(EV$58:EV79,RDGfix)+COUNTIF(EV$58:EV79,RDGave)+COUNTIF(EV$58:EV79,RDGevent)+EX$32-1","v":0},null,"","",{"$f":"COUNTIF(EZ$58:EZ79,OK)+COUNTIF(EZ$58:EZ79,RDGfix)+COUNTIF(EZ$58:EZ79,RDGave)+COUNTIF(EZ$58:EZ79,RDGevent)+FB$32-1","v":0},null,"","",{"$f":"COUNTIF(FD$58:FD79,OK)+COUNTIF(FD$58:FD79,RDGfix)+COUNTIF(FD$58:FD79,RDGave)+COUNTIF(FD$58:FD79,RDGevent)+FF$32-1","v":0},null,"","",{"$f":"COUNTIF(FH$58:FH79,OK)+COUNTIF(FH$58:FH79,RDGfix)+COUNTIF(FH$58:FH79,RDGave)+COUNTIF(FH$58:FH79,RDGevent)+FJ$32-1","v":0}]
[null,"23rd",null,"","",{"$f":"COUNTIF(D$58:D80,OK)+COUNTIF(D$58:D80,RDGfix)+COUNTIF(D$58:D80,RDGave)+COUNTIF(D$58:D80,RDGevent)","v":0},null,"","",{"$f":"COUNTIF(H$58:H80,OK)+COUNTIF(H$58:H80,RDGfix)+COUNTIF(H$58:H80,RDGave)+COUNTIF(H$58:H80,RDGevent)+J$32-1","v":0},null,"","",{"$f":"COUNTIF(L$58:L80,OK)+COUNTIF(L$58:L80,RDGfix)+COUNTIF(L$58:L80,RDGave)+COUNTIF(L$58:L80,RDGevent)+N$32-1","v":0},null,"","",{"$f":"COUNTIF(P$58:P80,OK)+COUNTIF(P$58:P80,RDGfix)+COUNTIF(P$58:P80,RDGave)+COUNTIF(P$58:P80,RDGevent)+R$32-1","v":0},null,"","",{"$f":"COUNTIF(T$58:T80,OK)+COUNTIF(T$58:T80,RDGfix)+COUNTIF(T$58:T80,RDGave)+COUNTIF(T$58:T80,RDGevent)+V$32-1","v":0},null,"","",{"$f":"COUNTIF(X$58:X80,OK)+COUNTIF(X$58:X80,RDGfix)+COUNTIF(X$58:X80,RDGave)+COUNTIF(X$58:X80,RDGevent)+Z$32-1","v":0},null,"","",{"$f":"COUNTIF(AB$58:AB80,OK)+COUNTIF(AB$58:AB80,RDGfix)+COUNTIF(AB$58:AB80,RDGave)+COUNTIF(AB$58:AB80,RDGevent)+AD$32-1","v":0},null,"","",{"$f":"COUNTIF(AF$58:AF80,OK)+COUNTIF(AF$58:AF80,RDGfix)+COUNTIF(AF$58:AF80,RDGave)+COUNTIF(AF$58:AF80,RDGevent)+AH$32-1","v":0},null,"","",{"$f":"COUNTIF(AJ$58:AJ80,OK)+COUNTIF(AJ$58:AJ80,RDGfix)+COUNTIF(AJ$58:AJ80,RDGave)+COUNTIF(AJ$58:AJ80,RDGevent)+AL$32-1","v":0},null,"","",{"$f":"COUNTIF(AN$58:AN80,OK)+COUNTIF(AN$58:AN80,RDGfix)+COUNTIF(AN$58:AN80,RDGave)+COUNTIF(AN$58:AN80,RDGevent)+AP$32-1","v":0},null,"","",{"$f":"COUNTIF(AR$58:AR80,OK)+COUNTIF(AR$58:AR80,RDGfix)+COUNTIF(AR$58:AR80,RDGave)+COUNTIF(AR$58:AR80,RDGevent)+AT$32-1","v":0},null,"","",{"$f":"COUNTIF(AV$58:AV80,OK)+COUNTIF(AV$58:AV80,RDGfix)+COUNTIF(AV$58:AV80,RDGave)+COUNTIF(AV$58:AV80,RDGevent)+AX$32-1","v":0},null,"","",{"$f":"COUNTIF(AZ$58:AZ80,OK)+COUNTIF(AZ$58:AZ80,RDGfix)+COUNTIF(AZ$58:AZ80,RDGave)+COUNTIF(AZ$58:AZ80,RDGevent)+BB$32-1","v":0},null,"","",{"$f":"COUNTIF(BD$58:BD80,OK)+COUNTIF(BD$58:BD80,RDGfix)+COUNTIF(BD$58:BD80,RDGave)+COUNTIF(BD$58:BD80,RDGevent)+BF$32-1","v":0},null,"","",{"$f":"COUNTIF(BH$58:BH80,OK)+COUNTIF(BH$58:BH80,RDGfix)+COUNTIF(BH$58:BH80,RDGave)+COUNTIF(BH$58:BH80,RDGevent)+BJ$32-1","v":0},null,"","",{"$f":"COUNTIF(BL$58:BL80,OK)+COUNTIF(BL$58:BL80,RDGfix)+COUNTIF(BL$58:BL80,RDGave)+COUNTIF(BL$58:BL80,RDGevent)+BN$32-1","v":0},null,"","",{"$f":"COUNTIF(BP$58:BP80,OK)+COUNTIF(BP$58:BP80,RDGfix)+COUNTIF(BP$58:BP80,RDGave)+COUNTIF(BP$58:BP80,RDGevent)+BR$32-1","v":0},null,"","",{"$f":"COUNTIF(BT$58:BT80,OK)+COUNTIF(BT$58:BT80,RDGfix)+COUNTIF(BT$58:BT80,RDGave)+COUNTIF(BT$58:BT80,RDGevent)+BV$32-1","v":0},null,"","",{"$f":"COUNTIF(BX$58:BX80,OK)+COUNTIF(BX$58:BX80,RDGfix)+COUNTIF(BX$58:BX80,RDGave)+COUNTIF(BX$58:BX80,RDGevent)+BZ$32-1","v":0},null,"","",{"$f":"COUNTIF(CB$58:CB80,OK)+COUNTIF(CB$58:CB80,RDGfix)+COUNTIF(CB$58:CB80,RDGave)+COUNTIF(CB$58:CB80,RDGevent)+CD$32-1","v":0},null,"","",{"$f":"COUNTIF(CF$58:CF80,OK)+COUNTIF(CF$58:CF80,RDGfix)+COUNTIF(CF$58:CF80,RDGave)+COUNTIF(CF$58:CF80,RDGevent)+CH$32-1","v":0},null,"","",{"$f":"COUNTIF(CJ$58:CJ80,OK)+COUNTIF(CJ$58:CJ80,RDGfix)+COUNTIF(CJ$58:CJ80,RDGave)+COUNTIF(CJ$58:CJ80,RDGevent)+CL$32-1","v":0},null,"","",{"$f":"COUNTIF(CN$58:CN80,OK)+COUNTIF(CN$58:CN80,RDGfix)+COUNTIF(CN$58:CN80,RDGave)+COUNTIF(CN$58:CN80,RDGevent)+CP$32-1","v":0},null,"","",{"$f":"COUNTIF(CR$58:CR80,OK)+COUNTIF(CR$58:CR80,RDGfix)+COUNTIF(CR$58:CR80,RDGave)+COUNTIF(CR$58:CR80,RDGevent)+CT$32-1","v":0},null,"","",{"$f":"COUNTIF(CV$58:CV80,OK)+COUNTIF(CV$58:CV80,RDGfix)+COUNTIF(CV$58:CV80,RDGave)+COUNTIF(CV$58:CV80,RDGevent)+CX$32-1","v":0},null,"","",{"$f":"COUNTIF(CZ$58:CZ80,OK)+COUNTIF(CZ$58:CZ80,RDGfix)+COUNTIF(CZ$58:CZ80,RDGave)+COUNTIF(CZ$58:CZ80,RDGevent)+DB$32-1","v":0},null,"","",{"$f":"COUNTIF(DD$58:DD80,OK)+COUNTIF(DD$58:DD80,RDGfix)+COUNTIF(DD$58:DD80,RDGave)+COUNTIF(DD$58:DD80,RDGevent)+DF$32-1","v":0},null,"","",{"$f":"COUNTIF(DH$58:DH80,OK)+COUNTIF(DH$58:DH80,RDGfix)+COUNTIF(DH$58:DH80,RDGave)+COUNTIF(DH$58:DH80,RDGevent)+DJ$32-1","v":0},null,"","",{"$f":"COUNTIF(DL$58:DL80,OK)+COUNTIF(DL$58:DL80,RDGfix)+COUNTIF(DL$58:DL80,RDGave)+COUNTIF(DL$58:DL80,RDGevent)+DN$32-1","v":0},null,"","",{"$f":"COUNTIF(DP$58:DP80,OK)+COUNTIF(DP$58:DP80,RDGfix)+COUNTIF(DP$58:DP80,RDGave)+COUNTIF(DP$58:DP80,RDGevent)+DR$32-1","v":0},null,"","",{"$f":"COUNTIF(DT$58:DT80,OK)+COUNTIF(DT$58:DT80,RDGfix)+COUNTIF(DT$58:DT80,RDGave)+COUNTIF(DT$58:DT80,RDGevent)+DV$32-1","v":0},null,"","",{"$f":"COUNTIF(DX$58:DX80,OK)+COUNTIF(DX$58:DX80,RDGfix)+COUNTIF(DX$58:DX80,RDGave)+COUNTIF(DX$58:DX80,RDGevent)+DZ$32-1","v":0},null,"","",{"$f":"COUNTIF(EB$58:EB80,OK)+COUNTIF(EB$58:EB80,RDGfix)+COUNTIF(EB$58:EB80,RDGave)+COUNTIF(EB$58:EB80,RDGevent)+ED$32-1","v":0},null,"","",{"$f":"COUNTIF(EF$58:EF80,OK)+COUNTIF(EF$58:EF80,RDGfix)+COUNTIF(EF$58:EF80,RDGave)+COUNTIF(EF$58:EF80,RDGevent)+EH$32-1","v":0},null,"","",{"$f":"COUNTIF(EJ$58:EJ80,OK)+COUNTIF(EJ$58:EJ80,RDGfix)+COUNTIF(EJ$58:EJ80,RDGave)+COUNTIF(EJ$58:EJ80,RDGevent)+EL$32-1","v":0},null,"","",{"$f":"COUNTIF(EN$58:EN80,OK)+COUNTIF(EN$58:EN80,RDGfix)+COUNTIF(EN$58:EN80,RDGave)+COUNTIF(EN$58:EN80,RDGevent)+EP$32-1","v":0},null,"","",{"$f":"COUNTIF(ER$58:ER80,OK)+COUNTIF(ER$58:ER80,RDGfix)+COUNTIF(ER$58:ER80,RDGave)+COUNTIF(ER$58:ER80,RDGevent)+ET$32-1","v":0},null,"","",{"$f":"COUNTIF(EV$58:EV80,OK)+COUNTIF(EV$58:EV80,RDGfix)+COUNTIF(EV$58:EV80,RDGave)+COUNTIF(EV$58:EV80,RDGevent)+EX$32-1","v":0},null,"","",{"$f":"COUNTIF(EZ$58:EZ80,OK)+COUNTIF(EZ$58:EZ80,RDGfix)+COUNTIF(EZ$58:EZ80,RDGave)+COUNTIF(EZ$58:EZ80,RDGevent)+FB$32-1","v":0},null,"","",{"$f":"COUNTIF(FD$58:FD80,OK)+COUNTIF(FD$58:FD80,RDGfix)+COUNTIF(FD$58:FD80,RDGave)+COUNTIF(FD$58:FD80,RDGevent)+FF$32-1","v":0},null,"","",{"$f":"COUNTIF(FH$58:FH80,OK)+COUNTIF(FH$58:FH80,RDGfix)+COUNTIF(FH$58:FH80,RDGave)+COUNTIF(FH$58:FH80,RDGevent)+FJ$32-1","v":0}]
[null,"24th",null,"","",{"$f":"COUNTIF(D$58:D81,OK)+COUNTIF(D$58:D81,RDGfix)+COUNTIF(D$58:D81,RDGave)+COUNTIF(D$58:D81,RDGevent)","v":0},null,{"$f":"IF(G81=\"\",\"\",OK)","v":""},{"$f":"IF(G81=\"\",\"\",IF(AND(H$57=\"L\",H81=\"DNC\"),$I$2,\nIF(H81=OK,J81,IF(HLOOKUP(H81,Comments3,2,FALSE)=D,J$57,IF(HLOOKUP(H81,Comments3,2,FALSE)=A,VLOOKUP(G81,Averages,G$4,FALSE),IF(HLOOKUP(H81,Comments3,2,FALSE)=E,VLOOKUP(G81,EventAverage,2,FALSE), HLOOKUP(H81,Comments4,2,FALSE)))))))","v":""},{"$f":"COUNTIF(H$58:H81,OK)+COUNTIF(H$58:H81,RDGfix)+COUNTIF(H$58:H81,RDGave)+COUNTIF(H$58:H81,RDGevent)+J$32-1","v":0},null,{"$f":"IF(K81=\"\",\"\",OK)","v":""},{"$f":"IF(K81=\"\",\"\",IF(AND(L$57=\"L\",L81=\"DNC\"),$I$2,\nIF(L81=OK,N81,IF(HLOOKUP(L81,Comments3,2,FALSE)=D,N$57,IF(HLOOKUP(L81,Comments3,2,FALSE)=A,VLOOKUP(K81,Averages,K$4,FALSE),IF(HLOOKUP(L81,Comments3,2,FALSE)=E,VLOOKUP(K81,EventAverage,2,FALSE), HLOOKUP(L81,Comments4,2,FALSE)))))))","v":""},{"$f":"COUNTIF(L$58:L81,OK)+COUNTIF(L$58:L81,RDGfix)+COUNTIF(L$58:L81,RDGave)+COUNTIF(L$58:L81,RDGevent)+N$32-1","v":0},null,{"$f":"IF(O81=\"\",\"\",OK)","v":""},{"$f":"IF(O81=\"\",\"\",IF(AND(P$57=\"L\",P81=\"DNC\"),$I$2,\nIF(P81=OK,R81,IF(HLOOKUP(P81,Comments3,2,FALSE)=D,R$57,IF(HLOOKUP(P81,Comments3,2,FALSE)=A,VLOOKUP(O81,Averages,O$4,FALSE),IF(HLOOKUP(P81,Comments3,2,FALSE)=E,VLOOKUP(O81,EventAverage,2,FALSE), HLOOKUP(P81,Comments4,2,FALSE)))))))","v":""},{"$f":"COUNTIF(P$58:P81,OK)+COUNTIF(P$58:P81,RDGfix)+COUNTIF(P$58:P81,RDGave)+COUNTIF(P$58:P81,RDGevent)+R$32-1","v":0},null,{"$f":"IF(S81=\"\",\"\",OK)","v":""},{"$f":"IF(S81=\"\",\"\",IF(AND(T$57=\"L\",T81=\"DNC\"),$I$2,\nIF(T81=OK,V81,IF(HLOOKUP(T81,Comments3,2,FALSE)=D,V$57,IF(HLOOKUP(T81,Comments3,2,FALSE)=A,VLOOKUP(S81,Averages,S$4,FALSE),IF(HLOOKUP(T81,Comments3,2,FALSE)=E,VLOOKUP(S81,EventAverage,2,FALSE), HLOOKUP(T81,Comments4,2,FALSE)))))))","v":""},{"$f":"COUNTIF(T$58:T81,OK)+COUNTIF(T$58:T81,RDGfix)+COUNTIF(T$58:T81,RDGave)+COUNTIF(T$58:T81,RDGevent)+V$32-1","v":0},null,{"$f":"IF(W81=\"\",\"\",OK)","v":""},{"$f":"IF(W81=\"\",\"\",IF(AND(X$57=\"L\",X81=\"DNC\"),$I$2,\nIF(X81=OK,Z81,IF(HLOOKUP(X81,Comments3,2,FALSE)=D,Z$57,IF(HLOOKUP(X81,Comments3,2,FALSE)=A,VLOOKUP(W81,Averages,W$4,FALSE),IF(HLOOKUP(X81,Comments3,2,FALSE)=E,VLOOKUP(W81,EventAverage,2,FALSE), HLOOKUP(X81,Comments4,2,FALSE)))))))","v":""},{"$f":"COUNTIF(X$58:X81,OK)+COUNTIF(X$58:X81,RDGfix)+COUNTIF(X$58:X81,RDGave)+COUNTIF(X$58:X81,RDGevent)+Z$32-1","v":0},null,{"$f":"IF(AA81=\"\",\"\",OK)","v":""},{"$f":"IF(AA81=\"\",\"\",IF(AND(AB$57=\"L\",AB81=\"DNC\"),$I$2,\nIF(AB81=OK,AD81,IF(HLOOKUP(AB81,Comments3,2,FALSE)=D,AD$57,IF(HLOOKUP(AB81,Comments3,2,FALSE)=A,VLOOKUP(AA81,Averages,AA$4,FALSE),IF(HLOOKUP(AB81,Comments3,2,FALSE)=E,VLOOKUP(AA81,EventAverage,2,FALSE), HLOOKUP(AB81,Comments4,2,FALSE)))))))","v":""},{"$f":"COUNTIF(AB$58:AB81,OK)+COUNTIF(AB$58:AB81,RDGfix)+COUNTIF(AB$58:AB81,RDGave)+COUNTIF(AB$58:AB81,RDGevent)+AD$32-1","v":0},null,{"$f":"IF(AE81=\"\",\"\",OK)","v":""},{"$f":"IF(AE81=\"\",\"\",IF(AND(AF$57=\"L\",AF81=\"DNC\"),$I$2,\nIF(AF81=OK,AH81,IF(HLOOKUP(AF81,Comments3,2,FALSE)=D,AH$57,IF(HLOOKUP(AF81,Comments3,2,FALSE)=A,VLOOKUP(AE81,Averages,AE$4,FALSE),IF(HLOOKUP(AF81,Comments3,2,FALSE)=E,VLOOKUP(AE81,EventAverage,2,FALSE), HLOOKUP(AF81,Comments4,2,FALSE)))))))","v":""},{"$f":"COUNTIF(AF$58:AF81,OK)+COUNTIF(AF$58:AF81,RDGfix)+COUNTIF(AF$58:AF81,RDGave)+COUNTIF(AF$58:AF81,RDGevent)+AH$32-1","v":0},null,{"$f":"IF(AI81=\"\",\"\",OK)","v":""},{"$f":"IF(AI81=\"\",\"\",IF(AND(AJ$57=\"L\",AJ81=\"DNC\"),$I$2,\nIF(AJ81=OK,AL81,IF(HLOOKUP(AJ81,Comments3,2,FALSE)=D,AL$57,IF(HLOOKUP(AJ81,Comments3,2,FALSE)=A,VLOOKUP(AI81,Averages,AI$4,FALSE),IF(HLOOKUP(AJ81,Comments3,2,FALSE)=E,VLOOKUP(AI81,EventAverage,2,FALSE), HLOOKUP(AJ81,Comments4,2,FALSE)))))))","v":""},{"$f":"COUNTIF(AJ$58:AJ81,OK)+COUNTIF(AJ$58:AJ81,RDGfix)+COUNTIF(AJ$58:AJ81,RDGave)+COUNTIF(AJ$58:AJ81,RDGevent)+AL$32-1","v":0},null,{"$f":"IF(AM81=\"\",\"\",OK)","v":""},{"$f":"IF(AM81=\"\",\"\",IF(AND(AN$57=\"L\",AN81=\"DNC\"),$I$2,\nIF(AN81=OK,AP81,IF(HLOOKUP(AN81,Comments3,2,FALSE)=D,AP$32,IF(HLOOKUP(AN81,Comments3,2,FALSE)=A,VLOOKUP(AM81,Averages,AM$4,FALSE),IF(HLOOKUP(AN81,Comments3,2,FALSE)=E,VLOOKUP(AM81,EventAverage,2,FALSE), HLOOKUP(AN81,Comments4,2,FALSE)))))))","v":""},{"$f":"COUNTIF(AN$58:AN81,OK)+COUNTIF(AN$58:AN81,RDGfix)+COUNTIF(AN$58:AN81,RDGave)+COUNTIF(AN$58:AN81,RDGevent)+AP$32-1","v":0},null,{"$f":"IF(AQ81=\"\",\"\",OK)","v":""},{"$f":"IF(AQ81=\"\",\"\",IF(AND(AR$57=\"L\",AR81=\"DNC\"),$I$2,\nIF(AR81=OK,AT81,IF(HLOOKUP(AR81,Comments3,2,FALSE)=D,AT$57,IF(HLOOKUP(AR81,Comments3,2,FALSE)=A,VLOOKUP(AQ81,Averages,AQ$4,FALSE),IF(HLOOKUP(AR81,Comments3,2,FALSE)=E,VLOOKUP(AQ81,EventAverage,2,FALSE), HLOOKUP(AR81,Comments4,2,FALSE)))))))","v":""},{"$f":"COUNTIF(AR$58:AR81,OK)+COUNTIF(AR$58:AR81,RDGfix)+COUNTIF(AR$58:AR81,RDGave)+COUNTIF(AR$58:AR81,RDGevent)+AT$32-1","v":0},null,{"$f":"IF(AU81=\"\",\"\",OK)","v":""},{"$f":"IF(AU81=\"\",\"\",IF(AND(AV$57=\"L\",AV81=\"DNC\"),$I$2,\nIF(AV81=OK,AX81,IF(HLOOKUP(AV81,Comments3,2,FALSE)=D,AX$57,IF(HLOOKUP(AV81,Comments3,2,FALSE)=A,VLOOKUP(AU81,Averages,AU$4,FALSE),IF(HLOOKUP(AV81,Comments3,2,FALSE)=E,VLOOKUP(AU81,EventAverage,2,FALSE), HLOOKUP(AV81,Comments4,2,FALSE)))))))","v":""},{"$f":"COUNTIF(AV$58:AV81,OK)+COUNTIF(AV$58:AV81,RDGfix)+COUNTIF(AV$58:AV81,RDGave)+COUNTIF(AV$58:AV81,RDGevent)+AX$32-1","v":0},null,{"$f":"IF(AY81=\"\",\"\",OK)","v":""},{"$f":"IF(AY81=\"\",\"\",IF(AND(AZ$57=\"L\",AZ81=\"DNC\"),$I$2,\nIF(AZ81=OK,BB81,IF(HLOOKUP(AZ81,Comments3,2,FALSE)=D,BB$57,IF(HLOOKUP(AZ81,Comments3,2,FALSE)=A,VLOOKUP(AY81,Averages,AY$4,FALSE),IF(HLOOKUP(AZ81,Comments3,2,FALSE)=E,VLOOKUP(AY81,EventAverage,2,FALSE), HLOOKUP(AZ81,Comments4,2,FALSE)))))))","v":""},{"$f":"COUNTIF(AZ$58:AZ81,OK)+COUNTIF(AZ$58:AZ81,RDGfix)+COUNTIF(AZ$58:AZ81,RDGave)+COUNTIF(AZ$58:AZ81,RDGevent)+BB$32-1","v":0},null,{"$f":"IF(BC81=\"\",\"\",OK)","v":""},{"$f":"IF(BC81=\"\",\"\",IF(AND(BD$57=\"L\",BD81=\"DNC\"),$I$2,\nIF(BD81=OK,BF81,IF(HLOOKUP(BD81,Comments3,2,FALSE)=D,BF$57,IF(HLOOKUP(BD81,Comments3,2,FALSE)=A,VLOOKUP(BC81,Averages,BC$4,FALSE),IF(HLOOKUP(BD81,Comments3,2,FALSE)=E,VLOOKUP(BC81,EventAverage,2,FALSE), HLOOKUP(BD81,Comments4,2,FALSE)))))))","v":""},{"$f":"COUNTIF(BD$58:BD81,OK)+COUNTIF(BD$58:BD81,RDGfix)+COUNTIF(BD$58:BD81,RDGave)+COUNTIF(BD$58:BD81,RDGevent)+BF$32-1","v":0},null,{"$f":"IF(BG81=\"\",\"\",OK)","v":""},{"$f":"IF(BG81=\"\",\"\",IF(AND(BH$57=\"L\",BH81=\"DNC\"),$I$2,\nIF(BH81=OK,BJ81,IF(HLOOKUP(BH81,Comments3,2,FALSE)=D,BJ$57,IF(HLOOKUP(BH81,Comments3,2,FALSE)=A,VLOOKUP(BG81,Averages,BG$4,FALSE),IF(HLOOKUP(BH81,Comments3,2,FALSE)=E,VLOOKUP(BG81,EventAverage,2,FALSE), HLOOKUP(BH81,Comments4,2,FALSE)))))))","v":""},{"$f":"COUNTIF(BH$58:BH81,OK)+COUNTIF(BH$58:BH81,RDGfix)+COUNTIF(BH$58:BH81,RDGave)+COUNTIF(BH$58:BH81,RDGevent)+BJ$32-1","v":0},null,{"$f":"IF(BK81=\"\",\"\",OK)","v":""},{"$f":"IF(BK81=\"\",\"\",IF(AND(BL$57=\"L\",BL81=\"DNC\"),$I$2,\nIF(BL81=OK,BN81,IF(HLOOKUP(BL81,Comments3,2,FALSE)=D,BN$57,IF(HLOOKUP(BL81,Comments3,2,FALSE)=A,VLOOKUP(BK81,Averages,BK$4,FALSE),IF(HLOOKUP(BL81,Comments3,2,FALSE)=E,VLOOKUP(BK81,EventAverage,2,FALSE), HLOOKUP(BL81,Comments4,2,FALSE)))))))","v":""},{"$f":"COUNTIF(BL$58:BL81,OK)+COUNTIF(BL$58:BL81,RDGfix)+COUNTIF(BL$58:BL81,RDGave)+COUNTIF(BL$58:BL81,RDGevent)+BN$32-1","v":0},null,{"$f":"IF(BO81=\"\",\"\",OK)","v":""},{"$f":"IF(BO81=\"\",\"\",IF(AND(BP$57=\"L\",BP81=\"DNC\"),$I$2,\nIF(BP81=OK,BR81,IF(HLOOKUP(BP81,Comments3,2,FALSE)=D,BR$57,IF(HLOOKUP(BP81,Comments3,2,FALSE)=A,VLOOKUP(BO81,Averages,BO$4,FALSE),IF(HLOOKUP(BP81,Comments3,2,FALSE)=E,VLOOKUP(BO81,EventAverage,2,FALSE), HLOOKUP(BP81,Comments4,2,FALSE)))))))","v":""},{"$f":"COUNTIF(BP$58:BP81,OK)+COUNTIF(BP$58:BP81,RDGfix)+COUNTIF(BP$58:BP81,RDGave)+COUNTIF(BP$58:BP81,RDGevent)+BR$32-1","v":0},null,{"$f":"IF(BS81=\"\",\"\",OK)","v":""},{"$f":"IF(BS81=\"\",\"\",IF(AND(BT$57=\"L\",BT81=\"DNC\"),$I$2,\nIF(BT81=OK,BV81,IF(HLOOKUP(BT81,Comments3,2,FALSE)=D,BV$57,IF(HLOOKUP(BT81,Comments3,2,FALSE)=A,VLOOKUP(BS81,Averages,BS$4,FALSE),IF(HLOOKUP(BT81,Comments3,2,FALSE)=E,VLOOKUP(BS81,EventAverage,2,FALSE), HLOOKUP(BT81,Comments4,2,FALSE)))))))","v":""},{"$f":"COUNTIF(BT$58:BT81,OK)+COUNTIF(BT$58:BT81,RDGfix)+COUNTIF(BT$58:BT81,RDGave)+COUNTIF(BT$58:BT81,RDGevent)+BV$32-1","v":0},null,{"$f":"IF(BW81=\"\",\"\",OK)","v":""},{"$f":"IF(BW81=\"\",\"\",IF(AND(BX$57=\"L\",BX81=\"DNC\"),$I$2,\nIF(BX81=OK,BZ81,IF(HLOOKUP(BX81,Comments3,2,FALSE)=D,BZ$57,IF(HLOOKUP(BX81,Comments3,2,FALSE)=A,VLOOKUP(BW81,Averages,BW$4,FALSE),IF(HLOOKUP(BX81,Comments3,2,FALSE)=E,VLOOKUP(BW81,EventAverage,2,FALSE), HLOOKUP(BX81,Comments4,2,FALSE)))))))","v":""},{"$f":"COUNTIF(BX$58:BX81,OK)+COUNTIF(BX$58:BX81,RDGfix)+COUNTIF(BX$58:BX81,RDGave)+COUNTIF(BX$58:BX81,RDGevent)+BZ$32-1","v":0},null,{"$f":"IF(CA81=\"\",\"\",OK)","v":""},{"$f":"IF(CA81=\"\",\"\",IF(AND(CB$57=\"L\",CB81=\"DNC\"),$I$2,\nIF(CB81=OK,CD81,IF(HLOOKUP(CB81,Comments3,2,FALSE)=D,CD$57,IF(HLOOKUP(CB81,Comments3,2,FALSE)=A,VLOOKUP(CA81,Averages,CA$4,FALSE),IF(HLOOKUP(CB81,Comments3,2,FALSE)=E,VLOOKUP(CA81,EventAverage,2,FALSE), HLOOKUP(CB81,Comments4,2,FALSE)))))))","v":""},{"$f":"COUNTIF(CB$58:CB81,OK)+COUNTIF(CB$58:CB81,RDGfix)+COUNTIF(CB$58:CB81,RDGave)+COUNTIF(CB$58:CB81,RDGevent)+CD$32-1","v":0},null,{"$f":"IF(CE81=\"\",\"\",OK)","v":""},{"$f":"IF(CE81=\"\",\"\",IF(AND(CF$57=\"L\",CF81=\"DNC\"),$I$2,\nIF(CF81=OK,CH81,IF(HLOOKUP(CF81,Comments3,2,FALSE)=D,CH$57,IF(HLOOKUP(CF81,Comments3,2,FALSE)=A,VLOOKUP(CE81,Averages,CE$4,FALSE),IF(HLOOKUP(CF81,Comments3,2,FALSE)=E,VLOOKUP(CE81,EventAverage,2,FALSE), HLOOKUP(CF81,Comments4,2,FALSE)))))))","v":""},{"$f":"COUNTIF(CF$58:CF81,OK)+COUNTIF(CF$58:CF81,RDGfix)+COUNTIF(CF$58:CF81,RDGave)+COUNTIF(CF$58:CF81,RDGevent)+CH$32-1","v":0},null,{"$f":"IF(CI81=\"\",\"\",OK)","v":""},{"$f":"IF(CI81=\"\",\"\",IF(AND(CJ$57=\"L\",CJ81=\"DNC\"),$I$2,\nIF(CJ81=OK,CL81,IF(HLOOKUP(CJ81,Comments3,2,FALSE)=D,CL$57,IF(HLOOKUP(CJ81,Comments3,2,FALSE)=A,VLOOKUP(CI81,Averages,CI$4,FALSE),IF(HLOOKUP(CJ81,Comments3,2,FALSE)=E,VLOOKUP(CI81,EventAverage,2,FALSE), HLOOKUP(CJ81,Comments4,2,FALSE)))))))","v":""},{"$f":"COUNTIF(CJ$58:CJ81,OK)+COUNTIF(CJ$58:CJ81,RDGfix)+COUNTIF(CJ$58:CJ81,RDGave)+COUNTIF(CJ$58:CJ81,RDGevent)+CL$32-1","v":0},null,{"$f":"IF(CM81=\"\",\"\",OK)","v":""},{"$f":"IF(CM81=\"\",\"\",IF(AND(CN$57=\"L\",CN81=\"DNC\"),$I$2,\nIF(CN81=OK,CP81,IF(HLOOKUP(CN81,Comments3,2,FALSE)=D,CP$57,IF(HLOOKUP(CN81,Comments3,2,FALSE)=A,VLOOKUP(CM81,Averages,CM$4,FALSE),IF(HLOOKUP(CN81,Comments3,2,FALSE)=E,VLOOKUP(CM81,EventAverage,2,FALSE), HLOOKUP(CN81,Comments4,2,FALSE)))))))","v":""},{"$f":"COUNTIF(CN$58:CN81,OK)+COUNTIF(CN$58:CN81,RDGfix)+COUNTIF(CN$58:CN81,RDGave)+COUNTIF(CN$58:CN81,RDGevent)+CP$32-1","v":0},null,{"$f":"IF(CQ81=\"\",\"\",OK)","v":""},{"$f":"IF(CQ81=\"\",\"\",IF(AND(CR$57=\"L\",CR81=\"DNC\"),$I$2,\nIF(CR81=OK,CT81,IF(HLOOKUP(CR81,Comments3,2,FALSE)=D,CT$57,IF(HLOOKUP(CR81,Comments3,2,FALSE)=A,VLOOKUP(CQ81,Averages,CQ$4,FALSE),IF(HLOOKUP(CR81,Comments3,2,FALSE)=E,VLOOKUP(CQ81,EventAverage,2,FALSE), HLOOKUP(CR81,Comments4,2,FALSE)))))))","v":""},{"$f":"COUNTIF(CR$58:CR81,OK)+COUNTIF(CR$58:CR81,RDGfix)+COUNTIF(CR$58:CR81,RDGave)+COUNTIF(CR$58:CR81,RDGevent)+CT$32-1","v":0},null,{"$f":"IF(CU81=\"\",\"\",OK)","v":""},{"$f":"IF(CU81=\"\",\"\",IF(AND(CV$57=\"L\",CV81=\"DNC\"),$I$2,\nIF(CV81=OK,CX81,IF(HLOOKUP(CV81,Comments3,2,FALSE)=D,CX$57,IF(HLOOKUP(CV81,Comments3,2,FALSE)=A,VLOOKUP(CU81,Averages,CU$4,FALSE),IF(HLOOKUP(CV81,Comments3,2,FALSE)=E,VLOOKUP(CU81,EventAverage,2,FALSE), HLOOKUP(CV81,Comments4,2,FALSE)))))))","v":""},{"$f":"COUNTIF(CV$58:CV81,OK)+COUNTIF(CV$58:CV81,RDGfix)+COUNTIF(CV$58:CV81,RDGave)+COUNTIF(CV$58:CV81,RDGevent)+CX$32-1","v":0},null,{"$f":"IF(CY81=\"\",\"\",OK)","v":""},{"$f":"IF(CY81=\"\",\"\",IF(AND(CZ$57=\"L\",CZ81=\"DNC\"),$I$2,\nIF(CZ81=OK,DB81,IF(HLOOKUP(CZ81,Comments3,2,FALSE)=D,DB$57,IF(HLOOKUP(CZ81,Comments3,2,FALSE)=A,VLOOKUP(CY81,Averages,CY$4,FALSE),IF(HLOOKUP(CZ81,Comments3,2,FALSE)=E,VLOOKUP(CY81,EventAverage,2,FALSE), HLOOKUP(CZ81,Comments4,2,FALSE)))))))","v":""},{"$f":"COUNTIF(CZ$58:CZ81,OK)+COUNTIF(CZ$58:CZ81,RDGfix)+COUNTIF(CZ$58:CZ81,RDGave)+COUNTIF(CZ$58:CZ81,RDGevent)+DB$32-1","v":0},null,{"$f":"IF(DC81=\"\",\"\",OK)","v":""},{"$f":"IF(DC81=\"\",\"\",IF(AND(DD$57=\"L\",DD81=\"DNC\"),$I$2,\nIF(DD81=OK,DF81,IF(HLOOKUP(DD81,Comments3,2,FALSE)=D,DF$57,IF(HLOOKUP(DD81,Comments3,2,FALSE)=A,VLOOKUP(DC81,Averages,DC$4,FALSE),IF(HLOOKUP(DD81,Comments3,2,FALSE)=E,VLOOKUP(DC81,EventAverage,2,FALSE), HLOOKUP(DD81,Comments4,2,FALSE)))))))","v":""},{"$f":"COUNTIF(DD$58:DD81,OK)+COUNTIF(DD$58:DD81,RDGfix)+COUNTIF(DD$58:DD81,RDGave)+COUNTIF(DD$58:DD81,RDGevent)+DF$32-1","v":0},null,{"$f":"IF(DG81=\"\",\"\",OK)","v":""},{"$f":"IF(DG81=\"\",\"\",IF(AND(DH$57=\"L\",DH81=\"DNC\"),$I$2,\nIF(DH81=OK,DJ81,IF(HLOOKUP(DH81,Comments3,2,FALSE)=D,DJ$57,IF(HLOOKUP(DH81,Comments3,2,FALSE)=A,VLOOKUP(DG81,Averages,DG$4,FALSE),IF(HLOOKUP(DH81,Comments3,2,FALSE)=E,VLOOKUP(DG81,EventAverage,2,FALSE), HLOOKUP(DH81,Comments4,2,FALSE)))))))","v":""},{"$f":"COUNTIF(DH$58:DH81,OK)+COUNTIF(DH$58:DH81,RDGfix)+COUNTIF(DH$58:DH81,RDGave)+COUNTIF(DH$58:DH81,RDGevent)+DJ$32-1","v":0},null,{"$f":"IF(DK81=\"\",\"\",OK)","v":""},{"$f":"IF(DK81=\"\",\"\",IF(AND(DL$57=\"L\",DL81=\"DNC\"),$I$2,\nIF(DL81=OK,DN81,IF(HLOOKUP(DL81,Comments3,2,FALSE)=D,DN$57,IF(HLOOKUP(DL81,Comments3,2,FALSE)=A,VLOOKUP(DK81,Averages,DK$4,FALSE),IF(HLOOKUP(DL81,Comments3,2,FALSE)=E,VLOOKUP(DK81,EventAverage,2,FALSE), HLOOKUP(DL81,Comments4,2,FALSE)))))))","v":""},{"$f":"COUNTIF(DL$58:DL81,OK)+COUNTIF(DL$58:DL81,RDGfix)+COUNTIF(DL$58:DL81,RDGave)+COUNTIF(DL$58:DL81,RDGevent)+DN$32-1","v":0},null,{"$f":"IF(DO81=\"\",\"\",OK)","v":""},{"$f":"IF(DO81=\"\",\"\",IF(AND(DP$57=\"L\",DP81=\"DNC\"),$I$2,\nIF(DP81=OK,DR81,IF(HLOOKUP(DP81,Comments3,2,FALSE)=D,DR$57,IF(HLOOKUP(DP81,Comments3,2,FALSE)=A,VLOOKUP(DO81,Averages,DO$4,FALSE),IF(HLOOKUP(DP81,Comments3,2,FALSE)=E,VLOOKUP(DO81,EventAverage,2,FALSE), HLOOKUP(DP81,Comments4,2,FALSE)))))))","v":""},{"$f":"COUNTIF(DP$58:DP81,OK)+COUNTIF(DP$58:DP81,RDGfix)+COUNTIF(DP$58:DP81,RDGave)+COUNTIF(DP$58:DP81,RDGevent)+DR$32-1","v":0},null,{"$f":"IF(DS81=\"\",\"\",OK)","v":""},{"$f":"IF(DS81=\"\",\"\",IF(AND(DT$57=\"L\",DT81=\"DNC\"),$I$2,\nIF(DT81=OK,DV81,IF(HLOOKUP(DT81,Comments3,2,FALSE)=D,DV$57,IF(HLOOKUP(DT81,Comments3,2,FALSE)=A,VLOOKUP(DS81,Averages,DS$4,FALSE),IF(HLOOKUP(DT81,Comments3,2,FALSE)=E,VLOOKUP(DS81,EventAverage,2,FALSE), HLOOKUP(DT81,Comments4,2,FALSE)))))))","v":""},{"$f":"COUNTIF(DT$58:DT81,OK)+COUNTIF(DT$58:DT81,RDGfix)+COUNTIF(DT$58:DT81,RDGave)+COUNTIF(DT$58:DT81,RDGevent)+DV$32-1","v":0},null,{"$f":"IF(DW81=\"\",\"\",OK)","v":""},{"$f":"IF(DW81=\"\",\"\",IF(AND(DX$57=\"L\",DX81=\"DNC\"),$I$2,\nIF(DX81=OK,DZ81,IF(HLOOKUP(DX81,Comments3,2,FALSE)=D,DZ$57,IF(HLOOKUP(DX81,Comments3,2,FALSE)=A,VLOOKUP(DW81,Averages,DW$4,FALSE),IF(HLOOKUP(DX81,Comments3,2,FALSE)=E,VLOOKUP(DW81,EventAverage,2,FALSE), HLOOKUP(DX81,Comments4,2,FALSE)))))))","v":""},{"$f":"COUNTIF(DX$58:DX81,OK)+COUNTIF(DX$58:DX81,RDGfix)+COUNTIF(DX$58:DX81,RDGave)+COUNTIF(DX$58:DX81,RDGevent)+DZ$32-1","v":0},null,{"$f":"IF(EA81=\"\",\"\",OK)","v":""},{"$f":"IF(EA81=\"\",\"\",IF(AND(EB$57=\"L\",EB81=\"DNC\"),$I$2,\nIF(EB81=OK,ED81,IF(HLOOKUP(EB81,Comments3,2,FALSE)=D,ED$57,IF(HLOOKUP(EB81,Comments3,2,FALSE)=A,VLOOKUP(EA81,Averages,EA$4,FALSE),IF(HLOOKUP(EB81,Comments3,2,FALSE)=E,VLOOKUP(EA81,EventAverage,2,FALSE), HLOOKUP(EB81,Comments4,2,FALSE)))))))","v":""},{"$f":"COUNTIF(EB$58:EB81,OK)+COUNTIF(EB$58:EB81,RDGfix)+COUNTIF(EB$58:EB81,RDGave)+COUNTIF(EB$58:EB81,RDGevent)+ED$32-1","v":0},null,{"$f":"IF(EE81=\"\",\"\",OK)","v":""},{"$f":"IF(EE81=\"\",\"\",IF(AND(EF$57=\"L\",EF81=\"DNC\"),$I$2,\nIF(EF81=OK,EH81,IF(HLOOKUP(EF81,Comments3,2,FALSE)=D,EH$57,IF(HLOOKUP(EF81,Comments3,2,FALSE)=A,VLOOKUP(EE81,Averages,EE$4,FALSE),IF(HLOOKUP(EF81,Comments3,2,FALSE)=E,VLOOKUP(EE81,EventAverage,2,FALSE), HLOOKUP(EF81,Comments4,2,FALSE)))))))","v":""},{"$f":"COUNTIF(EF$58:EF81,OK)+COUNTIF(EF$58:EF81,RDGfix)+COUNTIF(EF$58:EF81,RDGave)+COUNTIF(EF$58:EF81,RDGevent)+EH$32-1","v":0},null,{"$f":"IF(EI81=\"\",\"\",OK)","v":""},{"$f":"IF(EI81=\"\",\"\",IF(AND(EJ$57=\"L\",EJ81=\"DNC\"),$I$2,\nIF(EJ81=OK,EL81,IF(HLOOKUP(EJ81,Comments3,2,FALSE)=D,EL$57,IF(HLOOKUP(EJ81,Comments3,2,FALSE)=A,VLOOKUP(EI81,Averages,EI$4,FALSE),IF(HLOOKUP(EJ81,Comments3,2,FALSE)=E,VLOOKUP(EI81,EventAverage,2,FALSE), HLOOKUP(EJ81,Comments4,2,FALSE)))))))","v":""},{"$f":"COUNTIF(EJ$58:EJ81,OK)+COUNTIF(EJ$58:EJ81,RDGfix)+COUNTIF(EJ$58:EJ81,RDGave)+COUNTIF(EJ$58:EJ81,RDGevent)+EL$32-1","v":0},null,{"$f":"IF(EM81=\"\",\"\",OK)","v":""},{"$f":"IF(EM81=\"\",\"\",IF(AND(EN$57=\"L\",EN81=\"DNC\"),$I$2,\nIF(EN81=OK,EP81,IF(HLOOKUP(EN81,Comments3,2,FALSE)=D,EP$57,IF(HLOOKUP(EN81,Comments3,2,FALSE)=A,VLOOKUP(EM81,Averages,EM$4,FALSE),IF(HLOOKUP(EN81,Comments3,2,FALSE)=E,VLOOKUP(EM81,EventAverage,2,FALSE), HLOOKUP(EN81,Comments4,2,FALSE)))))))","v":""},{"$f":"COUNTIF(EN$58:EN81,OK)+COUNTIF(EN$58:EN81,RDGfix)+COUNTIF(EN$58:EN81,RDGave)+COUNTIF(EN$58:EN81,RDGevent)+EP$32-1","v":0},null,{"$f":"IF(EQ81=\"\",\"\",OK)","v":""},{"$f":"IF(EQ81=\"\",\"\",IF(AND(ER$57=\"L\",ER81=\"DNC\"),$I$2,\nIF(ER81=OK,ET81,IF(HLOOKUP(ER81,Comments3,2,FALSE)=D,ET$57,IF(HLOOKUP(ER81,Comments3,2,FALSE)=A,VLOOKUP(EQ81,Averages,EQ$4,FALSE),IF(HLOOKUP(ER81,Comments3,2,FALSE)=E,VLOOKUP(EQ81,EventAverage,2,FALSE), HLOOKUP(ER81,Comments4,2,FALSE)))))))","v":""},{"$f":"COUNTIF(ER$58:ER81,OK)+COUNTIF(ER$58:ER81,RDGfix)+COUNTIF(ER$58:ER81,RDGave)+COUNTIF(ER$58:ER81,RDGevent)+ET$32-1","v":0},null,{"$f":"IF(EU81=\"\",\"\",OK)","v":""},{"$f":"IF(EU81=\"\",\"\",IF(AND(EV$57=\"L\",EV81=\"DNC\"),$I$2,\nIF(EV81=OK,EX81,IF(HLOOKUP(EV81,Comments3,2,FALSE)=D,EX$57,IF(HLOOKUP(EV81,Comments3,2,FALSE)=A,VLOOKUP(EU81,Averages,EU$4,FALSE),IF(HLOOKUP(EV81,Comments3,2,FALSE)=E,VLOOKUP(EU81,EventAverage,2,FALSE), HLOOKUP(EV81,Comments4,2,FALSE)))))))","v":""},{"$f":"COUNTIF(EV$58:EV81,OK)+COUNTIF(EV$58:EV81,RDGfix)+COUNTIF(EV$58:EV81,RDGave)+COUNTIF(EV$58:EV81,RDGevent)+EX$32-1","v":0},null,{"$f":"IF(EY81=\"\",\"\",OK)","v":""},{"$f":"IF(EY81=\"\",\"\",IF(AND(EZ$57=\"L\",EZ81=\"DNC\"),$I$2,\nIF(EZ81=OK,FB81,IF(HLOOKUP(EZ81,Comments3,2,FALSE)=D,FB$57,IF(HLOOKUP(EZ81,Comments3,2,FALSE)=A,VLOOKUP(EY81,Averages,EY$4,FALSE),IF(HLOOKUP(EZ81,Comments3,2,FALSE)=E,VLOOKUP(EY81,EventAverage,2,FALSE), HLOOKUP(EZ81,Comments4,2,FALSE)))))))","v":""},{"$f":"COUNTIF(EZ$58:EZ81,OK)+COUNTIF(EZ$58:EZ81,RDGfix)+COUNTIF(EZ$58:EZ81,RDGave)+COUNTIF(EZ$58:EZ81,RDGevent)+FB$32-1","v":0},null,{"$f":"IF(FC81=\"\",\"\",OK)","v":""},{"$f":"IF(FC81=\"\",\"\",IF(AND(FD$57=\"L\",FD81=\"DNC\"),$I$2,\nIF(FD81=OK,FF81,IF(HLOOKUP(FD81,Comments3,2,FALSE)=D,FF$57,IF(HLOOKUP(FD81,Comments3,2,FALSE)=A,VLOOKUP(FC81,Averages,FC$4,FALSE),IF(HLOOKUP(FD81,Comments3,2,FALSE)=E,VLOOKUP(FC81,EventAverage,2,FALSE), HLOOKUP(FD81,Comments4,2,FALSE)))))))","v":""},{"$f":"COUNTIF(FD$58:FD81,OK)+COUNTIF(FD$58:FD81,RDGfix)+COUNTIF(FD$58:FD81,RDGave)+COUNTIF(FD$58:FD81,RDGevent)+FF$32-1","v":0},null,{"$f":"IF(FG81=\"\",\"\",OK)","v":""},{"$f":"IF(FG81=\"\",\"\",IF(AND(FH$57=\"L\",FH81=\"DNC\"),$I$2,\nIF(FH81=OK,FJ81,IF(HLOOKUP(FH81,Comments3,2,FALSE)=D,FJ$57,IF(HLOOKUP(FH81,Comments3,2,FALSE)=A,VLOOKUP(FG81,Averages,FG$4,FALSE),IF(HLOOKUP(FH81,Comments3,2,FALSE)=E,VLOOKUP(FG81,EventAverage,2,FALSE), HLOOKUP(FH81,Comments4,2,FALSE)))))))","v":""},{"$f":"COUNTIF(FH$58:FH81,OK)+COUNTIF(FH$58:FH81,RDGfix)+COUNTIF(FH$58:FH81,RDGave)+COUNTIF(FH$58:FH81,RDGevent)+FJ$32-1","v":0}]
[null,"Heat D",{"$f":"COUNTA(C83:C106)","v":0},null,{"$f":"COUNTIF(D83:D106,\"WDN\")","v":0},{"$f":"C82-E82","v":0},{"$f":"COUNTA(G87:G106)","v":0},{"$f":"IF(AND(NOT(OR(H57=\"L\",H32=\"L\",H7=\"L\")),G108=\"\"),\"L\",\"\")","v":""},{"$f":"COUNTIF(H83:H105,\"WDN\")","v":0},{"$f":"COUNTA(G87:G106)-I82+J57","v":1},{"$f":"COUNTA(K87:K106)","v":0},{"$f":"IF(AND(NOT(OR(L57=\"L\",L32=\"L\",L7=\"L\")),K108=\"\"),\"L\",\"\")","v":""},{"$f":"COUNTIF(L83:L105,\"WDN\")","v":0},{"$f":"COUNTA(K87:K106)-M82+N57","v":1},{"$f":"COUNTA(O87:O106)","v":0},{"$f":"IF(AND(NOT(OR(P57=\"L\",P32=\"L\",P7=\"L\")),O108=\"\"),\"L\",\"\")","v":""},{"$f":"COUNTIF(P83:P105,\"WDN\")","v":0},{"$f":"COUNTA(O87:O106)-Q82+R57","v":1},{"$f":"COUNTA(S87:S106)","v":0},{"$f":"IF(AND(NOT(OR(T57=\"L\",T32=\"L\",T7=\"L\")),S108=\"\"),\"L\",\"\")","v":""},{"$f":"COUNTIF(T83:T105,\"WDN\")","v":0},{"$f":"COUNTA(S87:S106)-U82+V57","v":1},{"$f":"COUNTA(W87:W106)","v":0},{"$f":"IF(AND(NOT(OR(X57=\"L\",X32=\"L\",X7=\"L\")),W108=\"\"),\"L\",\"\")","v":""},{"$f":"COUNTIF(X83:X105,\"WDN\")","v":0},{"$f":"COUNTA(W87:W106)-Y82+Z57","v":1},{"$f":"COUNTA(AA87:AA106)","v":0},{"$f":"IF(AND(NOT(OR(AB57=\"L\",AB32=\"L\",AB7=\"L\")),AA108=\"\"),\"L\",\"\")","v":""},{"$f":"COUNTIF(AB83:AB105,\"WDN\")","v":0},{"$f":"COUNTA(AA87:AA106)-AC82+AD57","v":1},{"$f":"COUNTA(AE87:AE106)","v":0},{"$f":"IF(AND(NOT(OR(AF57=\"L\",AF32=\"L\",AF7=\"L\")),AE108=\"\"),\"L\",\"\")","v":""},{"$f":"COUNTIF(AF83:AF105,\"WDN\")","v":0},{"$f":"COUNTA(AE87:AE106)-AG82+AH57","v":1},{"$f":"COUNTA(AI87:AI106)","v":0},{"$f":"IF(AND(NOT(OR(AJ57=\"L\",AJ32=\"L\",AJ7=\"L\")),AI108=\"\"),\"L\",\"\")","v":""},{"$f":"COUNTIF(AJ83:AJ105,\"WDN\")","v":0},{"$f":"COUNTA(AI87:AI106)-AK82+AL57","v":1},{"$f":"COUNTA(AM87:AM106)","v":0},{"$f":"IF(AND(NOT(OR(AN57=\"L\",AN32=\"L\",AN7=\"L\")),AM108=\"\"),\"L\",\"\")","v":""},{"$f":"COUNTIF(AN83:AN105,\"WDN\")","v":0},{"$f":"COUNTA(AM87:AM106)-AO82+AP57","v":1},{"$f":"COUNTA(AQ87:AQ106)","v":0},{"$f":"IF(AND(NOT(OR(AR57=\"L\",AR32=\"L\",AR7=\"L\")),AQ108=\"\"),\"L\",\"\")","v":""},null,{"$f":"COUNTA(AQ87:AQ106)-AS82+AT57","v":1},{"$f":"COUNTA(AU87:AU106)","v":0},{"$f":"IF(AND(NOT(OR(AV57=\"L\",AV32=\"L\",AV7=\"L\")),AU108=\"\"),\"L\",\"\")","v":""},{"$f":"COUNTIF(AV83:AV105,\"WDN\")","v":0},{"$f":"COUNTA(AU87:AU106)-AW82+AX57","v":1},{"$f":"COUNTA(AY87:AY106)","v":0},{"$f":"IF(AND(NOT(OR(AZ57=\"L\",AZ32=\"L\",AZ7=\"L\")),AY108=\"\"),\"L\",\"\")","v":""},{"$f":"COUNTIF(AZ83:AZ105,\"WDN\")","v":0},{"$f":"COUNTA(AY87:AY106)-BA82+BB57","v":1},{"$f":"COUNTA(BC87:BC106)","v":0},{"$f":"IF(AND(NOT(OR(BD57=\"L\",BD32=\"L\",BD7=\"L\")),BC108=\"\"),\"L\",\"\")","v":""},{"$f":"COUNTIF(BD83:BD105,\"WDN\")","v":0},{"$f":"COUNTA(BC87:BC106)-BE82+BF57","v":1},{"$f":"COUNTA(BG87:BG106)","v":0},{"$f":"IF(AND(NOT(OR(BH57=\"L\",BH32=\"L\",BH7=\"L\")),BG108=\"\"),\"L\",\"\")","v":""},{"$f":"COUNTIF(BH83:BH105,\"WDN\")","v":0},{"$f":"COUNTA(BG87:BG106)-BI82+BJ57","v":1},{"$f":"COUNTA(BK87:BK106)","v":0},{"$f":"IF(AND(NOT(OR(BL57=\"L\",BL32=\"L\",BL7=\"L\")),BK108=\"\"),\"L\",\"\")","v":""},{"$f":"COUNTIF(BL83:BL105,\"WDN\")","v":0},{"$f":"COUNTA(BK87:BK106)-BM82+BN57","v":1},{"$f":"COUNTA(BO87:BO106)","v":0},{"$f":"IF(AND(NOT(OR(BP57=\"L\",BP32=\"L\",BP7=\"L\")),BO108=\"\"),\"L\",\"\")","v":""},{"$f":"COUNTIF(BP83:BP105,\"WDN\")","v":0},{"$f":"COUNTA(BO87:BO106)-BQ82+BR57","v":1},{"$f":"COUNTA(BS87:BS106)","v":0},{"$f":"IF(AND(NOT(OR(BT57=\"L\",BT32=\"L\",BT7=\"L\")),BS108=\"\"),\"L\",\"\")","v":""},{"$f":"COUNTIF(BT83:BT105,\"WDN\")","v":0},{"$f":"COUNTA(BS87:BS106)-BU82+BV57","v":1},{"$f":"COUNTA(BW87:BW106)","v":0},{"$f":"IF(AND(NOT(OR(BX57=\"L\",BX32=\"L\",BX7=\"L\")),BW108=\"\"),\"L\",\"\")","v":""},{"$f":"COUNTIF(BX83:BX105,\"WDN\")","v":0},{"$f":"COUNTA(BW87:BW106)-BY82+BZ57","v":1},{"$f":"COUNTA(CA87:CA106)","v":0},{"$f":"IF(AND(NOT(OR(CB57=\"L\",CB32=\"L\",CB7=\"L\")),CA108=\"\"),\"L\",\"\")","v":""},{"$f":"COUNTIF(CB83:CB105,\"WDN\")","v":0},{"$f":"COUNTA(CA87:CA106)-CC82+CD57","v":1},{"$f":"COUNTA(CE87:CE106)","v":0},{"$f":"IF(AND(NOT(OR(CF57=\"L\",CF32=\"L\",CF7=\"L\")),CE108=\"\"),\"L\",\"\")","v":""},{"$f":"COUNTIF(CF83:CF105,\"WDN\")","v":0},{"$f":"COUNTA(CE87:CE106)-CG82+CH57","v":1},{"$f":"COUNTA(CI87:CI106)","v":0},{"$f":"IF(AND(NOT(OR(CJ57=\"L\",CJ32=\"L\",CJ7=\"L\")),CI108=\"\"),\"L\",\"\")","v":""},{"$f":"COUNTIF(CJ83:CJ105,\"WDN\")","v":0},{"$f":"COUNTA(CI87:CI106)-CK82+CL57","v":1},{"$f":"COUNTA(CM87:CM106)","v":0},{"$f":"IF(AND(NOT(OR(CN57=\"L\",CN32=\"L\",CN7=\"L\")),CM108=\"\"),\"L\",\"\")","v":""},{"$f":"COUNTIF(CN83:CN105,\"WDN\")","v":0},{"$f":"COUNTA(CM87:CM106)-CO82+CP57","v":1},{"$f":"COUNTA(CQ87:CQ106)","v":0},{"$f":"IF(AND(NOT(OR(CR57=\"L\",CR32=\"L\",CR7=\"L\")),CQ108=\"\"),\"L\",\"\")","v":""},{"$f":"COUNTIF(CR83:CR105,\"WDN\")","v":0},{"$f":"COUNTA(CQ87:CQ106)-CS82+CT57","v":1},{"$f":"COUNTA(CU87:CU106)","v":0},{"$f":"IF(AND(NOT(OR(CV57=\"L\",CV32=\"L\",CV7=\"L\")),CU108=\"\"),\"L\",\"\")","v":""},{"$f":"COUNTIF(CV83:CV105,\"WDN\")","v":0},{"$f":"COUNTA(CU87:CU106)-CW82+CX57","v":1},{"$f":"COUNTA(CY87:CY106)","v":0},{"$f":"IF(AND(NOT(OR(CZ57=\"L\",CZ32=\"L\",CZ7=\"L\")),CY108=\"\"),\"L\",\"\")","v":""},{"$f":"COUNTIF(CZ83:CZ105,\"WDN\")","v":0},{"$f":"COUNTA(CY87:CY106)-DA82+DB57","v":1},{"$f":"COUNTA(DC87:DC106)","v":0},{"$f":"IF(AND(NOT(OR(DD57=\"L\",DD32=\"L\",DD7=\"L\")),DC108=\"\"),\"L\",\"\")","v":""},{"$f":"COUNTIF(DD83:DD105,\"WDN\")","v":0},{"$f":"COUNTA(DC87:DC106)-DE82+DF57","v":1},{"$f":"COUNTA(DG87:DG106)","v":0},{"$f":"IF(AND(NOT(OR(DH57=\"L\",DH32=\"L\",DH7=\"L\")),DG108=\"\"),\"L\",\"\")","v":""},{"$f":"COUNTIF(DH83:DH105,\"WDN\")","v":0},{"$f":"COUNTA(DG87:DG106)-DI82+DJ57","v":1},{"$f":"COUNTA(DK87:DK106)","v":0},{"$f":"IF(AND(NOT(OR(DL57=\"L\",DL32=\"L\",DL7=\"L\")),DK108=\"\"),\"L\",\"\")","v":""},{"$f":"COUNTIF(DL83:DL105,\"WDN\")","v":0},{"$f":"COUNTA(DK87:DK106)-DM82+DN57","v":1},{"$f":"COUNTA(DO87:DO106)","v":0},{"$f":"IF(AND(NOT(OR(DP57=\"L\",DP32=\"L\",DP7=\"L\")),DO108=\"\"),\"L\",\"\")","v":""},{"$f":"COUNTIF(DP83:DP105,\"WDN\")","v":0},{"$f":"COUNTA(DO87:DO106)-DQ82+DR57","v":1},{"$f":"COUNTA(DS87:DS106)","v":0},{"$f":"IF(AND(NOT(OR(DT57=\"L\",DT32=\"L\",DT7=\"L\")),DS108=\"\"),\"L\",\"\")","v":""},{"$f":"COUNTIF(DT83:DT105,\"WDN\")","v":0},{"$f":"COUNTA(DS87:DS106)-DU82+DV57","v":1},{"$f":"COUNTA(DW87:DW106)","v":0},{"$f":"IF(AND(NOT(OR(DX57=\"L\",DX32=\"L\",DX7=\"L\")),DW108=\"\"),\"L\",\"\")","v":""},{"$f":"COUNTIF(DX83:DX105,\"WDN\")","v":0},{"$f":"COUNTA(DW87:DW106)-DY82+DZ57","v":1},{"$f":"COUNTA(EA87:EA106)","v":0},{"$f":"IF(AND(NOT(OR(EB57=\"L\",EB32=\"L\",EB7=\"L\")),EA108=\"\"),\"L\",\"\")","v":""},{"$f":"COUNTIF(EB83:EB105,\"WDN\")","v":0},{"$f":"COUNTA(EA87:EA106)-EC82+ED57","v":1},{"$f":"COUNTA(EE87:EE106)","v":0},{"$f":"IF(AND(NOT(OR(EF57=\"L\",EF32=\"L\",EF7=\"L\")),EE108=\"\"),\"L\",\"\")","v":""},{"$f":"COUNTIF(EF83:EF105,\"WDN\")","v":0},{"$f":"COUNTA(EE87:EE106)-EG82+EH57","v":1},{"$f":"COUNTA(EI87:EI106)","v":0},{"$f":"IF(AND(NOT(OR(EJ57=\"L\",EJ32=\"L\",EJ7=\"L\")),EI108=\"\"),\"L\",\"\")","v":""},{"$f":"COUNTIF(EJ83:EJ105,\"WDN\")","v":0},{"$f":"COUNTA(EI87:EI106)-EK82+EL57","v":1},{"$f":"COUNTA(EM87:EM106)","v":0},{"$f":"IF(AND(NOT(OR(EN57=\"L\",EN32=\"L\",EN7=\"L\")),EM108=\"\"),\"L\",\"\")","v":""},{"$f":"COUNTIF(EN83:EN105,\"WDN\")","v":0},{"$f":"COUNTA(EM87:EM106)-EO82+EP57","v":1},{"$f":"COUNTA(EQ87:EQ106)","v":0},{"$f":"IF(AND(NOT(OR(ER57=\"L\",ER32=\"L\",ER7=\"L\")),EQ108=\"\"),\"L\",\"\")","v":""},{"$f":"COUNTIF(ER83:ER105,\"WDN\")","v":0},{"$f":"COUNTA(EQ87:EQ106)-ES82+ET57","v":1},{"$f":"COUNTA(EU87:EU106)","v":0},{"$f":"IF(AND(NOT(OR(EV57=\"L\",EV32=\"L\",EV7=\"L\")),EU108=\"\"),\"L\",\"\")","v":""},{"$f":"COUNTIF(EV83:EV105,\"WDN\")","v":0},{"$f":"COUNTA(EU87:EU106)-EW82+EX57","v":1},{"$f":"COUNTA(EY87:EY106)","v":0},{"$f":"IF(AND(NOT(OR(EZ57=\"L\",EZ32=\"L\",EZ7=\"L\")),EY108=\"\"),\"L\",\"\")","v":""},{"$f":"COUNTIF(EZ83:EZ105,\"WDN\")","v":0},{"$f":"COUNTA(EY87:EY106)-FA82+FB57","v":1},{"$f":"COUNTA(FC87:FC106)","v":0},{"$f":"IF(AND(NOT(OR(FD57=\"L\",FD32=\"L\",FD7=\"L\")),FC108=\"\"),\"L\",\"\")","v":""},null,{"$f":"COUNTA(FC87:FC106)-FE82+FF57","v":1},{"$f":"COUNTA(FG87:FG106)","v":0},{"$f":"IF(AND(NOT(OR(FH57=\"L\",FH32=\"L\",FH7=\"L\")),FG108=\"\"),\"L\",\"\")","v":""},{"$f":"COUNTIF(FH83:FH105,\"WDN\")","v":0},{"$f":"COUNTA(FG87:FG106)-FI82+FJ57","v":1}]
[null,"1st",null,{"$f":"IF(C83=\"\",\"\",OK)","v":""},{"$f":"IF(C83=0,\"\",IF(D83=OK,F83,IF(HLOOKUP(D83,Comments3,3,FALSE)=M,F$159,IF(HLOOKUP(D83,Comments3,3,FALSE)=S,VLOOKUP(C83,EventAverage,2,FALSE),HLOOKUP(D83,Comments3,3,FALSE)))))","v":""},{"$f":"COUNTIF(D$83:D83,OK)+COUNTIF(D$83:D83,RDGfix)+COUNTIF(D$83:D83,RDGave)+COUNTIF(D$83:D83,RDGevent)","v":0},null,{"$f":"IF(G83=\"\",\"\",UP)","v":""},{"$f":"IF(G83=0,\"\",#N/A)","v":""},{"$f":"COUNTIF(H$83:H83,OK)+COUNTIF(H$83:H83,RDGfix)+COUNTIF(H$83:H83,RDGave)+COUNTIF(H$83:H83,RDGevent)+J$57-1","v":0},null,{"$f":"IF(K83=\"\",\"\",UP)","v":""},{"$f":"IF(K83=0,\"\",#N/A)","v":""},{"$f":"COUNTIF(L$83:L83,OK)+COUNTIF(L$83:L83,RDGfix)+COUNTIF(L$83:L83,RDGave)+N$57-1","v":0},null,{"$f":"IF(O83=\"\",\"\",UP)","v":""},{"$f":"IF(O83=0,\"\",#N/A)","v":""},{"$f":"COUNTIF(P$83:P83,OK)+COUNTIF(P$83:P83,RDGfix)+COUNTIF(P$83:P83,RDGave)+R$57-1","v":0},null,{"$f":"IF(S83=\"\",\"\",UP)","v":""},{"$f":"IF(S83=0,\"\",#N/A)","v":""},{"$f":"COUNTIF(T$83:T83,OK)+COUNTIF(T$83:T83,RDGfix)+COUNTIF(T$83:T83,RDGave)+V$57-1","v":0},null,{"$f":"IF(W83=\"\",\"\",UP)","v":""},{"$f":"IF(W83=0,\"\",#N/A)","v":""},{"$f":"COUNTIF(X$83:X83,OK)+COUNTIF(X$83:X83,RDGfix)+COUNTIF(X$83:X83,RDGave)+Z$57-1","v":0},null,{"$f":"IF(AA83=\"\",\"\",UP)","v":""},{"$f":"IF(AA83=0,\"\",#N/A)","v":""},{"$f":"COUNTIF(AB$83:AB83,OK)+COUNTIF(AB$83:AB83,RDGfix)+COUNTIF(AB$83:AB83,RDGave)+AD$57-1","v":0},null,{"$f":"IF(AE83=\"\",\"\",UP)","v":""},{"$f":"IF(AE83=0,\"\",#N/A)","v":""},{"$f":"COUNTIF(AF$83:AF83,OK)+COUNTIF(AF$83:AF83,RDGfix)+COUNTIF(AF$83:AF83,RDGave)+AH$57-1","v":0},null,{"$f":"IF(AI83=\"\",\"\",UP)","v":""},{"$f":"IF(AI83=0,\"\",#N/A)","v":""},{"$f":"COUNTIF(AJ$83:AJ83,OK)+COUNTIF(AJ$83:AJ83,RDGfix)+COUNTIF(AJ$83:AJ83,RDGave)+AL$57-1","v":0},null,{"$f":"IF(AM83=\"\",\"\",UP)","v":""},{"$f":"IF(AM83=0,\"\",#N/A)","v":""},{"$f":"COUNTIF(AN$83:AN83,OK)+COUNTIF(AN$83:AN83,RDGfix)+COUNTIF(AN$83:AN83,RDGave)+AP$57-1","v":0},null,{"$f":"IF(AQ83=\"\",\"\",UP)","v":""},{"$f":"IF(AQ83=0,\"\",#N/A)","v":""},{"$f":"COUNTIF(AR$83:AR83,OK)+COUNTIF(AR$83:AR83,RDGfix)+COUNTIF(AR$83:AR83,RDGave)+AT$57-1","v":0},null,{"$f":"IF(AU83=\"\",\"\",UP)","v":""},{"$f":"IF(AU83=0,\"\",#N/A)","v":""},{"$f":"COUNTIF(AV$83:AV83,OK)+COUNTIF(AV$83:AV83,RDGfix)+COUNTIF(AV$83:AV83,RDGave)+AX$57-1","v":0},null,{"$f":"IF(AY83=\"\",\"\",UP)","v":""},{"$f":"IF(AY83=0,\"\",#N/A)","v":""},{"$f":"COUNTIF(AZ$83:AZ83,OK)+COUNTIF(AZ$83:AZ83,RDGfix)+COUNTIF(AZ$83:AZ83,RDGave)+BB$57-1","v":0},null,{"$f":"IF(BC83=\"\",\"\",UP)","v":""},{"$f":"IF(BC83=0,\"\",#N/A)","v":""},{"$f":"COUNTIF(BD$83:BD83,OK)+COUNTIF(BD$83:BD83,RDGfix)+COUNTIF(BD$83:BD83,RDGave)+BF$57-1","v":0},null,{"$f":"IF(BG83=\"\",\"\",UP)","v":""},{"$f":"IF(BG83=0,\"\",#N/A)","v":""},{"$f":"COUNTIF(BH$83:BH83,OK)+COUNTIF(BH$83:BH83,RDGfix)+COUNTIF(BH$83:BH83,RDGave)+BJ$57-1","v":0},null,{"$f":"IF(BK83=\"\",\"\",UP)","v":""},{"$f":"IF(BK83=0,\"\",#N/A)","v":""},{"$f":"COUNTIF(BL$83:BL83,OK)+COUNTIF(BL$83:BL83,RDGfix)+COUNTIF(BL$83:BL83,RDGave)+BN$57-1","v":0},null,{"$f":"IF(BO83=\"\",\"\",UP)","v":""},{"$f":"IF(BO83=0,\"\",#N/A)","v":""},{"$f":"COUNTIF(BP$83:BP83,OK)+COUNTIF(BP$83:BP83,RDGfix)+COUNTIF(BP$83:BP83,RDGave)+BR$57-1","v":0},null,{"$f":"IF(BS83=\"\",\"\",UP)","v":""},{"$f":"IF(BS83=0,\"\",#N/A)","v":""},{"$f":"COUNTIF(BT$83:BT83,OK)+COUNTIF(BT$83:BT83,RDGfix)+COUNTIF(BT$83:BT83,RDGave)+BV$57-1","v":0},null,{"$f":"IF(BW83=\"\",\"\",UP)","v":""},{"$f":"IF(BW83=0,\"\",#N/A)","v":""},{"$f":"COUNTIF(BX$83:BX83,OK)+COUNTIF(BX$83:BX83,RDGfix)+COUNTIF(BX$83:BX83,RDGave)+BZ$57-1","v":0},null,{"$f":"IF(CA83=\"\",\"\",UP)","v":""},{"$f":"IF(CA83=0,\"\",#N/A)","v":""},{"$f":"COUNTIF(CB$83:CB83,OK)+COUNTIF(CB$83:CB83,RDGfix)+COUNTIF(CB$83:CB83,RDGave)+CD$57-1","v":0},null,{"$f":"IF(CE83=\"\",\"\",UP)","v":""},{"$f":"IF(CE83=0,\"\",#N/A)","v":""},{"$f":"COUNTIF(CF$83:CF83,OK)+COUNTIF(CF$83:CF83,RDGfix)+COUNTIF(CF$83:CF83,RDGave)+CH$57-1","v":0},null,{"$f":"IF(CI83=\"\",\"\",UP)","v":""},{"$f":"IF(CI83=0,\"\",#N/A)","v":""},{"$f":"COUNTIF(CJ$83:CJ83,OK)+COUNTIF(CJ$83:CJ83,RDGfix)+COUNTIF(CJ$83:CJ83,RDGave)+CL$57-1","v":0},null,{"$f":"IF(CM83=\"\",\"\",UP)","v":""},{"$f":"IF(CM83=0,\"\",#N/A)","v":""},{"$f":"COUNTIF(CN$83:CN83,OK)+COUNTIF(CN$83:CN83,RDGfix)+COUNTIF(CN$83:CN83,RDGave)+CP$57-1","v":0},null,{"$f":"IF(CQ83=\"\",\"\",UP)","v":""},{"$f":"IF(CQ83=0,\"\",#N/A)","v":""},{"$f":"COUNTIF(CR$83:CR83,OK)+COUNTIF(CR$83:CR83,RDGfix)+COUNTIF(CR$83:CR83,RDGave)+CT$57-1","v":0},null,{"$f":"IF(CU83=\"\",\"\",UP)","v":""},{"$f":"IF(CU83=0,\"\",#N/A)","v":""},{"$f":"COUNTIF(CV$83:CV83,OK)+COUNTIF(CV$83:CV83,RDGfix)+COUNTIF(CV$83:CV83,RDGave)+CX$57-1","v":0},null,{"$f":"IF(CY83=\"\",\"\",UP)","v":""},{"$f":"IF(CY83=0,\"\",#N/A)","v":""},{"$f":"COUNTIF(CZ$83:CZ83,OK)+COUNTIF(CZ$83:CZ83,RDGfix)+COUNTIF(CZ$83:CZ83,RDGave)+DB$57-1","v":0},null,{"$f":"IF(DC83=\"\",\"\",UP)","v":""},{"$f":"IF(DC83=0,\"\",#N/A)","v":""},{"$f":"COUNTIF(DD$83:DD83,OK)+COUNTIF(DD$83:DD83,RDGfix)+COUNTIF(DD$83:DD83,RDGave)+DF$57-1","v":0},null,{"$f":"IF(DG83=\"\",\"\",UP)","v":""},{"$f":"IF(DG83=0,\"\",#N/A)","v":""},{"$f":"COUNTIF(DH$83:DH83,OK)+COUNTIF(DH$83:DH83,RDGfix)+COUNTIF(DH$83:DH83,RDGave)+DJ$57-1","v":0},null,{"$f":"IF(DK83=\"\",\"\",UP)","v":""},{"$f":"IF(DK83=0,\"\",#N/A)","v":""},{"$f":"COUNTIF(DL$83:DL83,OK)+COUNTIF(DL$83:DL83,RDGfix)+COUNTIF(DL$83:DL83,RDGave)+DN$57-1","v":0},null,{"$f":"IF(DO83=\"\",\"\",UP)","v":""},{"$f":"IF(DO83=0,\"\",#N/A)","v":""},{"$f":"COUNTIF(DP$83:DP83,OK)+COUNTIF(DP$83:DP83,RDGfix)+COUNTIF(DP$83:DP83,RDGave)+DR$57-1","v":0},null,{"$f":"IF(DS83=\"\",\"\",UP)","v":""},{"$f":"IF(DS83=0,\"\",#N/A)","v":""},{"$f":"COUNTIF(DT$83:DT83,OK)+COUNTIF(DT$83:DT83,RDGfix)+COUNTIF(DT$83:DT83,RDGave)+DV$57-1","v":0},null,{"$f":"IF(DW83=\"\",\"\",UP)","v":""},{"$f":"IF(DW83=0,\"\",#N/A)","v":""},{"$f":"COUNTIF(DX$83:DX83,OK)+COUNTIF(DX$83:DX83,RDGfix)+COUNTIF(DX$83:DX83,RDGave)+DZ$57-1","v":0},null,{"$f":"IF(EA83=\"\",\"\",UP)","v":""},{"$f":"IF(EA83=0,\"\",#N/A)","v":""},{"$f":"COUNTIF(EB$83:EB83,OK)+COUNTIF(EB$83:EB83,RDGfix)+COUNTIF(EB$83:EB83,RDGave)+ED$57-1","v":0},null,{"$f":"IF(EE83=\"\",\"\",UP)","v":""},{"$f":"IF(EE83=0,\"\",#N/A)","v":""},{"$f":"COUNTIF(EF$83:EF83,OK)+COUNTIF(EF$83:EF83,RDGfix)+COUNTIF(EF$83:EF83,RDGave)+EH$57-1","v":0},null,{"$f":"IF(EI83=\"\",\"\",UP)","v":""},{"$f":"IF(EI83=0,\"\",#N/A)","v":""},{"$f":"COUNTIF(EJ$83:EJ83,OK)+COUNTIF(EJ$83:EJ83,RDGfix)+COUNTIF(EJ$83:EJ83,RDGave)+EL$57-1","v":0},null,{"$f":"IF(EM83=\"\",\"\",UP)","v":""},{"$f":"IF(EM83=0,\"\",#N/A)","v":""},{"$f":"COUNTIF(EN$83:EN83,OK)+COUNTIF(EN$83:EN83,RDGfix)+COUNTIF(EN$83:EN83,RDGave)+EP$57-1","v":0},null,{"$f":"IF(EQ83=\"\",\"\",UP)","v":""},{"$f":"IF(EQ83=0,\"\",#N/A)","v":""},{"$f":"COUNTIF(ER$83:ER83,OK)+COUNTIF(ER$83:ER83,RDGfix)+COUNTIF(ER$83:ER83,RDGave)+ET$57-1","v":0},null,{"$f":"IF(EU83=\"\",\"\",UP)","v":""},{"$f":"IF(EU83=0,\"\",#N/A)","v":""},{"$f":"COUNTIF(EV$83:EV83,OK)+COUNTIF(EV$83:EV83,RDGfix)+COUNTIF(EV$83:EV83,RDGave)+EX$57-1","v":0},null,{"$f":"IF(EY83=\"\",\"\",UP)","v":""},{"$f":"IF(EY83=0,\"\",#N/A)","v":""},{"$f":"COUNTIF(EZ$83:EZ83,OK)+COUNTIF(EZ$83:EZ83,RDGfix)+COUNTIF(EZ$83:EZ83,RDGave)+FB$57-1","v":0},null,{"$f":"IF(FC83=\"\",\"\",UP)","v":""},{"$f":"IF(FC83=0,\"\",#N/A)","v":""},{"$f":"COUNTIF(FD$83:FD83,OK)+COUNTIF(FD$83:FD83,RDGfix)+COUNTIF(FD$83:FD83,RDGave)+FF$57-1","v":0},null,{"$f":"IF(FG83=\"\",\"\",UP)","v":""},{"$f":"IF(FG83=0,\"\",#N/A)","v":""},{"$f":"COUNTIF(FH$83:FH83,OK)+COUNTIF(FH$83:FH83,RDGfix)+COUNTIF(FH$83:FH83,RDGave)+FJ$57-1","v":0}]
[null,"2nd",null,"","",{"$f":"COUNTIF(D$83:D84,OK)+COUNTIF(D$83:D84,RDGfix)+COUNTIF(D$83:D84,RDGave)+COUNTIF(D$83:D84,RDGevent)","v":0},null,"",{"$f":"IF(G84=0,\"\",#N/A)","v":""},{"$f":"COUNTIF(H$83:H84,OK)+COUNTIF(H$83:H84,RDGfix)+COUNTIF(H$83:H84,RDGave)+COUNTIF(H$83:H84,RDGevent)+J$57-1","v":0},null,"",{"$f":"IF(K84=0,\"\",#N/A)","v":""},{"$f":"COUNTIF(L$83:L84,OK)+COUNTIF(L$83:L84,RDGfix)+COUNTIF(L$83:L84,RDGave)+N$57-1","v":0},null,"",{"$f":"IF(O84=0,\"\",#N/A)","v":""},{"$f":"COUNTIF(P$83:P84,OK)+COUNTIF(P$83:P84,RDGfix)+COUNTIF(P$83:P84,RDGave)+R$57-1","v":0},null,"",{"$f":"IF(S84=0,\"\",#N/A)","v":""},{"$f":"COUNTIF(T$83:T84,OK)+COUNTIF(T$83:T84,RDGfix)+COUNTIF(T$83:T84,RDGave)+V$57-1","v":0},null,"",{"$f":"IF(W84=0,\"\",#N/A)","v":""},{"$f":"COUNTIF(X$83:X84,OK)+COUNTIF(X$83:X84,RDGfix)+COUNTIF(X$83:X84,RDGave)+Z$57-1","v":0},null,"",{"$f":"IF(AA84=0,\"\",#N/A)","v":""},{"$f":"COUNTIF(AB$83:AB84,OK)+COUNTIF(AB$83:AB84,RDGfix)+COUNTIF(AB$83:AB84,RDGave)+AD$57-1","v":0},null,"",{"$f":"IF(AE84=0,\"\",#N/A)","v":""},{"$f":"COUNTIF(AF$83:AF84,OK)+COUNTIF(AF$83:AF84,RDGfix)+COUNTIF(AF$83:AF84,RDGave)+AH$57-1","v":0},null,"",{"$f":"IF(AI84=0,\"\",#N/A)","v":""},{"$f":"COUNTIF(AJ$83:AJ84,OK)+COUNTIF(AJ$83:AJ84,RDGfix)+COUNTIF(AJ$83:AJ84,RDGave)+AL$57-1","v":0},null,"",{"$f":"IF(AM84=0,\"\",#N/A)","v":""},{"$f":"COUNTIF(AN$83:AN84,OK)+COUNTIF(AN$83:AN84,RDGfix)+COUNTIF(AN$83:AN84,RDGave)+AP$57-1","v":0},null,"",{"$f":"IF(AQ84=0,\"\",#N/A)","v":""},{"$f":"COUNTIF(AR$83:AR84,OK)+COUNTIF(AR$83:AR84,RDGfix)+COUNTIF(AR$83:AR84,RDGave)+AT$57-1","v":0},null,"",{"$f":"IF(AU84=0,\"\",#N/A)","v":""},{"$f":"COUNTIF(AV$83:AV84,OK)+COUNTIF(AV$83:AV84,RDGfix)+COUNTIF(AV$83:AV84,RDGave)+AX$57-1","v":0},null,"",{"$f":"IF(AY84=0,\"\",#N/A)","v":""},{"$f":"COUNTIF(AZ$83:AZ84,OK)+COUNTIF(AZ$83:AZ84,RDGfix)+COUNTIF(AZ$83:AZ84,RDGave)+BB$57-1","v":0},null,"",{"$f":"IF(BC84=0,\"\",#N/A)","v":""},{"$f":"COUNTIF(BD$83:BD84,OK)+COUNTIF(BD$83:BD84,RDGfix)+COUNTIF(BD$83:BD84,RDGave)+BF$57-1","v":0},null,"",{"$f":"IF(BG84=0,\"\",#N/A)","v":""},{"$f":"COUNTIF(BH$83:BH84,OK)+COUNTIF(BH$83:BH84,RDGfix)+COUNTIF(BH$83:BH84,RDGave)+BJ$57-1","v":0},null,"",{"$f":"IF(BK84=0,\"\",#N/A)","v":""},{"$f":"COUNTIF(BL$83:BL84,OK)+COUNTIF(BL$83:BL84,RDGfix)+COUNTIF(BL$83:BL84,RDGave)+BN$57-1","v":0},null,"",{"$f":"IF(BO84=0,\"\",#N/A)","v":""},{"$f":"COUNTIF(BP$83:BP84,OK)+COUNTIF(BP$83:BP84,RDGfix)+COUNTIF(BP$83:BP84,RDGave)+BR$57-1","v":0},null,"",{"$f":"IF(BS84=0,\"\",#N/A)","v":""},{"$f":"COUNTIF(BT$83:BT84,OK)+COUNTIF(BT$83:BT84,RDGfix)+COUNTIF(BT$83:BT84,RDGave)+BV$57-1","v":0},null,"",{"$f":"IF(BW84=0,\"\",#N/A)","v":""},{"$f":"COUNTIF(BX$83:BX84,OK)+COUNTIF(BX$83:BX84,RDGfix)+COUNTIF(BX$83:BX84,RDGave)+BZ$57-1","v":0},null,"",{"$f":"IF(CA84=0,\"\",#N/A)","v":""},{"$f":"COUNTIF(CB$83:CB84,OK)+COUNTIF(CB$83:CB84,RDGfix)+COUNTIF(CB$83:CB84,RDGave)+CD$57-1","v":0},null,"",{"$f":"IF(CE84=0,\"\",#N/A)","v":""},{"$f":"COUNTIF(CF$83:CF84,OK)+COUNTIF(CF$83:CF84,RDGfix)+COUNTIF(CF$83:CF84,RDGave)+CH$57-1","v":0},null,"",{"$f":"IF(CI84=0,\"\",#N/A)","v":""},{"$f":"COUNTIF(CJ$83:CJ84,OK)+COUNTIF(CJ$83:CJ84,RDGfix)+COUNTIF(CJ$83:CJ84,RDGave)+CL$57-1","v":0},null,"",{"$f":"IF(CM84=0,\"\",#N/A)","v":""},{"$f":"COUNTIF(CN$83:CN84,OK)+COUNTIF(CN$83:CN84,RDGfix)+COUNTIF(CN$83:CN84,RDGave)+CP$57-1","v":0},null,"",{"$f":"IF(CQ84=0,\"\",#N/A)","v":""},{"$f":"COUNTIF(CR$83:CR84,OK)+COUNTIF(CR$83:CR84,RDGfix)+COUNTIF(CR$83:CR84,RDGave)+CT$57-1","v":0},null,"",{"$f":"IF(CU84=0,\"\",#N/A)","v":""},{"$f":"COUNTIF(CV$83:CV84,OK)+COUNTIF(CV$83:CV84,RDGfix)+COUNTIF(CV$83:CV84,RDGave)+CX$57-1","v":0},null,"",{"$f":"IF(CY84=0,\"\",#N/A)","v":""},{"$f":"COUNTIF(CZ$83:CZ84,OK)+COUNTIF(CZ$83:CZ84,RDGfix)+COUNTIF(CZ$83:CZ84,RDGave)+DB$57-1","v":0},null,"",{"$f":"IF(DC84=0,\"\",#N/A)","v":""},{"$f":"COUNTIF(DD$83:DD84,OK)+COUNTIF(DD$83:DD84,RDGfix)+COUNTIF(DD$83:DD84,RDGave)+DF$57-1","v":0},null,"",{"$f":"IF(DG84=0,\"\",#N/A)","v":""},{"$f":"COUNTIF(DH$83:DH84,OK)+COUNTIF(DH$83:DH84,RDGfix)+COUNTIF(DH$83:DH84,RDGave)+DJ$57-1","v":0},null,"",{"$f":"IF(DK84=0,\"\",#N/A)","v":""},{"$f":"COUNTIF(DL$83:DL84,OK)+COUNTIF(DL$83:DL84,RDGfix)+COUNTIF(DL$83:DL84,RDGave)+DN$57-1","v":0},null,"",{"$f":"IF(DO84=0,\"\",#N/A)","v":""},{"$f":"COUNTIF(DP$83:DP84,OK)+COUNTIF(DP$83:DP84,RDGfix)+COUNTIF(DP$83:DP84,RDGave)+DR$57-1","v":0},null,"",{"$f":"IF(DS84=0,\"\",#N/A)","v":""},{"$f":"COUNTIF(DT$83:DT84,OK)+COUNTIF(DT$83:DT84,RDGfix)+COUNTIF(DT$83:DT84,RDGave)+DV$57-1","v":0},null,"",{"$f":"IF(DW84=0,\"\",#N/A)","v":""},{"$f":"COUNTIF(DX$83:DX84,OK)+COUNTIF(DX$83:DX84,RDGfix)+COUNTIF(DX$83:DX84,RDGave)+DZ$57-1","v":0},null,"",{"$f":"IF(EA84=0,\"\",#N/A)","v":""},{"$f":"COUNTIF(EB$83:EB84,OK)+COUNTIF(EB$83:EB84,RDGfix)+COUNTIF(EB$83:EB84,RDGave)+ED$57-1","v":0},null,"",{"$f":"IF(EE84=0,\"\",#N/A)","v":""},{"$f":"COUNTIF(EF$83:EF84,OK)+COUNTIF(EF$83:EF84,RDGfix)+COUNTIF(EF$83:EF84,RDGave)+EH$57-1","v":0},null,"",{"$f":"IF(EI84=0,\"\",#N/A)","v":""},{"$f":"COUNTIF(EJ$83:EJ84,OK)+COUNTIF(EJ$83:EJ84,RDGfix)+COUNTIF(EJ$83:EJ84,RDGave)+EL$57-1","v":0},null,"",{"$f":"IF(EM84=0,\"\",#N/A)","v":""},{"$f":"COUNTIF(EN$83:EN84,OK)+COUNTIF(EN$83:EN84,RDGfix)+COUNTIF(EN$83:EN84,RDGave)+EP$57-1","v":0},null,"",{"$f":"IF(EQ84=0,\"\",#N/A)","v":""},{"$f":"COUNTIF(ER$83:ER84,OK)+COUNTIF(ER$83:ER84,RDGfix)+COUNTIF(ER$83:ER84,RDGave)+ET$57-1","v":0},null,"",{"$f":"IF(EU84=0,\"\",#N/A)","v":""},{"$f":"COUNTIF(EV$83:EV84,OK)+COUNTIF(EV$83:EV84,RDGfix)+COUNTIF(EV$83:EV84,RDGave)+EX$57-1","v":0},null,"",{"$f":"IF(EY84=0,\"\",#N/A)","v":""},{"$f":"COUNTIF(EZ$83:EZ84,OK)+COUNTIF(EZ$83:EZ84,RDGfix)+COUNTIF(EZ$83:EZ84,RDGave)+FB$57-1","v":0},null,"",{"$f":"IF(FC84=0,\"\",#N/A)","v":""},{"$f":"COUNTIF(FD$83:FD84,OK)+COUNTIF(FD$83:FD84,RDGfix)+COUNTIF(FD$83:FD84,RDGave)+FF$57-1","v":0},null,"",{"$f":"IF(FG84=0,\"\",#N/A)","v":""},{"$f":"COUNTIF(FH$83:FH84,OK)+COUNTIF(FH$83:FH84,RDGfix)+COUNTIF(FH$83:FH84,RDGave)+FJ$57-1","v":0}]
[null,"3rd",null,"","",{"$f":"COUNTIF(D$83:D85,OK)+COUNTIF(D$83:D85,RDGfix)+COUNTIF(D$83:D85,RDGave)+COUNTIF(D$83:D85,RDGevent)","v":0},null,"","",{"$f":"COUNTIF(H$83:H85,OK)+COUNTIF(H$83:H85,RDGfix)+COUNTIF(H$83:H85,RDGave)+COUNTIF(H$83:H85,RDGevent)+J$57-1","v":0},null,"","",{"$f":"COUNTIF(L$83:L85,OK)+COUNTIF(L$83:L85,RDGfix)+COUNTIF(L$83:L85,RDGave)+N$57-1","v":0},null,"","",{"$f":"COUNTIF(P$83:P85,OK)+COUNTIF(P$83:P85,RDGfix)+COUNTIF(P$83:P85,RDGave)+R$57-1","v":0},null,"","",{"$f":"COUNTIF(T$83:T85,OK)+COUNTIF(T$83:T85,RDGfix)+COUNTIF(T$83:T85,RDGave)+V$57-1","v":0},null,"","",{"$f":"COUNTIF(X$83:X85,OK)+COUNTIF(X$83:X85,RDGfix)+COUNTIF(X$83:X85,RDGave)+Z$57-1","v":0},null,"","",{"$f":"COUNTIF(AB$83:AB85,OK)+COUNTIF(AB$83:AB85,RDGfix)+COUNTIF(AB$83:AB85,RDGave)+AD$57-1","v":0},null,"","",{"$f":"COUNTIF(AF$83:AF85,OK)+COUNTIF(AF$83:AF85,RDGfix)+COUNTIF(AF$83:AF85,RDGave)+AH$57-1","v":0},null,"","",{"$f":"COUNTIF(AJ$83:AJ85,OK)+COUNTIF(AJ$83:AJ85,RDGfix)+COUNTIF(AJ$83:AJ85,RDGave)+AL$57-1","v":0},null,"","",{"$f":"COUNTIF(AN$83:AN85,OK)+COUNTIF(AN$83:AN85,RDGfix)+COUNTIF(AN$83:AN85,RDGave)+AP$57-1","v":0},null,"","",{"$f":"COUNTIF(AR$83:AR85,OK)+COUNTIF(AR$83:AR85,RDGfix)+COUNTIF(AR$83:AR85,RDGave)+AT$57-1","v":0},null,"","",{"$f":"COUNTIF(AV$83:AV85,OK)+COUNTIF(AV$83:AV85,RDGfix)+COUNTIF(AV$83:AV85,RDGave)+AX$57-1","v":0},null,"","",{"$f":"COUNTIF(AZ$83:AZ85,OK)+COUNTIF(AZ$83:AZ85,RDGfix)+COUNTIF(AZ$83:AZ85,RDGave)+BB$57-1","v":0},null,"","",{"$f":"COUNTIF(BD$83:BD85,OK)+COUNTIF(BD$83:BD85,RDGfix)+COUNTIF(BD$83:BD85,RDGave)+BF$57-1","v":0},null,"","",{"$f":"COUNTIF(BH$83:BH85,OK)+COUNTIF(BH$83:BH85,RDGfix)+COUNTIF(BH$83:BH85,RDGave)+BJ$57-1","v":0},null,"","",{"$f":"COUNTIF(BL$83:BL85,OK)+COUNTIF(BL$83:BL85,RDGfix)+COUNTIF(BL$83:BL85,RDGave)+BN$57-1","v":0},null,"","",{"$f":"COUNTIF(BP$83:BP85,OK)+COUNTIF(BP$83:BP85,RDGfix)+COUNTIF(BP$83:BP85,RDGave)+BR$57-1","v":0},null,"","",{"$f":"COUNTIF(BT$83:BT85,OK)+COUNTIF(BT$83:BT85,RDGfix)+COUNTIF(BT$83:BT85,RDGave)+BV$57-1","v":0},null,"","",{"$f":"COUNTIF(BX$83:BX85,OK)+COUNTIF(BX$83:BX85,RDGfix)+COUNTIF(BX$83:BX85,RDGave)+BZ$57-1","v":0},null,"","",{"$f":"COUNTIF(CB$83:CB85,OK)+COUNTIF(CB$83:CB85,RDGfix)+COUNTIF(CB$83:CB85,RDGave)+CD$57-1","v":0},null,"","",{"$f":"COUNTIF(CF$83:CF85,OK)+COUNTIF(CF$83:CF85,RDGfix)+COUNTIF(CF$83:CF85,RDGave)+CH$57-1","v":0},null,"","",{"$f":"COUNTIF(CJ$83:CJ85,OK)+COUNTIF(CJ$83:CJ85,RDGfix)+COUNTIF(CJ$83:CJ85,RDGave)+CL$57-1","v":0},null,"","",{"$f":"COUNTIF(CN$83:CN85,OK)+COUNTIF(CN$83:CN85,RDGfix)+COUNTIF(CN$83:CN85,RDGave)+CP$57-1","v":0},null,"","",{"$f":"COUNTIF(CR$83:CR85,OK)+COUNTIF(CR$83:CR85,RDGfix)+COUNTIF(CR$83:CR85,RDGave)+CT$57-1","v":0},null,"","",{"$f":"COUNTIF(CV$83:CV85,OK)+COUNTIF(CV$83:CV85,RDGfix)+COUNTIF(CV$83:CV85,RDGave)+CX$57-1","v":0},null,"","",{"$f":"COUNTIF(CZ$83:CZ85,OK)+COUNTIF(CZ$83:CZ85,RDGfix)+COUNTIF(CZ$83:CZ85,RDGave)+DB$57-1","v":0},null,"","",{"$f":"COUNTIF(DD$83:DD85,OK)+COUNTIF(DD$83:DD85,RDGfix)+COUNTIF(DD$83:DD85,RDGave)+DF$57-1","v":0},null,"","",{"$f":"COUNTIF(DH$83:DH85,OK)+COUNTIF(DH$83:DH85,RDGfix)+COUNTIF(DH$83:DH85,RDGave)+DJ$57-1","v":0},null,"","",{"$f":"COUNTIF(DL$83:DL85,OK)+COUNTIF(DL$83:DL85,RDGfix)+COUNTIF(DL$83:DL85,RDGave)+DN$57-1","v":0},null,"","",{"$f":"COUNTIF(DP$83:DP85,OK)+COUNTIF(DP$83:DP85,RDGfix)+COUNTIF(DP$83:DP85,RDGave)+DR$57-1","v":0},null,"","",{"$f":"COUNTIF(DT$83:DT85,OK)+COUNTIF(DT$83:DT85,RDGfix)+COUNTIF(DT$83:DT85,RDGave)+DV$57-1","v":0},null,"","",{"$f":"COUNTIF(DX$83:DX85,OK)+COUNTIF(DX$83:DX85,RDGfix)+COUNTIF(DX$83:DX85,RDGave)+DZ$57-1","v":0},null,"","",{"$f":"COUNTIF(EB$83:EB85,OK)+COUNTIF(EB$83:EB85,RDGfix)+COUNTIF(EB$83:EB85,RDGave)+ED$57-1","v":0},null,"","",{"$f":"COUNTIF(EF$83:EF85,OK)+COUNTIF(EF$83:EF85,RDGfix)+COUNTIF(EF$83:EF85,RDGave)+EH$57-1","v":0},null,"","",{"$f":"COUNTIF(EJ$83:EJ85,OK)+COUNTIF(EJ$83:EJ85,RDGfix)+COUNTIF(EJ$83:EJ85,RDGave)+EL$57-1","v":0},null,"","",{"$f":"COUNTIF(EN$83:EN85,OK)+COUNTIF(EN$83:EN85,RDGfix)+COUNTIF(EN$83:EN85,RDGave)+EP$57-1","v":0},null,"","",{"$f":"COUNTIF(ER$83:ER85,OK)+COUNTIF(ER$83:ER85,RDGfix)+COUNTIF(ER$83:ER85,RDGave)+ET$57-1","v":0},null,"","",{"$f":"COUNTIF(EV$83:EV85,OK)+COUNTIF(EV$83:EV85,RDGfix)+COUNTIF(EV$83:EV85,RDGave)+EX$57-1","v":0},null,"","",{"$f":"COUNTIF(EZ$83:EZ85,OK)+COUNTIF(EZ$83:EZ85,RDGfix)+COUNTIF(EZ$83:EZ85,RDGave)+FB$57-1","v":0},null,"","",{"$f":"COUNTIF(FD$83:FD85,OK)+COUNTIF(FD$83:FD85,RDGfix)+COUNTIF(FD$83:FD85,RDGave)+FF$57-1","v":0},null,"","",{"$f":"COUNTIF(FH$83:FH85,OK)+COUNTIF(FH$83:FH85,RDGfix)+COUNTIF(FH$83:FH85,RDGave)+FJ$57-1","v":0}]
[null,"4th",null,"","",{"$f":"COUNTIF(D$83:D86,OK)+COUNTIF(D$83:D86,RDGfix)+COUNTIF(D$83:D86,RDGave)+COUNTIF(D$83:D86,RDGevent)","v":0},null,"","",{"$f":"COUNTIF(H$83:H86,OK)+COUNTIF(H$83:H86,RDGfix)+COUNTIF(H$83:H86,RDGave)+COUNTIF(H$83:H86,RDGevent)+J$57-1","v":0},null,"","",{"$f":"COUNTIF(L$83:L86,OK)+COUNTIF(L$83:L86,RDGfix)+COUNTIF(L$83:L86,RDGave)+N$57-1","v":0},null,"","",{"$f":"COUNTIF(P$83:P86,OK)+COUNTIF(P$83:P86,RDGfix)+COUNTIF(P$83:P86,RDGave)+R$57-1","v":0},null,"","",{"$f":"COUNTIF(T$83:T86,OK)+COUNTIF(T$83:T86,RDGfix)+COUNTIF(T$83:T86,RDGave)+V$57-1","v":0},null,"","",{"$f":"COUNTIF(X$83:X86,OK)+COUNTIF(X$83:X86,RDGfix)+COUNTIF(X$83:X86,RDGave)+Z$57-1","v":0},null,"","",{"$f":"COUNTIF(AB$83:AB86,OK)+COUNTIF(AB$83:AB86,RDGfix)+COUNTIF(AB$83:AB86,RDGave)+AD$57-1","v":0},null,"","",{"$f":"COUNTIF(AF$83:AF86,OK)+COUNTIF(AF$83:AF86,RDGfix)+COUNTIF(AF$83:AF86,RDGave)+AH$57-1","v":0},null,"","",{"$f":"COUNTIF(AJ$83:AJ86,OK)+COUNTIF(AJ$83:AJ86,RDGfix)+COUNTIF(AJ$83:AJ86,RDGave)+AL$57-1","v":0},null,"","",{"$f":"COUNTIF(AN$83:AN86,OK)+COUNTIF(AN$83:AN86,RDGfix)+COUNTIF(AN$83:AN86,RDGave)+AP$57-1","v":0},null,"","",{"$f":"COUNTIF(AR$83:AR86,OK)+COUNTIF(AR$83:AR86,RDGfix)+COUNTIF(AR$83:AR86,RDGave)+AT$57-1","v":0},null,"","",{"$f":"COUNTIF(AV$83:AV86,OK)+COUNTIF(AV$83:AV86,RDGfix)+COUNTIF(AV$83:AV86,RDGave)+AX$57-1","v":0},null,"","",{"$f":"COUNTIF(AZ$83:AZ86,OK)+COUNTIF(AZ$83:AZ86,RDGfix)+COUNTIF(AZ$83:AZ86,RDGave)+BB$57-1","v":0},null,"","",{"$f":"COUNTIF(BD$83:BD86,OK)+COUNTIF(BD$83:BD86,RDGfix)+COUNTIF(BD$83:BD86,RDGave)+BF$57-1","v":0},null,"","",{"$f":"COUNTIF(BH$83:BH86,OK)+COUNTIF(BH$83:BH86,RDGfix)+COUNTIF(BH$83:BH86,RDGave)+BJ$57-1","v":0},null,"","",{"$f":"COUNTIF(BL$83:BL86,OK)+COUNTIF(BL$83:BL86,RDGfix)+COUNTIF(BL$83:BL86,RDGave)+BN$57-1","v":0},null,"","",{"$f":"COUNTIF(BP$83:BP86,OK)+COUNTIF(BP$83:BP86,RDGfix)+COUNTIF(BP$83:BP86,RDGave)+BR$57-1","v":0},null,"","",{"$f":"COUNTIF(BT$83:BT86,OK)+COUNTIF(BT$83:BT86,RDGfix)+COUNTIF(BT$83:BT86,RDGave)+BV$57-1","v":0},null,"","",{"$f":"COUNTIF(BX$83:BX86,OK)+COUNTIF(BX$83:BX86,RDGfix)+COUNTIF(BX$83:BX86,RDGave)+BZ$57-1","v":0},null,"","",{"$f":"COUNTIF(CB$83:CB86,OK)+COUNTIF(CB$83:CB86,RDGfix)+COUNTIF(CB$83:CB86,RDGave)+CD$57-1","v":0},null,"","",{"$f":"COUNTIF(CF$83:CF86,OK)+COUNTIF(CF$83:CF86,RDGfix)+COUNTIF(CF$83:CF86,RDGave)+CH$57-1","v":0},null,"","",{"$f":"COUNTIF(CJ$83:CJ86,OK)+COUNTIF(CJ$83:CJ86,RDGfix)+COUNTIF(CJ$83:CJ86,RDGave)+CL$57-1","v":0},null,"","",{"$f":"COUNTIF(CN$83:CN86,OK)+COUNTIF(CN$83:CN86,RDGfix)+COUNTIF(CN$83:CN86,RDGave)+CP$57-1","v":0},null,"","",{"$f":"COUNTIF(CR$83:CR86,OK)+COUNTIF(CR$83:CR86,RDGfix)+COUNTIF(CR$83:CR86,RDGave)+CT$57-1","v":0},null,"","",{"$f":"COUNTIF(CV$83:CV86,OK)+COUNTIF(CV$83:CV86,RDGfix)+COUNTIF(CV$83:CV86,RDGave)+CX$57-1","v":0},null,"","",{"$f":"COUNTIF(CZ$83:CZ86,OK)+COUNTIF(CZ$83:CZ86,RDGfix)+COUNTIF(CZ$83:CZ86,RDGave)+DB$57-1","v":0},null,"","",{"$f":"COUNTIF(DD$83:DD86,OK)+COUNTIF(DD$83:DD86,RDGfix)+COUNTIF(DD$83:DD86,RDGave)+DF$57-1","v":0},null,"","",{"$f":"COUNTIF(DH$83:DH86,OK)+COUNTIF(DH$83:DH86,RDGfix)+COUNTIF(DH$83:DH86,RDGave)+DJ$57-1","v":0},null,"","",{"$f":"COUNTIF(DL$83:DL86,OK)+COUNTIF(DL$83:DL86,RDGfix)+COUNTIF(DL$83:DL86,RDGave)+DN$57-1","v":0},null,"","",{"$f":"COUNTIF(DP$83:DP86,OK)+COUNTIF(DP$83:DP86,RDGfix)+COUNTIF(DP$83:DP86,RDGave)+DR$57-1","v":0},null,"","",{"$f":"COUNTIF(DT$83:DT86,OK)+COUNTIF(DT$83:DT86,RDGfix)+COUNTIF(DT$83:DT86,RDGave)+DV$57-1","v":0},null,"","",{"$f":"COUNTIF(DX$83:DX86,OK)+COUNTIF(DX$83:DX86,RDGfix)+COUNTIF(DX$83:DX86,RDGave)+DZ$57-1","v":0},null,"","",{"$f":"COUNTIF(EB$83:EB86,OK)+COUNTIF(EB$83:EB86,RDGfix)+COUNTIF(EB$83:EB86,RDGave)+ED$57-1","v":0},null,"","",{"$f":"COUNTIF(EF$83:EF86,OK)+COUNTIF(EF$83:EF86,RDGfix)+COUNTIF(EF$83:EF86,RDGave)+EH$57-1","v":0},null,"","",{"$f":"COUNTIF(EJ$83:EJ86,OK)+COUNTIF(EJ$83:EJ86,RDGfix)+COUNTIF(EJ$83:EJ86,RDGave)+EL$57-1","v":0},null,"","",{"$f":"COUNTIF(EN$83:EN86,OK)+COUNTIF(EN$83:EN86,RDGfix)+COUNTIF(EN$83:EN86,RDGave)+EP$57-1","v":0},null,"","",{"$f":"COUNTIF(ER$83:ER86,OK)+COUNTIF(ER$83:ER86,RDGfix)+COUNTIF(ER$83:ER86,RDGave)+ET$57-1","v":0},null,"","",{"$f":"COUNTIF(EV$83:EV86,OK)+COUNTIF(EV$83:EV86,RDGfix)+COUNTIF(EV$83:EV86,RDGave)+EX$57-1","v":0},null,"","",{"$f":"COUNTIF(EZ$83:EZ86,OK)+COUNTIF(EZ$83:EZ86,RDGfix)+COUNTIF(EZ$83:EZ86,RDGave)+FB$57-1","v":0},null,"","",{"$f":"COUNTIF(FD$83:FD86,OK)+COUNTIF(FD$83:FD86,RDGfix)+COUNTIF(FD$83:FD86,RDGave)+FF$57-1","v":0},null,"","",{"$f":"COUNTIF(FH$83:FH86,OK)+COUNTIF(FH$83:FH86,RDGfix)+COUNTIF(FH$83:FH86,RDGave)+FJ$57-1","v":0}]
[null,"5th",null,"","",{"$f":"COUNTIF(D$83:D87,OK)+COUNTIF(D$83:D87,RDGfix)+COUNTIF(D$83:D87,RDGave)+COUNTIF(D$83:D87,RDGevent)","v":0},null,{"$f":"IF(G87=\"\",\"\",OK)","v":""},{"$f":"IF(G87=\"\",\"\",IF(AND(H$82=\"L\",H87=\"DNC\"),$I$2,\nIF(H87=OK,J87,IF(HLOOKUP(H87,Comments3,2,FALSE)=D,J$82,IF(HLOOKUP(H87,Comments3,2,FALSE)=A,VLOOKUP(G87,Averages,G$4,FALSE),IF(HLOOKUP(H87,Comments3,2,FALSE)=E,VLOOKUP(G87,EventAverage,2,FALSE), HLOOKUP(H87,Comments4,2,FALSE)))))))","v":""},{"$f":"COUNTIF(H$83:H87,OK)+COUNTIF(H$83:H87,RDGfix)+COUNTIF(H$83:H87,RDGave)+COUNTIF(H$83:H87,RDGevent)+J$57-1","v":0},null,{"$f":"IF(K87=\"\",\"\",OK)","v":""},{"$f":"IF(K87=\"\",\"\",IF(AND(L$82=\"L\",L87=\"DNC\"),$I$2,\nIF(L87=OK,N87,IF(HLOOKUP(L87,Comments3,2,FALSE)=D,N$82,IF(HLOOKUP(L87,Comments3,2,FALSE)=A,VLOOKUP(K87,Averages,K$4,FALSE),IF(HLOOKUP(L87,Comments3,2,FALSE)=E,VLOOKUP(K87,EventAverage,2,FALSE), HLOOKUP(L87,Comments4,2,FALSE)))))))","v":""},{"$f":"COUNTIF(L$83:L87,OK)+COUNTIF(L$83:L87,RDGfix)+COUNTIF(L$83:L87,RDGave)+COUNTIF(L$83:L87,RDGevent)+N$57-1","v":0},null,{"$f":"IF(O87=\"\",\"\",OK)","v":""},{"$f":"IF(O87=\"\",\"\",IF(AND(P$82=\"L\",P87=\"DNC\"),$I$2,\nIF(P87=OK,R87,IF(HLOOKUP(P87,Comments3,2,FALSE)=D,R$82,IF(HLOOKUP(P87,Comments3,2,FALSE)=A,VLOOKUP(O87,Averages,O$4,FALSE),IF(HLOOKUP(P87,Comments3,2,FALSE)=E,VLOOKUP(O87,EventAverage,2,FALSE), HLOOKUP(P87,Comments4,2,FALSE)))))))","v":""},{"$f":"COUNTIF(P$83:P87,OK)+COUNTIF(P$83:P87,RDGfix)+COUNTIF(P$83:P87,RDGave)+COUNTIF(P$83:P87,RDGevent)+R$57-1","v":0},null,{"$f":"IF(S87=\"\",\"\",OK)","v":""},{"$f":"IF(S87=\"\",\"\",IF(AND(T$82=\"L\",T87=\"DNC\"),$I$2,\nIF(T87=OK,V87,IF(HLOOKUP(T87,Comments3,2,FALSE)=D,V$82,IF(HLOOKUP(T87,Comments3,2,FALSE)=A,VLOOKUP(S87,Averages,S$4,FALSE),IF(HLOOKUP(T87,Comments3,2,FALSE)=E,VLOOKUP(S87,EventAverage,2,FALSE), HLOOKUP(T87,Comments4,2,FALSE)))))))","v":""},{"$f":"COUNTIF(T$83:T87,OK)+COUNTIF(T$83:T87,RDGfix)+COUNTIF(T$83:T87,RDGave)+COUNTIF(T$83:T87,RDGevent)+V$57-1","v":0},null,{"$f":"IF(W87=\"\",\"\",OK)","v":""},{"$f":"IF(W87=\"\",\"\",IF(AND(X$82=\"L\",X87=\"DNC\"),$I$2,\nIF(X87=OK,Z87,IF(HLOOKUP(X87,Comments3,2,FALSE)=D,Z$82,IF(HLOOKUP(X87,Comments3,2,FALSE)=A,VLOOKUP(W87,Averages,W$4,FALSE),IF(HLOOKUP(X87,Comments3,2,FALSE)=E,VLOOKUP(W87,EventAverage,2,FALSE), HLOOKUP(X87,Comments4,2,FALSE)))))))","v":""},{"$f":"COUNTIF(X$83:X87,OK)+COUNTIF(X$83:X87,RDGfix)+COUNTIF(X$83:X87,RDGave)+COUNTIF(X$83:X87,RDGevent)+Z$57-1","v":0},null,{"$f":"IF(AA87=\"\",\"\",OK)","v":""},{"$f":"IF(AA87=\"\",\"\",IF(AND(AB$82=\"L\",AB87=\"DNC\"),$I$2,\nIF(AB87=OK,AD87,IF(HLOOKUP(AB87,Comments3,2,FALSE)=D,AD$82,IF(HLOOKUP(AB87,Comments3,2,FALSE)=A,VLOOKUP(AA87,Averages,AA$4,FALSE),IF(HLOOKUP(AB87,Comments3,2,FALSE)=E,VLOOKUP(AA87,EventAverage,2,FALSE), HLOOKUP(AB87,Comments4,2,FALSE)))))))","v":""},{"$f":"COUNTIF(AB$83:AB87,OK)+COUNTIF(AB$83:AB87,RDGfix)+COUNTIF(AB$83:AB87,RDGave)+COUNTIF(AB$83:AB87,RDGevent)+AD$57-1","v":0},null,{"$f":"IF(AE87=\"\",\"\",OK)","v":""},{"$f":"IF(AE87=\"\",\"\",IF(AND(AF$82=\"L\",AF87=\"DNC\"),$I$2,\nIF(AF87=OK,AH87,IF(HLOOKUP(AF87,Comments3,2,FALSE)=D,AH$82,IF(HLOOKUP(AF87,Comments3,2,FALSE)=A,VLOOKUP(AE87,Averages,AE$4,FALSE),IF(HLOOKUP(AF87,Comments3,2,FALSE)=E,VLOOKUP(AE87,EventAverage,2,FALSE), HLOOKUP(AF87,Comments4,2,FALSE)))))))","v":""},{"$f":"COUNTIF(AF$83:AF87,OK)+COUNTIF(AF$83:AF87,RDGfix)+COUNTIF(AF$83:AF87,RDGave)+COUNTIF(AF$83:AF87,RDGevent)+AH$57-1","v":0},null,{"$f":"IF(AI87=\"\",\"\",OK)","v":""},{"$f":"IF(AI87=\"\",\"\",IF(AND(AJ$82=\"L\",AJ87=\"DNC\"),$I$2,\nIF(AJ87=OK,AL87,IF(HLOOKUP(AJ87,Comments3,2,FALSE)=D,AL$82,IF(HLOOKUP(AJ87,Comments3,2,FALSE)=A,VLOOKUP(AI87,Averages,AI$4,FALSE),IF(HLOOKUP(AJ87,Comments3,2,FALSE)=E,VLOOKUP(AI87,EventAverage,2,FALSE), HLOOKUP(AJ87,Comments4,2,FALSE)))))))","v":""},{"$f":"COUNTIF(AJ$83:AJ87,OK)+COUNTIF(AJ$83:AJ87,RDGfix)+COUNTIF(AJ$83:AJ87,RDGave)+COUNTIF(AJ$83:AJ87,RDGevent)+AL$57-1","v":0},null,{"$f":"IF(AM87=\"\",\"\",OK)","v":""},{"$f":"IF(AM87=\"\",\"\",IF(AND(AN$82=\"L\",AN87=\"DNC\"),$I$2,\nIF(AN87=OK,AP87,IF(HLOOKUP(AN87,Comments3,2,FALSE)=D,AP$82,IF(HLOOKUP(AN87,Comments3,2,FALSE)=A,VLOOKUP(AM87,Averages,AM$4,FALSE),IF(HLOOKUP(AN87,Comments3,2,FALSE)=E,VLOOKUP(AM87,EventAverage,2,FALSE), HLOOKUP(AN87,Comments4,2,FALSE)))))))","v":""},{"$f":"COUNTIF(AN$83:AN87,OK)+COUNTIF(AN$83:AN87,RDGfix)+COUNTIF(AN$83:AN87,RDGave)+COUNTIF(AN$83:AN87,RDGevent)+AP$57-1","v":0},null,{"$f":"IF(AQ87=\"\",\"\",OK)","v":""},{"$f":"IF(AQ87=\"\",\"\",IF(AND(AR$82=\"L\",AR87=\"DNC\"),$I$2,\nIF(AR87=OK,AT87,IF(HLOOKUP(AR87,Comments3,2,FALSE)=D,AT$82,IF(HLOOKUP(AR87,Comments3,2,FALSE)=A,VLOOKUP(AQ87,Averages,AQ$4,FALSE),IF(HLOOKUP(AR87,Comments3,2,FALSE)=E,VLOOKUP(AQ87,EventAverage,2,FALSE), HLOOKUP(AR87,Comments4,2,FALSE)))))))","v":""},{"$f":"COUNTIF(AR$83:AR87,OK)+COUNTIF(AR$83:AR87,RDGfix)+COUNTIF(AR$83:AR87,RDGave)+COUNTIF(AR$83:AR87,RDGevent)+AT$57-1","v":0},null,{"$f":"IF(AU87=\"\",\"\",OK)","v":""},{"$f":"IF(AU87=\"\",\"\",IF(AND(AV$82=\"L\",AV87=\"DNC\"),$I$2,\nIF(AV87=OK,AX87,IF(HLOOKUP(AV87,Comments3,2,FALSE)=D,AX$82,IF(HLOOKUP(AV87,Comments3,2,FALSE)=A,VLOOKUP(AU87,Averages,AU$4,FALSE),IF(HLOOKUP(AV87,Comments3,2,FALSE)=E,VLOOKUP(AU87,EventAverage,2,FALSE), HLOOKUP(AV87,Comments4,2,FALSE)))))))","v":""},{"$f":"COUNTIF(AV$83:AV87,OK)+COUNTIF(AV$83:AV87,RDGfix)+COUNTIF(AV$83:AV87,RDGave)+COUNTIF(AV$83:AV87,RDGevent)+AX$57-1","v":0},null,{"$f":"IF(AY87=\"\",\"\",OK)","v":""},{"$f":"IF(AY87=\"\",\"\",IF(AND(AZ$82=\"L\",AZ87=\"DNC\"),$I$2,\nIF(AZ87=OK,BB87,IF(HLOOKUP(AZ87,Comments3,2,FALSE)=D,BB$82,IF(HLOOKUP(AZ87,Comments3,2,FALSE)=A,VLOOKUP(AY87,Averages,AY$4,FALSE),IF(HLOOKUP(AZ87,Comments3,2,FALSE)=E,VLOOKUP(AY87,EventAverage,2,FALSE), HLOOKUP(AZ87,Comments4,2,FALSE)))))))","v":""},{"$f":"COUNTIF(AZ$83:AZ87,OK)+COUNTIF(AZ$83:AZ87,RDGfix)+COUNTIF(AZ$83:AZ87,RDGave)+COUNTIF(AZ$83:AZ87,RDGevent)+BB$57-1","v":0},null,{"$f":"IF(BC87=\"\",\"\",OK)","v":""},{"$f":"IF(BC87=\"\",\"\",IF(AND(BD$82=\"L\",BD87=\"DNC\"),$I$2,\nIF(BD87=OK,BF87,IF(HLOOKUP(BD87,Comments3,2,FALSE)=D,BF$82,IF(HLOOKUP(BD87,Comments3,2,FALSE)=A,VLOOKUP(BC87,Averages,BC$4,FALSE),IF(HLOOKUP(BD87,Comments3,2,FALSE)=E,VLOOKUP(BC87,EventAverage,2,FALSE), HLOOKUP(BD87,Comments4,2,FALSE)))))))","v":""},{"$f":"COUNTIF(BD$83:BD87,OK)+COUNTIF(BD$83:BD87,RDGfix)+COUNTIF(BD$83:BD87,RDGave)+COUNTIF(BD$83:BD87,RDGevent)+BF$57-1","v":0},null,{"$f":"IF(BG87=\"\",\"\",OK)","v":""},{"$f":"IF(BG87=\"\",\"\",IF(AND(BH$82=\"L\",BH87=\"DNC\"),$I$2,\nIF(BH87=OK,BJ87,IF(HLOOKUP(BH87,Comments3,2,FALSE)=D,BJ$82,IF(HLOOKUP(BH87,Comments3,2,FALSE)=A,VLOOKUP(BG87,Averages,BG$4,FALSE),IF(HLOOKUP(BH87,Comments3,2,FALSE)=E,VLOOKUP(BG87,EventAverage,2,FALSE), HLOOKUP(BH87,Comments4,2,FALSE)))))))","v":""},{"$f":"COUNTIF(BH$83:BH87,OK)+COUNTIF(BH$83:BH87,RDGfix)+COUNTIF(BH$83:BH87,RDGave)+COUNTIF(BH$83:BH87,RDGevent)+BJ$57-1","v":0},null,{"$f":"IF(BK87=\"\",\"\",OK)","v":""},{"$f":"IF(BK87=\"\",\"\",IF(AND(BL$82=\"L\",BL87=\"DNC\"),$I$2,\nIF(BL87=OK,BN87,IF(HLOOKUP(BL87,Comments3,2,FALSE)=D,BN$82,IF(HLOOKUP(BL87,Comments3,2,FALSE)=A,VLOOKUP(BK87,Averages,BK$4,FALSE),IF(HLOOKUP(BL87,Comments3,2,FALSE)=E,VLOOKUP(BK87,EventAverage,2,FALSE), HLOOKUP(BL87,Comments4,2,FALSE)))))))","v":""},{"$f":"COUNTIF(BL$83:BL87,OK)+COUNTIF(BL$83:BL87,RDGfix)+COUNTIF(BL$83:BL87,RDGave)+COUNTIF(BL$83:BL87,RDGevent)+BN$57-1","v":0},null,{"$f":"IF(BO87=\"\",\"\",OK)","v":""},{"$f":"IF(BO87=\"\",\"\",IF(AND(BP$82=\"L\",BP87=\"DNC\"),$I$2,\nIF(BP87=OK,BR87,IF(HLOOKUP(BP87,Comments3,2,FALSE)=D,BR$82,IF(HLOOKUP(BP87,Comments3,2,FALSE)=A,VLOOKUP(BO87,Averages,BO$4,FALSE),IF(HLOOKUP(BP87,Comments3,2,FALSE)=E,VLOOKUP(BO87,EventAverage,2,FALSE), HLOOKUP(BP87,Comments4,2,FALSE)))))))","v":""},{"$f":"COUNTIF(BP$83:BP87,OK)+COUNTIF(BP$83:BP87,RDGfix)+COUNTIF(BP$83:BP87,RDGave)+COUNTIF(BP$83:BP87,RDGevent)+BR$57-1","v":0},null,{"$f":"IF(BS87=\"\",\"\",OK)","v":""},{"$f":"IF(BS87=\"\",\"\",IF(AND(BT$82=\"L\",BT87=\"DNC\"),$I$2,\nIF(BT87=OK,BV87,IF(HLOOKUP(BT87,Comments3,2,FALSE)=D,BV$82,IF(HLOOKUP(BT87,Comments3,2,FALSE)=A,VLOOKUP(BS87,Averages,BS$4,FALSE),IF(HLOOKUP(BT87,Comments3,2,FALSE)=E,VLOOKUP(BS87,EventAverage,2,FALSE), HLOOKUP(BT87,Comments4,2,FALSE)))))))","v":""},{"$f":"COUNTIF(BT$83:BT87,OK)+COUNTIF(BT$83:BT87,RDGfix)+COUNTIF(BT$83:BT87,RDGave)+COUNTIF(BT$83:BT87,RDGevent)+BV$57-1","v":0},null,{"$f":"IF(BW87=\"\",\"\",OK)","v":""},{"$f":"IF(BW87=\"\",\"\",IF(AND(BX$82=\"L\",BX87=\"DNC\"),$I$2,\nIF(BX87=OK,BZ87,IF(HLOOKUP(BX87,Comments3,2,FALSE)=D,BZ$82,IF(HLOOKUP(BX87,Comments3,2,FALSE)=A,VLOOKUP(BW87,Averages,BW$4,FALSE),IF(HLOOKUP(BX87,Comments3,2,FALSE)=E,VLOOKUP(BW87,EventAverage,2,FALSE), HLOOKUP(BX87,Comments4,2,FALSE)))))))","v":""},{"$f":"COUNTIF(BX$83:BX87,OK)+COUNTIF(BX$83:BX87,RDGfix)+COUNTIF(BX$83:BX87,RDGave)+COUNTIF(BX$83:BX87,RDGevent)+BZ$57-1","v":0},null,{"$f":"IF(CA87=\"\",\"\",OK)","v":""},{"$f":"IF(CA87=\"\",\"\",IF(AND(CB$82=\"L\",CB87=\"DNC\"),$I$2,\nIF(CB87=OK,CD87,IF(HLOOKUP(CB87,Comments3,2,FALSE)=D,CD$82,IF(HLOOKUP(CB87,Comments3,2,FALSE)=A,VLOOKUP(CA87,Averages,CA$4,FALSE),IF(HLOOKUP(CB87,Comments3,2,FALSE)=E,VLOOKUP(CA87,EventAverage,2,FALSE), HLOOKUP(CB87,Comments4,2,FALSE)))))))","v":""},{"$f":"COUNTIF(CB$83:CB87,OK)+COUNTIF(CB$83:CB87,RDGfix)+COUNTIF(CB$83:CB87,RDGave)+COUNTIF(CB$83:CB87,RDGevent)+CD$57-1","v":0},null,{"$f":"IF(CE87=\"\",\"\",OK)","v":""},{"$f":"IF(CE87=\"\",\"\",IF(AND(CF$82=\"L\",CF87=\"DNC\"),$I$2,\nIF(CF87=OK,CH87,IF(HLOOKUP(CF87,Comments3,2,FALSE)=D,CH$82,IF(HLOOKUP(CF87,Comments3,2,FALSE)=A,VLOOKUP(CE87,Averages,CE$4,FALSE),IF(HLOOKUP(CF87,Comments3,2,FALSE)=E,VLOOKUP(CE87,EventAverage,2,FALSE), HLOOKUP(CF87,Comments4,2,FALSE)))))))","v":""},{"$f":"COUNTIF(CF$83:CF87,OK)+COUNTIF(CF$83:CF87,RDGfix)+COUNTIF(CF$83:CF87,RDGave)+COUNTIF(CF$83:CF87,RDGevent)+CH$57-1","v":0},null,{"$f":"IF(CI87=\"\",\"\",OK)","v":""},{"$f":"IF(CI87=\"\",\"\",IF(AND(CJ$82=\"L\",CJ87=\"DNC\"),$I$2,\nIF(CJ87=OK,CL87,IF(HLOOKUP(CJ87,Comments3,2,FALSE)=D,CL$82,IF(HLOOKUP(CJ87,Comments3,2,FALSE)=A,VLOOKUP(CI87,Averages,CI$4,FALSE),IF(HLOOKUP(CJ87,Comments3,2,FALSE)=E,VLOOKUP(CI87,EventAverage,2,FALSE), HLOOKUP(CJ87,Comments4,2,FALSE)))))))","v":""},{"$f":"COUNTIF(CJ$83:CJ87,OK)+COUNTIF(CJ$83:CJ87,RDGfix)+COUNTIF(CJ$83:CJ87,RDGave)+COUNTIF(CJ$83:CJ87,RDGevent)+CL$57-1","v":0},null,{"$f":"IF(CM87=\"\",\"\",OK)","v":""},{"$f":"IF(CM87=\"\",\"\",IF(AND(CN$82=\"L\",CN87=\"DNC\"),$I$2,\nIF(CN87=OK,CP87,IF(HLOOKUP(CN87,Comments3,2,FALSE)=D,CP$82,IF(HLOOKUP(CN87,Comments3,2,FALSE)=A,VLOOKUP(CM87,Averages,CM$4,FALSE),IF(HLOOKUP(CN87,Comments3,2,FALSE)=E,VLOOKUP(CM87,EventAverage,2,FALSE), HLOOKUP(CN87,Comments4,2,FALSE)))))))","v":""},{"$f":"COUNTIF(CN$83:CN87,OK)+COUNTIF(CN$83:CN87,RDGfix)+COUNTIF(CN$83:CN87,RDGave)+COUNTIF(CN$83:CN87,RDGevent)+CP$57-1","v":0},null,{"$f":"IF(CQ87=\"\",\"\",OK)","v":""},{"$f":"IF(CQ87=\"\",\"\",IF(AND(CR$82=\"L\",CR87=\"DNC\"),$I$2,\nIF(CR87=OK,CT87,IF(HLOOKUP(CR87,Comments3,2,FALSE)=D,CT$82,IF(HLOOKUP(CR87,Comments3,2,FALSE)=A,VLOOKUP(CQ87,Averages,CQ$4,FALSE),IF(HLOOKUP(CR87,Comments3,2,FALSE)=E,VLOOKUP(CQ87,EventAverage,2,FALSE), HLOOKUP(CR87,Comments4,2,FALSE)))))))","v":""},{"$f":"COUNTIF(CR$83:CR87,OK)+COUNTIF(CR$83:CR87,RDGfix)+COUNTIF(CR$83:CR87,RDGave)+COUNTIF(CR$83:CR87,RDGevent)+CT$57-1","v":0},null,{"$f":"IF(CU87=\"\",\"\",OK)","v":""},{"$f":"IF(CU87=\"\",\"\",IF(AND(CV$82=\"L\",CV87=\"DNC\"),$I$2,\nIF(CV87=OK,CX87,IF(HLOOKUP(CV87,Comments3,2,FALSE)=D,CX$82,IF(HLOOKUP(CV87,Comments3,2,FALSE)=A,VLOOKUP(CU87,Averages,CU$4,FALSE),IF(HLOOKUP(CV87,Comments3,2,FALSE)=E,VLOOKUP(CU87,EventAverage,2,FALSE), HLOOKUP(CV87,Comments4,2,FALSE)))))))","v":""},{"$f":"COUNTIF(CV$83:CV87,OK)+COUNTIF(CV$83:CV87,RDGfix)+COUNTIF(CV$83:CV87,RDGave)+COUNTIF(CV$83:CV87,RDGevent)+CX$57-1","v":0},null,{"$f":"IF(CY87=\"\",\"\",OK)","v":""},{"$f":"IF(CY87=\"\",\"\",IF(AND(CZ$82=\"L\",CZ87=\"DNC\"),$I$2,\nIF(CZ87=OK,DB87,IF(HLOOKUP(CZ87,Comments3,2,FALSE)=D,DB$82,IF(HLOOKUP(CZ87,Comments3,2,FALSE)=A,VLOOKUP(CY87,Averages,CY$4,FALSE),IF(HLOOKUP(CZ87,Comments3,2,FALSE)=E,VLOOKUP(CY87,EventAverage,2,FALSE), HLOOKUP(CZ87,Comments4,2,FALSE)))))))","v":""},{"$f":"COUNTIF(CZ$83:CZ87,OK)+COUNTIF(CZ$83:CZ87,RDGfix)+COUNTIF(CZ$83:CZ87,RDGave)+COUNTIF(CZ$83:CZ87,RDGevent)+DB$57-1","v":0},null,{"$f":"IF(DC87=\"\",\"\",OK)","v":""},{"$f":"IF(DC87=\"\",\"\",IF(AND(DD$82=\"L\",DD87=\"DNC\"),$I$2,\nIF(DD87=OK,DF87,IF(HLOOKUP(DD87,Comments3,2,FALSE)=D,DF$82,IF(HLOOKUP(DD87,Comments3,2,FALSE)=A,VLOOKUP(DC87,Averages,DC$4,FALSE),IF(HLOOKUP(DD87,Comments3,2,FALSE)=E,VLOOKUP(DC87,EventAverage,2,FALSE), HLOOKUP(DD87,Comments4,2,FALSE)))))))","v":""},{"$f":"COUNTIF(DD$83:DD87,OK)+COUNTIF(DD$83:DD87,RDGfix)+COUNTIF(DD$83:DD87,RDGave)+COUNTIF(DD$83:DD87,RDGevent)+DF$57-1","v":0},null,{"$f":"IF(DG87=\"\",\"\",OK)","v":""},{"$f":"IF(DG87=\"\",\"\",IF(AND(DH$82=\"L\",DH87=\"DNC\"),$I$2,\nIF(DH87=OK,DJ87,IF(HLOOKUP(DH87,Comments3,2,FALSE)=D,DJ$82,IF(HLOOKUP(DH87,Comments3,2,FALSE)=A,VLOOKUP(DG87,Averages,DG$4,FALSE),IF(HLOOKUP(DH87,Comments3,2,FALSE)=E,VLOOKUP(DG87,EventAverage,2,FALSE), HLOOKUP(DH87,Comments4,2,FALSE)))))))","v":""},{"$f":"COUNTIF(DH$83:DH87,OK)+COUNTIF(DH$83:DH87,RDGfix)+COUNTIF(DH$83:DH87,RDGave)+COUNTIF(DH$83:DH87,RDGevent)+DJ$57-1","v":0},null,{"$f":"IF(DK87=\"\",\"\",OK)","v":""},{"$f":"IF(DK87=\"\",\"\",IF(AND(DL$82=\"L\",DL87=\"DNC\"),$I$2,\nIF(DL87=OK,DN87,IF(HLOOKUP(DL87,Comments3,2,FALSE)=D,DN$82,IF(HLOOKUP(DL87,Comments3,2,FALSE)=A,VLOOKUP(DK87,Averages,DK$4,FALSE),IF(HLOOKUP(DL87,Comments3,2,FALSE)=E,VLOOKUP(DK87,EventAverage,2,FALSE), HLOOKUP(DL87,Comments4,2,FALSE)))))))","v":""},{"$f":"COUNTIF(DL$83:DL87,OK)+COUNTIF(DL$83:DL87,RDGfix)+COUNTIF(DL$83:DL87,RDGave)+COUNTIF(DL$83:DL87,RDGevent)+DN$57-1","v":0},null,{"$f":"IF(DO87=\"\",\"\",OK)","v":""},{"$f":"IF(DO87=\"\",\"\",IF(AND(DP$82=\"L\",DP87=\"DNC\"),$I$2,\nIF(DP87=OK,DR87,IF(HLOOKUP(DP87,Comments3,2,FALSE)=D,DR$82,IF(HLOOKUP(DP87,Comments3,2,FALSE)=A,VLOOKUP(DO87,Averages,DO$4,FALSE),IF(HLOOKUP(DP87,Comments3,2,FALSE)=E,VLOOKUP(DO87,EventAverage,2,FALSE), HLOOKUP(DP87,Comments4,2,FALSE)))))))","v":""},{"$f":"COUNTIF(DP$83:DP87,OK)+COUNTIF(DP$83:DP87,RDGfix)+COUNTIF(DP$83:DP87,RDGave)+COUNTIF(DP$83:DP87,RDGevent)+DR$57-1","v":0},null,{"$f":"IF(DS87=\"\",\"\",OK)","v":""},{"$f":"IF(DS87=\"\",\"\",IF(AND(DT$82=\"L\",DT87=\"DNC\"),$I$2,\nIF(DT87=OK,DV87,IF(HLOOKUP(DT87,Comments3,2,FALSE)=D,DV$82,IF(HLOOKUP(DT87,Comments3,2,FALSE)=A,VLOOKUP(DS87,Averages,DS$4,FALSE),IF(HLOOKUP(DT87,Comments3,2,FALSE)=E,VLOOKUP(DS87,EventAverage,2,FALSE), HLOOKUP(DT87,Comments4,2,FALSE)))))))","v":""},{"$f":"COUNTIF(DT$83:DT87,OK)+COUNTIF(DT$83:DT87,RDGfix)+COUNTIF(DT$83:DT87,RDGave)+COUNTIF(DT$83:DT87,RDGevent)+DV$57-1","v":0},null,{"$f":"IF(DW87=\"\",\"\",OK)","v":""},{"$f":"IF(DW87=\"\",\"\",IF(AND(DX$82=\"L\",DX87=\"DNC\"),$I$2,\nIF(DX87=OK,DZ87,IF(HLOOKUP(DX87,Comments3,2,FALSE)=D,DZ$82,IF(HLOOKUP(DX87,Comments3,2,FALSE)=A,VLOOKUP(DW87,Averages,DW$4,FALSE),IF(HLOOKUP(DX87,Comments3,2,FALSE)=E,VLOOKUP(DW87,EventAverage,2,FALSE), HLOOKUP(DX87,Comments4,2,FALSE)))))))","v":""},{"$f":"COUNTIF(DX$83:DX87,OK)+COUNTIF(DX$83:DX87,RDGfix)+COUNTIF(DX$83:DX87,RDGave)+COUNTIF(DX$83:DX87,RDGevent)+DZ$57-1","v":0},null,{"$f":"IF(EA87=\"\",\"\",OK)","v":""},{"$f":"IF(EA87=\"\",\"\",IF(AND(EB$82=\"L\",EB87=\"DNC\"),$I$2,\nIF(EB87=OK,ED87,IF(HLOOKUP(EB87,Comments3,2,FALSE)=D,ED$82,IF(HLOOKUP(EB87,Comments3,2,FALSE)=A,VLOOKUP(EA87,Averages,EA$4,FALSE),IF(HLOOKUP(EB87,Comments3,2,FALSE)=E,VLOOKUP(EA87,EventAverage,2,FALSE), HLOOKUP(EB87,Comments4,2,FALSE)))))))","v":""},{"$f":"COUNTIF(EB$83:EB87,OK)+COUNTIF(EB$83:EB87,RDGfix)+COUNTIF(EB$83:EB87,RDGave)+COUNTIF(EB$83:EB87,RDGevent)+ED$57-1","v":0},null,{"$f":"IF(EE87=\"\",\"\",OK)","v":""},{"$f":"IF(EE87=\"\",\"\",IF(AND(EF$82=\"L\",EF87=\"DNC\"),$I$2,\nIF(EF87=OK,EH87,IF(HLOOKUP(EF87,Comments3,2,FALSE)=D,EH$82,IF(HLOOKUP(EF87,Comments3,2,FALSE)=A,VLOOKUP(EE87,Averages,EE$4,FALSE),IF(HLOOKUP(EF87,Comments3,2,FALSE)=E,VLOOKUP(EE87,EventAverage,2,FALSE), HLOOKUP(EF87,Comments4,2,FALSE)))))))","v":""},{"$f":"COUNTIF(EF$83:EF87,OK)+COUNTIF(EF$83:EF87,RDGfix)+COUNTIF(EF$83:EF87,RDGave)+COUNTIF(EF$83:EF87,RDGevent)+EH$57-1","v":0},null,{"$f":"IF(EI87=\"\",\"\",OK)","v":""},{"$f":"IF(EI87=\"\",\"\",IF(AND(EJ$82=\"L\",EJ87=\"DNC\"),$I$2,\nIF(EJ87=OK,EL87,IF(HLOOKUP(EJ87,Comments3,2,FALSE)=D,EL$82,IF(HLOOKUP(EJ87,Comments3,2,FALSE)=A,VLOOKUP(EI87,Averages,EI$4,FALSE),IF(HLOOKUP(EJ87,Comments3,2,FALSE)=E,VLOOKUP(EI87,EventAverage,2,FALSE), HLOOKUP(EJ87,Comments4,2,FALSE)))))))","v":""},{"$f":"COUNTIF(EJ$83:EJ87,OK)+COUNTIF(EJ$83:EJ87,RDGfix)+COUNTIF(EJ$83:EJ87,RDGave)+COUNTIF(EJ$83:EJ87,RDGevent)+EL$57-1","v":0},null,{"$f":"IF(EM87=\"\",\"\",OK)","v":""},{"$f":"IF(EM87=\"\",\"\",IF(AND(EN$82=\"L\",EN87=\"DNC\"),$I$2,\nIF(EN87=OK,EP87,IF(HLOOKUP(EN87,Comments3,2,FALSE)=D,EP$82,IF(HLOOKUP(EN87,Comments3,2,FALSE)=A,VLOOKUP(EM87,Averages,EM$4,FALSE),IF(HLOOKUP(EN87,Comments3,2,FALSE)=E,VLOOKUP(EM87,EventAverage,2,FALSE), HLOOKUP(EN87,Comments4,2,FALSE)))))))","v":""},{"$f":"COUNTIF(EN$83:EN87,OK)+COUNTIF(EN$83:EN87,RDGfix)+COUNTIF(EN$83:EN87,RDGave)+COUNTIF(EN$83:EN87,RDGevent)+EP$57-1","v":0},null,{"$f":"IF(EQ87=\"\",\"\",OK)","v":""},{"$f":"IF(EQ87=\"\",\"\",IF(AND(ER$82=\"L\",ER87=\"DNC\"),$I$2,\nIF(ER87=OK,ET87,IF(HLOOKUP(ER87,Comments3,2,FALSE)=D,ET$82,IF(HLOOKUP(ER87,Comments3,2,FALSE)=A,VLOOKUP(EQ87,Averages,EQ$4,FALSE),IF(HLOOKUP(ER87,Comments3,2,FALSE)=E,VLOOKUP(EQ87,EventAverage,2,FALSE), HLOOKUP(ER87,Comments4,2,FALSE)))))))","v":""},{"$f":"COUNTIF(ER$83:ER87,OK)+COUNTIF(ER$83:ER87,RDGfix)+COUNTIF(ER$83:ER87,RDGave)+COUNTIF(ER$83:ER87,RDGevent)+ET$57-1","v":0},null,{"$f":"IF(EU87=\"\",\"\",OK)","v":""},{"$f":"IF(EU87=\"\",\"\",IF(AND(EV$82=\"L\",EV87=\"DNC\"),$I$2,\nIF(EV87=OK,EX87,IF(HLOOKUP(EV87,Comments3,2,FALSE)=D,EX$82,IF(HLOOKUP(EV87,Comments3,2,FALSE)=A,VLOOKUP(EU87,Averages,EU$4,FALSE),IF(HLOOKUP(EV87,Comments3,2,FALSE)=E,VLOOKUP(EU87,EventAverage,2,FALSE), HLOOKUP(EV87,Comments4,2,FALSE)))))))","v":""},{"$f":"COUNTIF(EV$83:EV87,OK)+COUNTIF(EV$83:EV87,RDGfix)+COUNTIF(EV$83:EV87,RDGave)+COUNTIF(EV$83:EV87,RDGevent)+EX$57-1","v":0},null,{"$f":"IF(EY87=\"\",\"\",OK)","v":""},{"$f":"IF(EY87=\"\",\"\",IF(AND(EZ$82=\"L\",EZ87=\"DNC\"),$I$2,\nIF(EZ87=OK,FB87,IF(HLOOKUP(EZ87,Comments3,2,FALSE)=D,FB$82,IF(HLOOKUP(EZ87,Comments3,2,FALSE)=A,VLOOKUP(EY87,Averages,EY$4,FALSE),IF(HLOOKUP(EZ87,Comments3,2,FALSE)=E,VLOOKUP(EY87,EventAverage,2,FALSE), HLOOKUP(EZ87,Comments4,2,FALSE)))))))","v":""},{"$f":"COUNTIF(EZ$83:EZ87,OK)+COUNTIF(EZ$83:EZ87,RDGfix)+COUNTIF(EZ$83:EZ87,RDGave)+COUNTIF(EZ$83:EZ87,RDGevent)+FB$57-1","v":0},null,{"$f":"IF(FC87=\"\",\"\",OK)","v":""},{"$f":"IF(FC87=\"\",\"\",IF(AND(FD$82=\"L\",FD87=\"DNC\"),$I$2,\nIF(FD87=OK,FF87,IF(HLOOKUP(FD87,Comments3,2,FALSE)=D,FF$82,IF(HLOOKUP(FD87,Comments3,2,FALSE)=A,VLOOKUP(FC87,Averages,FC$4,FALSE),IF(HLOOKUP(FD87,Comments3,2,FALSE)=E,VLOOKUP(FC87,EventAverage,2,FALSE), HLOOKUP(FD87,Comments4,2,FALSE)))))))","v":""},{"$f":"COUNTIF(FD$83:FD87,OK)+COUNTIF(FD$83:FD87,RDGfix)+COUNTIF(FD$83:FD87,RDGave)+COUNTIF(FD$83:FD87,RDGevent)+FF$57-1","v":0},null,{"$f":"IF(FG87=\"\",\"\",OK)","v":""},{"$f":"IF(FG87=\"\",\"\",IF(AND(FH$82=\"L\",FH87=\"DNC\"),$I$2,\nIF(FH87=OK,FJ87,IF(HLOOKUP(FH87,Comments3,2,FALSE)=D,FJ$82,IF(HLOOKUP(FH87,Comments3,2,FALSE)=A,VLOOKUP(FG87,Averages,FG$4,FALSE),IF(HLOOKUP(FH87,Comments3,2,FALSE)=E,VLOOKUP(FG87,EventAverage,2,FALSE), HLOOKUP(FH87,Comments4,2,FALSE)))))))","v":""},{"$f":"COUNTIF(FH$83:FH87,OK)+COUNTIF(FH$83:FH87,RDGfix)+COUNTIF(FH$83:FH87,RDGave)+COUNTIF(FH$83:FH87,RDGevent)+FJ$57-1","v":0}]
[null,"6th",null,"","",{"$f":"COUNTIF(D$83:D88,OK)+COUNTIF(D$83:D88,RDGfix)+COUNTIF(D$83:D88,RDGave)+COUNTIF(D$83:D88,RDGevent)","v":0},null,"","",{"$f":"COUNTIF(H$83:H88,OK)+COUNTIF(H$83:H88,RDGfix)+COUNTIF(H$83:H88,RDGave)+COUNTIF(H$83:H88,RDGevent)+J$57-1","v":0},null,"","",{"$f":"COUNTIF(L$83:L88,OK)+COUNTIF(L$83:L88,RDGfix)+COUNTIF(L$83:L88,RDGave)+COUNTIF(L$83:L88,RDGevent)+N$57-1","v":0},null,"","",{"$f":"COUNTIF(P$83:P88,OK)+COUNTIF(P$83:P88,RDGfix)+COUNTIF(P$83:P88,RDGave)+COUNTIF(P$83:P88,RDGevent)+R$57-1","v":0},null,"","",{"$f":"COUNTIF(T$83:T88,OK)+COUNTIF(T$83:T88,RDGfix)+COUNTIF(T$83:T88,RDGave)+COUNTIF(T$83:T88,RDGevent)+V$57-1","v":0},null,"","",{"$f":"COUNTIF(X$83:X88,OK)+COUNTIF(X$83:X88,RDGfix)+COUNTIF(X$83:X88,RDGave)+COUNTIF(X$83:X88,RDGevent)+Z$57-1","v":0},null,"","",{"$f":"COUNTIF(AB$83:AB88,OK)+COUNTIF(AB$83:AB88,RDGfix)+COUNTIF(AB$83:AB88,RDGave)+COUNTIF(AB$83:AB88,RDGevent)+AD$57-1","v":0},null,"","",{"$f":"COUNTIF(AF$83:AF88,OK)+COUNTIF(AF$83:AF88,RDGfix)+COUNTIF(AF$83:AF88,RDGave)+COUNTIF(AF$83:AF88,RDGevent)+AH$57-1","v":0},null,"","",{"$f":"COUNTIF(AJ$83:AJ88,OK)+COUNTIF(AJ$83:AJ88,RDGfix)+COUNTIF(AJ$83:AJ88,RDGave)+COUNTIF(AJ$83:AJ88,RDGevent)+AL$57-1","v":0},null,"","",{"$f":"COUNTIF(AN$83:AN88,OK)+COUNTIF(AN$83:AN88,RDGfix)+COUNTIF(AN$83:AN88,RDGave)+COUNTIF(AN$83:AN88,RDGevent)+AP$57-1","v":0},null,"","",{"$f":"COUNTIF(AR$83:AR88,OK)+COUNTIF(AR$83:AR88,RDGfix)+COUNTIF(AR$83:AR88,RDGave)+COUNTIF(AR$83:AR88,RDGevent)+AT$57-1","v":0},null,"","",{"$f":"COUNTIF(AV$83:AV88,OK)+COUNTIF(AV$83:AV88,RDGfix)+COUNTIF(AV$83:AV88,RDGave)+COUNTIF(AV$83:AV88,RDGevent)+AX$57-1","v":0},null,"","",{"$f":"COUNTIF(AZ$83:AZ88,OK)+COUNTIF(AZ$83:AZ88,RDGfix)+COUNTIF(AZ$83:AZ88,RDGave)+COUNTIF(AZ$83:AZ88,RDGevent)+BB$57-1","v":0},null,"","",{"$f":"COUNTIF(BD$83:BD88,OK)+COUNTIF(BD$83:BD88,RDGfix)+COUNTIF(BD$83:BD88,RDGave)+COUNTIF(BD$83:BD88,RDGevent)+BF$57-1","v":0},null,"","",{"$f":"COUNTIF(BH$83:BH88,OK)+COUNTIF(BH$83:BH88,RDGfix)+COUNTIF(BH$83:BH88,RDGave)+COUNTIF(BH$83:BH88,RDGevent)+BJ$57-1","v":0},null,"","",{"$f":"COUNTIF(BL$83:BL88,OK)+COUNTIF(BL$83:BL88,RDGfix)+COUNTIF(BL$83:BL88,RDGave)+COUNTIF(BL$83:BL88,RDGevent)+BN$57-1","v":0},null,"","",{"$f":"COUNTIF(BP$83:BP88,OK)+COUNTIF(BP$83:BP88,RDGfix)+COUNTIF(BP$83:BP88,RDGave)+COUNTIF(BP$83:BP88,RDGevent)+BR$57-1","v":0},null,"","",{"$f":"COUNTIF(BT$83:BT88,OK)+COUNTIF(BT$83:BT88,RDGfix)+COUNTIF(BT$83:BT88,RDGave)+COUNTIF(BT$83:BT88,RDGevent)+BV$57-1","v":0},null,"","",{"$f":"COUNTIF(BX$83:BX88,OK)+COUNTIF(BX$83:BX88,RDGfix)+COUNTIF(BX$83:BX88,RDGave)+COUNTIF(BX$83:BX88,RDGevent)+BZ$57-1","v":0},null,"","",{"$f":"COUNTIF(CB$83:CB88,OK)+COUNTIF(CB$83:CB88,RDGfix)+COUNTIF(CB$83:CB88,RDGave)+COUNTIF(CB$83:CB88,RDGevent)+CD$57-1","v":0},null,"","",{"$f":"COUNTIF(CF$83:CF88,OK)+COUNTIF(CF$83:CF88,RDGfix)+COUNTIF(CF$83:CF88,RDGave)+COUNTIF(CF$83:CF88,RDGevent)+CH$57-1","v":0},null,"","",{"$f":"COUNTIF(CJ$83:CJ88,OK)+COUNTIF(CJ$83:CJ88,RDGfix)+COUNTIF(CJ$83:CJ88,RDGave)+COUNTIF(CJ$83:CJ88,RDGevent)+CL$57-1","v":0},null,"","",{"$f":"COUNTIF(CN$83:CN88,OK)+COUNTIF(CN$83:CN88,RDGfix)+COUNTIF(CN$83:CN88,RDGave)+COUNTIF(CN$83:CN88,RDGevent)+CP$57-1","v":0},null,"","",{"$f":"COUNTIF(CR$83:CR88,OK)+COUNTIF(CR$83:CR88,RDGfix)+COUNTIF(CR$83:CR88,RDGave)+COUNTIF(CR$83:CR88,RDGevent)+CT$57-1","v":0},null,"","",{"$f":"COUNTIF(CV$83:CV88,OK)+COUNTIF(CV$83:CV88,RDGfix)+COUNTIF(CV$83:CV88,RDGave)+COUNTIF(CV$83:CV88,RDGevent)+CX$57-1","v":0},null,"","",{"$f":"COUNTIF(CZ$83:CZ88,OK)+COUNTIF(CZ$83:CZ88,RDGfix)+COUNTIF(CZ$83:CZ88,RDGave)+COUNTIF(CZ$83:CZ88,RDGevent)+DB$57-1","v":0},null,"","",{"$f":"COUNTIF(DD$83:DD88,OK)+COUNTIF(DD$83:DD88,RDGfix)+COUNTIF(DD$83:DD88,RDGave)+COUNTIF(DD$83:DD88,RDGevent)+DF$57-1","v":0},null,"","",{"$f":"COUNTIF(DH$83:DH88,OK)+COUNTIF(DH$83:DH88,RDGfix)+COUNTIF(DH$83:DH88,RDGave)+COUNTIF(DH$83:DH88,RDGevent)+DJ$57-1","v":0},null,"","",{"$f":"COUNTIF(DL$83:DL88,OK)+COUNTIF(DL$83:DL88,RDGfix)+COUNTIF(DL$83:DL88,RDGave)+COUNTIF(DL$83:DL88,RDGevent)+DN$57-1","v":0},null,"","",{"$f":"COUNTIF(DP$83:DP88,OK)+COUNTIF(DP$83:DP88,RDGfix)+COUNTIF(DP$83:DP88,RDGave)+COUNTIF(DP$83:DP88,RDGevent)+DR$57-1","v":0},null,"","",{"$f":"COUNTIF(DT$83:DT88,OK)+COUNTIF(DT$83:DT88,RDGfix)+COUNTIF(DT$83:DT88,RDGave)+COUNTIF(DT$83:DT88,RDGevent)+DV$57-1","v":0},null,"","",{"$f":"COUNTIF(DX$83:DX88,OK)+COUNTIF(DX$83:DX88,RDGfix)+COUNTIF(DX$83:DX88,RDGave)+COUNTIF(DX$83:DX88,RDGevent)+DZ$57-1","v":0},null,"","",{"$f":"COUNTIF(EB$83:EB88,OK)+COUNTIF(EB$83:EB88,RDGfix)+COUNTIF(EB$83:EB88,RDGave)+COUNTIF(EB$83:EB88,RDGevent)+ED$57-1","v":0},null,"","",{"$f":"COUNTIF(EF$83:EF88,OK)+COUNTIF(EF$83:EF88,RDGfix)+COUNTIF(EF$83:EF88,RDGave)+COUNTIF(EF$83:EF88,RDGevent)+EH$57-1","v":0},null,"","",{"$f":"COUNTIF(EJ$83:EJ88,OK)+COUNTIF(EJ$83:EJ88,RDGfix)+COUNTIF(EJ$83:EJ88,RDGave)+COUNTIF(EJ$83:EJ88,RDGevent)+EL$57-1","v":0},null,"","",{"$f":"COUNTIF(EN$83:EN88,OK)+COUNTIF(EN$83:EN88,RDGfix)+COUNTIF(EN$83:EN88,RDGave)+COUNTIF(EN$83:EN88,RDGevent)+EP$57-1","v":0},null,"","",{"$f":"COUNTIF(ER$83:ER88,OK)+COUNTIF(ER$83:ER88,RDGfix)+COUNTIF(ER$83:ER88,RDGave)+COUNTIF(ER$83:ER88,RDGevent)+ET$57-1","v":0},null,"","",{"$f":"COUNTIF(EV$83:EV88,OK)+COUNTIF(EV$83:EV88,RDGfix)+COUNTIF(EV$83:EV88,RDGave)+COUNTIF(EV$83:EV88,RDGevent)+EX$57-1","v":0},null,"","",{"$f":"COUNTIF(EZ$83:EZ88,OK)+COUNTIF(EZ$83:EZ88,RDGfix)+COUNTIF(EZ$83:EZ88,RDGave)+COUNTIF(EZ$83:EZ88,RDGevent)+FB$57-1","v":0},null,"","",{"$f":"COUNTIF(FD$83:FD88,OK)+COUNTIF(FD$83:FD88,RDGfix)+COUNTIF(FD$83:FD88,RDGave)+COUNTIF(FD$83:FD88,RDGevent)+FF$57-1","v":0},null,"","",{"$f":"COUNTIF(FH$83:FH88,OK)+COUNTIF(FH$83:FH88,RDGfix)+COUNTIF(FH$83:FH88,RDGave)+COUNTIF(FH$83:FH88,RDGevent)+FJ$57-1","v":0}]
[null,"7th",null,"","",{"$f":"COUNTIF(D$83:D89,OK)+COUNTIF(D$83:D89,RDGfix)+COUNTIF(D$83:D89,RDGave)+COUNTIF(D$83:D89,RDGevent)","v":0},null,"","",{"$f":"COUNTIF(H$83:H89,OK)+COUNTIF(H$83:H89,RDGfix)+COUNTIF(H$83:H89,RDGave)+COUNTIF(H$83:H89,RDGevent)+J$57-1","v":0},null,"","",{"$f":"COUNTIF(L$83:L89,OK)+COUNTIF(L$83:L89,RDGfix)+COUNTIF(L$83:L89,RDGave)+COUNTIF(L$83:L89,RDGevent)+N$57-1","v":0},null,"","",{"$f":"COUNTIF(P$83:P89,OK)+COUNTIF(P$83:P89,RDGfix)+COUNTIF(P$83:P89,RDGave)+COUNTIF(P$83:P89,RDGevent)+R$57-1","v":0},null,"","",{"$f":"COUNTIF(T$83:T89,OK)+COUNTIF(T$83:T89,RDGfix)+COUNTIF(T$83:T89,RDGave)+COUNTIF(T$83:T89,RDGevent)+V$57-1","v":0},null,"","",{"$f":"COUNTIF(X$83:X89,OK)+COUNTIF(X$83:X89,RDGfix)+COUNTIF(X$83:X89,RDGave)+COUNTIF(X$83:X89,RDGevent)+Z$57-1","v":0},null,"","",{"$f":"COUNTIF(AB$83:AB89,OK)+COUNTIF(AB$83:AB89,RDGfix)+COUNTIF(AB$83:AB89,RDGave)+COUNTIF(AB$83:AB89,RDGevent)+AD$57-1","v":0},null,"","",{"$f":"COUNTIF(AF$83:AF89,OK)+COUNTIF(AF$83:AF89,RDGfix)+COUNTIF(AF$83:AF89,RDGave)+COUNTIF(AF$83:AF89,RDGevent)+AH$57-1","v":0},null,"","",{"$f":"COUNTIF(AJ$83:AJ89,OK)+COUNTIF(AJ$83:AJ89,RDGfix)+COUNTIF(AJ$83:AJ89,RDGave)+COUNTIF(AJ$83:AJ89,RDGevent)+AL$57-1","v":0},null,"","",{"$f":"COUNTIF(AN$83:AN89,OK)+COUNTIF(AN$83:AN89,RDGfix)+COUNTIF(AN$83:AN89,RDGave)+COUNTIF(AN$83:AN89,RDGevent)+AP$57-1","v":0},null,"","",{"$f":"COUNTIF(AR$83:AR89,OK)+COUNTIF(AR$83:AR89,RDGfix)+COUNTIF(AR$83:AR89,RDGave)+COUNTIF(AR$83:AR89,RDGevent)+AT$57-1","v":0},null,"","",{"$f":"COUNTIF(AV$83:AV89,OK)+COUNTIF(AV$83:AV89,RDGfix)+COUNTIF(AV$83:AV89,RDGave)+COUNTIF(AV$83:AV89,RDGevent)+AX$57-1","v":0},null,"","",{"$f":"COUNTIF(AZ$83:AZ89,OK)+COUNTIF(AZ$83:AZ89,RDGfix)+COUNTIF(AZ$83:AZ89,RDGave)+COUNTIF(AZ$83:AZ89,RDGevent)+BB$57-1","v":0},null,"","",{"$f":"COUNTIF(BD$83:BD89,OK)+COUNTIF(BD$83:BD89,RDGfix)+COUNTIF(BD$83:BD89,RDGave)+COUNTIF(BD$83:BD89,RDGevent)+BF$57-1","v":0},null,"","",{"$f":"COUNTIF(BH$83:BH89,OK)+COUNTIF(BH$83:BH89,RDGfix)+COUNTIF(BH$83:BH89,RDGave)+COUNTIF(BH$83:BH89,RDGevent)+BJ$57-1","v":0},null,"","",{"$f":"COUNTIF(BL$83:BL89,OK)+COUNTIF(BL$83:BL89,RDGfix)+COUNTIF(BL$83:BL89,RDGave)+COUNTIF(BL$83:BL89,RDGevent)+BN$57-1","v":0},null,"","",{"$f":"COUNTIF(BP$83:BP89,OK)+COUNTIF(BP$83:BP89,RDGfix)+COUNTIF(BP$83:BP89,RDGave)+COUNTIF(BP$83:BP89,RDGevent)+BR$57-1","v":0},null,"","",{"$f":"COUNTIF(BT$83:BT89,OK)+COUNTIF(BT$83:BT89,RDGfix)+COUNTIF(BT$83:BT89,RDGave)+COUNTIF(BT$83:BT89,RDGevent)+BV$57-1","v":0},null,"","",{"$f":"COUNTIF(BX$83:BX89,OK)+COUNTIF(BX$83:BX89,RDGfix)+COUNTIF(BX$83:BX89,RDGave)+COUNTIF(BX$83:BX89,RDGevent)+BZ$57-1","v":0},null,"","",{"$f":"COUNTIF(CB$83:CB89,OK)+COUNTIF(CB$83:CB89,RDGfix)+COUNTIF(CB$83:CB89,RDGave)+COUNTIF(CB$83:CB89,RDGevent)+CD$57-1","v":0},null,"","",{"$f":"COUNTIF(CF$83:CF89,OK)+COUNTIF(CF$83:CF89,RDGfix)+COUNTIF(CF$83:CF89,RDGave)+COUNTIF(CF$83:CF89,RDGevent)+CH$57-1","v":0},null,"","",{"$f":"COUNTIF(CJ$83:CJ89,OK)+COUNTIF(CJ$83:CJ89,RDGfix)+COUNTIF(CJ$83:CJ89,RDGave)+COUNTIF(CJ$83:CJ89,RDGevent)+CL$57-1","v":0},null,"","",{"$f":"COUNTIF(CN$83:CN89,OK)+COUNTIF(CN$83:CN89,RDGfix)+COUNTIF(CN$83:CN89,RDGave)+COUNTIF(CN$83:CN89,RDGevent)+CP$57-1","v":0},null,"","",{"$f":"COUNTIF(CR$83:CR89,OK)+COUNTIF(CR$83:CR89,RDGfix)+COUNTIF(CR$83:CR89,RDGave)+COUNTIF(CR$83:CR89,RDGevent)+CT$57-1","v":0},null,"","",{"$f":"COUNTIF(CV$83:CV89,OK)+COUNTIF(CV$83:CV89,RDGfix)+COUNTIF(CV$83:CV89,RDGave)+COUNTIF(CV$83:CV89,RDGevent)+CX$57-1","v":0},null,"","",{"$f":"COUNTIF(CZ$83:CZ89,OK)+COUNTIF(CZ$83:CZ89,RDGfix)+COUNTIF(CZ$83:CZ89,RDGave)+COUNTIF(CZ$83:CZ89,RDGevent)+DB$57-1","v":0},null,"","",{"$f":"COUNTIF(DD$83:DD89,OK)+COUNTIF(DD$83:DD89,RDGfix)+COUNTIF(DD$83:DD89,RDGave)+COUNTIF(DD$83:DD89,RDGevent)+DF$57-1","v":0},null,"","",{"$f":"COUNTIF(DH$83:DH89,OK)+COUNTIF(DH$83:DH89,RDGfix)+COUNTIF(DH$83:DH89,RDGave)+COUNTIF(DH$83:DH89,RDGevent)+DJ$57-1","v":0},null,"","",{"$f":"COUNTIF(DL$83:DL89,OK)+COUNTIF(DL$83:DL89,RDGfix)+COUNTIF(DL$83:DL89,RDGave)+COUNTIF(DL$83:DL89,RDGevent)+DN$57-1","v":0},null,"","",{"$f":"COUNTIF(DP$83:DP89,OK)+COUNTIF(DP$83:DP89,RDGfix)+COUNTIF(DP$83:DP89,RDGave)+COUNTIF(DP$83:DP89,RDGevent)+DR$57-1","v":0},null,"","",{"$f":"COUNTIF(DT$83:DT89,OK)+COUNTIF(DT$83:DT89,RDGfix)+COUNTIF(DT$83:DT89,RDGave)+COUNTIF(DT$83:DT89,RDGevent)+DV$57-1","v":0},null,"","",{"$f":"COUNTIF(DX$83:DX89,OK)+COUNTIF(DX$83:DX89,RDGfix)+COUNTIF(DX$83:DX89,RDGave)+COUNTIF(DX$83:DX89,RDGevent)+DZ$57-1","v":0},null,"","",{"$f":"COUNTIF(EB$83:EB89,OK)+COUNTIF(EB$83:EB89,RDGfix)+COUNTIF(EB$83:EB89,RDGave)+COUNTIF(EB$83:EB89,RDGevent)+ED$57-1","v":0},null,"","",{"$f":"COUNTIF(EF$83:EF89,OK)+COUNTIF(EF$83:EF89,RDGfix)+COUNTIF(EF$83:EF89,RDGave)+COUNTIF(EF$83:EF89,RDGevent)+EH$57-1","v":0},null,"","",{"$f":"COUNTIF(EJ$83:EJ89,OK)+COUNTIF(EJ$83:EJ89,RDGfix)+COUNTIF(EJ$83:EJ89,RDGave)+COUNTIF(EJ$83:EJ89,RDGevent)+EL$57-1","v":0},null,"","",{"$f":"COUNTIF(EN$83:EN89,OK)+COUNTIF(EN$83:EN89,RDGfix)+COUNTIF(EN$83:EN89,RDGave)+COUNTIF(EN$83:EN89,RDGevent)+EP$57-1","v":0},null,"","",{"$f":"COUNTIF(ER$83:ER89,OK)+COUNTIF(ER$83:ER89,RDGfix)+COUNTIF(ER$83:ER89,RDGave)+COUNTIF(ER$83:ER89,RDGevent)+ET$57-1","v":0},null,"","",{"$f":"COUNTIF(EV$83:EV89,OK)+COUNTIF(EV$83:EV89,RDGfix)+COUNTIF(EV$83:EV89,RDGave)+COUNTIF(EV$83:EV89,RDGevent)+EX$57-1","v":0},null,"","",{"$f":"COUNTIF(EZ$83:EZ89,OK)+COUNTIF(EZ$83:EZ89,RDGfix)+COUNTIF(EZ$83:EZ89,RDGave)+COUNTIF(EZ$83:EZ89,RDGevent)+FB$57-1","v":0},null,"","",{"$f":"COUNTIF(FD$83:FD89,OK)+COUNTIF(FD$83:FD89,RDGfix)+COUNTIF(FD$83:FD89,RDGave)+COUNTIF(FD$83:FD89,RDGevent)+FF$57-1","v":0},null,"","",{"$f":"COUNTIF(FH$83:FH89,OK)+COUNTIF(FH$83:FH89,RDGfix)+COUNTIF(FH$83:FH89,RDGave)+COUNTIF(FH$83:FH89,RDGevent)+FJ$57-1","v":0}]
[null,"8th",null,"","",{"$f":"COUNTIF(D$83:D90,OK)+COUNTIF(D$83:D90,RDGfix)+COUNTIF(D$83:D90,RDGave)+COUNTIF(D$83:D90,RDGevent)","v":0},null,"","",{"$f":"COUNTIF(H$83:H90,OK)+COUNTIF(H$83:H90,RDGfix)+COUNTIF(H$83:H90,RDGave)+COUNTIF(H$83:H90,RDGevent)+J$57-1","v":0},null,"","",{"$f":"COUNTIF(L$83:L90,OK)+COUNTIF(L$83:L90,RDGfix)+COUNTIF(L$83:L90,RDGave)+COUNTIF(L$83:L90,RDGevent)+N$57-1","v":0},null,"","",{"$f":"COUNTIF(P$83:P90,OK)+COUNTIF(P$83:P90,RDGfix)+COUNTIF(P$83:P90,RDGave)+COUNTIF(P$83:P90,RDGevent)+R$57-1","v":0},null,"","",{"$f":"COUNTIF(T$83:T90,OK)+COUNTIF(T$83:T90,RDGfix)+COUNTIF(T$83:T90,RDGave)+COUNTIF(T$83:T90,RDGevent)+V$57-1","v":0},null,"","",{"$f":"COUNTIF(X$83:X90,OK)+COUNTIF(X$83:X90,RDGfix)+COUNTIF(X$83:X90,RDGave)+COUNTIF(X$83:X90,RDGevent)+Z$57-1","v":0},null,"","",{"$f":"COUNTIF(AB$83:AB90,OK)+COUNTIF(AB$83:AB90,RDGfix)+COUNTIF(AB$83:AB90,RDGave)+COUNTIF(AB$83:AB90,RDGevent)+AD$57-1","v":0},null,"","",{"$f":"COUNTIF(AF$83:AF90,OK)+COUNTIF(AF$83:AF90,RDGfix)+COUNTIF(AF$83:AF90,RDGave)+COUNTIF(AF$83:AF90,RDGevent)+AH$57-1","v":0},null,"","",{"$f":"COUNTIF(AJ$83:AJ90,OK)+COUNTIF(AJ$83:AJ90,RDGfix)+COUNTIF(AJ$83:AJ90,RDGave)+COUNTIF(AJ$83:AJ90,RDGevent)+AL$57-1","v":0},null,"","",{"$f":"COUNTIF(AN$83:AN90,OK)+COUNTIF(AN$83:AN90,RDGfix)+COUNTIF(AN$83:AN90,RDGave)+COUNTIF(AN$83:AN90,RDGevent)+AP$57-1","v":0},null,"","",{"$f":"COUNTIF(AR$83:AR90,OK)+COUNTIF(AR$83:AR90,RDGfix)+COUNTIF(AR$83:AR90,RDGave)+COUNTIF(AR$83:AR90,RDGevent)+AT$57-1","v":0},null,"","",{"$f":"COUNTIF(AV$83:AV90,OK)+COUNTIF(AV$83:AV90,RDGfix)+COUNTIF(AV$83:AV90,RDGave)+COUNTIF(AV$83:AV90,RDGevent)+AX$57-1","v":0},null,"","",{"$f":"COUNTIF(AZ$83:AZ90,OK)+COUNTIF(AZ$83:AZ90,RDGfix)+COUNTIF(AZ$83:AZ90,RDGave)+COUNTIF(AZ$83:AZ90,RDGevent)+BB$57-1","v":0},null,"","",{"$f":"COUNTIF(BD$83:BD90,OK)+COUNTIF(BD$83:BD90,RDGfix)+COUNTIF(BD$83:BD90,RDGave)+COUNTIF(BD$83:BD90,RDGevent)+BF$57-1","v":0},null,"","",{"$f":"COUNTIF(BH$83:BH90,OK)+COUNTIF(BH$83:BH90,RDGfix)+COUNTIF(BH$83:BH90,RDGave)+COUNTIF(BH$83:BH90,RDGevent)+BJ$57-1","v":0},null,"","",{"$f":"COUNTIF(BL$83:BL90,OK)+COUNTIF(BL$83:BL90,RDGfix)+COUNTIF(BL$83:BL90,RDGave)+COUNTIF(BL$83:BL90,RDGevent)+BN$57-1","v":0},null,"","",{"$f":"COUNTIF(BP$83:BP90,OK)+COUNTIF(BP$83:BP90,RDGfix)+COUNTIF(BP$83:BP90,RDGave)+COUNTIF(BP$83:BP90,RDGevent)+BR$57-1","v":0},null,"","",{"$f":"COUNTIF(BT$83:BT90,OK)+COUNTIF(BT$83:BT90,RDGfix)+COUNTIF(BT$83:BT90,RDGave)+COUNTIF(BT$83:BT90,RDGevent)+BV$57-1","v":0},null,"","",{"$f":"COUNTIF(BX$83:BX90,OK)+COUNTIF(BX$83:BX90,RDGfix)+COUNTIF(BX$83:BX90,RDGave)+COUNTIF(BX$83:BX90,RDGevent)+BZ$57-1","v":0},null,"","",{"$f":"COUNTIF(CB$83:CB90,OK)+COUNTIF(CB$83:CB90,RDGfix)+COUNTIF(CB$83:CB90,RDGave)+COUNTIF(CB$83:CB90,RDGevent)+CD$57-1","v":0},null,"","",{"$f":"COUNTIF(CF$83:CF90,OK)+COUNTIF(CF$83:CF90,RDGfix)+COUNTIF(CF$83:CF90,RDGave)+COUNTIF(CF$83:CF90,RDGevent)+CH$57-1","v":0},null,"","",{"$f":"COUNTIF(CJ$83:CJ90,OK)+COUNTIF(CJ$83:CJ90,RDGfix)+COUNTIF(CJ$83:CJ90,RDGave)+COUNTIF(CJ$83:CJ90,RDGevent)+CL$57-1","v":0},null,"","",{"$f":"COUNTIF(CN$83:CN90,OK)+COUNTIF(CN$83:CN90,RDGfix)+COUNTIF(CN$83:CN90,RDGave)+COUNTIF(CN$83:CN90,RDGevent)+CP$57-1","v":0},null,"","",{"$f":"COUNTIF(CR$83:CR90,OK)+COUNTIF(CR$83:CR90,RDGfix)+COUNTIF(CR$83:CR90,RDGave)+COUNTIF(CR$83:CR90,RDGevent)+CT$57-1","v":0},null,"","",{"$f":"COUNTIF(CV$83:CV90,OK)+COUNTIF(CV$83:CV90,RDGfix)+COUNTIF(CV$83:CV90,RDGave)+COUNTIF(CV$83:CV90,RDGevent)+CX$57-1","v":0},null,"","",{"$f":"COUNTIF(CZ$83:CZ90,OK)+COUNTIF(CZ$83:CZ90,RDGfix)+COUNTIF(CZ$83:CZ90,RDGave)+COUNTIF(CZ$83:CZ90,RDGevent)+DB$57-1","v":0},null,"","",{"$f":"COUNTIF(DD$83:DD90,OK)+COUNTIF(DD$83:DD90,RDGfix)+COUNTIF(DD$83:DD90,RDGave)+COUNTIF(DD$83:DD90,RDGevent)+DF$57-1","v":0},null,"","",{"$f":"COUNTIF(DH$83:DH90,OK)+COUNTIF(DH$83:DH90,RDGfix)+COUNTIF(DH$83:DH90,RDGave)+COUNTIF(DH$83:DH90,RDGevent)+DJ$57-1","v":0},null,"","",{"$f":"COUNTIF(DL$83:DL90,OK)+COUNTIF(DL$83:DL90,RDGfix)+COUNTIF(DL$83:DL90,RDGave)+COUNTIF(DL$83:DL90,RDGevent)+DN$57-1","v":0},null,"","",{"$f":"COUNTIF(DP$83:DP90,OK)+COUNTIF(DP$83:DP90,RDGfix)+COUNTIF(DP$83:DP90,RDGave)+COUNTIF(DP$83:DP90,RDGevent)+DR$57-1","v":0},null,"","",{"$f":"COUNTIF(DT$83:DT90,OK)+COUNTIF(DT$83:DT90,RDGfix)+COUNTIF(DT$83:DT90,RDGave)+COUNTIF(DT$83:DT90,RDGevent)+DV$57-1","v":0},null,"","",{"$f":"COUNTIF(DX$83:DX90,OK)+COUNTIF(DX$83:DX90,RDGfix)+COUNTIF(DX$83:DX90,RDGave)+COUNTIF(DX$83:DX90,RDGevent)+DZ$57-1","v":0},null,"","",{"$f":"COUNTIF(EB$83:EB90,OK)+COUNTIF(EB$83:EB90,RDGfix)+COUNTIF(EB$83:EB90,RDGave)+COUNTIF(EB$83:EB90,RDGevent)+ED$57-1","v":0},null,"","",{"$f":"COUNTIF(EF$83:EF90,OK)+COUNTIF(EF$83:EF90,RDGfix)+COUNTIF(EF$83:EF90,RDGave)+COUNTIF(EF$83:EF90,RDGevent)+EH$57-1","v":0},null,"","",{"$f":"COUNTIF(EJ$83:EJ90,OK)+COUNTIF(EJ$83:EJ90,RDGfix)+COUNTIF(EJ$83:EJ90,RDGave)+COUNTIF(EJ$83:EJ90,RDGevent)+EL$57-1","v":0},null,"","",{"$f":"COUNTIF(EN$83:EN90,OK)+COUNTIF(EN$83:EN90,RDGfix)+COUNTIF(EN$83:EN90,RDGave)+COUNTIF(EN$83:EN90,RDGevent)+EP$57-1","v":0},null,"","",{"$f":"COUNTIF(ER$83:ER90,OK)+COUNTIF(ER$83:ER90,RDGfix)+COUNTIF(ER$83:ER90,RDGave)+COUNTIF(ER$83:ER90,RDGevent)+ET$57-1","v":0},null,"","",{"$f":"COUNTIF(EV$83:EV90,OK)+COUNTIF(EV$83:EV90,RDGfix)+COUNTIF(EV$83:EV90,RDGave)+COUNTIF(EV$83:EV90,RDGevent)+EX$57-1","v":0},null,"","",{"$f":"COUNTIF(EZ$83:EZ90,OK)+COUNTIF(EZ$83:EZ90,RDGfix)+COUNTIF(EZ$83:EZ90,RDGave)+COUNTIF(EZ$83:EZ90,RDGevent)+FB$57-1","v":0},null,"","",{"$f":"COUNTIF(FD$83:FD90,OK)+COUNTIF(FD$83:FD90,RDGfix)+COUNTIF(FD$83:FD90,RDGave)+COUNTIF(FD$83:FD90,RDGevent)+FF$57-1","v":0},null,"","",{"$f":"COUNTIF(FH$83:FH90,OK)+COUNTIF(FH$83:FH90,RDGfix)+COUNTIF(FH$83:FH90,RDGave)+COUNTIF(FH$83:FH90,RDGevent)+FJ$57-1","v":0}]
[null,"9th",null,"","",{"$f":"COUNTIF(D$83:D91,OK)+COUNTIF(D$83:D91,RDGfix)+COUNTIF(D$83:D91,RDGave)+COUNTIF(D$83:D91,RDGevent)","v":0},null,"","",{"$f":"COUNTIF(H$83:H91,OK)+COUNTIF(H$83:H91,RDGfix)+COUNTIF(H$83:H91,RDGave)+COUNTIF(H$83:H91,RDGevent)+J$57-1","v":0},null,"","",{"$f":"COUNTIF(L$83:L91,OK)+COUNTIF(L$83:L91,RDGfix)+COUNTIF(L$83:L91,RDGave)+COUNTIF(L$83:L91,RDGevent)+N$57-1","v":0},null,"","",{"$f":"COUNTIF(P$83:P91,OK)+COUNTIF(P$83:P91,RDGfix)+COUNTIF(P$83:P91,RDGave)+COUNTIF(P$83:P91,RDGevent)+R$57-1","v":0},null,"","",{"$f":"COUNTIF(T$83:T91,OK)+COUNTIF(T$83:T91,RDGfix)+COUNTIF(T$83:T91,RDGave)+COUNTIF(T$83:T91,RDGevent)+V$57-1","v":0},null,"","",{"$f":"COUNTIF(X$83:X91,OK)+COUNTIF(X$83:X91,RDGfix)+COUNTIF(X$83:X91,RDGave)+COUNTIF(X$83:X91,RDGevent)+Z$57-1","v":0},null,"","",{"$f":"COUNTIF(AB$83:AB91,OK)+COUNTIF(AB$83:AB91,RDGfix)+COUNTIF(AB$83:AB91,RDGave)+COUNTIF(AB$83:AB91,RDGevent)+AD$57-1","v":0},null,"","",{"$f":"COUNTIF(AF$83:AF91,OK)+COUNTIF(AF$83:AF91,RDGfix)+COUNTIF(AF$83:AF91,RDGave)+COUNTIF(AF$83:AF91,RDGevent)+AH$57-1","v":0},null,"","",{"$f":"COUNTIF(AJ$83:AJ91,OK)+COUNTIF(AJ$83:AJ91,RDGfix)+COUNTIF(AJ$83:AJ91,RDGave)+COUNTIF(AJ$83:AJ91,RDGevent)+AL$57-1","v":0},null,"","",{"$f":"COUNTIF(AN$83:AN91,OK)+COUNTIF(AN$83:AN91,RDGfix)+COUNTIF(AN$83:AN91,RDGave)+COUNTIF(AN$83:AN91,RDGevent)+AP$57-1","v":0},null,"","",{"$f":"COUNTIF(AR$83:AR91,OK)+COUNTIF(AR$83:AR91,RDGfix)+COUNTIF(AR$83:AR91,RDGave)+COUNTIF(AR$83:AR91,RDGevent)+AT$57-1","v":0},null,"","",{"$f":"COUNTIF(AV$83:AV91,OK)+COUNTIF(AV$83:AV91,RDGfix)+COUNTIF(AV$83:AV91,RDGave)+COUNTIF(AV$83:AV91,RDGevent)+AX$57-1","v":0},null,"","",{"$f":"COUNTIF(AZ$83:AZ91,OK)+COUNTIF(AZ$83:AZ91,RDGfix)+COUNTIF(AZ$83:AZ91,RDGave)+COUNTIF(AZ$83:AZ91,RDGevent)+BB$57-1","v":0},null,"","",{"$f":"COUNTIF(BD$83:BD91,OK)+COUNTIF(BD$83:BD91,RDGfix)+COUNTIF(BD$83:BD91,RDGave)+COUNTIF(BD$83:BD91,RDGevent)+BF$57-1","v":0},null,"","",{"$f":"COUNTIF(BH$83:BH91,OK)+COUNTIF(BH$83:BH91,RDGfix)+COUNTIF(BH$83:BH91,RDGave)+COUNTIF(BH$83:BH91,RDGevent)+BJ$57-1","v":0},null,"","",{"$f":"COUNTIF(BL$83:BL91,OK)+COUNTIF(BL$83:BL91,RDGfix)+COUNTIF(BL$83:BL91,RDGave)+COUNTIF(BL$83:BL91,RDGevent)+BN$57-1","v":0},null,"","",{"$f":"COUNTIF(BP$83:BP91,OK)+COUNTIF(BP$83:BP91,RDGfix)+COUNTIF(BP$83:BP91,RDGave)+COUNTIF(BP$83:BP91,RDGevent)+BR$57-1","v":0},null,"","",{"$f":"COUNTIF(BT$83:BT91,OK)+COUNTIF(BT$83:BT91,RDGfix)+COUNTIF(BT$83:BT91,RDGave)+COUNTIF(BT$83:BT91,RDGevent)+BV$57-1","v":0},null,"","",{"$f":"COUNTIF(BX$83:BX91,OK)+COUNTIF(BX$83:BX91,RDGfix)+COUNTIF(BX$83:BX91,RDGave)+COUNTIF(BX$83:BX91,RDGevent)+BZ$57-1","v":0},null,"","",{"$f":"COUNTIF(CB$83:CB91,OK)+COUNTIF(CB$83:CB91,RDGfix)+COUNTIF(CB$83:CB91,RDGave)+COUNTIF(CB$83:CB91,RDGevent)+CD$57-1","v":0},null,"","",{"$f":"COUNTIF(CF$83:CF91,OK)+COUNTIF(CF$83:CF91,RDGfix)+COUNTIF(CF$83:CF91,RDGave)+COUNTIF(CF$83:CF91,RDGevent)+CH$57-1","v":0},null,"","",{"$f":"COUNTIF(CJ$83:CJ91,OK)+COUNTIF(CJ$83:CJ91,RDGfix)+COUNTIF(CJ$83:CJ91,RDGave)+COUNTIF(CJ$83:CJ91,RDGevent)+CL$57-1","v":0},null,"","",{"$f":"COUNTIF(CN$83:CN91,OK)+COUNTIF(CN$83:CN91,RDGfix)+COUNTIF(CN$83:CN91,RDGave)+COUNTIF(CN$83:CN91,RDGevent)+CP$57-1","v":0},null,"","",{"$f":"COUNTIF(CR$83:CR91,OK)+COUNTIF(CR$83:CR91,RDGfix)+COUNTIF(CR$83:CR91,RDGave)+COUNTIF(CR$83:CR91,RDGevent)+CT$57-1","v":0},null,"","",{"$f":"COUNTIF(CV$83:CV91,OK)+COUNTIF(CV$83:CV91,RDGfix)+COUNTIF(CV$83:CV91,RDGave)+COUNTIF(CV$83:CV91,RDGevent)+CX$57-1","v":0},null,"","",{"$f":"COUNTIF(CZ$83:CZ91,OK)+COUNTIF(CZ$83:CZ91,RDGfix)+COUNTIF(CZ$83:CZ91,RDGave)+COUNTIF(CZ$83:CZ91,RDGevent)+DB$57-1","v":0},null,"","",{"$f":"COUNTIF(DD$83:DD91,OK)+COUNTIF(DD$83:DD91,RDGfix)+COUNTIF(DD$83:DD91,RDGave)+COUNTIF(DD$83:DD91,RDGevent)+DF$57-1","v":0},null,"","",{"$f":"COUNTIF(DH$83:DH91,OK)+COUNTIF(DH$83:DH91,RDGfix)+COUNTIF(DH$83:DH91,RDGave)+COUNTIF(DH$83:DH91,RDGevent)+DJ$57-1","v":0},null,"","",{"$f":"COUNTIF(DL$83:DL91,OK)+COUNTIF(DL$83:DL91,RDGfix)+COUNTIF(DL$83:DL91,RDGave)+COUNTIF(DL$83:DL91,RDGevent)+DN$57-1","v":0},null,"","",{"$f":"COUNTIF(DP$83:DP91,OK)+COUNTIF(DP$83:DP91,RDGfix)+COUNTIF(DP$83:DP91,RDGave)+COUNTIF(DP$83:DP91,RDGevent)+DR$57-1","v":0},null,"","",{"$f":"COUNTIF(DT$83:DT91,OK)+COUNTIF(DT$83:DT91,RDGfix)+COUNTIF(DT$83:DT91,RDGave)+COUNTIF(DT$83:DT91,RDGevent)+DV$57-1","v":0},null,"","",{"$f":"COUNTIF(DX$83:DX91,OK)+COUNTIF(DX$83:DX91,RDGfix)+COUNTIF(DX$83:DX91,RDGave)+COUNTIF(DX$83:DX91,RDGevent)+DZ$57-1","v":0},null,"","",{"$f":"COUNTIF(EB$83:EB91,OK)+COUNTIF(EB$83:EB91,RDGfix)+COUNTIF(EB$83:EB91,RDGave)+COUNTIF(EB$83:EB91,RDGevent)+ED$57-1","v":0},null,"","",{"$f":"COUNTIF(EF$83:EF91,OK)+COUNTIF(EF$83:EF91,RDGfix)+COUNTIF(EF$83:EF91,RDGave)+COUNTIF(EF$83:EF91,RDGevent)+EH$57-1","v":0},null,"","",{"$f":"COUNTIF(EJ$83:EJ91,OK)+COUNTIF(EJ$83:EJ91,RDGfix)+COUNTIF(EJ$83:EJ91,RDGave)+COUNTIF(EJ$83:EJ91,RDGevent)+EL$57-1","v":0},null,"","",{"$f":"COUNTIF(EN$83:EN91,OK)+COUNTIF(EN$83:EN91,RDGfix)+COUNTIF(EN$83:EN91,RDGave)+COUNTIF(EN$83:EN91,RDGevent)+EP$57-1","v":0},null,"","",{"$f":"COUNTIF(ER$83:ER91,OK)+COUNTIF(ER$83:ER91,RDGfix)+COUNTIF(ER$83:ER91,RDGave)+COUNTIF(ER$83:ER91,RDGevent)+ET$57-1","v":0},null,"","",{"$f":"COUNTIF(EV$83:EV91,OK)+COUNTIF(EV$83:EV91,RDGfix)+COUNTIF(EV$83:EV91,RDGave)+COUNTIF(EV$83:EV91,RDGevent)+EX$57-1","v":0},null,"","",{"$f":"COUNTIF(EZ$83:EZ91,OK)+COUNTIF(EZ$83:EZ91,RDGfix)+COUNTIF(EZ$83:EZ91,RDGave)+COUNTIF(EZ$83:EZ91,RDGevent)+FB$57-1","v":0},null,"","",{"$f":"COUNTIF(FD$83:FD91,OK)+COUNTIF(FD$83:FD91,RDGfix)+COUNTIF(FD$83:FD91,RDGave)+COUNTIF(FD$83:FD91,RDGevent)+FF$57-1","v":0},null,"","",{"$f":"COUNTIF(FH$83:FH91,OK)+COUNTIF(FH$83:FH91,RDGfix)+COUNTIF(FH$83:FH91,RDGave)+COUNTIF(FH$83:FH91,RDGevent)+FJ$57-1","v":0}]
[null,"10th",null,"","",{"$f":"COUNTIF(D$83:D92,OK)+COUNTIF(D$83:D92,RDGfix)+COUNTIF(D$83:D92,RDGave)+COUNTIF(D$83:D92,RDGevent)","v":0},null,"","",{"$f":"COUNTIF(H$83:H92,OK)+COUNTIF(H$83:H92,RDGfix)+COUNTIF(H$83:H92,RDGave)+COUNTIF(H$83:H92,RDGevent)+J$57-1","v":0},null,"","",{"$f":"COUNTIF(L$83:L92,OK)+COUNTIF(L$83:L92,RDGfix)+COUNTIF(L$83:L92,RDGave)+COUNTIF(L$83:L92,RDGevent)+N$57-1","v":0},null,"","",{"$f":"COUNTIF(P$83:P92,OK)+COUNTIF(P$83:P92,RDGfix)+COUNTIF(P$83:P92,RDGave)+COUNTIF(P$83:P92,RDGevent)+R$57-1","v":0},null,"","",{"$f":"COUNTIF(T$83:T92,OK)+COUNTIF(T$83:T92,RDGfix)+COUNTIF(T$83:T92,RDGave)+COUNTIF(T$83:T92,RDGevent)+V$57-1","v":0},null,"","",{"$f":"COUNTIF(X$83:X92,OK)+COUNTIF(X$83:X92,RDGfix)+COUNTIF(X$83:X92,RDGave)+COUNTIF(X$83:X92,RDGevent)+Z$57-1","v":0},null,"","",{"$f":"COUNTIF(AB$83:AB92,OK)+COUNTIF(AB$83:AB92,RDGfix)+COUNTIF(AB$83:AB92,RDGave)+COUNTIF(AB$83:AB92,RDGevent)+AD$57-1","v":0},null,"","",{"$f":"COUNTIF(AF$83:AF92,OK)+COUNTIF(AF$83:AF92,RDGfix)+COUNTIF(AF$83:AF92,RDGave)+COUNTIF(AF$83:AF92,RDGevent)+AH$57-1","v":0},null,"","",{"$f":"COUNTIF(AJ$83:AJ92,OK)+COUNTIF(AJ$83:AJ92,RDGfix)+COUNTIF(AJ$83:AJ92,RDGave)+COUNTIF(AJ$83:AJ92,RDGevent)+AL$57-1","v":0},null,"","",{"$f":"COUNTIF(AN$83:AN92,OK)+COUNTIF(AN$83:AN92,RDGfix)+COUNTIF(AN$83:AN92,RDGave)+COUNTIF(AN$83:AN92,RDGevent)+AP$57-1","v":0},null,"","",{"$f":"COUNTIF(AR$83:AR92,OK)+COUNTIF(AR$83:AR92,RDGfix)+COUNTIF(AR$83:AR92,RDGave)+COUNTIF(AR$83:AR92,RDGevent)+AT$57-1","v":0},null,"","",{"$f":"COUNTIF(AV$83:AV92,OK)+COUNTIF(AV$83:AV92,RDGfix)+COUNTIF(AV$83:AV92,RDGave)+COUNTIF(AV$83:AV92,RDGevent)+AX$57-1","v":0},null,"","",{"$f":"COUNTIF(AZ$83:AZ92,OK)+COUNTIF(AZ$83:AZ92,RDGfix)+COUNTIF(AZ$83:AZ92,RDGave)+COUNTIF(AZ$83:AZ92,RDGevent)+BB$57-1","v":0},null,"","",{"$f":"COUNTIF(BD$83:BD92,OK)+COUNTIF(BD$83:BD92,RDGfix)+COUNTIF(BD$83:BD92,RDGave)+COUNTIF(BD$83:BD92,RDGevent)+BF$57-1","v":0},null,"","",{"$f":"COUNTIF(BH$83:BH92,OK)+COUNTIF(BH$83:BH92,RDGfix)+COUNTIF(BH$83:BH92,RDGave)+COUNTIF(BH$83:BH92,RDGevent)+BJ$57-1","v":0},null,"","",{"$f":"COUNTIF(BL$83:BL92,OK)+COUNTIF(BL$83:BL92,RDGfix)+COUNTIF(BL$83:BL92,RDGave)+COUNTIF(BL$83:BL92,RDGevent)+BN$57-1","v":0},null,"","",{"$f":"COUNTIF(BP$83:BP92,OK)+COUNTIF(BP$83:BP92,RDGfix)+COUNTIF(BP$83:BP92,RDGave)+COUNTIF(BP$83:BP92,RDGevent)+BR$57-1","v":0},null,"","",{"$f":"COUNTIF(BT$83:BT92,OK)+COUNTIF(BT$83:BT92,RDGfix)+COUNTIF(BT$83:BT92,RDGave)+COUNTIF(BT$83:BT92,RDGevent)+BV$57-1","v":0},null,"","",{"$f":"COUNTIF(BX$83:BX92,OK)+COUNTIF(BX$83:BX92,RDGfix)+COUNTIF(BX$83:BX92,RDGave)+COUNTIF(BX$83:BX92,RDGevent)+BZ$57-1","v":0},null,"","",{"$f":"COUNTIF(CB$83:CB92,OK)+COUNTIF(CB$83:CB92,RDGfix)+COUNTIF(CB$83:CB92,RDGave)+COUNTIF(CB$83:CB92,RDGevent)+CD$57-1","v":0},null,"","",{"$f":"COUNTIF(CF$83:CF92,OK)+COUNTIF(CF$83:CF92,RDGfix)+COUNTIF(CF$83:CF92,RDGave)+COUNTIF(CF$83:CF92,RDGevent)+CH$57-1","v":0},null,"","",{"$f":"COUNTIF(CJ$83:CJ92,OK)+COUNTIF(CJ$83:CJ92,RDGfix)+COUNTIF(CJ$83:CJ92,RDGave)+COUNTIF(CJ$83:CJ92,RDGevent)+CL$57-1","v":0},null,"","",{"$f":"COUNTIF(CN$83:CN92,OK)+COUNTIF(CN$83:CN92,RDGfix)+COUNTIF(CN$83:CN92,RDGave)+COUNTIF(CN$83:CN92,RDGevent)+CP$57-1","v":0},null,"","",{"$f":"COUNTIF(CR$83:CR92,OK)+COUNTIF(CR$83:CR92,RDGfix)+COUNTIF(CR$83:CR92,RDGave)+COUNTIF(CR$83:CR92,RDGevent)+CT$57-1","v":0},null,"","",{"$f":"COUNTIF(CV$83:CV92,OK)+COUNTIF(CV$83:CV92,RDGfix)+COUNTIF(CV$83:CV92,RDGave)+COUNTIF(CV$83:CV92,RDGevent)+CX$57-1","v":0},null,"","",{"$f":"COUNTIF(CZ$83:CZ92,OK)+COUNTIF(CZ$83:CZ92,RDGfix)+COUNTIF(CZ$83:CZ92,RDGave)+COUNTIF(CZ$83:CZ92,RDGevent)+DB$57-1","v":0},null,"","",{"$f":"COUNTIF(DD$83:DD92,OK)+COUNTIF(DD$83:DD92,RDGfix)+COUNTIF(DD$83:DD92,RDGave)+COUNTIF(DD$83:DD92,RDGevent)+DF$57-1","v":0},null,"","",{"$f":"COUNTIF(DH$83:DH92,OK)+COUNTIF(DH$83:DH92,RDGfix)+COUNTIF(DH$83:DH92,RDGave)+COUNTIF(DH$83:DH92,RDGevent)+DJ$57-1","v":0},null,"","",{"$f":"COUNTIF(DL$83:DL92,OK)+COUNTIF(DL$83:DL92,RDGfix)+COUNTIF(DL$83:DL92,RDGave)+COUNTIF(DL$83:DL92,RDGevent)+DN$57-1","v":0},null,"","",{"$f":"COUNTIF(DP$83:DP92,OK)+COUNTIF(DP$83:DP92,RDGfix)+COUNTIF(DP$83:DP92,RDGave)+COUNTIF(DP$83:DP92,RDGevent)+DR$57-1","v":0},null,"","",{"$f":"COUNTIF(DT$83:DT92,OK)+COUNTIF(DT$83:DT92,RDGfix)+COUNTIF(DT$83:DT92,RDGave)+COUNTIF(DT$83:DT92,RDGevent)+DV$57-1","v":0},null,"","",{"$f":"COUNTIF(DX$83:DX92,OK)+COUNTIF(DX$83:DX92,RDGfix)+COUNTIF(DX$83:DX92,RDGave)+COUNTIF(DX$83:DX92,RDGevent)+DZ$57-1","v":0},null,"","",{"$f":"COUNTIF(EB$83:EB92,OK)+COUNTIF(EB$83:EB92,RDGfix)+COUNTIF(EB$83:EB92,RDGave)+COUNTIF(EB$83:EB92,RDGevent)+ED$57-1","v":0},null,"","",{"$f":"COUNTIF(EF$83:EF92,OK)+COUNTIF(EF$83:EF92,RDGfix)+COUNTIF(EF$83:EF92,RDGave)+COUNTIF(EF$83:EF92,RDGevent)+EH$57-1","v":0},null,"","",{"$f":"COUNTIF(EJ$83:EJ92,OK)+COUNTIF(EJ$83:EJ92,RDGfix)+COUNTIF(EJ$83:EJ92,RDGave)+COUNTIF(EJ$83:EJ92,RDGevent)+EL$57-1","v":0},null,"","",{"$f":"COUNTIF(EN$83:EN92,OK)+COUNTIF(EN$83:EN92,RDGfix)+COUNTIF(EN$83:EN92,RDGave)+COUNTIF(EN$83:EN92,RDGevent)+EP$57-1","v":0},null,"","",{"$f":"COUNTIF(ER$83:ER92,OK)+COUNTIF(ER$83:ER92,RDGfix)+COUNTIF(ER$83:ER92,RDGave)+COUNTIF(ER$83:ER92,RDGevent)+ET$57-1","v":0},null,"","",{"$f":"COUNTIF(EV$83:EV92,OK)+COUNTIF(EV$83:EV92,RDGfix)+COUNTIF(EV$83:EV92,RDGave)+COUNTIF(EV$83:EV92,RDGevent)+EX$57-1","v":0},null,"","",{"$f":"COUNTIF(EZ$83:EZ92,OK)+COUNTIF(EZ$83:EZ92,RDGfix)+COUNTIF(EZ$83:EZ92,RDGave)+COUNTIF(EZ$83:EZ92,RDGevent)+FB$57-1","v":0},null,"","",{"$f":"COUNTIF(FD$83:FD92,OK)+COUNTIF(FD$83:FD92,RDGfix)+COUNTIF(FD$83:FD92,RDGave)+COUNTIF(FD$83:FD92,RDGevent)+FF$57-1","v":0},null,"","",{"$f":"COUNTIF(FH$83:FH92,OK)+COUNTIF(FH$83:FH92,RDGfix)+COUNTIF(FH$83:FH92,RDGave)+COUNTIF(FH$83:FH92,RDGevent)+FJ$57-1","v":0}]
[null,"11th",null,"","",{"$f":"COUNTIF(D$83:D93,OK)+COUNTIF(D$83:D93,RDGfix)+COUNTIF(D$83:D93,RDGave)+COUNTIF(D$83:D93,RDGevent)","v":0},null,"","",{"$f":"COUNTIF(H$83:H93,OK)+COUNTIF(H$83:H93,RDGfix)+COUNTIF(H$83:H93,RDGave)+COUNTIF(H$83:H93,RDGevent)+J$57-1","v":0},null,"","",{"$f":"COUNTIF(L$83:L93,OK)+COUNTIF(L$83:L93,RDGfix)+COUNTIF(L$83:L93,RDGave)+COUNTIF(L$83:L93,RDGevent)+N$57-1","v":0},null,"","",{"$f":"COUNTIF(P$83:P93,OK)+COUNTIF(P$83:P93,RDGfix)+COUNTIF(P$83:P93,RDGave)+COUNTIF(P$83:P93,RDGevent)+R$57-1","v":0},null,"","",{"$f":"COUNTIF(T$83:T93,OK)+COUNTIF(T$83:T93,RDGfix)+COUNTIF(T$83:T93,RDGave)+COUNTIF(T$83:T93,RDGevent)+V$57-1","v":0},null,"","",{"$f":"COUNTIF(X$83:X93,OK)+COUNTIF(X$83:X93,RDGfix)+COUNTIF(X$83:X93,RDGave)+COUNTIF(X$83:X93,RDGevent)+Z$57-1","v":0},null,"","",{"$f":"COUNTIF(AB$83:AB93,OK)+COUNTIF(AB$83:AB93,RDGfix)+COUNTIF(AB$83:AB93,RDGave)+COUNTIF(AB$83:AB93,RDGevent)+AD$57-1","v":0},null,"","",{"$f":"COUNTIF(AF$83:AF93,OK)+COUNTIF(AF$83:AF93,RDGfix)+COUNTIF(AF$83:AF93,RDGave)+COUNTIF(AF$83:AF93,RDGevent)+AH$57-1","v":0},null,"","",{"$f":"COUNTIF(AJ$83:AJ93,OK)+COUNTIF(AJ$83:AJ93,RDGfix)+COUNTIF(AJ$83:AJ93,RDGave)+COUNTIF(AJ$83:AJ93,RDGevent)+AL$57-1","v":0},null,"","",{"$f":"COUNTIF(AN$83:AN93,OK)+COUNTIF(AN$83:AN93,RDGfix)+COUNTIF(AN$83:AN93,RDGave)+COUNTIF(AN$83:AN93,RDGevent)+AP$57-1","v":0},null,"","",{"$f":"COUNTIF(AR$83:AR93,OK)+COUNTIF(AR$83:AR93,RDGfix)+COUNTIF(AR$83:AR93,RDGave)+COUNTIF(AR$83:AR93,RDGevent)+AT$57-1","v":0},null,"","",{"$f":"COUNTIF(AV$83:AV93,OK)+COUNTIF(AV$83:AV93,RDGfix)+COUNTIF(AV$83:AV93,RDGave)+COUNTIF(AV$83:AV93,RDGevent)+AX$57-1","v":0},null,"","",{"$f":"COUNTIF(AZ$83:AZ93,OK)+COUNTIF(AZ$83:AZ93,RDGfix)+COUNTIF(AZ$83:AZ93,RDGave)+COUNTIF(AZ$83:AZ93,RDGevent)+BB$57-1","v":0},null,"","",{"$f":"COUNTIF(BD$83:BD93,OK)+COUNTIF(BD$83:BD93,RDGfix)+COUNTIF(BD$83:BD93,RDGave)+COUNTIF(BD$83:BD93,RDGevent)+BF$57-1","v":0},null,"","",{"$f":"COUNTIF(BH$83:BH93,OK)+COUNTIF(BH$83:BH93,RDGfix)+COUNTIF(BH$83:BH93,RDGave)+COUNTIF(BH$83:BH93,RDGevent)+BJ$57-1","v":0},null,"","",{"$f":"COUNTIF(BL$83:BL93,OK)+COUNTIF(BL$83:BL93,RDGfix)+COUNTIF(BL$83:BL93,RDGave)+COUNTIF(BL$83:BL93,RDGevent)+BN$57-1","v":0},null,"","",{"$f":"COUNTIF(BP$83:BP93,OK)+COUNTIF(BP$83:BP93,RDGfix)+COUNTIF(BP$83:BP93,RDGave)+COUNTIF(BP$83:BP93,RDGevent)+BR$57-1","v":0},null,"","",{"$f":"COUNTIF(BT$83:BT93,OK)+COUNTIF(BT$83:BT93,RDGfix)+COUNTIF(BT$83:BT93,RDGave)+COUNTIF(BT$83:BT93,RDGevent)+BV$57-1","v":0},null,"","",{"$f":"COUNTIF(BX$83:BX93,OK)+COUNTIF(BX$83:BX93,RDGfix)+COUNTIF(BX$83:BX93,RDGave)+COUNTIF(BX$83:BX93,RDGevent)+BZ$57-1","v":0},null,"","",{"$f":"COUNTIF(CB$83:CB93,OK)+COUNTIF(CB$83:CB93,RDGfix)+COUNTIF(CB$83:CB93,RDGave)+COUNTIF(CB$83:CB93,RDGevent)+CD$57-1","v":0},null,"","",{"$f":"COUNTIF(CF$83:CF93,OK)+COUNTIF(CF$83:CF93,RDGfix)+COUNTIF(CF$83:CF93,RDGave)+COUNTIF(CF$83:CF93,RDGevent)+CH$57-1","v":0},null,"","",{"$f":"COUNTIF(CJ$83:CJ93,OK)+COUNTIF(CJ$83:CJ93,RDGfix)+COUNTIF(CJ$83:CJ93,RDGave)+COUNTIF(CJ$83:CJ93,RDGevent)+CL$57-1","v":0},null,"","",{"$f":"COUNTIF(CN$83:CN93,OK)+COUNTIF(CN$83:CN93,RDGfix)+COUNTIF(CN$83:CN93,RDGave)+COUNTIF(CN$83:CN93,RDGevent)+CP$57-1","v":0},null,"","",{"$f":"COUNTIF(CR$83:CR93,OK)+COUNTIF(CR$83:CR93,RDGfix)+COUNTIF(CR$83:CR93,RDGave)+COUNTIF(CR$83:CR93,RDGevent)+CT$57-1","v":0},null,"","",{"$f":"COUNTIF(CV$83:CV93,OK)+COUNTIF(CV$83:CV93,RDGfix)+COUNTIF(CV$83:CV93,RDGave)+COUNTIF(CV$83:CV93,RDGevent)+CX$57-1","v":0},null,"","",{"$f":"COUNTIF(CZ$83:CZ93,OK)+COUNTIF(CZ$83:CZ93,RDGfix)+COUNTIF(CZ$83:CZ93,RDGave)+COUNTIF(CZ$83:CZ93,RDGevent)+DB$57-1","v":0},null,"","",{"$f":"COUNTIF(DD$83:DD93,OK)+COUNTIF(DD$83:DD93,RDGfix)+COUNTIF(DD$83:DD93,RDGave)+COUNTIF(DD$83:DD93,RDGevent)+DF$57-1","v":0},null,"","",{"$f":"COUNTIF(DH$83:DH93,OK)+COUNTIF(DH$83:DH93,RDGfix)+COUNTIF(DH$83:DH93,RDGave)+COUNTIF(DH$83:DH93,RDGevent)+DJ$57-1","v":0},null,"","",{"$f":"COUNTIF(DL$83:DL93,OK)+COUNTIF(DL$83:DL93,RDGfix)+COUNTIF(DL$83:DL93,RDGave)+COUNTIF(DL$83:DL93,RDGevent)+DN$57-1","v":0},null,"","",{"$f":"COUNTIF(DP$83:DP93,OK)+COUNTIF(DP$83:DP93,RDGfix)+COUNTIF(DP$83:DP93,RDGave)+COUNTIF(DP$83:DP93,RDGevent)+DR$57-1","v":0},null,"","",{"$f":"COUNTIF(DT$83:DT93,OK)+COUNTIF(DT$83:DT93,RDGfix)+COUNTIF(DT$83:DT93,RDGave)+COUNTIF(DT$83:DT93,RDGevent)+DV$57-1","v":0},null,"","",{"$f":"COUNTIF(DX$83:DX93,OK)+COUNTIF(DX$83:DX93,RDGfix)+COUNTIF(DX$83:DX93,RDGave)+COUNTIF(DX$83:DX93,RDGevent)+DZ$57-1","v":0},null,"","",{"$f":"COUNTIF(EB$83:EB93,OK)+COUNTIF(EB$83:EB93,RDGfix)+COUNTIF(EB$83:EB93,RDGave)+COUNTIF(EB$83:EB93,RDGevent)+ED$57-1","v":0},null,"","",{"$f":"COUNTIF(EF$83:EF93,OK)+COUNTIF(EF$83:EF93,RDGfix)+COUNTIF(EF$83:EF93,RDGave)+COUNTIF(EF$83:EF93,RDGevent)+EH$57-1","v":0},null,"","",{"$f":"COUNTIF(EJ$83:EJ93,OK)+COUNTIF(EJ$83:EJ93,RDGfix)+COUNTIF(EJ$83:EJ93,RDGave)+COUNTIF(EJ$83:EJ93,RDGevent)+EL$57-1","v":0},null,"","",{"$f":"COUNTIF(EN$83:EN93,OK)+COUNTIF(EN$83:EN93,RDGfix)+COUNTIF(EN$83:EN93,RDGave)+COUNTIF(EN$83:EN93,RDGevent)+EP$57-1","v":0},null,"","",{"$f":"COUNTIF(ER$83:ER93,OK)+COUNTIF(ER$83:ER93,RDGfix)+COUNTIF(ER$83:ER93,RDGave)+COUNTIF(ER$83:ER93,RDGevent)+ET$57-1","v":0},null,"","",{"$f":"COUNTIF(EV$83:EV93,OK)+COUNTIF(EV$83:EV93,RDGfix)+COUNTIF(EV$83:EV93,RDGave)+COUNTIF(EV$83:EV93,RDGevent)+EX$57-1","v":0},null,"","",{"$f":"COUNTIF(EZ$83:EZ93,OK)+COUNTIF(EZ$83:EZ93,RDGfix)+COUNTIF(EZ$83:EZ93,RDGave)+COUNTIF(EZ$83:EZ93,RDGevent)+FB$57-1","v":0},null,"","",{"$f":"COUNTIF(FD$83:FD93,OK)+COUNTIF(FD$83:FD93,RDGfix)+COUNTIF(FD$83:FD93,RDGave)+COUNTIF(FD$83:FD93,RDGevent)+FF$57-1","v":0},null,"","",{"$f":"COUNTIF(FH$83:FH93,OK)+COUNTIF(FH$83:FH93,RDGfix)+COUNTIF(FH$83:FH93,RDGave)+COUNTIF(FH$83:FH93,RDGevent)+FJ$57-1","v":0}]
[null,"12th",null,"","",{"$f":"COUNTIF(D$83:D94,OK)+COUNTIF(D$83:D94,RDGfix)+COUNTIF(D$83:D94,RDGave)+COUNTIF(D$83:D94,RDGevent)","v":0},null,"","",{"$f":"COUNTIF(H$83:H94,OK)+COUNTIF(H$83:H94,RDGfix)+COUNTIF(H$83:H94,RDGave)+COUNTIF(H$83:H94,RDGevent)+J$57-1","v":0},null,"","",{"$f":"COUNTIF(L$83:L94,OK)+COUNTIF(L$83:L94,RDGfix)+COUNTIF(L$83:L94,RDGave)+COUNTIF(L$83:L94,RDGevent)+N$57-1","v":0},null,"","",{"$f":"COUNTIF(P$83:P94,OK)+COUNTIF(P$83:P94,RDGfix)+COUNTIF(P$83:P94,RDGave)+COUNTIF(P$83:P94,RDGevent)+R$57-1","v":0},null,"","",{"$f":"COUNTIF(T$83:T94,OK)+COUNTIF(T$83:T94,RDGfix)+COUNTIF(T$83:T94,RDGave)+COUNTIF(T$83:T94,RDGevent)+V$57-1","v":0},null,"","",{"$f":"COUNTIF(X$83:X94,OK)+COUNTIF(X$83:X94,RDGfix)+COUNTIF(X$83:X94,RDGave)+COUNTIF(X$83:X94,RDGevent)+Z$57-1","v":0},null,"","",{"$f":"COUNTIF(AB$83:AB94,OK)+COUNTIF(AB$83:AB94,RDGfix)+COUNTIF(AB$83:AB94,RDGave)+COUNTIF(AB$83:AB94,RDGevent)+AD$57-1","v":0},null,"","",{"$f":"COUNTIF(AF$83:AF94,OK)+COUNTIF(AF$83:AF94,RDGfix)+COUNTIF(AF$83:AF94,RDGave)+COUNTIF(AF$83:AF94,RDGevent)+AH$57-1","v":0},null,"","",{"$f":"COUNTIF(AJ$83:AJ94,OK)+COUNTIF(AJ$83:AJ94,RDGfix)+COUNTIF(AJ$83:AJ94,RDGave)+COUNTIF(AJ$83:AJ94,RDGevent)+AL$57-1","v":0},null,"","",{"$f":"COUNTIF(AN$83:AN94,OK)+COUNTIF(AN$83:AN94,RDGfix)+COUNTIF(AN$83:AN94,RDGave)+COUNTIF(AN$83:AN94,RDGevent)+AP$57-1","v":0},null,"","",{"$f":"COUNTIF(AR$83:AR94,OK)+COUNTIF(AR$83:AR94,RDGfix)+COUNTIF(AR$83:AR94,RDGave)+COUNTIF(AR$83:AR94,RDGevent)+AT$57-1","v":0},null,"","",{"$f":"COUNTIF(AV$83:AV94,OK)+COUNTIF(AV$83:AV94,RDGfix)+COUNTIF(AV$83:AV94,RDGave)+COUNTIF(AV$83:AV94,RDGevent)+AX$57-1","v":0},null,"","",{"$f":"COUNTIF(AZ$83:AZ94,OK)+COUNTIF(AZ$83:AZ94,RDGfix)+COUNTIF(AZ$83:AZ94,RDGave)+COUNTIF(AZ$83:AZ94,RDGevent)+BB$57-1","v":0},null,"","",{"$f":"COUNTIF(BD$83:BD94,OK)+COUNTIF(BD$83:BD94,RDGfix)+COUNTIF(BD$83:BD94,RDGave)+COUNTIF(BD$83:BD94,RDGevent)+BF$57-1","v":0},null,"","",{"$f":"COUNTIF(BH$83:BH94,OK)+COUNTIF(BH$83:BH94,RDGfix)+COUNTIF(BH$83:BH94,RDGave)+COUNTIF(BH$83:BH94,RDGevent)+BJ$57-1","v":0},null,"","",{"$f":"COUNTIF(BL$83:BL94,OK)+COUNTIF(BL$83:BL94,RDGfix)+COUNTIF(BL$83:BL94,RDGave)+COUNTIF(BL$83:BL94,RDGevent)+BN$57-1","v":0},null,"","",{"$f":"COUNTIF(BP$83:BP94,OK)+COUNTIF(BP$83:BP94,RDGfix)+COUNTIF(BP$83:BP94,RDGave)+COUNTIF(BP$83:BP94,RDGevent)+BR$57-1","v":0},null,"","",{"$f":"COUNTIF(BT$83:BT94,OK)+COUNTIF(BT$83:BT94,RDGfix)+COUNTIF(BT$83:BT94,RDGave)+COUNTIF(BT$83:BT94,RDGevent)+BV$57-1","v":0},null,"","",{"$f":"COUNTIF(BX$83:BX94,OK)+COUNTIF(BX$83:BX94,RDGfix)+COUNTIF(BX$83:BX94,RDGave)+COUNTIF(BX$83:BX94,RDGevent)+BZ$57-1","v":0},null,"","",{"$f":"COUNTIF(CB$83:CB94,OK)+COUNTIF(CB$83:CB94,RDGfix)+COUNTIF(CB$83:CB94,RDGave)+COUNTIF(CB$83:CB94,RDGevent)+CD$57-1","v":0},null,"","",{"$f":"COUNTIF(CF$83:CF94,OK)+COUNTIF(CF$83:CF94,RDGfix)+COUNTIF(CF$83:CF94,RDGave)+COUNTIF(CF$83:CF94,RDGevent)+CH$57-1","v":0},null,"","",{"$f":"COUNTIF(CJ$83:CJ94,OK)+COUNTIF(CJ$83:CJ94,RDGfix)+COUNTIF(CJ$83:CJ94,RDGave)+COUNTIF(CJ$83:CJ94,RDGevent)+CL$57-1","v":0},null,"","",{"$f":"COUNTIF(CN$83:CN94,OK)+COUNTIF(CN$83:CN94,RDGfix)+COUNTIF(CN$83:CN94,RDGave)+COUNTIF(CN$83:CN94,RDGevent)+CP$57-1","v":0},null,"","",{"$f":"COUNTIF(CR$83:CR94,OK)+COUNTIF(CR$83:CR94,RDGfix)+COUNTIF(CR$83:CR94,RDGave)+COUNTIF(CR$83:CR94,RDGevent)+CT$57-1","v":0},null,"","",{"$f":"COUNTIF(CV$83:CV94,OK)+COUNTIF(CV$83:CV94,RDGfix)+COUNTIF(CV$83:CV94,RDGave)+COUNTIF(CV$83:CV94,RDGevent)+CX$57-1","v":0},null,"","",{"$f":"COUNTIF(CZ$83:CZ94,OK)+COUNTIF(CZ$83:CZ94,RDGfix)+COUNTIF(CZ$83:CZ94,RDGave)+COUNTIF(CZ$83:CZ94,RDGevent)+DB$57-1","v":0},null,"","",{"$f":"COUNTIF(DD$83:DD94,OK)+COUNTIF(DD$83:DD94,RDGfix)+COUNTIF(DD$83:DD94,RDGave)+COUNTIF(DD$83:DD94,RDGevent)+DF$57-1","v":0},null,"","",{"$f":"COUNTIF(DH$83:DH94,OK)+COUNTIF(DH$83:DH94,RDGfix)+COUNTIF(DH$83:DH94,RDGave)+COUNTIF(DH$83:DH94,RDGevent)+DJ$57-1","v":0},null,"","",{"$f":"COUNTIF(DL$83:DL94,OK)+COUNTIF(DL$83:DL94,RDGfix)+COUNTIF(DL$83:DL94,RDGave)+COUNTIF(DL$83:DL94,RDGevent)+DN$57-1","v":0},null,"","",{"$f":"COUNTIF(DP$83:DP94,OK)+COUNTIF(DP$83:DP94,RDGfix)+COUNTIF(DP$83:DP94,RDGave)+COUNTIF(DP$83:DP94,RDGevent)+DR$57-1","v":0},null,"","",{"$f":"COUNTIF(DT$83:DT94,OK)+COUNTIF(DT$83:DT94,RDGfix)+COUNTIF(DT$83:DT94,RDGave)+COUNTIF(DT$83:DT94,RDGevent)+DV$57-1","v":0},null,"","",{"$f":"COUNTIF(DX$83:DX94,OK)+COUNTIF(DX$83:DX94,RDGfix)+COUNTIF(DX$83:DX94,RDGave)+COUNTIF(DX$83:DX94,RDGevent)+DZ$57-1","v":0},null,"","",{"$f":"COUNTIF(EB$83:EB94,OK)+COUNTIF(EB$83:EB94,RDGfix)+COUNTIF(EB$83:EB94,RDGave)+COUNTIF(EB$83:EB94,RDGevent)+ED$57-1","v":0},null,"","",{"$f":"COUNTIF(EF$83:EF94,OK)+COUNTIF(EF$83:EF94,RDGfix)+COUNTIF(EF$83:EF94,RDGave)+COUNTIF(EF$83:EF94,RDGevent)+EH$57-1","v":0},null,"","",{"$f":"COUNTIF(EJ$83:EJ94,OK)+COUNTIF(EJ$83:EJ94,RDGfix)+COUNTIF(EJ$83:EJ94,RDGave)+COUNTIF(EJ$83:EJ94,RDGevent)+EL$57-1","v":0},null,"","",{"$f":"COUNTIF(EN$83:EN94,OK)+COUNTIF(EN$83:EN94,RDGfix)+COUNTIF(EN$83:EN94,RDGave)+COUNTIF(EN$83:EN94,RDGevent)+EP$57-1","v":0},null,"","",{"$f":"COUNTIF(ER$83:ER94,OK)+COUNTIF(ER$83:ER94,RDGfix)+COUNTIF(ER$83:ER94,RDGave)+COUNTIF(ER$83:ER94,RDGevent)+ET$57-1","v":0},null,"","",{"$f":"COUNTIF(EV$83:EV94,OK)+COUNTIF(EV$83:EV94,RDGfix)+COUNTIF(EV$83:EV94,RDGave)+COUNTIF(EV$83:EV94,RDGevent)+EX$57-1","v":0},null,"","",{"$f":"COUNTIF(EZ$83:EZ94,OK)+COUNTIF(EZ$83:EZ94,RDGfix)+COUNTIF(EZ$83:EZ94,RDGave)+COUNTIF(EZ$83:EZ94,RDGevent)+FB$57-1","v":0},null,"","",{"$f":"COUNTIF(FD$83:FD94,OK)+COUNTIF(FD$83:FD94,RDGfix)+COUNTIF(FD$83:FD94,RDGave)+COUNTIF(FD$83:FD94,RDGevent)+FF$57-1","v":0},null,"","",{"$f":"COUNTIF(FH$83:FH94,OK)+COUNTIF(FH$83:FH94,RDGfix)+COUNTIF(FH$83:FH94,RDGave)+COUNTIF(FH$83:FH94,RDGevent)+FJ$57-1","v":0}]
[null,"13th",null,"","",{"$f":"COUNTIF(D$83:D95,OK)+COUNTIF(D$83:D95,RDGfix)+COUNTIF(D$83:D95,RDGave)+COUNTIF(D$83:D95,RDGevent)","v":0},null,"","",{"$f":"COUNTIF(H$83:H95,OK)+COUNTIF(H$83:H95,RDGfix)+COUNTIF(H$83:H95,RDGave)+COUNTIF(H$83:H95,RDGevent)+J$57-1","v":0},null,"","",{"$f":"COUNTIF(L$83:L95,OK)+COUNTIF(L$83:L95,RDGfix)+COUNTIF(L$83:L95,RDGave)+COUNTIF(L$83:L95,RDGevent)+N$57-1","v":0},null,"","",{"$f":"COUNTIF(P$83:P95,OK)+COUNTIF(P$83:P95,RDGfix)+COUNTIF(P$83:P95,RDGave)+COUNTIF(P$83:P95,RDGevent)+R$57-1","v":0},null,"","",{"$f":"COUNTIF(T$83:T95,OK)+COUNTIF(T$83:T95,RDGfix)+COUNTIF(T$83:T95,RDGave)+COUNTIF(T$83:T95,RDGevent)+V$57-1","v":0},null,"","",{"$f":"COUNTIF(X$83:X95,OK)+COUNTIF(X$83:X95,RDGfix)+COUNTIF(X$83:X95,RDGave)+COUNTIF(X$83:X95,RDGevent)+Z$57-1","v":0},null,"","",{"$f":"COUNTIF(AB$83:AB95,OK)+COUNTIF(AB$83:AB95,RDGfix)+COUNTIF(AB$83:AB95,RDGave)+COUNTIF(AB$83:AB95,RDGevent)+AD$57-1","v":0},null,"","",{"$f":"COUNTIF(AF$83:AF95,OK)+COUNTIF(AF$83:AF95,RDGfix)+COUNTIF(AF$83:AF95,RDGave)+COUNTIF(AF$83:AF95,RDGevent)+AH$57-1","v":0},null,"","",{"$f":"COUNTIF(AJ$83:AJ95,OK)+COUNTIF(AJ$83:AJ95,RDGfix)+COUNTIF(AJ$83:AJ95,RDGave)+COUNTIF(AJ$83:AJ95,RDGevent)+AL$57-1","v":0},null,"","",{"$f":"COUNTIF(AN$83:AN95,OK)+COUNTIF(AN$83:AN95,RDGfix)+COUNTIF(AN$83:AN95,RDGave)+COUNTIF(AN$83:AN95,RDGevent)+AP$57-1","v":0},null,"","",{"$f":"COUNTIF(AR$83:AR95,OK)+COUNTIF(AR$83:AR95,RDGfix)+COUNTIF(AR$83:AR95,RDGave)+COUNTIF(AR$83:AR95,RDGevent)+AT$57-1","v":0},null,"","",{"$f":"COUNTIF(AV$83:AV95,OK)+COUNTIF(AV$83:AV95,RDGfix)+COUNTIF(AV$83:AV95,RDGave)+COUNTIF(AV$83:AV95,RDGevent)+AX$57-1","v":0},null,"","",{"$f":"COUNTIF(AZ$83:AZ95,OK)+COUNTIF(AZ$83:AZ95,RDGfix)+COUNTIF(AZ$83:AZ95,RDGave)+COUNTIF(AZ$83:AZ95,RDGevent)+BB$57-1","v":0},null,"","",{"$f":"COUNTIF(BD$83:BD95,OK)+COUNTIF(BD$83:BD95,RDGfix)+COUNTIF(BD$83:BD95,RDGave)+COUNTIF(BD$83:BD95,RDGevent)+BF$57-1","v":0},null,"","",{"$f":"COUNTIF(BH$83:BH95,OK)+COUNTIF(BH$83:BH95,RDGfix)+COUNTIF(BH$83:BH95,RDGave)+COUNTIF(BH$83:BH95,RDGevent)+BJ$57-1","v":0},null,"","",{"$f":"COUNTIF(BL$83:BL95,OK)+COUNTIF(BL$83:BL95,RDGfix)+COUNTIF(BL$83:BL95,RDGave)+COUNTIF(BL$83:BL95,RDGevent)+BN$57-1","v":0},null,"","",{"$f":"COUNTIF(BP$83:BP95,OK)+COUNTIF(BP$83:BP95,RDGfix)+COUNTIF(BP$83:BP95,RDGave)+COUNTIF(BP$83:BP95,RDGevent)+BR$57-1","v":0},null,"","",{"$f":"COUNTIF(BT$83:BT95,OK)+COUNTIF(BT$83:BT95,RDGfix)+COUNTIF(BT$83:BT95,RDGave)+COUNTIF(BT$83:BT95,RDGevent)+BV$57-1","v":0},null,"","",{"$f":"COUNTIF(BX$83:BX95,OK)+COUNTIF(BX$83:BX95,RDGfix)+COUNTIF(BX$83:BX95,RDGave)+COUNTIF(BX$83:BX95,RDGevent)+BZ$57-1","v":0},null,"","",{"$f":"COUNTIF(CB$83:CB95,OK)+COUNTIF(CB$83:CB95,RDGfix)+COUNTIF(CB$83:CB95,RDGave)+COUNTIF(CB$83:CB95,RDGevent)+CD$57-1","v":0},null,"","",{"$f":"COUNTIF(CF$83:CF95,OK)+COUNTIF(CF$83:CF95,RDGfix)+COUNTIF(CF$83:CF95,RDGave)+COUNTIF(CF$83:CF95,RDGevent)+CH$57-1","v":0},null,"","",{"$f":"COUNTIF(CJ$83:CJ95,OK)+COUNTIF(CJ$83:CJ95,RDGfix)+COUNTIF(CJ$83:CJ95,RDGave)+COUNTIF(CJ$83:CJ95,RDGevent)+CL$57-1","v":0},null,"","",{"$f":"COUNTIF(CN$83:CN95,OK)+COUNTIF(CN$83:CN95,RDGfix)+COUNTIF(CN$83:CN95,RDGave)+COUNTIF(CN$83:CN95,RDGevent)+CP$57-1","v":0},null,"","",{"$f":"COUNTIF(CR$83:CR95,OK)+COUNTIF(CR$83:CR95,RDGfix)+COUNTIF(CR$83:CR95,RDGave)+COUNTIF(CR$83:CR95,RDGevent)+CT$57-1","v":0},null,"","",{"$f":"COUNTIF(CV$83:CV95,OK)+COUNTIF(CV$83:CV95,RDGfix)+COUNTIF(CV$83:CV95,RDGave)+COUNTIF(CV$83:CV95,RDGevent)+CX$57-1","v":0},null,"","",{"$f":"COUNTIF(CZ$83:CZ95,OK)+COUNTIF(CZ$83:CZ95,RDGfix)+COUNTIF(CZ$83:CZ95,RDGave)+COUNTIF(CZ$83:CZ95,RDGevent)+DB$57-1","v":0},null,"","",{"$f":"COUNTIF(DD$83:DD95,OK)+COUNTIF(DD$83:DD95,RDGfix)+COUNTIF(DD$83:DD95,RDGave)+COUNTIF(DD$83:DD95,RDGevent)+DF$57-1","v":0},null,"","",{"$f":"COUNTIF(DH$83:DH95,OK)+COUNTIF(DH$83:DH95,RDGfix)+COUNTIF(DH$83:DH95,RDGave)+COUNTIF(DH$83:DH95,RDGevent)+DJ$57-1","v":0},null,"","",{"$f":"COUNTIF(DL$83:DL95,OK)+COUNTIF(DL$83:DL95,RDGfix)+COUNTIF(DL$83:DL95,RDGave)+COUNTIF(DL$83:DL95,RDGevent)+DN$57-1","v":0},null,"","",{"$f":"COUNTIF(DP$83:DP95,OK)+COUNTIF(DP$83:DP95,RDGfix)+COUNTIF(DP$83:DP95,RDGave)+COUNTIF(DP$83:DP95,RDGevent)+DR$57-1","v":0},null,"","",{"$f":"COUNTIF(DT$83:DT95,OK)+COUNTIF(DT$83:DT95,RDGfix)+COUNTIF(DT$83:DT95,RDGave)+COUNTIF(DT$83:DT95,RDGevent)+DV$57-1","v":0},null,"","",{"$f":"COUNTIF(DX$83:DX95,OK)+COUNTIF(DX$83:DX95,RDGfix)+COUNTIF(DX$83:DX95,RDGave)+COUNTIF(DX$83:DX95,RDGevent)+DZ$57-1","v":0},null,"","",{"$f":"COUNTIF(EB$83:EB95,OK)+COUNTIF(EB$83:EB95,RDGfix)+COUNTIF(EB$83:EB95,RDGave)+COUNTIF(EB$83:EB95,RDGevent)+ED$57-1","v":0},null,"","",{"$f":"COUNTIF(EF$83:EF95,OK)+COUNTIF(EF$83:EF95,RDGfix)+COUNTIF(EF$83:EF95,RDGave)+COUNTIF(EF$83:EF95,RDGevent)+EH$57-1","v":0},null,"","",{"$f":"COUNTIF(EJ$83:EJ95,OK)+COUNTIF(EJ$83:EJ95,RDGfix)+COUNTIF(EJ$83:EJ95,RDGave)+COUNTIF(EJ$83:EJ95,RDGevent)+EL$57-1","v":0},null,"","",{"$f":"COUNTIF(EN$83:EN95,OK)+COUNTIF(EN$83:EN95,RDGfix)+COUNTIF(EN$83:EN95,RDGave)+COUNTIF(EN$83:EN95,RDGevent)+EP$57-1","v":0},null,"","",{"$f":"COUNTIF(ER$83:ER95,OK)+COUNTIF(ER$83:ER95,RDGfix)+COUNTIF(ER$83:ER95,RDGave)+COUNTIF(ER$83:ER95,RDGevent)+ET$57-1","v":0},null,"","",{"$f":"COUNTIF(EV$83:EV95,OK)+COUNTIF(EV$83:EV95,RDGfix)+COUNTIF(EV$83:EV95,RDGave)+COUNTIF(EV$83:EV95,RDGevent)+EX$57-1","v":0},null,"","",{"$f":"COUNTIF(EZ$83:EZ95,OK)+COUNTIF(EZ$83:EZ95,RDGfix)+COUNTIF(EZ$83:EZ95,RDGave)+COUNTIF(EZ$83:EZ95,RDGevent)+FB$57-1","v":0},null,"","",{"$f":"COUNTIF(FD$83:FD95,OK)+COUNTIF(FD$83:FD95,RDGfix)+COUNTIF(FD$83:FD95,RDGave)+COUNTIF(FD$83:FD95,RDGevent)+FF$57-1","v":0},null,"","",{"$f":"COUNTIF(FH$83:FH95,OK)+COUNTIF(FH$83:FH95,RDGfix)+COUNTIF(FH$83:FH95,RDGave)+COUNTIF(FH$83:FH95,RDGevent)+FJ$57-1","v":0}]
[null,"14th",null,"","",{"$f":"COUNTIF(D$83:D96,OK)+COUNTIF(D$83:D96,RDGfix)+COUNTIF(D$83:D96,RDGave)+COUNTIF(D$83:D96,RDGevent)","v":0},null,"","",{"$f":"COUNTIF(H$83:H96,OK)+COUNTIF(H$83:H96,RDGfix)+COUNTIF(H$83:H96,RDGave)+COUNTIF(H$83:H96,RDGevent)+J$57-1","v":0},null,"","",{"$f":"COUNTIF(L$83:L96,OK)+COUNTIF(L$83:L96,RDGfix)+COUNTIF(L$83:L96,RDGave)+COUNTIF(L$83:L96,RDGevent)+N$57-1","v":0},null,"","",{"$f":"COUNTIF(P$83:P96,OK)+COUNTIF(P$83:P96,RDGfix)+COUNTIF(P$83:P96,RDGave)+COUNTIF(P$83:P96,RDGevent)+R$57-1","v":0},null,"","",{"$f":"COUNTIF(T$83:T96,OK)+COUNTIF(T$83:T96,RDGfix)+COUNTIF(T$83:T96,RDGave)+COUNTIF(T$83:T96,RDGevent)+V$57-1","v":0},null,"","",{"$f":"COUNTIF(X$83:X96,OK)+COUNTIF(X$83:X96,RDGfix)+COUNTIF(X$83:X96,RDGave)+COUNTIF(X$83:X96,RDGevent)+Z$57-1","v":0},null,"","",{"$f":"COUNTIF(AB$83:AB96,OK)+COUNTIF(AB$83:AB96,RDGfix)+COUNTIF(AB$83:AB96,RDGave)+COUNTIF(AB$83:AB96,RDGevent)+AD$57-1","v":0},null,"","",{"$f":"COUNTIF(AF$83:AF96,OK)+COUNTIF(AF$83:AF96,RDGfix)+COUNTIF(AF$83:AF96,RDGave)+COUNTIF(AF$83:AF96,RDGevent)+AH$57-1","v":0},null,"","",{"$f":"COUNTIF(AJ$83:AJ96,OK)+COUNTIF(AJ$83:AJ96,RDGfix)+COUNTIF(AJ$83:AJ96,RDGave)+COUNTIF(AJ$83:AJ96,RDGevent)+AL$57-1","v":0},null,"","",{"$f":"COUNTIF(AN$83:AN96,OK)+COUNTIF(AN$83:AN96,RDGfix)+COUNTIF(AN$83:AN96,RDGave)+COUNTIF(AN$83:AN96,RDGevent)+AP$57-1","v":0},null,"","",{"$f":"COUNTIF(AR$83:AR96,OK)+COUNTIF(AR$83:AR96,RDGfix)+COUNTIF(AR$83:AR96,RDGave)+COUNTIF(AR$83:AR96,RDGevent)+AT$57-1","v":0},null,"","",{"$f":"COUNTIF(AV$83:AV96,OK)+COUNTIF(AV$83:AV96,RDGfix)+COUNTIF(AV$83:AV96,RDGave)+COUNTIF(AV$83:AV96,RDGevent)+AX$57-1","v":0},null,"","",{"$f":"COUNTIF(AZ$83:AZ96,OK)+COUNTIF(AZ$83:AZ96,RDGfix)+COUNTIF(AZ$83:AZ96,RDGave)+COUNTIF(AZ$83:AZ96,RDGevent)+BB$57-1","v":0},null,"","",{"$f":"COUNTIF(BD$83:BD96,OK)+COUNTIF(BD$83:BD96,RDGfix)+COUNTIF(BD$83:BD96,RDGave)+COUNTIF(BD$83:BD96,RDGevent)+BF$57-1","v":0},null,"","",{"$f":"COUNTIF(BH$83:BH96,OK)+COUNTIF(BH$83:BH96,RDGfix)+COUNTIF(BH$83:BH96,RDGave)+COUNTIF(BH$83:BH96,RDGevent)+BJ$57-1","v":0},null,"","",{"$f":"COUNTIF(BL$83:BL96,OK)+COUNTIF(BL$83:BL96,RDGfix)+COUNTIF(BL$83:BL96,RDGave)+COUNTIF(BL$83:BL96,RDGevent)+BN$57-1","v":0},null,"","",{"$f":"COUNTIF(BP$83:BP96,OK)+COUNTIF(BP$83:BP96,RDGfix)+COUNTIF(BP$83:BP96,RDGave)+COUNTIF(BP$83:BP96,RDGevent)+BR$57-1","v":0},null,"","",{"$f":"COUNTIF(BT$83:BT96,OK)+COUNTIF(BT$83:BT96,RDGfix)+COUNTIF(BT$83:BT96,RDGave)+COUNTIF(BT$83:BT96,RDGevent)+BV$57-1","v":0},null,"","",{"$f":"COUNTIF(BX$83:BX96,OK)+COUNTIF(BX$83:BX96,RDGfix)+COUNTIF(BX$83:BX96,RDGave)+COUNTIF(BX$83:BX96,RDGevent)+BZ$57-1","v":0},null,"","",{"$f":"COUNTIF(CB$83:CB96,OK)+COUNTIF(CB$83:CB96,RDGfix)+COUNTIF(CB$83:CB96,RDGave)+COUNTIF(CB$83:CB96,RDGevent)+CD$57-1","v":0},null,"","",{"$f":"COUNTIF(CF$83:CF96,OK)+COUNTIF(CF$83:CF96,RDGfix)+COUNTIF(CF$83:CF96,RDGave)+COUNTIF(CF$83:CF96,RDGevent)+CH$57-1","v":0},null,"","",{"$f":"COUNTIF(CJ$83:CJ96,OK)+COUNTIF(CJ$83:CJ96,RDGfix)+COUNTIF(CJ$83:CJ96,RDGave)+COUNTIF(CJ$83:CJ96,RDGevent)+CL$57-1","v":0},null,"","",{"$f":"COUNTIF(CN$83:CN96,OK)+COUNTIF(CN$83:CN96,RDGfix)+COUNTIF(CN$83:CN96,RDGave)+COUNTIF(CN$83:CN96,RDGevent)+CP$57-1","v":0},null,"","",{"$f":"COUNTIF(CR$83:CR96,OK)+COUNTIF(CR$83:CR96,RDGfix)+COUNTIF(CR$83:CR96,RDGave)+COUNTIF(CR$83:CR96,RDGevent)+CT$57-1","v":0},null,"","",{"$f":"COUNTIF(CV$83:CV96,OK)+COUNTIF(CV$83:CV96,RDGfix)+COUNTIF(CV$83:CV96,RDGave)+COUNTIF(CV$83:CV96,RDGevent)+CX$57-1","v":0},null,"","",{"$f":"COUNTIF(CZ$83:CZ96,OK)+COUNTIF(CZ$83:CZ96,RDGfix)+COUNTIF(CZ$83:CZ96,RDGave)+COUNTIF(CZ$83:CZ96,RDGevent)+DB$57-1","v":0},null,"","",{"$f":"COUNTIF(DD$83:DD96,OK)+COUNTIF(DD$83:DD96,RDGfix)+COUNTIF(DD$83:DD96,RDGave)+COUNTIF(DD$83:DD96,RDGevent)+DF$57-1","v":0},null,"","",{"$f":"COUNTIF(DH$83:DH96,OK)+COUNTIF(DH$83:DH96,RDGfix)+COUNTIF(DH$83:DH96,RDGave)+COUNTIF(DH$83:DH96,RDGevent)+DJ$57-1","v":0},null,"","",{"$f":"COUNTIF(DL$83:DL96,OK)+COUNTIF(DL$83:DL96,RDGfix)+COUNTIF(DL$83:DL96,RDGave)+COUNTIF(DL$83:DL96,RDGevent)+DN$57-1","v":0},null,"","",{"$f":"COUNTIF(DP$83:DP96,OK)+COUNTIF(DP$83:DP96,RDGfix)+COUNTIF(DP$83:DP96,RDGave)+COUNTIF(DP$83:DP96,RDGevent)+DR$57-1","v":0},null,"","",{"$f":"COUNTIF(DT$83:DT96,OK)+COUNTIF(DT$83:DT96,RDGfix)+COUNTIF(DT$83:DT96,RDGave)+COUNTIF(DT$83:DT96,RDGevent)+DV$57-1","v":0},null,"","",{"$f":"COUNTIF(DX$83:DX96,OK)+COUNTIF(DX$83:DX96,RDGfix)+COUNTIF(DX$83:DX96,RDGave)+COUNTIF(DX$83:DX96,RDGevent)+DZ$57-1","v":0},null,"","",{"$f":"COUNTIF(EB$83:EB96,OK)+COUNTIF(EB$83:EB96,RDGfix)+COUNTIF(EB$83:EB96,RDGave)+COUNTIF(EB$83:EB96,RDGevent)+ED$57-1","v":0},null,"","",{"$f":"COUNTIF(EF$83:EF96,OK)+COUNTIF(EF$83:EF96,RDGfix)+COUNTIF(EF$83:EF96,RDGave)+COUNTIF(EF$83:EF96,RDGevent)+EH$57-1","v":0},null,"","",{"$f":"COUNTIF(EJ$83:EJ96,OK)+COUNTIF(EJ$83:EJ96,RDGfix)+COUNTIF(EJ$83:EJ96,RDGave)+COUNTIF(EJ$83:EJ96,RDGevent)+EL$57-1","v":0},null,"","",{"$f":"COUNTIF(EN$83:EN96,OK)+COUNTIF(EN$83:EN96,RDGfix)+COUNTIF(EN$83:EN96,RDGave)+COUNTIF(EN$83:EN96,RDGevent)+EP$57-1","v":0},null,"","",{"$f":"COUNTIF(ER$83:ER96,OK)+COUNTIF(ER$83:ER96,RDGfix)+COUNTIF(ER$83:ER96,RDGave)+COUNTIF(ER$83:ER96,RDGevent)+ET$57-1","v":0},null,"","",{"$f":"COUNTIF(EV$83:EV96,OK)+COUNTIF(EV$83:EV96,RDGfix)+COUNTIF(EV$83:EV96,RDGave)+COUNTIF(EV$83:EV96,RDGevent)+EX$57-1","v":0},null,"","",{"$f":"COUNTIF(EZ$83:EZ96,OK)+COUNTIF(EZ$83:EZ96,RDGfix)+COUNTIF(EZ$83:EZ96,RDGave)+COUNTIF(EZ$83:EZ96,RDGevent)+FB$57-1","v":0},null,"","",{"$f":"COUNTIF(FD$83:FD96,OK)+COUNTIF(FD$83:FD96,RDGfix)+COUNTIF(FD$83:FD96,RDGave)+COUNTIF(FD$83:FD96,RDGevent)+FF$57-1","v":0},null,"","",{"$f":"COUNTIF(FH$83:FH96,OK)+COUNTIF(FH$83:FH96,RDGfix)+COUNTIF(FH$83:FH96,RDGave)+COUNTIF(FH$83:FH96,RDGevent)+FJ$57-1","v":0}]
[null,"15th",null,"","",{"$f":"COUNTIF(D$83:D97,OK)+COUNTIF(D$83:D97,RDGfix)+COUNTIF(D$83:D97,RDGave)+COUNTIF(D$83:D97,RDGevent)","v":0},null,"","",{"$f":"COUNTIF(H$83:H97,OK)+COUNTIF(H$83:H97,RDGfix)+COUNTIF(H$83:H97,RDGave)+COUNTIF(H$83:H97,RDGevent)+J$57-1","v":0},null,"","",{"$f":"COUNTIF(L$83:L97,OK)+COUNTIF(L$83:L97,RDGfix)+COUNTIF(L$83:L97,RDGave)+COUNTIF(L$83:L97,RDGevent)+N$57-1","v":0},null,"","",{"$f":"COUNTIF(P$83:P97,OK)+COUNTIF(P$83:P97,RDGfix)+COUNTIF(P$83:P97,RDGave)+COUNTIF(P$83:P97,RDGevent)+R$57-1","v":0},null,"","",{"$f":"COUNTIF(T$83:T97,OK)+COUNTIF(T$83:T97,RDGfix)+COUNTIF(T$83:T97,RDGave)+COUNTIF(T$83:T97,RDGevent)+V$57-1","v":0},null,"","",{"$f":"COUNTIF(X$83:X97,OK)+COUNTIF(X$83:X97,RDGfix)+COUNTIF(X$83:X97,RDGave)+COUNTIF(X$83:X97,RDGevent)+Z$57-1","v":0},null,"","",{"$f":"COUNTIF(AB$83:AB97,OK)+COUNTIF(AB$83:AB97,RDGfix)+COUNTIF(AB$83:AB97,RDGave)+COUNTIF(AB$83:AB97,RDGevent)+AD$57-1","v":0},null,"","",{"$f":"COUNTIF(AF$83:AF97,OK)+COUNTIF(AF$83:AF97,RDGfix)+COUNTIF(AF$83:AF97,RDGave)+COUNTIF(AF$83:AF97,RDGevent)+AH$57-1","v":0},null,"","",{"$f":"COUNTIF(AJ$83:AJ97,OK)+COUNTIF(AJ$83:AJ97,RDGfix)+COUNTIF(AJ$83:AJ97,RDGave)+COUNTIF(AJ$83:AJ97,RDGevent)+AL$57-1","v":0},null,"","",{"$f":"COUNTIF(AN$83:AN97,OK)+COUNTIF(AN$83:AN97,RDGfix)+COUNTIF(AN$83:AN97,RDGave)+COUNTIF(AN$83:AN97,RDGevent)+AP$57-1","v":0},null,"","",{"$f":"COUNTIF(AR$83:AR97,OK)+COUNTIF(AR$83:AR97,RDGfix)+COUNTIF(AR$83:AR97,RDGave)+COUNTIF(AR$83:AR97,RDGevent)+AT$57-1","v":0},null,"","",{"$f":"COUNTIF(AV$83:AV97,OK)+COUNTIF(AV$83:AV97,RDGfix)+COUNTIF(AV$83:AV97,RDGave)+COUNTIF(AV$83:AV97,RDGevent)+AX$57-1","v":0},null,"","",{"$f":"COUNTIF(AZ$83:AZ97,OK)+COUNTIF(AZ$83:AZ97,RDGfix)+COUNTIF(AZ$83:AZ97,RDGave)+COUNTIF(AZ$83:AZ97,RDGevent)+BB$57-1","v":0},null,"","",{"$f":"COUNTIF(BD$83:BD97,OK)+COUNTIF(BD$83:BD97,RDGfix)+COUNTIF(BD$83:BD97,RDGave)+COUNTIF(BD$83:BD97,RDGevent)+BF$57-1","v":0},null,"","",{"$f":"COUNTIF(BH$83:BH97,OK)+COUNTIF(BH$83:BH97,RDGfix)+COUNTIF(BH$83:BH97,RDGave)+COUNTIF(BH$83:BH97,RDGevent)+BJ$57-1","v":0},null,"","",{"$f":"COUNTIF(BL$83:BL97,OK)+COUNTIF(BL$83:BL97,RDGfix)+COUNTIF(BL$83:BL97,RDGave)+COUNTIF(BL$83:BL97,RDGevent)+BN$57-1","v":0},null,"","",{"$f":"COUNTIF(BP$83:BP97,OK)+COUNTIF(BP$83:BP97,RDGfix)+COUNTIF(BP$83:BP97,RDGave)+COUNTIF(BP$83:BP97,RDGevent)+BR$57-1","v":0},null,"","",{"$f":"COUNTIF(BT$83:BT97,OK)+COUNTIF(BT$83:BT97,RDGfix)+COUNTIF(BT$83:BT97,RDGave)+COUNTIF(BT$83:BT97,RDGevent)+BV$57-1","v":0},null,"","",{"$f":"COUNTIF(BX$83:BX97,OK)+COUNTIF(BX$83:BX97,RDGfix)+COUNTIF(BX$83:BX97,RDGave)+COUNTIF(BX$83:BX97,RDGevent)+BZ$57-1","v":0},null,"","",{"$f":"COUNTIF(CB$83:CB97,OK)+COUNTIF(CB$83:CB97,RDGfix)+COUNTIF(CB$83:CB97,RDGave)+COUNTIF(CB$83:CB97,RDGevent)+CD$57-1","v":0},null,"","",{"$f":"COUNTIF(CF$83:CF97,OK)+COUNTIF(CF$83:CF97,RDGfix)+COUNTIF(CF$83:CF97,RDGave)+COUNTIF(CF$83:CF97,RDGevent)+CH$57-1","v":0},null,"","",{"$f":"COUNTIF(CJ$83:CJ97,OK)+COUNTIF(CJ$83:CJ97,RDGfix)+COUNTIF(CJ$83:CJ97,RDGave)+COUNTIF(CJ$83:CJ97,RDGevent)+CL$57-1","v":0},null,"","",{"$f":"COUNTIF(CN$83:CN97,OK)+COUNTIF(CN$83:CN97,RDGfix)+COUNTIF(CN$83:CN97,RDGave)+COUNTIF(CN$83:CN97,RDGevent)+CP$57-1","v":0},null,"","",{"$f":"COUNTIF(CR$83:CR97,OK)+COUNTIF(CR$83:CR97,RDGfix)+COUNTIF(CR$83:CR97,RDGave)+COUNTIF(CR$83:CR97,RDGevent)+CT$57-1","v":0},null,"","",{"$f":"COUNTIF(CV$83:CV97,OK)+COUNTIF(CV$83:CV97,RDGfix)+COUNTIF(CV$83:CV97,RDGave)+COUNTIF(CV$83:CV97,RDGevent)+CX$57-1","v":0},null,"","",{"$f":"COUNTIF(CZ$83:CZ97,OK)+COUNTIF(CZ$83:CZ97,RDGfix)+COUNTIF(CZ$83:CZ97,RDGave)+COUNTIF(CZ$83:CZ97,RDGevent)+DB$57-1","v":0},null,"","",{"$f":"COUNTIF(DD$83:DD97,OK)+COUNTIF(DD$83:DD97,RDGfix)+COUNTIF(DD$83:DD97,RDGave)+COUNTIF(DD$83:DD97,RDGevent)+DF$57-1","v":0},null,"","",{"$f":"COUNTIF(DH$83:DH97,OK)+COUNTIF(DH$83:DH97,RDGfix)+COUNTIF(DH$83:DH97,RDGave)+COUNTIF(DH$83:DH97,RDGevent)+DJ$57-1","v":0},null,"","",{"$f":"COUNTIF(DL$83:DL97,OK)+COUNTIF(DL$83:DL97,RDGfix)+COUNTIF(DL$83:DL97,RDGave)+COUNTIF(DL$83:DL97,RDGevent)+DN$57-1","v":0},null,"","",{"$f":"COUNTIF(DP$83:DP97,OK)+COUNTIF(DP$83:DP97,RDGfix)+COUNTIF(DP$83:DP97,RDGave)+COUNTIF(DP$83:DP97,RDGevent)+DR$57-1","v":0},null,"","",{"$f":"COUNTIF(DT$83:DT97,OK)+COUNTIF(DT$83:DT97,RDGfix)+COUNTIF(DT$83:DT97,RDGave)+COUNTIF(DT$83:DT97,RDGevent)+DV$57-1","v":0},null,"","",{"$f":"COUNTIF(DX$83:DX97,OK)+COUNTIF(DX$83:DX97,RDGfix)+COUNTIF(DX$83:DX97,RDGave)+COUNTIF(DX$83:DX97,RDGevent)+DZ$57-1","v":0},null,"","",{"$f":"COUNTIF(EB$83:EB97,OK)+COUNTIF(EB$83:EB97,RDGfix)+COUNTIF(EB$83:EB97,RDGave)+COUNTIF(EB$83:EB97,RDGevent)+ED$57-1","v":0},null,"","",{"$f":"COUNTIF(EF$83:EF97,OK)+COUNTIF(EF$83:EF97,RDGfix)+COUNTIF(EF$83:EF97,RDGave)+COUNTIF(EF$83:EF97,RDGevent)+EH$57-1","v":0},null,"","",{"$f":"COUNTIF(EJ$83:EJ97,OK)+COUNTIF(EJ$83:EJ97,RDGfix)+COUNTIF(EJ$83:EJ97,RDGave)+COUNTIF(EJ$83:EJ97,RDGevent)+EL$57-1","v":0},null,"","",{"$f":"COUNTIF(EN$83:EN97,OK)+COUNTIF(EN$83:EN97,RDGfix)+COUNTIF(EN$83:EN97,RDGave)+COUNTIF(EN$83:EN97,RDGevent)+EP$57-1","v":0},null,"","",{"$f":"COUNTIF(ER$83:ER97,OK)+COUNTIF(ER$83:ER97,RDGfix)+COUNTIF(ER$83:ER97,RDGave)+COUNTIF(ER$83:ER97,RDGevent)+ET$57-1","v":0},null,"","",{"$f":"COUNTIF(EV$83:EV97,OK)+COUNTIF(EV$83:EV97,RDGfix)+COUNTIF(EV$83:EV97,RDGave)+COUNTIF(EV$83:EV97,RDGevent)+EX$57-1","v":0},null,"","",{"$f":"COUNTIF(EZ$83:EZ97,OK)+COUNTIF(EZ$83:EZ97,RDGfix)+COUNTIF(EZ$83:EZ97,RDGave)+COUNTIF(EZ$83:EZ97,RDGevent)+FB$57-1","v":0},null,"","",{"$f":"COUNTIF(FD$83:FD97,OK)+COUNTIF(FD$83:FD97,RDGfix)+COUNTIF(FD$83:FD97,RDGave)+COUNTIF(FD$83:FD97,RDGevent)+FF$57-1","v":0},null,"","",{"$f":"COUNTIF(FH$83:FH97,OK)+COUNTIF(FH$83:FH97,RDGfix)+COUNTIF(FH$83:FH97,RDGave)+COUNTIF(FH$83:FH97,RDGevent)+FJ$57-1","v":0}]
[null,"16th",null,"","",{"$f":"COUNTIF(D$83:D98,OK)+COUNTIF(D$83:D98,RDGfix)+COUNTIF(D$83:D98,RDGave)+COUNTIF(D$83:D98,RDGevent)","v":0},null,"","",{"$f":"COUNTIF(H$83:H98,OK)+COUNTIF(H$83:H98,RDGfix)+COUNTIF(H$83:H98,RDGave)+COUNTIF(H$83:H98,RDGevent)+J$57-1","v":0},null,"","",{"$f":"COUNTIF(L$83:L98,OK)+COUNTIF(L$83:L98,RDGfix)+COUNTIF(L$83:L98,RDGave)+COUNTIF(L$83:L98,RDGevent)+N$57-1","v":0},null,"","",{"$f":"COUNTIF(P$83:P98,OK)+COUNTIF(P$83:P98,RDGfix)+COUNTIF(P$83:P98,RDGave)+COUNTIF(P$83:P98,RDGevent)+R$57-1","v":0},null,"","",{"$f":"COUNTIF(T$83:T98,OK)+COUNTIF(T$83:T98,RDGfix)+COUNTIF(T$83:T98,RDGave)+COUNTIF(T$83:T98,RDGevent)+V$57-1","v":0},null,"","",{"$f":"COUNTIF(X$83:X98,OK)+COUNTIF(X$83:X98,RDGfix)+COUNTIF(X$83:X98,RDGave)+COUNTIF(X$83:X98,RDGevent)+Z$57-1","v":0},null,"","",{"$f":"COUNTIF(AB$83:AB98,OK)+COUNTIF(AB$83:AB98,RDGfix)+COUNTIF(AB$83:AB98,RDGave)+COUNTIF(AB$83:AB98,RDGevent)+AD$57-1","v":0},null,"","",{"$f":"COUNTIF(AF$83:AF98,OK)+COUNTIF(AF$83:AF98,RDGfix)+COUNTIF(AF$83:AF98,RDGave)+COUNTIF(AF$83:AF98,RDGevent)+AH$57-1","v":0},null,"","",{"$f":"COUNTIF(AJ$83:AJ98,OK)+COUNTIF(AJ$83:AJ98,RDGfix)+COUNTIF(AJ$83:AJ98,RDGave)+COUNTIF(AJ$83:AJ98,RDGevent)+AL$57-1","v":0},null,"","",{"$f":"COUNTIF(AN$83:AN98,OK)+COUNTIF(AN$83:AN98,RDGfix)+COUNTIF(AN$83:AN98,RDGave)+COUNTIF(AN$83:AN98,RDGevent)+AP$57-1","v":0},null,"","",{"$f":"COUNTIF(AR$83:AR98,OK)+COUNTIF(AR$83:AR98,RDGfix)+COUNTIF(AR$83:AR98,RDGave)+COUNTIF(AR$83:AR98,RDGevent)+AT$57-1","v":0},null,"","",{"$f":"COUNTIF(AV$83:AV98,OK)+COUNTIF(AV$83:AV98,RDGfix)+COUNTIF(AV$83:AV98,RDGave)+COUNTIF(AV$83:AV98,RDGevent)+AX$57-1","v":0},null,"","",{"$f":"COUNTIF(AZ$83:AZ98,OK)+COUNTIF(AZ$83:AZ98,RDGfix)+COUNTIF(AZ$83:AZ98,RDGave)+COUNTIF(AZ$83:AZ98,RDGevent)+BB$57-1","v":0},null,"","",{"$f":"COUNTIF(BD$83:BD98,OK)+COUNTIF(BD$83:BD98,RDGfix)+COUNTIF(BD$83:BD98,RDGave)+COUNTIF(BD$83:BD98,RDGevent)+BF$57-1","v":0},null,"","",{"$f":"COUNTIF(BH$83:BH98,OK)+COUNTIF(BH$83:BH98,RDGfix)+COUNTIF(BH$83:BH98,RDGave)+COUNTIF(BH$83:BH98,RDGevent)+BJ$57-1","v":0},null,"","",{"$f":"COUNTIF(BL$83:BL98,OK)+COUNTIF(BL$83:BL98,RDGfix)+COUNTIF(BL$83:BL98,RDGave)+COUNTIF(BL$83:BL98,RDGevent)+BN$57-1","v":0},null,"","",{"$f":"COUNTIF(BP$83:BP98,OK)+COUNTIF(BP$83:BP98,RDGfix)+COUNTIF(BP$83:BP98,RDGave)+COUNTIF(BP$83:BP98,RDGevent)+BR$57-1","v":0},null,"","",{"$f":"COUNTIF(BT$83:BT98,OK)+COUNTIF(BT$83:BT98,RDGfix)+COUNTIF(BT$83:BT98,RDGave)+COUNTIF(BT$83:BT98,RDGevent)+BV$57-1","v":0},null,"","",{"$f":"COUNTIF(BX$83:BX98,OK)+COUNTIF(BX$83:BX98,RDGfix)+COUNTIF(BX$83:BX98,RDGave)+COUNTIF(BX$83:BX98,RDGevent)+BZ$57-1","v":0},null,"","",{"$f":"COUNTIF(CB$83:CB98,OK)+COUNTIF(CB$83:CB98,RDGfix)+COUNTIF(CB$83:CB98,RDGave)+COUNTIF(CB$83:CB98,RDGevent)+CD$57-1","v":0},null,"","",{"$f":"COUNTIF(CF$83:CF98,OK)+COUNTIF(CF$83:CF98,RDGfix)+COUNTIF(CF$83:CF98,RDGave)+COUNTIF(CF$83:CF98,RDGevent)+CH$57-1","v":0},null,"","",{"$f":"COUNTIF(CJ$83:CJ98,OK)+COUNTIF(CJ$83:CJ98,RDGfix)+COUNTIF(CJ$83:CJ98,RDGave)+COUNTIF(CJ$83:CJ98,RDGevent)+CL$57-1","v":0},null,"","",{"$f":"COUNTIF(CN$83:CN98,OK)+COUNTIF(CN$83:CN98,RDGfix)+COUNTIF(CN$83:CN98,RDGave)+COUNTIF(CN$83:CN98,RDGevent)+CP$57-1","v":0},null,"","",{"$f":"COUNTIF(CR$83:CR98,OK)+COUNTIF(CR$83:CR98,RDGfix)+COUNTIF(CR$83:CR98,RDGave)+COUNTIF(CR$83:CR98,RDGevent)+CT$57-1","v":0},null,"","",{"$f":"COUNTIF(CV$83:CV98,OK)+COUNTIF(CV$83:CV98,RDGfix)+COUNTIF(CV$83:CV98,RDGave)+COUNTIF(CV$83:CV98,RDGevent)+CX$57-1","v":0},null,"","",{"$f":"COUNTIF(CZ$83:CZ98,OK)+COUNTIF(CZ$83:CZ98,RDGfix)+COUNTIF(CZ$83:CZ98,RDGave)+COUNTIF(CZ$83:CZ98,RDGevent)+DB$57-1","v":0},null,"","",{"$f":"COUNTIF(DD$83:DD98,OK)+COUNTIF(DD$83:DD98,RDGfix)+COUNTIF(DD$83:DD98,RDGave)+COUNTIF(DD$83:DD98,RDGevent)+DF$57-1","v":0},null,"","",{"$f":"COUNTIF(DH$83:DH98,OK)+COUNTIF(DH$83:DH98,RDGfix)+COUNTIF(DH$83:DH98,RDGave)+COUNTIF(DH$83:DH98,RDGevent)+DJ$57-1","v":0},null,"","",{"$f":"COUNTIF(DL$83:DL98,OK)+COUNTIF(DL$83:DL98,RDGfix)+COUNTIF(DL$83:DL98,RDGave)+COUNTIF(DL$83:DL98,RDGevent)+DN$57-1","v":0},null,"","",{"$f":"COUNTIF(DP$83:DP98,OK)+COUNTIF(DP$83:DP98,RDGfix)+COUNTIF(DP$83:DP98,RDGave)+COUNTIF(DP$83:DP98,RDGevent)+DR$57-1","v":0},null,"","",{"$f":"COUNTIF(DT$83:DT98,OK)+COUNTIF(DT$83:DT98,RDGfix)+COUNTIF(DT$83:DT98,RDGave)+COUNTIF(DT$83:DT98,RDGevent)+DV$57-1","v":0},null,"","",{"$f":"COUNTIF(DX$83:DX98,OK)+COUNTIF(DX$83:DX98,RDGfix)+COUNTIF(DX$83:DX98,RDGave)+COUNTIF(DX$83:DX98,RDGevent)+DZ$57-1","v":0},null,"","",{"$f":"COUNTIF(EB$83:EB98,OK)+COUNTIF(EB$83:EB98,RDGfix)+COUNTIF(EB$83:EB98,RDGave)+COUNTIF(EB$83:EB98,RDGevent)+ED$57-1","v":0},null,"","",{"$f":"COUNTIF(EF$83:EF98,OK)+COUNTIF(EF$83:EF98,RDGfix)+COUNTIF(EF$83:EF98,RDGave)+COUNTIF(EF$83:EF98,RDGevent)+EH$57-1","v":0},null,"","",{"$f":"COUNTIF(EJ$83:EJ98,OK)+COUNTIF(EJ$83:EJ98,RDGfix)+COUNTIF(EJ$83:EJ98,RDGave)+COUNTIF(EJ$83:EJ98,RDGevent)+EL$57-1","v":0},null,"","",{"$f":"COUNTIF(EN$83:EN98,OK)+COUNTIF(EN$83:EN98,RDGfix)+COUNTIF(EN$83:EN98,RDGave)+COUNTIF(EN$83:EN98,RDGevent)+EP$57-1","v":0},null,"","",{"$f":"COUNTIF(ER$83:ER98,OK)+COUNTIF(ER$83:ER98,RDGfix)+COUNTIF(ER$83:ER98,RDGave)+COUNTIF(ER$83:ER98,RDGevent)+ET$57-1","v":0},null,"","",{"$f":"COUNTIF(EV$83:EV98,OK)+COUNTIF(EV$83:EV98,RDGfix)+COUNTIF(EV$83:EV98,RDGave)+COUNTIF(EV$83:EV98,RDGevent)+EX$57-1","v":0},null,"","",{"$f":"COUNTIF(EZ$83:EZ98,OK)+COUNTIF(EZ$83:EZ98,RDGfix)+COUNTIF(EZ$83:EZ98,RDGave)+COUNTIF(EZ$83:EZ98,RDGevent)+FB$57-1","v":0},null,"","",{"$f":"COUNTIF(FD$83:FD98,OK)+COUNTIF(FD$83:FD98,RDGfix)+COUNTIF(FD$83:FD98,RDGave)+COUNTIF(FD$83:FD98,RDGevent)+FF$57-1","v":0},null,"","",{"$f":"COUNTIF(FH$83:FH98,OK)+COUNTIF(FH$83:FH98,RDGfix)+COUNTIF(FH$83:FH98,RDGave)+COUNTIF(FH$83:FH98,RDGevent)+FJ$57-1","v":0}]
[null,"17th",null,"","",{"$f":"COUNTIF(D$83:D99,OK)+COUNTIF(D$83:D99,RDGfix)+COUNTIF(D$83:D99,RDGave)+COUNTIF(D$83:D99,RDGevent)","v":0},null,"","",{"$f":"COUNTIF(H$83:H99,OK)+COUNTIF(H$83:H99,RDGfix)+COUNTIF(H$83:H99,RDGave)+COUNTIF(H$83:H99,RDGevent)+J$57-1","v":0},null,"","",{"$f":"COUNTIF(L$83:L99,OK)+COUNTIF(L$83:L99,RDGfix)+COUNTIF(L$83:L99,RDGave)+COUNTIF(L$83:L99,RDGevent)+N$57-1","v":0},null,"","",{"$f":"COUNTIF(P$83:P99,OK)+COUNTIF(P$83:P99,RDGfix)+COUNTIF(P$83:P99,RDGave)+COUNTIF(P$83:P99,RDGevent)+R$57-1","v":0},null,"","",{"$f":"COUNTIF(T$83:T99,OK)+COUNTIF(T$83:T99,RDGfix)+COUNTIF(T$83:T99,RDGave)+COUNTIF(T$83:T99,RDGevent)+V$57-1","v":0},null,"","",{"$f":"COUNTIF(X$83:X99,OK)+COUNTIF(X$83:X99,RDGfix)+COUNTIF(X$83:X99,RDGave)+COUNTIF(X$83:X99,RDGevent)+Z$57-1","v":0},null,"","",{"$f":"COUNTIF(AB$83:AB99,OK)+COUNTIF(AB$83:AB99,RDGfix)+COUNTIF(AB$83:AB99,RDGave)+COUNTIF(AB$83:AB99,RDGevent)+AD$57-1","v":0},null,"","",{"$f":"COUNTIF(AF$83:AF99,OK)+COUNTIF(AF$83:AF99,RDGfix)+COUNTIF(AF$83:AF99,RDGave)+COUNTIF(AF$83:AF99,RDGevent)+AH$57-1","v":0},null,"","",{"$f":"COUNTIF(AJ$83:AJ99,OK)+COUNTIF(AJ$83:AJ99,RDGfix)+COUNTIF(AJ$83:AJ99,RDGave)+COUNTIF(AJ$83:AJ99,RDGevent)+AL$57-1","v":0},null,"","",{"$f":"COUNTIF(AN$83:AN99,OK)+COUNTIF(AN$83:AN99,RDGfix)+COUNTIF(AN$83:AN99,RDGave)+COUNTIF(AN$83:AN99,RDGevent)+AP$57-1","v":0},null,"","",{"$f":"COUNTIF(AR$83:AR99,OK)+COUNTIF(AR$83:AR99,RDGfix)+COUNTIF(AR$83:AR99,RDGave)+COUNTIF(AR$83:AR99,RDGevent)+AT$57-1","v":0},null,"","",{"$f":"COUNTIF(AV$83:AV99,OK)+COUNTIF(AV$83:AV99,RDGfix)+COUNTIF(AV$83:AV99,RDGave)+COUNTIF(AV$83:AV99,RDGevent)+AX$57-1","v":0},null,"","",{"$f":"COUNTIF(AZ$83:AZ99,OK)+COUNTIF(AZ$83:AZ99,RDGfix)+COUNTIF(AZ$83:AZ99,RDGave)+COUNTIF(AZ$83:AZ99,RDGevent)+BB$57-1","v":0},null,"","",{"$f":"COUNTIF(BD$83:BD99,OK)+COUNTIF(BD$83:BD99,RDGfix)+COUNTIF(BD$83:BD99,RDGave)+COUNTIF(BD$83:BD99,RDGevent)+BF$57-1","v":0},null,"","",{"$f":"COUNTIF(BH$83:BH99,OK)+COUNTIF(BH$83:BH99,RDGfix)+COUNTIF(BH$83:BH99,RDGave)+COUNTIF(BH$83:BH99,RDGevent)+BJ$57-1","v":0},null,"","",{"$f":"COUNTIF(BL$83:BL99,OK)+COUNTIF(BL$83:BL99,RDGfix)+COUNTIF(BL$83:BL99,RDGave)+COUNTIF(BL$83:BL99,RDGevent)+BN$57-1","v":0},null,"","",{"$f":"COUNTIF(BP$83:BP99,OK)+COUNTIF(BP$83:BP99,RDGfix)+COUNTIF(BP$83:BP99,RDGave)+COUNTIF(BP$83:BP99,RDGevent)+BR$57-1","v":0},null,"","",{"$f":"COUNTIF(BT$83:BT99,OK)+COUNTIF(BT$83:BT99,RDGfix)+COUNTIF(BT$83:BT99,RDGave)+COUNTIF(BT$83:BT99,RDGevent)+BV$57-1","v":0},null,"","",{"$f":"COUNTIF(BX$83:BX99,OK)+COUNTIF(BX$83:BX99,RDGfix)+COUNTIF(BX$83:BX99,RDGave)+COUNTIF(BX$83:BX99,RDGevent)+BZ$57-1","v":0},null,"","",{"$f":"COUNTIF(CB$83:CB99,OK)+COUNTIF(CB$83:CB99,RDGfix)+COUNTIF(CB$83:CB99,RDGave)+COUNTIF(CB$83:CB99,RDGevent)+CD$57-1","v":0},null,"","",{"$f":"COUNTIF(CF$83:CF99,OK)+COUNTIF(CF$83:CF99,RDGfix)+COUNTIF(CF$83:CF99,RDGave)+COUNTIF(CF$83:CF99,RDGevent)+CH$57-1","v":0},null,"","",{"$f":"COUNTIF(CJ$83:CJ99,OK)+COUNTIF(CJ$83:CJ99,RDGfix)+COUNTIF(CJ$83:CJ99,RDGave)+COUNTIF(CJ$83:CJ99,RDGevent)+CL$57-1","v":0},null,"","",{"$f":"COUNTIF(CN$83:CN99,OK)+COUNTIF(CN$83:CN99,RDGfix)+COUNTIF(CN$83:CN99,RDGave)+COUNTIF(CN$83:CN99,RDGevent)+CP$57-1","v":0},null,"","",{"$f":"COUNTIF(CR$83:CR99,OK)+COUNTIF(CR$83:CR99,RDGfix)+COUNTIF(CR$83:CR99,RDGave)+COUNTIF(CR$83:CR99,RDGevent)+CT$57-1","v":0},null,"","",{"$f":"COUNTIF(CV$83:CV99,OK)+COUNTIF(CV$83:CV99,RDGfix)+COUNTIF(CV$83:CV99,RDGave)+COUNTIF(CV$83:CV99,RDGevent)+CX$57-1","v":0},null,"","",{"$f":"COUNTIF(CZ$83:CZ99,OK)+COUNTIF(CZ$83:CZ99,RDGfix)+COUNTIF(CZ$83:CZ99,RDGave)+COUNTIF(CZ$83:CZ99,RDGevent)+DB$57-1","v":0},null,"","",{"$f":"COUNTIF(DD$83:DD99,OK)+COUNTIF(DD$83:DD99,RDGfix)+COUNTIF(DD$83:DD99,RDGave)+COUNTIF(DD$83:DD99,RDGevent)+DF$57-1","v":0},null,"","",{"$f":"COUNTIF(DH$83:DH99,OK)+COUNTIF(DH$83:DH99,RDGfix)+COUNTIF(DH$83:DH99,RDGave)+COUNTIF(DH$83:DH99,RDGevent)+DJ$57-1","v":0},null,"","",{"$f":"COUNTIF(DL$83:DL99,OK)+COUNTIF(DL$83:DL99,RDGfix)+COUNTIF(DL$83:DL99,RDGave)+COUNTIF(DL$83:DL99,RDGevent)+DN$57-1","v":0},null,"","",{"$f":"COUNTIF(DP$83:DP99,OK)+COUNTIF(DP$83:DP99,RDGfix)+COUNTIF(DP$83:DP99,RDGave)+COUNTIF(DP$83:DP99,RDGevent)+DR$57-1","v":0},null,"","",{"$f":"COUNTIF(DT$83:DT99,OK)+COUNTIF(DT$83:DT99,RDGfix)+COUNTIF(DT$83:DT99,RDGave)+COUNTIF(DT$83:DT99,RDGevent)+DV$57-1","v":0},null,"","",{"$f":"COUNTIF(DX$83:DX99,OK)+COUNTIF(DX$83:DX99,RDGfix)+COUNTIF(DX$83:DX99,RDGave)+COUNTIF(DX$83:DX99,RDGevent)+DZ$57-1","v":0},null,"","",{"$f":"COUNTIF(EB$83:EB99,OK)+COUNTIF(EB$83:EB99,RDGfix)+COUNTIF(EB$83:EB99,RDGave)+COUNTIF(EB$83:EB99,RDGevent)+ED$57-1","v":0},null,"","",{"$f":"COUNTIF(EF$83:EF99,OK)+COUNTIF(EF$83:EF99,RDGfix)+COUNTIF(EF$83:EF99,RDGave)+COUNTIF(EF$83:EF99,RDGevent)+EH$57-1","v":0},null,"","",{"$f":"COUNTIF(EJ$83:EJ99,OK)+COUNTIF(EJ$83:EJ99,RDGfix)+COUNTIF(EJ$83:EJ99,RDGave)+COUNTIF(EJ$83:EJ99,RDGevent)+EL$57-1","v":0},null,"","",{"$f":"COUNTIF(EN$83:EN99,OK)+COUNTIF(EN$83:EN99,RDGfix)+COUNTIF(EN$83:EN99,RDGave)+COUNTIF(EN$83:EN99,RDGevent)+EP$57-1","v":0},null,"","",{"$f":"COUNTIF(ER$83:ER99,OK)+COUNTIF(ER$83:ER99,RDGfix)+COUNTIF(ER$83:ER99,RDGave)+COUNTIF(ER$83:ER99,RDGevent)+ET$57-1","v":0},null,"","",{"$f":"COUNTIF(EV$83:EV99,OK)+COUNTIF(EV$83:EV99,RDGfix)+COUNTIF(EV$83:EV99,RDGave)+COUNTIF(EV$83:EV99,RDGevent)+EX$57-1","v":0},null,"","",{"$f":"COUNTIF(EZ$83:EZ99,OK)+COUNTIF(EZ$83:EZ99,RDGfix)+COUNTIF(EZ$83:EZ99,RDGave)+COUNTIF(EZ$83:EZ99,RDGevent)+FB$57-1","v":0},null,"","",{"$f":"COUNTIF(FD$83:FD99,OK)+COUNTIF(FD$83:FD99,RDGfix)+COUNTIF(FD$83:FD99,RDGave)+COUNTIF(FD$83:FD99,RDGevent)+FF$57-1","v":0},null,"","",{"$f":"COUNTIF(FH$83:FH99,OK)+COUNTIF(FH$83:FH99,RDGfix)+COUNTIF(FH$83:FH99,RDGave)+COUNTIF(FH$83:FH99,RDGevent)+FJ$57-1","v":0}]
[null,"18th",null,"","",{"$f":"COUNTIF(D$83:D100,OK)+COUNTIF(D$83:D100,RDGfix)+COUNTIF(D$83:D100,RDGave)+COUNTIF(D$83:D100,RDGevent)","v":0},null,"","",{"$f":"COUNTIF(H$83:H100,OK)+COUNTIF(H$83:H100,RDGfix)+COUNTIF(H$83:H100,RDGave)+COUNTIF(H$83:H100,RDGevent)+J$57-1","v":0},null,"","",{"$f":"COUNTIF(L$83:L100,OK)+COUNTIF(L$83:L100,RDGfix)+COUNTIF(L$83:L100,RDGave)+COUNTIF(L$83:L100,RDGevent)+N$57-1","v":0},null,"","",{"$f":"COUNTIF(P$83:P100,OK)+COUNTIF(P$83:P100,RDGfix)+COUNTIF(P$83:P100,RDGave)+COUNTIF(P$83:P100,RDGevent)+R$57-1","v":0},null,"","",{"$f":"COUNTIF(T$83:T100,OK)+COUNTIF(T$83:T100,RDGfix)+COUNTIF(T$83:T100,RDGave)+COUNTIF(T$83:T100,RDGevent)+V$57-1","v":0},null,"","",{"$f":"COUNTIF(X$83:X100,OK)+COUNTIF(X$83:X100,RDGfix)+COUNTIF(X$83:X100,RDGave)+COUNTIF(X$83:X100,RDGevent)+Z$57-1","v":0},null,"","",{"$f":"COUNTIF(AB$83:AB100,OK)+COUNTIF(AB$83:AB100,RDGfix)+COUNTIF(AB$83:AB100,RDGave)+COUNTIF(AB$83:AB100,RDGevent)+AD$57-1","v":0},null,"","",{"$f":"COUNTIF(AF$83:AF100,OK)+COUNTIF(AF$83:AF100,RDGfix)+COUNTIF(AF$83:AF100,RDGave)+COUNTIF(AF$83:AF100,RDGevent)+AH$57-1","v":0},null,"","",{"$f":"COUNTIF(AJ$83:AJ100,OK)+COUNTIF(AJ$83:AJ100,RDGfix)+COUNTIF(AJ$83:AJ100,RDGave)+COUNTIF(AJ$83:AJ100,RDGevent)+AL$57-1","v":0},null,"","",{"$f":"COUNTIF(AN$83:AN100,OK)+COUNTIF(AN$83:AN100,RDGfix)+COUNTIF(AN$83:AN100,RDGave)+COUNTIF(AN$83:AN100,RDGevent)+AP$57-1","v":0},null,"","",{"$f":"COUNTIF(AR$83:AR100,OK)+COUNTIF(AR$83:AR100,RDGfix)+COUNTIF(AR$83:AR100,RDGave)+COUNTIF(AR$83:AR100,RDGevent)+AT$57-1","v":0},null,"","",{"$f":"COUNTIF(AV$83:AV100,OK)+COUNTIF(AV$83:AV100,RDGfix)+COUNTIF(AV$83:AV100,RDGave)+COUNTIF(AV$83:AV100,RDGevent)+AX$57-1","v":0},null,"","",{"$f":"COUNTIF(AZ$83:AZ100,OK)+COUNTIF(AZ$83:AZ100,RDGfix)+COUNTIF(AZ$83:AZ100,RDGave)+COUNTIF(AZ$83:AZ100,RDGevent)+BB$57-1","v":0},null,"","",{"$f":"COUNTIF(BD$83:BD100,OK)+COUNTIF(BD$83:BD100,RDGfix)+COUNTIF(BD$83:BD100,RDGave)+COUNTIF(BD$83:BD100,RDGevent)+BF$57-1","v":0},null,"","",{"$f":"COUNTIF(BH$83:BH100,OK)+COUNTIF(BH$83:BH100,RDGfix)+COUNTIF(BH$83:BH100,RDGave)+COUNTIF(BH$83:BH100,RDGevent)+BJ$57-1","v":0},null,"","",{"$f":"COUNTIF(BL$83:BL100,OK)+COUNTIF(BL$83:BL100,RDGfix)+COUNTIF(BL$83:BL100,RDGave)+COUNTIF(BL$83:BL100,RDGevent)+BN$57-1","v":0},null,"","",{"$f":"COUNTIF(BP$83:BP100,OK)+COUNTIF(BP$83:BP100,RDGfix)+COUNTIF(BP$83:BP100,RDGave)+COUNTIF(BP$83:BP100,RDGevent)+BR$57-1","v":0},null,"","",{"$f":"COUNTIF(BT$83:BT100,OK)+COUNTIF(BT$83:BT100,RDGfix)+COUNTIF(BT$83:BT100,RDGave)+COUNTIF(BT$83:BT100,RDGevent)+BV$57-1","v":0},null,"","",{"$f":"COUNTIF(BX$83:BX100,OK)+COUNTIF(BX$83:BX100,RDGfix)+COUNTIF(BX$83:BX100,RDGave)+COUNTIF(BX$83:BX100,RDGevent)+BZ$57-1","v":0},null,"","",{"$f":"COUNTIF(CB$83:CB100,OK)+COUNTIF(CB$83:CB100,RDGfix)+COUNTIF(CB$83:CB100,RDGave)+COUNTIF(CB$83:CB100,RDGevent)+CD$57-1","v":0},null,"","",{"$f":"COUNTIF(CF$83:CF100,OK)+COUNTIF(CF$83:CF100,RDGfix)+COUNTIF(CF$83:CF100,RDGave)+COUNTIF(CF$83:CF100,RDGevent)+CH$57-1","v":0},null,"","",{"$f":"COUNTIF(CJ$83:CJ100,OK)+COUNTIF(CJ$83:CJ100,RDGfix)+COUNTIF(CJ$83:CJ100,RDGave)+COUNTIF(CJ$83:CJ100,RDGevent)+CL$57-1","v":0},null,"","",{"$f":"COUNTIF(CN$83:CN100,OK)+COUNTIF(CN$83:CN100,RDGfix)+COUNTIF(CN$83:CN100,RDGave)+COUNTIF(CN$83:CN100,RDGevent)+CP$57-1","v":0},null,"","",{"$f":"COUNTIF(CR$83:CR100,OK)+COUNTIF(CR$83:CR100,RDGfix)+COUNTIF(CR$83:CR100,RDGave)+COUNTIF(CR$83:CR100,RDGevent)+CT$57-1","v":0},null,"","",{"$f":"COUNTIF(CV$83:CV100,OK)+COUNTIF(CV$83:CV100,RDGfix)+COUNTIF(CV$83:CV100,RDGave)+COUNTIF(CV$83:CV100,RDGevent)+CX$57-1","v":0},null,"","",{"$f":"COUNTIF(CZ$83:CZ100,OK)+COUNTIF(CZ$83:CZ100,RDGfix)+COUNTIF(CZ$83:CZ100,RDGave)+COUNTIF(CZ$83:CZ100,RDGevent)+DB$57-1","v":0},null,"","",{"$f":"COUNTIF(DD$83:DD100,OK)+COUNTIF(DD$83:DD100,RDGfix)+COUNTIF(DD$83:DD100,RDGave)+COUNTIF(DD$83:DD100,RDGevent)+DF$57-1","v":0},null,"","",{"$f":"COUNTIF(DH$83:DH100,OK)+COUNTIF(DH$83:DH100,RDGfix)+COUNTIF(DH$83:DH100,RDGave)+COUNTIF(DH$83:DH100,RDGevent)+DJ$57-1","v":0},null,"","",{"$f":"COUNTIF(DL$83:DL100,OK)+COUNTIF(DL$83:DL100,RDGfix)+COUNTIF(DL$83:DL100,RDGave)+COUNTIF(DL$83:DL100,RDGevent)+DN$57-1","v":0},null,"","",{"$f":"COUNTIF(DP$83:DP100,OK)+COUNTIF(DP$83:DP100,RDGfix)+COUNTIF(DP$83:DP100,RDGave)+COUNTIF(DP$83:DP100,RDGevent)+DR$57-1","v":0},null,"","",{"$f":"COUNTIF(DT$83:DT100,OK)+COUNTIF(DT$83:DT100,RDGfix)+COUNTIF(DT$83:DT100,RDGave)+COUNTIF(DT$83:DT100,RDGevent)+DV$57-1","v":0},null,"","",{"$f":"COUNTIF(DX$83:DX100,OK)+COUNTIF(DX$83:DX100,RDGfix)+COUNTIF(DX$83:DX100,RDGave)+COUNTIF(DX$83:DX100,RDGevent)+DZ$57-1","v":0},null,"","",{"$f":"COUNTIF(EB$83:EB100,OK)+COUNTIF(EB$83:EB100,RDGfix)+COUNTIF(EB$83:EB100,RDGave)+COUNTIF(EB$83:EB100,RDGevent)+ED$57-1","v":0},null,"","",{"$f":"COUNTIF(EF$83:EF100,OK)+COUNTIF(EF$83:EF100,RDGfix)+COUNTIF(EF$83:EF100,RDGave)+COUNTIF(EF$83:EF100,RDGevent)+EH$57-1","v":0},null,"","",{"$f":"COUNTIF(EJ$83:EJ100,OK)+COUNTIF(EJ$83:EJ100,RDGfix)+COUNTIF(EJ$83:EJ100,RDGave)+COUNTIF(EJ$83:EJ100,RDGevent)+EL$57-1","v":0},null,"","",{"$f":"COUNTIF(EN$83:EN100,OK)+COUNTIF(EN$83:EN100,RDGfix)+COUNTIF(EN$83:EN100,RDGave)+COUNTIF(EN$83:EN100,RDGevent)+EP$57-1","v":0},null,"","",{"$f":"COUNTIF(ER$83:ER100,OK)+COUNTIF(ER$83:ER100,RDGfix)+COUNTIF(ER$83:ER100,RDGave)+COUNTIF(ER$83:ER100,RDGevent)+ET$57-1","v":0},null,"","",{"$f":"COUNTIF(EV$83:EV100,OK)+COUNTIF(EV$83:EV100,RDGfix)+COUNTIF(EV$83:EV100,RDGave)+COUNTIF(EV$83:EV100,RDGevent)+EX$57-1","v":0},null,"","",{"$f":"COUNTIF(EZ$83:EZ100,OK)+COUNTIF(EZ$83:EZ100,RDGfix)+COUNTIF(EZ$83:EZ100,RDGave)+COUNTIF(EZ$83:EZ100,RDGevent)+FB$57-1","v":0},null,"","",{"$f":"COUNTIF(FD$83:FD100,OK)+COUNTIF(FD$83:FD100,RDGfix)+COUNTIF(FD$83:FD100,RDGave)+COUNTIF(FD$83:FD100,RDGevent)+FF$57-1","v":0},null,"","",{"$f":"COUNTIF(FH$83:FH100,OK)+COUNTIF(FH$83:FH100,RDGfix)+COUNTIF(FH$83:FH100,RDGave)+COUNTIF(FH$83:FH100,RDGevent)+FJ$57-1","v":0}]
[null,"19th",null,"","",{"$f":"COUNTIF(D$83:D101,OK)+COUNTIF(D$83:D101,RDGfix)+COUNTIF(D$83:D101,RDGave)+COUNTIF(D$83:D101,RDGevent)","v":0},null,"","",{"$f":"COUNTIF(H$83:H101,OK)+COUNTIF(H$83:H101,RDGfix)+COUNTIF(H$83:H101,RDGave)+COUNTIF(H$83:H101,RDGevent)+J$57-1","v":0},null,"","",{"$f":"COUNTIF(L$83:L101,OK)+COUNTIF(L$83:L101,RDGfix)+COUNTIF(L$83:L101,RDGave)+COUNTIF(L$83:L101,RDGevent)+N$57-1","v":0},null,"","",{"$f":"COUNTIF(P$83:P101,OK)+COUNTIF(P$83:P101,RDGfix)+COUNTIF(P$83:P101,RDGave)+COUNTIF(P$83:P101,RDGevent)+R$57-1","v":0},null,"","",{"$f":"COUNTIF(T$83:T101,OK)+COUNTIF(T$83:T101,RDGfix)+COUNTIF(T$83:T101,RDGave)+COUNTIF(T$83:T101,RDGevent)+V$57-1","v":0},null,"","",{"$f":"COUNTIF(X$83:X101,OK)+COUNTIF(X$83:X101,RDGfix)+COUNTIF(X$83:X101,RDGave)+COUNTIF(X$83:X101,RDGevent)+Z$57-1","v":0},null,"","",{"$f":"COUNTIF(AB$83:AB101,OK)+COUNTIF(AB$83:AB101,RDGfix)+COUNTIF(AB$83:AB101,RDGave)+COUNTIF(AB$83:AB101,RDGevent)+AD$57-1","v":0},null,"","",{"$f":"COUNTIF(AF$83:AF101,OK)+COUNTIF(AF$83:AF101,RDGfix)+COUNTIF(AF$83:AF101,RDGave)+COUNTIF(AF$83:AF101,RDGevent)+AH$57-1","v":0},null,"","",{"$f":"COUNTIF(AJ$83:AJ101,OK)+COUNTIF(AJ$83:AJ101,RDGfix)+COUNTIF(AJ$83:AJ101,RDGave)+COUNTIF(AJ$83:AJ101,RDGevent)+AL$57-1","v":0},null,"","",{"$f":"COUNTIF(AN$83:AN101,OK)+COUNTIF(AN$83:AN101,RDGfix)+COUNTIF(AN$83:AN101,RDGave)+COUNTIF(AN$83:AN101,RDGevent)+AP$57-1","v":0},null,"","",{"$f":"COUNTIF(AR$83:AR101,OK)+COUNTIF(AR$83:AR101,RDGfix)+COUNTIF(AR$83:AR101,RDGave)+COUNTIF(AR$83:AR101,RDGevent)+AT$57-1","v":0},null,"","",{"$f":"COUNTIF(AV$83:AV101,OK)+COUNTIF(AV$83:AV101,RDGfix)+COUNTIF(AV$83:AV101,RDGave)+COUNTIF(AV$83:AV101,RDGevent)+AX$57-1","v":0},null,"","",{"$f":"COUNTIF(AZ$83:AZ101,OK)+COUNTIF(AZ$83:AZ101,RDGfix)+COUNTIF(AZ$83:AZ101,RDGave)+COUNTIF(AZ$83:AZ101,RDGevent)+BB$57-1","v":0},null,"","",{"$f":"COUNTIF(BD$83:BD101,OK)+COUNTIF(BD$83:BD101,RDGfix)+COUNTIF(BD$83:BD101,RDGave)+COUNTIF(BD$83:BD101,RDGevent)+BF$57-1","v":0},null,"","",{"$f":"COUNTIF(BH$83:BH101,OK)+COUNTIF(BH$83:BH101,RDGfix)+COUNTIF(BH$83:BH101,RDGave)+COUNTIF(BH$83:BH101,RDGevent)+BJ$57-1","v":0},null,"","",{"$f":"COUNTIF(BL$83:BL101,OK)+COUNTIF(BL$83:BL101,RDGfix)+COUNTIF(BL$83:BL101,RDGave)+COUNTIF(BL$83:BL101,RDGevent)+BN$57-1","v":0},null,"","",{"$f":"COUNTIF(BP$83:BP101,OK)+COUNTIF(BP$83:BP101,RDGfix)+COUNTIF(BP$83:BP101,RDGave)+COUNTIF(BP$83:BP101,RDGevent)+BR$57-1","v":0},null,"","",{"$f":"COUNTIF(BT$83:BT101,OK)+COUNTIF(BT$83:BT101,RDGfix)+COUNTIF(BT$83:BT101,RDGave)+COUNTIF(BT$83:BT101,RDGevent)+BV$57-1","v":0},null,"","",{"$f":"COUNTIF(BX$83:BX101,OK)+COUNTIF(BX$83:BX101,RDGfix)+COUNTIF(BX$83:BX101,RDGave)+COUNTIF(BX$83:BX101,RDGevent)+BZ$57-1","v":0},null,"","",{"$f":"COUNTIF(CB$83:CB101,OK)+COUNTIF(CB$83:CB101,RDGfix)+COUNTIF(CB$83:CB101,RDGave)+COUNTIF(CB$83:CB101,RDGevent)+CD$57-1","v":0},null,"","",{"$f":"COUNTIF(CF$83:CF101,OK)+COUNTIF(CF$83:CF101,RDGfix)+COUNTIF(CF$83:CF101,RDGave)+COUNTIF(CF$83:CF101,RDGevent)+CH$57-1","v":0},null,"","",{"$f":"COUNTIF(CJ$83:CJ101,OK)+COUNTIF(CJ$83:CJ101,RDGfix)+COUNTIF(CJ$83:CJ101,RDGave)+COUNTIF(CJ$83:CJ101,RDGevent)+CL$57-1","v":0},null,"","",{"$f":"COUNTIF(CN$83:CN101,OK)+COUNTIF(CN$83:CN101,RDGfix)+COUNTIF(CN$83:CN101,RDGave)+COUNTIF(CN$83:CN101,RDGevent)+CP$57-1","v":0},null,"","",{"$f":"COUNTIF(CR$83:CR101,OK)+COUNTIF(CR$83:CR101,RDGfix)+COUNTIF(CR$83:CR101,RDGave)+COUNTIF(CR$83:CR101,RDGevent)+CT$57-1","v":0},null,"","",{"$f":"COUNTIF(CV$83:CV101,OK)+COUNTIF(CV$83:CV101,RDGfix)+COUNTIF(CV$83:CV101,RDGave)+COUNTIF(CV$83:CV101,RDGevent)+CX$57-1","v":0},null,"","",{"$f":"COUNTIF(CZ$83:CZ101,OK)+COUNTIF(CZ$83:CZ101,RDGfix)+COUNTIF(CZ$83:CZ101,RDGave)+COUNTIF(CZ$83:CZ101,RDGevent)+DB$57-1","v":0},null,"","",{"$f":"COUNTIF(DD$83:DD101,OK)+COUNTIF(DD$83:DD101,RDGfix)+COUNTIF(DD$83:DD101,RDGave)+COUNTIF(DD$83:DD101,RDGevent)+DF$57-1","v":0},null,"","",{"$f":"COUNTIF(DH$83:DH101,OK)+COUNTIF(DH$83:DH101,RDGfix)+COUNTIF(DH$83:DH101,RDGave)+COUNTIF(DH$83:DH101,RDGevent)+DJ$57-1","v":0},null,"","",{"$f":"COUNTIF(DL$83:DL101,OK)+COUNTIF(DL$83:DL101,RDGfix)+COUNTIF(DL$83:DL101,RDGave)+COUNTIF(DL$83:DL101,RDGevent)+DN$57-1","v":0},null,"","",{"$f":"COUNTIF(DP$83:DP101,OK)+COUNTIF(DP$83:DP101,RDGfix)+COUNTIF(DP$83:DP101,RDGave)+COUNTIF(DP$83:DP101,RDGevent)+DR$57-1","v":0},null,"","",{"$f":"COUNTIF(DT$83:DT101,OK)+COUNTIF(DT$83:DT101,RDGfix)+COUNTIF(DT$83:DT101,RDGave)+COUNTIF(DT$83:DT101,RDGevent)+DV$57-1","v":0},null,"","",{"$f":"COUNTIF(DX$83:DX101,OK)+COUNTIF(DX$83:DX101,RDGfix)+COUNTIF(DX$83:DX101,RDGave)+COUNTIF(DX$83:DX101,RDGevent)+DZ$57-1","v":0},null,"","",{"$f":"COUNTIF(EB$83:EB101,OK)+COUNTIF(EB$83:EB101,RDGfix)+COUNTIF(EB$83:EB101,RDGave)+COUNTIF(EB$83:EB101,RDGevent)+ED$57-1","v":0},null,"","",{"$f":"COUNTIF(EF$83:EF101,OK)+COUNTIF(EF$83:EF101,RDGfix)+COUNTIF(EF$83:EF101,RDGave)+COUNTIF(EF$83:EF101,RDGevent)+EH$57-1","v":0},null,"","",{"$f":"COUNTIF(EJ$83:EJ101,OK)+COUNTIF(EJ$83:EJ101,RDGfix)+COUNTIF(EJ$83:EJ101,RDGave)+COUNTIF(EJ$83:EJ101,RDGevent)+EL$57-1","v":0},null,"","",{"$f":"COUNTIF(EN$83:EN101,OK)+COUNTIF(EN$83:EN101,RDGfix)+COUNTIF(EN$83:EN101,RDGave)+COUNTIF(EN$83:EN101,RDGevent)+EP$57-1","v":0},null,"","",{"$f":"COUNTIF(ER$83:ER101,OK)+COUNTIF(ER$83:ER101,RDGfix)+COUNTIF(ER$83:ER101,RDGave)+COUNTIF(ER$83:ER101,RDGevent)+ET$57-1","v":0},null,"","",{"$f":"COUNTIF(EV$83:EV101,OK)+COUNTIF(EV$83:EV101,RDGfix)+COUNTIF(EV$83:EV101,RDGave)+COUNTIF(EV$83:EV101,RDGevent)+EX$57-1","v":0},null,"","",{"$f":"COUNTIF(EZ$83:EZ101,OK)+COUNTIF(EZ$83:EZ101,RDGfix)+COUNTIF(EZ$83:EZ101,RDGave)+COUNTIF(EZ$83:EZ101,RDGevent)+FB$57-1","v":0},null,"","",{"$f":"COUNTIF(FD$83:FD101,OK)+COUNTIF(FD$83:FD101,RDGfix)+COUNTIF(FD$83:FD101,RDGave)+COUNTIF(FD$83:FD101,RDGevent)+FF$57-1","v":0},null,"","",{"$f":"COUNTIF(FH$83:FH101,OK)+COUNTIF(FH$83:FH101,RDGfix)+COUNTIF(FH$83:FH101,RDGave)+COUNTIF(FH$83:FH101,RDGevent)+FJ$57-1","v":0}]
[null,"20th",null,"","",{"$f":"COUNTIF(D$83:D102,OK)+COUNTIF(D$83:D102,RDGfix)+COUNTIF(D$83:D102,RDGave)+COUNTIF(D$83:D102,RDGevent)","v":0},null,"","",{"$f":"COUNTIF(H$83:H102,OK)+COUNTIF(H$83:H102,RDGfix)+COUNTIF(H$83:H102,RDGave)+COUNTIF(H$83:H102,RDGevent)+J$57-1","v":0},null,"","",{"$f":"COUNTIF(L$83:L102,OK)+COUNTIF(L$83:L102,RDGfix)+COUNTIF(L$83:L102,RDGave)+COUNTIF(L$83:L102,RDGevent)+N$57-1","v":0},null,"","",{"$f":"COUNTIF(P$83:P102,OK)+COUNTIF(P$83:P102,RDGfix)+COUNTIF(P$83:P102,RDGave)+COUNTIF(P$83:P102,RDGevent)+R$57-1","v":0},null,"","",{"$f":"COUNTIF(T$83:T102,OK)+COUNTIF(T$83:T102,RDGfix)+COUNTIF(T$83:T102,RDGave)+COUNTIF(T$83:T102,RDGevent)+V$57-1","v":0},null,"","",{"$f":"COUNTIF(X$83:X102,OK)+COUNTIF(X$83:X102,RDGfix)+COUNTIF(X$83:X102,RDGave)+COUNTIF(X$83:X102,RDGevent)+Z$57-1","v":0},null,"","",{"$f":"COUNTIF(AB$83:AB102,OK)+COUNTIF(AB$83:AB102,RDGfix)+COUNTIF(AB$83:AB102,RDGave)+COUNTIF(AB$83:AB102,RDGevent)+AD$57-1","v":0},null,"","",{"$f":"COUNTIF(AF$83:AF102,OK)+COUNTIF(AF$83:AF102,RDGfix)+COUNTIF(AF$83:AF102,RDGave)+COUNTIF(AF$83:AF102,RDGevent)+AH$57-1","v":0},null,"","",{"$f":"COUNTIF(AJ$83:AJ102,OK)+COUNTIF(AJ$83:AJ102,RDGfix)+COUNTIF(AJ$83:AJ102,RDGave)+COUNTIF(AJ$83:AJ102,RDGevent)+AL$57-1","v":0},null,"","",{"$f":"COUNTIF(AN$83:AN102,OK)+COUNTIF(AN$83:AN102,RDGfix)+COUNTIF(AN$83:AN102,RDGave)+COUNTIF(AN$83:AN102,RDGevent)+AP$57-1","v":0},null,"","",{"$f":"COUNTIF(AR$83:AR102,OK)+COUNTIF(AR$83:AR102,RDGfix)+COUNTIF(AR$83:AR102,RDGave)+COUNTIF(AR$83:AR102,RDGevent)+AT$57-1","v":0},null,"","",{"$f":"COUNTIF(AV$83:AV102,OK)+COUNTIF(AV$83:AV102,RDGfix)+COUNTIF(AV$83:AV102,RDGave)+COUNTIF(AV$83:AV102,RDGevent)+AX$57-1","v":0},null,"","",{"$f":"COUNTIF(AZ$83:AZ102,OK)+COUNTIF(AZ$83:AZ102,RDGfix)+COUNTIF(AZ$83:AZ102,RDGave)+COUNTIF(AZ$83:AZ102,RDGevent)+BB$57-1","v":0},null,"","",{"$f":"COUNTIF(BD$83:BD102,OK)+COUNTIF(BD$83:BD102,RDGfix)+COUNTIF(BD$83:BD102,RDGave)+COUNTIF(BD$83:BD102,RDGevent)+BF$57-1","v":0},null,"","",{"$f":"COUNTIF(BH$83:BH102,OK)+COUNTIF(BH$83:BH102,RDGfix)+COUNTIF(BH$83:BH102,RDGave)+COUNTIF(BH$83:BH102,RDGevent)+BJ$57-1","v":0},null,"","",{"$f":"COUNTIF(BL$83:BL102,OK)+COUNTIF(BL$83:BL102,RDGfix)+COUNTIF(BL$83:BL102,RDGave)+COUNTIF(BL$83:BL102,RDGevent)+BN$57-1","v":0},null,"","",{"$f":"COUNTIF(BP$83:BP102,OK)+COUNTIF(BP$83:BP102,RDGfix)+COUNTIF(BP$83:BP102,RDGave)+COUNTIF(BP$83:BP102,RDGevent)+BR$57-1","v":0},null,"","",{"$f":"COUNTIF(BT$83:BT102,OK)+COUNTIF(BT$83:BT102,RDGfix)+COUNTIF(BT$83:BT102,RDGave)+COUNTIF(BT$83:BT102,RDGevent)+BV$57-1","v":0},null,"","",{"$f":"COUNTIF(BX$83:BX102,OK)+COUNTIF(BX$83:BX102,RDGfix)+COUNTIF(BX$83:BX102,RDGave)+COUNTIF(BX$83:BX102,RDGevent)+BZ$57-1","v":0},null,"","",{"$f":"COUNTIF(CB$83:CB102,OK)+COUNTIF(CB$83:CB102,RDGfix)+COUNTIF(CB$83:CB102,RDGave)+COUNTIF(CB$83:CB102,RDGevent)+CD$57-1","v":0},null,"","",{"$f":"COUNTIF(CF$83:CF102,OK)+COUNTIF(CF$83:CF102,RDGfix)+COUNTIF(CF$83:CF102,RDGave)+COUNTIF(CF$83:CF102,RDGevent)+CH$57-1","v":0},null,"","",{"$f":"COUNTIF(CJ$83:CJ102,OK)+COUNTIF(CJ$83:CJ102,RDGfix)+COUNTIF(CJ$83:CJ102,RDGave)+COUNTIF(CJ$83:CJ102,RDGevent)+CL$57-1","v":0},null,"","",{"$f":"COUNTIF(CN$83:CN102,OK)+COUNTIF(CN$83:CN102,RDGfix)+COUNTIF(CN$83:CN102,RDGave)+COUNTIF(CN$83:CN102,RDGevent)+CP$57-1","v":0},null,"","",{"$f":"COUNTIF(CR$83:CR102,OK)+COUNTIF(CR$83:CR102,RDGfix)+COUNTIF(CR$83:CR102,RDGave)+COUNTIF(CR$83:CR102,RDGevent)+CT$57-1","v":0},null,"","",{"$f":"COUNTIF(CV$83:CV102,OK)+COUNTIF(CV$83:CV102,RDGfix)+COUNTIF(CV$83:CV102,RDGave)+COUNTIF(CV$83:CV102,RDGevent)+CX$57-1","v":0},null,"","",{"$f":"COUNTIF(CZ$83:CZ102,OK)+COUNTIF(CZ$83:CZ102,RDGfix)+COUNTIF(CZ$83:CZ102,RDGave)+COUNTIF(CZ$83:CZ102,RDGevent)+DB$57-1","v":0},null,"","",{"$f":"COUNTIF(DD$83:DD102,OK)+COUNTIF(DD$83:DD102,RDGfix)+COUNTIF(DD$83:DD102,RDGave)+COUNTIF(DD$83:DD102,RDGevent)+DF$57-1","v":0},null,"","",{"$f":"COUNTIF(DH$83:DH102,OK)+COUNTIF(DH$83:DH102,RDGfix)+COUNTIF(DH$83:DH102,RDGave)+COUNTIF(DH$83:DH102,RDGevent)+DJ$57-1","v":0},null,"","",{"$f":"COUNTIF(DL$83:DL102,OK)+COUNTIF(DL$83:DL102,RDGfix)+COUNTIF(DL$83:DL102,RDGave)+COUNTIF(DL$83:DL102,RDGevent)+DN$57-1","v":0},null,"","",{"$f":"COUNTIF(DP$83:DP102,OK)+COUNTIF(DP$83:DP102,RDGfix)+COUNTIF(DP$83:DP102,RDGave)+COUNTIF(DP$83:DP102,RDGevent)+DR$57-1","v":0},null,"","",{"$f":"COUNTIF(DT$83:DT102,OK)+COUNTIF(DT$83:DT102,RDGfix)+COUNTIF(DT$83:DT102,RDGave)+COUNTIF(DT$83:DT102,RDGevent)+DV$57-1","v":0},null,"","",{"$f":"COUNTIF(DX$83:DX102,OK)+COUNTIF(DX$83:DX102,RDGfix)+COUNTIF(DX$83:DX102,RDGave)+COUNTIF(DX$83:DX102,RDGevent)+DZ$57-1","v":0},null,"","",{"$f":"COUNTIF(EB$83:EB102,OK)+COUNTIF(EB$83:EB102,RDGfix)+COUNTIF(EB$83:EB102,RDGave)+COUNTIF(EB$83:EB102,RDGevent)+ED$57-1","v":0},null,"","",{"$f":"COUNTIF(EF$83:EF102,OK)+COUNTIF(EF$83:EF102,RDGfix)+COUNTIF(EF$83:EF102,RDGave)+COUNTIF(EF$83:EF102,RDGevent)+EH$57-1","v":0},null,"","",{"$f":"COUNTIF(EJ$83:EJ102,OK)+COUNTIF(EJ$83:EJ102,RDGfix)+COUNTIF(EJ$83:EJ102,RDGave)+COUNTIF(EJ$83:EJ102,RDGevent)+EL$57-1","v":0},null,"","",{"$f":"COUNTIF(EN$83:EN102,OK)+COUNTIF(EN$83:EN102,RDGfix)+COUNTIF(EN$83:EN102,RDGave)+COUNTIF(EN$83:EN102,RDGevent)+EP$57-1","v":0},null,"","",{"$f":"COUNTIF(ER$83:ER102,OK)+COUNTIF(ER$83:ER102,RDGfix)+COUNTIF(ER$83:ER102,RDGave)+COUNTIF(ER$83:ER102,RDGevent)+ET$57-1","v":0},null,"","",{"$f":"COUNTIF(EV$83:EV102,OK)+COUNTIF(EV$83:EV102,RDGfix)+COUNTIF(EV$83:EV102,RDGave)+COUNTIF(EV$83:EV102,RDGevent)+EX$57-1","v":0},null,"","",{"$f":"COUNTIF(EZ$83:EZ102,OK)+COUNTIF(EZ$83:EZ102,RDGfix)+COUNTIF(EZ$83:EZ102,RDGave)+COUNTIF(EZ$83:EZ102,RDGevent)+FB$57-1","v":0},null,"","",{"$f":"COUNTIF(FD$83:FD102,OK)+COUNTIF(FD$83:FD102,RDGfix)+COUNTIF(FD$83:FD102,RDGave)+COUNTIF(FD$83:FD102,RDGevent)+FF$57-1","v":0},null,"","",{"$f":"COUNTIF(FH$83:FH102,OK)+COUNTIF(FH$83:FH102,RDGfix)+COUNTIF(FH$83:FH102,RDGave)+COUNTIF(FH$83:FH102,RDGevent)+FJ$57-1","v":0}]
[{"$f":"IF('Score Sheet'!C99=0,\"\", 'Score Sheet'!C99 )","v":""},"21st",null,"","",{"$f":"COUNTIF(D$83:D103,OK)+COUNTIF(D$83:D103,RDGfix)+COUNTIF(D$83:D103,RDGave)+COUNTIF(D$83:D103,RDGevent)","v":0},null,"","",{"$f":"COUNTIF(H$83:H103,OK)+COUNTIF(H$83:H103,RDGfix)+COUNTIF(H$83:H103,RDGave)+COUNTIF(H$83:H103,RDGevent)+J$57-1","v":0},null,"","",{"$f":"COUNTIF(L$83:L103,OK)+COUNTIF(L$83:L103,RDGfix)+COUNTIF(L$83:L103,RDGave)+COUNTIF(L$83:L103,RDGevent)+N$57-1","v":0},null,"","",{"$f":"COUNTIF(P$83:P103,OK)+COUNTIF(P$83:P103,RDGfix)+COUNTIF(P$83:P103,RDGave)+COUNTIF(P$83:P103,RDGevent)+R$57-1","v":0},null,"","",{"$f":"COUNTIF(T$83:T103,OK)+COUNTIF(T$83:T103,RDGfix)+COUNTIF(T$83:T103,RDGave)+COUNTIF(T$83:T103,RDGevent)+V$57-1","v":0},null,"","",{"$f":"COUNTIF(X$83:X103,OK)+COUNTIF(X$83:X103,RDGfix)+COUNTIF(X$83:X103,RDGave)+COUNTIF(X$83:X103,RDGevent)+Z$57-1","v":0},null,"","",{"$f":"COUNTIF(AB$83:AB103,OK)+COUNTIF(AB$83:AB103,RDGfix)+COUNTIF(AB$83:AB103,RDGave)+COUNTIF(AB$83:AB103,RDGevent)+AD$57-1","v":0},null,"","",{"$f":"COUNTIF(AF$83:AF103,OK)+COUNTIF(AF$83:AF103,RDGfix)+COUNTIF(AF$83:AF103,RDGave)+COUNTIF(AF$83:AF103,RDGevent)+AH$57-1","v":0},null,"","",{"$f":"COUNTIF(AJ$83:AJ103,OK)+COUNTIF(AJ$83:AJ103,RDGfix)+COUNTIF(AJ$83:AJ103,RDGave)+COUNTIF(AJ$83:AJ103,RDGevent)+AL$57-1","v":0},null,"","",{"$f":"COUNTIF(AN$83:AN103,OK)+COUNTIF(AN$83:AN103,RDGfix)+COUNTIF(AN$83:AN103,RDGave)+COUNTIF(AN$83:AN103,RDGevent)+AP$57-1","v":0},null,"","",{"$f":"COUNTIF(AR$83:AR103,OK)+COUNTIF(AR$83:AR103,RDGfix)+COUNTIF(AR$83:AR103,RDGave)+COUNTIF(AR$83:AR103,RDGevent)+AT$57-1","v":0},null,"","",{"$f":"COUNTIF(AV$83:AV103,OK)+COUNTIF(AV$83:AV103,RDGfix)+COUNTIF(AV$83:AV103,RDGave)+COUNTIF(AV$83:AV103,RDGevent)+AX$57-1","v":0},null,"","",{"$f":"COUNTIF(AZ$83:AZ103,OK)+COUNTIF(AZ$83:AZ103,RDGfix)+COUNTIF(AZ$83:AZ103,RDGave)+COUNTIF(AZ$83:AZ103,RDGevent)+BB$57-1","v":0},null,"","",{"$f":"COUNTIF(BD$83:BD103,OK)+COUNTIF(BD$83:BD103,RDGfix)+COUNTIF(BD$83:BD103,RDGave)+COUNTIF(BD$83:BD103,RDGevent)+BF$57-1","v":0},null,"","",{"$f":"COUNTIF(BH$83:BH103,OK)+COUNTIF(BH$83:BH103,RDGfix)+COUNTIF(BH$83:BH103,RDGave)+COUNTIF(BH$83:BH103,RDGevent)+BJ$57-1","v":0},null,"","",{"$f":"COUNTIF(BL$83:BL103,OK)+COUNTIF(BL$83:BL103,RDGfix)+COUNTIF(BL$83:BL103,RDGave)+COUNTIF(BL$83:BL103,RDGevent)+BN$57-1","v":0},null,"","",{"$f":"COUNTIF(BP$83:BP103,OK)+COUNTIF(BP$83:BP103,RDGfix)+COUNTIF(BP$83:BP103,RDGave)+COUNTIF(BP$83:BP103,RDGevent)+BR$57-1","v":0},null,"","",{"$f":"COUNTIF(BT$83:BT103,OK)+COUNTIF(BT$83:BT103,RDGfix)+COUNTIF(BT$83:BT103,RDGave)+COUNTIF(BT$83:BT103,RDGevent)+BV$57-1","v":0},null,"","",{"$f":"COUNTIF(BX$83:BX103,OK)+COUNTIF(BX$83:BX103,RDGfix)+COUNTIF(BX$83:BX103,RDGave)+COUNTIF(BX$83:BX103,RDGevent)+BZ$57-1","v":0},null,"","",{"$f":"COUNTIF(CB$83:CB103,OK)+COUNTIF(CB$83:CB103,RDGfix)+COUNTIF(CB$83:CB103,RDGave)+COUNTIF(CB$83:CB103,RDGevent)+CD$57-1","v":0},null,"","",{"$f":"COUNTIF(CF$83:CF103,OK)+COUNTIF(CF$83:CF103,RDGfix)+COUNTIF(CF$83:CF103,RDGave)+COUNTIF(CF$83:CF103,RDGevent)+CH$57-1","v":0},null,"","",{"$f":"COUNTIF(CJ$83:CJ103,OK)+COUNTIF(CJ$83:CJ103,RDGfix)+COUNTIF(CJ$83:CJ103,RDGave)+COUNTIF(CJ$83:CJ103,RDGevent)+CL$57-1","v":0},null,"","",{"$f":"COUNTIF(CN$83:CN103,OK)+COUNTIF(CN$83:CN103,RDGfix)+COUNTIF(CN$83:CN103,RDGave)+COUNTIF(CN$83:CN103,RDGevent)+CP$57-1","v":0},null,"","",{"$f":"COUNTIF(CR$83:CR103,OK)+COUNTIF(CR$83:CR103,RDGfix)+COUNTIF(CR$83:CR103,RDGave)+COUNTIF(CR$83:CR103,RDGevent)+CT$57-1","v":0},null,"","",{"$f":"COUNTIF(CV$83:CV103,OK)+COUNTIF(CV$83:CV103,RDGfix)+COUNTIF(CV$83:CV103,RDGave)+COUNTIF(CV$83:CV103,RDGevent)+CX$57-1","v":0},null,"","",{"$f":"COUNTIF(CZ$83:CZ103,OK)+COUNTIF(CZ$83:CZ103,RDGfix)+COUNTIF(CZ$83:CZ103,RDGave)+COUNTIF(CZ$83:CZ103,RDGevent)+DB$57-1","v":0},null,"","",{"$f":"COUNTIF(DD$83:DD103,OK)+COUNTIF(DD$83:DD103,RDGfix)+COUNTIF(DD$83:DD103,RDGave)+COUNTIF(DD$83:DD103,RDGevent)+DF$57-1","v":0},null,"","",{"$f":"COUNTIF(DH$83:DH103,OK)+COUNTIF(DH$83:DH103,RDGfix)+COUNTIF(DH$83:DH103,RDGave)+COUNTIF(DH$83:DH103,RDGevent)+DJ$57-1","v":0},null,"","",{"$f":"COUNTIF(DL$83:DL103,OK)+COUNTIF(DL$83:DL103,RDGfix)+COUNTIF(DL$83:DL103,RDGave)+COUNTIF(DL$83:DL103,RDGevent)+DN$57-1","v":0},null,"","",{"$f":"COUNTIF(DP$83:DP103,OK)+COUNTIF(DP$83:DP103,RDGfix)+COUNTIF(DP$83:DP103,RDGave)+COUNTIF(DP$83:DP103,RDGevent)+DR$57-1","v":0},null,"","",{"$f":"COUNTIF(DT$83:DT103,OK)+COUNTIF(DT$83:DT103,RDGfix)+COUNTIF(DT$83:DT103,RDGave)+COUNTIF(DT$83:DT103,RDGevent)+DV$57-1","v":0},null,"","",{"$f":"COUNTIF(DX$83:DX103,OK)+COUNTIF(DX$83:DX103,RDGfix)+COUNTIF(DX$83:DX103,RDGave)+COUNTIF(DX$83:DX103,RDGevent)+DZ$57-1","v":0},null,"","",{"$f":"COUNTIF(EB$83:EB103,OK)+COUNTIF(EB$83:EB103,RDGfix)+COUNTIF(EB$83:EB103,RDGave)+COUNTIF(EB$83:EB103,RDGevent)+ED$57-1","v":0},null,"","",{"$f":"COUNTIF(EF$83:EF103,OK)+COUNTIF(EF$83:EF103,RDGfix)+COUNTIF(EF$83:EF103,RDGave)+COUNTIF(EF$83:EF103,RDGevent)+EH$57-1","v":0},null,"","",{"$f":"COUNTIF(EJ$83:EJ103,OK)+COUNTIF(EJ$83:EJ103,RDGfix)+COUNTIF(EJ$83:EJ103,RDGave)+COUNTIF(EJ$83:EJ103,RDGevent)+EL$57-1","v":0},null,"","",{"$f":"COUNTIF(EN$83:EN103,OK)+COUNTIF(EN$83:EN103,RDGfix)+COUNTIF(EN$83:EN103,RDGave)+COUNTIF(EN$83:EN103,RDGevent)+EP$57-1","v":0},null,"","",{"$f":"COUNTIF(ER$83:ER103,OK)+COUNTIF(ER$83:ER103,RDGfix)+COUNTIF(ER$83:ER103,RDGave)+COUNTIF(ER$83:ER103,RDGevent)+ET$57-1","v":0},null,"","",{"$f":"COUNTIF(EV$83:EV103,OK)+COUNTIF(EV$83:EV103,RDGfix)+COUNTIF(EV$83:EV103,RDGave)+COUNTIF(EV$83:EV103,RDGevent)+EX$57-1","v":0},null,"","",{"$f":"COUNTIF(EZ$83:EZ103,OK)+COUNTIF(EZ$83:EZ103,RDGfix)+COUNTIF(EZ$83:EZ103,RDGave)+COUNTIF(EZ$83:EZ103,RDGevent)+FB$57-1","v":0},null,"","",{"$f":"COUNTIF(FD$83:FD103,OK)+COUNTIF(FD$83:FD103,RDGfix)+COUNTIF(FD$83:FD103,RDGave)+COUNTIF(FD$83:FD103,RDGevent)+FF$57-1","v":0},null,"","",{"$f":"COUNTIF(FH$83:FH103,OK)+COUNTIF(FH$83:FH103,RDGfix)+COUNTIF(FH$83:FH103,RDGave)+COUNTIF(FH$83:FH103,RDGevent)+FJ$57-1","v":0}]
[{"$f":"IF('Score Sheet'!C100=0,\"\", 'Score Sheet'!C100 )","v":""},"22nd",null,"","",{"$f":"COUNTIF(D$83:D104,OK)+COUNTIF(D$83:D104,RDGfix)+COUNTIF(D$83:D104,RDGave)+COUNTIF(D$83:D104,RDGevent)","v":0},null,"","",{"$f":"COUNTIF(H$83:H104,OK)+COUNTIF(H$83:H104,RDGfix)+COUNTIF(H$83:H104,RDGave)+COUNTIF(H$83:H104,RDGevent)+J$57-1","v":0},null,"","",{"$f":"COUNTIF(L$83:L104,OK)+COUNTIF(L$83:L104,RDGfix)+COUNTIF(L$83:L104,RDGave)+COUNTIF(L$83:L104,RDGevent)+N$57-1","v":0},null,"","",{"$f":"COUNTIF(P$83:P104,OK)+COUNTIF(P$83:P104,RDGfix)+COUNTIF(P$83:P104,RDGave)+COUNTIF(P$83:P104,RDGevent)+R$57-1","v":0},null,"","",{"$f":"COUNTIF(T$83:T104,OK)+COUNTIF(T$83:T104,RDGfix)+COUNTIF(T$83:T104,RDGave)+COUNTIF(T$83:T104,RDGevent)+V$57-1","v":0},null,"","",{"$f":"COUNTIF(X$83:X104,OK)+COUNTIF(X$83:X104,RDGfix)+COUNTIF(X$83:X104,RDGave)+COUNTIF(X$83:X104,RDGevent)+Z$57-1","v":0},null,"","",{"$f":"COUNTIF(AB$83:AB104,OK)+COUNTIF(AB$83:AB104,RDGfix)+COUNTIF(AB$83:AB104,RDGave)+COUNTIF(AB$83:AB104,RDGevent)+AD$57-1","v":0},null,"","",{"$f":"COUNTIF(AF$83:AF104,OK)+COUNTIF(AF$83:AF104,RDGfix)+COUNTIF(AF$83:AF104,RDGave)+COUNTIF(AF$83:AF104,RDGevent)+AH$57-1","v":0},null,"","",{"$f":"COUNTIF(AJ$83:AJ104,OK)+COUNTIF(AJ$83:AJ104,RDGfix)+COUNTIF(AJ$83:AJ104,RDGave)+COUNTIF(AJ$83:AJ104,RDGevent)+AL$57-1","v":0},null,"","",{"$f":"COUNTIF(AN$83:AN104,OK)+COUNTIF(AN$83:AN104,RDGfix)+COUNTIF(AN$83:AN104,RDGave)+COUNTIF(AN$83:AN104,RDGevent)+AP$57-1","v":0},null,"","",{"$f":"COUNTIF(AR$83:AR104,OK)+COUNTIF(AR$83:AR104,RDGfix)+COUNTIF(AR$83:AR104,RDGave)+COUNTIF(AR$83:AR104,RDGevent)+AT$57-1","v":0},null,"","",{"$f":"COUNTIF(AV$83:AV104,OK)+COUNTIF(AV$83:AV104,RDGfix)+COUNTIF(AV$83:AV104,RDGave)+COUNTIF(AV$83:AV104,RDGevent)+AX$57-1","v":0},null,"","",{"$f":"COUNTIF(AZ$83:AZ104,OK)+COUNTIF(AZ$83:AZ104,RDGfix)+COUNTIF(AZ$83:AZ104,RDGave)+COUNTIF(AZ$83:AZ104,RDGevent)+BB$57-1","v":0},null,"","",{"$f":"COUNTIF(BD$83:BD104,OK)+COUNTIF(BD$83:BD104,RDGfix)+COUNTIF(BD$83:BD104,RDGave)+COUNTIF(BD$83:BD104,RDGevent)+BF$57-1","v":0},null,"","",{"$f":"COUNTIF(BH$83:BH104,OK)+COUNTIF(BH$83:BH104,RDGfix)+COUNTIF(BH$83:BH104,RDGave)+COUNTIF(BH$83:BH104,RDGevent)+BJ$57-1","v":0},null,"","",{"$f":"COUNTIF(BL$83:BL104,OK)+COUNTIF(BL$83:BL104,RDGfix)+COUNTIF(BL$83:BL104,RDGave)+COUNTIF(BL$83:BL104,RDGevent)+BN$57-1","v":0},null,"","",{"$f":"COUNTIF(BP$83:BP104,OK)+COUNTIF(BP$83:BP104,RDGfix)+COUNTIF(BP$83:BP104,RDGave)+COUNTIF(BP$83:BP104,RDGevent)+BR$57-1","v":0},null,"","",{"$f":"COUNTIF(BT$83:BT104,OK)+COUNTIF(BT$83:BT104,RDGfix)+COUNTIF(BT$83:BT104,RDGave)+COUNTIF(BT$83:BT104,RDGevent)+BV$57-1","v":0},null,"","",{"$f":"COUNTIF(BX$83:BX104,OK)+COUNTIF(BX$83:BX104,RDGfix)+COUNTIF(BX$83:BX104,RDGave)+COUNTIF(BX$83:BX104,RDGevent)+BZ$57-1","v":0},null,"","",{"$f":"COUNTIF(CB$83:CB104,OK)+COUNTIF(CB$83:CB104,RDGfix)+COUNTIF(CB$83:CB104,RDGave)+COUNTIF(CB$83:CB104,RDGevent)+CD$57-1","v":0},null,"","",{"$f":"COUNTIF(CF$83:CF104,OK)+COUNTIF(CF$83:CF104,RDGfix)+COUNTIF(CF$83:CF104,RDGave)+COUNTIF(CF$83:CF104,RDGevent)+CH$57-1","v":0},null,"","",{"$f":"COUNTIF(CJ$83:CJ104,OK)+COUNTIF(CJ$83:CJ104,RDGfix)+COUNTIF(CJ$83:CJ104,RDGave)+COUNTIF(CJ$83:CJ104,RDGevent)+CL$57-1","v":0},null,"","",{"$f":"COUNTIF(CN$83:CN104,OK)+COUNTIF(CN$83:CN104,RDGfix)+COUNTIF(CN$83:CN104,RDGave)+COUNTIF(CN$83:CN104,RDGevent)+CP$57-1","v":0},null,"","",{"$f":"COUNTIF(CR$83:CR104,OK)+COUNTIF(CR$83:CR104,RDGfix)+COUNTIF(CR$83:CR104,RDGave)+COUNTIF(CR$83:CR104,RDGevent)+CT$57-1","v":0},null,"","",{"$f":"COUNTIF(CV$83:CV104,OK)+COUNTIF(CV$83:CV104,RDGfix)+COUNTIF(CV$83:CV104,RDGave)+COUNTIF(CV$83:CV104,RDGevent)+CX$57-1","v":0},null,"","",{"$f":"COUNTIF(CZ$83:CZ104,OK)+COUNTIF(CZ$83:CZ104,RDGfix)+COUNTIF(CZ$83:CZ104,RDGave)+COUNTIF(CZ$83:CZ104,RDGevent)+DB$57-1","v":0},null,"","",{"$f":"COUNTIF(DD$83:DD104,OK)+COUNTIF(DD$83:DD104,RDGfix)+COUNTIF(DD$83:DD104,RDGave)+COUNTIF(DD$83:DD104,RDGevent)+DF$57-1","v":0},null,"","",{"$f":"COUNTIF(DH$83:DH104,OK)+COUNTIF(DH$83:DH104,RDGfix)+COUNTIF(DH$83:DH104,RDGave)+COUNTIF(DH$83:DH104,RDGevent)+DJ$57-1","v":0},null,"","",{"$f":"COUNTIF(DL$83:DL104,OK)+COUNTIF(DL$83:DL104,RDGfix)+COUNTIF(DL$83:DL104,RDGave)+COUNTIF(DL$83:DL104,RDGevent)+DN$57-1","v":0},null,"","",{"$f":"COUNTIF(DP$83:DP104,OK)+COUNTIF(DP$83:DP104,RDGfix)+COUNTIF(DP$83:DP104,RDGave)+COUNTIF(DP$83:DP104,RDGevent)+DR$57-1","v":0},null,"","",{"$f":"COUNTIF(DT$83:DT104,OK)+COUNTIF(DT$83:DT104,RDGfix)+COUNTIF(DT$83:DT104,RDGave)+COUNTIF(DT$83:DT104,RDGevent)+DV$57-1","v":0},null,"","",{"$f":"COUNTIF(DX$83:DX104,OK)+COUNTIF(DX$83:DX104,RDGfix)+COUNTIF(DX$83:DX104,RDGave)+COUNTIF(DX$83:DX104,RDGevent)+DZ$57-1","v":0},null,"","",{"$f":"COUNTIF(EB$83:EB104,OK)+COUNTIF(EB$83:EB104,RDGfix)+COUNTIF(EB$83:EB104,RDGave)+COUNTIF(EB$83:EB104,RDGevent)+ED$57-1","v":0},null,"","",{"$f":"COUNTIF(EF$83:EF104,OK)+COUNTIF(EF$83:EF104,RDGfix)+COUNTIF(EF$83:EF104,RDGave)+COUNTIF(EF$83:EF104,RDGevent)+EH$57-1","v":0},null,"","",{"$f":"COUNTIF(EJ$83:EJ104,OK)+COUNTIF(EJ$83:EJ104,RDGfix)+COUNTIF(EJ$83:EJ104,RDGave)+COUNTIF(EJ$83:EJ104,RDGevent)+EL$57-1","v":0},null,"","",{"$f":"COUNTIF(EN$83:EN104,OK)+COUNTIF(EN$83:EN104,RDGfix)+COUNTIF(EN$83:EN104,RDGave)+COUNTIF(EN$83:EN104,RDGevent)+EP$57-1","v":0},null,"","",{"$f":"COUNTIF(ER$83:ER104,OK)+COUNTIF(ER$83:ER104,RDGfix)+COUNTIF(ER$83:ER104,RDGave)+COUNTIF(ER$83:ER104,RDGevent)+ET$57-1","v":0},null,"","",{"$f":"COUNTIF(EV$83:EV104,OK)+COUNTIF(EV$83:EV104,RDGfix)+COUNTIF(EV$83:EV104,RDGave)+COUNTIF(EV$83:EV104,RDGevent)+EX$57-1","v":0},null,"","",{"$f":"COUNTIF(EZ$83:EZ104,OK)+COUNTIF(EZ$83:EZ104,RDGfix)+COUNTIF(EZ$83:EZ104,RDGave)+COUNTIF(EZ$83:EZ104,RDGevent)+FB$57-1","v":0},null,"","",{"$f":"COUNTIF(FD$83:FD104,OK)+COUNTIF(FD$83:FD104,RDGfix)+COUNTIF(FD$83:FD104,RDGave)+COUNTIF(FD$83:FD104,RDGevent)+FF$57-1","v":0},null,"","",{"$f":"COUNTIF(FH$83:FH104,OK)+COUNTIF(FH$83:FH104,RDGfix)+COUNTIF(FH$83:FH104,RDGave)+COUNTIF(FH$83:FH104,RDGevent)+FJ$57-1","v":0}]
[{"$f":"IF('Score Sheet'!C101=0,\"\", 'Score Sheet'!C101 )","v":""},"23rd",null,"","",{"$f":"COUNTIF(D$83:D105,OK)+COUNTIF(D$83:D105,RDGfix)+COUNTIF(D$83:D105,RDGave)+COUNTIF(D$83:D105,RDGevent)","v":0},null,"","",{"$f":"COUNTIF(H$83:H105,OK)+COUNTIF(H$83:H105,RDGfix)+COUNTIF(H$83:H105,RDGave)+COUNTIF(H$83:H105,RDGevent)+J$57-1","v":0},null,"","",{"$f":"COUNTIF(L$83:L105,OK)+COUNTIF(L$83:L105,RDGfix)+COUNTIF(L$83:L105,RDGave)+COUNTIF(L$83:L105,RDGevent)+N$57-1","v":0},null,"","",{"$f":"COUNTIF(P$83:P105,OK)+COUNTIF(P$83:P105,RDGfix)+COUNTIF(P$83:P105,RDGave)+COUNTIF(P$83:P105,RDGevent)+R$57-1","v":0},null,"","",{"$f":"COUNTIF(T$83:T105,OK)+COUNTIF(T$83:T105,RDGfix)+COUNTIF(T$83:T105,RDGave)+COUNTIF(T$83:T105,RDGevent)+V$57-1","v":0},null,"","",{"$f":"COUNTIF(X$83:X105,OK)+COUNTIF(X$83:X105,RDGfix)+COUNTIF(X$83:X105,RDGave)+COUNTIF(X$83:X105,RDGevent)+Z$57-1","v":0},null,"","",{"$f":"COUNTIF(AB$83:AB105,OK)+COUNTIF(AB$83:AB105,RDGfix)+COUNTIF(AB$83:AB105,RDGave)+COUNTIF(AB$83:AB105,RDGevent)+AD$57-1","v":0},null,"","",{"$f":"COUNTIF(AF$83:AF105,OK)+COUNTIF(AF$83:AF105,RDGfix)+COUNTIF(AF$83:AF105,RDGave)+COUNTIF(AF$83:AF105,RDGevent)+AH$57-1","v":0},null,"","",{"$f":"COUNTIF(AJ$83:AJ105,OK)+COUNTIF(AJ$83:AJ105,RDGfix)+COUNTIF(AJ$83:AJ105,RDGave)+COUNTIF(AJ$83:AJ105,RDGevent)+AL$57-1","v":0},null,"","",{"$f":"COUNTIF(AN$83:AN105,OK)+COUNTIF(AN$83:AN105,RDGfix)+COUNTIF(AN$83:AN105,RDGave)+COUNTIF(AN$83:AN105,RDGevent)+AP$57-1","v":0},null,"","",{"$f":"COUNTIF(AR$83:AR105,OK)+COUNTIF(AR$83:AR105,RDGfix)+COUNTIF(AR$83:AR105,RDGave)+COUNTIF(AR$83:AR105,RDGevent)+AT$57-1","v":0},null,"","",{"$f":"COUNTIF(AV$83:AV105,OK)+COUNTIF(AV$83:AV105,RDGfix)+COUNTIF(AV$83:AV105,RDGave)+COUNTIF(AV$83:AV105,RDGevent)+AX$57-1","v":0},null,"","",{"$f":"COUNTIF(AZ$83:AZ105,OK)+COUNTIF(AZ$83:AZ105,RDGfix)+COUNTIF(AZ$83:AZ105,RDGave)+COUNTIF(AZ$83:AZ105,RDGevent)+BB$57-1","v":0},null,"","",{"$f":"COUNTIF(BD$83:BD105,OK)+COUNTIF(BD$83:BD105,RDGfix)+COUNTIF(BD$83:BD105,RDGave)+COUNTIF(BD$83:BD105,RDGevent)+BF$57-1","v":0},null,"","",{"$f":"COUNTIF(BH$83:BH105,OK)+COUNTIF(BH$83:BH105,RDGfix)+COUNTIF(BH$83:BH105,RDGave)+COUNTIF(BH$83:BH105,RDGevent)+BJ$57-1","v":0},null,"","",{"$f":"COUNTIF(BL$83:BL105,OK)+COUNTIF(BL$83:BL105,RDGfix)+COUNTIF(BL$83:BL105,RDGave)+COUNTIF(BL$83:BL105,RDGevent)+BN$57-1","v":0},null,"","",{"$f":"COUNTIF(BP$83:BP105,OK)+COUNTIF(BP$83:BP105,RDGfix)+COUNTIF(BP$83:BP105,RDGave)+COUNTIF(BP$83:BP105,RDGevent)+BR$57-1","v":0},null,"","",{"$f":"COUNTIF(BT$83:BT105,OK)+COUNTIF(BT$83:BT105,RDGfix)+COUNTIF(BT$83:BT105,RDGave)+COUNTIF(BT$83:BT105,RDGevent)+BV$57-1","v":0},null,"","",{"$f":"COUNTIF(BX$83:BX105,OK)+COUNTIF(BX$83:BX105,RDGfix)+COUNTIF(BX$83:BX105,RDGave)+COUNTIF(BX$83:BX105,RDGevent)+BZ$57-1","v":0},null,"","",{"$f":"COUNTIF(CB$83:CB105,OK)+COUNTIF(CB$83:CB105,RDGfix)+COUNTIF(CB$83:CB105,RDGave)+COUNTIF(CB$83:CB105,RDGevent)+CD$57-1","v":0},null,"","",{"$f":"COUNTIF(CF$83:CF105,OK)+COUNTIF(CF$83:CF105,RDGfix)+COUNTIF(CF$83:CF105,RDGave)+COUNTIF(CF$83:CF105,RDGevent)+CH$57-1","v":0},null,"","",{"$f":"COUNTIF(CJ$83:CJ105,OK)+COUNTIF(CJ$83:CJ105,RDGfix)+COUNTIF(CJ$83:CJ105,RDGave)+COUNTIF(CJ$83:CJ105,RDGevent)+CL$57-1","v":0},null,"","",{"$f":"COUNTIF(CN$83:CN105,OK)+COUNTIF(CN$83:CN105,RDGfix)+COUNTIF(CN$83:CN105,RDGave)+COUNTIF(CN$83:CN105,RDGevent)+CP$57-1","v":0},null,"","",{"$f":"COUNTIF(CR$83:CR105,OK)+COUNTIF(CR$83:CR105,RDGfix)+COUNTIF(CR$83:CR105,RDGave)+COUNTIF(CR$83:CR105,RDGevent)+CT$57-1","v":0},null,"","",{"$f":"COUNTIF(CV$83:CV105,OK)+COUNTIF(CV$83:CV105,RDGfix)+COUNTIF(CV$83:CV105,RDGave)+COUNTIF(CV$83:CV105,RDGevent)+CX$57-1","v":0},null,"","",{"$f":"COUNTIF(CZ$83:CZ105,OK)+COUNTIF(CZ$83:CZ105,RDGfix)+COUNTIF(CZ$83:CZ105,RDGave)+COUNTIF(CZ$83:CZ105,RDGevent)+DB$57-1","v":0},null,"","",{"$f":"COUNTIF(DD$83:DD105,OK)+COUNTIF(DD$83:DD105,RDGfix)+COUNTIF(DD$83:DD105,RDGave)+COUNTIF(DD$83:DD105,RDGevent)+DF$57-1","v":0},null,"","",{"$f":"COUNTIF(DH$83:DH105,OK)+COUNTIF(DH$83:DH105,RDGfix)+COUNTIF(DH$83:DH105,RDGave)+COUNTIF(DH$83:DH105,RDGevent)+DJ$57-1","v":0},null,"","",{"$f":"COUNTIF(DL$83:DL105,OK)+COUNTIF(DL$83:DL105,RDGfix)+COUNTIF(DL$83:DL105,RDGave)+COUNTIF(DL$83:DL105,RDGevent)+DN$57-1","v":0},null,"","",{"$f":"COUNTIF(DP$83:DP105,OK)+COUNTIF(DP$83:DP105,RDGfix)+COUNTIF(DP$83:DP105,RDGave)+COUNTIF(DP$83:DP105,RDGevent)+DR$57-1","v":0},null,"","",{"$f":"COUNTIF(DT$83:DT105,OK)+COUNTIF(DT$83:DT105,RDGfix)+COUNTIF(DT$83:DT105,RDGave)+COUNTIF(DT$83:DT105,RDGevent)+DV$57-1","v":0},null,"","",{"$f":"COUNTIF(DX$83:DX105,OK)+COUNTIF(DX$83:DX105,RDGfix)+COUNTIF(DX$83:DX105,RDGave)+COUNTIF(DX$83:DX105,RDGevent)+DZ$57-1","v":0},null,"","",{"$f":"COUNTIF(EB$83:EB105,OK)+COUNTIF(EB$83:EB105,RDGfix)+COUNTIF(EB$83:EB105,RDGave)+COUNTIF(EB$83:EB105,RDGevent)+ED$57-1","v":0},null,"","",{"$f":"COUNTIF(EF$83:EF105,OK)+COUNTIF(EF$83:EF105,RDGfix)+COUNTIF(EF$83:EF105,RDGave)+COUNTIF(EF$83:EF105,RDGevent)+EH$57-1","v":0},null,"","",{"$f":"COUNTIF(EJ$83:EJ105,OK)+COUNTIF(EJ$83:EJ105,RDGfix)+COUNTIF(EJ$83:EJ105,RDGave)+COUNTIF(EJ$83:EJ105,RDGevent)+EL$57-1","v":0},null,"","",{"$f":"COUNTIF(EN$83:EN105,OK)+COUNTIF(EN$83:EN105,RDGfix)+COUNTIF(EN$83:EN105,RDGave)+COUNTIF(EN$83:EN105,RDGevent)+EP$57-1","v":0},null,"","",{"$f":"COUNTIF(ER$83:ER105,OK)+COUNTIF(ER$83:ER105,RDGfix)+COUNTIF(ER$83:ER105,RDGave)+COUNTIF(ER$83:ER105,RDGevent)+ET$57-1","v":0},null,"","",{"$f":"COUNTIF(EV$83:EV105,OK)+COUNTIF(EV$83:EV105,RDGfix)+COUNTIF(EV$83:EV105,RDGave)+COUNTIF(EV$83:EV105,RDGevent)+EX$57-1","v":0},null,"","",{"$f":"COUNTIF(EZ$83:EZ105,OK)+COUNTIF(EZ$83:EZ105,RDGfix)+COUNTIF(EZ$83:EZ105,RDGave)+COUNTIF(EZ$83:EZ105,RDGevent)+FB$57-1","v":0},null,"","",{"$f":"COUNTIF(FD$83:FD105,OK)+COUNTIF(FD$83:FD105,RDGfix)+COUNTIF(FD$83:FD105,RDGave)+COUNTIF(FD$83:FD105,RDGevent)+FF$57-1","v":0},null,"","",{"$f":"COUNTIF(FH$83:FH105,OK)+COUNTIF(FH$83:FH105,RDGfix)+COUNTIF(FH$83:FH105,RDGave)+COUNTIF(FH$83:FH105,RDGevent)+FJ$57-1","v":0}]
[null,"24th",null,"","",{"$f":"COUNTIF(D$83:D106,OK)+COUNTIF(D$83:D106,RDGfix)+COUNTIF(D$83:D106,RDGave)+COUNTIF(D$83:D106,RDGevent)","v":0},null,{"$f":"IF(G106=\"\",\"\",OK)","v":""},{"$f":"IF(G106=\"\",\"\",IF(AND(H$82=\"L\",H106=\"DNC\"),$I$2,\nIF(H106=OK,J106,IF(HLOOKUP(H106,Comments3,2,FALSE)=D,J$82,IF(HLOOKUP(H106,Comments3,2,FALSE)=A,VLOOKUP(G106,Averages,G$4,FALSE),IF(HLOOKUP(H106,Comments3,2,FALSE)=E,VLOOKUP(G106,EventAverage,2,FALSE), HLOOKUP(H106,Comments4,2,FALSE)))))))","v":""},{"$f":"COUNTIF(H$83:H106,OK)+COUNTIF(H$83:H106,RDGfix)+COUNTIF(H$83:H106,RDGave)+COUNTIF(H$83:H106,RDGevent)+J$57-1","v":0},null,{"$f":"IF(K106=\"\",\"\",OK)","v":""},{"$f":"IF(K106=\"\",\"\",IF(AND(L$82=\"L\",L106=\"DNC\"),$I$2,\nIF(L106=OK,N106,IF(HLOOKUP(L106,Comments3,2,FALSE)=D,N$82,IF(HLOOKUP(L106,Comments3,2,FALSE)=A,VLOOKUP(K106,Averages,K$4,FALSE),IF(HLOOKUP(L106,Comments3,2,FALSE)=E,VLOOKUP(K106,EventAverage,2,FALSE), HLOOKUP(L106,Comments4,2,FALSE)))))))","v":""},{"$f":"COUNTIF(L$83:L106,OK)+COUNTIF(L$83:L106,RDGfix)+COUNTIF(L$83:L106,RDGave)+COUNTIF(L$83:L106,RDGevent)+N$57-1","v":0},null,{"$f":"IF(O106=\"\",\"\",OK)","v":""},{"$f":"IF(O106=\"\",\"\",IF(AND(P$82=\"L\",P106=\"DNC\"),$I$2,\nIF(P106=OK,R106,IF(HLOOKUP(P106,Comments3,2,FALSE)=D,R$82,IF(HLOOKUP(P106,Comments3,2,FALSE)=A,VLOOKUP(O106,Averages,O$4,FALSE),IF(HLOOKUP(P106,Comments3,2,FALSE)=E,VLOOKUP(O106,EventAverage,2,FALSE), HLOOKUP(P106,Comments4,2,FALSE)))))))","v":""},{"$f":"COUNTIF(P$83:P106,OK)+COUNTIF(P$83:P106,RDGfix)+COUNTIF(P$83:P106,RDGave)+COUNTIF(P$83:P106,RDGevent)+R$57-1","v":0},null,{"$f":"IF(S106=\"\",\"\",OK)","v":""},{"$f":"IF(S106=\"\",\"\",IF(AND(T$82=\"L\",T106=\"DNC\"),$I$2,\nIF(T106=OK,V106,IF(HLOOKUP(T106,Comments3,2,FALSE)=D,V$82,IF(HLOOKUP(T106,Comments3,2,FALSE)=A,VLOOKUP(S106,Averages,S$4,FALSE),IF(HLOOKUP(T106,Comments3,2,FALSE)=E,VLOOKUP(S106,EventAverage,2,FALSE), HLOOKUP(T106,Comments4,2,FALSE)))))))","v":""},{"$f":"COUNTIF(T$83:T106,OK)+COUNTIF(T$83:T106,RDGfix)+COUNTIF(T$83:T106,RDGave)+COUNTIF(T$83:T106,RDGevent)+V$57-1","v":0},null,{"$f":"IF(W106=\"\",\"\",OK)","v":""},{"$f":"IF(W106=\"\",\"\",IF(AND(X$82=\"L\",X106=\"DNC\"),$I$2,\nIF(X106=OK,Z106,IF(HLOOKUP(X106,Comments3,2,FALSE)=D,Z$82,IF(HLOOKUP(X106,Comments3,2,FALSE)=A,VLOOKUP(W106,Averages,W$4,FALSE),IF(HLOOKUP(X106,Comments3,2,FALSE)=E,VLOOKUP(W106,EventAverage,2,FALSE), HLOOKUP(X106,Comments4,2,FALSE)))))))","v":""},{"$f":"COUNTIF(X$83:X106,OK)+COUNTIF(X$83:X106,RDGfix)+COUNTIF(X$83:X106,RDGave)+COUNTIF(X$83:X106,RDGevent)+Z$57-1","v":0},null,{"$f":"IF(AA106=\"\",\"\",OK)","v":""},{"$f":"IF(AA106=\"\",\"\",IF(AND(AB$82=\"L\",AB106=\"DNC\"),$I$2,\nIF(AB106=OK,AD106,IF(HLOOKUP(AB106,Comments3,2,FALSE)=D,AD$82,IF(HLOOKUP(AB106,Comments3,2,FALSE)=A,VLOOKUP(AA106,Averages,AA$4,FALSE),IF(HLOOKUP(AB106,Comments3,2,FALSE)=E,VLOOKUP(AA106,EventAverage,2,FALSE), HLOOKUP(AB106,Comments4,2,FALSE)))))))","v":""},{"$f":"COUNTIF(AB$83:AB106,OK)+COUNTIF(AB$83:AB106,RDGfix)+COUNTIF(AB$83:AB106,RDGave)+COUNTIF(AB$83:AB106,RDGevent)+AD$57-1","v":0},null,{"$f":"IF(AE106=\"\",\"\",OK)","v":""},{"$f":"IF(AE106=\"\",\"\",IF(AND(AF$82=\"L\",AF106=\"DNC\"),$I$2,\nIF(AF106=OK,AH106,IF(HLOOKUP(AF106,Comments3,2,FALSE)=D,AH$82,IF(HLOOKUP(AF106,Comments3,2,FALSE)=A,VLOOKUP(AE106,Averages,AE$4,FALSE),IF(HLOOKUP(AF106,Comments3,2,FALSE)=E,VLOOKUP(AE106,EventAverage,2,FALSE), HLOOKUP(AF106,Comments4,2,FALSE)))))))","v":""},{"$f":"COUNTIF(AF$83:AF106,OK)+COUNTIF(AF$83:AF106,RDGfix)+COUNTIF(AF$83:AF106,RDGave)+COUNTIF(AF$83:AF106,RDGevent)+AH$57-1","v":0},null,{"$f":"IF(AI106=\"\",\"\",OK)","v":""},{"$f":"IF(AI106=\"\",\"\",IF(AND(AJ$82=\"L\",AJ106=\"DNC\"),$I$2,\nIF(AJ106=OK,AL106,IF(HLOOKUP(AJ106,Comments3,2,FALSE)=D,AL$82,IF(HLOOKUP(AJ106,Comments3,2,FALSE)=A,VLOOKUP(AI106,Averages,AI$4,FALSE),IF(HLOOKUP(AJ106,Comments3,2,FALSE)=E,VLOOKUP(AI106,EventAverage,2,FALSE), HLOOKUP(AJ106,Comments4,2,FALSE)))))))","v":""},{"$f":"COUNTIF(AJ$83:AJ106,OK)+COUNTIF(AJ$83:AJ106,RDGfix)+COUNTIF(AJ$83:AJ106,RDGave)+COUNTIF(AJ$83:AJ106,RDGevent)+AL$57-1","v":0},null,{"$f":"IF(AM106=\"\",\"\",OK)","v":""},{"$f":"IF(AM106=\"\",\"\",IF(AND(AN$82=\"L\",AN106=\"DNC\"),$I$2,\nIF(AN106=OK,AP106,IF(HLOOKUP(AN106,Comments3,2,FALSE)=D,AP$82,IF(HLOOKUP(AN106,Comments3,2,FALSE)=A,VLOOKUP(AM106,Averages,AM$4,FALSE),IF(HLOOKUP(AN106,Comments3,2,FALSE)=E,VLOOKUP(AM106,EventAverage,2,FALSE), HLOOKUP(AN106,Comments4,2,FALSE)))))))","v":""},{"$f":"COUNTIF(AN$83:AN106,OK)+COUNTIF(AN$83:AN106,RDGfix)+COUNTIF(AN$83:AN106,RDGave)+COUNTIF(AN$83:AN106,RDGevent)+AP$57-1","v":0},null,{"$f":"IF(AQ106=\"\",\"\",OK)","v":""},{"$f":"IF(AQ106=\"\",\"\",IF(AND(AR$82=\"L\",AR106=\"DNC\"),$I$2,\nIF(AR106=OK,AT106,IF(HLOOKUP(AR106,Comments3,2,FALSE)=D,AT$82,IF(HLOOKUP(AR106,Comments3,2,FALSE)=A,VLOOKUP(AQ106,Averages,AQ$4,FALSE),IF(HLOOKUP(AR106,Comments3,2,FALSE)=E,VLOOKUP(AQ106,EventAverage,2,FALSE), HLOOKUP(AR106,Comments4,2,FALSE)))))))","v":""},{"$f":"COUNTIF(AR$83:AR106,OK)+COUNTIF(AR$83:AR106,RDGfix)+COUNTIF(AR$83:AR106,RDGave)+COUNTIF(AR$83:AR106,RDGevent)+AT$57-1","v":0},null,{"$f":"IF(AU106=\"\",\"\",OK)","v":""},{"$f":"IF(AU106=\"\",\"\",IF(AND(AV$82=\"L\",AV106=\"DNC\"),$I$2,\nIF(AV106=OK,AX106,IF(HLOOKUP(AV106,Comments3,2,FALSE)=D,AX$82,IF(HLOOKUP(AV106,Comments3,2,FALSE)=A,VLOOKUP(AU106,Averages,AU$4,FALSE),IF(HLOOKUP(AV106,Comments3,2,FALSE)=E,VLOOKUP(AU106,EventAverage,2,FALSE), HLOOKUP(AV106,Comments4,2,FALSE)))))))","v":""},{"$f":"COUNTIF(AV$83:AV106,OK)+COUNTIF(AV$83:AV106,RDGfix)+COUNTIF(AV$83:AV106,RDGave)+COUNTIF(AV$83:AV106,RDGevent)+AX$57-1","v":0},null,{"$f":"IF(AY106=\"\",\"\",OK)","v":""},{"$f":"IF(AY106=\"\",\"\",IF(AND(AZ$82=\"L\",AZ106=\"DNC\"),$I$2,\nIF(AZ106=OK,BB106,IF(HLOOKUP(AZ106,Comments3,2,FALSE)=D,BB$82,IF(HLOOKUP(AZ106,Comments3,2,FALSE)=A,VLOOKUP(AY106,Averages,AY$4,FALSE),IF(HLOOKUP(AZ106,Comments3,2,FALSE)=E,VLOOKUP(AY106,EventAverage,2,FALSE), HLOOKUP(AZ106,Comments4,2,FALSE)))))))","v":""},{"$f":"COUNTIF(AZ$83:AZ106,OK)+COUNTIF(AZ$83:AZ106,RDGfix)+COUNTIF(AZ$83:AZ106,RDGave)+COUNTIF(AZ$83:AZ106,RDGevent)+BB$57-1","v":0},null,{"$f":"IF(BC106=\"\",\"\",OK)","v":""},{"$f":"IF(BC106=\"\",\"\",IF(AND(BD$82=\"L\",BD106=\"DNC\"),$I$2,\nIF(BD106=OK,BF106,IF(HLOOKUP(BD106,Comments3,2,FALSE)=D,BF$82,IF(HLOOKUP(BD106,Comments3,2,FALSE)=A,VLOOKUP(BC106,Averages,BC$4,FALSE),IF(HLOOKUP(BD106,Comments3,2,FALSE)=E,VLOOKUP(BC106,EventAverage,2,FALSE), HLOOKUP(BD106,Comments4,2,FALSE)))))))","v":""},{"$f":"COUNTIF(BD$83:BD106,OK)+COUNTIF(BD$83:BD106,RDGfix)+COUNTIF(BD$83:BD106,RDGave)+COUNTIF(BD$83:BD106,RDGevent)+BF$57-1","v":0},null,{"$f":"IF(BG106=\"\",\"\",OK)","v":""},{"$f":"IF(BG106=\"\",\"\",IF(AND(BH$82=\"L\",BH106=\"DNC\"),$I$2,\nIF(BH106=OK,BJ106,IF(HLOOKUP(BH106,Comments3,2,FALSE)=D,BJ$82,IF(HLOOKUP(BH106,Comments3,2,FALSE)=A,VLOOKUP(BG106,Averages,BG$4,FALSE),IF(HLOOKUP(BH106,Comments3,2,FALSE)=E,VLOOKUP(BG106,EventAverage,2,FALSE), HLOOKUP(BH106,Comments4,2,FALSE)))))))","v":""},{"$f":"COUNTIF(BH$83:BH106,OK)+COUNTIF(BH$83:BH106,RDGfix)+COUNTIF(BH$83:BH106,RDGave)+COUNTIF(BH$83:BH106,RDGevent)+BJ$57-1","v":0},null,{"$f":"IF(BK106=\"\",\"\",OK)","v":""},{"$f":"IF(BK106=\"\",\"\",IF(AND(BL$82=\"L\",BL106=\"DNC\"),$I$2,\nIF(BL106=OK,BN106,IF(HLOOKUP(BL106,Comments3,2,FALSE)=D,BN$82,IF(HLOOKUP(BL106,Comments3,2,FALSE)=A,VLOOKUP(BK106,Averages,BK$4,FALSE),IF(HLOOKUP(BL106,Comments3,2,FALSE)=E,VLOOKUP(BK106,EventAverage,2,FALSE), HLOOKUP(BL106,Comments4,2,FALSE)))))))","v":""},{"$f":"COUNTIF(BL$83:BL106,OK)+COUNTIF(BL$83:BL106,RDGfix)+COUNTIF(BL$83:BL106,RDGave)+COUNTIF(BL$83:BL106,RDGevent)+BN$57-1","v":0},null,{"$f":"IF(BO106=\"\",\"\",OK)","v":""},{"$f":"IF(BO106=\"\",\"\",IF(AND(BP$82=\"L\",BP106=\"DNC\"),$I$2,\nIF(BP106=OK,BR106,IF(HLOOKUP(BP106,Comments3,2,FALSE)=D,BR$82,IF(HLOOKUP(BP106,Comments3,2,FALSE)=A,VLOOKUP(BO106,Averages,BO$4,FALSE),IF(HLOOKUP(BP106,Comments3,2,FALSE)=E,VLOOKUP(BO106,EventAverage,2,FALSE), HLOOKUP(BP106,Comments4,2,FALSE)))))))","v":""},{"$f":"COUNTIF(BP$83:BP106,OK)+COUNTIF(BP$83:BP106,RDGfix)+COUNTIF(BP$83:BP106,RDGave)+COUNTIF(BP$83:BP106,RDGevent)+BR$57-1","v":0},null,{"$f":"IF(BS106=\"\",\"\",OK)","v":""},{"$f":"IF(BS106=\"\",\"\",IF(AND(BT$82=\"L\",BT106=\"DNC\"),$I$2,\nIF(BT106=OK,BV106,IF(HLOOKUP(BT106,Comments3,2,FALSE)=D,BV$82,IF(HLOOKUP(BT106,Comments3,2,FALSE)=A,VLOOKUP(BS106,Averages,BS$4,FALSE),IF(HLOOKUP(BT106,Comments3,2,FALSE)=E,VLOOKUP(BS106,EventAverage,2,FALSE), HLOOKUP(BT106,Comments4,2,FALSE)))))))","v":""},{"$f":"COUNTIF(BT$83:BT106,OK)+COUNTIF(BT$83:BT106,RDGfix)+COUNTIF(BT$83:BT106,RDGave)+COUNTIF(BT$83:BT106,RDGevent)+BV$57-1","v":0},null,{"$f":"IF(BW106=\"\",\"\",OK)","v":""},{"$f":"IF(BW106=\"\",\"\",IF(AND(BX$82=\"L\",BX106=\"DNC\"),$I$2,\nIF(BX106=OK,BZ106,IF(HLOOKUP(BX106,Comments3,2,FALSE)=D,BZ$82,IF(HLOOKUP(BX106,Comments3,2,FALSE)=A,VLOOKUP(BW106,Averages,BW$4,FALSE),IF(HLOOKUP(BX106,Comments3,2,FALSE)=E,VLOOKUP(BW106,EventAverage,2,FALSE), HLOOKUP(BX106,Comments4,2,FALSE)))))))","v":""},{"$f":"COUNTIF(BX$83:BX106,OK)+COUNTIF(BX$83:BX106,RDGfix)+COUNTIF(BX$83:BX106,RDGave)+COUNTIF(BX$83:BX106,RDGevent)+BZ$57-1","v":0},null,{"$f":"IF(CA106=\"\",\"\",OK)","v":""},{"$f":"IF(CA106=\"\",\"\",IF(AND(CB$82=\"L\",CB106=\"DNC\"),$I$2,\nIF(CB106=OK,CD106,IF(HLOOKUP(CB106,Comments3,2,FALSE)=D,CD$82,IF(HLOOKUP(CB106,Comments3,2,FALSE)=A,VLOOKUP(CA106,Averages,CA$4,FALSE),IF(HLOOKUP(CB106,Comments3,2,FALSE)=E,VLOOKUP(CA106,EventAverage,2,FALSE), HLOOKUP(CB106,Comments4,2,FALSE)))))))","v":""},{"$f":"COUNTIF(CB$83:CB106,OK)+COUNTIF(CB$83:CB106,RDGfix)+COUNTIF(CB$83:CB106,RDGave)+COUNTIF(CB$83:CB106,RDGevent)+CD$57-1","v":0},null,{"$f":"IF(CE106=\"\",\"\",OK)","v":""},{"$f":"IF(CE106=\"\",\"\",IF(AND(CF$82=\"L\",CF106=\"DNC\"),$I$2,\nIF(CF106=OK,CH106,IF(HLOOKUP(CF106,Comments3,2,FALSE)=D,CH$82,IF(HLOOKUP(CF106,Comments3,2,FALSE)=A,VLOOKUP(CE106,Averages,CE$4,FALSE),IF(HLOOKUP(CF106,Comments3,2,FALSE)=E,VLOOKUP(CE106,EventAverage,2,FALSE), HLOOKUP(CF106,Comments4,2,FALSE)))))))","v":""},{"$f":"COUNTIF(CF$83:CF106,OK)+COUNTIF(CF$83:CF106,RDGfix)+COUNTIF(CF$83:CF106,RDGave)+COUNTIF(CF$83:CF106,RDGevent)+CH$57-1","v":0},null,{"$f":"IF(CI106=\"\",\"\",OK)","v":""},{"$f":"IF(CI106=\"\",\"\",IF(AND(CJ$82=\"L\",CJ106=\"DNC\"),$I$2,\nIF(CJ106=OK,CL106,IF(HLOOKUP(CJ106,Comments3,2,FALSE)=D,CL$82,IF(HLOOKUP(CJ106,Comments3,2,FALSE)=A,VLOOKUP(CI106,Averages,CI$4,FALSE),IF(HLOOKUP(CJ106,Comments3,2,FALSE)=E,VLOOKUP(CI106,EventAverage,2,FALSE), HLOOKUP(CJ106,Comments4,2,FALSE)))))))","v":""},{"$f":"COUNTIF(CJ$83:CJ106,OK)+COUNTIF(CJ$83:CJ106,RDGfix)+COUNTIF(CJ$83:CJ106,RDGave)+COUNTIF(CJ$83:CJ106,RDGevent)+CL$57-1","v":0},null,{"$f":"IF(CM106=\"\",\"\",OK)","v":""},{"$f":"IF(CM106=\"\",\"\",IF(AND(CN$82=\"L\",CN106=\"DNC\"),$I$2,\nIF(CN106=OK,CP106,IF(HLOOKUP(CN106,Comments3,2,FALSE)=D,CP$82,IF(HLOOKUP(CN106,Comments3,2,FALSE)=A,VLOOKUP(CM106,Averages,CM$4,FALSE),IF(HLOOKUP(CN106,Comments3,2,FALSE)=E,VLOOKUP(CM106,EventAverage,2,FALSE), HLOOKUP(CN106,Comments4,2,FALSE)))))))","v":""},{"$f":"COUNTIF(CN$83:CN106,OK)+COUNTIF(CN$83:CN106,RDGfix)+COUNTIF(CN$83:CN106,RDGave)+COUNTIF(CN$83:CN106,RDGevent)+CP$57-1","v":0},null,{"$f":"IF(CQ106=\"\",\"\",OK)","v":""},{"$f":"IF(CQ106=\"\",\"\",IF(AND(CR$82=\"L\",CR106=\"DNC\"),$I$2,\nIF(CR106=OK,CT106,IF(HLOOKUP(CR106,Comments3,2,FALSE)=D,CT$82,IF(HLOOKUP(CR106,Comments3,2,FALSE)=A,VLOOKUP(CQ106,Averages,CQ$4,FALSE),IF(HLOOKUP(CR106,Comments3,2,FALSE)=E,VLOOKUP(CQ106,EventAverage,2,FALSE), HLOOKUP(CR106,Comments4,2,FALSE)))))))","v":""},{"$f":"COUNTIF(CR$83:CR106,OK)+COUNTIF(CR$83:CR106,RDGfix)+COUNTIF(CR$83:CR106,RDGave)+COUNTIF(CR$83:CR106,RDGevent)+CT$57-1","v":0},null,{"$f":"IF(CU106=\"\",\"\",OK)","v":""},{"$f":"IF(CU106=\"\",\"\",IF(AND(CV$82=\"L\",CV106=\"DNC\"),$I$2,\nIF(CV106=OK,CX106,IF(HLOOKUP(CV106,Comments3,2,FALSE)=D,CX$82,IF(HLOOKUP(CV106,Comments3,2,FALSE)=A,VLOOKUP(CU106,Averages,CU$4,FALSE),IF(HLOOKUP(CV106,Comments3,2,FALSE)=E,VLOOKUP(CU106,EventAverage,2,FALSE), HLOOKUP(CV106,Comments4,2,FALSE)))))))","v":""},{"$f":"COUNTIF(CV$83:CV106,OK)+COUNTIF(CV$83:CV106,RDGfix)+COUNTIF(CV$83:CV106,RDGave)+COUNTIF(CV$83:CV106,RDGevent)+CX$57-1","v":0},null,{"$f":"IF(CY106=\"\",\"\",OK)","v":""},{"$f":"IF(CY106=\"\",\"\",IF(AND(CZ$82=\"L\",CZ106=\"DNC\"),$I$2,\nIF(CZ106=OK,DB106,IF(HLOOKUP(CZ106,Comments3,2,FALSE)=D,DB$82,IF(HLOOKUP(CZ106,Comments3,2,FALSE)=A,VLOOKUP(CY106,Averages,CY$4,FALSE),IF(HLOOKUP(CZ106,Comments3,2,FALSE)=E,VLOOKUP(CY106,EventAverage,2,FALSE), HLOOKUP(CZ106,Comments4,2,FALSE)))))))","v":""},{"$f":"COUNTIF(CZ$83:CZ106,OK)+COUNTIF(CZ$83:CZ106,RDGfix)+COUNTIF(CZ$83:CZ106,RDGave)+COUNTIF(CZ$83:CZ106,RDGevent)+DB$57-1","v":0},null,{"$f":"IF(DC106=\"\",\"\",OK)","v":""},{"$f":"IF(DC106=\"\",\"\",IF(AND(DD$82=\"L\",DD106=\"DNC\"),$I$2,\nIF(DD106=OK,DF106,IF(HLOOKUP(DD106,Comments3,2,FALSE)=D,DF$82,IF(HLOOKUP(DD106,Comments3,2,FALSE)=A,VLOOKUP(DC106,Averages,DC$4,FALSE),IF(HLOOKUP(DD106,Comments3,2,FALSE)=E,VLOOKUP(DC106,EventAverage,2,FALSE), HLOOKUP(DD106,Comments4,2,FALSE)))))))","v":""},{"$f":"COUNTIF(DD$83:DD106,OK)+COUNTIF(DD$83:DD106,RDGfix)+COUNTIF(DD$83:DD106,RDGave)+COUNTIF(DD$83:DD106,RDGevent)+DF$57-1","v":0},null,{"$f":"IF(DG106=\"\",\"\",OK)","v":""},{"$f":"IF(DG106=\"\",\"\",IF(AND(DH$82=\"L\",DH106=\"DNC\"),$I$2,\nIF(DH106=OK,DJ106,IF(HLOOKUP(DH106,Comments3,2,FALSE)=D,DJ$82,IF(HLOOKUP(DH106,Comments3,2,FALSE)=A,VLOOKUP(DG106,Averages,DG$4,FALSE),IF(HLOOKUP(DH106,Comments3,2,FALSE)=E,VLOOKUP(DG106,EventAverage,2,FALSE), HLOOKUP(DH106,Comments4,2,FALSE)))))))","v":""},{"$f":"COUNTIF(DH$83:DH106,OK)+COUNTIF(DH$83:DH106,RDGfix)+COUNTIF(DH$83:DH106,RDGave)+COUNTIF(DH$83:DH106,RDGevent)+DJ$57-1","v":0},null,{"$f":"IF(DK106=\"\",\"\",OK)","v":""},{"$f":"IF(DK106=\"\",\"\",IF(AND(DL$82=\"L\",DL106=\"DNC\"),$I$2,\nIF(DL106=OK,DN106,IF(HLOOKUP(DL106,Comments3,2,FALSE)=D,DN$82,IF(HLOOKUP(DL106,Comments3,2,FALSE)=A,VLOOKUP(DK106,Averages,DK$4,FALSE),IF(HLOOKUP(DL106,Comments3,2,FALSE)=E,VLOOKUP(DK106,EventAverage,2,FALSE), HLOOKUP(DL106,Comments4,2,FALSE)))))))","v":""},{"$f":"COUNTIF(DL$83:DL106,OK)+COUNTIF(DL$83:DL106,RDGfix)+COUNTIF(DL$83:DL106,RDGave)+COUNTIF(DL$83:DL106,RDGevent)+DN$57-1","v":0},null,{"$f":"IF(DO106=\"\",\"\",OK)","v":""},{"$f":"IF(DO106=\"\",\"\",IF(AND(DP$82=\"L\",DP106=\"DNC\"),$I$2,\nIF(DP106=OK,DR106,IF(HLOOKUP(DP106,Comments3,2,FALSE)=D,DR$82,IF(HLOOKUP(DP106,Comments3,2,FALSE)=A,VLOOKUP(DO106,Averages,DO$4,FALSE),IF(HLOOKUP(DP106,Comments3,2,FALSE)=E,VLOOKUP(DO106,EventAverage,2,FALSE), HLOOKUP(DP106,Comments4,2,FALSE)))))))","v":""},{"$f":"COUNTIF(DP$83:DP106,OK)+COUNTIF(DP$83:DP106,RDGfix)+COUNTIF(DP$83:DP106,RDGave)+COUNTIF(DP$83:DP106,RDGevent)+DR$57-1","v":0},null,{"$f":"IF(DS106=\"\",\"\",OK)","v":""},{"$f":"IF(DS106=\"\",\"\",IF(AND(DT$82=\"L\",DT106=\"DNC\"),$I$2,\nIF(DT106=OK,DV106,IF(HLOOKUP(DT106,Comments3,2,FALSE)=D,DV$82,IF(HLOOKUP(DT106,Comments3,2,FALSE)=A,VLOOKUP(DS106,Averages,DS$4,FALSE),IF(HLOOKUP(DT106,Comments3,2,FALSE)=E,VLOOKUP(DS106,EventAverage,2,FALSE), HLOOKUP(DT106,Comments4,2,FALSE)))))))","v":""},{"$f":"COUNTIF(DT$83:DT106,OK)+COUNTIF(DT$83:DT106,RDGfix)+COUNTIF(DT$83:DT106,RDGave)+COUNTIF(DT$83:DT106,RDGevent)+DV$57-1","v":0},null,{"$f":"IF(DW106=\"\",\"\",OK)","v":""},{"$f":"IF(DW106=\"\",\"\",IF(AND(DX$82=\"L\",DX106=\"DNC\"),$I$2,\nIF(DX106=OK,DZ106,IF(HLOOKUP(DX106,Comments3,2,FALSE)=D,DZ$82,IF(HLOOKUP(DX106,Comments3,2,FALSE)=A,VLOOKUP(DW106,Averages,DW$4,FALSE),IF(HLOOKUP(DX106,Comments3,2,FALSE)=E,VLOOKUP(DW106,EventAverage,2,FALSE), HLOOKUP(DX106,Comments4,2,FALSE)))))))","v":""},{"$f":"COUNTIF(DX$83:DX106,OK)+COUNTIF(DX$83:DX106,RDGfix)+COUNTIF(DX$83:DX106,RDGave)+COUNTIF(DX$83:DX106,RDGevent)+DZ$57-1","v":0},null,{"$f":"IF(EA106=\"\",\"\",OK)","v":""},{"$f":"IF(EA106=\"\",\"\",IF(AND(EB$82=\"L\",EB106=\"DNC\"),$I$2,\nIF(EB106=OK,ED106,IF(HLOOKUP(EB106,Comments3,2,FALSE)=D,ED$82,IF(HLOOKUP(EB106,Comments3,2,FALSE)=A,VLOOKUP(EA106,Averages,EA$4,FALSE),IF(HLOOKUP(EB106,Comments3,2,FALSE)=E,VLOOKUP(EA106,EventAverage,2,FALSE), HLOOKUP(EB106,Comments4,2,FALSE)))))))","v":""},{"$f":"COUNTIF(EB$83:EB106,OK)+COUNTIF(EB$83:EB106,RDGfix)+COUNTIF(EB$83:EB106,RDGave)+COUNTIF(EB$83:EB106,RDGevent)+ED$57-1","v":0},null,{"$f":"IF(EE106=\"\",\"\",OK)","v":""},{"$f":"IF(EE106=\"\",\"\",IF(AND(EF$82=\"L\",EF106=\"DNC\"),$I$2,\nIF(EF106=OK,EH106,IF(HLOOKUP(EF106,Comments3,2,FALSE)=D,EH$82,IF(HLOOKUP(EF106,Comments3,2,FALSE)=A,VLOOKUP(EE106,Averages,EE$4,FALSE),IF(HLOOKUP(EF106,Comments3,2,FALSE)=E,VLOOKUP(EE106,EventAverage,2,FALSE), HLOOKUP(EF106,Comments4,2,FALSE)))))))","v":""},{"$f":"COUNTIF(EF$83:EF106,OK)+COUNTIF(EF$83:EF106,RDGfix)+COUNTIF(EF$83:EF106,RDGave)+COUNTIF(EF$83:EF106,RDGevent)+EH$57-1","v":0},null,{"$f":"IF(EI106=\"\",\"\",OK)","v":""},{"$f":"IF(EI106=\"\",\"\",IF(AND(EJ$82=\"L\",EJ106=\"DNC\"),$I$2,\nIF(EJ106=OK,EL106,IF(HLOOKUP(EJ106,Comments3,2,FALSE)=D,EL$82,IF(HLOOKUP(EJ106,Comments3,2,FALSE)=A,VLOOKUP(EI106,Averages,EI$4,FALSE),IF(HLOOKUP(EJ106,Comments3,2,FALSE)=E,VLOOKUP(EI106,EventAverage,2,FALSE), HLOOKUP(EJ106,Comments4,2,FALSE)))))))","v":""},{"$f":"COUNTIF(EJ$83:EJ106,OK)+COUNTIF(EJ$83:EJ106,RDGfix)+COUNTIF(EJ$83:EJ106,RDGave)+COUNTIF(EJ$83:EJ106,RDGevent)+EL$57-1","v":0},null,{"$f":"IF(EM106=\"\",\"\",OK)","v":""},{"$f":"IF(EM106=\"\",\"\",IF(AND(EN$82=\"L\",EN106=\"DNC\"),$I$2,\nIF(EN106=OK,EP106,IF(HLOOKUP(EN106,Comments3,2,FALSE)=D,EP$82,IF(HLOOKUP(EN106,Comments3,2,FALSE)=A,VLOOKUP(EM106,Averages,EM$4,FALSE),IF(HLOOKUP(EN106,Comments3,2,FALSE)=E,VLOOKUP(EM106,EventAverage,2,FALSE), HLOOKUP(EN106,Comments4,2,FALSE)))))))","v":""},{"$f":"COUNTIF(EN$83:EN106,OK)+COUNTIF(EN$83:EN106,RDGfix)+COUNTIF(EN$83:EN106,RDGave)+COUNTIF(EN$83:EN106,RDGevent)+EP$57-1","v":0},null,{"$f":"IF(EQ106=\"\",\"\",OK)","v":""},{"$f":"IF(EQ106=\"\",\"\",IF(AND(ER$82=\"L\",ER106=\"DNC\"),$I$2,\nIF(ER106=OK,ET106,IF(HLOOKUP(ER106,Comments3,2,FALSE)=D,ET$82,IF(HLOOKUP(ER106,Comments3,2,FALSE)=A,VLOOKUP(EQ106,Averages,EQ$4,FALSE),IF(HLOOKUP(ER106,Comments3,2,FALSE)=E,VLOOKUP(EQ106,EventAverage,2,FALSE), HLOOKUP(ER106,Comments4,2,FALSE)))))))","v":""},{"$f":"COUNTIF(ER$83:ER106,OK)+COUNTIF(ER$83:ER106,RDGfix)+COUNTIF(ER$83:ER106,RDGave)+COUNTIF(ER$83:ER106,RDGevent)+ET$57-1","v":0},null,{"$f":"IF(EU106=\"\",\"\",OK)","v":""},{"$f":"IF(EU106=\"\",\"\",IF(AND(EV$82=\"L\",EV106=\"DNC\"),$I$2,\nIF(EV106=OK,EX106,IF(HLOOKUP(EV106,Comments3,2,FALSE)=D,EX$82,IF(HLOOKUP(EV106,Comments3,2,FALSE)=A,VLOOKUP(EU106,Averages,EU$4,FALSE),IF(HLOOKUP(EV106,Comments3,2,FALSE)=E,VLOOKUP(EU106,EventAverage,2,FALSE), HLOOKUP(EV106,Comments4,2,FALSE)))))))","v":""},{"$f":"COUNTIF(EV$83:EV106,OK)+COUNTIF(EV$83:EV106,RDGfix)+COUNTIF(EV$83:EV106,RDGave)+COUNTIF(EV$83:EV106,RDGevent)+EX$57-1","v":0},null,{"$f":"IF(EY106=\"\",\"\",OK)","v":""},{"$f":"IF(EY106=\"\",\"\",IF(AND(EZ$82=\"L\",EZ106=\"DNC\"),$I$2,\nIF(EZ106=OK,FB106,IF(HLOOKUP(EZ106,Comments3,2,FALSE)=D,FB$82,IF(HLOOKUP(EZ106,Comments3,2,FALSE)=A,VLOOKUP(EY106,Averages,EY$4,FALSE),IF(HLOOKUP(EZ106,Comments3,2,FALSE)=E,VLOOKUP(EY106,EventAverage,2,FALSE), HLOOKUP(EZ106,Comments4,2,FALSE)))))))","v":""},{"$f":"COUNTIF(EZ$83:EZ106,OK)+COUNTIF(EZ$83:EZ106,RDGfix)+COUNTIF(EZ$83:EZ106,RDGave)+COUNTIF(EZ$83:EZ106,RDGevent)+FB$57-1","v":0},null,{"$f":"IF(FC106=\"\",\"\",OK)","v":""},{"$f":"IF(FC106=\"\",\"\",IF(AND(FD$82=\"L\",FD106=\"DNC\"),$I$2,\nIF(FD106=OK,FF106,IF(HLOOKUP(FD106,Comments3,2,FALSE)=D,FF$82,IF(HLOOKUP(FD106,Comments3,2,FALSE)=A,VLOOKUP(FC106,Averages,FC$4,FALSE),IF(HLOOKUP(FD106,Comments3,2,FALSE)=E,VLOOKUP(FC106,EventAverage,2,FALSE), HLOOKUP(FD106,Comments4,2,FALSE)))))))","v":""},{"$f":"COUNTIF(FD$83:FD106,OK)+COUNTIF(FD$83:FD106,RDGfix)+COUNTIF(FD$83:FD106,RDGave)+COUNTIF(FD$83:FD106,RDGevent)+FF$57-1","v":0},null,{"$f":"IF(FG106=\"\",\"\",OK)","v":""},{"$f":"IF(FG106=\"\",\"\",IF(AND(FH$82=\"L\",FH106=\"DNC\"),$I$2,\nIF(FH106=OK,FJ106,IF(HLOOKUP(FH106,Comments3,2,FALSE)=D,FJ$82,IF(HLOOKUP(FH106,Comments3,2,FALSE)=A,VLOOKUP(FG106,Averages,FG$4,FALSE),IF(HLOOKUP(FH106,Comments3,2,FALSE)=E,VLOOKUP(FG106,EventAverage,2,FALSE), HLOOKUP(FH106,Comments4,2,FALSE)))))))","v":""},{"$f":"COUNTIF(FH$83:FH106,OK)+COUNTIF(FH$83:FH106,RDGfix)+COUNTIF(FH$83:FH106,RDGave)+COUNTIF(FH$83:FH106,RDGevent)+FJ$57-1","v":0}]
[null,"Heat E",{"$f":"COUNTA(C108:C131)","v":0},null,{"$f":"COUNTIF(D108:D131,\"WDN\")","v":0},{"$f":"C107-E107","v":0},{"$f":"COUNTA(G112:G131)","v":0},{"$f":"IF(OR(H82=\"L\", H57=\"L\",H32=\"L\",H7=\"L\"),\"\",\"L\")","v":""},{"$f":"COUNTIF(H108:H130,\"WDN\")","v":0},{"$f":"COUNTA(G112:G131)-I107+J82","v":1},{"$f":"COUNTA(K112:K131)","v":0},{"$f":"IF(OR(L82=\"L\", L57=\"L\",L32=\"L\",L7=\"L\"),\"\",\"L\")","v":""},{"$f":"COUNTIF(L108:L130,\"WDN\")","v":0},{"$f":"COUNTA(K112:K131)-M107+N82","v":1},{"$f":"COUNTA(O112:O131)","v":0},{"$f":"IF(OR(P82=\"L\", P57=\"L\",P32=\"L\",P7=\"L\"),\"\",\"L\")","v":""},{"$f":"COUNTIF(P108:P130,\"WDN\")","v":0},{"$f":"COUNTA(O112:O131)-Q107+R82","v":1},{"$f":"COUNTA(S112:S131)","v":0},{"$f":"IF(OR(T82=\"L\", T57=\"L\",T32=\"L\",T7=\"L\"),\"\",\"L\")","v":""},{"$f":"COUNTIF(T108:T130,\"WDN\")","v":0},{"$f":"COUNTA(S112:S131)-U107+V82","v":1},{"$f":"COUNTA(W112:W131)","v":0},{"$f":"IF(OR(X82=\"L\", X57=\"L\",X32=\"L\",X7=\"L\"),\"\",\"L\")","v":""},{"$f":"COUNTIF(X108:X130,\"WDN\")","v":0},{"$f":"COUNTA(W112:W131)-Y107+Z82","v":1},{"$f":"COUNTA(AA112:AA131)","v":0},{"$f":"IF(OR(AB82=\"L\", AB57=\"L\",AB32=\"L\",AB7=\"L\"),\"\",\"L\")","v":""},{"$f":"COUNTIF(AB108:AB130,\"WDN\")","v":0},{"$f":"COUNTA(AA112:AA131)-AC107+AD82","v":1},{"$f":"COUNTA(AE112:AE131)","v":0},{"$f":"IF(OR(AF82=\"L\", AF57=\"L\",AF32=\"L\",AF7=\"L\"),\"\",\"L\")","v":""},{"$f":"COUNTIF(AF108:AF130,\"WDN\")","v":0},{"$f":"COUNTA(AE112:AE131)-AG107+AH82","v":1},{"$f":"COUNTA(AI112:AI131)","v":0},{"$f":"IF(OR(AJ82=\"L\", AJ57=\"L\",AJ32=\"L\",AJ7=\"L\"),\"\",\"L\")","v":""},{"$f":"COUNTIF(AJ108:AJ130,\"WDN\")","v":0},{"$f":"COUNTA(AI112:AI131)-AK107+AL82","v":1},{"$f":"COUNTA(AM112:AM131)","v":0},{"$f":"IF(OR(AN82=\"L\", AN57=\"L\",AN32=\"L\",AN7=\"L\"),\"\",\"L\")","v":""},{"$f":"COUNTIF(AN108:AN130,\"WDN\")","v":0},{"$f":"COUNTA(AM112:AM131)-AO107+AP82","v":1},{"$f":"COUNTA(AQ112:AQ131)","v":0},{"$f":"IF(OR(AR82=\"L\", AR57=\"L\",AR32=\"L\",AR7=\"L\"),\"\",\"L\")","v":""},{"$f":"COUNTIF(AR108:AR130,\"WDN\")","v":0},{"$f":"COUNTA(AQ112:AQ131)-AS107+AT82","v":1},{"$f":"COUNTA(AU112:AU131)","v":0},{"$f":"IF(OR(AV82=\"L\", AV57=\"L\",AV32=\"L\",AV7=\"L\"),\"\",\"L\")","v":""},{"$f":"COUNTIF(AV108:AV130,\"WDN\")","v":0},{"$f":"COUNTA(AU112:AU131)-AW107+AX82","v":1},{"$f":"COUNTA(AY112:AY131)","v":0},{"$f":"IF(OR(AZ82=\"L\", AZ57=\"L\",AZ32=\"L\",AZ7=\"L\"),\"\",\"L\")","v":""},{"$f":"COUNTIF(AZ108:AZ130,\"WDN\")","v":0},{"$f":"COUNTA(AY112:AY131)-BA107+BB82","v":1},{"$f":"COUNTA(BC112:BC131)","v":0},{"$f":"IF(OR(BD82=\"L\", BD57=\"L\",BD32=\"L\",BD7=\"L\"),\"\",\"L\")","v":""},{"$f":"COUNTIF(BD108:BD130,\"WDN\")","v":0},{"$f":"COUNTA(BC112:BC131)-BE107+BF82","v":1},{"$f":"COUNTA(BG112:BG131)","v":0},{"$f":"IF(OR(BH82=\"L\", BH57=\"L\",BH32=\"L\",BH7=\"L\"),\"\",\"L\")","v":""},{"$f":"COUNTIF(BH108:BH130,\"WDN\")","v":0},{"$f":"COUNTA(BG112:BG131)-BI107+BJ82","v":1},{"$f":"COUNTA(BK112:BK131)","v":0},{"$f":"IF(OR(BL82=\"L\", BL57=\"L\",BL32=\"L\",BL7=\"L\"),\"\",\"L\")","v":""},{"$f":"COUNTIF(BL108:BL130,\"WDN\")","v":0},{"$f":"COUNTA(BK112:BK131)-BM107+BN82","v":1},{"$f":"COUNTA(BO112:BO131)","v":0},{"$f":"IF(OR(BP82=\"L\", BP57=\"L\",BP32=\"L\",BP7=\"L\"),\"\",\"L\")","v":""},{"$f":"COUNTIF(BP108:BP130,\"WDN\")","v":0},{"$f":"COUNTA(BO112:BO131)-BQ107+BR82","v":1},{"$f":"COUNTA(BS112:BS131)","v":0},{"$f":"IF(OR(BT82=\"L\", BT57=\"L\",BT32=\"L\",BT7=\"L\"),\"\",\"L\")","v":""},{"$f":"COUNTIF(BT108:BT130,\"WDN\")","v":0},{"$f":"COUNTA(BS112:BS131)-BU107+BV82","v":1},{"$f":"COUNTA(BW112:BW131)","v":0},{"$f":"IF(OR(BX82=\"L\", BX57=\"L\",BX32=\"L\",BX7=\"L\"),\"\",\"L\")","v":""},{"$f":"COUNTIF(BX108:BX130,\"WDN\")","v":0},{"$f":"COUNTA(BW112:BW131)-BY107+BZ82","v":1},{"$f":"COUNTA(CA112:CA131)","v":0},{"$f":"IF(OR(CB82=\"L\", CB57=\"L\",CB32=\"L\",CB7=\"L\"),\"\",\"L\")","v":""},{"$f":"COUNTIF(CB108:CB130,\"WDN\")","v":0},{"$f":"COUNTA(CA112:CA131)-CC107+CD82","v":1},{"$f":"COUNTA(CE112:CE131)","v":0},{"$f":"IF(OR(CF82=\"L\", CF57=\"L\",CF32=\"L\",CF7=\"L\"),\"\",\"L\")","v":""},{"$f":"COUNTIF(CF108:CF130,\"WDN\")","v":0},{"$f":"COUNTA(CE112:CE131)-CG107+CH82","v":1},{"$f":"COUNTA(CI112:CI131)","v":0},{"$f":"IF(OR(CJ82=\"L\", CJ57=\"L\",CJ32=\"L\",CJ7=\"L\"),\"\",\"L\")","v":""},{"$f":"COUNTIF(CJ108:CJ130,\"WDN\")","v":0},{"$f":"COUNTA(CI112:CI131)-CK107+CL82","v":1},{"$f":"COUNTA(CM112:CM131)","v":0},{"$f":"IF(OR(CN82=\"L\", CN57=\"L\",CN32=\"L\",CN7=\"L\"),\"\",\"L\")","v":""},{"$f":"COUNTIF(CN108:CN130,\"WDN\")","v":0},{"$f":"COUNTA(CM112:CM131)-CO107+CP82","v":1},{"$f":"COUNTA(CQ112:CQ131)","v":0},{"$f":"IF(OR(CR82=\"L\", CR57=\"L\",CR32=\"L\",CR7=\"L\"),\"\",\"L\")","v":""},{"$f":"COUNTIF(CR108:CR130,\"WDN\")","v":0},{"$f":"COUNTA(CQ112:CQ131)-CS107+CT82","v":1},{"$f":"COUNTA(CU112:CU131)","v":0},{"$f":"IF(OR(CV82=\"L\", CV57=\"L\",CV32=\"L\",CV7=\"L\"),\"\",\"L\")","v":""},{"$f":"COUNTIF(CV108:CV130,\"WDN\")","v":0},{"$f":"COUNTA(CU112:CU131)-CW107+CX82","v":1},{"$f":"COUNTA(CY112:CY131)","v":0},{"$f":"IF(OR(CZ82=\"L\", CZ57=\"L\",CZ32=\"L\",CZ7=\"L\"),\"\",\"L\")","v":""},{"$f":"COUNTIF(CZ108:CZ130,\"WDN\")","v":0},{"$f":"COUNTA(CY112:CY131)-DA107+DB82","v":1},{"$f":"COUNTA(DC112:DC131)","v":0},{"$f":"IF(OR(DD82=\"L\", DD57=\"L\",DD32=\"L\",DD7=\"L\"),\"\",\"L\")","v":""},{"$f":"COUNTIF(DD108:DD130,\"WDN\")","v":0},{"$f":"COUNTA(DC112:DC131)-DE107+DF82","v":1},{"$f":"COUNTA(DG112:DG131)","v":0},{"$f":"IF(OR(DH82=\"L\", DH57=\"L\",DH32=\"L\",DH7=\"L\"),\"\",\"L\")","v":""},{"$f":"COUNTIF(DH108:DH130,\"WDN\")","v":0},{"$f":"COUNTA(DG112:DG131)-DI107+DJ82","v":1},{"$f":"COUNTA(DK112:DK131)","v":0},{"$f":"IF(OR(DL82=\"L\", DL57=\"L\",DL32=\"L\",DL7=\"L\"),\"\",\"L\")","v":""},{"$f":"COUNTIF(DL108:DL130,\"WDN\")","v":0},{"$f":"COUNTA(DK112:DK131)-DM107+DN82","v":1},{"$f":"COUNTA(DO112:DO131)","v":0},{"$f":"IF(OR(DP82=\"L\", DP57=\"L\",DP32=\"L\",DP7=\"L\"),\"\",\"L\")","v":""},{"$f":"COUNTIF(DP108:DP130,\"WDN\")","v":0},{"$f":"COUNTA(DO112:DO131)-DQ107+DR82","v":1},{"$f":"COUNTA(DS112:DS131)","v":0},{"$f":"IF(OR(DT82=\"L\", DT57=\"L\",DT32=\"L\",DT7=\"L\"),\"\",\"L\")","v":""},{"$f":"COUNTIF(DT108:DT130,\"WDN\")","v":0},{"$f":"COUNTA(DS112:DS131)-DU107+DV82","v":1},{"$f":"COUNTA(DW112:DW131)","v":0},{"$f":"IF(OR(DX82=\"L\", DX57=\"L\",DX32=\"L\",DX7=\"L\"),\"\",\"L\")","v":""},{"$f":"COUNTIF(DX108:DX130,\"WDN\")","v":0},{"$f":"COUNTA(DW112:DW131)-DY107+DZ82","v":1},{"$f":"COUNTA(EA112:EA131)","v":0},{"$f":"IF(OR(EB82=\"L\", EB57=\"L\",EB32=\"L\",EB7=\"L\"),\"\",\"L\")","v":""},{"$f":"COUNTIF(EB108:EB130,\"WDN\")","v":0},{"$f":"COUNTA(EA112:EA131)-EC107+ED82","v":1},{"$f":"COUNTA(EE112:EE131)","v":0},{"$f":"IF(OR(EF82=\"L\", EF57=\"L\",EF32=\"L\",EF7=\"L\"),\"\",\"L\")","v":""},{"$f":"COUNTIF(EF108:EF130,\"WDN\")","v":0},{"$f":"COUNTA(EE112:EE131)-EG107+EH82","v":1},{"$f":"COUNTA(EI112:EI131)","v":0},{"$f":"IF(OR(EJ82=\"L\", EJ57=\"L\",EJ32=\"L\",EJ7=\"L\"),\"\",\"L\")","v":""},{"$f":"COUNTIF(EJ108:EJ130,\"WDN\")","v":0},{"$f":"COUNTA(EI112:EI131)-EK107+EL82","v":1},{"$f":"COUNTA(EM112:EM131)","v":0},{"$f":"IF(OR(EN82=\"L\", EN57=\"L\",EN32=\"L\",EN7=\"L\"),\"\",\"L\")","v":""},{"$f":"COUNTIF(EN108:EN130,\"WDN\")","v":0},{"$f":"COUNTA(EM112:EM131)-EO107+EP82","v":1},{"$f":"COUNTA(EQ112:EQ131)","v":0},{"$f":"IF(OR(ER82=\"L\", ER57=\"L\",ER32=\"L\",ER7=\"L\"),\"\",\"L\")","v":""},{"$f":"COUNTIF(ER108:ER130,\"WDN\")","v":0},{"$f":"COUNTA(EQ112:EQ131)-ES107+ET82","v":1},{"$f":"COUNTA(EU112:EU131)","v":0},{"$f":"IF(OR(EV82=\"L\", EV57=\"L\",EV32=\"L\",EV7=\"L\"),\"\",\"L\")","v":""},{"$f":"COUNTIF(EV108:EV130,\"WDN\")","v":0},{"$f":"COUNTA(EU112:EU131)-EW107+EX82","v":1},{"$f":"COUNTA(EY112:EY131)","v":0},{"$f":"IF(OR(EZ82=\"L\", EZ57=\"L\",EZ32=\"L\",EZ7=\"L\"),\"\",\"L\")","v":""},{"$f":"COUNTIF(EZ108:EZ130,\"WDN\")","v":0},{"$f":"COUNTA(EY112:EY131)-FA107+FB82","v":1},{"$f":"COUNTA(FC112:FC131)","v":0},{"$f":"IF(OR(FD82=\"L\", FD57=\"L\",FD32=\"L\",FD7=\"L\"),\"\",\"L\")","v":""},{"$f":"COUNTIF(FD108:FD130,\"WDN\")","v":0},{"$f":"COUNTA(FC112:FC131)-FE107+FF82","v":1},{"$f":"COUNTA(FG112:FG131)","v":0},{"$f":"IF(OR(FH82=\"L\", FH57=\"L\",FH32=\"L\",FH7=\"L\"),\"\",\"L\")","v":""},{"$f":"COUNTIF(FH108:FH130,\"WDN\")","v":0},{"$f":"COUNTA(FG112:FG131)-FI107+FJ82","v":1}]
[null,"1st",null,{"$f":"IF(C108=\"\",\"\",OK)","v":""},"",{"$f":"COUNTIF(D$108:D108,OK)+COUNTIF(D$108:D108,RDGfix)+COUNTIF(D$108:D108,RDGave)+COUNTIF(D$108:D108,RDGevent)","v":0},null,{"$f":"IF(G108=\"\",\"\",UP)","v":""},{"$f":"IF(G108=0,\"\",#N/A)","v":""},{"$f":"COUNTIF(H$108:H108,OK)+COUNTIF(H$108:H108,RDGfix)+COUNTIF(H$108:H108,RDGave)+COUNTIF(H$108:H108,RDGevent)+J$82-1","v":0},null,{"$f":"IF(K108=\"\",\"\",UP)","v":""},{"$f":"IF(K108=0,\"\",#N/A)","v":""},{"$f":"COUNTIF(L$108:L108,OK)+COUNTIF(L$108:L108,RDGfix)+COUNTIF(L$108:L108,RDGave)+N$82-1","v":0},null,{"$f":"IF(O108=\"\",\"\",UP)","v":""},{"$f":"IF(O108=0,\"\",#N/A)","v":""},{"$f":"COUNTIF(P$108:P108,OK)+COUNTIF(P$108:P108,RDGfix)+COUNTIF(P$108:P108,RDGave)+R$82-1","v":0},null,{"$f":"IF(S108=\"\",\"\",UP)","v":""},{"$f":"IF(S108=0,\"\",#N/A)","v":""},{"$f":"COUNTIF(T$108:T108,OK)+COUNTIF(T$108:T108,RDGfix)+COUNTIF(T$108:T108,RDGave)+V$82-1","v":0},null,{"$f":"IF(W108=\"\",\"\",UP)","v":""},{"$f":"IF(W108=0,\"\",#N/A)","v":""},{"$f":"COUNTIF(X$108:X108,OK)+COUNTIF(X$108:X108,RDGfix)+COUNTIF(X$108:X108,RDGave)+Z$82-1","v":0},null,{"$f":"IF(AA108=\"\",\"\",UP)","v":""},{"$f":"IF(AA108=0,\"\",#N/A)","v":""},{"$f":"COUNTIF(AB$108:AB108,OK)+COUNTIF(AB$108:AB108,RDGfix)+COUNTIF(AB$108:AB108,RDGave)+AD$82-1","v":0},null,{"$f":"IF(AE108=\"\",\"\",UP)","v":""},{"$f":"IF(AE108=0,\"\",#N/A)","v":""},{"$f":"COUNTIF(AF$108:AF108,OK)+COUNTIF(AF$108:AF108,RDGfix)+COUNTIF(AF$108:AF108,RDGave)+AH$82-1","v":0},null,{"$f":"IF(AI108=\"\",\"\",UP)","v":""},{"$f":"IF(AI108=0,\"\",#N/A)","v":""},{"$f":"COUNTIF(AJ$108:AJ108,OK)+COUNTIF(AJ$108:AJ108,RDGfix)+COUNTIF(AJ$108:AJ108,RDGave)+AL$82-1","v":0},null,{"$f":"IF(AM108=\"\",\"\",UP)","v":""},{"$f":"IF(AM108=0,\"\",#N/A)","v":""},{"$f":"COUNTIF(AN$108:AN108,OK)+COUNTIF(AN$108:AN108,RDGfix)+COUNTIF(AN$108:AN108,RDGave)+AP$82-1","v":0},null,{"$f":"IF(AQ108=\"\",\"\",UP)","v":""},{"$f":"IF(AQ108=0,\"\",#N/A)","v":""},{"$f":"COUNTIF(AR$108:AR108,OK)+COUNTIF(AR$108:AR108,RDGfix)+COUNTIF(AR$108:AR108,RDGave)+AT$82-1","v":0},null,{"$f":"IF(AU108=\"\",\"\",UP)","v":""},{"$f":"IF(AU108=0,\"\",#N/A)","v":""},{"$f":"COUNTIF(AV$108:AV108,OK)+COUNTIF(AV$108:AV108,RDGfix)+COUNTIF(AV$108:AV108,RDGave)+AX$82-1","v":0},null,{"$f":"IF(AY108=\"\",\"\",UP)","v":""},{"$f":"IF(AY108=0,\"\",#N/A)","v":""},{"$f":"COUNTIF(AZ$108:AZ108,OK)+COUNTIF(AZ$108:AZ108,RDGfix)+COUNTIF(AZ$108:AZ108,RDGave)+BB$82-1","v":0},null,{"$f":"IF(BC108=\"\",\"\",UP)","v":""},{"$f":"IF(BC108=0,\"\",#N/A)","v":""},{"$f":"COUNTIF(BD$108:BD108,OK)+COUNTIF(BD$108:BD108,RDGfix)+COUNTIF(BD$108:BD108,RDGave)+BF$82-1","v":0},null,{"$f":"IF(BG108=\"\",\"\",UP)","v":""},{"$f":"IF(BG108=0,\"\",#N/A)","v":""},{"$f":"COUNTIF(BH$108:BH108,OK)+COUNTIF(BH$108:BH108,RDGfix)+COUNTIF(BH$108:BH108,RDGave)+BJ$82-1","v":0},null,{"$f":"IF(BK108=\"\",\"\",UP)","v":""},{"$f":"IF(BK108=0,\"\",#N/A)","v":""},{"$f":"COUNTIF(BL$108:BL108,OK)+COUNTIF(BL$108:BL108,RDGfix)+COUNTIF(BL$108:BL108,RDGave)+BN$82-1","v":0},null,{"$f":"IF(BO108=\"\",\"\",UP)","v":""},{"$f":"IF(BO108=0,\"\",#N/A)","v":""},{"$f":"COUNTIF(BP$108:BP108,OK)+COUNTIF(BP$108:BP108,RDGfix)+COUNTIF(BP$108:BP108,RDGave)+BR$82-1","v":0},null,{"$f":"IF(BS108=\"\",\"\",UP)","v":""},{"$f":"IF(BS108=0,\"\",#N/A)","v":""},{"$f":"COUNTIF(BT$108:BT108,OK)+COUNTIF(BT$108:BT108,RDGfix)+COUNTIF(BT$108:BT108,RDGave)+BV$82-1","v":0},null,{"$f":"IF(BW108=\"\",\"\",UP)","v":""},{"$f":"IF(BW108=0,\"\",#N/A)","v":""},{"$f":"COUNTIF(BX$108:BX108,OK)+COUNTIF(BX$108:BX108,RDGfix)+COUNTIF(BX$108:BX108,RDGave)+BZ$82-1","v":0},null,{"$f":"IF(CA108=\"\",\"\",UP)","v":""},{"$f":"IF(CA108=0,\"\",#N/A)","v":""},{"$f":"COUNTIF(CB$108:CB108,OK)+COUNTIF(CB$108:CB108,RDGfix)+COUNTIF(CB$108:CB108,RDGave)+CD$82-1","v":0},null,{"$f":"IF(CE108=\"\",\"\",UP)","v":""},{"$f":"IF(CE108=0,\"\",#N/A)","v":""},{"$f":"COUNTIF(CF$108:CF108,OK)+COUNTIF(CF$108:CF108,RDGfix)+COUNTIF(CF$108:CF108,RDGave)+CH$82-1","v":0},null,{"$f":"IF(CI108=\"\",\"\",UP)","v":""},{"$f":"IF(CI108=0,\"\",#N/A)","v":""},{"$f":"COUNTIF(CJ$108:CJ108,OK)+COUNTIF(CJ$108:CJ108,RDGfix)+COUNTIF(CJ$108:CJ108,RDGave)+CL$82-1","v":0},null,{"$f":"IF(CM108=\"\",\"\",UP)","v":""},{"$f":"IF(CM108=0,\"\",#N/A)","v":""},{"$f":"COUNTIF(CN$108:CN108,OK)+COUNTIF(CN$108:CN108,RDGfix)+COUNTIF(CN$108:CN108,RDGave)+CP$82-1","v":0},null,{"$f":"IF(CQ108=\"\",\"\",UP)","v":""},{"$f":"IF(CQ108=0,\"\",#N/A)","v":""},{"$f":"COUNTIF(CR$108:CR108,OK)+COUNTIF(CR$108:CR108,RDGfix)+COUNTIF(CR$108:CR108,RDGave)+CT$82-1","v":0},null,{"$f":"IF(CU108=\"\",\"\",UP)","v":""},{"$f":"IF(CU108=0,\"\",#N/A)","v":""},{"$f":"COUNTIF(CV$108:CV108,OK)+COUNTIF(CV$108:CV108,RDGfix)+COUNTIF(CV$108:CV108,RDGave)+CX$82-1","v":0},null,{"$f":"IF(CY108=\"\",\"\",UP)","v":""},{"$f":"IF(CY108=0,\"\",#N/A)","v":""},{"$f":"COUNTIF(CZ$108:CZ108,OK)+COUNTIF(CZ$108:CZ108,RDGfix)+COUNTIF(CZ$108:CZ108,RDGave)+DB$82-1","v":0},null,{"$f":"IF(DC108=\"\",\"\",UP)","v":""},{"$f":"IF(DC108=0,\"\",#N/A)","v":""},{"$f":"COUNTIF(DD$108:DD108,OK)+COUNTIF(DD$108:DD108,RDGfix)+COUNTIF(DD$108:DD108,RDGave)+DF$82-1","v":0},null,{"$f":"IF(DG108=\"\",\"\",UP)","v":""},{"$f":"IF(DG108=0,\"\",#N/A)","v":""},{"$f":"COUNTIF(DH$108:DH108,OK)+COUNTIF(DH$108:DH108,RDGfix)+COUNTIF(DH$108:DH108,RDGave)+DJ$82-1","v":0},null,{"$f":"IF(DK108=\"\",\"\",UP)","v":""},{"$f":"IF(DK108=0,\"\",#N/A)","v":""},{"$f":"COUNTIF(DL$108:DL108,OK)+COUNTIF(DL$108:DL108,RDGfix)+COUNTIF(DL$108:DL108,RDGave)+DN$82-1","v":0},null,{"$f":"IF(DO108=\"\",\"\",UP)","v":""},{"$f":"IF(DO108=0,\"\",#N/A)","v":""},{"$f":"COUNTIF(DP$108:DP108,OK)+COUNTIF(DP$108:DP108,RDGfix)+COUNTIF(DP$108:DP108,RDGave)+DR$82-1","v":0},null,{"$f":"IF(DS108=\"\",\"\",UP)","v":""},{"$f":"IF(DS108=0,\"\",#N/A)","v":""},{"$f":"COUNTIF(DT$108:DT108,OK)+COUNTIF(DT$108:DT108,RDGfix)+COUNTIF(DT$108:DT108,RDGave)+DV$82-1","v":0},null,{"$f":"IF(DW108=\"\",\"\",UP)","v":""},{"$f":"IF(DW108=0,\"\",#N/A)","v":""},{"$f":"COUNTIF(DX$108:DX108,OK)+COUNTIF(DX$108:DX108,RDGfix)+COUNTIF(DX$108:DX108,RDGave)+DZ$82-1","v":0},null,{"$f":"IF(EA108=\"\",\"\",UP)","v":""},{"$f":"IF(EA108=0,\"\",#N/A)","v":""},{"$f":"COUNTIF(EB$108:EB108,OK)+COUNTIF(EB$108:EB108,RDGfix)+COUNTIF(EB$108:EB108,RDGave)+ED$82-1","v":0},null,{"$f":"IF(EE108=\"\",\"\",UP)","v":""},{"$f":"IF(EE108=0,\"\",#N/A)","v":""},{"$f":"COUNTIF(EF$108:EF108,OK)+COUNTIF(EF$108:EF108,RDGfix)+COUNTIF(EF$108:EF108,RDGave)+EH$82-1","v":0},null,{"$f":"IF(EI108=\"\",\"\",UP)","v":""},{"$f":"IF(EI108=0,\"\",#N/A)","v":""},{"$f":"COUNTIF(EJ$108:EJ108,OK)+COUNTIF(EJ$108:EJ108,RDGfix)+COUNTIF(EJ$108:EJ108,RDGave)+EL$82-1","v":0},null,{"$f":"IF(EM108=\"\",\"\",UP)","v":""},{"$f":"IF(EM108=0,\"\",#N/A)","v":""},{"$f":"COUNTIF(EN$108:EN108,OK)+COUNTIF(EN$108:EN108,RDGfix)+COUNTIF(EN$108:EN108,RDGave)+EP$82-1","v":0},null,{"$f":"IF(EQ108=\"\",\"\",UP)","v":""},{"$f":"IF(EQ108=0,\"\",#N/A)","v":""},{"$f":"COUNTIF(ER$108:ER108,OK)+COUNTIF(ER$108:ER108,RDGfix)+COUNTIF(ER$108:ER108,RDGave)+ET$82-1","v":0},null,{"$f":"IF(EU108=\"\",\"\",UP)","v":""},{"$f":"IF(EU108=0,\"\",#N/A)","v":""},{"$f":"COUNTIF(EV$108:EV108,OK)+COUNTIF(EV$108:EV108,RDGfix)+COUNTIF(EV$108:EV108,RDGave)+EX$82-1","v":0},null,{"$f":"IF(EY108=\"\",\"\",UP)","v":""},{"$f":"IF(EY108=0,\"\",#N/A)","v":""},{"$f":"COUNTIF(EZ$108:EZ108,OK)+COUNTIF(EZ$108:EZ108,RDGfix)+COUNTIF(EZ$108:EZ108,RDGave)+FB$82-1","v":0},null,{"$f":"IF(FC108=\"\",\"\",UP)","v":""},{"$f":"IF(FC108=0,\"\",#N/A)","v":""},{"$f":"COUNTIF(FD$108:FD108,OK)+COUNTIF(FD$108:FD108,RDGfix)+COUNTIF(FD$108:FD108,RDGave)+FF$82-1","v":0},null,{"$f":"IF(FG108=\"\",\"\",UP)","v":""},{"$f":"IF(FG108=0,\"\",#N/A)","v":""},{"$f":"COUNTIF(FH$108:FH108,OK)+COUNTIF(FH$108:FH108,RDGfix)+COUNTIF(FH$108:FH108,RDGave)+FJ$82-1","v":0}]
[null,"2nd",null,"","",{"$f":"COUNTIF(D$108:D109,OK)+COUNTIF(D$108:D109,RDGfix)+COUNTIF(D$108:D109,RDGave)+COUNTIF(D$108:D109,RDGevent)","v":0},null,"",{"$f":"IF(G109=0,\"\",#N/A)","v":""},{"$f":"COUNTIF(H$108:H109,OK)+COUNTIF(H$108:H109,RDGfix)+COUNTIF(H$108:H109,RDGave)+COUNTIF(H$108:H109,RDGevent)+J$82-1","v":0},null,"",{"$f":"IF(K109=0,\"\",#N/A)","v":""},{"$f":"COUNTIF(L$108:L109,OK)+COUNTIF(L$108:L109,RDGfix)+COUNTIF(L$108:L109,RDGave)+N$82-1","v":0},null,"",{"$f":"IF(O109=0,\"\",#N/A)","v":""},{"$f":"COUNTIF(P$108:P109,OK)+COUNTIF(P$108:P109,RDGfix)+COUNTIF(P$108:P109,RDGave)+R$82-1","v":0},null,"",{"$f":"IF(S109=0,\"\",#N/A)","v":""},{"$f":"COUNTIF(T$108:T109,OK)+COUNTIF(T$108:T109,RDGfix)+COUNTIF(T$108:T109,RDGave)+V$82-1","v":0},null,"",{"$f":"IF(W109=0,\"\",#N/A)","v":""},{"$f":"COUNTIF(X$108:X109,OK)+COUNTIF(X$108:X109,RDGfix)+COUNTIF(X$108:X109,RDGave)+Z$82-1","v":0},null,"",{"$f":"IF(AA109=0,\"\",#N/A)","v":""},{"$f":"COUNTIF(AB$108:AB109,OK)+COUNTIF(AB$108:AB109,RDGfix)+COUNTIF(AB$108:AB109,RDGave)+AD$82-1","v":0},null,"",{"$f":"IF(AE109=0,\"\",#N/A)","v":""},{"$f":"COUNTIF(AF$108:AF109,OK)+COUNTIF(AF$108:AF109,RDGfix)+COUNTIF(AF$108:AF109,RDGave)+AH$82-1","v":0},null,"",{"$f":"IF(AI109=0,\"\",#N/A)","v":""},{"$f":"COUNTIF(AJ$108:AJ109,OK)+COUNTIF(AJ$108:AJ109,RDGfix)+COUNTIF(AJ$108:AJ109,RDGave)+AL$82-1","v":0},null,"",{"$f":"IF(AM109=0,\"\",#N/A)","v":""},{"$f":"COUNTIF(AN$108:AN109,OK)+COUNTIF(AN$108:AN109,RDGfix)+COUNTIF(AN$108:AN109,RDGave)+AP$82-1","v":0},null,"",{"$f":"IF(AQ109=0,\"\",#N/A)","v":""},{"$f":"COUNTIF(AR$108:AR109,OK)+COUNTIF(AR$108:AR109,RDGfix)+COUNTIF(AR$108:AR109,RDGave)+AT$82-1","v":0},null,"",{"$f":"IF(AU109=0,\"\",#N/A)","v":""},{"$f":"COUNTIF(AV$108:AV109,OK)+COUNTIF(AV$108:AV109,RDGfix)+COUNTIF(AV$108:AV109,RDGave)+AX$82-1","v":0},null,"",{"$f":"IF(AY109=0,\"\",#N/A)","v":""},{"$f":"COUNTIF(AZ$108:AZ109,OK)+COUNTIF(AZ$108:AZ109,RDGfix)+COUNTIF(AZ$108:AZ109,RDGave)+BB$82-1","v":0},null,"",{"$f":"IF(BC109=0,\"\",#N/A)","v":""},{"$f":"COUNTIF(BD$108:BD109,OK)+COUNTIF(BD$108:BD109,RDGfix)+COUNTIF(BD$108:BD109,RDGave)+BF$82-1","v":0},null,"",{"$f":"IF(BG109=0,\"\",#N/A)","v":""},{"$f":"COUNTIF(BH$108:BH109,OK)+COUNTIF(BH$108:BH109,RDGfix)+COUNTIF(BH$108:BH109,RDGave)+BJ$82-1","v":0},null,"",{"$f":"IF(BK109=0,\"\",#N/A)","v":""},{"$f":"COUNTIF(BL$108:BL109,OK)+COUNTIF(BL$108:BL109,RDGfix)+COUNTIF(BL$108:BL109,RDGave)+BN$82-1","v":0},null,"",{"$f":"IF(BO109=0,\"\",#N/A)","v":""},{"$f":"COUNTIF(BP$108:BP109,OK)+COUNTIF(BP$108:BP109,RDGfix)+COUNTIF(BP$108:BP109,RDGave)+BR$82-1","v":0},null,"",{"$f":"IF(BS109=0,\"\",#N/A)","v":""},{"$f":"COUNTIF(BT$108:BT109,OK)+COUNTIF(BT$108:BT109,RDGfix)+COUNTIF(BT$108:BT109,RDGave)+BV$82-1","v":0},null,"",{"$f":"IF(BW109=0,\"\",#N/A)","v":""},{"$f":"COUNTIF(BX$108:BX109,OK)+COUNTIF(BX$108:BX109,RDGfix)+COUNTIF(BX$108:BX109,RDGave)+BZ$82-1","v":0},null,"",{"$f":"IF(CA109=0,\"\",#N/A)","v":""},{"$f":"COUNTIF(CB$108:CB109,OK)+COUNTIF(CB$108:CB109,RDGfix)+COUNTIF(CB$108:CB109,RDGave)+CD$82-1","v":0},null,"",{"$f":"IF(CE109=0,\"\",#N/A)","v":""},{"$f":"COUNTIF(CF$108:CF109,OK)+COUNTIF(CF$108:CF109,RDGfix)+COUNTIF(CF$108:CF109,RDGave)+CH$82-1","v":0},null,"",{"$f":"IF(CI109=0,\"\",#N/A)","v":""},{"$f":"COUNTIF(CJ$108:CJ109,OK)+COUNTIF(CJ$108:CJ109,RDGfix)+COUNTIF(CJ$108:CJ109,RDGave)+CL$82-1","v":0},null,"",{"$f":"IF(CM109=0,\"\",#N/A)","v":""},{"$f":"COUNTIF(CN$108:CN109,OK)+COUNTIF(CN$108:CN109,RDGfix)+COUNTIF(CN$108:CN109,RDGave)+CP$82-1","v":0},null,"",{"$f":"IF(CQ109=0,\"\",#N/A)","v":""},{"$f":"COUNTIF(CR$108:CR109,OK)+COUNTIF(CR$108:CR109,RDGfix)+COUNTIF(CR$108:CR109,RDGave)+CT$82-1","v":0},null,"",{"$f":"IF(CU109=0,\"\",#N/A)","v":""},{"$f":"COUNTIF(CV$108:CV109,OK)+COUNTIF(CV$108:CV109,RDGfix)+COUNTIF(CV$108:CV109,RDGave)+CX$82-1","v":0},null,"",{"$f":"IF(CY109=0,\"\",#N/A)","v":""},{"$f":"COUNTIF(CZ$108:CZ109,OK)+COUNTIF(CZ$108:CZ109,RDGfix)+COUNTIF(CZ$108:CZ109,RDGave)+DB$82-1","v":0},null,"",{"$f":"IF(DC109=0,\"\",#N/A)","v":""},{"$f":"COUNTIF(DD$108:DD109,OK)+COUNTIF(DD$108:DD109,RDGfix)+COUNTIF(DD$108:DD109,RDGave)+DF$82-1","v":0},null,"",{"$f":"IF(DG109=0,\"\",#N/A)","v":""},{"$f":"COUNTIF(DH$108:DH109,OK)+COUNTIF(DH$108:DH109,RDGfix)+COUNTIF(DH$108:DH109,RDGave)+DJ$82-1","v":0},null,"",{"$f":"IF(DK109=0,\"\",#N/A)","v":""},{"$f":"COUNTIF(DL$108:DL109,OK)+COUNTIF(DL$108:DL109,RDGfix)+COUNTIF(DL$108:DL109,RDGave)+DN$82-1","v":0},null,"",{"$f":"IF(DO109=0,\"\",#N/A)","v":""},{"$f":"COUNTIF(DP$108:DP109,OK)+COUNTIF(DP$108:DP109,RDGfix)+COUNTIF(DP$108:DP109,RDGave)+DR$82-1","v":0},null,"",{"$f":"IF(DS109=0,\"\",#N/A)","v":""},{"$f":"COUNTIF(DT$108:DT109,OK)+COUNTIF(DT$108:DT109,RDGfix)+COUNTIF(DT$108:DT109,RDGave)+DV$82-1","v":0},null,"",{"$f":"IF(DW109=0,\"\",#N/A)","v":""},{"$f":"COUNTIF(DX$108:DX109,OK)+COUNTIF(DX$108:DX109,RDGfix)+COUNTIF(DX$108:DX109,RDGave)+DZ$82-1","v":0},null,"",{"$f":"IF(EA109=0,\"\",#N/A)","v":""},{"$f":"COUNTIF(EB$108:EB109,OK)+COUNTIF(EB$108:EB109,RDGfix)+COUNTIF(EB$108:EB109,RDGave)+ED$82-1","v":0},null,"",{"$f":"IF(EE109=0,\"\",#N/A)","v":""},{"$f":"COUNTIF(EF$108:EF109,OK)+COUNTIF(EF$108:EF109,RDGfix)+COUNTIF(EF$108:EF109,RDGave)+EH$82-1","v":0},null,"",{"$f":"IF(EI109=0,\"\",#N/A)","v":""},{"$f":"COUNTIF(EJ$108:EJ109,OK)+COUNTIF(EJ$108:EJ109,RDGfix)+COUNTIF(EJ$108:EJ109,RDGave)+EL$82-1","v":0},null,"",{"$f":"IF(EM109=0,\"\",#N/A)","v":""},{"$f":"COUNTIF(EN$108:EN109,OK)+COUNTIF(EN$108:EN109,RDGfix)+COUNTIF(EN$108:EN109,RDGave)+EP$82-1","v":0},null,"",{"$f":"IF(EQ109=0,\"\",#N/A)","v":""},{"$f":"COUNTIF(ER$108:ER109,OK)+COUNTIF(ER$108:ER109,RDGfix)+COUNTIF(ER$108:ER109,RDGave)+ET$82-1","v":0},null,"",{"$f":"IF(EU109=0,\"\",#N/A)","v":""},{"$f":"COUNTIF(EV$108:EV109,OK)+COUNTIF(EV$108:EV109,RDGfix)+COUNTIF(EV$108:EV109,RDGave)+EX$82-1","v":0},null,"",{"$f":"IF(EY109=0,\"\",#N/A)","v":""},{"$f":"COUNTIF(EZ$108:EZ109,OK)+COUNTIF(EZ$108:EZ109,RDGfix)+COUNTIF(EZ$108:EZ109,RDGave)+FB$82-1","v":0},null,"",{"$f":"IF(FC109=0,\"\",#N/A)","v":""},{"$f":"COUNTIF(FD$108:FD109,OK)+COUNTIF(FD$108:FD109,RDGfix)+COUNTIF(FD$108:FD109,RDGave)+FF$82-1","v":0},null,"",{"$f":"IF(FG109=0,\"\",#N/A)","v":""},{"$f":"COUNTIF(FH$108:FH109,OK)+COUNTIF(FH$108:FH109,RDGfix)+COUNTIF(FH$108:FH109,RDGave)+FJ$82-1","v":0}]
[null,"3rd",null,"","",{"$f":"COUNTIF(D$108:D110,OK)+COUNTIF(D$108:D110,RDGfix)+COUNTIF(D$108:D110,RDGave)+COUNTIF(D$108:D110,RDGevent)","v":0},null,"","",{"$f":"COUNTIF(H$108:H110,OK)+COUNTIF(H$108:H110,RDGfix)+COUNTIF(H$108:H110,RDGave)+COUNTIF(H$108:H110,RDGevent)+J$82-1","v":0},null,"","",{"$f":"COUNTIF(L$108:L110,OK)+COUNTIF(L$108:L110,RDGfix)+COUNTIF(L$108:L110,RDGave)+N$82-1","v":0},null,"","",{"$f":"COUNTIF(P$108:P110,OK)+COUNTIF(P$108:P110,RDGfix)+COUNTIF(P$108:P110,RDGave)+R$82-1","v":0},null,"","",{"$f":"COUNTIF(T$108:T110,OK)+COUNTIF(T$108:T110,RDGfix)+COUNTIF(T$108:T110,RDGave)+V$82-1","v":0},null,"","",{"$f":"COUNTIF(X$108:X110,OK)+COUNTIF(X$108:X110,RDGfix)+COUNTIF(X$108:X110,RDGave)+Z$82-1","v":0},null,"","",{"$f":"COUNTIF(AB$108:AB110,OK)+COUNTIF(AB$108:AB110,RDGfix)+COUNTIF(AB$108:AB110,RDGave)+AD$82-1","v":0},null,"","",{"$f":"COUNTIF(AF$108:AF110,OK)+COUNTIF(AF$108:AF110,RDGfix)+COUNTIF(AF$108:AF110,RDGave)+AH$82-1","v":0},null,"","",{"$f":"COUNTIF(AJ$108:AJ110,OK)+COUNTIF(AJ$108:AJ110,RDGfix)+COUNTIF(AJ$108:AJ110,RDGave)+AL$82-1","v":0},null,"","",{"$f":"COUNTIF(AN$108:AN110,OK)+COUNTIF(AN$108:AN110,RDGfix)+COUNTIF(AN$108:AN110,RDGave)+AP$82-1","v":0},null,"","",{"$f":"COUNTIF(AR$108:AR110,OK)+COUNTIF(AR$108:AR110,RDGfix)+COUNTIF(AR$108:AR110,RDGave)+AT$82-1","v":0},null,"","",{"$f":"COUNTIF(AV$108:AV110,OK)+COUNTIF(AV$108:AV110,RDGfix)+COUNTIF(AV$108:AV110,RDGave)+AX$82-1","v":0},null,"","",{"$f":"COUNTIF(AZ$108:AZ110,OK)+COUNTIF(AZ$108:AZ110,RDGfix)+COUNTIF(AZ$108:AZ110,RDGave)+BB$82-1","v":0},null,"","",{"$f":"COUNTIF(BD$108:BD110,OK)+COUNTIF(BD$108:BD110,RDGfix)+COUNTIF(BD$108:BD110,RDGave)+BF$82-1","v":0},null,"","",{"$f":"COUNTIF(BH$108:BH110,OK)+COUNTIF(BH$108:BH110,RDGfix)+COUNTIF(BH$108:BH110,RDGave)+BJ$82-1","v":0},null,"","",{"$f":"COUNTIF(BL$108:BL110,OK)+COUNTIF(BL$108:BL110,RDGfix)+COUNTIF(BL$108:BL110,RDGave)+BN$82-1","v":0},null,"","",{"$f":"COUNTIF(BP$108:BP110,OK)+COUNTIF(BP$108:BP110,RDGfix)+COUNTIF(BP$108:BP110,RDGave)+BR$82-1","v":0},null,"","",{"$f":"COUNTIF(BT$108:BT110,OK)+COUNTIF(BT$108:BT110,RDGfix)+COUNTIF(BT$108:BT110,RDGave)+BV$82-1","v":0},null,"","",{"$f":"COUNTIF(BX$108:BX110,OK)+COUNTIF(BX$108:BX110,RDGfix)+COUNTIF(BX$108:BX110,RDGave)+BZ$82-1","v":0},null,"","",{"$f":"COUNTIF(CB$108:CB110,OK)+COUNTIF(CB$108:CB110,RDGfix)+COUNTIF(CB$108:CB110,RDGave)+CD$82-1","v":0},null,"","",{"$f":"COUNTIF(CF$108:CF110,OK)+COUNTIF(CF$108:CF110,RDGfix)+COUNTIF(CF$108:CF110,RDGave)+CH$82-1","v":0},null,"","",{"$f":"COUNTIF(CJ$108:CJ110,OK)+COUNTIF(CJ$108:CJ110,RDGfix)+COUNTIF(CJ$108:CJ110,RDGave)+CL$82-1","v":0},null,"","",{"$f":"COUNTIF(CN$108:CN110,OK)+COUNTIF(CN$108:CN110,RDGfix)+COUNTIF(CN$108:CN110,RDGave)+CP$82-1","v":0},null,"","",{"$f":"COUNTIF(CR$108:CR110,OK)+COUNTIF(CR$108:CR110,RDGfix)+COUNTIF(CR$108:CR110,RDGave)+CT$82-1","v":0},null,"","",{"$f":"COUNTIF(CV$108:CV110,OK)+COUNTIF(CV$108:CV110,RDGfix)+COUNTIF(CV$108:CV110,RDGave)+CX$82-1","v":0},null,"","",{"$f":"COUNTIF(CZ$108:CZ110,OK)+COUNTIF(CZ$108:CZ110,RDGfix)+COUNTIF(CZ$108:CZ110,RDGave)+DB$82-1","v":0},null,"","",{"$f":"COUNTIF(DD$108:DD110,OK)+COUNTIF(DD$108:DD110,RDGfix)+COUNTIF(DD$108:DD110,RDGave)+DF$82-1","v":0},null,"","",{"$f":"COUNTIF(DH$108:DH110,OK)+COUNTIF(DH$108:DH110,RDGfix)+COUNTIF(DH$108:DH110,RDGave)+DJ$82-1","v":0},null,"","",{"$f":"COUNTIF(DL$108:DL110,OK)+COUNTIF(DL$108:DL110,RDGfix)+COUNTIF(DL$108:DL110,RDGave)+DN$82-1","v":0},null,"","",{"$f":"COUNTIF(DP$108:DP110,OK)+COUNTIF(DP$108:DP110,RDGfix)+COUNTIF(DP$108:DP110,RDGave)+DR$82-1","v":0},null,"","",{"$f":"COUNTIF(DT$108:DT110,OK)+COUNTIF(DT$108:DT110,RDGfix)+COUNTIF(DT$108:DT110,RDGave)+DV$82-1","v":0},null,"","",{"$f":"COUNTIF(DX$108:DX110,OK)+COUNTIF(DX$108:DX110,RDGfix)+COUNTIF(DX$108:DX110,RDGave)+DZ$82-1","v":0},null,"","",{"$f":"COUNTIF(EB$108:EB110,OK)+COUNTIF(EB$108:EB110,RDGfix)+COUNTIF(EB$108:EB110,RDGave)+ED$82-1","v":0},null,"","",{"$f":"COUNTIF(EF$108:EF110,OK)+COUNTIF(EF$108:EF110,RDGfix)+COUNTIF(EF$108:EF110,RDGave)+EH$82-1","v":0},null,"","",{"$f":"COUNTIF(EJ$108:EJ110,OK)+COUNTIF(EJ$108:EJ110,RDGfix)+COUNTIF(EJ$108:EJ110,RDGave)+EL$82-1","v":0},null,"","",{"$f":"COUNTIF(EN$108:EN110,OK)+COUNTIF(EN$108:EN110,RDGfix)+COUNTIF(EN$108:EN110,RDGave)+EP$82-1","v":0},null,"","",{"$f":"COUNTIF(ER$108:ER110,OK)+COUNTIF(ER$108:ER110,RDGfix)+COUNTIF(ER$108:ER110,RDGave)+ET$82-1","v":0},null,"","",{"$f":"COUNTIF(EV$108:EV110,OK)+COUNTIF(EV$108:EV110,RDGfix)+COUNTIF(EV$108:EV110,RDGave)+EX$82-1","v":0},null,"","",{"$f":"COUNTIF(EZ$108:EZ110,OK)+COUNTIF(EZ$108:EZ110,RDGfix)+COUNTIF(EZ$108:EZ110,RDGave)+FB$82-1","v":0},null,"","",{"$f":"COUNTIF(FD$108:FD110,OK)+COUNTIF(FD$108:FD110,RDGfix)+COUNTIF(FD$108:FD110,RDGave)+FF$82-1","v":0},null,"","",{"$f":"COUNTIF(FH$108:FH110,OK)+COUNTIF(FH$108:FH110,RDGfix)+COUNTIF(FH$108:FH110,RDGave)+FJ$82-1","v":0}]
[null,"4th",null,"","",{"$f":"COUNTIF(D$108:D111,OK)+COUNTIF(D$108:D111,RDGfix)+COUNTIF(D$108:D111,RDGave)+COUNTIF(D$108:D111,RDGevent)","v":0},null,"","",{"$f":"COUNTIF(H$108:H111,OK)+COUNTIF(H$108:H111,RDGfix)+COUNTIF(H$108:H111,RDGave)+COUNTIF(H$108:H111,RDGevent)+J$82-1","v":0},null,"","",{"$f":"COUNTIF(L$108:L111,OK)+COUNTIF(L$108:L111,RDGfix)+COUNTIF(L$108:L111,RDGave)+N$82-1","v":0},null,"","",{"$f":"COUNTIF(P$108:P111,OK)+COUNTIF(P$108:P111,RDGfix)+COUNTIF(P$108:P111,RDGave)+R$82-1","v":0},null,"","",{"$f":"COUNTIF(T$108:T111,OK)+COUNTIF(T$108:T111,RDGfix)+COUNTIF(T$108:T111,RDGave)+V$82-1","v":0},null,"","",{"$f":"COUNTIF(X$108:X111,OK)+COUNTIF(X$108:X111,RDGfix)+COUNTIF(X$108:X111,RDGave)+Z$82-1","v":0},null,"","",{"$f":"COUNTIF(AB$108:AB111,OK)+COUNTIF(AB$108:AB111,RDGfix)+COUNTIF(AB$108:AB111,RDGave)+AD$82-1","v":0},null,"","",{"$f":"COUNTIF(AF$108:AF111,OK)+COUNTIF(AF$108:AF111,RDGfix)+COUNTIF(AF$108:AF111,RDGave)+AH$82-1","v":0},null,"","",{"$f":"COUNTIF(AJ$108:AJ111,OK)+COUNTIF(AJ$108:AJ111,RDGfix)+COUNTIF(AJ$108:AJ111,RDGave)+AL$82-1","v":0},null,"","",{"$f":"COUNTIF(AN$108:AN111,OK)+COUNTIF(AN$108:AN111,RDGfix)+COUNTIF(AN$108:AN111,RDGave)+AP$82-1","v":0},null,"","",{"$f":"COUNTIF(AR$108:AR111,OK)+COUNTIF(AR$108:AR111,RDGfix)+COUNTIF(AR$108:AR111,RDGave)+AT$82-1","v":0},null,"","",{"$f":"COUNTIF(AV$108:AV111,OK)+COUNTIF(AV$108:AV111,RDGfix)+COUNTIF(AV$108:AV111,RDGave)+AX$82-1","v":0},null,"","",{"$f":"COUNTIF(AZ$108:AZ111,OK)+COUNTIF(AZ$108:AZ111,RDGfix)+COUNTIF(AZ$108:AZ111,RDGave)+BB$82-1","v":0},null,"","",{"$f":"COUNTIF(BD$108:BD111,OK)+COUNTIF(BD$108:BD111,RDGfix)+COUNTIF(BD$108:BD111,RDGave)+BF$82-1","v":0},null,"","",{"$f":"COUNTIF(BH$108:BH111,OK)+COUNTIF(BH$108:BH111,RDGfix)+COUNTIF(BH$108:BH111,RDGave)+BJ$82-1","v":0},null,"","",{"$f":"COUNTIF(BL$108:BL111,OK)+COUNTIF(BL$108:BL111,RDGfix)+COUNTIF(BL$108:BL111,RDGave)+BN$82-1","v":0},null,"","",{"$f":"COUNTIF(BP$108:BP111,OK)+COUNTIF(BP$108:BP111,RDGfix)+COUNTIF(BP$108:BP111,RDGave)+BR$82-1","v":0},null,"","",{"$f":"COUNTIF(BT$108:BT111,OK)+COUNTIF(BT$108:BT111,RDGfix)+COUNTIF(BT$108:BT111,RDGave)+BV$82-1","v":0},null,"","",{"$f":"COUNTIF(BX$108:BX111,OK)+COUNTIF(BX$108:BX111,RDGfix)+COUNTIF(BX$108:BX111,RDGave)+BZ$82-1","v":0},null,"","",{"$f":"COUNTIF(CB$108:CB111,OK)+COUNTIF(CB$108:CB111,RDGfix)+COUNTIF(CB$108:CB111,RDGave)+CD$82-1","v":0},null,"","",{"$f":"COUNTIF(CF$108:CF111,OK)+COUNTIF(CF$108:CF111,RDGfix)+COUNTIF(CF$108:CF111,RDGave)+CH$82-1","v":0},null,"","",{"$f":"COUNTIF(CJ$108:CJ111,OK)+COUNTIF(CJ$108:CJ111,RDGfix)+COUNTIF(CJ$108:CJ111,RDGave)+CL$82-1","v":0},null,"","",{"$f":"COUNTIF(CN$108:CN111,OK)+COUNTIF(CN$108:CN111,RDGfix)+COUNTIF(CN$108:CN111,RDGave)+CP$82-1","v":0},null,"","",{"$f":"COUNTIF(CR$108:CR111,OK)+COUNTIF(CR$108:CR111,RDGfix)+COUNTIF(CR$108:CR111,RDGave)+CT$82-1","v":0},null,"","",{"$f":"COUNTIF(CV$108:CV111,OK)+COUNTIF(CV$108:CV111,RDGfix)+COUNTIF(CV$108:CV111,RDGave)+CX$82-1","v":0},null,"","",{"$f":"COUNTIF(CZ$108:CZ111,OK)+COUNTIF(CZ$108:CZ111,RDGfix)+COUNTIF(CZ$108:CZ111,RDGave)+DB$82-1","v":0},null,"","",{"$f":"COUNTIF(DD$108:DD111,OK)+COUNTIF(DD$108:DD111,RDGfix)+COUNTIF(DD$108:DD111,RDGave)+DF$82-1","v":0},null,"","",{"$f":"COUNTIF(DH$108:DH111,OK)+COUNTIF(DH$108:DH111,RDGfix)+COUNTIF(DH$108:DH111,RDGave)+DJ$82-1","v":0},null,"","",{"$f":"COUNTIF(DL$108:DL111,OK)+COUNTIF(DL$108:DL111,RDGfix)+COUNTIF(DL$108:DL111,RDGave)+DN$82-1","v":0},null,"","",{"$f":"COUNTIF(DP$108:DP111,OK)+COUNTIF(DP$108:DP111,RDGfix)+COUNTIF(DP$108:DP111,RDGave)+DR$82-1","v":0},null,"","",{"$f":"COUNTIF(DT$108:DT111,OK)+COUNTIF(DT$108:DT111,RDGfix)+COUNTIF(DT$108:DT111,RDGave)+DV$82-1","v":0},null,"","",{"$f":"COUNTIF(DX$108:DX111,OK)+COUNTIF(DX$108:DX111,RDGfix)+COUNTIF(DX$108:DX111,RDGave)+DZ$82-1","v":0},null,"","",{"$f":"COUNTIF(EB$108:EB111,OK)+COUNTIF(EB$108:EB111,RDGfix)+COUNTIF(EB$108:EB111,RDGave)+ED$82-1","v":0},null,"","",{"$f":"COUNTIF(EF$108:EF111,OK)+COUNTIF(EF$108:EF111,RDGfix)+COUNTIF(EF$108:EF111,RDGave)+EH$82-1","v":0},null,"","",{"$f":"COUNTIF(EJ$108:EJ111,OK)+COUNTIF(EJ$108:EJ111,RDGfix)+COUNTIF(EJ$108:EJ111,RDGave)+EL$82-1","v":0},null,"","",{"$f":"COUNTIF(EN$108:EN111,OK)+COUNTIF(EN$108:EN111,RDGfix)+COUNTIF(EN$108:EN111,RDGave)+EP$82-1","v":0},null,"","",{"$f":"COUNTIF(ER$108:ER111,OK)+COUNTIF(ER$108:ER111,RDGfix)+COUNTIF(ER$108:ER111,RDGave)+ET$82-1","v":0},null,"","",{"$f":"COUNTIF(EV$108:EV111,OK)+COUNTIF(EV$108:EV111,RDGfix)+COUNTIF(EV$108:EV111,RDGave)+EX$82-1","v":0},null,"","",{"$f":"COUNTIF(EZ$108:EZ111,OK)+COUNTIF(EZ$108:EZ111,RDGfix)+COUNTIF(EZ$108:EZ111,RDGave)+FB$82-1","v":0},null,"","",{"$f":"COUNTIF(FD$108:FD111,OK)+COUNTIF(FD$108:FD111,RDGfix)+COUNTIF(FD$108:FD111,RDGave)+FF$82-1","v":0},null,"","",{"$f":"COUNTIF(FH$108:FH111,OK)+COUNTIF(FH$108:FH111,RDGfix)+COUNTIF(FH$108:FH111,RDGave)+FJ$82-1","v":0}]
[null,"5th",null,"","",{"$f":"COUNTIF(D$108:D112,OK)+COUNTIF(D$108:D112,RDGfix)+COUNTIF(D$108:D112,RDGave)+COUNTIF(D$108:D112,RDGevent)","v":0},null,{"$f":"IF(G112=\"\",\"\",OK)","v":""},{"$f":"IF(G112=\"\",\"\",IF(AND(H$107=\"L\",H112=\"DNC\"),$I$2,\nIF(H112=OK,J112,IF(HLOOKUP(H112,Comments3,2,FALSE)=D,J$107,IF(HLOOKUP(H112,Comments3,2,FALSE)=A,VLOOKUP(G112,Averages,G$4,FALSE),IF(HLOOKUP(H112,Comments3,2,FALSE)=E,VLOOKUP(G112,EventAverage,2,FALSE), HLOOKUP(H112,Comments4,2,FALSE)))))))","v":""},{"$f":"COUNTIF(H$108:H112,OK)+COUNTIF(H$108:H112,RDGfix)+COUNTIF(H$108:H112,RDGave)+COUNTIF(H$108:H112,RDGevent)+J$82-1","v":0},null,{"$f":"IF(K112=\"\",\"\",OK)","v":""},{"$f":"IF(K112=\"\",\"\",IF(AND(L$107=\"L\",L112=\"DNC\"),$I$2,\nIF(L112=OK,N112,IF(HLOOKUP(L112,Comments3,2,FALSE)=D,N$107,IF(HLOOKUP(L112,Comments3,2,FALSE)=A,VLOOKUP(K112,Averages,K$4,FALSE),IF(HLOOKUP(L112,Comments3,2,FALSE)=E,VLOOKUP(K112,EventAverage,2,FALSE), HLOOKUP(L112,Comments4,2,FALSE)))))))","v":""},{"$f":"COUNTIF(L$108:L112,OK)+COUNTIF(L$108:L112,RDGfix)+COUNTIF(L$108:L112,RDGave)+COUNTIF(L$108:L112,RDGevent)+N$82-1","v":0},null,{"$f":"IF(O112=\"\",\"\",OK)","v":""},{"$f":"IF(O112=\"\",\"\",IF(AND(P$107=\"L\",P112=\"DNC\"),$I$2,\nIF(P112=OK,R112,IF(HLOOKUP(P112,Comments3,2,FALSE)=D,R$107,IF(HLOOKUP(P112,Comments3,2,FALSE)=A,VLOOKUP(O112,Averages,O$4,FALSE),IF(HLOOKUP(P112,Comments3,2,FALSE)=E,VLOOKUP(O112,EventAverage,2,FALSE), HLOOKUP(P112,Comments4,2,FALSE)))))))","v":""},{"$f":"COUNTIF(P$108:P112,OK)+COUNTIF(P$108:P112,RDGfix)+COUNTIF(P$108:P112,RDGave)+COUNTIF(P$108:P112,RDGevent)+R$82-1","v":0},null,{"$f":"IF(S112=\"\",\"\",OK)","v":""},{"$f":"IF(S112=\"\",\"\",IF(AND(T$107=\"L\",T112=\"DNC\"),$I$2,\nIF(T112=OK,V112,IF(HLOOKUP(T112,Comments3,2,FALSE)=D,V$107,IF(HLOOKUP(T112,Comments3,2,FALSE)=A,VLOOKUP(S112,Averages,S$4,FALSE),IF(HLOOKUP(T112,Comments3,2,FALSE)=E,VLOOKUP(S112,EventAverage,2,FALSE), HLOOKUP(T112,Comments4,2,FALSE)))))))","v":""},{"$f":"COUNTIF(T$108:T112,OK)+COUNTIF(T$108:T112,RDGfix)+COUNTIF(T$108:T112,RDGave)+COUNTIF(T$108:T112,RDGevent)+V$82-1","v":0},null,{"$f":"IF(W112=\"\",\"\",OK)","v":""},{"$f":"IF(W112=\"\",\"\",IF(AND(X$107=\"L\",X112=\"DNC\"),$I$2,\nIF(X112=OK,Z112,IF(HLOOKUP(X112,Comments3,2,FALSE)=D,Z$107,IF(HLOOKUP(X112,Comments3,2,FALSE)=A,VLOOKUP(W112,Averages,W$4,FALSE),IF(HLOOKUP(X112,Comments3,2,FALSE)=E,VLOOKUP(W112,EventAverage,2,FALSE), HLOOKUP(X112,Comments4,2,FALSE)))))))","v":""},{"$f":"COUNTIF(X$108:X112,OK)+COUNTIF(X$108:X112,RDGfix)+COUNTIF(X$108:X112,RDGave)+COUNTIF(X$108:X112,RDGevent)+Z$82-1","v":0},null,{"$f":"IF(AA112=\"\",\"\",OK)","v":""},{"$f":"IF(AA112=\"\",\"\",IF(AND(AB$107=\"L\",AB112=\"DNC\"),$I$2,\nIF(AB112=OK,AD112,IF(HLOOKUP(AB112,Comments3,2,FALSE)=D,AD$107,IF(HLOOKUP(AB112,Comments3,2,FALSE)=A,VLOOKUP(AA112,Averages,AA$4,FALSE),IF(HLOOKUP(AB112,Comments3,2,FALSE)=E,VLOOKUP(AA112,EventAverage,2,FALSE), HLOOKUP(AB112,Comments4,2,FALSE)))))))","v":""},{"$f":"COUNTIF(AB$108:AB112,OK)+COUNTIF(AB$108:AB112,RDGfix)+COUNTIF(AB$108:AB112,RDGave)+COUNTIF(AB$108:AB112,RDGevent)+AD$82-1","v":0},null,{"$f":"IF(AE112=\"\",\"\",OK)","v":""},{"$f":"IF(AE112=\"\",\"\",IF(AND(AF$107=\"L\",AF112=\"DNC\"),$I$2,\nIF(AF112=OK,AH112,IF(HLOOKUP(AF112,Comments3,2,FALSE)=D,AH$107,IF(HLOOKUP(AF112,Comments3,2,FALSE)=A,VLOOKUP(AE112,Averages,AE$4,FALSE),IF(HLOOKUP(AF112,Comments3,2,FALSE)=E,VLOOKUP(AE112,EventAverage,2,FALSE), HLOOKUP(AF112,Comments4,2,FALSE)))))))","v":""},{"$f":"COUNTIF(AF$108:AF112,OK)+COUNTIF(AF$108:AF112,RDGfix)+COUNTIF(AF$108:AF112,RDGave)+COUNTIF(AF$108:AF112,RDGevent)+AH$82-1","v":0},null,{"$f":"IF(AI112=\"\",\"\",OK)","v":""},{"$f":"IF(AI112=\"\",\"\",IF(AND(AJ$107=\"L\",AJ112=\"DNC\"),$I$2,\nIF(AJ112=OK,AL112,IF(HLOOKUP(AJ112,Comments3,2,FALSE)=D,AL$107,IF(HLOOKUP(AJ112,Comments3,2,FALSE)=A,VLOOKUP(AI112,Averages,AI$4,FALSE),IF(HLOOKUP(AJ112,Comments3,2,FALSE)=E,VLOOKUP(AI112,EventAverage,2,FALSE), HLOOKUP(AJ112,Comments4,2,FALSE)))))))","v":""},{"$f":"COUNTIF(AJ$108:AJ112,OK)+COUNTIF(AJ$108:AJ112,RDGfix)+COUNTIF(AJ$108:AJ112,RDGave)+COUNTIF(AJ$108:AJ112,RDGevent)+AL$82-1","v":0},null,{"$f":"IF(AM112=\"\",\"\",OK)","v":""},{"$f":"IF(AM112=\"\",\"\",IF(AND(AN$107=\"L\",AN112=\"DNC\"),$I$2,\nIF(AN112=OK,AP112,IF(HLOOKUP(AN112,Comments3,2,FALSE)=D,AP$107,IF(HLOOKUP(AN112,Comments3,2,FALSE)=A,VLOOKUP(AM112,Averages,AM$4,FALSE),IF(HLOOKUP(AN112,Comments3,2,FALSE)=E,VLOOKUP(AM112,EventAverage,2,FALSE), HLOOKUP(AN112,Comments4,2,FALSE)))))))","v":""},{"$f":"COUNTIF(AN$108:AN112,OK)+COUNTIF(AN$108:AN112,RDGfix)+COUNTIF(AN$108:AN112,RDGave)+COUNTIF(AN$108:AN112,RDGevent)+AP$82-1","v":0},null,{"$f":"IF(AQ112=\"\",\"\",OK)","v":""},{"$f":"IF(AQ112=\"\",\"\",IF(AND(AR$107=\"L\",AR112=\"DNC\"),$I$2,\nIF(AR112=OK,AT112,IF(HLOOKUP(AR112,Comments3,2,FALSE)=D,AT$107,IF(HLOOKUP(AR112,Comments3,2,FALSE)=A,VLOOKUP(AQ112,Averages,AQ$4,FALSE),IF(HLOOKUP(AR112,Comments3,2,FALSE)=E,VLOOKUP(AQ112,EventAverage,2,FALSE), HLOOKUP(AR112,Comments4,2,FALSE)))))))","v":""},{"$f":"COUNTIF(AR$108:AR112,OK)+COUNTIF(AR$108:AR112,RDGfix)+COUNTIF(AR$108:AR112,RDGave)+COUNTIF(AR$108:AR112,RDGevent)+AT$82-1","v":0},null,{"$f":"IF(AU112=\"\",\"\",OK)","v":""},{"$f":"IF(AU112=\"\",\"\",IF(AND(AV$107=\"L\",AV112=\"DNC\"),$I$2,\nIF(AV112=OK,AX112,IF(HLOOKUP(AV112,Comments3,2,FALSE)=D,AX$107,IF(HLOOKUP(AV112,Comments3,2,FALSE)=A,VLOOKUP(AU112,Averages,AU$4,FALSE),IF(HLOOKUP(AV112,Comments3,2,FALSE)=E,VLOOKUP(AU112,EventAverage,2,FALSE), HLOOKUP(AV112,Comments4,2,FALSE)))))))","v":""},{"$f":"COUNTIF(AV$108:AV112,OK)+COUNTIF(AV$108:AV112,RDGfix)+COUNTIF(AV$108:AV112,RDGave)+COUNTIF(AV$108:AV112,RDGevent)+AX$82-1","v":0},null,{"$f":"IF(AY112=\"\",\"\",OK)","v":""},{"$f":"IF(AY112=\"\",\"\",IF(AND(AZ$107=\"L\",AZ112=\"DNC\"),$I$2,\nIF(AZ112=OK,BB112,IF(HLOOKUP(AZ112,Comments3,2,FALSE)=D,BB$107,IF(HLOOKUP(AZ112,Comments3,2,FALSE)=A,VLOOKUP(AY112,Averages,AY$4,FALSE),IF(HLOOKUP(AZ112,Comments3,2,FALSE)=E,VLOOKUP(AY112,EventAverage,2,FALSE), HLOOKUP(AZ112,Comments4,2,FALSE)))))))","v":""},{"$f":"COUNTIF(AZ$108:AZ112,OK)+COUNTIF(AZ$108:AZ112,RDGfix)+COUNTIF(AZ$108:AZ112,RDGave)+COUNTIF(AZ$108:AZ112,RDGevent)+BB$82-1","v":0},null,{"$f":"IF(BC112=\"\",\"\",OK)","v":""},{"$f":"IF(BC112=\"\",\"\",IF(AND(BD$107=\"L\",BD112=\"DNC\"),$I$2,\nIF(BD112=OK,BF112,IF(HLOOKUP(BD112,Comments3,2,FALSE)=D,BF$107,IF(HLOOKUP(BD112,Comments3,2,FALSE)=A,VLOOKUP(BC112,Averages,BC$4,FALSE),IF(HLOOKUP(BD112,Comments3,2,FALSE)=E,VLOOKUP(BC112,EventAverage,2,FALSE), HLOOKUP(BD112,Comments4,2,FALSE)))))))","v":""},{"$f":"COUNTIF(BD$108:BD112,OK)+COUNTIF(BD$108:BD112,RDGfix)+COUNTIF(BD$108:BD112,RDGave)+COUNTIF(BD$108:BD112,RDGevent)+BF$82-1","v":0},null,{"$f":"IF(BG112=\"\",\"\",OK)","v":""},{"$f":"IF(BG112=\"\",\"\",IF(AND(BH$107=\"L\",BH112=\"DNC\"),$I$2,\nIF(BH112=OK,BJ112,IF(HLOOKUP(BH112,Comments3,2,FALSE)=D,BJ$107,IF(HLOOKUP(BH112,Comments3,2,FALSE)=A,VLOOKUP(BG112,Averages,BG$4,FALSE),IF(HLOOKUP(BH112,Comments3,2,FALSE)=E,VLOOKUP(BG112,EventAverage,2,FALSE), HLOOKUP(BH112,Comments4,2,FALSE)))))))","v":""},{"$f":"COUNTIF(BH$108:BH112,OK)+COUNTIF(BH$108:BH112,RDGfix)+COUNTIF(BH$108:BH112,RDGave)+COUNTIF(BH$108:BH112,RDGevent)+BJ$82-1","v":0},null,{"$f":"IF(BK112=\"\",\"\",OK)","v":""},{"$f":"IF(BK112=\"\",\"\",IF(AND(BL$107=\"L\",BL112=\"DNC\"),$I$2,\nIF(BL112=OK,BN112,IF(HLOOKUP(BL112,Comments3,2,FALSE)=D,BN$107,IF(HLOOKUP(BL112,Comments3,2,FALSE)=A,VLOOKUP(BK112,Averages,BK$4,FALSE),IF(HLOOKUP(BL112,Comments3,2,FALSE)=E,VLOOKUP(BK112,EventAverage,2,FALSE), HLOOKUP(BL112,Comments4,2,FALSE)))))))","v":""},{"$f":"COUNTIF(BL$108:BL112,OK)+COUNTIF(BL$108:BL112,RDGfix)+COUNTIF(BL$108:BL112,RDGave)+COUNTIF(BL$108:BL112,RDGevent)+BN$82-1","v":0},null,{"$f":"IF(BO112=\"\",\"\",OK)","v":""},{"$f":"IF(BO112=\"\",\"\",IF(AND(BP$107=\"L\",BP112=\"DNC\"),$I$2,\nIF(BP112=OK,BR112,IF(HLOOKUP(BP112,Comments3,2,FALSE)=D,BR$107,IF(HLOOKUP(BP112,Comments3,2,FALSE)=A,VLOOKUP(BO112,Averages,BO$4,FALSE),IF(HLOOKUP(BP112,Comments3,2,FALSE)=E,VLOOKUP(BO112,EventAverage,2,FALSE), HLOOKUP(BP112,Comments4,2,FALSE)))))))","v":""},{"$f":"COUNTIF(BP$108:BP112,OK)+COUNTIF(BP$108:BP112,RDGfix)+COUNTIF(BP$108:BP112,RDGave)+COUNTIF(BP$108:BP112,RDGevent)+BR$82-1","v":0},null,{"$f":"IF(BS112=\"\",\"\",OK)","v":""},{"$f":"IF(BS112=\"\",\"\",IF(AND(BT$107=\"L\",BT112=\"DNC\"),$I$2,\nIF(BT112=OK,BV112,IF(HLOOKUP(BT112,Comments3,2,FALSE)=D,BV$107,IF(HLOOKUP(BT112,Comments3,2,FALSE)=A,VLOOKUP(BS112,Averages,BS$4,FALSE),IF(HLOOKUP(BT112,Comments3,2,FALSE)=E,VLOOKUP(BS112,EventAverage,2,FALSE), HLOOKUP(BT112,Comments4,2,FALSE)))))))","v":""},{"$f":"COUNTIF(BT$108:BT112,OK)+COUNTIF(BT$108:BT112,RDGfix)+COUNTIF(BT$108:BT112,RDGave)+COUNTIF(BT$108:BT112,RDGevent)+BV$82-1","v":0},null,{"$f":"IF(BW112=\"\",\"\",OK)","v":""},{"$f":"IF(BW112=\"\",\"\",IF(AND(BX$107=\"L\",BX112=\"DNC\"),$I$2,\nIF(BX112=OK,BZ112,IF(HLOOKUP(BX112,Comments3,2,FALSE)=D,BZ$107,IF(HLOOKUP(BX112,Comments3,2,FALSE)=A,VLOOKUP(BW112,Averages,BW$4,FALSE),IF(HLOOKUP(BX112,Comments3,2,FALSE)=E,VLOOKUP(BW112,EventAverage,2,FALSE), HLOOKUP(BX112,Comments4,2,FALSE)))))))","v":""},{"$f":"COUNTIF(BX$108:BX112,OK)+COUNTIF(BX$108:BX112,RDGfix)+COUNTIF(BX$108:BX112,RDGave)+COUNTIF(BX$108:BX112,RDGevent)+BZ$82-1","v":0},null,{"$f":"IF(CA112=\"\",\"\",OK)","v":""},{"$f":"IF(CA112=\"\",\"\",IF(AND(CB$107=\"L\",CB112=\"DNC\"),$I$2,\nIF(CB112=OK,CD112,IF(HLOOKUP(CB112,Comments3,2,FALSE)=D,CD$107,IF(HLOOKUP(CB112,Comments3,2,FALSE)=A,VLOOKUP(CA112,Averages,CA$4,FALSE),IF(HLOOKUP(CB112,Comments3,2,FALSE)=E,VLOOKUP(CA112,EventAverage,2,FALSE), HLOOKUP(CB112,Comments4,2,FALSE)))))))","v":""},{"$f":"COUNTIF(CB$108:CB112,OK)+COUNTIF(CB$108:CB112,RDGfix)+COUNTIF(CB$108:CB112,RDGave)+COUNTIF(CB$108:CB112,RDGevent)+CD$82-1","v":0},null,{"$f":"IF(CE112=\"\",\"\",OK)","v":""},{"$f":"IF(CE112=\"\",\"\",IF(AND(CF$107=\"L\",CF112=\"DNC\"),$I$2,\nIF(CF112=OK,CH112,IF(HLOOKUP(CF112,Comments3,2,FALSE)=D,CH$107,IF(HLOOKUP(CF112,Comments3,2,FALSE)=A,VLOOKUP(CE112,Averages,CE$4,FALSE),IF(HLOOKUP(CF112,Comments3,2,FALSE)=E,VLOOKUP(CE112,EventAverage,2,FALSE), HLOOKUP(CF112,Comments4,2,FALSE)))))))","v":""},{"$f":"COUNTIF(CF$108:CF112,OK)+COUNTIF(CF$108:CF112,RDGfix)+COUNTIF(CF$108:CF112,RDGave)+COUNTIF(CF$108:CF112,RDGevent)+CH$82-1","v":0},null,{"$f":"IF(CI112=\"\",\"\",OK)","v":""},{"$f":"IF(CI112=\"\",\"\",IF(AND(CJ$107=\"L\",CJ112=\"DNC\"),$I$2,\nIF(CJ112=OK,CL112,IF(HLOOKUP(CJ112,Comments3,2,FALSE)=D,CL$107,IF(HLOOKUP(CJ112,Comments3,2,FALSE)=A,VLOOKUP(CI112,Averages,CI$4,FALSE),IF(HLOOKUP(CJ112,Comments3,2,FALSE)=E,VLOOKUP(CI112,EventAverage,2,FALSE), HLOOKUP(CJ112,Comments4,2,FALSE)))))))","v":""},{"$f":"COUNTIF(CJ$108:CJ112,OK)+COUNTIF(CJ$108:CJ112,RDGfix)+COUNTIF(CJ$108:CJ112,RDGave)+COUNTIF(CJ$108:CJ112,RDGevent)+CL$82-1","v":0},null,{"$f":"IF(CM112=\"\",\"\",OK)","v":""},{"$f":"IF(CM112=\"\",\"\",IF(AND(CN$107=\"L\",CN112=\"DNC\"),$I$2,\nIF(CN112=OK,CP112,IF(HLOOKUP(CN112,Comments3,2,FALSE)=D,CP$107,IF(HLOOKUP(CN112,Comments3,2,FALSE)=A,VLOOKUP(CM112,Averages,CM$4,FALSE),IF(HLOOKUP(CN112,Comments3,2,FALSE)=E,VLOOKUP(CM112,EventAverage,2,FALSE), HLOOKUP(CN112,Comments4,2,FALSE)))))))","v":""},{"$f":"COUNTIF(CN$108:CN112,OK)+COUNTIF(CN$108:CN112,RDGfix)+COUNTIF(CN$108:CN112,RDGave)+COUNTIF(CN$108:CN112,RDGevent)+CP$82-1","v":0},null,{"$f":"IF(CQ112=\"\",\"\",OK)","v":""},{"$f":"IF(CQ112=\"\",\"\",IF(AND(CR$107=\"L\",CR112=\"DNC\"),$I$2,\nIF(CR112=OK,CT112,IF(HLOOKUP(CR112,Comments3,2,FALSE)=D,CT$107,IF(HLOOKUP(CR112,Comments3,2,FALSE)=A,VLOOKUP(CQ112,Averages,CQ$4,FALSE),IF(HLOOKUP(CR112,Comments3,2,FALSE)=E,VLOOKUP(CQ112,EventAverage,2,FALSE), HLOOKUP(CR112,Comments4,2,FALSE)))))))","v":""},{"$f":"COUNTIF(CR$108:CR112,OK)+COUNTIF(CR$108:CR112,RDGfix)+COUNTIF(CR$108:CR112,RDGave)+COUNTIF(CR$108:CR112,RDGevent)+CT$82-1","v":0},null,{"$f":"IF(CU112=\"\",\"\",OK)","v":""},{"$f":"IF(CU112=\"\",\"\",IF(AND(CV$107=\"L\",CV112=\"DNC\"),$I$2,\nIF(CV112=OK,CX112,IF(HLOOKUP(CV112,Comments3,2,FALSE)=D,CX$107,IF(HLOOKUP(CV112,Comments3,2,FALSE)=A,VLOOKUP(CU112,Averages,CU$4,FALSE),IF(HLOOKUP(CV112,Comments3,2,FALSE)=E,VLOOKUP(CU112,EventAverage,2,FALSE), HLOOKUP(CV112,Comments4,2,FALSE)))))))","v":""},{"$f":"COUNTIF(CV$108:CV112,OK)+COUNTIF(CV$108:CV112,RDGfix)+COUNTIF(CV$108:CV112,RDGave)+COUNTIF(CV$108:CV112,RDGevent)+CX$82-1","v":0},null,{"$f":"IF(CY112=\"\",\"\",OK)","v":""},{"$f":"IF(CY112=\"\",\"\",IF(AND(CZ$107=\"L\",CZ112=\"DNC\"),$I$2,\nIF(CZ112=OK,DB112,IF(HLOOKUP(CZ112,Comments3,2,FALSE)=D,DB$107,IF(HLOOKUP(CZ112,Comments3,2,FALSE)=A,VLOOKUP(CY112,Averages,CY$4,FALSE),IF(HLOOKUP(CZ112,Comments3,2,FALSE)=E,VLOOKUP(CY112,EventAverage,2,FALSE), HLOOKUP(CZ112,Comments4,2,FALSE)))))))","v":""},{"$f":"COUNTIF(CZ$108:CZ112,OK)+COUNTIF(CZ$108:CZ112,RDGfix)+COUNTIF(CZ$108:CZ112,RDGave)+COUNTIF(CZ$108:CZ112,RDGevent)+DB$82-1","v":0},null,{"$f":"IF(DC112=\"\",\"\",OK)","v":""},{"$f":"IF(DC112=\"\",\"\",IF(AND(DD$107=\"L\",DD112=\"DNC\"),$I$2,\nIF(DD112=OK,DF112,IF(HLOOKUP(DD112,Comments3,2,FALSE)=D,DF$107,IF(HLOOKUP(DD112,Comments3,2,FALSE)=A,VLOOKUP(DC112,Averages,DC$4,FALSE),IF(HLOOKUP(DD112,Comments3,2,FALSE)=E,VLOOKUP(DC112,EventAverage,2,FALSE), HLOOKUP(DD112,Comments4,2,FALSE)))))))","v":""},{"$f":"COUNTIF(DD$108:DD112,OK)+COUNTIF(DD$108:DD112,RDGfix)+COUNTIF(DD$108:DD112,RDGave)+COUNTIF(DD$108:DD112,RDGevent)+DF$82-1","v":0},null,{"$f":"IF(DG112=\"\",\"\",OK)","v":""},{"$f":"IF(DG112=\"\",\"\",IF(AND(DH$107=\"L\",DH112=\"DNC\"),$I$2,\nIF(DH112=OK,DJ112,IF(HLOOKUP(DH112,Comments3,2,FALSE)=D,DJ$107,IF(HLOOKUP(DH112,Comments3,2,FALSE)=A,VLOOKUP(DG112,Averages,DG$4,FALSE),IF(HLOOKUP(DH112,Comments3,2,FALSE)=E,VLOOKUP(DG112,EventAverage,2,FALSE), HLOOKUP(DH112,Comments4,2,FALSE)))))))","v":""},{"$f":"COUNTIF(DH$108:DH112,OK)+COUNTIF(DH$108:DH112,RDGfix)+COUNTIF(DH$108:DH112,RDGave)+COUNTIF(DH$108:DH112,RDGevent)+DJ$82-1","v":0},null,{"$f":"IF(DK112=\"\",\"\",OK)","v":""},{"$f":"IF(DK112=\"\",\"\",IF(AND(DL$107=\"L\",DL112=\"DNC\"),$I$2,\nIF(DL112=OK,DN112,IF(HLOOKUP(DL112,Comments3,2,FALSE)=D,DN$107,IF(HLOOKUP(DL112,Comments3,2,FALSE)=A,VLOOKUP(DK112,Averages,DK$4,FALSE),IF(HLOOKUP(DL112,Comments3,2,FALSE)=E,VLOOKUP(DK112,EventAverage,2,FALSE), HLOOKUP(DL112,Comments4,2,FALSE)))))))","v":""},{"$f":"COUNTIF(DL$108:DL112,OK)+COUNTIF(DL$108:DL112,RDGfix)+COUNTIF(DL$108:DL112,RDGave)+COUNTIF(DL$108:DL112,RDGevent)+DN$82-1","v":0},null,{"$f":"IF(DO112=\"\",\"\",OK)","v":""},{"$f":"IF(DO112=\"\",\"\",IF(AND(DP$107=\"L\",DP112=\"DNC\"),$I$2,\nIF(DP112=OK,DR112,IF(HLOOKUP(DP112,Comments3,2,FALSE)=D,DR$107,IF(HLOOKUP(DP112,Comments3,2,FALSE)=A,VLOOKUP(DO112,Averages,DO$4,FALSE),IF(HLOOKUP(DP112,Comments3,2,FALSE)=E,VLOOKUP(DO112,EventAverage,2,FALSE), HLOOKUP(DP112,Comments4,2,FALSE)))))))","v":""},{"$f":"COUNTIF(DP$108:DP112,OK)+COUNTIF(DP$108:DP112,RDGfix)+COUNTIF(DP$108:DP112,RDGave)+COUNTIF(DP$108:DP112,RDGevent)+DR$82-1","v":0},null,{"$f":"IF(DS112=\"\",\"\",OK)","v":""},{"$f":"IF(DS112=\"\",\"\",IF(AND(DT$107=\"L\",DT112=\"DNC\"),$I$2,\nIF(DT112=OK,DV112,IF(HLOOKUP(DT112,Comments3,2,FALSE)=D,DV$107,IF(HLOOKUP(DT112,Comments3,2,FALSE)=A,VLOOKUP(DS112,Averages,DS$4,FALSE),IF(HLOOKUP(DT112,Comments3,2,FALSE)=E,VLOOKUP(DS112,EventAverage,2,FALSE), HLOOKUP(DT112,Comments4,2,FALSE)))))))","v":""},{"$f":"COUNTIF(DT$108:DT112,OK)+COUNTIF(DT$108:DT112,RDGfix)+COUNTIF(DT$108:DT112,RDGave)+COUNTIF(DT$108:DT112,RDGevent)+DV$82-1","v":0},null,{"$f":"IF(DW112=\"\",\"\",OK)","v":""},{"$f":"IF(DW112=\"\",\"\",IF(AND(DX$107=\"L\",DX112=\"DNC\"),$I$2,\nIF(DX112=OK,DZ112,IF(HLOOKUP(DX112,Comments3,2,FALSE)=D,DZ$107,IF(HLOOKUP(DX112,Comments3,2,FALSE)=A,VLOOKUP(DW112,Averages,DW$4,FALSE),IF(HLOOKUP(DX112,Comments3,2,FALSE)=E,VLOOKUP(DW112,EventAverage,2,FALSE), HLOOKUP(DX112,Comments4,2,FALSE)))))))","v":""},{"$f":"COUNTIF(DX$108:DX112,OK)+COUNTIF(DX$108:DX112,RDGfix)+COUNTIF(DX$108:DX112,RDGave)+COUNTIF(DX$108:DX112,RDGevent)+DZ$82-1","v":0},null,{"$f":"IF(EA112=\"\",\"\",OK)","v":""},{"$f":"IF(EA112=\"\",\"\",IF(AND(EB$107=\"L\",EB112=\"DNC\"),$I$2,\nIF(EB112=OK,ED112,IF(HLOOKUP(EB112,Comments3,2,FALSE)=D,ED$107,IF(HLOOKUP(EB112,Comments3,2,FALSE)=A,VLOOKUP(EA112,Averages,EA$4,FALSE),IF(HLOOKUP(EB112,Comments3,2,FALSE)=E,VLOOKUP(EA112,EventAverage,2,FALSE), HLOOKUP(EB112,Comments4,2,FALSE)))))))","v":""},{"$f":"COUNTIF(EB$108:EB112,OK)+COUNTIF(EB$108:EB112,RDGfix)+COUNTIF(EB$108:EB112,RDGave)+COUNTIF(EB$108:EB112,RDGevent)+ED$82-1","v":0},null,{"$f":"IF(EE112=\"\",\"\",OK)","v":""},{"$f":"IF(EE112=\"\",\"\",IF(AND(EF$107=\"L\",EF112=\"DNC\"),$I$2,\nIF(EF112=OK,EH112,IF(HLOOKUP(EF112,Comments3,2,FALSE)=D,EH$107,IF(HLOOKUP(EF112,Comments3,2,FALSE)=A,VLOOKUP(EE112,Averages,EE$4,FALSE),IF(HLOOKUP(EF112,Comments3,2,FALSE)=E,VLOOKUP(EE112,EventAverage,2,FALSE), HLOOKUP(EF112,Comments4,2,FALSE)))))))","v":""},{"$f":"COUNTIF(EF$108:EF112,OK)+COUNTIF(EF$108:EF112,RDGfix)+COUNTIF(EF$108:EF112,RDGave)+COUNTIF(EF$108:EF112,RDGevent)+EH$82-1","v":0},null,{"$f":"IF(EI112=\"\",\"\",OK)","v":""},{"$f":"IF(EI112=\"\",\"\",IF(AND(EJ$107=\"L\",EJ112=\"DNC\"),$I$2,\nIF(EJ112=OK,EL112,IF(HLOOKUP(EJ112,Comments3,2,FALSE)=D,EL$107,IF(HLOOKUP(EJ112,Comments3,2,FALSE)=A,VLOOKUP(EI112,Averages,EI$4,FALSE),IF(HLOOKUP(EJ112,Comments3,2,FALSE)=E,VLOOKUP(EI112,EventAverage,2,FALSE), HLOOKUP(EJ112,Comments4,2,FALSE)))))))","v":""},{"$f":"COUNTIF(EJ$108:EJ112,OK)+COUNTIF(EJ$108:EJ112,RDGfix)+COUNTIF(EJ$108:EJ112,RDGave)+COUNTIF(EJ$108:EJ112,RDGevent)+EL$82-1","v":0},null,{"$f":"IF(EM112=\"\",\"\",OK)","v":""},{"$f":"IF(EM112=\"\",\"\",IF(AND(EN$107=\"L\",EN112=\"DNC\"),$I$2,\nIF(EN112=OK,EP112,IF(HLOOKUP(EN112,Comments3,2,FALSE)=D,EP$107,IF(HLOOKUP(EN112,Comments3,2,FALSE)=A,VLOOKUP(EM112,Averages,EM$4,FALSE),IF(HLOOKUP(EN112,Comments3,2,FALSE)=E,VLOOKUP(EM112,EventAverage,2,FALSE), HLOOKUP(EN112,Comments4,2,FALSE)))))))","v":""},{"$f":"COUNTIF(EN$108:EN112,OK)+COUNTIF(EN$108:EN112,RDGfix)+COUNTIF(EN$108:EN112,RDGave)+COUNTIF(EN$108:EN112,RDGevent)+EP$82-1","v":0},null,{"$f":"IF(EQ112=\"\",\"\",OK)","v":""},{"$f":"IF(EQ112=\"\",\"\",IF(AND(ER$107=\"L\",ER112=\"DNC\"),$I$2,\nIF(ER112=OK,ET112,IF(HLOOKUP(ER112,Comments3,2,FALSE)=D,ET$107,IF(HLOOKUP(ER112,Comments3,2,FALSE)=A,VLOOKUP(EQ112,Averages,EQ$4,FALSE),IF(HLOOKUP(ER112,Comments3,2,FALSE)=E,VLOOKUP(EQ112,EventAverage,2,FALSE), HLOOKUP(ER112,Comments4,2,FALSE)))))))","v":""},{"$f":"COUNTIF(ER$108:ER112,OK)+COUNTIF(ER$108:ER112,RDGfix)+COUNTIF(ER$108:ER112,RDGave)+COUNTIF(ER$108:ER112,RDGevent)+ET$82-1","v":0},null,{"$f":"IF(EU112=\"\",\"\",OK)","v":""},{"$f":"IF(EU112=\"\",\"\",IF(AND(EV$107=\"L\",EV112=\"DNC\"),$I$2,\nIF(EV112=OK,EX112,IF(HLOOKUP(EV112,Comments3,2,FALSE)=D,EX$107,IF(HLOOKUP(EV112,Comments3,2,FALSE)=A,VLOOKUP(EU112,Averages,EU$4,FALSE),IF(HLOOKUP(EV112,Comments3,2,FALSE)=E,VLOOKUP(EU112,EventAverage,2,FALSE), HLOOKUP(EV112,Comments4,2,FALSE)))))))","v":""},{"$f":"COUNTIF(EV$108:EV112,OK)+COUNTIF(EV$108:EV112,RDGfix)+COUNTIF(EV$108:EV112,RDGave)+COUNTIF(EV$108:EV112,RDGevent)+EX$82-1","v":0},null,{"$f":"IF(EY112=\"\",\"\",OK)","v":""},{"$f":"IF(EY112=\"\",\"\",IF(AND(EZ$107=\"L\",EZ112=\"DNC\"),$I$2,\nIF(EZ112=OK,FB112,IF(HLOOKUP(EZ112,Comments3,2,FALSE)=D,FB$107,IF(HLOOKUP(EZ112,Comments3,2,FALSE)=A,VLOOKUP(EY112,Averages,EY$4,FALSE),IF(HLOOKUP(EZ112,Comments3,2,FALSE)=E,VLOOKUP(EY112,EventAverage,2,FALSE), HLOOKUP(EZ112,Comments4,2,FALSE)))))))","v":""},{"$f":"COUNTIF(EZ$108:EZ112,OK)+COUNTIF(EZ$108:EZ112,RDGfix)+COUNTIF(EZ$108:EZ112,RDGave)+COUNTIF(EZ$108:EZ112,RDGevent)+FB$82-1","v":0},null,{"$f":"IF(FC112=\"\",\"\",OK)","v":""},{"$f":"IF(FC112=\"\",\"\",IF(AND(FD$107=\"L\",FD112=\"DNC\"),$I$2,\nIF(FD112=OK,FF112,IF(HLOOKUP(FD112,Comments3,2,FALSE)=D,FF$107,IF(HLOOKUP(FD112,Comments3,2,FALSE)=A,VLOOKUP(FC112,Averages,FC$4,FALSE),IF(HLOOKUP(FD112,Comments3,2,FALSE)=E,VLOOKUP(FC112,EventAverage,2,FALSE), HLOOKUP(FD112,Comments4,2,FALSE)))))))","v":""},{"$f":"COUNTIF(FD$108:FD112,OK)+COUNTIF(FD$108:FD112,RDGfix)+COUNTIF(FD$108:FD112,RDGave)+COUNTIF(FD$108:FD112,RDGevent)+FF$82-1","v":0},null,{"$f":"IF(FG112=\"\",\"\",OK)","v":""},{"$f":"IF(FG112=\"\",\"\",IF(AND(FH$107=\"L\",FH112=\"DNC\"),$I$2,\nIF(FH112=OK,FJ112,IF(HLOOKUP(FH112,Comments3,2,FALSE)=D,FJ$107,IF(HLOOKUP(FH112,Comments3,2,FALSE)=A,VLOOKUP(FG112,Averages,FG$4,FALSE),IF(HLOOKUP(FH112,Comments3,2,FALSE)=E,VLOOKUP(FG112,EventAverage,2,FALSE), HLOOKUP(FH112,Comments4,2,FALSE)))))))","v":""},{"$f":"COUNTIF(FH$108:FH112,OK)+COUNTIF(FH$108:FH112,RDGfix)+COUNTIF(FH$108:FH112,RDGave)+COUNTIF(FH$108:FH112,RDGevent)+FJ$82-1","v":0}]
[null,"6th",null,"","",{"$f":"COUNTIF(D$108:D113,OK)+COUNTIF(D$108:D113,RDGfix)+COUNTIF(D$108:D113,RDGave)+COUNTIF(D$108:D113,RDGevent)","v":0},null,"","",{"$f":"COUNTIF(H$108:H113,OK)+COUNTIF(H$108:H113,RDGfix)+COUNTIF(H$108:H113,RDGave)+COUNTIF(H$108:H113,RDGevent)+J$82-1","v":0},null,"","",{"$f":"COUNTIF(L$108:L113,OK)+COUNTIF(L$108:L113,RDGfix)+COUNTIF(L$108:L113,RDGave)+COUNTIF(L$108:L113,RDGevent)+N$82-1","v":0},null,"","",{"$f":"COUNTIF(P$108:P113,OK)+COUNTIF(P$108:P113,RDGfix)+COUNTIF(P$108:P113,RDGave)+COUNTIF(P$108:P113,RDGevent)+R$82-1","v":0},null,"","",{"$f":"COUNTIF(T$108:T113,OK)+COUNTIF(T$108:T113,RDGfix)+COUNTIF(T$108:T113,RDGave)+COUNTIF(T$108:T113,RDGevent)+V$82-1","v":0},null,"","",{"$f":"COUNTIF(X$108:X113,OK)+COUNTIF(X$108:X113,RDGfix)+COUNTIF(X$108:X113,RDGave)+COUNTIF(X$108:X113,RDGevent)+Z$82-1","v":0},null,"","",{"$f":"COUNTIF(AB$108:AB113,OK)+COUNTIF(AB$108:AB113,RDGfix)+COUNTIF(AB$108:AB113,RDGave)+COUNTIF(AB$108:AB113,RDGevent)+AD$82-1","v":0},null,"","",{"$f":"COUNTIF(AF$108:AF113,OK)+COUNTIF(AF$108:AF113,RDGfix)+COUNTIF(AF$108:AF113,RDGave)+COUNTIF(AF$108:AF113,RDGevent)+AH$82-1","v":0},null,"","",{"$f":"COUNTIF(AJ$108:AJ113,OK)+COUNTIF(AJ$108:AJ113,RDGfix)+COUNTIF(AJ$108:AJ113,RDGave)+COUNTIF(AJ$108:AJ113,RDGevent)+AL$82-1","v":0},null,"","",{"$f":"COUNTIF(AN$108:AN113,OK)+COUNTIF(AN$108:AN113,RDGfix)+COUNTIF(AN$108:AN113,RDGave)+COUNTIF(AN$108:AN113,RDGevent)+AP$82-1","v":0},null,"","",{"$f":"COUNTIF(AR$108:AR113,OK)+COUNTIF(AR$108:AR113,RDGfix)+COUNTIF(AR$108:AR113,RDGave)+COUNTIF(AR$108:AR113,RDGevent)+AT$82-1","v":0},null,"","",{"$f":"COUNTIF(AV$108:AV113,OK)+COUNTIF(AV$108:AV113,RDGfix)+COUNTIF(AV$108:AV113,RDGave)+COUNTIF(AV$108:AV113,RDGevent)+AX$82-1","v":0},null,"","",{"$f":"COUNTIF(AZ$108:AZ113,OK)+COUNTIF(AZ$108:AZ113,RDGfix)+COUNTIF(AZ$108:AZ113,RDGave)+COUNTIF(AZ$108:AZ113,RDGevent)+BB$82-1","v":0},null,"","",{"$f":"COUNTIF(BD$108:BD113,OK)+COUNTIF(BD$108:BD113,RDGfix)+COUNTIF(BD$108:BD113,RDGave)+COUNTIF(BD$108:BD113,RDGevent)+BF$82-1","v":0},null,"","",{"$f":"COUNTIF(BH$108:BH113,OK)+COUNTIF(BH$108:BH113,RDGfix)+COUNTIF(BH$108:BH113,RDGave)+COUNTIF(BH$108:BH113,RDGevent)+BJ$82-1","v":0},null,"","",{"$f":"COUNTIF(BL$108:BL113,OK)+COUNTIF(BL$108:BL113,RDGfix)+COUNTIF(BL$108:BL113,RDGave)+COUNTIF(BL$108:BL113,RDGevent)+BN$82-1","v":0},null,"","",{"$f":"COUNTIF(BP$108:BP113,OK)+COUNTIF(BP$108:BP113,RDGfix)+COUNTIF(BP$108:BP113,RDGave)+COUNTIF(BP$108:BP113,RDGevent)+BR$82-1","v":0},null,"","",{"$f":"COUNTIF(BT$108:BT113,OK)+COUNTIF(BT$108:BT113,RDGfix)+COUNTIF(BT$108:BT113,RDGave)+COUNTIF(BT$108:BT113,RDGevent)+BV$82-1","v":0},null,"","",{"$f":"COUNTIF(BX$108:BX113,OK)+COUNTIF(BX$108:BX113,RDGfix)+COUNTIF(BX$108:BX113,RDGave)+COUNTIF(BX$108:BX113,RDGevent)+BZ$82-1","v":0},null,"","",{"$f":"COUNTIF(CB$108:CB113,OK)+COUNTIF(CB$108:CB113,RDGfix)+COUNTIF(CB$108:CB113,RDGave)+COUNTIF(CB$108:CB113,RDGevent)+CD$82-1","v":0},null,"","",{"$f":"COUNTIF(CF$108:CF113,OK)+COUNTIF(CF$108:CF113,RDGfix)+COUNTIF(CF$108:CF113,RDGave)+COUNTIF(CF$108:CF113,RDGevent)+CH$82-1","v":0},null,"","",{"$f":"COUNTIF(CJ$108:CJ113,OK)+COUNTIF(CJ$108:CJ113,RDGfix)+COUNTIF(CJ$108:CJ113,RDGave)+COUNTIF(CJ$108:CJ113,RDGevent)+CL$82-1","v":0},null,"","",{"$f":"COUNTIF(CN$108:CN113,OK)+COUNTIF(CN$108:CN113,RDGfix)+COUNTIF(CN$108:CN113,RDGave)+COUNTIF(CN$108:CN113,RDGevent)+CP$82-1","v":0},null,"","",{"$f":"COUNTIF(CR$108:CR113,OK)+COUNTIF(CR$108:CR113,RDGfix)+COUNTIF(CR$108:CR113,RDGave)+COUNTIF(CR$108:CR113,RDGevent)+CT$82-1","v":0},null,"","",{"$f":"COUNTIF(CV$108:CV113,OK)+COUNTIF(CV$108:CV113,RDGfix)+COUNTIF(CV$108:CV113,RDGave)+COUNTIF(CV$108:CV113,RDGevent)+CX$82-1","v":0},null,"","",{"$f":"COUNTIF(CZ$108:CZ113,OK)+COUNTIF(CZ$108:CZ113,RDGfix)+COUNTIF(CZ$108:CZ113,RDGave)+COUNTIF(CZ$108:CZ113,RDGevent)+DB$82-1","v":0},null,"","",{"$f":"COUNTIF(DD$108:DD113,OK)+COUNTIF(DD$108:DD113,RDGfix)+COUNTIF(DD$108:DD113,RDGave)+COUNTIF(DD$108:DD113,RDGevent)+DF$82-1","v":0},null,"","",{"$f":"COUNTIF(DH$108:DH113,OK)+COUNTIF(DH$108:DH113,RDGfix)+COUNTIF(DH$108:DH113,RDGave)+COUNTIF(DH$108:DH113,RDGevent)+DJ$82-1","v":0},null,"","",{"$f":"COUNTIF(DL$108:DL113,OK)+COUNTIF(DL$108:DL113,RDGfix)+COUNTIF(DL$108:DL113,RDGave)+COUNTIF(DL$108:DL113,RDGevent)+DN$82-1","v":0},null,"","",{"$f":"COUNTIF(DP$108:DP113,OK)+COUNTIF(DP$108:DP113,RDGfix)+COUNTIF(DP$108:DP113,RDGave)+COUNTIF(DP$108:DP113,RDGevent)+DR$82-1","v":0},null,"","",{"$f":"COUNTIF(DT$108:DT113,OK)+COUNTIF(DT$108:DT113,RDGfix)+COUNTIF(DT$108:DT113,RDGave)+COUNTIF(DT$108:DT113,RDGevent)+DV$82-1","v":0},null,"","",{"$f":"COUNTIF(DX$108:DX113,OK)+COUNTIF(DX$108:DX113,RDGfix)+COUNTIF(DX$108:DX113,RDGave)+COUNTIF(DX$108:DX113,RDGevent)+DZ$82-1","v":0},null,"","",{"$f":"COUNTIF(EB$108:EB113,OK)+COUNTIF(EB$108:EB113,RDGfix)+COUNTIF(EB$108:EB113,RDGave)+COUNTIF(EB$108:EB113,RDGevent)+ED$82-1","v":0},null,"","",{"$f":"COUNTIF(EF$108:EF113,OK)+COUNTIF(EF$108:EF113,RDGfix)+COUNTIF(EF$108:EF113,RDGave)+COUNTIF(EF$108:EF113,RDGevent)+EH$82-1","v":0},null,"","",{"$f":"COUNTIF(EJ$108:EJ113,OK)+COUNTIF(EJ$108:EJ113,RDGfix)+COUNTIF(EJ$108:EJ113,RDGave)+COUNTIF(EJ$108:EJ113,RDGevent)+EL$82-1","v":0},null,"","",{"$f":"COUNTIF(EN$108:EN113,OK)+COUNTIF(EN$108:EN113,RDGfix)+COUNTIF(EN$108:EN113,RDGave)+COUNTIF(EN$108:EN113,RDGevent)+EP$82-1","v":0},null,"","",{"$f":"COUNTIF(ER$108:ER113,OK)+COUNTIF(ER$108:ER113,RDGfix)+COUNTIF(ER$108:ER113,RDGave)+COUNTIF(ER$108:ER113,RDGevent)+ET$82-1","v":0},null,"","",{"$f":"COUNTIF(EV$108:EV113,OK)+COUNTIF(EV$108:EV113,RDGfix)+COUNTIF(EV$108:EV113,RDGave)+COUNTIF(EV$108:EV113,RDGevent)+EX$82-1","v":0},null,"","",{"$f":"COUNTIF(EZ$108:EZ113,OK)+COUNTIF(EZ$108:EZ113,RDGfix)+COUNTIF(EZ$108:EZ113,RDGave)+COUNTIF(EZ$108:EZ113,RDGevent)+FB$82-1","v":0},null,"","",{"$f":"COUNTIF(FD$108:FD113,OK)+COUNTIF(FD$108:FD113,RDGfix)+COUNTIF(FD$108:FD113,RDGave)+COUNTIF(FD$108:FD113,RDGevent)+FF$82-1","v":0},null,"","",{"$f":"COUNTIF(FH$108:FH113,OK)+COUNTIF(FH$108:FH113,RDGfix)+COUNTIF(FH$108:FH113,RDGave)+COUNTIF(FH$108:FH113,RDGevent)+FJ$82-1","v":0}]
[null,"7th",null,"","",{"$f":"COUNTIF(D$108:D114,OK)+COUNTIF(D$108:D114,RDGfix)+COUNTIF(D$108:D114,RDGave)+COUNTIF(D$108:D114,RDGevent)","v":0},null,"","",{"$f":"COUNTIF(H$108:H114,OK)+COUNTIF(H$108:H114,RDGfix)+COUNTIF(H$108:H114,RDGave)+COUNTIF(H$108:H114,RDGevent)+J$82-1","v":0},null,"","",{"$f":"COUNTIF(L$108:L114,OK)+COUNTIF(L$108:L114,RDGfix)+COUNTIF(L$108:L114,RDGave)+COUNTIF(L$108:L114,RDGevent)+N$82-1","v":0},null,"","",{"$f":"COUNTIF(P$108:P114,OK)+COUNTIF(P$108:P114,RDGfix)+COUNTIF(P$108:P114,RDGave)+COUNTIF(P$108:P114,RDGevent)+R$82-1","v":0},null,"","",{"$f":"COUNTIF(T$108:T114,OK)+COUNTIF(T$108:T114,RDGfix)+COUNTIF(T$108:T114,RDGave)+COUNTIF(T$108:T114,RDGevent)+V$82-1","v":0},null,"","",{"$f":"COUNTIF(X$108:X114,OK)+COUNTIF(X$108:X114,RDGfix)+COUNTIF(X$108:X114,RDGave)+COUNTIF(X$108:X114,RDGevent)+Z$82-1","v":0},null,"","",{"$f":"COUNTIF(AB$108:AB114,OK)+COUNTIF(AB$108:AB114,RDGfix)+COUNTIF(AB$108:AB114,RDGave)+COUNTIF(AB$108:AB114,RDGevent)+AD$82-1","v":0},null,"","",{"$f":"COUNTIF(AF$108:AF114,OK)+COUNTIF(AF$108:AF114,RDGfix)+COUNTIF(AF$108:AF114,RDGave)+COUNTIF(AF$108:AF114,RDGevent)+AH$82-1","v":0},null,"","",{"$f":"COUNTIF(AJ$108:AJ114,OK)+COUNTIF(AJ$108:AJ114,RDGfix)+COUNTIF(AJ$108:AJ114,RDGave)+COUNTIF(AJ$108:AJ114,RDGevent)+AL$82-1","v":0},null,"","",{"$f":"COUNTIF(AN$108:AN114,OK)+COUNTIF(AN$108:AN114,RDGfix)+COUNTIF(AN$108:AN114,RDGave)+COUNTIF(AN$108:AN114,RDGevent)+AP$82-1","v":0},null,"","",{"$f":"COUNTIF(AR$108:AR114,OK)+COUNTIF(AR$108:AR114,RDGfix)+COUNTIF(AR$108:AR114,RDGave)+COUNTIF(AR$108:AR114,RDGevent)+AT$82-1","v":0},null,"","",{"$f":"COUNTIF(AV$108:AV114,OK)+COUNTIF(AV$108:AV114,RDGfix)+COUNTIF(AV$108:AV114,RDGave)+COUNTIF(AV$108:AV114,RDGevent)+AX$82-1","v":0},null,"","",{"$f":"COUNTIF(AZ$108:AZ114,OK)+COUNTIF(AZ$108:AZ114,RDGfix)+COUNTIF(AZ$108:AZ114,RDGave)+COUNTIF(AZ$108:AZ114,RDGevent)+BB$82-1","v":0},null,"","",{"$f":"COUNTIF(BD$108:BD114,OK)+COUNTIF(BD$108:BD114,RDGfix)+COUNTIF(BD$108:BD114,RDGave)+COUNTIF(BD$108:BD114,RDGevent)+BF$82-1","v":0},null,"","",{"$f":"COUNTIF(BH$108:BH114,OK)+COUNTIF(BH$108:BH114,RDGfix)+COUNTIF(BH$108:BH114,RDGave)+COUNTIF(BH$108:BH114,RDGevent)+BJ$82-1","v":0},null,"","",{"$f":"COUNTIF(BL$108:BL114,OK)+COUNTIF(BL$108:BL114,RDGfix)+COUNTIF(BL$108:BL114,RDGave)+COUNTIF(BL$108:BL114,RDGevent)+BN$82-1","v":0},null,"","",{"$f":"COUNTIF(BP$108:BP114,OK)+COUNTIF(BP$108:BP114,RDGfix)+COUNTIF(BP$108:BP114,RDGave)+COUNTIF(BP$108:BP114,RDGevent)+BR$82-1","v":0},null,"","",{"$f":"COUNTIF(BT$108:BT114,OK)+COUNTIF(BT$108:BT114,RDGfix)+COUNTIF(BT$108:BT114,RDGave)+COUNTIF(BT$108:BT114,RDGevent)+BV$82-1","v":0},null,"","",{"$f":"COUNTIF(BX$108:BX114,OK)+COUNTIF(BX$108:BX114,RDGfix)+COUNTIF(BX$108:BX114,RDGave)+COUNTIF(BX$108:BX114,RDGevent)+BZ$82-1","v":0},null,"","",{"$f":"COUNTIF(CB$108:CB114,OK)+COUNTIF(CB$108:CB114,RDGfix)+COUNTIF(CB$108:CB114,RDGave)+COUNTIF(CB$108:CB114,RDGevent)+CD$82-1","v":0},null,"","",{"$f":"COUNTIF(CF$108:CF114,OK)+COUNTIF(CF$108:CF114,RDGfix)+COUNTIF(CF$108:CF114,RDGave)+COUNTIF(CF$108:CF114,RDGevent)+CH$82-1","v":0},null,"","",{"$f":"COUNTIF(CJ$108:CJ114,OK)+COUNTIF(CJ$108:CJ114,RDGfix)+COUNTIF(CJ$108:CJ114,RDGave)+COUNTIF(CJ$108:CJ114,RDGevent)+CL$82-1","v":0},null,"","",{"$f":"COUNTIF(CN$108:CN114,OK)+COUNTIF(CN$108:CN114,RDGfix)+COUNTIF(CN$108:CN114,RDGave)+COUNTIF(CN$108:CN114,RDGevent)+CP$82-1","v":0},null,"","",{"$f":"COUNTIF(CR$108:CR114,OK)+COUNTIF(CR$108:CR114,RDGfix)+COUNTIF(CR$108:CR114,RDGave)+COUNTIF(CR$108:CR114,RDGevent)+CT$82-1","v":0},null,"","",{"$f":"COUNTIF(CV$108:CV114,OK)+COUNTIF(CV$108:CV114,RDGfix)+COUNTIF(CV$108:CV114,RDGave)+COUNTIF(CV$108:CV114,RDGevent)+CX$82-1","v":0},null,"","",{"$f":"COUNTIF(CZ$108:CZ114,OK)+COUNTIF(CZ$108:CZ114,RDGfix)+COUNTIF(CZ$108:CZ114,RDGave)+COUNTIF(CZ$108:CZ114,RDGevent)+DB$82-1","v":0},null,"","",{"$f":"COUNTIF(DD$108:DD114,OK)+COUNTIF(DD$108:DD114,RDGfix)+COUNTIF(DD$108:DD114,RDGave)+COUNTIF(DD$108:DD114,RDGevent)+DF$82-1","v":0},null,"","",{"$f":"COUNTIF(DH$108:DH114,OK)+COUNTIF(DH$108:DH114,RDGfix)+COUNTIF(DH$108:DH114,RDGave)+COUNTIF(DH$108:DH114,RDGevent)+DJ$82-1","v":0},null,"","",{"$f":"COUNTIF(DL$108:DL114,OK)+COUNTIF(DL$108:DL114,RDGfix)+COUNTIF(DL$108:DL114,RDGave)+COUNTIF(DL$108:DL114,RDGevent)+DN$82-1","v":0},null,"","",{"$f":"COUNTIF(DP$108:DP114,OK)+COUNTIF(DP$108:DP114,RDGfix)+COUNTIF(DP$108:DP114,RDGave)+COUNTIF(DP$108:DP114,RDGevent)+DR$82-1","v":0},null,"","",{"$f":"COUNTIF(DT$108:DT114,OK)+COUNTIF(DT$108:DT114,RDGfix)+COUNTIF(DT$108:DT114,RDGave)+COUNTIF(DT$108:DT114,RDGevent)+DV$82-1","v":0},null,"","",{"$f":"COUNTIF(DX$108:DX114,OK)+COUNTIF(DX$108:DX114,RDGfix)+COUNTIF(DX$108:DX114,RDGave)+COUNTIF(DX$108:DX114,RDGevent)+DZ$82-1","v":0},null,"","",{"$f":"COUNTIF(EB$108:EB114,OK)+COUNTIF(EB$108:EB114,RDGfix)+COUNTIF(EB$108:EB114,RDGave)+COUNTIF(EB$108:EB114,RDGevent)+ED$82-1","v":0},null,"","",{"$f":"COUNTIF(EF$108:EF114,OK)+COUNTIF(EF$108:EF114,RDGfix)+COUNTIF(EF$108:EF114,RDGave)+COUNTIF(EF$108:EF114,RDGevent)+EH$82-1","v":0},null,"","",{"$f":"COUNTIF(EJ$108:EJ114,OK)+COUNTIF(EJ$108:EJ114,RDGfix)+COUNTIF(EJ$108:EJ114,RDGave)+COUNTIF(EJ$108:EJ114,RDGevent)+EL$82-1","v":0},null,"","",{"$f":"COUNTIF(EN$108:EN114,OK)+COUNTIF(EN$108:EN114,RDGfix)+COUNTIF(EN$108:EN114,RDGave)+COUNTIF(EN$108:EN114,RDGevent)+EP$82-1","v":0},null,"","",{"$f":"COUNTIF(ER$108:ER114,OK)+COUNTIF(ER$108:ER114,RDGfix)+COUNTIF(ER$108:ER114,RDGave)+COUNTIF(ER$108:ER114,RDGevent)+ET$82-1","v":0},null,"","",{"$f":"COUNTIF(EV$108:EV114,OK)+COUNTIF(EV$108:EV114,RDGfix)+COUNTIF(EV$108:EV114,RDGave)+COUNTIF(EV$108:EV114,RDGevent)+EX$82-1","v":0},null,"","",{"$f":"COUNTIF(EZ$108:EZ114,OK)+COUNTIF(EZ$108:EZ114,RDGfix)+COUNTIF(EZ$108:EZ114,RDGave)+COUNTIF(EZ$108:EZ114,RDGevent)+FB$82-1","v":0},null,"","",{"$f":"COUNTIF(FD$108:FD114,OK)+COUNTIF(FD$108:FD114,RDGfix)+COUNTIF(FD$108:FD114,RDGave)+COUNTIF(FD$108:FD114,RDGevent)+FF$82-1","v":0},null,"","",{"$f":"COUNTIF(FH$108:FH114,OK)+COUNTIF(FH$108:FH114,RDGfix)+COUNTIF(FH$108:FH114,RDGave)+COUNTIF(FH$108:FH114,RDGevent)+FJ$82-1","v":0}]
[null,"8th",null,"","",{"$f":"COUNTIF(D$108:D115,OK)+COUNTIF(D$108:D115,RDGfix)+COUNTIF(D$108:D115,RDGave)+COUNTIF(D$108:D115,RDGevent)","v":0},null,"","",{"$f":"COUNTIF(H$108:H115,OK)+COUNTIF(H$108:H115,RDGfix)+COUNTIF(H$108:H115,RDGave)+COUNTIF(H$108:H115,RDGevent)+J$82-1","v":0},null,"","",{"$f":"COUNTIF(L$108:L115,OK)+COUNTIF(L$108:L115,RDGfix)+COUNTIF(L$108:L115,RDGave)+COUNTIF(L$108:L115,RDGevent)+N$82-1","v":0},null,"","",{"$f":"COUNTIF(P$108:P115,OK)+COUNTIF(P$108:P115,RDGfix)+COUNTIF(P$108:P115,RDGave)+COUNTIF(P$108:P115,RDGevent)+R$82-1","v":0},null,"","",{"$f":"COUNTIF(T$108:T115,OK)+COUNTIF(T$108:T115,RDGfix)+COUNTIF(T$108:T115,RDGave)+COUNTIF(T$108:T115,RDGevent)+V$82-1","v":0},null,"","",{"$f":"COUNTIF(X$108:X115,OK)+COUNTIF(X$108:X115,RDGfix)+COUNTIF(X$108:X115,RDGave)+COUNTIF(X$108:X115,RDGevent)+Z$82-1","v":0},null,"","",{"$f":"COUNTIF(AB$108:AB115,OK)+COUNTIF(AB$108:AB115,RDGfix)+COUNTIF(AB$108:AB115,RDGave)+COUNTIF(AB$108:AB115,RDGevent)+AD$82-1","v":0},null,"","",{"$f":"COUNTIF(AF$108:AF115,OK)+COUNTIF(AF$108:AF115,RDGfix)+COUNTIF(AF$108:AF115,RDGave)+COUNTIF(AF$108:AF115,RDGevent)+AH$82-1","v":0},null,"","",{"$f":"COUNTIF(AJ$108:AJ115,OK)+COUNTIF(AJ$108:AJ115,RDGfix)+COUNTIF(AJ$108:AJ115,RDGave)+COUNTIF(AJ$108:AJ115,RDGevent)+AL$82-1","v":0},null,"","",{"$f":"COUNTIF(AN$108:AN115,OK)+COUNTIF(AN$108:AN115,RDGfix)+COUNTIF(AN$108:AN115,RDGave)+COUNTIF(AN$108:AN115,RDGevent)+AP$82-1","v":0},null,"","",{"$f":"COUNTIF(AR$108:AR115,OK)+COUNTIF(AR$108:AR115,RDGfix)+COUNTIF(AR$108:AR115,RDGave)+COUNTIF(AR$108:AR115,RDGevent)+AT$82-1","v":0},null,"","",{"$f":"COUNTIF(AV$108:AV115,OK)+COUNTIF(AV$108:AV115,RDGfix)+COUNTIF(AV$108:AV115,RDGave)+COUNTIF(AV$108:AV115,RDGevent)+AX$82-1","v":0},null,"","",{"$f":"COUNTIF(AZ$108:AZ115,OK)+COUNTIF(AZ$108:AZ115,RDGfix)+COUNTIF(AZ$108:AZ115,RDGave)+COUNTIF(AZ$108:AZ115,RDGevent)+BB$82-1","v":0},null,"","",{"$f":"COUNTIF(BD$108:BD115,OK)+COUNTIF(BD$108:BD115,RDGfix)+COUNTIF(BD$108:BD115,RDGave)+COUNTIF(BD$108:BD115,RDGevent)+BF$82-1","v":0},null,"","",{"$f":"COUNTIF(BH$108:BH115,OK)+COUNTIF(BH$108:BH115,RDGfix)+COUNTIF(BH$108:BH115,RDGave)+COUNTIF(BH$108:BH115,RDGevent)+BJ$82-1","v":0},null,"","",{"$f":"COUNTIF(BL$108:BL115,OK)+COUNTIF(BL$108:BL115,RDGfix)+COUNTIF(BL$108:BL115,RDGave)+COUNTIF(BL$108:BL115,RDGevent)+BN$82-1","v":0},null,"","",{"$f":"COUNTIF(BP$108:BP115,OK)+COUNTIF(BP$108:BP115,RDGfix)+COUNTIF(BP$108:BP115,RDGave)+COUNTIF(BP$108:BP115,RDGevent)+BR$82-1","v":0},null,"","",{"$f":"COUNTIF(BT$108:BT115,OK)+COUNTIF(BT$108:BT115,RDGfix)+COUNTIF(BT$108:BT115,RDGave)+COUNTIF(BT$108:BT115,RDGevent)+BV$82-1","v":0},null,"","",{"$f":"COUNTIF(BX$108:BX115,OK)+COUNTIF(BX$108:BX115,RDGfix)+COUNTIF(BX$108:BX115,RDGave)+COUNTIF(BX$108:BX115,RDGevent)+BZ$82-1","v":0},null,"","",{"$f":"COUNTIF(CB$108:CB115,OK)+COUNTIF(CB$108:CB115,RDGfix)+COUNTIF(CB$108:CB115,RDGave)+COUNTIF(CB$108:CB115,RDGevent)+CD$82-1","v":0},null,"","",{"$f":"COUNTIF(CF$108:CF115,OK)+COUNTIF(CF$108:CF115,RDGfix)+COUNTIF(CF$108:CF115,RDGave)+COUNTIF(CF$108:CF115,RDGevent)+CH$82-1","v":0},null,"","",{"$f":"COUNTIF(CJ$108:CJ115,OK)+COUNTIF(CJ$108:CJ115,RDGfix)+COUNTIF(CJ$108:CJ115,RDGave)+COUNTIF(CJ$108:CJ115,RDGevent)+CL$82-1","v":0},null,"","",{"$f":"COUNTIF(CN$108:CN115,OK)+COUNTIF(CN$108:CN115,RDGfix)+COUNTIF(CN$108:CN115,RDGave)+COUNTIF(CN$108:CN115,RDGevent)+CP$82-1","v":0},null,"","",{"$f":"COUNTIF(CR$108:CR115,OK)+COUNTIF(CR$108:CR115,RDGfix)+COUNTIF(CR$108:CR115,RDGave)+COUNTIF(CR$108:CR115,RDGevent)+CT$82-1","v":0},null,"","",{"$f":"COUNTIF(CV$108:CV115,OK)+COUNTIF(CV$108:CV115,RDGfix)+COUNTIF(CV$108:CV115,RDGave)+COUNTIF(CV$108:CV115,RDGevent)+CX$82-1","v":0},null,"","",{"$f":"COUNTIF(CZ$108:CZ115,OK)+COUNTIF(CZ$108:CZ115,RDGfix)+COUNTIF(CZ$108:CZ115,RDGave)+COUNTIF(CZ$108:CZ115,RDGevent)+DB$82-1","v":0},null,"","",{"$f":"COUNTIF(DD$108:DD115,OK)+COUNTIF(DD$108:DD115,RDGfix)+COUNTIF(DD$108:DD115,RDGave)+COUNTIF(DD$108:DD115,RDGevent)+DF$82-1","v":0},null,"","",{"$f":"COUNTIF(DH$108:DH115,OK)+COUNTIF(DH$108:DH115,RDGfix)+COUNTIF(DH$108:DH115,RDGave)+COUNTIF(DH$108:DH115,RDGevent)+DJ$82-1","v":0},null,"","",{"$f":"COUNTIF(DL$108:DL115,OK)+COUNTIF(DL$108:DL115,RDGfix)+COUNTIF(DL$108:DL115,RDGave)+COUNTIF(DL$108:DL115,RDGevent)+DN$82-1","v":0},null,"","",{"$f":"COUNTIF(DP$108:DP115,OK)+COUNTIF(DP$108:DP115,RDGfix)+COUNTIF(DP$108:DP115,RDGave)+COUNTIF(DP$108:DP115,RDGevent)+DR$82-1","v":0},null,"","",{"$f":"COUNTIF(DT$108:DT115,OK)+COUNTIF(DT$108:DT115,RDGfix)+COUNTIF(DT$108:DT115,RDGave)+COUNTIF(DT$108:DT115,RDGevent)+DV$82-1","v":0},null,"","",{"$f":"COUNTIF(DX$108:DX115,OK)+COUNTIF(DX$108:DX115,RDGfix)+COUNTIF(DX$108:DX115,RDGave)+COUNTIF(DX$108:DX115,RDGevent)+DZ$82-1","v":0},null,"","",{"$f":"COUNTIF(EB$108:EB115,OK)+COUNTIF(EB$108:EB115,RDGfix)+COUNTIF(EB$108:EB115,RDGave)+COUNTIF(EB$108:EB115,RDGevent)+ED$82-1","v":0},null,"","",{"$f":"COUNTIF(EF$108:EF115,OK)+COUNTIF(EF$108:EF115,RDGfix)+COUNTIF(EF$108:EF115,RDGave)+COUNTIF(EF$108:EF115,RDGevent)+EH$82-1","v":0},null,"","",{"$f":"COUNTIF(EJ$108:EJ115,OK)+COUNTIF(EJ$108:EJ115,RDGfix)+COUNTIF(EJ$108:EJ115,RDGave)+COUNTIF(EJ$108:EJ115,RDGevent)+EL$82-1","v":0},null,"","",{"$f":"COUNTIF(EN$108:EN115,OK)+COUNTIF(EN$108:EN115,RDGfix)+COUNTIF(EN$108:EN115,RDGave)+COUNTIF(EN$108:EN115,RDGevent)+EP$82-1","v":0},null,"","",{"$f":"COUNTIF(ER$108:ER115,OK)+COUNTIF(ER$108:ER115,RDGfix)+COUNTIF(ER$108:ER115,RDGave)+COUNTIF(ER$108:ER115,RDGevent)+ET$82-1","v":0},null,"","",{"$f":"COUNTIF(EV$108:EV115,OK)+COUNTIF(EV$108:EV115,RDGfix)+COUNTIF(EV$108:EV115,RDGave)+COUNTIF(EV$108:EV115,RDGevent)+EX$82-1","v":0},null,"","",{"$f":"COUNTIF(EZ$108:EZ115,OK)+COUNTIF(EZ$108:EZ115,RDGfix)+COUNTIF(EZ$108:EZ115,RDGave)+COUNTIF(EZ$108:EZ115,RDGevent)+FB$82-1","v":0},null,"","",{"$f":"COUNTIF(FD$108:FD115,OK)+COUNTIF(FD$108:FD115,RDGfix)+COUNTIF(FD$108:FD115,RDGave)+COUNTIF(FD$108:FD115,RDGevent)+FF$82-1","v":0},null,"","",{"$f":"COUNTIF(FH$108:FH115,OK)+COUNTIF(FH$108:FH115,RDGfix)+COUNTIF(FH$108:FH115,RDGave)+COUNTIF(FH$108:FH115,RDGevent)+FJ$82-1","v":0}]
[null,"9th",null,"","",{"$f":"COUNTIF(D$108:D116,OK)+COUNTIF(D$108:D116,RDGfix)+COUNTIF(D$108:D116,RDGave)+COUNTIF(D$108:D116,RDGevent)","v":0},null,"","",{"$f":"COUNTIF(H$108:H116,OK)+COUNTIF(H$108:H116,RDGfix)+COUNTIF(H$108:H116,RDGave)+COUNTIF(H$108:H116,RDGevent)+J$82-1","v":0},null,"","",{"$f":"COUNTIF(L$108:L116,OK)+COUNTIF(L$108:L116,RDGfix)+COUNTIF(L$108:L116,RDGave)+COUNTIF(L$108:L116,RDGevent)+N$82-1","v":0},null,"","",{"$f":"COUNTIF(P$108:P116,OK)+COUNTIF(P$108:P116,RDGfix)+COUNTIF(P$108:P116,RDGave)+COUNTIF(P$108:P116,RDGevent)+R$82-1","v":0},null,"","",{"$f":"COUNTIF(T$108:T116,OK)+COUNTIF(T$108:T116,RDGfix)+COUNTIF(T$108:T116,RDGave)+COUNTIF(T$108:T116,RDGevent)+V$82-1","v":0},null,"","",{"$f":"COUNTIF(X$108:X116,OK)+COUNTIF(X$108:X116,RDGfix)+COUNTIF(X$108:X116,RDGave)+COUNTIF(X$108:X116,RDGevent)+Z$82-1","v":0},null,"","",{"$f":"COUNTIF(AB$108:AB116,OK)+COUNTIF(AB$108:AB116,RDGfix)+COUNTIF(AB$108:AB116,RDGave)+COUNTIF(AB$108:AB116,RDGevent)+AD$82-1","v":0},null,"","",{"$f":"COUNTIF(AF$108:AF116,OK)+COUNTIF(AF$108:AF116,RDGfix)+COUNTIF(AF$108:AF116,RDGave)+COUNTIF(AF$108:AF116,RDGevent)+AH$82-1","v":0},null,"","",{"$f":"COUNTIF(AJ$108:AJ116,OK)+COUNTIF(AJ$108:AJ116,RDGfix)+COUNTIF(AJ$108:AJ116,RDGave)+COUNTIF(AJ$108:AJ116,RDGevent)+AL$82-1","v":0},null,"","",{"$f":"COUNTIF(AN$108:AN116,OK)+COUNTIF(AN$108:AN116,RDGfix)+COUNTIF(AN$108:AN116,RDGave)+COUNTIF(AN$108:AN116,RDGevent)+AP$82-1","v":0},null,"","",{"$f":"COUNTIF(AR$108:AR116,OK)+COUNTIF(AR$108:AR116,RDGfix)+COUNTIF(AR$108:AR116,RDGave)+COUNTIF(AR$108:AR116,RDGevent)+AT$82-1","v":0},null,"","",{"$f":"COUNTIF(AV$108:AV116,OK)+COUNTIF(AV$108:AV116,RDGfix)+COUNTIF(AV$108:AV116,RDGave)+COUNTIF(AV$108:AV116,RDGevent)+AX$82-1","v":0},null,"","",{"$f":"COUNTIF(AZ$108:AZ116,OK)+COUNTIF(AZ$108:AZ116,RDGfix)+COUNTIF(AZ$108:AZ116,RDGave)+COUNTIF(AZ$108:AZ116,RDGevent)+BB$82-1","v":0},null,"","",{"$f":"COUNTIF(BD$108:BD116,OK)+COUNTIF(BD$108:BD116,RDGfix)+COUNTIF(BD$108:BD116,RDGave)+COUNTIF(BD$108:BD116,RDGevent)+BF$82-1","v":0},null,"","",{"$f":"COUNTIF(BH$108:BH116,OK)+COUNTIF(BH$108:BH116,RDGfix)+COUNTIF(BH$108:BH116,RDGave)+COUNTIF(BH$108:BH116,RDGevent)+BJ$82-1","v":0},null,"","",{"$f":"COUNTIF(BL$108:BL116,OK)+COUNTIF(BL$108:BL116,RDGfix)+COUNTIF(BL$108:BL116,RDGave)+COUNTIF(BL$108:BL116,RDGevent)+BN$82-1","v":0},null,"","",{"$f":"COUNTIF(BP$108:BP116,OK)+COUNTIF(BP$108:BP116,RDGfix)+COUNTIF(BP$108:BP116,RDGave)+COUNTIF(BP$108:BP116,RDGevent)+BR$82-1","v":0},null,"","",{"$f":"COUNTIF(BT$108:BT116,OK)+COUNTIF(BT$108:BT116,RDGfix)+COUNTIF(BT$108:BT116,RDGave)+COUNTIF(BT$108:BT116,RDGevent)+BV$82-1","v":0},null,"","",{"$f":"COUNTIF(BX$108:BX116,OK)+COUNTIF(BX$108:BX116,RDGfix)+COUNTIF(BX$108:BX116,RDGave)+COUNTIF(BX$108:BX116,RDGevent)+BZ$82-1","v":0},null,"","",{"$f":"COUNTIF(CB$108:CB116,OK)+COUNTIF(CB$108:CB116,RDGfix)+COUNTIF(CB$108:CB116,RDGave)+COUNTIF(CB$108:CB116,RDGevent)+CD$82-1","v":0},null,"","",{"$f":"COUNTIF(CF$108:CF116,OK)+COUNTIF(CF$108:CF116,RDGfix)+COUNTIF(CF$108:CF116,RDGave)+COUNTIF(CF$108:CF116,RDGevent)+CH$82-1","v":0},null,"","",{"$f":"COUNTIF(CJ$108:CJ116,OK)+COUNTIF(CJ$108:CJ116,RDGfix)+COUNTIF(CJ$108:CJ116,RDGave)+COUNTIF(CJ$108:CJ116,RDGevent)+CL$82-1","v":0},null,"","",{"$f":"COUNTIF(CN$108:CN116,OK)+COUNTIF(CN$108:CN116,RDGfix)+COUNTIF(CN$108:CN116,RDGave)+COUNTIF(CN$108:CN116,RDGevent)+CP$82-1","v":0},null,"","",{"$f":"COUNTIF(CR$108:CR116,OK)+COUNTIF(CR$108:CR116,RDGfix)+COUNTIF(CR$108:CR116,RDGave)+COUNTIF(CR$108:CR116,RDGevent)+CT$82-1","v":0},null,"","",{"$f":"COUNTIF(CV$108:CV116,OK)+COUNTIF(CV$108:CV116,RDGfix)+COUNTIF(CV$108:CV116,RDGave)+COUNTIF(CV$108:CV116,RDGevent)+CX$82-1","v":0},null,"","",{"$f":"COUNTIF(CZ$108:CZ116,OK)+COUNTIF(CZ$108:CZ116,RDGfix)+COUNTIF(CZ$108:CZ116,RDGave)+COUNTIF(CZ$108:CZ116,RDGevent)+DB$82-1","v":0},null,"","",{"$f":"COUNTIF(DD$108:DD116,OK)+COUNTIF(DD$108:DD116,RDGfix)+COUNTIF(DD$108:DD116,RDGave)+COUNTIF(DD$108:DD116,RDGevent)+DF$82-1","v":0},null,"","",{"$f":"COUNTIF(DH$108:DH116,OK)+COUNTIF(DH$108:DH116,RDGfix)+COUNTIF(DH$108:DH116,RDGave)+COUNTIF(DH$108:DH116,RDGevent)+DJ$82-1","v":0},null,"","",{"$f":"COUNTIF(DL$108:DL116,OK)+COUNTIF(DL$108:DL116,RDGfix)+COUNTIF(DL$108:DL116,RDGave)+COUNTIF(DL$108:DL116,RDGevent)+DN$82-1","v":0},null,"","",{"$f":"COUNTIF(DP$108:DP116,OK)+COUNTIF(DP$108:DP116,RDGfix)+COUNTIF(DP$108:DP116,RDGave)+COUNTIF(DP$108:DP116,RDGevent)+DR$82-1","v":0},null,"","",{"$f":"COUNTIF(DT$108:DT116,OK)+COUNTIF(DT$108:DT116,RDGfix)+COUNTIF(DT$108:DT116,RDGave)+COUNTIF(DT$108:DT116,RDGevent)+DV$82-1","v":0},null,"","",{"$f":"COUNTIF(DX$108:DX116,OK)+COUNTIF(DX$108:DX116,RDGfix)+COUNTIF(DX$108:DX116,RDGave)+COUNTIF(DX$108:DX116,RDGevent)+DZ$82-1","v":0},null,"","",{"$f":"COUNTIF(EB$108:EB116,OK)+COUNTIF(EB$108:EB116,RDGfix)+COUNTIF(EB$108:EB116,RDGave)+COUNTIF(EB$108:EB116,RDGevent)+ED$82-1","v":0},null,"","",{"$f":"COUNTIF(EF$108:EF116,OK)+COUNTIF(EF$108:EF116,RDGfix)+COUNTIF(EF$108:EF116,RDGave)+COUNTIF(EF$108:EF116,RDGevent)+EH$82-1","v":0},null,"","",{"$f":"COUNTIF(EJ$108:EJ116,OK)+COUNTIF(EJ$108:EJ116,RDGfix)+COUNTIF(EJ$108:EJ116,RDGave)+COUNTIF(EJ$108:EJ116,RDGevent)+EL$82-1","v":0},null,"","",{"$f":"COUNTIF(EN$108:EN116,OK)+COUNTIF(EN$108:EN116,RDGfix)+COUNTIF(EN$108:EN116,RDGave)+COUNTIF(EN$108:EN116,RDGevent)+EP$82-1","v":0},null,"","",{"$f":"COUNTIF(ER$108:ER116,OK)+COUNTIF(ER$108:ER116,RDGfix)+COUNTIF(ER$108:ER116,RDGave)+COUNTIF(ER$108:ER116,RDGevent)+ET$82-1","v":0},null,"","",{"$f":"COUNTIF(EV$108:EV116,OK)+COUNTIF(EV$108:EV116,RDGfix)+COUNTIF(EV$108:EV116,RDGave)+COUNTIF(EV$108:EV116,RDGevent)+EX$82-1","v":0},null,"","",{"$f":"COUNTIF(EZ$108:EZ116,OK)+COUNTIF(EZ$108:EZ116,RDGfix)+COUNTIF(EZ$108:EZ116,RDGave)+COUNTIF(EZ$108:EZ116,RDGevent)+FB$82-1","v":0},null,"","",{"$f":"COUNTIF(FD$108:FD116,OK)+COUNTIF(FD$108:FD116,RDGfix)+COUNTIF(FD$108:FD116,RDGave)+COUNTIF(FD$108:FD116,RDGevent)+FF$82-1","v":0},null,"","",{"$f":"COUNTIF(FH$108:FH116,OK)+COUNTIF(FH$108:FH116,RDGfix)+COUNTIF(FH$108:FH116,RDGave)+COUNTIF(FH$108:FH116,RDGevent)+FJ$82-1","v":0}]
[null,"10th",null,"","",{"$f":"COUNTIF(D$108:D117,OK)+COUNTIF(D$108:D117,RDGfix)+COUNTIF(D$108:D117,RDGave)+COUNTIF(D$108:D117,RDGevent)","v":0},null,"","",{"$f":"COUNTIF(H$108:H117,OK)+COUNTIF(H$108:H117,RDGfix)+COUNTIF(H$108:H117,RDGave)+COUNTIF(H$108:H117,RDGevent)+J$82-1","v":0},null,"","",{"$f":"COUNTIF(L$108:L117,OK)+COUNTIF(L$108:L117,RDGfix)+COUNTIF(L$108:L117,RDGave)+COUNTIF(L$108:L117,RDGevent)+N$82-1","v":0},null,"","",{"$f":"COUNTIF(P$108:P117,OK)+COUNTIF(P$108:P117,RDGfix)+COUNTIF(P$108:P117,RDGave)+COUNTIF(P$108:P117,RDGevent)+R$82-1","v":0},null,"","",{"$f":"COUNTIF(T$108:T117,OK)+COUNTIF(T$108:T117,RDGfix)+COUNTIF(T$108:T117,RDGave)+COUNTIF(T$108:T117,RDGevent)+V$82-1","v":0},null,"","",{"$f":"COUNTIF(X$108:X117,OK)+COUNTIF(X$108:X117,RDGfix)+COUNTIF(X$108:X117,RDGave)+COUNTIF(X$108:X117,RDGevent)+Z$82-1","v":0},null,"","",{"$f":"COUNTIF(AB$108:AB117,OK)+COUNTIF(AB$108:AB117,RDGfix)+COUNTIF(AB$108:AB117,RDGave)+COUNTIF(AB$108:AB117,RDGevent)+AD$82-1","v":0},null,"","",{"$f":"COUNTIF(AF$108:AF117,OK)+COUNTIF(AF$108:AF117,RDGfix)+COUNTIF(AF$108:AF117,RDGave)+COUNTIF(AF$108:AF117,RDGevent)+AH$82-1","v":0},null,"","",{"$f":"COUNTIF(AJ$108:AJ117,OK)+COUNTIF(AJ$108:AJ117,RDGfix)+COUNTIF(AJ$108:AJ117,RDGave)+COUNTIF(AJ$108:AJ117,RDGevent)+AL$82-1","v":0},null,"","",{"$f":"COUNTIF(AN$108:AN117,OK)+COUNTIF(AN$108:AN117,RDGfix)+COUNTIF(AN$108:AN117,RDGave)+COUNTIF(AN$108:AN117,RDGevent)+AP$82-1","v":0},null,"","",{"$f":"COUNTIF(AR$108:AR117,OK)+COUNTIF(AR$108:AR117,RDGfix)+COUNTIF(AR$108:AR117,RDGave)+COUNTIF(AR$108:AR117,RDGevent)+AT$82-1","v":0},null,"","",{"$f":"COUNTIF(AV$108:AV117,OK)+COUNTIF(AV$108:AV117,RDGfix)+COUNTIF(AV$108:AV117,RDGave)+COUNTIF(AV$108:AV117,RDGevent)+AX$82-1","v":0},null,"","",{"$f":"COUNTIF(AZ$108:AZ117,OK)+COUNTIF(AZ$108:AZ117,RDGfix)+COUNTIF(AZ$108:AZ117,RDGave)+COUNTIF(AZ$108:AZ117,RDGevent)+BB$82-1","v":0},null,"","",{"$f":"COUNTIF(BD$108:BD117,OK)+COUNTIF(BD$108:BD117,RDGfix)+COUNTIF(BD$108:BD117,RDGave)+COUNTIF(BD$108:BD117,RDGevent)+BF$82-1","v":0},null,"","",{"$f":"COUNTIF(BH$108:BH117,OK)+COUNTIF(BH$108:BH117,RDGfix)+COUNTIF(BH$108:BH117,RDGave)+COUNTIF(BH$108:BH117,RDGevent)+BJ$82-1","v":0},null,"","",{"$f":"COUNTIF(BL$108:BL117,OK)+COUNTIF(BL$108:BL117,RDGfix)+COUNTIF(BL$108:BL117,RDGave)+COUNTIF(BL$108:BL117,RDGevent)+BN$82-1","v":0},null,"","",{"$f":"COUNTIF(BP$108:BP117,OK)+COUNTIF(BP$108:BP117,RDGfix)+COUNTIF(BP$108:BP117,RDGave)+COUNTIF(BP$108:BP117,RDGevent)+BR$82-1","v":0},null,"","",{"$f":"COUNTIF(BT$108:BT117,OK)+COUNTIF(BT$108:BT117,RDGfix)+COUNTIF(BT$108:BT117,RDGave)+COUNTIF(BT$108:BT117,RDGevent)+BV$82-1","v":0},null,"","",{"$f":"COUNTIF(BX$108:BX117,OK)+COUNTIF(BX$108:BX117,RDGfix)+COUNTIF(BX$108:BX117,RDGave)+COUNTIF(BX$108:BX117,RDGevent)+BZ$82-1","v":0},null,"","",{"$f":"COUNTIF(CB$108:CB117,OK)+COUNTIF(CB$108:CB117,RDGfix)+COUNTIF(CB$108:CB117,RDGave)+COUNTIF(CB$108:CB117,RDGevent)+CD$82-1","v":0},null,"","",{"$f":"COUNTIF(CF$108:CF117,OK)+COUNTIF(CF$108:CF117,RDGfix)+COUNTIF(CF$108:CF117,RDGave)+COUNTIF(CF$108:CF117,RDGevent)+CH$82-1","v":0},null,"","",{"$f":"COUNTIF(CJ$108:CJ117,OK)+COUNTIF(CJ$108:CJ117,RDGfix)+COUNTIF(CJ$108:CJ117,RDGave)+COUNTIF(CJ$108:CJ117,RDGevent)+CL$82-1","v":0},null,"","",{"$f":"COUNTIF(CN$108:CN117,OK)+COUNTIF(CN$108:CN117,RDGfix)+COUNTIF(CN$108:CN117,RDGave)+COUNTIF(CN$108:CN117,RDGevent)+CP$82-1","v":0},null,"","",{"$f":"COUNTIF(CR$108:CR117,OK)+COUNTIF(CR$108:CR117,RDGfix)+COUNTIF(CR$108:CR117,RDGave)+COUNTIF(CR$108:CR117,RDGevent)+CT$82-1","v":0},null,"","",{"$f":"COUNTIF(CV$108:CV117,OK)+COUNTIF(CV$108:CV117,RDGfix)+COUNTIF(CV$108:CV117,RDGave)+COUNTIF(CV$108:CV117,RDGevent)+CX$82-1","v":0},null,"","",{"$f":"COUNTIF(CZ$108:CZ117,OK)+COUNTIF(CZ$108:CZ117,RDGfix)+COUNTIF(CZ$108:CZ117,RDGave)+COUNTIF(CZ$108:CZ117,RDGevent)+DB$82-1","v":0},null,"","",{"$f":"COUNTIF(DD$108:DD117,OK)+COUNTIF(DD$108:DD117,RDGfix)+COUNTIF(DD$108:DD117,RDGave)+COUNTIF(DD$108:DD117,RDGevent)+DF$82-1","v":0},null,"","",{"$f":"COUNTIF(DH$108:DH117,OK)+COUNTIF(DH$108:DH117,RDGfix)+COUNTIF(DH$108:DH117,RDGave)+COUNTIF(DH$108:DH117,RDGevent)+DJ$82-1","v":0},null,"","",{"$f":"COUNTIF(DL$108:DL117,OK)+COUNTIF(DL$108:DL117,RDGfix)+COUNTIF(DL$108:DL117,RDGave)+COUNTIF(DL$108:DL117,RDGevent)+DN$82-1","v":0},null,"","",{"$f":"COUNTIF(DP$108:DP117,OK)+COUNTIF(DP$108:DP117,RDGfix)+COUNTIF(DP$108:DP117,RDGave)+COUNTIF(DP$108:DP117,RDGevent)+DR$82-1","v":0},null,"","",{"$f":"COUNTIF(DT$108:DT117,OK)+COUNTIF(DT$108:DT117,RDGfix)+COUNTIF(DT$108:DT117,RDGave)+COUNTIF(DT$108:DT117,RDGevent)+DV$82-1","v":0},null,"","",{"$f":"COUNTIF(DX$108:DX117,OK)+COUNTIF(DX$108:DX117,RDGfix)+COUNTIF(DX$108:DX117,RDGave)+COUNTIF(DX$108:DX117,RDGevent)+DZ$82-1","v":0},null,"","",{"$f":"COUNTIF(EB$108:EB117,OK)+COUNTIF(EB$108:EB117,RDGfix)+COUNTIF(EB$108:EB117,RDGave)+COUNTIF(EB$108:EB117,RDGevent)+ED$82-1","v":0},null,"","",{"$f":"COUNTIF(EF$108:EF117,OK)+COUNTIF(EF$108:EF117,RDGfix)+COUNTIF(EF$108:EF117,RDGave)+COUNTIF(EF$108:EF117,RDGevent)+EH$82-1","v":0},null,"","",{"$f":"COUNTIF(EJ$108:EJ117,OK)+COUNTIF(EJ$108:EJ117,RDGfix)+COUNTIF(EJ$108:EJ117,RDGave)+COUNTIF(EJ$108:EJ117,RDGevent)+EL$82-1","v":0},null,"","",{"$f":"COUNTIF(EN$108:EN117,OK)+COUNTIF(EN$108:EN117,RDGfix)+COUNTIF(EN$108:EN117,RDGave)+COUNTIF(EN$108:EN117,RDGevent)+EP$82-1","v":0},null,"","",{"$f":"COUNTIF(ER$108:ER117,OK)+COUNTIF(ER$108:ER117,RDGfix)+COUNTIF(ER$108:ER117,RDGave)+COUNTIF(ER$108:ER117,RDGevent)+ET$82-1","v":0},null,"","",{"$f":"COUNTIF(EV$108:EV117,OK)+COUNTIF(EV$108:EV117,RDGfix)+COUNTIF(EV$108:EV117,RDGave)+COUNTIF(EV$108:EV117,RDGevent)+EX$82-1","v":0},null,"","",{"$f":"COUNTIF(EZ$108:EZ117,OK)+COUNTIF(EZ$108:EZ117,RDGfix)+COUNTIF(EZ$108:EZ117,RDGave)+COUNTIF(EZ$108:EZ117,RDGevent)+FB$82-1","v":0},null,"","",{"$f":"COUNTIF(FD$108:FD117,OK)+COUNTIF(FD$108:FD117,RDGfix)+COUNTIF(FD$108:FD117,RDGave)+COUNTIF(FD$108:FD117,RDGevent)+FF$82-1","v":0},null,"","",{"$f":"COUNTIF(FH$108:FH117,OK)+COUNTIF(FH$108:FH117,RDGfix)+COUNTIF(FH$108:FH117,RDGave)+COUNTIF(FH$108:FH117,RDGevent)+FJ$82-1","v":0}]
[null,"11th",null,"","",{"$f":"COUNTIF(D$108:D118,OK)+COUNTIF(D$108:D118,RDGfix)+COUNTIF(D$108:D118,RDGave)+COUNTIF(D$108:D118,RDGevent)","v":0},null,"","",{"$f":"COUNTIF(H$108:H118,OK)+COUNTIF(H$108:H118,RDGfix)+COUNTIF(H$108:H118,RDGave)+COUNTIF(H$108:H118,RDGevent)+J$82-1","v":0},null,"","",{"$f":"COUNTIF(L$108:L118,OK)+COUNTIF(L$108:L118,RDGfix)+COUNTIF(L$108:L118,RDGave)+COUNTIF(L$108:L118,RDGevent)+N$82-1","v":0},null,"","",{"$f":"COUNTIF(P$108:P118,OK)+COUNTIF(P$108:P118,RDGfix)+COUNTIF(P$108:P118,RDGave)+COUNTIF(P$108:P118,RDGevent)+R$82-1","v":0},null,"","",{"$f":"COUNTIF(T$108:T118,OK)+COUNTIF(T$108:T118,RDGfix)+COUNTIF(T$108:T118,RDGave)+COUNTIF(T$108:T118,RDGevent)+V$82-1","v":0},null,"","",{"$f":"COUNTIF(X$108:X118,OK)+COUNTIF(X$108:X118,RDGfix)+COUNTIF(X$108:X118,RDGave)+COUNTIF(X$108:X118,RDGevent)+Z$82-1","v":0},null,"","",{"$f":"COUNTIF(AB$108:AB118,OK)+COUNTIF(AB$108:AB118,RDGfix)+COUNTIF(AB$108:AB118,RDGave)+COUNTIF(AB$108:AB118,RDGevent)+AD$82-1","v":0},null,"","",{"$f":"COUNTIF(AF$108:AF118,OK)+COUNTIF(AF$108:AF118,RDGfix)+COUNTIF(AF$108:AF118,RDGave)+COUNTIF(AF$108:AF118,RDGevent)+AH$82-1","v":0},null,"","",{"$f":"COUNTIF(AJ$108:AJ118,OK)+COUNTIF(AJ$108:AJ118,RDGfix)+COUNTIF(AJ$108:AJ118,RDGave)+COUNTIF(AJ$108:AJ118,RDGevent)+AL$82-1","v":0},null,"","",{"$f":"COUNTIF(AN$108:AN118,OK)+COUNTIF(AN$108:AN118,RDGfix)+COUNTIF(AN$108:AN118,RDGave)+COUNTIF(AN$108:AN118,RDGevent)+AP$82-1","v":0},null,"","",{"$f":"COUNTIF(AR$108:AR118,OK)+COUNTIF(AR$108:AR118,RDGfix)+COUNTIF(AR$108:AR118,RDGave)+COUNTIF(AR$108:AR118,RDGevent)+AT$82-1","v":0},null,"","",{"$f":"COUNTIF(AV$108:AV118,OK)+COUNTIF(AV$108:AV118,RDGfix)+COUNTIF(AV$108:AV118,RDGave)+COUNTIF(AV$108:AV118,RDGevent)+AX$82-1","v":0},null,"","",{"$f":"COUNTIF(AZ$108:AZ118,OK)+COUNTIF(AZ$108:AZ118,RDGfix)+COUNTIF(AZ$108:AZ118,RDGave)+COUNTIF(AZ$108:AZ118,RDGevent)+BB$82-1","v":0},null,"","",{"$f":"COUNTIF(BD$108:BD118,OK)+COUNTIF(BD$108:BD118,RDGfix)+COUNTIF(BD$108:BD118,RDGave)+COUNTIF(BD$108:BD118,RDGevent)+BF$82-1","v":0},null,"","",{"$f":"COUNTIF(BH$108:BH118,OK)+COUNTIF(BH$108:BH118,RDGfix)+COUNTIF(BH$108:BH118,RDGave)+COUNTIF(BH$108:BH118,RDGevent)+BJ$82-1","v":0},null,"","",{"$f":"COUNTIF(BL$108:BL118,OK)+COUNTIF(BL$108:BL118,RDGfix)+COUNTIF(BL$108:BL118,RDGave)+COUNTIF(BL$108:BL118,RDGevent)+BN$82-1","v":0},null,"","",{"$f":"COUNTIF(BP$108:BP118,OK)+COUNTIF(BP$108:BP118,RDGfix)+COUNTIF(BP$108:BP118,RDGave)+COUNTIF(BP$108:BP118,RDGevent)+BR$82-1","v":0},null,"","",{"$f":"COUNTIF(BT$108:BT118,OK)+COUNTIF(BT$108:BT118,RDGfix)+COUNTIF(BT$108:BT118,RDGave)+COUNTIF(BT$108:BT118,RDGevent)+BV$82-1","v":0},null,"","",{"$f":"COUNTIF(BX$108:BX118,OK)+COUNTIF(BX$108:BX118,RDGfix)+COUNTIF(BX$108:BX118,RDGave)+COUNTIF(BX$108:BX118,RDGevent)+BZ$82-1","v":0},null,"","",{"$f":"COUNTIF(CB$108:CB118,OK)+COUNTIF(CB$108:CB118,RDGfix)+COUNTIF(CB$108:CB118,RDGave)+COUNTIF(CB$108:CB118,RDGevent)+CD$82-1","v":0},null,"","",{"$f":"COUNTIF(CF$108:CF118,OK)+COUNTIF(CF$108:CF118,RDGfix)+COUNTIF(CF$108:CF118,RDGave)+COUNTIF(CF$108:CF118,RDGevent)+CH$82-1","v":0},null,"","",{"$f":"COUNTIF(CJ$108:CJ118,OK)+COUNTIF(CJ$108:CJ118,RDGfix)+COUNTIF(CJ$108:CJ118,RDGave)+COUNTIF(CJ$108:CJ118,RDGevent)+CL$82-1","v":0},null,"","",{"$f":"COUNTIF(CN$108:CN118,OK)+COUNTIF(CN$108:CN118,RDGfix)+COUNTIF(CN$108:CN118,RDGave)+COUNTIF(CN$108:CN118,RDGevent)+CP$82-1","v":0},null,"","",{"$f":"COUNTIF(CR$108:CR118,OK)+COUNTIF(CR$108:CR118,RDGfix)+COUNTIF(CR$108:CR118,RDGave)+COUNTIF(CR$108:CR118,RDGevent)+CT$82-1","v":0},null,"","",{"$f":"COUNTIF(CV$108:CV118,OK)+COUNTIF(CV$108:CV118,RDGfix)+COUNTIF(CV$108:CV118,RDGave)+COUNTIF(CV$108:CV118,RDGevent)+CX$82-1","v":0},null,"","",{"$f":"COUNTIF(CZ$108:CZ118,OK)+COUNTIF(CZ$108:CZ118,RDGfix)+COUNTIF(CZ$108:CZ118,RDGave)+COUNTIF(CZ$108:CZ118,RDGevent)+DB$82-1","v":0},null,"","",{"$f":"COUNTIF(DD$108:DD118,OK)+COUNTIF(DD$108:DD118,RDGfix)+COUNTIF(DD$108:DD118,RDGave)+COUNTIF(DD$108:DD118,RDGevent)+DF$82-1","v":0},null,"","",{"$f":"COUNTIF(DH$108:DH118,OK)+COUNTIF(DH$108:DH118,RDGfix)+COUNTIF(DH$108:DH118,RDGave)+COUNTIF(DH$108:DH118,RDGevent)+DJ$82-1","v":0},null,"","",{"$f":"COUNTIF(DL$108:DL118,OK)+COUNTIF(DL$108:DL118,RDGfix)+COUNTIF(DL$108:DL118,RDGave)+COUNTIF(DL$108:DL118,RDGevent)+DN$82-1","v":0},null,"","",{"$f":"COUNTIF(DP$108:DP118,OK)+COUNTIF(DP$108:DP118,RDGfix)+COUNTIF(DP$108:DP118,RDGave)+COUNTIF(DP$108:DP118,RDGevent)+DR$82-1","v":0},null,"","",{"$f":"COUNTIF(DT$108:DT118,OK)+COUNTIF(DT$108:DT118,RDGfix)+COUNTIF(DT$108:DT118,RDGave)+COUNTIF(DT$108:DT118,RDGevent)+DV$82-1","v":0},null,"","",{"$f":"COUNTIF(DX$108:DX118,OK)+COUNTIF(DX$108:DX118,RDGfix)+COUNTIF(DX$108:DX118,RDGave)+COUNTIF(DX$108:DX118,RDGevent)+DZ$82-1","v":0},null,"","",{"$f":"COUNTIF(EB$108:EB118,OK)+COUNTIF(EB$108:EB118,RDGfix)+COUNTIF(EB$108:EB118,RDGave)+COUNTIF(EB$108:EB118,RDGevent)+ED$82-1","v":0},null,"","",{"$f":"COUNTIF(EF$108:EF118,OK)+COUNTIF(EF$108:EF118,RDGfix)+COUNTIF(EF$108:EF118,RDGave)+COUNTIF(EF$108:EF118,RDGevent)+EH$82-1","v":0},null,"","",{"$f":"COUNTIF(EJ$108:EJ118,OK)+COUNTIF(EJ$108:EJ118,RDGfix)+COUNTIF(EJ$108:EJ118,RDGave)+COUNTIF(EJ$108:EJ118,RDGevent)+EL$82-1","v":0},null,"","",{"$f":"COUNTIF(EN$108:EN118,OK)+COUNTIF(EN$108:EN118,RDGfix)+COUNTIF(EN$108:EN118,RDGave)+COUNTIF(EN$108:EN118,RDGevent)+EP$82-1","v":0},null,"","",{"$f":"COUNTIF(ER$108:ER118,OK)+COUNTIF(ER$108:ER118,RDGfix)+COUNTIF(ER$108:ER118,RDGave)+COUNTIF(ER$108:ER118,RDGevent)+ET$82-1","v":0},null,"","",{"$f":"COUNTIF(EV$108:EV118,OK)+COUNTIF(EV$108:EV118,RDGfix)+COUNTIF(EV$108:EV118,RDGave)+COUNTIF(EV$108:EV118,RDGevent)+EX$82-1","v":0},null,"","",{"$f":"COUNTIF(EZ$108:EZ118,OK)+COUNTIF(EZ$108:EZ118,RDGfix)+COUNTIF(EZ$108:EZ118,RDGave)+COUNTIF(EZ$108:EZ118,RDGevent)+FB$82-1","v":0},null,"","",{"$f":"COUNTIF(FD$108:FD118,OK)+COUNTIF(FD$108:FD118,RDGfix)+COUNTIF(FD$108:FD118,RDGave)+COUNTIF(FD$108:FD118,RDGevent)+FF$82-1","v":0},null,"","",{"$f":"COUNTIF(FH$108:FH118,OK)+COUNTIF(FH$108:FH118,RDGfix)+COUNTIF(FH$108:FH118,RDGave)+COUNTIF(FH$108:FH118,RDGevent)+FJ$82-1","v":0}]
[null,"12th",null,"","",{"$f":"COUNTIF(D$108:D119,OK)+COUNTIF(D$108:D119,RDGfix)+COUNTIF(D$108:D119,RDGave)+COUNTIF(D$108:D119,RDGevent)","v":0},null,"","",{"$f":"COUNTIF(H$108:H119,OK)+COUNTIF(H$108:H119,RDGfix)+COUNTIF(H$108:H119,RDGave)+COUNTIF(H$108:H119,RDGevent)+J$82-1","v":0},null,"","",{"$f":"COUNTIF(L$108:L119,OK)+COUNTIF(L$108:L119,RDGfix)+COUNTIF(L$108:L119,RDGave)+COUNTIF(L$108:L119,RDGevent)+N$82-1","v":0},null,"","",{"$f":"COUNTIF(P$108:P119,OK)+COUNTIF(P$108:P119,RDGfix)+COUNTIF(P$108:P119,RDGave)+COUNTIF(P$108:P119,RDGevent)+R$82-1","v":0},null,"","",{"$f":"COUNTIF(T$108:T119,OK)+COUNTIF(T$108:T119,RDGfix)+COUNTIF(T$108:T119,RDGave)+COUNTIF(T$108:T119,RDGevent)+V$82-1","v":0},null,"","",{"$f":"COUNTIF(X$108:X119,OK)+COUNTIF(X$108:X119,RDGfix)+COUNTIF(X$108:X119,RDGave)+COUNTIF(X$108:X119,RDGevent)+Z$82-1","v":0},null,"","",{"$f":"COUNTIF(AB$108:AB119,OK)+COUNTIF(AB$108:AB119,RDGfix)+COUNTIF(AB$108:AB119,RDGave)+COUNTIF(AB$108:AB119,RDGevent)+AD$82-1","v":0},null,"","",{"$f":"COUNTIF(AF$108:AF119,OK)+COUNTIF(AF$108:AF119,RDGfix)+COUNTIF(AF$108:AF119,RDGave)+COUNTIF(AF$108:AF119,RDGevent)+AH$82-1","v":0},null,"","",{"$f":"COUNTIF(AJ$108:AJ119,OK)+COUNTIF(AJ$108:AJ119,RDGfix)+COUNTIF(AJ$108:AJ119,RDGave)+COUNTIF(AJ$108:AJ119,RDGevent)+AL$82-1","v":0},null,"","",{"$f":"COUNTIF(AN$108:AN119,OK)+COUNTIF(AN$108:AN119,RDGfix)+COUNTIF(AN$108:AN119,RDGave)+COUNTIF(AN$108:AN119,RDGevent)+AP$82-1","v":0},null,"","",{"$f":"COUNTIF(AR$108:AR119,OK)+COUNTIF(AR$108:AR119,RDGfix)+COUNTIF(AR$108:AR119,RDGave)+COUNTIF(AR$108:AR119,RDGevent)+AT$82-1","v":0},null,"","",{"$f":"COUNTIF(AV$108:AV119,OK)+COUNTIF(AV$108:AV119,RDGfix)+COUNTIF(AV$108:AV119,RDGave)+COUNTIF(AV$108:AV119,RDGevent)+AX$82-1","v":0},null,"","",{"$f":"COUNTIF(AZ$108:AZ119,OK)+COUNTIF(AZ$108:AZ119,RDGfix)+COUNTIF(AZ$108:AZ119,RDGave)+COUNTIF(AZ$108:AZ119,RDGevent)+BB$82-1","v":0},null,"","",{"$f":"COUNTIF(BD$108:BD119,OK)+COUNTIF(BD$108:BD119,RDGfix)+COUNTIF(BD$108:BD119,RDGave)+COUNTIF(BD$108:BD119,RDGevent)+BF$82-1","v":0},null,"","",{"$f":"COUNTIF(BH$108:BH119,OK)+COUNTIF(BH$108:BH119,RDGfix)+COUNTIF(BH$108:BH119,RDGave)+COUNTIF(BH$108:BH119,RDGevent)+BJ$82-1","v":0},null,"","",{"$f":"COUNTIF(BL$108:BL119,OK)+COUNTIF(BL$108:BL119,RDGfix)+COUNTIF(BL$108:BL119,RDGave)+COUNTIF(BL$108:BL119,RDGevent)+BN$82-1","v":0},null,"","",{"$f":"COUNTIF(BP$108:BP119,OK)+COUNTIF(BP$108:BP119,RDGfix)+COUNTIF(BP$108:BP119,RDGave)+COUNTIF(BP$108:BP119,RDGevent)+BR$82-1","v":0},null,"","",{"$f":"COUNTIF(BT$108:BT119,OK)+COUNTIF(BT$108:BT119,RDGfix)+COUNTIF(BT$108:BT119,RDGave)+COUNTIF(BT$108:BT119,RDGevent)+BV$82-1","v":0},null,"","",{"$f":"COUNTIF(BX$108:BX119,OK)+COUNTIF(BX$108:BX119,RDGfix)+COUNTIF(BX$108:BX119,RDGave)+COUNTIF(BX$108:BX119,RDGevent)+BZ$82-1","v":0},null,"","",{"$f":"COUNTIF(CB$108:CB119,OK)+COUNTIF(CB$108:CB119,RDGfix)+COUNTIF(CB$108:CB119,RDGave)+COUNTIF(CB$108:CB119,RDGevent)+CD$82-1","v":0},null,"","",{"$f":"COUNTIF(CF$108:CF119,OK)+COUNTIF(CF$108:CF119,RDGfix)+COUNTIF(CF$108:CF119,RDGave)+COUNTIF(CF$108:CF119,RDGevent)+CH$82-1","v":0},null,"","",{"$f":"COUNTIF(CJ$108:CJ119,OK)+COUNTIF(CJ$108:CJ119,RDGfix)+COUNTIF(CJ$108:CJ119,RDGave)+COUNTIF(CJ$108:CJ119,RDGevent)+CL$82-1","v":0},null,"","",{"$f":"COUNTIF(CN$108:CN119,OK)+COUNTIF(CN$108:CN119,RDGfix)+COUNTIF(CN$108:CN119,RDGave)+COUNTIF(CN$108:CN119,RDGevent)+CP$82-1","v":0},null,"","",{"$f":"COUNTIF(CR$108:CR119,OK)+COUNTIF(CR$108:CR119,RDGfix)+COUNTIF(CR$108:CR119,RDGave)+COUNTIF(CR$108:CR119,RDGevent)+CT$82-1","v":0},null,"","",{"$f":"COUNTIF(CV$108:CV119,OK)+COUNTIF(CV$108:CV119,RDGfix)+COUNTIF(CV$108:CV119,RDGave)+COUNTIF(CV$108:CV119,RDGevent)+CX$82-1","v":0},null,"","",{"$f":"COUNTIF(CZ$108:CZ119,OK)+COUNTIF(CZ$108:CZ119,RDGfix)+COUNTIF(CZ$108:CZ119,RDGave)+COUNTIF(CZ$108:CZ119,RDGevent)+DB$82-1","v":0},null,"","",{"$f":"COUNTIF(DD$108:DD119,OK)+COUNTIF(DD$108:DD119,RDGfix)+COUNTIF(DD$108:DD119,RDGave)+COUNTIF(DD$108:DD119,RDGevent)+DF$82-1","v":0},null,"","",{"$f":"COUNTIF(DH$108:DH119,OK)+COUNTIF(DH$108:DH119,RDGfix)+COUNTIF(DH$108:DH119,RDGave)+COUNTIF(DH$108:DH119,RDGevent)+DJ$82-1","v":0},null,"","",{"$f":"COUNTIF(DL$108:DL119,OK)+COUNTIF(DL$108:DL119,RDGfix)+COUNTIF(DL$108:DL119,RDGave)+COUNTIF(DL$108:DL119,RDGevent)+DN$82-1","v":0},null,"","",{"$f":"COUNTIF(DP$108:DP119,OK)+COUNTIF(DP$108:DP119,RDGfix)+COUNTIF(DP$108:DP119,RDGave)+COUNTIF(DP$108:DP119,RDGevent)+DR$82-1","v":0},null,"","",{"$f":"COUNTIF(DT$108:DT119,OK)+COUNTIF(DT$108:DT119,RDGfix)+COUNTIF(DT$108:DT119,RDGave)+COUNTIF(DT$108:DT119,RDGevent)+DV$82-1","v":0},null,"","",{"$f":"COUNTIF(DX$108:DX119,OK)+COUNTIF(DX$108:DX119,RDGfix)+COUNTIF(DX$108:DX119,RDGave)+COUNTIF(DX$108:DX119,RDGevent)+DZ$82-1","v":0},null,"","",{"$f":"COUNTIF(EB$108:EB119,OK)+COUNTIF(EB$108:EB119,RDGfix)+COUNTIF(EB$108:EB119,RDGave)+COUNTIF(EB$108:EB119,RDGevent)+ED$82-1","v":0},null,"","",{"$f":"COUNTIF(EF$108:EF119,OK)+COUNTIF(EF$108:EF119,RDGfix)+COUNTIF(EF$108:EF119,RDGave)+COUNTIF(EF$108:EF119,RDGevent)+EH$82-1","v":0},null,"","",{"$f":"COUNTIF(EJ$108:EJ119,OK)+COUNTIF(EJ$108:EJ119,RDGfix)+COUNTIF(EJ$108:EJ119,RDGave)+COUNTIF(EJ$108:EJ119,RDGevent)+EL$82-1","v":0},null,"","",{"$f":"COUNTIF(EN$108:EN119,OK)+COUNTIF(EN$108:EN119,RDGfix)+COUNTIF(EN$108:EN119,RDGave)+COUNTIF(EN$108:EN119,RDGevent)+EP$82-1","v":0},null,"","",{"$f":"COUNTIF(ER$108:ER119,OK)+COUNTIF(ER$108:ER119,RDGfix)+COUNTIF(ER$108:ER119,RDGave)+COUNTIF(ER$108:ER119,RDGevent)+ET$82-1","v":0},null,"","",{"$f":"COUNTIF(EV$108:EV119,OK)+COUNTIF(EV$108:EV119,RDGfix)+COUNTIF(EV$108:EV119,RDGave)+COUNTIF(EV$108:EV119,RDGevent)+EX$82-1","v":0},null,"","",{"$f":"COUNTIF(EZ$108:EZ119,OK)+COUNTIF(EZ$108:EZ119,RDGfix)+COUNTIF(EZ$108:EZ119,RDGave)+COUNTIF(EZ$108:EZ119,RDGevent)+FB$82-1","v":0},null,"","",{"$f":"COUNTIF(FD$108:FD119,OK)+COUNTIF(FD$108:FD119,RDGfix)+COUNTIF(FD$108:FD119,RDGave)+COUNTIF(FD$108:FD119,RDGevent)+FF$82-1","v":0},null,"","",{"$f":"COUNTIF(FH$108:FH119,OK)+COUNTIF(FH$108:FH119,RDGfix)+COUNTIF(FH$108:FH119,RDGave)+COUNTIF(FH$108:FH119,RDGevent)+FJ$82-1","v":0}]
[null,"13th",null,"","",{"$f":"COUNTIF(D$108:D120,OK)+COUNTIF(D$108:D120,RDGfix)+COUNTIF(D$108:D120,RDGave)+COUNTIF(D$108:D120,RDGevent)","v":0},null,"","",{"$f":"COUNTIF(H$108:H120,OK)+COUNTIF(H$108:H120,RDGfix)+COUNTIF(H$108:H120,RDGave)+COUNTIF(H$108:H120,RDGevent)+J$82-1","v":0},null,"","",{"$f":"COUNTIF(L$108:L120,OK)+COUNTIF(L$108:L120,RDGfix)+COUNTIF(L$108:L120,RDGave)+COUNTIF(L$108:L120,RDGevent)+N$82-1","v":0},null,"","",{"$f":"COUNTIF(P$108:P120,OK)+COUNTIF(P$108:P120,RDGfix)+COUNTIF(P$108:P120,RDGave)+COUNTIF(P$108:P120,RDGevent)+R$82-1","v":0},null,"","",{"$f":"COUNTIF(T$108:T120,OK)+COUNTIF(T$108:T120,RDGfix)+COUNTIF(T$108:T120,RDGave)+COUNTIF(T$108:T120,RDGevent)+V$82-1","v":0},null,"","",{"$f":"COUNTIF(X$108:X120,OK)+COUNTIF(X$108:X120,RDGfix)+COUNTIF(X$108:X120,RDGave)+COUNTIF(X$108:X120,RDGevent)+Z$82-1","v":0},null,"","",{"$f":"COUNTIF(AB$108:AB120,OK)+COUNTIF(AB$108:AB120,RDGfix)+COUNTIF(AB$108:AB120,RDGave)+COUNTIF(AB$108:AB120,RDGevent)+AD$82-1","v":0},null,"","",{"$f":"COUNTIF(AF$108:AF120,OK)+COUNTIF(AF$108:AF120,RDGfix)+COUNTIF(AF$108:AF120,RDGave)+COUNTIF(AF$108:AF120,RDGevent)+AH$82-1","v":0},null,"","",{"$f":"COUNTIF(AJ$108:AJ120,OK)+COUNTIF(AJ$108:AJ120,RDGfix)+COUNTIF(AJ$108:AJ120,RDGave)+COUNTIF(AJ$108:AJ120,RDGevent)+AL$82-1","v":0},null,"","",{"$f":"COUNTIF(AN$108:AN120,OK)+COUNTIF(AN$108:AN120,RDGfix)+COUNTIF(AN$108:AN120,RDGave)+COUNTIF(AN$108:AN120,RDGevent)+AP$82-1","v":0},null,"","",{"$f":"COUNTIF(AR$108:AR120,OK)+COUNTIF(AR$108:AR120,RDGfix)+COUNTIF(AR$108:AR120,RDGave)+COUNTIF(AR$108:AR120,RDGevent)+AT$82-1","v":0},null,"","",{"$f":"COUNTIF(AV$108:AV120,OK)+COUNTIF(AV$108:AV120,RDGfix)+COUNTIF(AV$108:AV120,RDGave)+COUNTIF(AV$108:AV120,RDGevent)+AX$82-1","v":0},null,"","",{"$f":"COUNTIF(AZ$108:AZ120,OK)+COUNTIF(AZ$108:AZ120,RDGfix)+COUNTIF(AZ$108:AZ120,RDGave)+COUNTIF(AZ$108:AZ120,RDGevent)+BB$82-1","v":0},null,"","",{"$f":"COUNTIF(BD$108:BD120,OK)+COUNTIF(BD$108:BD120,RDGfix)+COUNTIF(BD$108:BD120,RDGave)+COUNTIF(BD$108:BD120,RDGevent)+BF$82-1","v":0},null,"","",{"$f":"COUNTIF(BH$108:BH120,OK)+COUNTIF(BH$108:BH120,RDGfix)+COUNTIF(BH$108:BH120,RDGave)+COUNTIF(BH$108:BH120,RDGevent)+BJ$82-1","v":0},null,"","",{"$f":"COUNTIF(BL$108:BL120,OK)+COUNTIF(BL$108:BL120,RDGfix)+COUNTIF(BL$108:BL120,RDGave)+COUNTIF(BL$108:BL120,RDGevent)+BN$82-1","v":0},null,"","",{"$f":"COUNTIF(BP$108:BP120,OK)+COUNTIF(BP$108:BP120,RDGfix)+COUNTIF(BP$108:BP120,RDGave)+COUNTIF(BP$108:BP120,RDGevent)+BR$82-1","v":0},null,"","",{"$f":"COUNTIF(BT$108:BT120,OK)+COUNTIF(BT$108:BT120,RDGfix)+COUNTIF(BT$108:BT120,RDGave)+COUNTIF(BT$108:BT120,RDGevent)+BV$82-1","v":0},null,"","",{"$f":"COUNTIF(BX$108:BX120,OK)+COUNTIF(BX$108:BX120,RDGfix)+COUNTIF(BX$108:BX120,RDGave)+COUNTIF(BX$108:BX120,RDGevent)+BZ$82-1","v":0},null,"","",{"$f":"COUNTIF(CB$108:CB120,OK)+COUNTIF(CB$108:CB120,RDGfix)+COUNTIF(CB$108:CB120,RDGave)+COUNTIF(CB$108:CB120,RDGevent)+CD$82-1","v":0},null,"","",{"$f":"COUNTIF(CF$108:CF120,OK)+COUNTIF(CF$108:CF120,RDGfix)+COUNTIF(CF$108:CF120,RDGave)+COUNTIF(CF$108:CF120,RDGevent)+CH$82-1","v":0},null,"","",{"$f":"COUNTIF(CJ$108:CJ120,OK)+COUNTIF(CJ$108:CJ120,RDGfix)+COUNTIF(CJ$108:CJ120,RDGave)+COUNTIF(CJ$108:CJ120,RDGevent)+CL$82-1","v":0},null,"","",{"$f":"COUNTIF(CN$108:CN120,OK)+COUNTIF(CN$108:CN120,RDGfix)+COUNTIF(CN$108:CN120,RDGave)+COUNTIF(CN$108:CN120,RDGevent)+CP$82-1","v":0},null,"","",{"$f":"COUNTIF(CR$108:CR120,OK)+COUNTIF(CR$108:CR120,RDGfix)+COUNTIF(CR$108:CR120,RDGave)+COUNTIF(CR$108:CR120,RDGevent)+CT$82-1","v":0},null,"","",{"$f":"COUNTIF(CV$108:CV120,OK)+COUNTIF(CV$108:CV120,RDGfix)+COUNTIF(CV$108:CV120,RDGave)+COUNTIF(CV$108:CV120,RDGevent)+CX$82-1","v":0},null,"","",{"$f":"COUNTIF(CZ$108:CZ120,OK)+COUNTIF(CZ$108:CZ120,RDGfix)+COUNTIF(CZ$108:CZ120,RDGave)+COUNTIF(CZ$108:CZ120,RDGevent)+DB$82-1","v":0},null,"","",{"$f":"COUNTIF(DD$108:DD120,OK)+COUNTIF(DD$108:DD120,RDGfix)+COUNTIF(DD$108:DD120,RDGave)+COUNTIF(DD$108:DD120,RDGevent)+DF$82-1","v":0},null,"","",{"$f":"COUNTIF(DH$108:DH120,OK)+COUNTIF(DH$108:DH120,RDGfix)+COUNTIF(DH$108:DH120,RDGave)+COUNTIF(DH$108:DH120,RDGevent)+DJ$82-1","v":0},null,"","",{"$f":"COUNTIF(DL$108:DL120,OK)+COUNTIF(DL$108:DL120,RDGfix)+COUNTIF(DL$108:DL120,RDGave)+COUNTIF(DL$108:DL120,RDGevent)+DN$82-1","v":0},null,"","",{"$f":"COUNTIF(DP$108:DP120,OK)+COUNTIF(DP$108:DP120,RDGfix)+COUNTIF(DP$108:DP120,RDGave)+COUNTIF(DP$108:DP120,RDGevent)+DR$82-1","v":0},null,"","",{"$f":"COUNTIF(DT$108:DT120,OK)+COUNTIF(DT$108:DT120,RDGfix)+COUNTIF(DT$108:DT120,RDGave)+COUNTIF(DT$108:DT120,RDGevent)+DV$82-1","v":0},null,"","",{"$f":"COUNTIF(DX$108:DX120,OK)+COUNTIF(DX$108:DX120,RDGfix)+COUNTIF(DX$108:DX120,RDGave)+COUNTIF(DX$108:DX120,RDGevent)+DZ$82-1","v":0},null,"","",{"$f":"COUNTIF(EB$108:EB120,OK)+COUNTIF(EB$108:EB120,RDGfix)+COUNTIF(EB$108:EB120,RDGave)+COUNTIF(EB$108:EB120,RDGevent)+ED$82-1","v":0},null,"","",{"$f":"COUNTIF(EF$108:EF120,OK)+COUNTIF(EF$108:EF120,RDGfix)+COUNTIF(EF$108:EF120,RDGave)+COUNTIF(EF$108:EF120,RDGevent)+EH$82-1","v":0},null,"","",{"$f":"COUNTIF(EJ$108:EJ120,OK)+COUNTIF(EJ$108:EJ120,RDGfix)+COUNTIF(EJ$108:EJ120,RDGave)+COUNTIF(EJ$108:EJ120,RDGevent)+EL$82-1","v":0},null,"","",{"$f":"COUNTIF(EN$108:EN120,OK)+COUNTIF(EN$108:EN120,RDGfix)+COUNTIF(EN$108:EN120,RDGave)+COUNTIF(EN$108:EN120,RDGevent)+EP$82-1","v":0},null,"","",{"$f":"COUNTIF(ER$108:ER120,OK)+COUNTIF(ER$108:ER120,RDGfix)+COUNTIF(ER$108:ER120,RDGave)+COUNTIF(ER$108:ER120,RDGevent)+ET$82-1","v":0},null,"","",{"$f":"COUNTIF(EV$108:EV120,OK)+COUNTIF(EV$108:EV120,RDGfix)+COUNTIF(EV$108:EV120,RDGave)+COUNTIF(EV$108:EV120,RDGevent)+EX$82-1","v":0},null,"","",{"$f":"COUNTIF(EZ$108:EZ120,OK)+COUNTIF(EZ$108:EZ120,RDGfix)+COUNTIF(EZ$108:EZ120,RDGave)+COUNTIF(EZ$108:EZ120,RDGevent)+FB$82-1","v":0},null,"","",{"$f":"COUNTIF(FD$108:FD120,OK)+COUNTIF(FD$108:FD120,RDGfix)+COUNTIF(FD$108:FD120,RDGave)+COUNTIF(FD$108:FD120,RDGevent)+FF$82-1","v":0},null,"","",{"$f":"COUNTIF(FH$108:FH120,OK)+COUNTIF(FH$108:FH120,RDGfix)+COUNTIF(FH$108:FH120,RDGave)+COUNTIF(FH$108:FH120,RDGevent)+FJ$82-1","v":0}]
[null,"14th",null,"","",{"$f":"COUNTIF(D$108:D121,OK)+COUNTIF(D$108:D121,RDGfix)+COUNTIF(D$108:D121,RDGave)+COUNTIF(D$108:D121,RDGevent)","v":0},null,"","",{"$f":"COUNTIF(H$108:H121,OK)+COUNTIF(H$108:H121,RDGfix)+COUNTIF(H$108:H121,RDGave)+COUNTIF(H$108:H121,RDGevent)+J$82-1","v":0},null,"","",{"$f":"COUNTIF(L$108:L121,OK)+COUNTIF(L$108:L121,RDGfix)+COUNTIF(L$108:L121,RDGave)+COUNTIF(L$108:L121,RDGevent)+N$82-1","v":0},null,"","",{"$f":"COUNTIF(P$108:P121,OK)+COUNTIF(P$108:P121,RDGfix)+COUNTIF(P$108:P121,RDGave)+COUNTIF(P$108:P121,RDGevent)+R$82-1","v":0},null,"","",{"$f":"COUNTIF(T$108:T121,OK)+COUNTIF(T$108:T121,RDGfix)+COUNTIF(T$108:T121,RDGave)+COUNTIF(T$108:T121,RDGevent)+V$82-1","v":0},null,"","",{"$f":"COUNTIF(X$108:X121,OK)+COUNTIF(X$108:X121,RDGfix)+COUNTIF(X$108:X121,RDGave)+COUNTIF(X$108:X121,RDGevent)+Z$82-1","v":0},null,"","",{"$f":"COUNTIF(AB$108:AB121,OK)+COUNTIF(AB$108:AB121,RDGfix)+COUNTIF(AB$108:AB121,RDGave)+COUNTIF(AB$108:AB121,RDGevent)+AD$82-1","v":0},null,"","",{"$f":"COUNTIF(AF$108:AF121,OK)+COUNTIF(AF$108:AF121,RDGfix)+COUNTIF(AF$108:AF121,RDGave)+COUNTIF(AF$108:AF121,RDGevent)+AH$82-1","v":0},null,"","",{"$f":"COUNTIF(AJ$108:AJ121,OK)+COUNTIF(AJ$108:AJ121,RDGfix)+COUNTIF(AJ$108:AJ121,RDGave)+COUNTIF(AJ$108:AJ121,RDGevent)+AL$82-1","v":0},null,"","",{"$f":"COUNTIF(AN$108:AN121,OK)+COUNTIF(AN$108:AN121,RDGfix)+COUNTIF(AN$108:AN121,RDGave)+COUNTIF(AN$108:AN121,RDGevent)+AP$82-1","v":0},null,"","",{"$f":"COUNTIF(AR$108:AR121,OK)+COUNTIF(AR$108:AR121,RDGfix)+COUNTIF(AR$108:AR121,RDGave)+COUNTIF(AR$108:AR121,RDGevent)+AT$82-1","v":0},null,"","",{"$f":"COUNTIF(AV$108:AV121,OK)+COUNTIF(AV$108:AV121,RDGfix)+COUNTIF(AV$108:AV121,RDGave)+COUNTIF(AV$108:AV121,RDGevent)+AX$82-1","v":0},null,"","",{"$f":"COUNTIF(AZ$108:AZ121,OK)+COUNTIF(AZ$108:AZ121,RDGfix)+COUNTIF(AZ$108:AZ121,RDGave)+COUNTIF(AZ$108:AZ121,RDGevent)+BB$82-1","v":0},null,"","",{"$f":"COUNTIF(BD$108:BD121,OK)+COUNTIF(BD$108:BD121,RDGfix)+COUNTIF(BD$108:BD121,RDGave)+COUNTIF(BD$108:BD121,RDGevent)+BF$82-1","v":0},null,"","",{"$f":"COUNTIF(BH$108:BH121,OK)+COUNTIF(BH$108:BH121,RDGfix)+COUNTIF(BH$108:BH121,RDGave)+COUNTIF(BH$108:BH121,RDGevent)+BJ$82-1","v":0},null,"","",{"$f":"COUNTIF(BL$108:BL121,OK)+COUNTIF(BL$108:BL121,RDGfix)+COUNTIF(BL$108:BL121,RDGave)+COUNTIF(BL$108:BL121,RDGevent)+BN$82-1","v":0},null,"","",{"$f":"COUNTIF(BP$108:BP121,OK)+COUNTIF(BP$108:BP121,RDGfix)+COUNTIF(BP$108:BP121,RDGave)+COUNTIF(BP$108:BP121,RDGevent)+BR$82-1","v":0},null,"","",{"$f":"COUNTIF(BT$108:BT121,OK)+COUNTIF(BT$108:BT121,RDGfix)+COUNTIF(BT$108:BT121,RDGave)+COUNTIF(BT$108:BT121,RDGevent)+BV$82-1","v":0},null,"","",{"$f":"COUNTIF(BX$108:BX121,OK)+COUNTIF(BX$108:BX121,RDGfix)+COUNTIF(BX$108:BX121,RDGave)+COUNTIF(BX$108:BX121,RDGevent)+BZ$82-1","v":0},null,"","",{"$f":"COUNTIF(CB$108:CB121,OK)+COUNTIF(CB$108:CB121,RDGfix)+COUNTIF(CB$108:CB121,RDGave)+COUNTIF(CB$108:CB121,RDGevent)+CD$82-1","v":0},null,"","",{"$f":"COUNTIF(CF$108:CF121,OK)+COUNTIF(CF$108:CF121,RDGfix)+COUNTIF(CF$108:CF121,RDGave)+COUNTIF(CF$108:CF121,RDGevent)+CH$82-1","v":0},null,"","",{"$f":"COUNTIF(CJ$108:CJ121,OK)+COUNTIF(CJ$108:CJ121,RDGfix)+COUNTIF(CJ$108:CJ121,RDGave)+COUNTIF(CJ$108:CJ121,RDGevent)+CL$82-1","v":0},null,"","",{"$f":"COUNTIF(CN$108:CN121,OK)+COUNTIF(CN$108:CN121,RDGfix)+COUNTIF(CN$108:CN121,RDGave)+COUNTIF(CN$108:CN121,RDGevent)+CP$82-1","v":0},null,"","",{"$f":"COUNTIF(CR$108:CR121,OK)+COUNTIF(CR$108:CR121,RDGfix)+COUNTIF(CR$108:CR121,RDGave)+COUNTIF(CR$108:CR121,RDGevent)+CT$82-1","v":0},null,"","",{"$f":"COUNTIF(CV$108:CV121,OK)+COUNTIF(CV$108:CV121,RDGfix)+COUNTIF(CV$108:CV121,RDGave)+COUNTIF(CV$108:CV121,RDGevent)+CX$82-1","v":0},null,"","",{"$f":"COUNTIF(CZ$108:CZ121,OK)+COUNTIF(CZ$108:CZ121,RDGfix)+COUNTIF(CZ$108:CZ121,RDGave)+COUNTIF(CZ$108:CZ121,RDGevent)+DB$82-1","v":0},null,"","",{"$f":"COUNTIF(DD$108:DD121,OK)+COUNTIF(DD$108:DD121,RDGfix)+COUNTIF(DD$108:DD121,RDGave)+COUNTIF(DD$108:DD121,RDGevent)+DF$82-1","v":0},null,"","",{"$f":"COUNTIF(DH$108:DH121,OK)+COUNTIF(DH$108:DH121,RDGfix)+COUNTIF(DH$108:DH121,RDGave)+COUNTIF(DH$108:DH121,RDGevent)+DJ$82-1","v":0},null,"","",{"$f":"COUNTIF(DL$108:DL121,OK)+COUNTIF(DL$108:DL121,RDGfix)+COUNTIF(DL$108:DL121,RDGave)+COUNTIF(DL$108:DL121,RDGevent)+DN$82-1","v":0},null,"","",{"$f":"COUNTIF(DP$108:DP121,OK)+COUNTIF(DP$108:DP121,RDGfix)+COUNTIF(DP$108:DP121,RDGave)+COUNTIF(DP$108:DP121,RDGevent)+DR$82-1","v":0},null,"","",{"$f":"COUNTIF(DT$108:DT121,OK)+COUNTIF(DT$108:DT121,RDGfix)+COUNTIF(DT$108:DT121,RDGave)+COUNTIF(DT$108:DT121,RDGevent)+DV$82-1","v":0},null,"","",{"$f":"COUNTIF(DX$108:DX121,OK)+COUNTIF(DX$108:DX121,RDGfix)+COUNTIF(DX$108:DX121,RDGave)+COUNTIF(DX$108:DX121,RDGevent)+DZ$82-1","v":0},null,"","",{"$f":"COUNTIF(EB$108:EB121,OK)+COUNTIF(EB$108:EB121,RDGfix)+COUNTIF(EB$108:EB121,RDGave)+COUNTIF(EB$108:EB121,RDGevent)+ED$82-1","v":0},null,"","",{"$f":"COUNTIF(EF$108:EF121,OK)+COUNTIF(EF$108:EF121,RDGfix)+COUNTIF(EF$108:EF121,RDGave)+COUNTIF(EF$108:EF121,RDGevent)+EH$82-1","v":0},null,"","",{"$f":"COUNTIF(EJ$108:EJ121,OK)+COUNTIF(EJ$108:EJ121,RDGfix)+COUNTIF(EJ$108:EJ121,RDGave)+COUNTIF(EJ$108:EJ121,RDGevent)+EL$82-1","v":0},null,"","",{"$f":"COUNTIF(EN$108:EN121,OK)+COUNTIF(EN$108:EN121,RDGfix)+COUNTIF(EN$108:EN121,RDGave)+COUNTIF(EN$108:EN121,RDGevent)+EP$82-1","v":0},null,"","",{"$f":"COUNTIF(ER$108:ER121,OK)+COUNTIF(ER$108:ER121,RDGfix)+COUNTIF(ER$108:ER121,RDGave)+COUNTIF(ER$108:ER121,RDGevent)+ET$82-1","v":0},null,"","",{"$f":"COUNTIF(EV$108:EV121,OK)+COUNTIF(EV$108:EV121,RDGfix)+COUNTIF(EV$108:EV121,RDGave)+COUNTIF(EV$108:EV121,RDGevent)+EX$82-1","v":0},null,"","",{"$f":"COUNTIF(EZ$108:EZ121,OK)+COUNTIF(EZ$108:EZ121,RDGfix)+COUNTIF(EZ$108:EZ121,RDGave)+COUNTIF(EZ$108:EZ121,RDGevent)+FB$82-1","v":0},null,"","",{"$f":"COUNTIF(FD$108:FD121,OK)+COUNTIF(FD$108:FD121,RDGfix)+COUNTIF(FD$108:FD121,RDGave)+COUNTIF(FD$108:FD121,RDGevent)+FF$82-1","v":0},null,"","",{"$f":"COUNTIF(FH$108:FH121,OK)+COUNTIF(FH$108:FH121,RDGfix)+COUNTIF(FH$108:FH121,RDGave)+COUNTIF(FH$108:FH121,RDGevent)+FJ$82-1","v":0}]
[null,"15th",null,"","",{"$f":"COUNTIF(D$108:D122,OK)+COUNTIF(D$108:D122,RDGfix)+COUNTIF(D$108:D122,RDGave)+COUNTIF(D$108:D122,RDGevent)","v":0},null,"","",{"$f":"COUNTIF(H$108:H122,OK)+COUNTIF(H$108:H122,RDGfix)+COUNTIF(H$108:H122,RDGave)+COUNTIF(H$108:H122,RDGevent)+J$82-1","v":0},null,"","",{"$f":"COUNTIF(L$108:L122,OK)+COUNTIF(L$108:L122,RDGfix)+COUNTIF(L$108:L122,RDGave)+COUNTIF(L$108:L122,RDGevent)+N$82-1","v":0},null,"","",{"$f":"COUNTIF(P$108:P122,OK)+COUNTIF(P$108:P122,RDGfix)+COUNTIF(P$108:P122,RDGave)+COUNTIF(P$108:P122,RDGevent)+R$82-1","v":0},null,"","",{"$f":"COUNTIF(T$108:T122,OK)+COUNTIF(T$108:T122,RDGfix)+COUNTIF(T$108:T122,RDGave)+COUNTIF(T$108:T122,RDGevent)+V$82-1","v":0},null,"","",{"$f":"COUNTIF(X$108:X122,OK)+COUNTIF(X$108:X122,RDGfix)+COUNTIF(X$108:X122,RDGave)+COUNTIF(X$108:X122,RDGevent)+Z$82-1","v":0},null,"","",{"$f":"COUNTIF(AB$108:AB122,OK)+COUNTIF(AB$108:AB122,RDGfix)+COUNTIF(AB$108:AB122,RDGave)+COUNTIF(AB$108:AB122,RDGevent)+AD$82-1","v":0},null,"","",{"$f":"COUNTIF(AF$108:AF122,OK)+COUNTIF(AF$108:AF122,RDGfix)+COUNTIF(AF$108:AF122,RDGave)+COUNTIF(AF$108:AF122,RDGevent)+AH$82-1","v":0},null,"","",{"$f":"COUNTIF(AJ$108:AJ122,OK)+COUNTIF(AJ$108:AJ122,RDGfix)+COUNTIF(AJ$108:AJ122,RDGave)+COUNTIF(AJ$108:AJ122,RDGevent)+AL$82-1","v":0},null,"","",{"$f":"COUNTIF(AN$108:AN122,OK)+COUNTIF(AN$108:AN122,RDGfix)+COUNTIF(AN$108:AN122,RDGave)+COUNTIF(AN$108:AN122,RDGevent)+AP$82-1","v":0},null,"","",{"$f":"COUNTIF(AR$108:AR122,OK)+COUNTIF(AR$108:AR122,RDGfix)+COUNTIF(AR$108:AR122,RDGave)+COUNTIF(AR$108:AR122,RDGevent)+AT$82-1","v":0},null,"","",{"$f":"COUNTIF(AV$108:AV122,OK)+COUNTIF(AV$108:AV122,RDGfix)+COUNTIF(AV$108:AV122,RDGave)+COUNTIF(AV$108:AV122,RDGevent)+AX$82-1","v":0},null,"","",{"$f":"COUNTIF(AZ$108:AZ122,OK)+COUNTIF(AZ$108:AZ122,RDGfix)+COUNTIF(AZ$108:AZ122,RDGave)+COUNTIF(AZ$108:AZ122,RDGevent)+BB$82-1","v":0},null,"","",{"$f":"COUNTIF(BD$108:BD122,OK)+COUNTIF(BD$108:BD122,RDGfix)+COUNTIF(BD$108:BD122,RDGave)+COUNTIF(BD$108:BD122,RDGevent)+BF$82-1","v":0},null,"","",{"$f":"COUNTIF(BH$108:BH122,OK)+COUNTIF(BH$108:BH122,RDGfix)+COUNTIF(BH$108:BH122,RDGave)+COUNTIF(BH$108:BH122,RDGevent)+BJ$82-1","v":0},null,"","",{"$f":"COUNTIF(BL$108:BL122,OK)+COUNTIF(BL$108:BL122,RDGfix)+COUNTIF(BL$108:BL122,RDGave)+COUNTIF(BL$108:BL122,RDGevent)+BN$82-1","v":0},null,"","",{"$f":"COUNTIF(BP$108:BP122,OK)+COUNTIF(BP$108:BP122,RDGfix)+COUNTIF(BP$108:BP122,RDGave)+COUNTIF(BP$108:BP122,RDGevent)+BR$82-1","v":0},null,"","",{"$f":"COUNTIF(BT$108:BT122,OK)+COUNTIF(BT$108:BT122,RDGfix)+COUNTIF(BT$108:BT122,RDGave)+COUNTIF(BT$108:BT122,RDGevent)+BV$82-1","v":0},null,"","",{"$f":"COUNTIF(BX$108:BX122,OK)+COUNTIF(BX$108:BX122,RDGfix)+COUNTIF(BX$108:BX122,RDGave)+COUNTIF(BX$108:BX122,RDGevent)+BZ$82-1","v":0},null,"","",{"$f":"COUNTIF(CB$108:CB122,OK)+COUNTIF(CB$108:CB122,RDGfix)+COUNTIF(CB$108:CB122,RDGave)+COUNTIF(CB$108:CB122,RDGevent)+CD$82-1","v":0},null,"","",{"$f":"COUNTIF(CF$108:CF122,OK)+COUNTIF(CF$108:CF122,RDGfix)+COUNTIF(CF$108:CF122,RDGave)+COUNTIF(CF$108:CF122,RDGevent)+CH$82-1","v":0},null,"","",{"$f":"COUNTIF(CJ$108:CJ122,OK)+COUNTIF(CJ$108:CJ122,RDGfix)+COUNTIF(CJ$108:CJ122,RDGave)+COUNTIF(CJ$108:CJ122,RDGevent)+CL$82-1","v":0},null,"","",{"$f":"COUNTIF(CN$108:CN122,OK)+COUNTIF(CN$108:CN122,RDGfix)+COUNTIF(CN$108:CN122,RDGave)+COUNTIF(CN$108:CN122,RDGevent)+CP$82-1","v":0},null,"","",{"$f":"COUNTIF(CR$108:CR122,OK)+COUNTIF(CR$108:CR122,RDGfix)+COUNTIF(CR$108:CR122,RDGave)+COUNTIF(CR$108:CR122,RDGevent)+CT$82-1","v":0},null,"","",{"$f":"COUNTIF(CV$108:CV122,OK)+COUNTIF(CV$108:CV122,RDGfix)+COUNTIF(CV$108:CV122,RDGave)+COUNTIF(CV$108:CV122,RDGevent)+CX$82-1","v":0},null,"","",{"$f":"COUNTIF(CZ$108:CZ122,OK)+COUNTIF(CZ$108:CZ122,RDGfix)+COUNTIF(CZ$108:CZ122,RDGave)+COUNTIF(CZ$108:CZ122,RDGevent)+DB$82-1","v":0},null,"","",{"$f":"COUNTIF(DD$108:DD122,OK)+COUNTIF(DD$108:DD122,RDGfix)+COUNTIF(DD$108:DD122,RDGave)+COUNTIF(DD$108:DD122,RDGevent)+DF$82-1","v":0},null,"","",{"$f":"COUNTIF(DH$108:DH122,OK)+COUNTIF(DH$108:DH122,RDGfix)+COUNTIF(DH$108:DH122,RDGave)+COUNTIF(DH$108:DH122,RDGevent)+DJ$82-1","v":0},null,"","",{"$f":"COUNTIF(DL$108:DL122,OK)+COUNTIF(DL$108:DL122,RDGfix)+COUNTIF(DL$108:DL122,RDGave)+COUNTIF(DL$108:DL122,RDGevent)+DN$82-1","v":0},null,"","",{"$f":"COUNTIF(DP$108:DP122,OK)+COUNTIF(DP$108:DP122,RDGfix)+COUNTIF(DP$108:DP122,RDGave)+COUNTIF(DP$108:DP122,RDGevent)+DR$82-1","v":0},null,"","",{"$f":"COUNTIF(DT$108:DT122,OK)+COUNTIF(DT$108:DT122,RDGfix)+COUNTIF(DT$108:DT122,RDGave)+COUNTIF(DT$108:DT122,RDGevent)+DV$82-1","v":0},null,"","",{"$f":"COUNTIF(DX$108:DX122,OK)+COUNTIF(DX$108:DX122,RDGfix)+COUNTIF(DX$108:DX122,RDGave)+COUNTIF(DX$108:DX122,RDGevent)+DZ$82-1","v":0},null,"","",{"$f":"COUNTIF(EB$108:EB122,OK)+COUNTIF(EB$108:EB122,RDGfix)+COUNTIF(EB$108:EB122,RDGave)+COUNTIF(EB$108:EB122,RDGevent)+ED$82-1","v":0},null,"","",{"$f":"COUNTIF(EF$108:EF122,OK)+COUNTIF(EF$108:EF122,RDGfix)+COUNTIF(EF$108:EF122,RDGave)+COUNTIF(EF$108:EF122,RDGevent)+EH$82-1","v":0},null,"","",{"$f":"COUNTIF(EJ$108:EJ122,OK)+COUNTIF(EJ$108:EJ122,RDGfix)+COUNTIF(EJ$108:EJ122,RDGave)+COUNTIF(EJ$108:EJ122,RDGevent)+EL$82-1","v":0},null,"","",{"$f":"COUNTIF(EN$108:EN122,OK)+COUNTIF(EN$108:EN122,RDGfix)+COUNTIF(EN$108:EN122,RDGave)+COUNTIF(EN$108:EN122,RDGevent)+EP$82-1","v":0},null,"","",{"$f":"COUNTIF(ER$108:ER122,OK)+COUNTIF(ER$108:ER122,RDGfix)+COUNTIF(ER$108:ER122,RDGave)+COUNTIF(ER$108:ER122,RDGevent)+ET$82-1","v":0},null,"","",{"$f":"COUNTIF(EV$108:EV122,OK)+COUNTIF(EV$108:EV122,RDGfix)+COUNTIF(EV$108:EV122,RDGave)+COUNTIF(EV$108:EV122,RDGevent)+EX$82-1","v":0},null,"","",{"$f":"COUNTIF(EZ$108:EZ122,OK)+COUNTIF(EZ$108:EZ122,RDGfix)+COUNTIF(EZ$108:EZ122,RDGave)+COUNTIF(EZ$108:EZ122,RDGevent)+FB$82-1","v":0},null,"","",{"$f":"COUNTIF(FD$108:FD122,OK)+COUNTIF(FD$108:FD122,RDGfix)+COUNTIF(FD$108:FD122,RDGave)+COUNTIF(FD$108:FD122,RDGevent)+FF$82-1","v":0},null,"","",{"$f":"COUNTIF(FH$108:FH122,OK)+COUNTIF(FH$108:FH122,RDGfix)+COUNTIF(FH$108:FH122,RDGave)+COUNTIF(FH$108:FH122,RDGevent)+FJ$82-1","v":0}]
[null,"16th",null,"","",{"$f":"COUNTIF(D$108:D123,OK)+COUNTIF(D$108:D123,RDGfix)+COUNTIF(D$108:D123,RDGave)+COUNTIF(D$108:D123,RDGevent)","v":0},null,"","",{"$f":"COUNTIF(H$108:H123,OK)+COUNTIF(H$108:H123,RDGfix)+COUNTIF(H$108:H123,RDGave)+COUNTIF(H$108:H123,RDGevent)+J$82-1","v":0},null,"","",{"$f":"COUNTIF(L$108:L123,OK)+COUNTIF(L$108:L123,RDGfix)+COUNTIF(L$108:L123,RDGave)+COUNTIF(L$108:L123,RDGevent)+N$82-1","v":0},null,"","",{"$f":"COUNTIF(P$108:P123,OK)+COUNTIF(P$108:P123,RDGfix)+COUNTIF(P$108:P123,RDGave)+COUNTIF(P$108:P123,RDGevent)+R$82-1","v":0},null,"","",{"$f":"COUNTIF(T$108:T123,OK)+COUNTIF(T$108:T123,RDGfix)+COUNTIF(T$108:T123,RDGave)+COUNTIF(T$108:T123,RDGevent)+V$82-1","v":0},null,"","",{"$f":"COUNTIF(X$108:X123,OK)+COUNTIF(X$108:X123,RDGfix)+COUNTIF(X$108:X123,RDGave)+COUNTIF(X$108:X123,RDGevent)+Z$82-1","v":0},null,"","",{"$f":"COUNTIF(AB$108:AB123,OK)+COUNTIF(AB$108:AB123,RDGfix)+COUNTIF(AB$108:AB123,RDGave)+COUNTIF(AB$108:AB123,RDGevent)+AD$82-1","v":0},null,"","",{"$f":"COUNTIF(AF$108:AF123,OK)+COUNTIF(AF$108:AF123,RDGfix)+COUNTIF(AF$108:AF123,RDGave)+COUNTIF(AF$108:AF123,RDGevent)+AH$82-1","v":0},null,"","",{"$f":"COUNTIF(AJ$108:AJ123,OK)+COUNTIF(AJ$108:AJ123,RDGfix)+COUNTIF(AJ$108:AJ123,RDGave)+COUNTIF(AJ$108:AJ123,RDGevent)+AL$82-1","v":0},null,"","",{"$f":"COUNTIF(AN$108:AN123,OK)+COUNTIF(AN$108:AN123,RDGfix)+COUNTIF(AN$108:AN123,RDGave)+COUNTIF(AN$108:AN123,RDGevent)+AP$82-1","v":0},null,"","",{"$f":"COUNTIF(AR$108:AR123,OK)+COUNTIF(AR$108:AR123,RDGfix)+COUNTIF(AR$108:AR123,RDGave)+COUNTIF(AR$108:AR123,RDGevent)+AT$82-1","v":0},null,"","",{"$f":"COUNTIF(AV$108:AV123,OK)+COUNTIF(AV$108:AV123,RDGfix)+COUNTIF(AV$108:AV123,RDGave)+COUNTIF(AV$108:AV123,RDGevent)+AX$82-1","v":0},null,"","",{"$f":"COUNTIF(AZ$108:AZ123,OK)+COUNTIF(AZ$108:AZ123,RDGfix)+COUNTIF(AZ$108:AZ123,RDGave)+COUNTIF(AZ$108:AZ123,RDGevent)+BB$82-1","v":0},null,"","",{"$f":"COUNTIF(BD$108:BD123,OK)+COUNTIF(BD$108:BD123,RDGfix)+COUNTIF(BD$108:BD123,RDGave)+COUNTIF(BD$108:BD123,RDGevent)+BF$82-1","v":0},null,"","",{"$f":"COUNTIF(BH$108:BH123,OK)+COUNTIF(BH$108:BH123,RDGfix)+COUNTIF(BH$108:BH123,RDGave)+COUNTIF(BH$108:BH123,RDGevent)+BJ$82-1","v":0},null,"","",{"$f":"COUNTIF(BL$108:BL123,OK)+COUNTIF(BL$108:BL123,RDGfix)+COUNTIF(BL$108:BL123,RDGave)+COUNTIF(BL$108:BL123,RDGevent)+BN$82-1","v":0},null,"","",{"$f":"COUNTIF(BP$108:BP123,OK)+COUNTIF(BP$108:BP123,RDGfix)+COUNTIF(BP$108:BP123,RDGave)+COUNTIF(BP$108:BP123,RDGevent)+BR$82-1","v":0},null,"","",{"$f":"COUNTIF(BT$108:BT123,OK)+COUNTIF(BT$108:BT123,RDGfix)+COUNTIF(BT$108:BT123,RDGave)+COUNTIF(BT$108:BT123,RDGevent)+BV$82-1","v":0},null,"","",{"$f":"COUNTIF(BX$108:BX123,OK)+COUNTIF(BX$108:BX123,RDGfix)+COUNTIF(BX$108:BX123,RDGave)+COUNTIF(BX$108:BX123,RDGevent)+BZ$82-1","v":0},null,"","",{"$f":"COUNTIF(CB$108:CB123,OK)+COUNTIF(CB$108:CB123,RDGfix)+COUNTIF(CB$108:CB123,RDGave)+COUNTIF(CB$108:CB123,RDGevent)+CD$82-1","v":0},null,"","",{"$f":"COUNTIF(CF$108:CF123,OK)+COUNTIF(CF$108:CF123,RDGfix)+COUNTIF(CF$108:CF123,RDGave)+COUNTIF(CF$108:CF123,RDGevent)+CH$82-1","v":0},null,"","",{"$f":"COUNTIF(CJ$108:CJ123,OK)+COUNTIF(CJ$108:CJ123,RDGfix)+COUNTIF(CJ$108:CJ123,RDGave)+COUNTIF(CJ$108:CJ123,RDGevent)+CL$82-1","v":0},null,"","",{"$f":"COUNTIF(CN$108:CN123,OK)+COUNTIF(CN$108:CN123,RDGfix)+COUNTIF(CN$108:CN123,RDGave)+COUNTIF(CN$108:CN123,RDGevent)+CP$82-1","v":0},null,"","",{"$f":"COUNTIF(CR$108:CR123,OK)+COUNTIF(CR$108:CR123,RDGfix)+COUNTIF(CR$108:CR123,RDGave)+COUNTIF(CR$108:CR123,RDGevent)+CT$82-1","v":0},null,"","",{"$f":"COUNTIF(CV$108:CV123,OK)+COUNTIF(CV$108:CV123,RDGfix)+COUNTIF(CV$108:CV123,RDGave)+COUNTIF(CV$108:CV123,RDGevent)+CX$82-1","v":0},null,"","",{"$f":"COUNTIF(CZ$108:CZ123,OK)+COUNTIF(CZ$108:CZ123,RDGfix)+COUNTIF(CZ$108:CZ123,RDGave)+COUNTIF(CZ$108:CZ123,RDGevent)+DB$82-1","v":0},null,"","",{"$f":"COUNTIF(DD$108:DD123,OK)+COUNTIF(DD$108:DD123,RDGfix)+COUNTIF(DD$108:DD123,RDGave)+COUNTIF(DD$108:DD123,RDGevent)+DF$82-1","v":0},null,"","",{"$f":"COUNTIF(DH$108:DH123,OK)+COUNTIF(DH$108:DH123,RDGfix)+COUNTIF(DH$108:DH123,RDGave)+COUNTIF(DH$108:DH123,RDGevent)+DJ$82-1","v":0},null,"","",{"$f":"COUNTIF(DL$108:DL123,OK)+COUNTIF(DL$108:DL123,RDGfix)+COUNTIF(DL$108:DL123,RDGave)+COUNTIF(DL$108:DL123,RDGevent)+DN$82-1","v":0},null,"","",{"$f":"COUNTIF(DP$108:DP123,OK)+COUNTIF(DP$108:DP123,RDGfix)+COUNTIF(DP$108:DP123,RDGave)+COUNTIF(DP$108:DP123,RDGevent)+DR$82-1","v":0},null,"","",{"$f":"COUNTIF(DT$108:DT123,OK)+COUNTIF(DT$108:DT123,RDGfix)+COUNTIF(DT$108:DT123,RDGave)+COUNTIF(DT$108:DT123,RDGevent)+DV$82-1","v":0},null,"","",{"$f":"COUNTIF(DX$108:DX123,OK)+COUNTIF(DX$108:DX123,RDGfix)+COUNTIF(DX$108:DX123,RDGave)+COUNTIF(DX$108:DX123,RDGevent)+DZ$82-1","v":0},null,"","",{"$f":"COUNTIF(EB$108:EB123,OK)+COUNTIF(EB$108:EB123,RDGfix)+COUNTIF(EB$108:EB123,RDGave)+COUNTIF(EB$108:EB123,RDGevent)+ED$82-1","v":0},null,"","",{"$f":"COUNTIF(EF$108:EF123,OK)+COUNTIF(EF$108:EF123,RDGfix)+COUNTIF(EF$108:EF123,RDGave)+COUNTIF(EF$108:EF123,RDGevent)+EH$82-1","v":0},null,"","",{"$f":"COUNTIF(EJ$108:EJ123,OK)+COUNTIF(EJ$108:EJ123,RDGfix)+COUNTIF(EJ$108:EJ123,RDGave)+COUNTIF(EJ$108:EJ123,RDGevent)+EL$82-1","v":0},null,"","",{"$f":"COUNTIF(EN$108:EN123,OK)+COUNTIF(EN$108:EN123,RDGfix)+COUNTIF(EN$108:EN123,RDGave)+COUNTIF(EN$108:EN123,RDGevent)+EP$82-1","v":0},null,"","",{"$f":"COUNTIF(ER$108:ER123,OK)+COUNTIF(ER$108:ER123,RDGfix)+COUNTIF(ER$108:ER123,RDGave)+COUNTIF(ER$108:ER123,RDGevent)+ET$82-1","v":0},null,"","",{"$f":"COUNTIF(EV$108:EV123,OK)+COUNTIF(EV$108:EV123,RDGfix)+COUNTIF(EV$108:EV123,RDGave)+COUNTIF(EV$108:EV123,RDGevent)+EX$82-1","v":0},null,"","",{"$f":"COUNTIF(EZ$108:EZ123,OK)+COUNTIF(EZ$108:EZ123,RDGfix)+COUNTIF(EZ$108:EZ123,RDGave)+COUNTIF(EZ$108:EZ123,RDGevent)+FB$82-1","v":0},null,"","",{"$f":"COUNTIF(FD$108:FD123,OK)+COUNTIF(FD$108:FD123,RDGfix)+COUNTIF(FD$108:FD123,RDGave)+COUNTIF(FD$108:FD123,RDGevent)+FF$82-1","v":0},null,"","",{"$f":"COUNTIF(FH$108:FH123,OK)+COUNTIF(FH$108:FH123,RDGfix)+COUNTIF(FH$108:FH123,RDGave)+COUNTIF(FH$108:FH123,RDGevent)+FJ$82-1","v":0}]
[null,"17th",null,"","",{"$f":"COUNTIF(D$108:D124,OK)+COUNTIF(D$108:D124,RDGfix)+COUNTIF(D$108:D124,RDGave)+COUNTIF(D$108:D124,RDGevent)","v":0},null,"","",{"$f":"COUNTIF(H$108:H124,OK)+COUNTIF(H$108:H124,RDGfix)+COUNTIF(H$108:H124,RDGave)+COUNTIF(H$108:H124,RDGevent)+J$82-1","v":0},null,"","",{"$f":"COUNTIF(L$108:L124,OK)+COUNTIF(L$108:L124,RDGfix)+COUNTIF(L$108:L124,RDGave)+COUNTIF(L$108:L124,RDGevent)+N$82-1","v":0},null,"","",{"$f":"COUNTIF(P$108:P124,OK)+COUNTIF(P$108:P124,RDGfix)+COUNTIF(P$108:P124,RDGave)+COUNTIF(P$108:P124,RDGevent)+R$82-1","v":0},null,"","",{"$f":"COUNTIF(T$108:T124,OK)+COUNTIF(T$108:T124,RDGfix)+COUNTIF(T$108:T124,RDGave)+COUNTIF(T$108:T124,RDGevent)+V$82-1","v":0},null,"","",{"$f":"COUNTIF(X$108:X124,OK)+COUNTIF(X$108:X124,RDGfix)+COUNTIF(X$108:X124,RDGave)+COUNTIF(X$108:X124,RDGevent)+Z$82-1","v":0},null,"","",{"$f":"COUNTIF(AB$108:AB124,OK)+COUNTIF(AB$108:AB124,RDGfix)+COUNTIF(AB$108:AB124,RDGave)+COUNTIF(AB$108:AB124,RDGevent)+AD$82-1","v":0},null,"","",{"$f":"COUNTIF(AF$108:AF124,OK)+COUNTIF(AF$108:AF124,RDGfix)+COUNTIF(AF$108:AF124,RDGave)+COUNTIF(AF$108:AF124,RDGevent)+AH$82-1","v":0},null,"","",{"$f":"COUNTIF(AJ$108:AJ124,OK)+COUNTIF(AJ$108:AJ124,RDGfix)+COUNTIF(AJ$108:AJ124,RDGave)+COUNTIF(AJ$108:AJ124,RDGevent)+AL$82-1","v":0},null,"","",{"$f":"COUNTIF(AN$108:AN124,OK)+COUNTIF(AN$108:AN124,RDGfix)+COUNTIF(AN$108:AN124,RDGave)+COUNTIF(AN$108:AN124,RDGevent)+AP$82-1","v":0},null,"","",{"$f":"COUNTIF(AR$108:AR124,OK)+COUNTIF(AR$108:AR124,RDGfix)+COUNTIF(AR$108:AR124,RDGave)+COUNTIF(AR$108:AR124,RDGevent)+AT$82-1","v":0},null,"","",{"$f":"COUNTIF(AV$108:AV124,OK)+COUNTIF(AV$108:AV124,RDGfix)+COUNTIF(AV$108:AV124,RDGave)+COUNTIF(AV$108:AV124,RDGevent)+AX$82-1","v":0},null,"","",{"$f":"COUNTIF(AZ$108:AZ124,OK)+COUNTIF(AZ$108:AZ124,RDGfix)+COUNTIF(AZ$108:AZ124,RDGave)+COUNTIF(AZ$108:AZ124,RDGevent)+BB$82-1","v":0},null,"","",{"$f":"COUNTIF(BD$108:BD124,OK)+COUNTIF(BD$108:BD124,RDGfix)+COUNTIF(BD$108:BD124,RDGave)+COUNTIF(BD$108:BD124,RDGevent)+BF$82-1","v":0},null,"","",{"$f":"COUNTIF(BH$108:BH124,OK)+COUNTIF(BH$108:BH124,RDGfix)+COUNTIF(BH$108:BH124,RDGave)+COUNTIF(BH$108:BH124,RDGevent)+BJ$82-1","v":0},null,"","",{"$f":"COUNTIF(BL$108:BL124,OK)+COUNTIF(BL$108:BL124,RDGfix)+COUNTIF(BL$108:BL124,RDGave)+COUNTIF(BL$108:BL124,RDGevent)+BN$82-1","v":0},null,"","",{"$f":"COUNTIF(BP$108:BP124,OK)+COUNTIF(BP$108:BP124,RDGfix)+COUNTIF(BP$108:BP124,RDGave)+COUNTIF(BP$108:BP124,RDGevent)+BR$82-1","v":0},null,"","",{"$f":"COUNTIF(BT$108:BT124,OK)+COUNTIF(BT$108:BT124,RDGfix)+COUNTIF(BT$108:BT124,RDGave)+COUNTIF(BT$108:BT124,RDGevent)+BV$82-1","v":0},null,"","",{"$f":"COUNTIF(BX$108:BX124,OK)+COUNTIF(BX$108:BX124,RDGfix)+COUNTIF(BX$108:BX124,RDGave)+COUNTIF(BX$108:BX124,RDGevent)+BZ$82-1","v":0},null,"","",{"$f":"COUNTIF(CB$108:CB124,OK)+COUNTIF(CB$108:CB124,RDGfix)+COUNTIF(CB$108:CB124,RDGave)+COUNTIF(CB$108:CB124,RDGevent)+CD$82-1","v":0},null,"","",{"$f":"COUNTIF(CF$108:CF124,OK)+COUNTIF(CF$108:CF124,RDGfix)+COUNTIF(CF$108:CF124,RDGave)+COUNTIF(CF$108:CF124,RDGevent)+CH$82-1","v":0},null,"","",{"$f":"COUNTIF(CJ$108:CJ124,OK)+COUNTIF(CJ$108:CJ124,RDGfix)+COUNTIF(CJ$108:CJ124,RDGave)+COUNTIF(CJ$108:CJ124,RDGevent)+CL$82-1","v":0},null,"","",{"$f":"COUNTIF(CN$108:CN124,OK)+COUNTIF(CN$108:CN124,RDGfix)+COUNTIF(CN$108:CN124,RDGave)+COUNTIF(CN$108:CN124,RDGevent)+CP$82-1","v":0},null,"","",{"$f":"COUNTIF(CR$108:CR124,OK)+COUNTIF(CR$108:CR124,RDGfix)+COUNTIF(CR$108:CR124,RDGave)+COUNTIF(CR$108:CR124,RDGevent)+CT$82-1","v":0},null,"","",{"$f":"COUNTIF(CV$108:CV124,OK)+COUNTIF(CV$108:CV124,RDGfix)+COUNTIF(CV$108:CV124,RDGave)+COUNTIF(CV$108:CV124,RDGevent)+CX$82-1","v":0},null,"","",{"$f":"COUNTIF(CZ$108:CZ124,OK)+COUNTIF(CZ$108:CZ124,RDGfix)+COUNTIF(CZ$108:CZ124,RDGave)+COUNTIF(CZ$108:CZ124,RDGevent)+DB$82-1","v":0},null,"","",{"$f":"COUNTIF(DD$108:DD124,OK)+COUNTIF(DD$108:DD124,RDGfix)+COUNTIF(DD$108:DD124,RDGave)+COUNTIF(DD$108:DD124,RDGevent)+DF$82-1","v":0},null,"","",{"$f":"COUNTIF(DH$108:DH124,OK)+COUNTIF(DH$108:DH124,RDGfix)+COUNTIF(DH$108:DH124,RDGave)+COUNTIF(DH$108:DH124,RDGevent)+DJ$82-1","v":0},null,"","",{"$f":"COUNTIF(DL$108:DL124,OK)+COUNTIF(DL$108:DL124,RDGfix)+COUNTIF(DL$108:DL124,RDGave)+COUNTIF(DL$108:DL124,RDGevent)+DN$82-1","v":0},null,"","",{"$f":"COUNTIF(DP$108:DP124,OK)+COUNTIF(DP$108:DP124,RDGfix)+COUNTIF(DP$108:DP124,RDGave)+COUNTIF(DP$108:DP124,RDGevent)+DR$82-1","v":0},null,"","",{"$f":"COUNTIF(DT$108:DT124,OK)+COUNTIF(DT$108:DT124,RDGfix)+COUNTIF(DT$108:DT124,RDGave)+COUNTIF(DT$108:DT124,RDGevent)+DV$82-1","v":0},null,"","",{"$f":"COUNTIF(DX$108:DX124,OK)+COUNTIF(DX$108:DX124,RDGfix)+COUNTIF(DX$108:DX124,RDGave)+COUNTIF(DX$108:DX124,RDGevent)+DZ$82-1","v":0},null,"","",{"$f":"COUNTIF(EB$108:EB124,OK)+COUNTIF(EB$108:EB124,RDGfix)+COUNTIF(EB$108:EB124,RDGave)+COUNTIF(EB$108:EB124,RDGevent)+ED$82-1","v":0},null,"","",{"$f":"COUNTIF(EF$108:EF124,OK)+COUNTIF(EF$108:EF124,RDGfix)+COUNTIF(EF$108:EF124,RDGave)+COUNTIF(EF$108:EF124,RDGevent)+EH$82-1","v":0},null,"","",{"$f":"COUNTIF(EJ$108:EJ124,OK)+COUNTIF(EJ$108:EJ124,RDGfix)+COUNTIF(EJ$108:EJ124,RDGave)+COUNTIF(EJ$108:EJ124,RDGevent)+EL$82-1","v":0},null,"","",{"$f":"COUNTIF(EN$108:EN124,OK)+COUNTIF(EN$108:EN124,RDGfix)+COUNTIF(EN$108:EN124,RDGave)+COUNTIF(EN$108:EN124,RDGevent)+EP$82-1","v":0},null,"","",{"$f":"COUNTIF(ER$108:ER124,OK)+COUNTIF(ER$108:ER124,RDGfix)+COUNTIF(ER$108:ER124,RDGave)+COUNTIF(ER$108:ER124,RDGevent)+ET$82-1","v":0},null,"","",{"$f":"COUNTIF(EV$108:EV124,OK)+COUNTIF(EV$108:EV124,RDGfix)+COUNTIF(EV$108:EV124,RDGave)+COUNTIF(EV$108:EV124,RDGevent)+EX$82-1","v":0},null,"","",{"$f":"COUNTIF(EZ$108:EZ124,OK)+COUNTIF(EZ$108:EZ124,RDGfix)+COUNTIF(EZ$108:EZ124,RDGave)+COUNTIF(EZ$108:EZ124,RDGevent)+FB$82-1","v":0},null,"","",{"$f":"COUNTIF(FD$108:FD124,OK)+COUNTIF(FD$108:FD124,RDGfix)+COUNTIF(FD$108:FD124,RDGave)+COUNTIF(FD$108:FD124,RDGevent)+FF$82-1","v":0},null,"","",{"$f":"COUNTIF(FH$108:FH124,OK)+COUNTIF(FH$108:FH124,RDGfix)+COUNTIF(FH$108:FH124,RDGave)+COUNTIF(FH$108:FH124,RDGevent)+FJ$82-1","v":0}]
[null,"18th",null,"","",{"$f":"COUNTIF(D$108:D125,OK)+COUNTIF(D$108:D125,RDGfix)+COUNTIF(D$108:D125,RDGave)+COUNTIF(D$108:D125,RDGevent)","v":0},null,"","",{"$f":"COUNTIF(H$108:H125,OK)+COUNTIF(H$108:H125,RDGfix)+COUNTIF(H$108:H125,RDGave)+COUNTIF(H$108:H125,RDGevent)+J$82-1","v":0},null,"","",{"$f":"COUNTIF(L$108:L125,OK)+COUNTIF(L$108:L125,RDGfix)+COUNTIF(L$108:L125,RDGave)+COUNTIF(L$108:L125,RDGevent)+N$82-1","v":0},null,"","",{"$f":"COUNTIF(P$108:P125,OK)+COUNTIF(P$108:P125,RDGfix)+COUNTIF(P$108:P125,RDGave)+COUNTIF(P$108:P125,RDGevent)+R$82-1","v":0},null,"","",{"$f":"COUNTIF(T$108:T125,OK)+COUNTIF(T$108:T125,RDGfix)+COUNTIF(T$108:T125,RDGave)+COUNTIF(T$108:T125,RDGevent)+V$82-1","v":0},null,"","",{"$f":"COUNTIF(X$108:X125,OK)+COUNTIF(X$108:X125,RDGfix)+COUNTIF(X$108:X125,RDGave)+COUNTIF(X$108:X125,RDGevent)+Z$82-1","v":0},null,"","",{"$f":"COUNTIF(AB$108:AB125,OK)+COUNTIF(AB$108:AB125,RDGfix)+COUNTIF(AB$108:AB125,RDGave)+COUNTIF(AB$108:AB125,RDGevent)+AD$82-1","v":0},null,"","",{"$f":"COUNTIF(AF$108:AF125,OK)+COUNTIF(AF$108:AF125,RDGfix)+COUNTIF(AF$108:AF125,RDGave)+COUNTIF(AF$108:AF125,RDGevent)+AH$82-1","v":0},null,"","",{"$f":"COUNTIF(AJ$108:AJ125,OK)+COUNTIF(AJ$108:AJ125,RDGfix)+COUNTIF(AJ$108:AJ125,RDGave)+COUNTIF(AJ$108:AJ125,RDGevent)+AL$82-1","v":0},null,"","",{"$f":"COUNTIF(AN$108:AN125,OK)+COUNTIF(AN$108:AN125,RDGfix)+COUNTIF(AN$108:AN125,RDGave)+COUNTIF(AN$108:AN125,RDGevent)+AP$82-1","v":0},null,"","",{"$f":"COUNTIF(AR$108:AR125,OK)+COUNTIF(AR$108:AR125,RDGfix)+COUNTIF(AR$108:AR125,RDGave)+COUNTIF(AR$108:AR125,RDGevent)+AT$82-1","v":0},null,"","",{"$f":"COUNTIF(AV$108:AV125,OK)+COUNTIF(AV$108:AV125,RDGfix)+COUNTIF(AV$108:AV125,RDGave)+COUNTIF(AV$108:AV125,RDGevent)+AX$82-1","v":0},null,"","",{"$f":"COUNTIF(AZ$108:AZ125,OK)+COUNTIF(AZ$108:AZ125,RDGfix)+COUNTIF(AZ$108:AZ125,RDGave)+COUNTIF(AZ$108:AZ125,RDGevent)+BB$82-1","v":0},null,"","",{"$f":"COUNTIF(BD$108:BD125,OK)+COUNTIF(BD$108:BD125,RDGfix)+COUNTIF(BD$108:BD125,RDGave)+COUNTIF(BD$108:BD125,RDGevent)+BF$82-1","v":0},null,"","",{"$f":"COUNTIF(BH$108:BH125,OK)+COUNTIF(BH$108:BH125,RDGfix)+COUNTIF(BH$108:BH125,RDGave)+COUNTIF(BH$108:BH125,RDGevent)+BJ$82-1","v":0},null,"","",{"$f":"COUNTIF(BL$108:BL125,OK)+COUNTIF(BL$108:BL125,RDGfix)+COUNTIF(BL$108:BL125,RDGave)+COUNTIF(BL$108:BL125,RDGevent)+BN$82-1","v":0},null,"","",{"$f":"COUNTIF(BP$108:BP125,OK)+COUNTIF(BP$108:BP125,RDGfix)+COUNTIF(BP$108:BP125,RDGave)+COUNTIF(BP$108:BP125,RDGevent)+BR$82-1","v":0},null,"","",{"$f":"COUNTIF(BT$108:BT125,OK)+COUNTIF(BT$108:BT125,RDGfix)+COUNTIF(BT$108:BT125,RDGave)+COUNTIF(BT$108:BT125,RDGevent)+BV$82-1","v":0},null,"","",{"$f":"COUNTIF(BX$108:BX125,OK)+COUNTIF(BX$108:BX125,RDGfix)+COUNTIF(BX$108:BX125,RDGave)+COUNTIF(BX$108:BX125,RDGevent)+BZ$82-1","v":0},null,"","",{"$f":"COUNTIF(CB$108:CB125,OK)+COUNTIF(CB$108:CB125,RDGfix)+COUNTIF(CB$108:CB125,RDGave)+COUNTIF(CB$108:CB125,RDGevent)+CD$82-1","v":0},null,"","",{"$f":"COUNTIF(CF$108:CF125,OK)+COUNTIF(CF$108:CF125,RDGfix)+COUNTIF(CF$108:CF125,RDGave)+COUNTIF(CF$108:CF125,RDGevent)+CH$82-1","v":0},null,"","",{"$f":"COUNTIF(CJ$108:CJ125,OK)+COUNTIF(CJ$108:CJ125,RDGfix)+COUNTIF(CJ$108:CJ125,RDGave)+COUNTIF(CJ$108:CJ125,RDGevent)+CL$82-1","v":0},null,"","",{"$f":"COUNTIF(CN$108:CN125,OK)+COUNTIF(CN$108:CN125,RDGfix)+COUNTIF(CN$108:CN125,RDGave)+COUNTIF(CN$108:CN125,RDGevent)+CP$82-1","v":0},null,"","",{"$f":"COUNTIF(CR$108:CR125,OK)+COUNTIF(CR$108:CR125,RDGfix)+COUNTIF(CR$108:CR125,RDGave)+COUNTIF(CR$108:CR125,RDGevent)+CT$82-1","v":0},null,"","",{"$f":"COUNTIF(CV$108:CV125,OK)+COUNTIF(CV$108:CV125,RDGfix)+COUNTIF(CV$108:CV125,RDGave)+COUNTIF(CV$108:CV125,RDGevent)+CX$82-1","v":0},null,"","",{"$f":"COUNTIF(CZ$108:CZ125,OK)+COUNTIF(CZ$108:CZ125,RDGfix)+COUNTIF(CZ$108:CZ125,RDGave)+COUNTIF(CZ$108:CZ125,RDGevent)+DB$82-1","v":0},null,"","",{"$f":"COUNTIF(DD$108:DD125,OK)+COUNTIF(DD$108:DD125,RDGfix)+COUNTIF(DD$108:DD125,RDGave)+COUNTIF(DD$108:DD125,RDGevent)+DF$82-1","v":0},null,"","",{"$f":"COUNTIF(DH$108:DH125,OK)+COUNTIF(DH$108:DH125,RDGfix)+COUNTIF(DH$108:DH125,RDGave)+COUNTIF(DH$108:DH125,RDGevent)+DJ$82-1","v":0},null,"","",{"$f":"COUNTIF(DL$108:DL125,OK)+COUNTIF(DL$108:DL125,RDGfix)+COUNTIF(DL$108:DL125,RDGave)+COUNTIF(DL$108:DL125,RDGevent)+DN$82-1","v":0},null,"","",{"$f":"COUNTIF(DP$108:DP125,OK)+COUNTIF(DP$108:DP125,RDGfix)+COUNTIF(DP$108:DP125,RDGave)+COUNTIF(DP$108:DP125,RDGevent)+DR$82-1","v":0},null,"","",{"$f":"COUNTIF(DT$108:DT125,OK)+COUNTIF(DT$108:DT125,RDGfix)+COUNTIF(DT$108:DT125,RDGave)+COUNTIF(DT$108:DT125,RDGevent)+DV$82-1","v":0},null,"","",{"$f":"COUNTIF(DX$108:DX125,OK)+COUNTIF(DX$108:DX125,RDGfix)+COUNTIF(DX$108:DX125,RDGave)+COUNTIF(DX$108:DX125,RDGevent)+DZ$82-1","v":0},null,"","",{"$f":"COUNTIF(EB$108:EB125,OK)+COUNTIF(EB$108:EB125,RDGfix)+COUNTIF(EB$108:EB125,RDGave)+COUNTIF(EB$108:EB125,RDGevent)+ED$82-1","v":0},null,"","",{"$f":"COUNTIF(EF$108:EF125,OK)+COUNTIF(EF$108:EF125,RDGfix)+COUNTIF(EF$108:EF125,RDGave)+COUNTIF(EF$108:EF125,RDGevent)+EH$82-1","v":0},null,"","",{"$f":"COUNTIF(EJ$108:EJ125,OK)+COUNTIF(EJ$108:EJ125,RDGfix)+COUNTIF(EJ$108:EJ125,RDGave)+COUNTIF(EJ$108:EJ125,RDGevent)+EL$82-1","v":0},null,"","",{"$f":"COUNTIF(EN$108:EN125,OK)+COUNTIF(EN$108:EN125,RDGfix)+COUNTIF(EN$108:EN125,RDGave)+COUNTIF(EN$108:EN125,RDGevent)+EP$82-1","v":0},null,"","",{"$f":"COUNTIF(ER$108:ER125,OK)+COUNTIF(ER$108:ER125,RDGfix)+COUNTIF(ER$108:ER125,RDGave)+COUNTIF(ER$108:ER125,RDGevent)+ET$82-1","v":0},null,"","",{"$f":"COUNTIF(EV$108:EV125,OK)+COUNTIF(EV$108:EV125,RDGfix)+COUNTIF(EV$108:EV125,RDGave)+COUNTIF(EV$108:EV125,RDGevent)+EX$82-1","v":0},null,"","",{"$f":"COUNTIF(EZ$108:EZ125,OK)+COUNTIF(EZ$108:EZ125,RDGfix)+COUNTIF(EZ$108:EZ125,RDGave)+COUNTIF(EZ$108:EZ125,RDGevent)+FB$82-1","v":0},null,"","",{"$f":"COUNTIF(FD$108:FD125,OK)+COUNTIF(FD$108:FD125,RDGfix)+COUNTIF(FD$108:FD125,RDGave)+COUNTIF(FD$108:FD125,RDGevent)+FF$82-1","v":0},null,"","",{"$f":"COUNTIF(FH$108:FH125,OK)+COUNTIF(FH$108:FH125,RDGfix)+COUNTIF(FH$108:FH125,RDGave)+COUNTIF(FH$108:FH125,RDGevent)+FJ$82-1","v":0}]
[null,"19th",null,"","",{"$f":"COUNTIF(D$108:D126,OK)+COUNTIF(D$108:D126,RDGfix)+COUNTIF(D$108:D126,RDGave)+COUNTIF(D$108:D126,RDGevent)","v":0},null,"","",{"$f":"COUNTIF(H$108:H126,OK)+COUNTIF(H$108:H126,RDGfix)+COUNTIF(H$108:H126,RDGave)+COUNTIF(H$108:H126,RDGevent)+J$82-1","v":0},null,"","",{"$f":"COUNTIF(L$108:L126,OK)+COUNTIF(L$108:L126,RDGfix)+COUNTIF(L$108:L126,RDGave)+COUNTIF(L$108:L126,RDGevent)+N$82-1","v":0},null,"","",{"$f":"COUNTIF(P$108:P126,OK)+COUNTIF(P$108:P126,RDGfix)+COUNTIF(P$108:P126,RDGave)+COUNTIF(P$108:P126,RDGevent)+R$82-1","v":0},null,"","",{"$f":"COUNTIF(T$108:T126,OK)+COUNTIF(T$108:T126,RDGfix)+COUNTIF(T$108:T126,RDGave)+COUNTIF(T$108:T126,RDGevent)+V$82-1","v":0},null,"","",{"$f":"COUNTIF(X$108:X126,OK)+COUNTIF(X$108:X126,RDGfix)+COUNTIF(X$108:X126,RDGave)+COUNTIF(X$108:X126,RDGevent)+Z$82-1","v":0},null,"","",{"$f":"COUNTIF(AB$108:AB126,OK)+COUNTIF(AB$108:AB126,RDGfix)+COUNTIF(AB$108:AB126,RDGave)+COUNTIF(AB$108:AB126,RDGevent)+AD$82-1","v":0},null,"","",{"$f":"COUNTIF(AF$108:AF126,OK)+COUNTIF(AF$108:AF126,RDGfix)+COUNTIF(AF$108:AF126,RDGave)+COUNTIF(AF$108:AF126,RDGevent)+AH$82-1","v":0},null,"","",{"$f":"COUNTIF(AJ$108:AJ126,OK)+COUNTIF(AJ$108:AJ126,RDGfix)+COUNTIF(AJ$108:AJ126,RDGave)+COUNTIF(AJ$108:AJ126,RDGevent)+AL$82-1","v":0},null,"","",{"$f":"COUNTIF(AN$108:AN126,OK)+COUNTIF(AN$108:AN126,RDGfix)+COUNTIF(AN$108:AN126,RDGave)+COUNTIF(AN$108:AN126,RDGevent)+AP$82-1","v":0},null,"","",{"$f":"COUNTIF(AR$108:AR126,OK)+COUNTIF(AR$108:AR126,RDGfix)+COUNTIF(AR$108:AR126,RDGave)+COUNTIF(AR$108:AR126,RDGevent)+AT$82-1","v":0},null,"","",{"$f":"COUNTIF(AV$108:AV126,OK)+COUNTIF(AV$108:AV126,RDGfix)+COUNTIF(AV$108:AV126,RDGave)+COUNTIF(AV$108:AV126,RDGevent)+AX$82-1","v":0},null,"","",{"$f":"COUNTIF(AZ$108:AZ126,OK)+COUNTIF(AZ$108:AZ126,RDGfix)+COUNTIF(AZ$108:AZ126,RDGave)+COUNTIF(AZ$108:AZ126,RDGevent)+BB$82-1","v":0},null,"","",{"$f":"COUNTIF(BD$108:BD126,OK)+COUNTIF(BD$108:BD126,RDGfix)+COUNTIF(BD$108:BD126,RDGave)+COUNTIF(BD$108:BD126,RDGevent)+BF$82-1","v":0},null,"","",{"$f":"COUNTIF(BH$108:BH126,OK)+COUNTIF(BH$108:BH126,RDGfix)+COUNTIF(BH$108:BH126,RDGave)+COUNTIF(BH$108:BH126,RDGevent)+BJ$82-1","v":0},null,"","",{"$f":"COUNTIF(BL$108:BL126,OK)+COUNTIF(BL$108:BL126,RDGfix)+COUNTIF(BL$108:BL126,RDGave)+COUNTIF(BL$108:BL126,RDGevent)+BN$82-1","v":0},null,"","",{"$f":"COUNTIF(BP$108:BP126,OK)+COUNTIF(BP$108:BP126,RDGfix)+COUNTIF(BP$108:BP126,RDGave)+COUNTIF(BP$108:BP126,RDGevent)+BR$82-1","v":0},null,"","",{"$f":"COUNTIF(BT$108:BT126,OK)+COUNTIF(BT$108:BT126,RDGfix)+COUNTIF(BT$108:BT126,RDGave)+COUNTIF(BT$108:BT126,RDGevent)+BV$82-1","v":0},null,"","",{"$f":"COUNTIF(BX$108:BX126,OK)+COUNTIF(BX$108:BX126,RDGfix)+COUNTIF(BX$108:BX126,RDGave)+COUNTIF(BX$108:BX126,RDGevent)+BZ$82-1","v":0},null,"","",{"$f":"COUNTIF(CB$108:CB126,OK)+COUNTIF(CB$108:CB126,RDGfix)+COUNTIF(CB$108:CB126,RDGave)+COUNTIF(CB$108:CB126,RDGevent)+CD$82-1","v":0},null,"","",{"$f":"COUNTIF(CF$108:CF126,OK)+COUNTIF(CF$108:CF126,RDGfix)+COUNTIF(CF$108:CF126,RDGave)+COUNTIF(CF$108:CF126,RDGevent)+CH$82-1","v":0},null,"","",{"$f":"COUNTIF(CJ$108:CJ126,OK)+COUNTIF(CJ$108:CJ126,RDGfix)+COUNTIF(CJ$108:CJ126,RDGave)+COUNTIF(CJ$108:CJ126,RDGevent)+CL$82-1","v":0},null,"","",{"$f":"COUNTIF(CN$108:CN126,OK)+COUNTIF(CN$108:CN126,RDGfix)+COUNTIF(CN$108:CN126,RDGave)+COUNTIF(CN$108:CN126,RDGevent)+CP$82-1","v":0},null,"","",{"$f":"COUNTIF(CR$108:CR126,OK)+COUNTIF(CR$108:CR126,RDGfix)+COUNTIF(CR$108:CR126,RDGave)+COUNTIF(CR$108:CR126,RDGevent)+CT$82-1","v":0},null,"","",{"$f":"COUNTIF(CV$108:CV126,OK)+COUNTIF(CV$108:CV126,RDGfix)+COUNTIF(CV$108:CV126,RDGave)+COUNTIF(CV$108:CV126,RDGevent)+CX$82-1","v":0},null,"","",{"$f":"COUNTIF(CZ$108:CZ126,OK)+COUNTIF(CZ$108:CZ126,RDGfix)+COUNTIF(CZ$108:CZ126,RDGave)+COUNTIF(CZ$108:CZ126,RDGevent)+DB$82-1","v":0},null,"","",{"$f":"COUNTIF(DD$108:DD126,OK)+COUNTIF(DD$108:DD126,RDGfix)+COUNTIF(DD$108:DD126,RDGave)+COUNTIF(DD$108:DD126,RDGevent)+DF$82-1","v":0},null,"","",{"$f":"COUNTIF(DH$108:DH126,OK)+COUNTIF(DH$108:DH126,RDGfix)+COUNTIF(DH$108:DH126,RDGave)+COUNTIF(DH$108:DH126,RDGevent)+DJ$82-1","v":0},null,"","",{"$f":"COUNTIF(DL$108:DL126,OK)+COUNTIF(DL$108:DL126,RDGfix)+COUNTIF(DL$108:DL126,RDGave)+COUNTIF(DL$108:DL126,RDGevent)+DN$82-1","v":0},null,"","",{"$f":"COUNTIF(DP$108:DP126,OK)+COUNTIF(DP$108:DP126,RDGfix)+COUNTIF(DP$108:DP126,RDGave)+COUNTIF(DP$108:DP126,RDGevent)+DR$82-1","v":0},null,"","",{"$f":"COUNTIF(DT$108:DT126,OK)+COUNTIF(DT$108:DT126,RDGfix)+COUNTIF(DT$108:DT126,RDGave)+COUNTIF(DT$108:DT126,RDGevent)+DV$82-1","v":0},null,"","",{"$f":"COUNTIF(DX$108:DX126,OK)+COUNTIF(DX$108:DX126,RDGfix)+COUNTIF(DX$108:DX126,RDGave)+COUNTIF(DX$108:DX126,RDGevent)+DZ$82-1","v":0},null,"","",{"$f":"COUNTIF(EB$108:EB126,OK)+COUNTIF(EB$108:EB126,RDGfix)+COUNTIF(EB$108:EB126,RDGave)+COUNTIF(EB$108:EB126,RDGevent)+ED$82-1","v":0},null,"","",{"$f":"COUNTIF(EF$108:EF126,OK)+COUNTIF(EF$108:EF126,RDGfix)+COUNTIF(EF$108:EF126,RDGave)+COUNTIF(EF$108:EF126,RDGevent)+EH$82-1","v":0},null,"","",{"$f":"COUNTIF(EJ$108:EJ126,OK)+COUNTIF(EJ$108:EJ126,RDGfix)+COUNTIF(EJ$108:EJ126,RDGave)+COUNTIF(EJ$108:EJ126,RDGevent)+EL$82-1","v":0},null,"","",{"$f":"COUNTIF(EN$108:EN126,OK)+COUNTIF(EN$108:EN126,RDGfix)+COUNTIF(EN$108:EN126,RDGave)+COUNTIF(EN$108:EN126,RDGevent)+EP$82-1","v":0},null,"","",{"$f":"COUNTIF(ER$108:ER126,OK)+COUNTIF(ER$108:ER126,RDGfix)+COUNTIF(ER$108:ER126,RDGave)+COUNTIF(ER$108:ER126,RDGevent)+ET$82-1","v":0},null,"","",{"$f":"COUNTIF(EV$108:EV126,OK)+COUNTIF(EV$108:EV126,RDGfix)+COUNTIF(EV$108:EV126,RDGave)+COUNTIF(EV$108:EV126,RDGevent)+EX$82-1","v":0},null,"","",{"$f":"COUNTIF(EZ$108:EZ126,OK)+COUNTIF(EZ$108:EZ126,RDGfix)+COUNTIF(EZ$108:EZ126,RDGave)+COUNTIF(EZ$108:EZ126,RDGevent)+FB$82-1","v":0},null,"","",{"$f":"COUNTIF(FD$108:FD126,OK)+COUNTIF(FD$108:FD126,RDGfix)+COUNTIF(FD$108:FD126,RDGave)+COUNTIF(FD$108:FD126,RDGevent)+FF$82-1","v":0},null,"","",{"$f":"COUNTIF(FH$108:FH126,OK)+COUNTIF(FH$108:FH126,RDGfix)+COUNTIF(FH$108:FH126,RDGave)+COUNTIF(FH$108:FH126,RDGevent)+FJ$82-1","v":0}]
[null,"20th",null,"","",{"$f":"COUNTIF(D$108:D127,OK)+COUNTIF(D$108:D127,RDGfix)+COUNTIF(D$108:D127,RDGave)+COUNTIF(D$108:D127,RDGevent)","v":0},null,"","",{"$f":"COUNTIF(H$108:H127,OK)+COUNTIF(H$108:H127,RDGfix)+COUNTIF(H$108:H127,RDGave)+COUNTIF(H$108:H127,RDGevent)+J$82-1","v":0},null,"","",{"$f":"COUNTIF(L$108:L127,OK)+COUNTIF(L$108:L127,RDGfix)+COUNTIF(L$108:L127,RDGave)+COUNTIF(L$108:L127,RDGevent)+N$82-1","v":0},null,"","",{"$f":"COUNTIF(P$108:P127,OK)+COUNTIF(P$108:P127,RDGfix)+COUNTIF(P$108:P127,RDGave)+COUNTIF(P$108:P127,RDGevent)+R$82-1","v":0},null,"","",{"$f":"COUNTIF(T$108:T127,OK)+COUNTIF(T$108:T127,RDGfix)+COUNTIF(T$108:T127,RDGave)+COUNTIF(T$108:T127,RDGevent)+V$82-1","v":0},null,"","",{"$f":"COUNTIF(X$108:X127,OK)+COUNTIF(X$108:X127,RDGfix)+COUNTIF(X$108:X127,RDGave)+COUNTIF(X$108:X127,RDGevent)+Z$82-1","v":0},null,"","",{"$f":"COUNTIF(AB$108:AB127,OK)+COUNTIF(AB$108:AB127,RDGfix)+COUNTIF(AB$108:AB127,RDGave)+COUNTIF(AB$108:AB127,RDGevent)+AD$82-1","v":0},null,"","",{"$f":"COUNTIF(AF$108:AF127,OK)+COUNTIF(AF$108:AF127,RDGfix)+COUNTIF(AF$108:AF127,RDGave)+COUNTIF(AF$108:AF127,RDGevent)+AH$82-1","v":0},null,"","",{"$f":"COUNTIF(AJ$108:AJ127,OK)+COUNTIF(AJ$108:AJ127,RDGfix)+COUNTIF(AJ$108:AJ127,RDGave)+COUNTIF(AJ$108:AJ127,RDGevent)+AL$82-1","v":0},null,"","",{"$f":"COUNTIF(AN$108:AN127,OK)+COUNTIF(AN$108:AN127,RDGfix)+COUNTIF(AN$108:AN127,RDGave)+COUNTIF(AN$108:AN127,RDGevent)+AP$82-1","v":0},null,"","",{"$f":"COUNTIF(AR$108:AR127,OK)+COUNTIF(AR$108:AR127,RDGfix)+COUNTIF(AR$108:AR127,RDGave)+COUNTIF(AR$108:AR127,RDGevent)+AT$82-1","v":0},null,"","",{"$f":"COUNTIF(AV$108:AV127,OK)+COUNTIF(AV$108:AV127,RDGfix)+COUNTIF(AV$108:AV127,RDGave)+COUNTIF(AV$108:AV127,RDGevent)+AX$82-1","v":0},null,"","",{"$f":"COUNTIF(AZ$108:AZ127,OK)+COUNTIF(AZ$108:AZ127,RDGfix)+COUNTIF(AZ$108:AZ127,RDGave)+COUNTIF(AZ$108:AZ127,RDGevent)+BB$82-1","v":0},null,"","",{"$f":"COUNTIF(BD$108:BD127,OK)+COUNTIF(BD$108:BD127,RDGfix)+COUNTIF(BD$108:BD127,RDGave)+COUNTIF(BD$108:BD127,RDGevent)+BF$82-1","v":0},null,"","",{"$f":"COUNTIF(BH$108:BH127,OK)+COUNTIF(BH$108:BH127,RDGfix)+COUNTIF(BH$108:BH127,RDGave)+COUNTIF(BH$108:BH127,RDGevent)+BJ$82-1","v":0},null,"","",{"$f":"COUNTIF(BL$108:BL127,OK)+COUNTIF(BL$108:BL127,RDGfix)+COUNTIF(BL$108:BL127,RDGave)+COUNTIF(BL$108:BL127,RDGevent)+BN$82-1","v":0},null,"","",{"$f":"COUNTIF(BP$108:BP127,OK)+COUNTIF(BP$108:BP127,RDGfix)+COUNTIF(BP$108:BP127,RDGave)+COUNTIF(BP$108:BP127,RDGevent)+BR$82-1","v":0},null,"","",{"$f":"COUNTIF(BT$108:BT127,OK)+COUNTIF(BT$108:BT127,RDGfix)+COUNTIF(BT$108:BT127,RDGave)+COUNTIF(BT$108:BT127,RDGevent)+BV$82-1","v":0},null,"","",{"$f":"COUNTIF(BX$108:BX127,OK)+COUNTIF(BX$108:BX127,RDGfix)+COUNTIF(BX$108:BX127,RDGave)+COUNTIF(BX$108:BX127,RDGevent)+BZ$82-1","v":0},null,"","",{"$f":"COUNTIF(CB$108:CB127,OK)+COUNTIF(CB$108:CB127,RDGfix)+COUNTIF(CB$108:CB127,RDGave)+COUNTIF(CB$108:CB127,RDGevent)+CD$82-1","v":0},null,"","",{"$f":"COUNTIF(CF$108:CF127,OK)+COUNTIF(CF$108:CF127,RDGfix)+COUNTIF(CF$108:CF127,RDGave)+COUNTIF(CF$108:CF127,RDGevent)+CH$82-1","v":0},null,"","",{"$f":"COUNTIF(CJ$108:CJ127,OK)+COUNTIF(CJ$108:CJ127,RDGfix)+COUNTIF(CJ$108:CJ127,RDGave)+COUNTIF(CJ$108:CJ127,RDGevent)+CL$82-1","v":0},null,"","",{"$f":"COUNTIF(CN$108:CN127,OK)+COUNTIF(CN$108:CN127,RDGfix)+COUNTIF(CN$108:CN127,RDGave)+COUNTIF(CN$108:CN127,RDGevent)+CP$82-1","v":0},null,"","",{"$f":"COUNTIF(CR$108:CR127,OK)+COUNTIF(CR$108:CR127,RDGfix)+COUNTIF(CR$108:CR127,RDGave)+COUNTIF(CR$108:CR127,RDGevent)+CT$82-1","v":0},null,"","",{"$f":"COUNTIF(CV$108:CV127,OK)+COUNTIF(CV$108:CV127,RDGfix)+COUNTIF(CV$108:CV127,RDGave)+COUNTIF(CV$108:CV127,RDGevent)+CX$82-1","v":0},null,"","",{"$f":"COUNTIF(CZ$108:CZ127,OK)+COUNTIF(CZ$108:CZ127,RDGfix)+COUNTIF(CZ$108:CZ127,RDGave)+COUNTIF(CZ$108:CZ127,RDGevent)+DB$82-1","v":0},null,"","",{"$f":"COUNTIF(DD$108:DD127,OK)+COUNTIF(DD$108:DD127,RDGfix)+COUNTIF(DD$108:DD127,RDGave)+COUNTIF(DD$108:DD127,RDGevent)+DF$82-1","v":0},null,"","",{"$f":"COUNTIF(DH$108:DH127,OK)+COUNTIF(DH$108:DH127,RDGfix)+COUNTIF(DH$108:DH127,RDGave)+COUNTIF(DH$108:DH127,RDGevent)+DJ$82-1","v":0},null,"","",{"$f":"COUNTIF(DL$108:DL127,OK)+COUNTIF(DL$108:DL127,RDGfix)+COUNTIF(DL$108:DL127,RDGave)+COUNTIF(DL$108:DL127,RDGevent)+DN$82-1","v":0},null,"","",{"$f":"COUNTIF(DP$108:DP127,OK)+COUNTIF(DP$108:DP127,RDGfix)+COUNTIF(DP$108:DP127,RDGave)+COUNTIF(DP$108:DP127,RDGevent)+DR$82-1","v":0},null,"","",{"$f":"COUNTIF(DT$108:DT127,OK)+COUNTIF(DT$108:DT127,RDGfix)+COUNTIF(DT$108:DT127,RDGave)+COUNTIF(DT$108:DT127,RDGevent)+DV$82-1","v":0},null,"","",{"$f":"COUNTIF(DX$108:DX127,OK)+COUNTIF(DX$108:DX127,RDGfix)+COUNTIF(DX$108:DX127,RDGave)+COUNTIF(DX$108:DX127,RDGevent)+DZ$82-1","v":0},null,"","",{"$f":"COUNTIF(EB$108:EB127,OK)+COUNTIF(EB$108:EB127,RDGfix)+COUNTIF(EB$108:EB127,RDGave)+COUNTIF(EB$108:EB127,RDGevent)+ED$82-1","v":0},null,"","",{"$f":"COUNTIF(EF$108:EF127,OK)+COUNTIF(EF$108:EF127,RDGfix)+COUNTIF(EF$108:EF127,RDGave)+COUNTIF(EF$108:EF127,RDGevent)+EH$82-1","v":0},null,"","",{"$f":"COUNTIF(EJ$108:EJ127,OK)+COUNTIF(EJ$108:EJ127,RDGfix)+COUNTIF(EJ$108:EJ127,RDGave)+COUNTIF(EJ$108:EJ127,RDGevent)+EL$82-1","v":0},null,"","",{"$f":"COUNTIF(EN$108:EN127,OK)+COUNTIF(EN$108:EN127,RDGfix)+COUNTIF(EN$108:EN127,RDGave)+COUNTIF(EN$108:EN127,RDGevent)+EP$82-1","v":0},null,"","",{"$f":"COUNTIF(ER$108:ER127,OK)+COUNTIF(ER$108:ER127,RDGfix)+COUNTIF(ER$108:ER127,RDGave)+COUNTIF(ER$108:ER127,RDGevent)+ET$82-1","v":0},null,"","",{"$f":"COUNTIF(EV$108:EV127,OK)+COUNTIF(EV$108:EV127,RDGfix)+COUNTIF(EV$108:EV127,RDGave)+COUNTIF(EV$108:EV127,RDGevent)+EX$82-1","v":0},null,"","",{"$f":"COUNTIF(EZ$108:EZ127,OK)+COUNTIF(EZ$108:EZ127,RDGfix)+COUNTIF(EZ$108:EZ127,RDGave)+COUNTIF(EZ$108:EZ127,RDGevent)+FB$82-1","v":0},null,"","",{"$f":"COUNTIF(FD$108:FD127,OK)+COUNTIF(FD$108:FD127,RDGfix)+COUNTIF(FD$108:FD127,RDGave)+COUNTIF(FD$108:FD127,RDGevent)+FF$82-1","v":0},null,"","",{"$f":"COUNTIF(FH$108:FH127,OK)+COUNTIF(FH$108:FH127,RDGfix)+COUNTIF(FH$108:FH127,RDGave)+COUNTIF(FH$108:FH127,RDGevent)+FJ$82-1","v":0}]
[null,"21st",null,"","",{"$f":"COUNTIF(D$108:D128,OK)+COUNTIF(D$108:D128,RDGfix)+COUNTIF(D$108:D128,RDGave)+COUNTIF(D$108:D128,RDGevent)","v":0},null,"","",{"$f":"COUNTIF(H$108:H128,OK)+COUNTIF(H$108:H128,RDGfix)+COUNTIF(H$108:H128,RDGave)+COUNTIF(H$108:H128,RDGevent)+J$82-1","v":0},null,"","",{"$f":"COUNTIF(L$108:L128,OK)+COUNTIF(L$108:L128,RDGfix)+COUNTIF(L$108:L128,RDGave)+COUNTIF(L$108:L128,RDGevent)+N$82-1","v":0},null,"","",{"$f":"COUNTIF(P$108:P128,OK)+COUNTIF(P$108:P128,RDGfix)+COUNTIF(P$108:P128,RDGave)+COUNTIF(P$108:P128,RDGevent)+R$82-1","v":0},null,"","",{"$f":"COUNTIF(T$108:T128,OK)+COUNTIF(T$108:T128,RDGfix)+COUNTIF(T$108:T128,RDGave)+COUNTIF(T$108:T128,RDGevent)+V$82-1","v":0},null,"","",{"$f":"COUNTIF(X$108:X128,OK)+COUNTIF(X$108:X128,RDGfix)+COUNTIF(X$108:X128,RDGave)+COUNTIF(X$108:X128,RDGevent)+Z$82-1","v":0},null,"","",{"$f":"COUNTIF(AB$108:AB128,OK)+COUNTIF(AB$108:AB128,RDGfix)+COUNTIF(AB$108:AB128,RDGave)+COUNTIF(AB$108:AB128,RDGevent)+AD$82-1","v":0},null,"","",{"$f":"COUNTIF(AF$108:AF128,OK)+COUNTIF(AF$108:AF128,RDGfix)+COUNTIF(AF$108:AF128,RDGave)+COUNTIF(AF$108:AF128,RDGevent)+AH$82-1","v":0},null,"","",{"$f":"COUNTIF(AJ$108:AJ128,OK)+COUNTIF(AJ$108:AJ128,RDGfix)+COUNTIF(AJ$108:AJ128,RDGave)+COUNTIF(AJ$108:AJ128,RDGevent)+AL$82-1","v":0},null,"","",{"$f":"COUNTIF(AN$108:AN128,OK)+COUNTIF(AN$108:AN128,RDGfix)+COUNTIF(AN$108:AN128,RDGave)+COUNTIF(AN$108:AN128,RDGevent)+AP$82-1","v":0},null,"","",{"$f":"COUNTIF(AR$108:AR128,OK)+COUNTIF(AR$108:AR128,RDGfix)+COUNTIF(AR$108:AR128,RDGave)+COUNTIF(AR$108:AR128,RDGevent)+AT$82-1","v":0},null,"","",{"$f":"COUNTIF(AV$108:AV128,OK)+COUNTIF(AV$108:AV128,RDGfix)+COUNTIF(AV$108:AV128,RDGave)+COUNTIF(AV$108:AV128,RDGevent)+AX$82-1","v":0},null,"","",{"$f":"COUNTIF(AZ$108:AZ128,OK)+COUNTIF(AZ$108:AZ128,RDGfix)+COUNTIF(AZ$108:AZ128,RDGave)+COUNTIF(AZ$108:AZ128,RDGevent)+BB$82-1","v":0},null,"","",{"$f":"COUNTIF(BD$108:BD128,OK)+COUNTIF(BD$108:BD128,RDGfix)+COUNTIF(BD$108:BD128,RDGave)+COUNTIF(BD$108:BD128,RDGevent)+BF$82-1","v":0},null,"","",{"$f":"COUNTIF(BH$108:BH128,OK)+COUNTIF(BH$108:BH128,RDGfix)+COUNTIF(BH$108:BH128,RDGave)+COUNTIF(BH$108:BH128,RDGevent)+BJ$82-1","v":0},null,"","",{"$f":"COUNTIF(BL$108:BL128,OK)+COUNTIF(BL$108:BL128,RDGfix)+COUNTIF(BL$108:BL128,RDGave)+COUNTIF(BL$108:BL128,RDGevent)+BN$82-1","v":0},null,"","",{"$f":"COUNTIF(BP$108:BP128,OK)+COUNTIF(BP$108:BP128,RDGfix)+COUNTIF(BP$108:BP128,RDGave)+COUNTIF(BP$108:BP128,RDGevent)+BR$82-1","v":0},null,"","",{"$f":"COUNTIF(BT$108:BT128,OK)+COUNTIF(BT$108:BT128,RDGfix)+COUNTIF(BT$108:BT128,RDGave)+COUNTIF(BT$108:BT128,RDGevent)+BV$82-1","v":0},null,"","",{"$f":"COUNTIF(BX$108:BX128,OK)+COUNTIF(BX$108:BX128,RDGfix)+COUNTIF(BX$108:BX128,RDGave)+COUNTIF(BX$108:BX128,RDGevent)+BZ$82-1","v":0},null,"","",{"$f":"COUNTIF(CB$108:CB128,OK)+COUNTIF(CB$108:CB128,RDGfix)+COUNTIF(CB$108:CB128,RDGave)+COUNTIF(CB$108:CB128,RDGevent)+CD$82-1","v":0},null,"","",{"$f":"COUNTIF(CF$108:CF128,OK)+COUNTIF(CF$108:CF128,RDGfix)+COUNTIF(CF$108:CF128,RDGave)+COUNTIF(CF$108:CF128,RDGevent)+CH$82-1","v":0},null,"","",{"$f":"COUNTIF(CJ$108:CJ128,OK)+COUNTIF(CJ$108:CJ128,RDGfix)+COUNTIF(CJ$108:CJ128,RDGave)+COUNTIF(CJ$108:CJ128,RDGevent)+CL$82-1","v":0},null,"","",{"$f":"COUNTIF(CN$108:CN128,OK)+COUNTIF(CN$108:CN128,RDGfix)+COUNTIF(CN$108:CN128,RDGave)+COUNTIF(CN$108:CN128,RDGevent)+CP$82-1","v":0},null,"","",{"$f":"COUNTIF(CR$108:CR128,OK)+COUNTIF(CR$108:CR128,RDGfix)+COUNTIF(CR$108:CR128,RDGave)+COUNTIF(CR$108:CR128,RDGevent)+CT$82-1","v":0},null,"","",{"$f":"COUNTIF(CV$108:CV128,OK)+COUNTIF(CV$108:CV128,RDGfix)+COUNTIF(CV$108:CV128,RDGave)+COUNTIF(CV$108:CV128,RDGevent)+CX$82-1","v":0},null,"","",{"$f":"COUNTIF(CZ$108:CZ128,OK)+COUNTIF(CZ$108:CZ128,RDGfix)+COUNTIF(CZ$108:CZ128,RDGave)+COUNTIF(CZ$108:CZ128,RDGevent)+DB$82-1","v":0},null,"","",{"$f":"COUNTIF(DD$108:DD128,OK)+COUNTIF(DD$108:DD128,RDGfix)+COUNTIF(DD$108:DD128,RDGave)+COUNTIF(DD$108:DD128,RDGevent)+DF$82-1","v":0},null,"","",{"$f":"COUNTIF(DH$108:DH128,OK)+COUNTIF(DH$108:DH128,RDGfix)+COUNTIF(DH$108:DH128,RDGave)+COUNTIF(DH$108:DH128,RDGevent)+DJ$82-1","v":0},null,"","",{"$f":"COUNTIF(DL$108:DL128,OK)+COUNTIF(DL$108:DL128,RDGfix)+COUNTIF(DL$108:DL128,RDGave)+COUNTIF(DL$108:DL128,RDGevent)+DN$82-1","v":0},null,"","",{"$f":"COUNTIF(DP$108:DP128,OK)+COUNTIF(DP$108:DP128,RDGfix)+COUNTIF(DP$108:DP128,RDGave)+COUNTIF(DP$108:DP128,RDGevent)+DR$82-1","v":0},null,"","",{"$f":"COUNTIF(DT$108:DT128,OK)+COUNTIF(DT$108:DT128,RDGfix)+COUNTIF(DT$108:DT128,RDGave)+COUNTIF(DT$108:DT128,RDGevent)+DV$82-1","v":0},null,"","",{"$f":"COUNTIF(DX$108:DX128,OK)+COUNTIF(DX$108:DX128,RDGfix)+COUNTIF(DX$108:DX128,RDGave)+COUNTIF(DX$108:DX128,RDGevent)+DZ$82-1","v":0},null,"","",{"$f":"COUNTIF(EB$108:EB128,OK)+COUNTIF(EB$108:EB128,RDGfix)+COUNTIF(EB$108:EB128,RDGave)+COUNTIF(EB$108:EB128,RDGevent)+ED$82-1","v":0},null,"","",{"$f":"COUNTIF(EF$108:EF128,OK)+COUNTIF(EF$108:EF128,RDGfix)+COUNTIF(EF$108:EF128,RDGave)+COUNTIF(EF$108:EF128,RDGevent)+EH$82-1","v":0},null,"","",{"$f":"COUNTIF(EJ$108:EJ128,OK)+COUNTIF(EJ$108:EJ128,RDGfix)+COUNTIF(EJ$108:EJ128,RDGave)+COUNTIF(EJ$108:EJ128,RDGevent)+EL$82-1","v":0},null,"","",{"$f":"COUNTIF(EN$108:EN128,OK)+COUNTIF(EN$108:EN128,RDGfix)+COUNTIF(EN$108:EN128,RDGave)+COUNTIF(EN$108:EN128,RDGevent)+EP$82-1","v":0},null,"","",{"$f":"COUNTIF(ER$108:ER128,OK)+COUNTIF(ER$108:ER128,RDGfix)+COUNTIF(ER$108:ER128,RDGave)+COUNTIF(ER$108:ER128,RDGevent)+ET$82-1","v":0},null,"","",{"$f":"COUNTIF(EV$108:EV128,OK)+COUNTIF(EV$108:EV128,RDGfix)+COUNTIF(EV$108:EV128,RDGave)+COUNTIF(EV$108:EV128,RDGevent)+EX$82-1","v":0},null,"","",{"$f":"COUNTIF(EZ$108:EZ128,OK)+COUNTIF(EZ$108:EZ128,RDGfix)+COUNTIF(EZ$108:EZ128,RDGave)+COUNTIF(EZ$108:EZ128,RDGevent)+FB$82-1","v":0},null,"","",{"$f":"COUNTIF(FD$108:FD128,OK)+COUNTIF(FD$108:FD128,RDGfix)+COUNTIF(FD$108:FD128,RDGave)+COUNTIF(FD$108:FD128,RDGevent)+FF$82-1","v":0},null,"","",{"$f":"COUNTIF(FH$108:FH128,OK)+COUNTIF(FH$108:FH128,RDGfix)+COUNTIF(FH$108:FH128,RDGave)+COUNTIF(FH$108:FH128,RDGevent)+FJ$82-1","v":0}]
[null,"22nd",null,"","",{"$f":"COUNTIF(D$108:D129,OK)+COUNTIF(D$108:D129,RDGfix)+COUNTIF(D$108:D129,RDGave)+COUNTIF(D$108:D129,RDGevent)","v":0},null,"","",{"$f":"COUNTIF(H$108:H129,OK)+COUNTIF(H$108:H129,RDGfix)+COUNTIF(H$108:H129,RDGave)+COUNTIF(H$108:H129,RDGevent)+J$82-1","v":0},null,"","",{"$f":"COUNTIF(L$108:L129,OK)+COUNTIF(L$108:L129,RDGfix)+COUNTIF(L$108:L129,RDGave)+COUNTIF(L$108:L129,RDGevent)+N$82-1","v":0},null,"","",{"$f":"COUNTIF(P$108:P129,OK)+COUNTIF(P$108:P129,RDGfix)+COUNTIF(P$108:P129,RDGave)+COUNTIF(P$108:P129,RDGevent)+R$82-1","v":0},null,"","",{"$f":"COUNTIF(T$108:T129,OK)+COUNTIF(T$108:T129,RDGfix)+COUNTIF(T$108:T129,RDGave)+COUNTIF(T$108:T129,RDGevent)+V$82-1","v":0},null,"","",{"$f":"COUNTIF(X$108:X129,OK)+COUNTIF(X$108:X129,RDGfix)+COUNTIF(X$108:X129,RDGave)+COUNTIF(X$108:X129,RDGevent)+Z$82-1","v":0},null,"","",{"$f":"COUNTIF(AB$108:AB129,OK)+COUNTIF(AB$108:AB129,RDGfix)+COUNTIF(AB$108:AB129,RDGave)+COUNTIF(AB$108:AB129,RDGevent)+AD$82-1","v":0},null,"","",{"$f":"COUNTIF(AF$108:AF129,OK)+COUNTIF(AF$108:AF129,RDGfix)+COUNTIF(AF$108:AF129,RDGave)+COUNTIF(AF$108:AF129,RDGevent)+AH$82-1","v":0},null,"","",{"$f":"COUNTIF(AJ$108:AJ129,OK)+COUNTIF(AJ$108:AJ129,RDGfix)+COUNTIF(AJ$108:AJ129,RDGave)+COUNTIF(AJ$108:AJ129,RDGevent)+AL$82-1","v":0},null,"","",{"$f":"COUNTIF(AN$108:AN129,OK)+COUNTIF(AN$108:AN129,RDGfix)+COUNTIF(AN$108:AN129,RDGave)+COUNTIF(AN$108:AN129,RDGevent)+AP$82-1","v":0},null,"","",{"$f":"COUNTIF(AR$108:AR129,OK)+COUNTIF(AR$108:AR129,RDGfix)+COUNTIF(AR$108:AR129,RDGave)+COUNTIF(AR$108:AR129,RDGevent)+AT$82-1","v":0},null,"","",{"$f":"COUNTIF(AV$108:AV129,OK)+COUNTIF(AV$108:AV129,RDGfix)+COUNTIF(AV$108:AV129,RDGave)+COUNTIF(AV$108:AV129,RDGevent)+AX$82-1","v":0},null,"","",{"$f":"COUNTIF(AZ$108:AZ129,OK)+COUNTIF(AZ$108:AZ129,RDGfix)+COUNTIF(AZ$108:AZ129,RDGave)+COUNTIF(AZ$108:AZ129,RDGevent)+BB$82-1","v":0},null,"","",{"$f":"COUNTIF(BD$108:BD129,OK)+COUNTIF(BD$108:BD129,RDGfix)+COUNTIF(BD$108:BD129,RDGave)+COUNTIF(BD$108:BD129,RDGevent)+BF$82-1","v":0},null,"","",{"$f":"COUNTIF(BH$108:BH129,OK)+COUNTIF(BH$108:BH129,RDGfix)+COUNTIF(BH$108:BH129,RDGave)+COUNTIF(BH$108:BH129,RDGevent)+BJ$82-1","v":0},null,"","",{"$f":"COUNTIF(BL$108:BL129,OK)+COUNTIF(BL$108:BL129,RDGfix)+COUNTIF(BL$108:BL129,RDGave)+COUNTIF(BL$108:BL129,RDGevent)+BN$82-1","v":0},null,"","",{"$f":"COUNTIF(BP$108:BP129,OK)+COUNTIF(BP$108:BP129,RDGfix)+COUNTIF(BP$108:BP129,RDGave)+COUNTIF(BP$108:BP129,RDGevent)+BR$82-1","v":0},null,"","",{"$f":"COUNTIF(BT$108:BT129,OK)+COUNTIF(BT$108:BT129,RDGfix)+COUNTIF(BT$108:BT129,RDGave)+COUNTIF(BT$108:BT129,RDGevent)+BV$82-1","v":0},null,"","",{"$f":"COUNTIF(BX$108:BX129,OK)+COUNTIF(BX$108:BX129,RDGfix)+COUNTIF(BX$108:BX129,RDGave)+COUNTIF(BX$108:BX129,RDGevent)+BZ$82-1","v":0},null,"","",{"$f":"COUNTIF(CB$108:CB129,OK)+COUNTIF(CB$108:CB129,RDGfix)+COUNTIF(CB$108:CB129,RDGave)+COUNTIF(CB$108:CB129,RDGevent)+CD$82-1","v":0},null,"","",{"$f":"COUNTIF(CF$108:CF129,OK)+COUNTIF(CF$108:CF129,RDGfix)+COUNTIF(CF$108:CF129,RDGave)+COUNTIF(CF$108:CF129,RDGevent)+CH$82-1","v":0},null,"","",{"$f":"COUNTIF(CJ$108:CJ129,OK)+COUNTIF(CJ$108:CJ129,RDGfix)+COUNTIF(CJ$108:CJ129,RDGave)+COUNTIF(CJ$108:CJ129,RDGevent)+CL$82-1","v":0},null,"","",{"$f":"COUNTIF(CN$108:CN129,OK)+COUNTIF(CN$108:CN129,RDGfix)+COUNTIF(CN$108:CN129,RDGave)+COUNTIF(CN$108:CN129,RDGevent)+CP$82-1","v":0},null,"","",{"$f":"COUNTIF(CR$108:CR129,OK)+COUNTIF(CR$108:CR129,RDGfix)+COUNTIF(CR$108:CR129,RDGave)+COUNTIF(CR$108:CR129,RDGevent)+CT$82-1","v":0},null,"","",{"$f":"COUNTIF(CV$108:CV129,OK)+COUNTIF(CV$108:CV129,RDGfix)+COUNTIF(CV$108:CV129,RDGave)+COUNTIF(CV$108:CV129,RDGevent)+CX$82-1","v":0},null,"","",{"$f":"COUNTIF(CZ$108:CZ129,OK)+COUNTIF(CZ$108:CZ129,RDGfix)+COUNTIF(CZ$108:CZ129,RDGave)+COUNTIF(CZ$108:CZ129,RDGevent)+DB$82-1","v":0},null,"","",{"$f":"COUNTIF(DD$108:DD129,OK)+COUNTIF(DD$108:DD129,RDGfix)+COUNTIF(DD$108:DD129,RDGave)+COUNTIF(DD$108:DD129,RDGevent)+DF$82-1","v":0},null,"","",{"$f":"COUNTIF(DH$108:DH129,OK)+COUNTIF(DH$108:DH129,RDGfix)+COUNTIF(DH$108:DH129,RDGave)+COUNTIF(DH$108:DH129,RDGevent)+DJ$82-1","v":0},null,"","",{"$f":"COUNTIF(DL$108:DL129,OK)+COUNTIF(DL$108:DL129,RDGfix)+COUNTIF(DL$108:DL129,RDGave)+COUNTIF(DL$108:DL129,RDGevent)+DN$82-1","v":0},null,"","",{"$f":"COUNTIF(DP$108:DP129,OK)+COUNTIF(DP$108:DP129,RDGfix)+COUNTIF(DP$108:DP129,RDGave)+COUNTIF(DP$108:DP129,RDGevent)+DR$82-1","v":0},null,"","",{"$f":"COUNTIF(DT$108:DT129,OK)+COUNTIF(DT$108:DT129,RDGfix)+COUNTIF(DT$108:DT129,RDGave)+COUNTIF(DT$108:DT129,RDGevent)+DV$82-1","v":0},null,"","",{"$f":"COUNTIF(DX$108:DX129,OK)+COUNTIF(DX$108:DX129,RDGfix)+COUNTIF(DX$108:DX129,RDGave)+COUNTIF(DX$108:DX129,RDGevent)+DZ$82-1","v":0},null,"","",{"$f":"COUNTIF(EB$108:EB129,OK)+COUNTIF(EB$108:EB129,RDGfix)+COUNTIF(EB$108:EB129,RDGave)+COUNTIF(EB$108:EB129,RDGevent)+ED$82-1","v":0},null,"","",{"$f":"COUNTIF(EF$108:EF129,OK)+COUNTIF(EF$108:EF129,RDGfix)+COUNTIF(EF$108:EF129,RDGave)+COUNTIF(EF$108:EF129,RDGevent)+EH$82-1","v":0},null,"","",{"$f":"COUNTIF(EJ$108:EJ129,OK)+COUNTIF(EJ$108:EJ129,RDGfix)+COUNTIF(EJ$108:EJ129,RDGave)+COUNTIF(EJ$108:EJ129,RDGevent)+EL$82-1","v":0},null,"","",{"$f":"COUNTIF(EN$108:EN129,OK)+COUNTIF(EN$108:EN129,RDGfix)+COUNTIF(EN$108:EN129,RDGave)+COUNTIF(EN$108:EN129,RDGevent)+EP$82-1","v":0},null,"","",{"$f":"COUNTIF(ER$108:ER129,OK)+COUNTIF(ER$108:ER129,RDGfix)+COUNTIF(ER$108:ER129,RDGave)+COUNTIF(ER$108:ER129,RDGevent)+ET$82-1","v":0},null,"","",{"$f":"COUNTIF(EV$108:EV129,OK)+COUNTIF(EV$108:EV129,RDGfix)+COUNTIF(EV$108:EV129,RDGave)+COUNTIF(EV$108:EV129,RDGevent)+EX$82-1","v":0},null,"","",{"$f":"COUNTIF(EZ$108:EZ129,OK)+COUNTIF(EZ$108:EZ129,RDGfix)+COUNTIF(EZ$108:EZ129,RDGave)+COUNTIF(EZ$108:EZ129,RDGevent)+FB$82-1","v":0},null,"","",{"$f":"COUNTIF(FD$108:FD129,OK)+COUNTIF(FD$108:FD129,RDGfix)+COUNTIF(FD$108:FD129,RDGave)+COUNTIF(FD$108:FD129,RDGevent)+FF$82-1","v":0},null,"","",{"$f":"COUNTIF(FH$108:FH129,OK)+COUNTIF(FH$108:FH129,RDGfix)+COUNTIF(FH$108:FH129,RDGave)+COUNTIF(FH$108:FH129,RDGevent)+FJ$82-1","v":0}]
[null,"23rd",null,"","",{"$f":"COUNTIF(D$108:D130,OK)+COUNTIF(D$108:D130,RDGfix)+COUNTIF(D$108:D130,RDGave)+COUNTIF(D$108:D130,RDGevent)","v":0},null,"","",{"$f":"COUNTIF(H$108:H130,OK)+COUNTIF(H$108:H130,RDGfix)+COUNTIF(H$108:H130,RDGave)+COUNTIF(H$108:H130,RDGevent)+J$82-1","v":0},null,"","",{"$f":"COUNTIF(L$108:L130,OK)+COUNTIF(L$108:L130,RDGfix)+COUNTIF(L$108:L130,RDGave)+COUNTIF(L$108:L130,RDGevent)+N$82-1","v":0},null,"","",{"$f":"COUNTIF(P$108:P130,OK)+COUNTIF(P$108:P130,RDGfix)+COUNTIF(P$108:P130,RDGave)+COUNTIF(P$108:P130,RDGevent)+R$82-1","v":0},null,"","",{"$f":"COUNTIF(T$108:T130,OK)+COUNTIF(T$108:T130,RDGfix)+COUNTIF(T$108:T130,RDGave)+COUNTIF(T$108:T130,RDGevent)+V$82-1","v":0},null,"","",{"$f":"COUNTIF(X$108:X130,OK)+COUNTIF(X$108:X130,RDGfix)+COUNTIF(X$108:X130,RDGave)+COUNTIF(X$108:X130,RDGevent)+Z$82-1","v":0},null,"","",{"$f":"COUNTIF(AB$108:AB130,OK)+COUNTIF(AB$108:AB130,RDGfix)+COUNTIF(AB$108:AB130,RDGave)+COUNTIF(AB$108:AB130,RDGevent)+AD$82-1","v":0},null,"","",{"$f":"COUNTIF(AF$108:AF130,OK)+COUNTIF(AF$108:AF130,RDGfix)+COUNTIF(AF$108:AF130,RDGave)+COUNTIF(AF$108:AF130,RDGevent)+AH$82-1","v":0},null,"","",{"$f":"COUNTIF(AJ$108:AJ130,OK)+COUNTIF(AJ$108:AJ130,RDGfix)+COUNTIF(AJ$108:AJ130,RDGave)+COUNTIF(AJ$108:AJ130,RDGevent)+AL$82-1","v":0},null,"","",{"$f":"COUNTIF(AN$108:AN130,OK)+COUNTIF(AN$108:AN130,RDGfix)+COUNTIF(AN$108:AN130,RDGave)+COUNTIF(AN$108:AN130,RDGevent)+AP$82-1","v":0},null,"","",{"$f":"COUNTIF(AR$108:AR130,OK)+COUNTIF(AR$108:AR130,RDGfix)+COUNTIF(AR$108:AR130,RDGave)+COUNTIF(AR$108:AR130,RDGevent)+AT$82-1","v":0},null,"","",{"$f":"COUNTIF(AV$108:AV130,OK)+COUNTIF(AV$108:AV130,RDGfix)+COUNTIF(AV$108:AV130,RDGave)+COUNTIF(AV$108:AV130,RDGevent)+AX$82-1","v":0},null,"","",{"$f":"COUNTIF(AZ$108:AZ130,OK)+COUNTIF(AZ$108:AZ130,RDGfix)+COUNTIF(AZ$108:AZ130,RDGave)+COUNTIF(AZ$108:AZ130,RDGevent)+BB$82-1","v":0},null,"","",{"$f":"COUNTIF(BD$108:BD130,OK)+COUNTIF(BD$108:BD130,RDGfix)+COUNTIF(BD$108:BD130,RDGave)+COUNTIF(BD$108:BD130,RDGevent)+BF$82-1","v":0},null,"","",{"$f":"COUNTIF(BH$108:BH130,OK)+COUNTIF(BH$108:BH130,RDGfix)+COUNTIF(BH$108:BH130,RDGave)+COUNTIF(BH$108:BH130,RDGevent)+BJ$82-1","v":0},null,"","",{"$f":"COUNTIF(BL$108:BL130,OK)+COUNTIF(BL$108:BL130,RDGfix)+COUNTIF(BL$108:BL130,RDGave)+COUNTIF(BL$108:BL130,RDGevent)+BN$82-1","v":0},null,"","",{"$f":"COUNTIF(BP$108:BP130,OK)+COUNTIF(BP$108:BP130,RDGfix)+COUNTIF(BP$108:BP130,RDGave)+COUNTIF(BP$108:BP130,RDGevent)+BR$82-1","v":0},null,"","",{"$f":"COUNTIF(BT$108:BT130,OK)+COUNTIF(BT$108:BT130,RDGfix)+COUNTIF(BT$108:BT130,RDGave)+COUNTIF(BT$108:BT130,RDGevent)+BV$82-1","v":0},null,"","",{"$f":"COUNTIF(BX$108:BX130,OK)+COUNTIF(BX$108:BX130,RDGfix)+COUNTIF(BX$108:BX130,RDGave)+COUNTIF(BX$108:BX130,RDGevent)+BZ$82-1","v":0},null,"","",{"$f":"COUNTIF(CB$108:CB130,OK)+COUNTIF(CB$108:CB130,RDGfix)+COUNTIF(CB$108:CB130,RDGave)+COUNTIF(CB$108:CB130,RDGevent)+CD$82-1","v":0},null,"","",{"$f":"COUNTIF(CF$108:CF130,OK)+COUNTIF(CF$108:CF130,RDGfix)+COUNTIF(CF$108:CF130,RDGave)+COUNTIF(CF$108:CF130,RDGevent)+CH$82-1","v":0},null,"","",{"$f":"COUNTIF(CJ$108:CJ130,OK)+COUNTIF(CJ$108:CJ130,RDGfix)+COUNTIF(CJ$108:CJ130,RDGave)+COUNTIF(CJ$108:CJ130,RDGevent)+CL$82-1","v":0},null,"","",{"$f":"COUNTIF(CN$108:CN130,OK)+COUNTIF(CN$108:CN130,RDGfix)+COUNTIF(CN$108:CN130,RDGave)+COUNTIF(CN$108:CN130,RDGevent)+CP$82-1","v":0},null,"","",{"$f":"COUNTIF(CR$108:CR130,OK)+COUNTIF(CR$108:CR130,RDGfix)+COUNTIF(CR$108:CR130,RDGave)+COUNTIF(CR$108:CR130,RDGevent)+CT$82-1","v":0},null,"","",{"$f":"COUNTIF(CV$108:CV130,OK)+COUNTIF(CV$108:CV130,RDGfix)+COUNTIF(CV$108:CV130,RDGave)+COUNTIF(CV$108:CV130,RDGevent)+CX$82-1","v":0},null,"","",{"$f":"COUNTIF(CZ$108:CZ130,OK)+COUNTIF(CZ$108:CZ130,RDGfix)+COUNTIF(CZ$108:CZ130,RDGave)+COUNTIF(CZ$108:CZ130,RDGevent)+DB$82-1","v":0},null,"","",{"$f":"COUNTIF(DD$108:DD130,OK)+COUNTIF(DD$108:DD130,RDGfix)+COUNTIF(DD$108:DD130,RDGave)+COUNTIF(DD$108:DD130,RDGevent)+DF$82-1","v":0},null,"","",{"$f":"COUNTIF(DH$108:DH130,OK)+COUNTIF(DH$108:DH130,RDGfix)+COUNTIF(DH$108:DH130,RDGave)+COUNTIF(DH$108:DH130,RDGevent)+DJ$82-1","v":0},null,"","",{"$f":"COUNTIF(DL$108:DL130,OK)+COUNTIF(DL$108:DL130,RDGfix)+COUNTIF(DL$108:DL130,RDGave)+COUNTIF(DL$108:DL130,RDGevent)+DN$82-1","v":0},null,"","",{"$f":"COUNTIF(DP$108:DP130,OK)+COUNTIF(DP$108:DP130,RDGfix)+COUNTIF(DP$108:DP130,RDGave)+COUNTIF(DP$108:DP130,RDGevent)+DR$82-1","v":0},null,"","",{"$f":"COUNTIF(DT$108:DT130,OK)+COUNTIF(DT$108:DT130,RDGfix)+COUNTIF(DT$108:DT130,RDGave)+COUNTIF(DT$108:DT130,RDGevent)+DV$82-1","v":0},null,"","",{"$f":"COUNTIF(DX$108:DX130,OK)+COUNTIF(DX$108:DX130,RDGfix)+COUNTIF(DX$108:DX130,RDGave)+COUNTIF(DX$108:DX130,RDGevent)+DZ$82-1","v":0},null,"","",{"$f":"COUNTIF(EB$108:EB130,OK)+COUNTIF(EB$108:EB130,RDGfix)+COUNTIF(EB$108:EB130,RDGave)+COUNTIF(EB$108:EB130,RDGevent)+ED$82-1","v":0},null,"","",{"$f":"COUNTIF(EF$108:EF130,OK)+COUNTIF(EF$108:EF130,RDGfix)+COUNTIF(EF$108:EF130,RDGave)+COUNTIF(EF$108:EF130,RDGevent)+EH$82-1","v":0},null,"","",{"$f":"COUNTIF(EJ$108:EJ130,OK)+COUNTIF(EJ$108:EJ130,RDGfix)+COUNTIF(EJ$108:EJ130,RDGave)+COUNTIF(EJ$108:EJ130,RDGevent)+EL$82-1","v":0},null,"","",{"$f":"COUNTIF(EN$108:EN130,OK)+COUNTIF(EN$108:EN130,RDGfix)+COUNTIF(EN$108:EN130,RDGave)+COUNTIF(EN$108:EN130,RDGevent)+EP$82-1","v":0},null,"","",{"$f":"COUNTIF(ER$108:ER130,OK)+COUNTIF(ER$108:ER130,RDGfix)+COUNTIF(ER$108:ER130,RDGave)+COUNTIF(ER$108:ER130,RDGevent)+ET$82-1","v":0},null,"","",{"$f":"COUNTIF(EV$108:EV130,OK)+COUNTIF(EV$108:EV130,RDGfix)+COUNTIF(EV$108:EV130,RDGave)+COUNTIF(EV$108:EV130,RDGevent)+EX$82-1","v":0},null,"","",{"$f":"COUNTIF(EZ$108:EZ130,OK)+COUNTIF(EZ$108:EZ130,RDGfix)+COUNTIF(EZ$108:EZ130,RDGave)+COUNTIF(EZ$108:EZ130,RDGevent)+FB$82-1","v":0},null,"","",{"$f":"COUNTIF(FD$108:FD130,OK)+COUNTIF(FD$108:FD130,RDGfix)+COUNTIF(FD$108:FD130,RDGave)+COUNTIF(FD$108:FD130,RDGevent)+FF$82-1","v":0},null,"","",{"$f":"COUNTIF(FH$108:FH130,OK)+COUNTIF(FH$108:FH130,RDGfix)+COUNTIF(FH$108:FH130,RDGave)+COUNTIF(FH$108:FH130,RDGevent)+FJ$82-1","v":0}]
[null,"24th",null,"","",{"$f":"COUNTIF(D$108:D131,OK)+COUNTIF(D$108:D131,RDGfix)+COUNTIF(D$108:D131,RDGave)+COUNTIF(D$108:D131,RDGevent)","v":0},null,{"$f":"IF(G131=\"\",\"\",OK)","v":""},{"$f":"IF(G131=\"\",\"\",IF(AND(H$107=\"L\",H131=\"DNC\"),$I$2,\nIF(H131=OK,J131,IF(HLOOKUP(H131,Comments3,2,FALSE)=D,J$107,IF(HLOOKUP(H131,Comments3,2,FALSE)=A,VLOOKUP(G131,Averages,G$4,FALSE),IF(HLOOKUP(H131,Comments3,2,FALSE)=E,VLOOKUP(G131,EventAverage,2,FALSE), HLOOKUP(H131,Comments4,2,FALSE)))))))","v":""},{"$f":"COUNTIF(H$108:H131,OK)+COUNTIF(H$108:H131,RDGfix)+COUNTIF(H$108:H131,RDGave)+COUNTIF(H$108:H131,RDGevent)+J$82-1","v":0},null,{"$f":"IF(K131=\"\",\"\",OK)","v":""},{"$f":"IF(K131=\"\",\"\",IF(AND(L$107=\"L\",L131=\"DNC\"),$I$2,\nIF(L131=OK,N131,IF(HLOOKUP(L131,Comments3,2,FALSE)=D,N$107,IF(HLOOKUP(L131,Comments3,2,FALSE)=A,VLOOKUP(K131,Averages,K$4,FALSE),IF(HLOOKUP(L131,Comments3,2,FALSE)=E,VLOOKUP(K131,EventAverage,2,FALSE), HLOOKUP(L131,Comments4,2,FALSE)))))))","v":""},{"$f":"COUNTIF(L$108:L131,OK)+COUNTIF(L$108:L131,RDGfix)+COUNTIF(L$108:L131,RDGave)+COUNTIF(L$108:L131,RDGevent)+N$82-1","v":0},null,{"$f":"IF(O131=\"\",\"\",OK)","v":""},{"$f":"IF(O131=\"\",\"\",IF(AND(P$107=\"L\",P131=\"DNC\"),$I$2,\nIF(P131=OK,R131,IF(HLOOKUP(P131,Comments3,2,FALSE)=D,R$107,IF(HLOOKUP(P131,Comments3,2,FALSE)=A,VLOOKUP(O131,Averages,O$4,FALSE),IF(HLOOKUP(P131,Comments3,2,FALSE)=E,VLOOKUP(O131,EventAverage,2,FALSE), HLOOKUP(P131,Comments4,2,FALSE)))))))","v":""},{"$f":"COUNTIF(P$108:P131,OK)+COUNTIF(P$108:P131,RDGfix)+COUNTIF(P$108:P131,RDGave)+COUNTIF(P$108:P131,RDGevent)+R$82-1","v":0},null,{"$f":"IF(S131=\"\",\"\",OK)","v":""},{"$f":"IF(S131=\"\",\"\",IF(AND(T$107=\"L\",T131=\"DNC\"),$I$2,\nIF(T131=OK,V131,IF(HLOOKUP(T131,Comments3,2,FALSE)=D,V$107,IF(HLOOKUP(T131,Comments3,2,FALSE)=A,VLOOKUP(S131,Averages,S$4,FALSE),IF(HLOOKUP(T131,Comments3,2,FALSE)=E,VLOOKUP(S131,EventAverage,2,FALSE), HLOOKUP(T131,Comments4,2,FALSE)))))))","v":""},{"$f":"COUNTIF(T$108:T131,OK)+COUNTIF(T$108:T131,RDGfix)+COUNTIF(T$108:T131,RDGave)+COUNTIF(T$108:T131,RDGevent)+V$82-1","v":0},null,{"$f":"IF(W131=\"\",\"\",OK)","v":""},{"$f":"IF(W131=\"\",\"\",IF(AND(X$107=\"L\",X131=\"DNC\"),$I$2,\nIF(X131=OK,Z131,IF(HLOOKUP(X131,Comments3,2,FALSE)=D,Z$107,IF(HLOOKUP(X131,Comments3,2,FALSE)=A,VLOOKUP(W131,Averages,W$4,FALSE),IF(HLOOKUP(X131,Comments3,2,FALSE)=E,VLOOKUP(W131,EventAverage,2,FALSE), HLOOKUP(X131,Comments4,2,FALSE)))))))","v":""},{"$f":"COUNTIF(X$108:X131,OK)+COUNTIF(X$108:X131,RDGfix)+COUNTIF(X$108:X131,RDGave)+COUNTIF(X$108:X131,RDGevent)+Z$82-1","v":0},null,{"$f":"IF(AA131=\"\",\"\",OK)","v":""},{"$f":"IF(AA131=\"\",\"\",IF(AND(AB$107=\"L\",AB131=\"DNC\"),$I$2,\nIF(AB131=OK,AD131,IF(HLOOKUP(AB131,Comments3,2,FALSE)=D,AD$107,IF(HLOOKUP(AB131,Comments3,2,FALSE)=A,VLOOKUP(AA131,Averages,AA$4,FALSE),IF(HLOOKUP(AB131,Comments3,2,FALSE)=E,VLOOKUP(AA131,EventAverage,2,FALSE), HLOOKUP(AB131,Comments4,2,FALSE)))))))","v":""},{"$f":"COUNTIF(AB$108:AB131,OK)+COUNTIF(AB$108:AB131,RDGfix)+COUNTIF(AB$108:AB131,RDGave)+COUNTIF(AB$108:AB131,RDGevent)+AD$82-1","v":0},null,{"$f":"IF(AE131=\"\",\"\",OK)","v":""},{"$f":"IF(AE131=\"\",\"\",IF(AND(AF$107=\"L\",AF131=\"DNC\"),$I$2,\nIF(AF131=OK,AH131,IF(HLOOKUP(AF131,Comments3,2,FALSE)=D,AH$107,IF(HLOOKUP(AF131,Comments3,2,FALSE)=A,VLOOKUP(AE131,Averages,AE$4,FALSE),IF(HLOOKUP(AF131,Comments3,2,FALSE)=E,VLOOKUP(AE131,EventAverage,2,FALSE), HLOOKUP(AF131,Comments4,2,FALSE)))))))","v":""},{"$f":"COUNTIF(AF$108:AF131,OK)+COUNTIF(AF$108:AF131,RDGfix)+COUNTIF(AF$108:AF131,RDGave)+COUNTIF(AF$108:AF131,RDGevent)+AH$82-1","v":0},null,"",{"$f":"IF(AI131=\"\",\"\",IF(AND(AJ$107=\"L\",AJ131=\"DNC\"),$I$2,\nIF(AJ131=OK,AL131,IF(HLOOKUP(AJ131,Comments3,2,FALSE)=D,AL$107,IF(HLOOKUP(AJ131,Comments3,2,FALSE)=A,VLOOKUP(AI131,Averages,AI$4,FALSE),IF(HLOOKUP(AJ131,Comments3,2,FALSE)=E,VLOOKUP(AI131,EventAverage,2,FALSE), HLOOKUP(AJ131,Comments4,2,FALSE)))))))","v":""},{"$f":"COUNTIF(AJ$108:AJ131,OK)+COUNTIF(AJ$108:AJ131,RDGfix)+COUNTIF(AJ$108:AJ131,RDGave)+COUNTIF(AJ$108:AJ131,RDGevent)+AL$82-1","v":0},null,"","",{"$f":"COUNTIF(AN$108:AN131,OK)+COUNTIF(AN$108:AN131,RDGfix)+COUNTIF(AN$108:AN131,RDGave)+COUNTIF(AN$108:AN131,RDGevent)+AP$82-1","v":0},null,{"$f":"IF(AQ131=\"\",\"\",OK)","v":""},{"$f":"IF(AQ131=\"\",\"\",IF(AND(AR$107=\"L\",AR131=\"DNC\"),$I$2,\nIF(AR131=OK,AT131,IF(HLOOKUP(AR131,Comments3,2,FALSE)=D,AT$107,IF(HLOOKUP(AR131,Comments3,2,FALSE)=A,VLOOKUP(AQ131,Averages,AQ$4,FALSE),IF(HLOOKUP(AR131,Comments3,2,FALSE)=E,VLOOKUP(AQ131,EventAverage,2,FALSE), HLOOKUP(AR131,Comments4,2,FALSE)))))))","v":""},{"$f":"COUNTIF(AR$108:AR131,OK)+COUNTIF(AR$108:AR131,RDGfix)+COUNTIF(AR$108:AR131,RDGave)+COUNTIF(AR$108:AR131,RDGevent)+AT$82-1","v":0},null,{"$f":"IF(AU131=\"\",\"\",OK)","v":""},{"$f":"IF(AU131=\"\",\"\",IF(AND(AV$107=\"L\",AV131=\"DNC\"),$I$2,\nIF(AV131=OK,AX131,IF(HLOOKUP(AV131,Comments3,2,FALSE)=D,AX$107,IF(HLOOKUP(AV131,Comments3,2,FALSE)=A,VLOOKUP(AU131,Averages,AU$4,FALSE),IF(HLOOKUP(AV131,Comments3,2,FALSE)=E,VLOOKUP(AU131,EventAverage,2,FALSE), HLOOKUP(AV131,Comments4,2,FALSE)))))))","v":""},{"$f":"COUNTIF(AV$108:AV131,OK)+COUNTIF(AV$108:AV131,RDGfix)+COUNTIF(AV$108:AV131,RDGave)+COUNTIF(AV$108:AV131,RDGevent)+AX$82-1","v":0},null,{"$f":"IF(AY131=\"\",\"\",OK)","v":""},{"$f":"IF(AY131=\"\",\"\",IF(AND(AZ$107=\"L\",AZ131=\"DNC\"),$I$2,\nIF(AZ131=OK,BB131,IF(HLOOKUP(AZ131,Comments3,2,FALSE)=D,BB$107,IF(HLOOKUP(AZ131,Comments3,2,FALSE)=A,VLOOKUP(AY131,Averages,AY$4,FALSE),IF(HLOOKUP(AZ131,Comments3,2,FALSE)=E,VLOOKUP(AY131,EventAverage,2,FALSE), HLOOKUP(AZ131,Comments4,2,FALSE)))))))","v":""},{"$f":"COUNTIF(AZ$108:AZ131,OK)+COUNTIF(AZ$108:AZ131,RDGfix)+COUNTIF(AZ$108:AZ131,RDGave)+COUNTIF(AZ$108:AZ131,RDGevent)+BB$82-1","v":0},null,{"$f":"IF(BC131=\"\",\"\",OK)","v":""},{"$f":"IF(BC131=\"\",\"\",IF(AND(BD$107=\"L\",BD131=\"DNC\"),$I$2,\nIF(BD131=OK,BF131,IF(HLOOKUP(BD131,Comments3,2,FALSE)=D,BF$107,IF(HLOOKUP(BD131,Comments3,2,FALSE)=A,VLOOKUP(BC131,Averages,BC$4,FALSE),IF(HLOOKUP(BD131,Comments3,2,FALSE)=E,VLOOKUP(BC131,EventAverage,2,FALSE), HLOOKUP(BD131,Comments4,2,FALSE)))))))","v":""},{"$f":"COUNTIF(BD$108:BD131,OK)+COUNTIF(BD$108:BD131,RDGfix)+COUNTIF(BD$108:BD131,RDGave)+COUNTIF(BD$108:BD131,RDGevent)+BF$82-1","v":0},null,{"$f":"IF(BG131=\"\",\"\",OK)","v":""},{"$f":"IF(BG131=\"\",\"\",IF(AND(BH$107=\"L\",BH131=\"DNC\"),$I$2,\nIF(BH131=OK,BJ131,IF(HLOOKUP(BH131,Comments3,2,FALSE)=D,BJ$107,IF(HLOOKUP(BH131,Comments3,2,FALSE)=A,VLOOKUP(BG131,Averages,BG$4,FALSE),IF(HLOOKUP(BH131,Comments3,2,FALSE)=E,VLOOKUP(BG131,EventAverage,2,FALSE), HLOOKUP(BH131,Comments4,2,FALSE)))))))","v":""},{"$f":"COUNTIF(BH$108:BH131,OK)+COUNTIF(BH$108:BH131,RDGfix)+COUNTIF(BH$108:BH131,RDGave)+COUNTIF(BH$108:BH131,RDGevent)+BJ$82-1","v":0},null,{"$f":"IF(BK131=\"\",\"\",OK)","v":""},{"$f":"IF(BK131=\"\",\"\",IF(AND(BL$107=\"L\",BL131=\"DNC\"),$I$2,\nIF(BL131=OK,BN131,IF(HLOOKUP(BL131,Comments3,2,FALSE)=D,BN$107,IF(HLOOKUP(BL131,Comments3,2,FALSE)=A,VLOOKUP(BK131,Averages,BK$4,FALSE),IF(HLOOKUP(BL131,Comments3,2,FALSE)=E,VLOOKUP(BK131,EventAverage,2,FALSE), HLOOKUP(BL131,Comments4,2,FALSE)))))))","v":""},{"$f":"COUNTIF(BL$108:BL131,OK)+COUNTIF(BL$108:BL131,RDGfix)+COUNTIF(BL$108:BL131,RDGave)+COUNTIF(BL$108:BL131,RDGevent)+BN$82-1","v":0},null,{"$f":"IF(BO131=\"\",\"\",OK)","v":""},{"$f":"IF(BO131=\"\",\"\",IF(AND(BP$107=\"L\",BP131=\"DNC\"),$I$2,\nIF(BP131=OK,BR131,IF(HLOOKUP(BP131,Comments3,2,FALSE)=D,BR$107,IF(HLOOKUP(BP131,Comments3,2,FALSE)=A,VLOOKUP(BO131,Averages,BO$4,FALSE),IF(HLOOKUP(BP131,Comments3,2,FALSE)=E,VLOOKUP(BO131,EventAverage,2,FALSE), HLOOKUP(BP131,Comments4,2,FALSE)))))))","v":""},{"$f":"COUNTIF(BP$108:BP131,OK)+COUNTIF(BP$108:BP131,RDGfix)+COUNTIF(BP$108:BP131,RDGave)+COUNTIF(BP$108:BP131,RDGevent)+BR$82-1","v":0},null,{"$f":"IF(BS131=\"\",\"\",OK)","v":""},{"$f":"IF(BS131=\"\",\"\",IF(AND(BT$107=\"L\",BT131=\"DNC\"),$I$2,\nIF(BT131=OK,BV131,IF(HLOOKUP(BT131,Comments3,2,FALSE)=D,BV$107,IF(HLOOKUP(BT131,Comments3,2,FALSE)=A,VLOOKUP(BS131,Averages,BS$4,FALSE),IF(HLOOKUP(BT131,Comments3,2,FALSE)=E,VLOOKUP(BS131,EventAverage,2,FALSE), HLOOKUP(BT131,Comments4,2,FALSE)))))))","v":""},{"$f":"COUNTIF(BT$108:BT131,OK)+COUNTIF(BT$108:BT131,RDGfix)+COUNTIF(BT$108:BT131,RDGave)+COUNTIF(BT$108:BT131,RDGevent)+BV$82-1","v":0},null,{"$f":"IF(BW131=\"\",\"\",OK)","v":""},{"$f":"IF(BW131=\"\",\"\",IF(AND(BX$107=\"L\",BX131=\"DNC\"),$I$2,\nIF(BX131=OK,BZ131,IF(HLOOKUP(BX131,Comments3,2,FALSE)=D,BZ$107,IF(HLOOKUP(BX131,Comments3,2,FALSE)=A,VLOOKUP(BW131,Averages,BW$4,FALSE),IF(HLOOKUP(BX131,Comments3,2,FALSE)=E,VLOOKUP(BW131,EventAverage,2,FALSE), HLOOKUP(BX131,Comments4,2,FALSE)))))))","v":""},{"$f":"COUNTIF(BX$108:BX131,OK)+COUNTIF(BX$108:BX131,RDGfix)+COUNTIF(BX$108:BX131,RDGave)+COUNTIF(BX$108:BX131,RDGevent)+BZ$82-1","v":0},null,{"$f":"IF(CA131=\"\",\"\",OK)","v":""},{"$f":"IF(CA131=\"\",\"\",IF(AND(CB$107=\"L\",CB131=\"DNC\"),$I$2,\nIF(CB131=OK,CD131,IF(HLOOKUP(CB131,Comments3,2,FALSE)=D,CD$107,IF(HLOOKUP(CB131,Comments3,2,FALSE)=A,VLOOKUP(CA131,Averages,CA$4,FALSE),IF(HLOOKUP(CB131,Comments3,2,FALSE)=E,VLOOKUP(CA131,EventAverage,2,FALSE), HLOOKUP(CB131,Comments4,2,FALSE)))))))","v":""},{"$f":"COUNTIF(CB$108:CB131,OK)+COUNTIF(CB$108:CB131,RDGfix)+COUNTIF(CB$108:CB131,RDGave)+COUNTIF(CB$108:CB131,RDGevent)+CD$82-1","v":0},null,{"$f":"IF(CE131=\"\",\"\",OK)","v":""},{"$f":"IF(CE131=\"\",\"\",IF(AND(CF$107=\"L\",CF131=\"DNC\"),$I$2,\nIF(CF131=OK,CH131,IF(HLOOKUP(CF131,Comments3,2,FALSE)=D,CH$107,IF(HLOOKUP(CF131,Comments3,2,FALSE)=A,VLOOKUP(CE131,Averages,CE$4,FALSE),IF(HLOOKUP(CF131,Comments3,2,FALSE)=E,VLOOKUP(CE131,EventAverage,2,FALSE), HLOOKUP(CF131,Comments4,2,FALSE)))))))","v":""},{"$f":"COUNTIF(CF$108:CF131,OK)+COUNTIF(CF$108:CF131,RDGfix)+COUNTIF(CF$108:CF131,RDGave)+COUNTIF(CF$108:CF131,RDGevent)+CH$82-1","v":0},null,{"$f":"IF(CI131=\"\",\"\",OK)","v":""},{"$f":"IF(CI131=\"\",\"\",IF(AND(CJ$107=\"L\",CJ131=\"DNC\"),$I$2,\nIF(CJ131=OK,CL131,IF(HLOOKUP(CJ131,Comments3,2,FALSE)=D,CL$107,IF(HLOOKUP(CJ131,Comments3,2,FALSE)=A,VLOOKUP(CI131,Averages,CI$4,FALSE),IF(HLOOKUP(CJ131,Comments3,2,FALSE)=E,VLOOKUP(CI131,EventAverage,2,FALSE), HLOOKUP(CJ131,Comments4,2,FALSE)))))))","v":""},{"$f":"COUNTIF(CJ$108:CJ131,OK)+COUNTIF(CJ$108:CJ131,RDGfix)+COUNTIF(CJ$108:CJ131,RDGave)+COUNTIF(CJ$108:CJ131,RDGevent)+CL$82-1","v":0},null,{"$f":"IF(CM131=\"\",\"\",OK)","v":""},{"$f":"IF(CM131=\"\",\"\",IF(AND(CN$107=\"L\",CN131=\"DNC\"),$I$2,\nIF(CN131=OK,CP131,IF(HLOOKUP(CN131,Comments3,2,FALSE)=D,CP$107,IF(HLOOKUP(CN131,Comments3,2,FALSE)=A,VLOOKUP(CM131,Averages,CM$4,FALSE),IF(HLOOKUP(CN131,Comments3,2,FALSE)=E,VLOOKUP(CM131,EventAverage,2,FALSE), HLOOKUP(CN131,Comments4,2,FALSE)))))))","v":""},{"$f":"COUNTIF(CN$108:CN131,OK)+COUNTIF(CN$108:CN131,RDGfix)+COUNTIF(CN$108:CN131,RDGave)+COUNTIF(CN$108:CN131,RDGevent)+CP$82-1","v":0},null,{"$f":"IF(CQ131=\"\",\"\",OK)","v":""},{"$f":"IF(CQ131=\"\",\"\",IF(AND(CR$107=\"L\",CR131=\"DNC\"),$I$2,\nIF(CR131=OK,CT131,IF(HLOOKUP(CR131,Comments3,2,FALSE)=D,CT$107,IF(HLOOKUP(CR131,Comments3,2,FALSE)=A,VLOOKUP(CQ131,Averages,CQ$4,FALSE),IF(HLOOKUP(CR131,Comments3,2,FALSE)=E,VLOOKUP(CQ131,EventAverage,2,FALSE), HLOOKUP(CR131,Comments4,2,FALSE)))))))","v":""},{"$f":"COUNTIF(CR$108:CR131,OK)+COUNTIF(CR$108:CR131,RDGfix)+COUNTIF(CR$108:CR131,RDGave)+COUNTIF(CR$108:CR131,RDGevent)+CT$82-1","v":0},null,{"$f":"IF(CU131=\"\",\"\",OK)","v":""},{"$f":"IF(CU131=\"\",\"\",IF(AND(CV$107=\"L\",CV131=\"DNC\"),$I$2,\nIF(CV131=OK,CX131,IF(HLOOKUP(CV131,Comments3,2,FALSE)=D,CX$107,IF(HLOOKUP(CV131,Comments3,2,FALSE)=A,VLOOKUP(CU131,Averages,CU$4,FALSE),IF(HLOOKUP(CV131,Comments3,2,FALSE)=E,VLOOKUP(CU131,EventAverage,2,FALSE), HLOOKUP(CV131,Comments4,2,FALSE)))))))","v":""},{"$f":"COUNTIF(CV$108:CV131,OK)+COUNTIF(CV$108:CV131,RDGfix)+COUNTIF(CV$108:CV131,RDGave)+COUNTIF(CV$108:CV131,RDGevent)+CX$82-1","v":0},null,{"$f":"IF(CY131=\"\",\"\",OK)","v":""},{"$f":"IF(CY131=\"\",\"\",IF(AND(CZ$107=\"L\",CZ131=\"DNC\"),$I$2,\nIF(CZ131=OK,DB131,IF(HLOOKUP(CZ131,Comments3,2,FALSE)=D,DB$107,IF(HLOOKUP(CZ131,Comments3,2,FALSE)=A,VLOOKUP(CY131,Averages,CY$4,FALSE),IF(HLOOKUP(CZ131,Comments3,2,FALSE)=E,VLOOKUP(CY131,EventAverage,2,FALSE), HLOOKUP(CZ131,Comments4,2,FALSE)))))))","v":""},{"$f":"COUNTIF(CZ$108:CZ131,OK)+COUNTIF(CZ$108:CZ131,RDGfix)+COUNTIF(CZ$108:CZ131,RDGave)+COUNTIF(CZ$108:CZ131,RDGevent)+DB$82-1","v":0},null,{"$f":"IF(DC131=\"\",\"\",OK)","v":""},{"$f":"IF(DC131=\"\",\"\",IF(AND(DD$107=\"L\",DD131=\"DNC\"),$I$2,\nIF(DD131=OK,DF131,IF(HLOOKUP(DD131,Comments3,2,FALSE)=D,DF$107,IF(HLOOKUP(DD131,Comments3,2,FALSE)=A,VLOOKUP(DC131,Averages,DC$4,FALSE),IF(HLOOKUP(DD131,Comments3,2,FALSE)=E,VLOOKUP(DC131,EventAverage,2,FALSE), HLOOKUP(DD131,Comments4,2,FALSE)))))))","v":""},{"$f":"COUNTIF(DD$108:DD131,OK)+COUNTIF(DD$108:DD131,RDGfix)+COUNTIF(DD$108:DD131,RDGave)+COUNTIF(DD$108:DD131,RDGevent)+DF$82-1","v":0},null,{"$f":"IF(DG131=\"\",\"\",OK)","v":""},{"$f":"IF(DG131=\"\",\"\",IF(AND(DH$107=\"L\",DH131=\"DNC\"),$I$2,\nIF(DH131=OK,DJ131,IF(HLOOKUP(DH131,Comments3,2,FALSE)=D,DJ$107,IF(HLOOKUP(DH131,Comments3,2,FALSE)=A,VLOOKUP(DG131,Averages,DG$4,FALSE),IF(HLOOKUP(DH131,Comments3,2,FALSE)=E,VLOOKUP(DG131,EventAverage,2,FALSE), HLOOKUP(DH131,Comments4,2,FALSE)))))))","v":""},{"$f":"COUNTIF(DH$108:DH131,OK)+COUNTIF(DH$108:DH131,RDGfix)+COUNTIF(DH$108:DH131,RDGave)+COUNTIF(DH$108:DH131,RDGevent)+DJ$82-1","v":0},null,{"$f":"IF(DK131=\"\",\"\",OK)","v":""},{"$f":"IF(DK131=\"\",\"\",IF(AND(DL$107=\"L\",DL131=\"DNC\"),$I$2,\nIF(DL131=OK,DN131,IF(HLOOKUP(DL131,Comments3,2,FALSE)=D,DN$107,IF(HLOOKUP(DL131,Comments3,2,FALSE)=A,VLOOKUP(DK131,Averages,DK$4,FALSE),IF(HLOOKUP(DL131,Comments3,2,FALSE)=E,VLOOKUP(DK131,EventAverage,2,FALSE), HLOOKUP(DL131,Comments4,2,FALSE)))))))","v":""},{"$f":"COUNTIF(DL$108:DL131,OK)+COUNTIF(DL$108:DL131,RDGfix)+COUNTIF(DL$108:DL131,RDGave)+COUNTIF(DL$108:DL131,RDGevent)+DN$82-1","v":0},null,{"$f":"IF(DO131=\"\",\"\",OK)","v":""},{"$f":"IF(DO131=\"\",\"\",IF(AND(DP$107=\"L\",DP131=\"DNC\"),$I$2,\nIF(DP131=OK,DR131,IF(HLOOKUP(DP131,Comments3,2,FALSE)=D,DR$107,IF(HLOOKUP(DP131,Comments3,2,FALSE)=A,VLOOKUP(DO131,Averages,DO$4,FALSE),IF(HLOOKUP(DP131,Comments3,2,FALSE)=E,VLOOKUP(DO131,EventAverage,2,FALSE), HLOOKUP(DP131,Comments4,2,FALSE)))))))","v":""},{"$f":"COUNTIF(DP$108:DP131,OK)+COUNTIF(DP$108:DP131,RDGfix)+COUNTIF(DP$108:DP131,RDGave)+COUNTIF(DP$108:DP131,RDGevent)+DR$82-1","v":0},null,{"$f":"IF(DS131=\"\",\"\",OK)","v":""},{"$f":"IF(DS131=\"\",\"\",IF(AND(DT$107=\"L\",DT131=\"DNC\"),$I$2,\nIF(DT131=OK,DV131,IF(HLOOKUP(DT131,Comments3,2,FALSE)=D,DV$107,IF(HLOOKUP(DT131,Comments3,2,FALSE)=A,VLOOKUP(DS131,Averages,DS$4,FALSE),IF(HLOOKUP(DT131,Comments3,2,FALSE)=E,VLOOKUP(DS131,EventAverage,2,FALSE), HLOOKUP(DT131,Comments4,2,FALSE)))))))","v":""},{"$f":"COUNTIF(DT$108:DT131,OK)+COUNTIF(DT$108:DT131,RDGfix)+COUNTIF(DT$108:DT131,RDGave)+COUNTIF(DT$108:DT131,RDGevent)+DV$82-1","v":0},null,{"$f":"IF(DW131=\"\",\"\",OK)","v":""},{"$f":"IF(DW131=\"\",\"\",IF(AND(DX$107=\"L\",DX131=\"DNC\"),$I$2,\nIF(DX131=OK,DZ131,IF(HLOOKUP(DX131,Comments3,2,FALSE)=D,DZ$107,IF(HLOOKUP(DX131,Comments3,2,FALSE)=A,VLOOKUP(DW131,Averages,DW$4,FALSE),IF(HLOOKUP(DX131,Comments3,2,FALSE)=E,VLOOKUP(DW131,EventAverage,2,FALSE), HLOOKUP(DX131,Comments4,2,FALSE)))))))","v":""},{"$f":"COUNTIF(DX$108:DX131,OK)+COUNTIF(DX$108:DX131,RDGfix)+COUNTIF(DX$108:DX131,RDGave)+COUNTIF(DX$108:DX131,RDGevent)+DZ$82-1","v":0},null,{"$f":"IF(EA131=\"\",\"\",OK)","v":""},{"$f":"IF(EA131=\"\",\"\",IF(AND(EB$107=\"L\",EB131=\"DNC\"),$I$2,\nIF(EB131=OK,ED131,IF(HLOOKUP(EB131,Comments3,2,FALSE)=D,ED$107,IF(HLOOKUP(EB131,Comments3,2,FALSE)=A,VLOOKUP(EA131,Averages,EA$4,FALSE),IF(HLOOKUP(EB131,Comments3,2,FALSE)=E,VLOOKUP(EA131,EventAverage,2,FALSE), HLOOKUP(EB131,Comments4,2,FALSE)))))))","v":""},{"$f":"COUNTIF(EB$108:EB131,OK)+COUNTIF(EB$108:EB131,RDGfix)+COUNTIF(EB$108:EB131,RDGave)+COUNTIF(EB$108:EB131,RDGevent)+ED$82-1","v":0},null,{"$f":"IF(EE131=\"\",\"\",OK)","v":""},{"$f":"IF(EE131=\"\",\"\",IF(AND(EF$107=\"L\",EF131=\"DNC\"),$I$2,\nIF(EF131=OK,EH131,IF(HLOOKUP(EF131,Comments3,2,FALSE)=D,EH$107,IF(HLOOKUP(EF131,Comments3,2,FALSE)=A,VLOOKUP(EE131,Averages,EE$4,FALSE),IF(HLOOKUP(EF131,Comments3,2,FALSE)=E,VLOOKUP(EE131,EventAverage,2,FALSE), HLOOKUP(EF131,Comments4,2,FALSE)))))))","v":""},{"$f":"COUNTIF(EF$108:EF131,OK)+COUNTIF(EF$108:EF131,RDGfix)+COUNTIF(EF$108:EF131,RDGave)+COUNTIF(EF$108:EF131,RDGevent)+EH$82-1","v":0},null,{"$f":"IF(EI131=\"\",\"\",OK)","v":""},{"$f":"IF(EI131=\"\",\"\",IF(AND(EJ$107=\"L\",EJ131=\"DNC\"),$I$2,\nIF(EJ131=OK,EL131,IF(HLOOKUP(EJ131,Comments3,2,FALSE)=D,EL$107,IF(HLOOKUP(EJ131,Comments3,2,FALSE)=A,VLOOKUP(EI131,Averages,EI$4,FALSE),IF(HLOOKUP(EJ131,Comments3,2,FALSE)=E,VLOOKUP(EI131,EventAverage,2,FALSE), HLOOKUP(EJ131,Comments4,2,FALSE)))))))","v":""},{"$f":"COUNTIF(EJ$108:EJ131,OK)+COUNTIF(EJ$108:EJ131,RDGfix)+COUNTIF(EJ$108:EJ131,RDGave)+COUNTIF(EJ$108:EJ131,RDGevent)+EL$82-1","v":0},null,{"$f":"IF(EM131=\"\",\"\",OK)","v":""},{"$f":"IF(EM131=\"\",\"\",IF(AND(EN$107=\"L\",EN131=\"DNC\"),$I$2,\nIF(EN131=OK,EP131,IF(HLOOKUP(EN131,Comments3,2,FALSE)=D,EP$107,IF(HLOOKUP(EN131,Comments3,2,FALSE)=A,VLOOKUP(EM131,Averages,EM$4,FALSE),IF(HLOOKUP(EN131,Comments3,2,FALSE)=E,VLOOKUP(EM131,EventAverage,2,FALSE), HLOOKUP(EN131,Comments4,2,FALSE)))))))","v":""},{"$f":"COUNTIF(EN$108:EN131,OK)+COUNTIF(EN$108:EN131,RDGfix)+COUNTIF(EN$108:EN131,RDGave)+COUNTIF(EN$108:EN131,RDGevent)+EP$82-1","v":0},null,{"$f":"IF(EQ131=\"\",\"\",OK)","v":""},{"$f":"IF(EQ131=\"\",\"\",IF(AND(ER$107=\"L\",ER131=\"DNC\"),$I$2,\nIF(ER131=OK,ET131,IF(HLOOKUP(ER131,Comments3,2,FALSE)=D,ET$107,IF(HLOOKUP(ER131,Comments3,2,FALSE)=A,VLOOKUP(EQ131,Averages,EQ$4,FALSE),IF(HLOOKUP(ER131,Comments3,2,FALSE)=E,VLOOKUP(EQ131,EventAverage,2,FALSE), HLOOKUP(ER131,Comments4,2,FALSE)))))))","v":""},{"$f":"COUNTIF(ER$108:ER131,OK)+COUNTIF(ER$108:ER131,RDGfix)+COUNTIF(ER$108:ER131,RDGave)+COUNTIF(ER$108:ER131,RDGevent)+ET$82-1","v":0},null,{"$f":"IF(EU131=\"\",\"\",OK)","v":""},{"$f":"IF(EU131=\"\",\"\",IF(AND(EV$107=\"L\",EV131=\"DNC\"),$I$2,\nIF(EV131=OK,EX131,IF(HLOOKUP(EV131,Comments3,2,FALSE)=D,EX$107,IF(HLOOKUP(EV131,Comments3,2,FALSE)=A,VLOOKUP(EU131,Averages,EU$4,FALSE),IF(HLOOKUP(EV131,Comments3,2,FALSE)=E,VLOOKUP(EU131,EventAverage,2,FALSE), HLOOKUP(EV131,Comments4,2,FALSE)))))))","v":""},{"$f":"COUNTIF(EV$108:EV131,OK)+COUNTIF(EV$108:EV131,RDGfix)+COUNTIF(EV$108:EV131,RDGave)+COUNTIF(EV$108:EV131,RDGevent)+EX$82-1","v":0},null,{"$f":"IF(EY131=\"\",\"\",OK)","v":""},{"$f":"IF(EY131=\"\",\"\",IF(AND(EZ$107=\"L\",EZ131=\"DNC\"),$I$2,\nIF(EZ131=OK,FB131,IF(HLOOKUP(EZ131,Comments3,2,FALSE)=D,FB$107,IF(HLOOKUP(EZ131,Comments3,2,FALSE)=A,VLOOKUP(EY131,Averages,EY$4,FALSE),IF(HLOOKUP(EZ131,Comments3,2,FALSE)=E,VLOOKUP(EY131,EventAverage,2,FALSE), HLOOKUP(EZ131,Comments4,2,FALSE)))))))","v":""},{"$f":"COUNTIF(EZ$108:EZ131,OK)+COUNTIF(EZ$108:EZ131,RDGfix)+COUNTIF(EZ$108:EZ131,RDGave)+COUNTIF(EZ$108:EZ131,RDGevent)+FB$82-1","v":0},null,{"$f":"IF(FC131=\"\",\"\",OK)","v":""},{"$f":"IF(FC131=\"\",\"\",IF(AND(FD$107=\"L\",FD131=\"DNC\"),$I$2,\nIF(FD131=OK,FF131,IF(HLOOKUP(FD131,Comments3,2,FALSE)=D,FF$107,IF(HLOOKUP(FD131,Comments3,2,FALSE)=A,VLOOKUP(FC131,Averages,FC$4,FALSE),IF(HLOOKUP(FD131,Comments3,2,FALSE)=E,VLOOKUP(FC131,EventAverage,2,FALSE), HLOOKUP(FD131,Comments4,2,FALSE)))))))","v":""},{"$f":"COUNTIF(FD$108:FD131,OK)+COUNTIF(FD$108:FD131,RDGfix)+COUNTIF(FD$108:FD131,RDGave)+COUNTIF(FD$108:FD131,RDGevent)+FF$82-1","v":0},null,{"$f":"IF(FG131=\"\",\"\",OK)","v":""},{"$f":"IF(FG131=\"\",\"\",IF(AND(FH$107=\"L\",FH131=\"DNC\"),$I$2,\nIF(FH131=OK,FJ131,IF(HLOOKUP(FH131,Comments3,2,FALSE)=D,FJ$107,IF(HLOOKUP(FH131,Comments3,2,FALSE)=A,VLOOKUP(FG131,Averages,FG$4,FALSE),IF(HLOOKUP(FH131,Comments3,2,FALSE)=E,VLOOKUP(FG131,EventAverage,2,FALSE), HLOOKUP(FH131,Comments4,2,FALSE)))))))","v":""},{"$f":"COUNTIF(FH$108:FH131,OK)+COUNTIF(FH$108:FH131,RDGfix)+COUNTIF(FH$108:FH131,RDGave)+COUNTIF(FH$108:FH131,RDGevent)+FJ$82-1","v":0}]
[null,"Withdrawn",{"$f":"IF(C$7<1,0,COUNTA(C133:C156))","v":0},null,null,null,{"$f":"IF(G$7<1,0,COUNTA(G133:G156))","v":0},null,null,{"$f":"G132+J107","v":1},{"$f":"IF(K$7<1,0,COUNTA(K133:K156))","v":0},null,null,{"$f":"K132+N107","v":1},{"$f":"IF(O$7<1,0,COUNTA(O133:O156))","v":0},null,null,{"$f":"O132+R107","v":1},{"$f":"IF(S$7<1,0,COUNTA(S133:S156))","v":0},null,null,{"$f":"S132+V107","v":1},{"$f":"IF(W$7<1,0,COUNTA(W133:W156))","v":0},null,null,{"$f":"W132+Z107","v":1},{"$f":"IF(AA$7<1,0,COUNTA(AA133:AA156))","v":0},null,null,{"$f":"AA132+AD107","v":1},{"$f":"IF(AE$7<1,0,COUNTA(AE133:AE156))","v":0},null,null,{"$f":"AE132+AH107","v":1},{"$f":"IF(AI$7<1,0,COUNTA(AI133:AI156))","v":0},null,null,{"$f":"AI132+AL107","v":1},{"$f":"IF(AM$7<1,0,COUNTA(AM133:AM156))","v":0},null,null,{"$f":"AM132+AP107","v":1},{"$f":"IF(AQ$7<1,0,COUNTA(AQ133:AQ156))","v":0},null,null,{"$f":"AQ132+AT107","v":1},{"$f":"IF(AU$7<1,0,COUNTA(AU133:AU156))","v":0},null,null,{"$f":"AU132+AX107","v":1},{"$f":"IF(AY$7<1,0,COUNTA(AY133:AY156))","v":0},null,null,{"$f":"AY132+BB107","v":1},{"$f":"IF(BC$7<1,0,COUNTA(BC133:BC156))","v":0},null,null,{"$f":"BC132+BF107","v":1},{"$f":"IF(BG$7<1,0,COUNTA(BG133:BG156))","v":0},null,null,{"$f":"BG132+BJ107","v":1},{"$f":"IF(BK$7<1,0,COUNTA(BK133:BK156))","v":0},null,null,{"$f":"BK132+BN107","v":1},{"$f":"IF(BO$7<1,0,COUNTA(BO133:BO156))","v":0},null,null,{"$f":"BO132+BR107","v":1},{"$f":"IF(BS$7<1,0,COUNTA(BS133:BS156))","v":0},null,null,{"$f":"BS132+BV107","v":1},{"$f":"IF(BW$7<1,0,COUNTA(BW133:BW156))","v":0},null,null,{"$f":"BW132+BZ107","v":1},{"$f":"IF(CA$7<1,0,COUNTA(CA133:CA156))","v":0},null,null,{"$f":"CA132+CD107","v":1},{"$f":"IF(CE$7<1,0,COUNTA(CE133:CE156))","v":0},null,null,{"$f":"CE132+CH107","v":1},{"$f":"IF(CI$7<1,0,COUNTA(CI133:CI156))","v":0},null,null,{"$f":"CI132+CL107","v":1},{"$f":"IF(CM$7<1,0,COUNTA(CM133:CM156))","v":0},null,null,{"$f":"CM132+CP107","v":1},{"$f":"IF(CQ$7<1,0,COUNTA(CQ133:CQ156))","v":0},null,null,{"$f":"CQ132+CT107","v":1},{"$f":"IF(CU$7<1,0,COUNTA(CU133:CU156))","v":0},null,null,{"$f":"CU132+CX107","v":1},{"$f":"IF(CY$7<1,0,COUNTA(CY133:CY156))","v":0},null,null,{"$f":"CY132+DB107","v":1},{"$f":"IF(DC$7<1,0,COUNTA(DC133:DC156))","v":0},null,null,{"$f":"DC132+DF107","v":1},{"$f":"IF(DG$7<1,0,COUNTA(DG133:DG156))","v":0},null,null,{"$f":"DG132+DJ107","v":1},{"$f":"IF(DK$7<1,0,COUNTA(DK133:DK156))","v":0},null,null,{"$f":"DK132+DN107","v":1},{"$f":"IF(DO$7<1,0,COUNTA(DO133:DO156))","v":0},null,null,{"$f":"DO132+DR107","v":1},{"$f":"IF(DS$7<1,0,COUNTA(DS133:DS156))","v":0},null,null,{"$f":"DS132+DV107","v":1},{"$f":"IF(DW$7<1,0,COUNTA(DW133:DW156))","v":0},null,null,{"$f":"DW132+DZ107","v":1},{"$f":"IF(EA$7<1,0,COUNTA(EA133:EA156))","v":0},null,null,{"$f":"EA132+ED107","v":1},{"$f":"IF(EE$7<1,0,COUNTA(EE133:EE156))","v":0},null,null,{"$f":"EE132+EH107","v":1},{"$f":"IF(EI$7<1,0,COUNTA(EI133:EI156))","v":0},null,null,{"$f":"EI132+EL107","v":1},0,null,null,{"$f":"EM132+EP107","v":1},{"$f":"IF(EQ$7<1,0,COUNTA(EQ133:EQ156))","v":0},null,null,{"$f":"EQ132+ET107","v":1},{"$f":"IF(EU$7<1,0,COUNTA(EU133:EU156))","v":0},null,null,{"$f":"EU132+EX107","v":1},{"$f":"IF(EY$7<1,0,COUNTA(EY133:EY156))","v":0},null,null,{"$f":"EY132+FB107","v":1},{"$f":"IF(FC$7<1,0,COUNTA(FC133:FC156))","v":0},null,null,{"$f":"FC132+FF107","v":1},{"$f":"IF(FG$7<1,0,COUNTA(FG133:FG156))","v":0},null,null,{"$f":"FG132+FJ107","v":1}]
[null,"boats",null,{"$f":"IF(C133=\"\",\"\",IF(C$7<1,\"\",WDN))","v":""},"",{"$f":"COUNTIF(D$133:D133,OK)+COUNTIF(D$133:D133,RDGfix)+COUNTIF(D$133:D133,RDGave)+COUNTIF(D$133:D133,RDGevent)","v":0},null,{"$f":"IF(G133=\"\",\"\",IF(G$7<1,\"\",WDN))","v":""},{"$f":"IF(G133=\"\",\"\",IF(H133=OK,J133,IF(HLOOKUP(H133,Comments3,2,FALSE)=D,J$132,IF(HLOOKUP(H133,Comments3,2,FALSE)=A,VLOOKUP(G133,Averages,G$4,FALSE),IF(HLOOKUP(H133,Comments3,2,FALSE)=E,VLOOKUP(G133,EventAverage,2,FALSE), HLOOKUP(H133,Comments4,2,FALSE))))))","v":""},{"$f":"COUNTIF(H$133:H133,OK)+COUNTIF(H$133:H133,RDGfix)+COUNTIF(H$133:H133,RDGave)+COUNTIF(H$133:H133,RDGevent)+J$107-1","v":0},null,{"$f":"IF(K133=\"\",\"\",IF(K$7<1,\"\",WDN))","v":""},{"$f":"IF(K133=\"\",\"\",IF(L133=OK,N133,IF(HLOOKUP(L133,Comments3,2,FALSE)=D,N$132,IF(HLOOKUP(L133,Comments3,2,FALSE)=A,VLOOKUP(K133,Averages,K$4,FALSE),IF(HLOOKUP(L133,Comments3,2,FALSE)=E,VLOOKUP(K133,EventAverage,2,FALSE), HLOOKUP(L133,Comments4,2,FALSE))))))","v":""},{"$f":"COUNTIF(L$133:L133,OK)+COUNTIF(L$133:L133,RDGfix)+COUNTIF(L$133:L133,RDGave)+COUNTIF(L$133:L133,RDGevent)+N$107-1","v":0},null,{"$f":"IF(O133=\"\",\"\",IF(O$7<1,\"\",WDN))","v":""},{"$f":"IF(O133=\"\",\"\",IF(P133=OK,R133,IF(HLOOKUP(P133,Comments3,2,FALSE)=D,R$132,IF(HLOOKUP(P133,Comments3,2,FALSE)=A,VLOOKUP(O133,Averages,O$4,FALSE),IF(HLOOKUP(P133,Comments3,2,FALSE)=E,VLOOKUP(O133,EventAverage,2,FALSE), HLOOKUP(P133,Comments4,2,FALSE))))))","v":""},{"$f":"COUNTIF(P$133:P133,OK)+COUNTIF(P$133:P133,RDGfix)+COUNTIF(P$133:P133,RDGave)+COUNTIF(P$133:P133,RDGevent)+R$107-1","v":0},null,{"$f":"IF(S133=\"\",\"\",IF(S$7<1,\"\",WDN))","v":""},{"$f":"IF(S133=\"\",\"\",IF(T133=OK,V133,IF(HLOOKUP(T133,Comments3,2,FALSE)=D,V$132,IF(HLOOKUP(T133,Comments3,2,FALSE)=A,VLOOKUP(S133,Averages,S$4,FALSE),IF(HLOOKUP(T133,Comments3,2,FALSE)=E,VLOOKUP(S133,EventAverage,2,FALSE), HLOOKUP(T133,Comments4,2,FALSE))))))","v":""},{"$f":"COUNTIF(T$133:T133,OK)+COUNTIF(T$133:T133,RDGfix)+COUNTIF(T$133:T133,RDGave)+COUNTIF(T$133:T133,RDGevent)+V$107-1","v":0},null,{"$f":"IF(W133=\"\",\"\",IF(W$7<1,\"\",WDN))","v":""},{"$f":"IF(W133=\"\",\"\",IF(X133=OK,Z133,IF(HLOOKUP(X133,Comments3,2,FALSE)=D,Z$132,IF(HLOOKUP(X133,Comments3,2,FALSE)=A,VLOOKUP(W133,Averages,W$4,FALSE),IF(HLOOKUP(X133,Comments3,2,FALSE)=E,VLOOKUP(W133,EventAverage,2,FALSE), HLOOKUP(X133,Comments4,2,FALSE))))))","v":""},{"$f":"COUNTIF(X$133:X133,OK)+COUNTIF(X$133:X133,RDGfix)+COUNTIF(X$133:X133,RDGave)+COUNTIF(X$133:X133,RDGevent)+Z$107-1","v":0},null,{"$f":"IF(AA133=\"\",\"\",IF(AA$7<1,\"\",WDN))","v":""},{"$f":"IF(AA133=\"\",\"\",IF(AB133=OK,AD133,IF(HLOOKUP(AB133,Comments3,2,FALSE)=D,AD$132,IF(HLOOKUP(AB133,Comments3,2,FALSE)=A,VLOOKUP(AA133,Averages,AA$4,FALSE),IF(HLOOKUP(AB133,Comments3,2,FALSE)=E,VLOOKUP(AA133,EventAverage,2,FALSE), HLOOKUP(AB133,Comments4,2,FALSE))))))","v":""},{"$f":"COUNTIF(AB$133:AB133,OK)+COUNTIF(AB$133:AB133,RDGfix)+COUNTIF(AB$133:AB133,RDGave)+COUNTIF(AB$133:AB133,RDGevent)+AD$107-1","v":0},null,{"$f":"IF(AE133=\"\",\"\",IF(AE$7<1,\"\",WDN))","v":""},{"$f":"IF(AE133=\"\",\"\",IF(AF133=OK,AH133,IF(HLOOKUP(AF133,Comments3,2,FALSE)=D,AH$132,IF(HLOOKUP(AF133,Comments3,2,FALSE)=A,VLOOKUP(AE133,Averages,AE$4,FALSE),IF(HLOOKUP(AF133,Comments3,2,FALSE)=E,VLOOKUP(AE133,EventAverage,2,FALSE), HLOOKUP(AF133,Comments4,2,FALSE))))))","v":""},{"$f":"COUNTIF(AF$133:AF133,OK)+COUNTIF(AF$133:AF133,RDGfix)+COUNTIF(AF$133:AF133,RDGave)+COUNTIF(AF$133:AF133,RDGevent)+AH$107-1","v":0},null,{"$f":"IF(AI133=\"\",\"\",IF(AI$7<1,\"\",WDN))","v":""},{"$f":"IF(AI133=\"\",\"\",IF(AJ133=OK,AL133,IF(HLOOKUP(AJ133,Comments3,2,FALSE)=D,AL$132,IF(HLOOKUP(AJ133,Comments3,2,FALSE)=A,VLOOKUP(AI133,Averages,AI$4,FALSE),IF(HLOOKUP(AJ133,Comments3,2,FALSE)=E,VLOOKUP(AI133,EventAverage,2,FALSE), HLOOKUP(AJ133,Comments4,2,FALSE))))))","v":""},{"$f":"COUNTIF(AJ$133:AJ133,OK)+COUNTIF(AJ$133:AJ133,RDGfix)+COUNTIF(AJ$133:AJ133,RDGave)+COUNTIF(AJ$133:AJ133,RDGevent)+AL$107-1","v":0},null,{"$f":"IF(AM133=\"\",\"\",IF(AM$7<1,\"\",WDN))","v":""},{"$f":"IF(AM133=\"\",\"\",IF(AN133=OK,AP133,IF(HLOOKUP(AN133,Comments3,2,FALSE)=D,AP$132,IF(HLOOKUP(AN133,Comments3,2,FALSE)=A,VLOOKUP(AM133,Averages,AM$4,FALSE),IF(HLOOKUP(AN133,Comments3,2,FALSE)=E,VLOOKUP(AM133,EventAverage,2,FALSE), HLOOKUP(AN133,Comments4,2,FALSE))))))","v":""},{"$f":"COUNTIF(AN$133:AN133,OK)+COUNTIF(AN$133:AN133,RDGfix)+COUNTIF(AN$133:AN133,RDGave)+COUNTIF(AN$133:AN133,RDGevent)+AP$107-1","v":0},null,{"$f":"IF(AQ133=\"\",\"\",IF(AQ$7<1,\"\",WDN))","v":""},{"$f":"IF(AQ133=\"\",\"\",IF(AR133=OK,AT133,IF(HLOOKUP(AR133,Comments3,2,FALSE)=D,AT$132,IF(HLOOKUP(AR133,Comments3,2,FALSE)=A,VLOOKUP(AQ133,Averages,AQ$4,FALSE),IF(HLOOKUP(AR133,Comments3,2,FALSE)=E,VLOOKUP(AQ133,EventAverage,2,FALSE), HLOOKUP(AR133,Comments4,2,FALSE))))))","v":""},{"$f":"COUNTIF(AR$133:AR133,OK)+COUNTIF(AR$133:AR133,RDGfix)+COUNTIF(AR$133:AR133,RDGave)+COUNTIF(AR$133:AR133,RDGevent)+AT$107-1","v":0},null,{"$f":"IF(AU133=\"\",\"\",IF(AU$7<1,\"\",WDN))","v":""},{"$f":"IF(AU133=\"\",\"\",IF(AV133=OK,AX133,IF(HLOOKUP(AV133,Comments3,2,FALSE)=D,AX$132,IF(HLOOKUP(AV133,Comments3,2,FALSE)=A,VLOOKUP(AU133,Averages,AU$4,FALSE),IF(HLOOKUP(AV133,Comments3,2,FALSE)=E,VLOOKUP(AU133,EventAverage,2,FALSE), HLOOKUP(AV133,Comments4,2,FALSE))))))","v":""},{"$f":"COUNTIF(AV$133:AV133,OK)+COUNTIF(AV$133:AV133,RDGfix)+COUNTIF(AV$133:AV133,RDGave)+COUNTIF(AV$133:AV133,RDGevent)+AX$107-1","v":0},null,{"$f":"IF(AY133=\"\",\"\",IF(AY$7<1,\"\",WDN))","v":""},{"$f":"IF(AY133=\"\",\"\",IF(AZ133=OK,BB133,IF(HLOOKUP(AZ133,Comments3,2,FALSE)=D,BB$132,IF(HLOOKUP(AZ133,Comments3,2,FALSE)=A,VLOOKUP(AY133,Averages,AY$4,FALSE),IF(HLOOKUP(AZ133,Comments3,2,FALSE)=E,VLOOKUP(AY133,EventAverage,2,FALSE), HLOOKUP(AZ133,Comments4,2,FALSE))))))","v":""},{"$f":"COUNTIF(AZ$133:AZ133,OK)+COUNTIF(AZ$133:AZ133,RDGfix)+COUNTIF(AZ$133:AZ133,RDGave)+COUNTIF(AZ$133:AZ133,RDGevent)+BB$107-1","v":0},null,{"$f":"IF(BC133=\"\",\"\",IF(BC$7<1,\"\",WDN))","v":""},{"$f":"IF(BC133=\"\",\"\",IF(BD133=OK,BF133,IF(HLOOKUP(BD133,Comments3,2,FALSE)=D,BF$132,IF(HLOOKUP(BD133,Comments3,2,FALSE)=A,VLOOKUP(BC133,Averages,BC$4,FALSE),IF(HLOOKUP(BD133,Comments3,2,FALSE)=E,VLOOKUP(BC133,EventAverage,2,FALSE), HLOOKUP(BD133,Comments4,2,FALSE))))))","v":""},{"$f":"COUNTIF(BD$133:BD133,OK)+COUNTIF(BD$133:BD133,RDGfix)+COUNTIF(BD$133:BD133,RDGave)+COUNTIF(BD$133:BD133,RDGevent)+BF$107-1","v":0},null,{"$f":"IF(BG133=\"\",\"\",IF(BG$7<1,\"\",WDN))","v":""},{"$f":"IF(BG133=\"\",\"\",IF(BH133=OK,BJ133,IF(HLOOKUP(BH133,Comments3,2,FALSE)=D,BJ$132,IF(HLOOKUP(BH133,Comments3,2,FALSE)=A,VLOOKUP(BG133,Averages,BG$4,FALSE),IF(HLOOKUP(BH133,Comments3,2,FALSE)=E,VLOOKUP(BG133,EventAverage,2,FALSE), HLOOKUP(BH133,Comments4,2,FALSE))))))","v":""},{"$f":"COUNTIF(BH$133:BH133,OK)+COUNTIF(BH$133:BH133,RDGfix)+COUNTIF(BH$133:BH133,RDGave)+COUNTIF(BH$133:BH133,RDGevent)+BJ$107-1","v":0},null,{"$f":"IF(BK133=\"\",\"\",IF(BK$7<1,\"\",WDN))","v":""},{"$f":"IF(BK133=\"\",\"\",IF(BL133=OK,BN133,IF(HLOOKUP(BL133,Comments3,2,FALSE)=D,BN$132,IF(HLOOKUP(BL133,Comments3,2,FALSE)=A,VLOOKUP(BK133,Averages,BK$4,FALSE),IF(HLOOKUP(BL133,Comments3,2,FALSE)=E,VLOOKUP(BK133,EventAverage,2,FALSE), HLOOKUP(BL133,Comments4,2,FALSE))))))","v":""},{"$f":"COUNTIF(BL$133:BL133,OK)+COUNTIF(BL$133:BL133,RDGfix)+COUNTIF(BL$133:BL133,RDGave)+COUNTIF(BL$133:BL133,RDGevent)+BN$107-1","v":0},null,{"$f":"IF(BO133=\"\",\"\",IF(BO$7<1,\"\",WDN))","v":""},{"$f":"IF(BO133=\"\",\"\",IF(BP133=OK,BR133,IF(HLOOKUP(BP133,Comments3,2,FALSE)=D,BR$132,IF(HLOOKUP(BP133,Comments3,2,FALSE)=A,VLOOKUP(BO133,Averages,BO$4,FALSE),IF(HLOOKUP(BP133,Comments3,2,FALSE)=E,VLOOKUP(BO133,EventAverage,2,FALSE), HLOOKUP(BP133,Comments4,2,FALSE))))))","v":""},{"$f":"COUNTIF(BP$133:BP133,OK)+COUNTIF(BP$133:BP133,RDGfix)+COUNTIF(BP$133:BP133,RDGave)+COUNTIF(BP$133:BP133,RDGevent)+BR$107-1","v":0},null,{"$f":"IF(BS133=\"\",\"\",IF(BS$7<1,\"\",WDN))","v":""},{"$f":"IF(BS133=\"\",\"\",IF(BT133=OK,BV133,IF(HLOOKUP(BT133,Comments3,2,FALSE)=D,BV$132,IF(HLOOKUP(BT133,Comments3,2,FALSE)=A,VLOOKUP(BS133,Averages,BS$4,FALSE),IF(HLOOKUP(BT133,Comments3,2,FALSE)=E,VLOOKUP(BS133,EventAverage,2,FALSE), HLOOKUP(BT133,Comments4,2,FALSE))))))","v":""},{"$f":"COUNTIF(BT$133:BT133,OK)+COUNTIF(BT$133:BT133,RDGfix)+COUNTIF(BT$133:BT133,RDGave)+COUNTIF(BT$133:BT133,RDGevent)+BV$107-1","v":0},null,{"$f":"IF(BW133=\"\",\"\",IF(BW$7<1,\"\",WDN))","v":""},{"$f":"IF(BW133=\"\",\"\",IF(BX133=OK,BZ133,IF(HLOOKUP(BX133,Comments3,2,FALSE)=D,BZ$132,IF(HLOOKUP(BX133,Comments3,2,FALSE)=A,VLOOKUP(BW133,Averages,BW$4,FALSE),IF(HLOOKUP(BX133,Comments3,2,FALSE)=E,VLOOKUP(BW133,EventAverage,2,FALSE), HLOOKUP(BX133,Comments4,2,FALSE))))))","v":""},{"$f":"COUNTIF(BX$133:BX133,OK)+COUNTIF(BX$133:BX133,RDGfix)+COUNTIF(BX$133:BX133,RDGave)+COUNTIF(BX$133:BX133,RDGevent)+BZ$107-1","v":0},null,{"$f":"IF(CA133=\"\",\"\",IF(CA$7<1,\"\",WDN))","v":""},{"$f":"IF(CA133=\"\",\"\",IF(CB133=OK,CD133,IF(HLOOKUP(CB133,Comments3,2,FALSE)=D,CD$132,IF(HLOOKUP(CB133,Comments3,2,FALSE)=A,VLOOKUP(CA133,Averages,CA$4,FALSE),IF(HLOOKUP(CB133,Comments3,2,FALSE)=E,VLOOKUP(CA133,EventAverage,2,FALSE), HLOOKUP(CB133,Comments4,2,FALSE))))))","v":""},{"$f":"COUNTIF(CB$133:CB133,OK)+COUNTIF(CB$133:CB133,RDGfix)+COUNTIF(CB$133:CB133,RDGave)+COUNTIF(CB$133:CB133,RDGevent)+CD$107-1","v":0},null,{"$f":"IF(CE133=\"\",\"\",IF(CE$7<1,\"\",WDN))","v":""},{"$f":"IF(CE133=\"\",\"\",IF(CF133=OK,CH133,IF(HLOOKUP(CF133,Comments3,2,FALSE)=D,CH$132,IF(HLOOKUP(CF133,Comments3,2,FALSE)=A,VLOOKUP(CE133,Averages,CE$4,FALSE),IF(HLOOKUP(CF133,Comments3,2,FALSE)=E,VLOOKUP(CE133,EventAverage,2,FALSE), HLOOKUP(CF133,Comments4,2,FALSE))))))","v":""},{"$f":"COUNTIF(CF$133:CF133,OK)+COUNTIF(CF$133:CF133,RDGfix)+COUNTIF(CF$133:CF133,RDGave)+COUNTIF(CF$133:CF133,RDGevent)+CH$107-1","v":0},null,{"$f":"IF(CI133=\"\",\"\",IF(CI$7<1,\"\",WDN))","v":""},{"$f":"IF(CI133=\"\",\"\",IF(CJ133=OK,CL133,IF(HLOOKUP(CJ133,Comments3,2,FALSE)=D,CL$132,IF(HLOOKUP(CJ133,Comments3,2,FALSE)=A,VLOOKUP(CI133,Averages,CI$4,FALSE),IF(HLOOKUP(CJ133,Comments3,2,FALSE)=E,VLOOKUP(CI133,EventAverage,2,FALSE), HLOOKUP(CJ133,Comments4,2,FALSE))))))","v":""},{"$f":"COUNTIF(CJ$133:CJ133,OK)+COUNTIF(CJ$133:CJ133,RDGfix)+COUNTIF(CJ$133:CJ133,RDGave)+COUNTIF(CJ$133:CJ133,RDGevent)+CL$107-1","v":0},null,{"$f":"IF(CM133=\"\",\"\",IF(CM$7<1,\"\",WDN))","v":""},{"$f":"IF(CM133=\"\",\"\",IF(CN133=OK,CP133,IF(HLOOKUP(CN133,Comments3,2,FALSE)=D,CP$132,IF(HLOOKUP(CN133,Comments3,2,FALSE)=A,VLOOKUP(CM133,Averages,CM$4,FALSE),IF(HLOOKUP(CN133,Comments3,2,FALSE)=E,VLOOKUP(CM133,EventAverage,2,FALSE), HLOOKUP(CN133,Comments4,2,FALSE))))))","v":""},{"$f":"COUNTIF(CN$133:CN133,OK)+COUNTIF(CN$133:CN133,RDGfix)+COUNTIF(CN$133:CN133,RDGave)+COUNTIF(CN$133:CN133,RDGevent)+CP$107-1","v":0},null,{"$f":"IF(CQ133=\"\",\"\",IF(CQ$7<1,\"\",WDN))","v":""},{"$f":"IF(CQ133=\"\",\"\",IF(CR133=OK,CT133,IF(HLOOKUP(CR133,Comments3,2,FALSE)=D,CT$132,IF(HLOOKUP(CR133,Comments3,2,FALSE)=A,VLOOKUP(CQ133,Averages,CQ$4,FALSE),IF(HLOOKUP(CR133,Comments3,2,FALSE)=E,VLOOKUP(CQ133,EventAverage,2,FALSE), HLOOKUP(CR133,Comments4,2,FALSE))))))","v":""},{"$f":"COUNTIF(CR$133:CR133,OK)+COUNTIF(CR$133:CR133,RDGfix)+COUNTIF(CR$133:CR133,RDGave)+COUNTIF(CR$133:CR133,RDGevent)+CT$107-1","v":0},null,{"$f":"IF(CU133=\"\",\"\",IF(CU$7<1,\"\",WDN))","v":""},{"$f":"IF(CU133=\"\",\"\",IF(CV133=OK,CX133,IF(HLOOKUP(CV133,Comments3,2,FALSE)=D,CX$132,IF(HLOOKUP(CV133,Comments3,2,FALSE)=A,VLOOKUP(CU133,Averages,CU$4,FALSE),IF(HLOOKUP(CV133,Comments3,2,FALSE)=E,VLOOKUP(CU133,EventAverage,2,FALSE), HLOOKUP(CV133,Comments4,2,FALSE))))))","v":""},{"$f":"COUNTIF(CV$133:CV133,OK)+COUNTIF(CV$133:CV133,RDGfix)+COUNTIF(CV$133:CV133,RDGave)+COUNTIF(CV$133:CV133,RDGevent)+CX$107-1","v":0},null,{"$f":"IF(CY133=\"\",\"\",IF(CY$7<1,\"\",WDN))","v":""},{"$f":"IF(CY133=\"\",\"\",IF(CZ133=OK,DB133,IF(HLOOKUP(CZ133,Comments3,2,FALSE)=D,DB$132,IF(HLOOKUP(CZ133,Comments3,2,FALSE)=A,VLOOKUP(CY133,Averages,CY$4,FALSE),IF(HLOOKUP(CZ133,Comments3,2,FALSE)=E,VLOOKUP(CY133,EventAverage,2,FALSE), HLOOKUP(CZ133,Comments4,2,FALSE))))))","v":""},{"$f":"COUNTIF(CZ$133:CZ133,OK)+COUNTIF(CZ$133:CZ133,RDGfix)+COUNTIF(CZ$133:CZ133,RDGave)+COUNTIF(CZ$133:CZ133,RDGevent)+DB$107-1","v":0},null,{"$f":"IF(DC133=\"\",\"\",IF(DC$7<1,\"\",WDN))","v":""},{"$f":"IF(DC133=\"\",\"\",IF(DD133=OK,DF133,IF(HLOOKUP(DD133,Comments3,2,FALSE)=D,DF$132,IF(HLOOKUP(DD133,Comments3,2,FALSE)=A,VLOOKUP(DC133,Averages,DC$4,FALSE),IF(HLOOKUP(DD133,Comments3,2,FALSE)=E,VLOOKUP(DC133,EventAverage,2,FALSE), HLOOKUP(DD133,Comments4,2,FALSE))))))","v":""},{"$f":"COUNTIF(DD$133:DD133,OK)+COUNTIF(DD$133:DD133,RDGfix)+COUNTIF(DD$133:DD133,RDGave)+COUNTIF(DD$133:DD133,RDGevent)+DF$107-1","v":0},null,{"$f":"IF(DG133=\"\",\"\",IF(DG$7<1,\"\",WDN))","v":""},{"$f":"IF(DG133=\"\",\"\",IF(DH133=OK,DJ133,IF(HLOOKUP(DH133,Comments3,2,FALSE)=D,DJ$132,IF(HLOOKUP(DH133,Comments3,2,FALSE)=A,VLOOKUP(DG133,Averages,DG$4,FALSE),IF(HLOOKUP(DH133,Comments3,2,FALSE)=E,VLOOKUP(DG133,EventAverage,2,FALSE), HLOOKUP(DH133,Comments4,2,FALSE))))))","v":""},{"$f":"COUNTIF(DH$133:DH133,OK)+COUNTIF(DH$133:DH133,RDGfix)+COUNTIF(DH$133:DH133,RDGave)+COUNTIF(DH$133:DH133,RDGevent)+DJ$107-1","v":0},null,{"$f":"IF(DK133=\"\",\"\",IF(DK$7<1,\"\",WDN))","v":""},{"$f":"IF(DK133=\"\",\"\",IF(DL133=OK,DN133,IF(HLOOKUP(DL133,Comments3,2,FALSE)=D,DN$132,IF(HLOOKUP(DL133,Comments3,2,FALSE)=A,VLOOKUP(DK133,Averages,DK$4,FALSE),IF(HLOOKUP(DL133,Comments3,2,FALSE)=E,VLOOKUP(DK133,EventAverage,2,FALSE), HLOOKUP(DL133,Comments4,2,FALSE))))))","v":""},{"$f":"COUNTIF(DL$133:DL133,OK)+COUNTIF(DL$133:DL133,RDGfix)+COUNTIF(DL$133:DL133,RDGave)+COUNTIF(DL$133:DL133,RDGevent)+DN$107-1","v":0},null,{"$f":"IF(DO133=\"\",\"\",IF(DO$7<1,\"\",WDN))","v":""},{"$f":"IF(DO133=\"\",\"\",IF(DP133=OK,DR133,IF(HLOOKUP(DP133,Comments3,2,FALSE)=D,DR$132,IF(HLOOKUP(DP133,Comments3,2,FALSE)=A,VLOOKUP(DO133,Averages,DO$4,FALSE),IF(HLOOKUP(DP133,Comments3,2,FALSE)=E,VLOOKUP(DO133,EventAverage,2,FALSE), HLOOKUP(DP133,Comments4,2,FALSE))))))","v":""},{"$f":"COUNTIF(DP$133:DP133,OK)+COUNTIF(DP$133:DP133,RDGfix)+COUNTIF(DP$133:DP133,RDGave)+COUNTIF(DP$133:DP133,RDGevent)+DR$107-1","v":0},null,{"$f":"IF(DS133=\"\",\"\",IF(DS$7<1,\"\",WDN))","v":""},{"$f":"IF(DS133=\"\",\"\",IF(DT133=OK,DV133,IF(HLOOKUP(DT133,Comments3,2,FALSE)=D,DV$132,IF(HLOOKUP(DT133,Comments3,2,FALSE)=A,VLOOKUP(DS133,Averages,DS$4,FALSE),IF(HLOOKUP(DT133,Comments3,2,FALSE)=E,VLOOKUP(DS133,EventAverage,2,FALSE), HLOOKUP(DT133,Comments4,2,FALSE))))))","v":""},{"$f":"COUNTIF(DT$133:DT133,OK)+COUNTIF(DT$133:DT133,RDGfix)+COUNTIF(DT$133:DT133,RDGave)+COUNTIF(DT$133:DT133,RDGevent)+DV$107-1","v":0},null,{"$f":"IF(DW133=\"\",\"\",IF(DW$7<1,\"\",WDN))","v":""},{"$f":"IF(DW133=\"\",\"\",IF(DX133=OK,DZ133,IF(HLOOKUP(DX133,Comments3,2,FALSE)=D,DZ$132,IF(HLOOKUP(DX133,Comments3,2,FALSE)=A,VLOOKUP(DW133,Averages,DW$4,FALSE),IF(HLOOKUP(DX133,Comments3,2,FALSE)=E,VLOOKUP(DW133,EventAverage,2,FALSE), HLOOKUP(DX133,Comments4,2,FALSE))))))","v":""},{"$f":"COUNTIF(DX$133:DX133,OK)+COUNTIF(DX$133:DX133,RDGfix)+COUNTIF(DX$133:DX133,RDGave)+COUNTIF(DX$133:DX133,RDGevent)+DZ$107-1","v":0},null,{"$f":"IF(EA133=\"\",\"\",IF(EA$7<1,\"\",WDN))","v":""},{"$f":"IF(EA133=\"\",\"\",IF(EB133=OK,ED133,IF(HLOOKUP(EB133,Comments3,2,FALSE)=D,ED$132,IF(HLOOKUP(EB133,Comments3,2,FALSE)=A,VLOOKUP(EA133,Averages,EA$4,FALSE),IF(HLOOKUP(EB133,Comments3,2,FALSE)=E,VLOOKUP(EA133,EventAverage,2,FALSE), HLOOKUP(EB133,Comments4,2,FALSE))))))","v":""},{"$f":"COUNTIF(EB$133:EB133,OK)+COUNTIF(EB$133:EB133,RDGfix)+COUNTIF(EB$133:EB133,RDGave)+COUNTIF(EB$133:EB133,RDGevent)+ED$107-1","v":0},null,{"$f":"IF(EE133=\"\",\"\",IF(EE$7<1,\"\",WDN))","v":""},{"$f":"IF(EE133=\"\",\"\",IF(EF133=OK,EH133,IF(HLOOKUP(EF133,Comments3,2,FALSE)=D,EH$132,IF(HLOOKUP(EF133,Comments3,2,FALSE)=A,VLOOKUP(EE133,Averages,EE$4,FALSE),IF(HLOOKUP(EF133,Comments3,2,FALSE)=E,VLOOKUP(EE133,EventAverage,2,FALSE), HLOOKUP(EF133,Comments4,2,FALSE))))))","v":""},{"$f":"COUNTIF(EF$133:EF133,OK)+COUNTIF(EF$133:EF133,RDGfix)+COUNTIF(EF$133:EF133,RDGave)+COUNTIF(EF$133:EF133,RDGevent)+EH$107-1","v":0},null,{"$f":"IF(EI133=\"\",\"\",IF(EI$7<1,\"\",WDN))","v":""},{"$f":"IF(EI133=\"\",\"\",IF(EJ133=OK,EL133,IF(HLOOKUP(EJ133,Comments3,2,FALSE)=D,EL$132,IF(HLOOKUP(EJ133,Comments3,2,FALSE)=A,VLOOKUP(EI133,Averages,EI$4,FALSE),IF(HLOOKUP(EJ133,Comments3,2,FALSE)=E,VLOOKUP(EI133,EventAverage,2,FALSE), HLOOKUP(EJ133,Comments4,2,FALSE))))))","v":""},{"$f":"COUNTIF(EJ$133:EJ133,OK)+COUNTIF(EJ$133:EJ133,RDGfix)+COUNTIF(EJ$133:EJ133,RDGave)+COUNTIF(EJ$133:EJ133,RDGevent)+EL$107-1","v":0},null,{"$f":"IF(EM133=\"\",\"\",IF(EM$7<1,\"\",WDN))","v":""},{"$f":"IF(EM133=\"\",\"\",IF(EN133=OK,EP133,IF(HLOOKUP(EN133,Comments3,2,FALSE)=D,EP$132,IF(HLOOKUP(EN133,Comments3,2,FALSE)=A,VLOOKUP(EM133,Averages,EM$4,FALSE),IF(HLOOKUP(EN133,Comments3,2,FALSE)=E,VLOOKUP(EM133,EventAverage,2,FALSE), HLOOKUP(EN133,Comments4,2,FALSE))))))","v":""},{"$f":"COUNTIF(EN$133:EN133,OK)+COUNTIF(EN$133:EN133,RDGfix)+COUNTIF(EN$133:EN133,RDGave)+COUNTIF(EN$133:EN133,RDGevent)+EP$107-1","v":0},null,{"$f":"IF(EQ133=\"\",\"\",IF(EQ$7<1,\"\",WDN))","v":""},{"$f":"IF(EQ133=\"\",\"\",IF(ER133=OK,ET133,IF(HLOOKUP(ER133,Comments3,2,FALSE)=D,ET$132,IF(HLOOKUP(ER133,Comments3,2,FALSE)=A,VLOOKUP(EQ133,Averages,EQ$4,FALSE),IF(HLOOKUP(ER133,Comments3,2,FALSE)=E,VLOOKUP(EQ133,EventAverage,2,FALSE), HLOOKUP(ER133,Comments4,2,FALSE))))))","v":""},{"$f":"COUNTIF(ER$133:ER133,OK)+COUNTIF(ER$133:ER133,RDGfix)+COUNTIF(ER$133:ER133,RDGave)+COUNTIF(ER$133:ER133,RDGevent)+ET$107-1","v":0},null,{"$f":"IF(EU133=\"\",\"\",IF(EU$7<1,\"\",WDN))","v":""},{"$f":"IF(EU133=\"\",\"\",IF(EV133=OK,EX133,IF(HLOOKUP(EV133,Comments3,2,FALSE)=D,EX$132,IF(HLOOKUP(EV133,Comments3,2,FALSE)=A,VLOOKUP(EU133,Averages,EU$4,FALSE),IF(HLOOKUP(EV133,Comments3,2,FALSE)=E,VLOOKUP(EU133,EventAverage,2,FALSE), HLOOKUP(EV133,Comments4,2,FALSE))))))","v":""},{"$f":"COUNTIF(EV$133:EV133,OK)+COUNTIF(EV$133:EV133,RDGfix)+COUNTIF(EV$133:EV133,RDGave)+COUNTIF(EV$133:EV133,RDGevent)+EX$107-1","v":0},null,{"$f":"IF(EY133=\"\",\"\",IF(EY$7<1,\"\",WDN))","v":""},{"$f":"IF(EY133=\"\",\"\",IF(EZ133=OK,FB133,IF(HLOOKUP(EZ133,Comments3,2,FALSE)=D,FB$132,IF(HLOOKUP(EZ133,Comments3,2,FALSE)=A,VLOOKUP(EY133,Averages,EY$4,FALSE),IF(HLOOKUP(EZ133,Comments3,2,FALSE)=E,VLOOKUP(EY133,EventAverage,2,FALSE), HLOOKUP(EZ133,Comments4,2,FALSE))))))","v":""},{"$f":"COUNTIF(EZ$133:EZ133,OK)+COUNTIF(EZ$133:EZ133,RDGfix)+COUNTIF(EZ$133:EZ133,RDGave)+COUNTIF(EZ$133:EZ133,RDGevent)+FB$107-1","v":0},null,{"$f":"IF(FC133=\"\",\"\",IF(FC$7<1,\"\",WDN))","v":""},{"$f":"IF(FC133=\"\",\"\",IF(FD133=OK,FF133,IF(HLOOKUP(FD133,Comments3,2,FALSE)=D,FF$132,IF(HLOOKUP(FD133,Comments3,2,FALSE)=A,VLOOKUP(FC133,Averages,FC$4,FALSE),IF(HLOOKUP(FD133,Comments3,2,FALSE)=E,VLOOKUP(FC133,EventAverage,2,FALSE), HLOOKUP(FD133,Comments4,2,FALSE))))))","v":""},{"$f":"COUNTIF(FD$133:FD133,OK)+COUNTIF(FD$133:FD133,RDGfix)+COUNTIF(FD$133:FD133,RDGave)+COUNTIF(FD$133:FD133,RDGevent)+FF$107-1","v":0},null,{"$f":"IF(FG133=\"\",\"\",IF(FG$7<1,\"\",WDN))","v":""},{"$f":"IF(FG133=\"\",\"\",IF(FH133=OK,FJ133,IF(HLOOKUP(FH133,Comments3,2,FALSE)=D,FJ$132,IF(HLOOKUP(FH133,Comments3,2,FALSE)=A,VLOOKUP(FG133,Averages,FG$4,FALSE),IF(HLOOKUP(FH133,Comments3,2,FALSE)=E,VLOOKUP(FG133,EventAverage,2,FALSE), HLOOKUP(FH133,Comments4,2,FALSE))))))","v":""},{"$f":"COUNTIF(FH$133:FH133,OK)+COUNTIF(FH$133:FH133,RDGfix)+COUNTIF(FH$133:FH133,RDGave)+COUNTIF(FH$133:FH133,RDGevent)+FJ$107-1","v":0}]
[null,"in",null,"","",{"$f":"COUNTIF(D$133:D134,OK)+COUNTIF(D$133:D134,RDGfix)+COUNTIF(D$133:D134,RDGave)+COUNTIF(D$133:D134,RDGevent)","v":0},null,"","",{"$f":"COUNTIF(H$133:H134,OK)+COUNTIF(H$133:H134,RDGfix)+COUNTIF(H$133:H134,RDGave)+COUNTIF(H$133:H134,RDGevent)+J$107-1","v":0},null,"","",{"$f":"COUNTIF(L$133:L134,OK)+COUNTIF(L$133:L134,RDGfix)+COUNTIF(L$133:L134,RDGave)+COUNTIF(L$133:L134,RDGevent)+N$107-1","v":0},null,"","",{"$f":"COUNTIF(P$133:P134,OK)+COUNTIF(P$133:P134,RDGfix)+COUNTIF(P$133:P134,RDGave)+COUNTIF(P$133:P134,RDGevent)+R$107-1","v":0},null,"","",{"$f":"COUNTIF(T$133:T134,OK)+COUNTIF(T$133:T134,RDGfix)+COUNTIF(T$133:T134,RDGave)+COUNTIF(T$133:T134,RDGevent)+V$107-1","v":0},null,"","",{"$f":"COUNTIF(X$133:X134,OK)+COUNTIF(X$133:X134,RDGfix)+COUNTIF(X$133:X134,RDGave)+COUNTIF(X$133:X134,RDGevent)+Z$107-1","v":0},null,"","",{"$f":"COUNTIF(AB$133:AB134,OK)+COUNTIF(AB$133:AB134,RDGfix)+COUNTIF(AB$133:AB134,RDGave)+COUNTIF(AB$133:AB134,RDGevent)+AD$107-1","v":0},null,"","",{"$f":"COUNTIF(AF$133:AF134,OK)+COUNTIF(AF$133:AF134,RDGfix)+COUNTIF(AF$133:AF134,RDGave)+COUNTIF(AF$133:AF134,RDGevent)+AH$107-1","v":0},null,"","",{"$f":"COUNTIF(AJ$133:AJ134,OK)+COUNTIF(AJ$133:AJ134,RDGfix)+COUNTIF(AJ$133:AJ134,RDGave)+COUNTIF(AJ$133:AJ134,RDGevent)+AL$107-1","v":0},null,"","",{"$f":"COUNTIF(AN$133:AN134,OK)+COUNTIF(AN$133:AN134,RDGfix)+COUNTIF(AN$133:AN134,RDGave)+COUNTIF(AN$133:AN134,RDGevent)+AP$107-1","v":0},null,"","",{"$f":"COUNTIF(AR$133:AR134,OK)+COUNTIF(AR$133:AR134,RDGfix)+COUNTIF(AR$133:AR134,RDGave)+COUNTIF(AR$133:AR134,RDGevent)+AT$107-1","v":0},null,"","",{"$f":"COUNTIF(AV$133:AV134,OK)+COUNTIF(AV$133:AV134,RDGfix)+COUNTIF(AV$133:AV134,RDGave)+COUNTIF(AV$133:AV134,RDGevent)+AX$107-1","v":0},null,"","",{"$f":"COUNTIF(AZ$133:AZ134,OK)+COUNTIF(AZ$133:AZ134,RDGfix)+COUNTIF(AZ$133:AZ134,RDGave)+COUNTIF(AZ$133:AZ134,RDGevent)+BB$107-1","v":0},null,"","",{"$f":"COUNTIF(BD$133:BD134,OK)+COUNTIF(BD$133:BD134,RDGfix)+COUNTIF(BD$133:BD134,RDGave)+COUNTIF(BD$133:BD134,RDGevent)+BF$107-1","v":0},null,"","",{"$f":"COUNTIF(BH$133:BH134,OK)+COUNTIF(BH$133:BH134,RDGfix)+COUNTIF(BH$133:BH134,RDGave)+COUNTIF(BH$133:BH134,RDGevent)+BJ$107-1","v":0},null,"","",{"$f":"COUNTIF(BL$133:BL134,OK)+COUNTIF(BL$133:BL134,RDGfix)+COUNTIF(BL$133:BL134,RDGave)+COUNTIF(BL$133:BL134,RDGevent)+BN$107-1","v":0},null,"","",{"$f":"COUNTIF(BP$133:BP134,OK)+COUNTIF(BP$133:BP134,RDGfix)+COUNTIF(BP$133:BP134,RDGave)+COUNTIF(BP$133:BP134,RDGevent)+BR$107-1","v":0},null,"","",{"$f":"COUNTIF(BT$133:BT134,OK)+COUNTIF(BT$133:BT134,RDGfix)+COUNTIF(BT$133:BT134,RDGave)+COUNTIF(BT$133:BT134,RDGevent)+BV$107-1","v":0},null,"","",{"$f":"COUNTIF(BX$133:BX134,OK)+COUNTIF(BX$133:BX134,RDGfix)+COUNTIF(BX$133:BX134,RDGave)+COUNTIF(BX$133:BX134,RDGevent)+BZ$107-1","v":0},null,"","",{"$f":"COUNTIF(CB$133:CB134,OK)+COUNTIF(CB$133:CB134,RDGfix)+COUNTIF(CB$133:CB134,RDGave)+COUNTIF(CB$133:CB134,RDGevent)+CD$107-1","v":0},null,"","",{"$f":"COUNTIF(CF$133:CF134,OK)+COUNTIF(CF$133:CF134,RDGfix)+COUNTIF(CF$133:CF134,RDGave)+COUNTIF(CF$133:CF134,RDGevent)+CH$107-1","v":0},null,"","",{"$f":"COUNTIF(CJ$133:CJ134,OK)+COUNTIF(CJ$133:CJ134,RDGfix)+COUNTIF(CJ$133:CJ134,RDGave)+COUNTIF(CJ$133:CJ134,RDGevent)+CL$107-1","v":0},null,"","",{"$f":"COUNTIF(CN$133:CN134,OK)+COUNTIF(CN$133:CN134,RDGfix)+COUNTIF(CN$133:CN134,RDGave)+COUNTIF(CN$133:CN134,RDGevent)+CP$107-1","v":0},null,"","",{"$f":"COUNTIF(CR$133:CR134,OK)+COUNTIF(CR$133:CR134,RDGfix)+COUNTIF(CR$133:CR134,RDGave)+COUNTIF(CR$133:CR134,RDGevent)+CT$107-1","v":0},null,"","",{"$f":"COUNTIF(CV$133:CV134,OK)+COUNTIF(CV$133:CV134,RDGfix)+COUNTIF(CV$133:CV134,RDGave)+COUNTIF(CV$133:CV134,RDGevent)+CX$107-1","v":0},null,"","",{"$f":"COUNTIF(CZ$133:CZ134,OK)+COUNTIF(CZ$133:CZ134,RDGfix)+COUNTIF(CZ$133:CZ134,RDGave)+COUNTIF(CZ$133:CZ134,RDGevent)+DB$107-1","v":0},null,"","",{"$f":"COUNTIF(DD$133:DD134,OK)+COUNTIF(DD$133:DD134,RDGfix)+COUNTIF(DD$133:DD134,RDGave)+COUNTIF(DD$133:DD134,RDGevent)+DF$107-1","v":0},null,"","",{"$f":"COUNTIF(DH$133:DH134,OK)+COUNTIF(DH$133:DH134,RDGfix)+COUNTIF(DH$133:DH134,RDGave)+COUNTIF(DH$133:DH134,RDGevent)+DJ$107-1","v":0},null,"","",{"$f":"COUNTIF(DL$133:DL134,OK)+COUNTIF(DL$133:DL134,RDGfix)+COUNTIF(DL$133:DL134,RDGave)+COUNTIF(DL$133:DL134,RDGevent)+DN$107-1","v":0},null,"","",{"$f":"COUNTIF(DP$133:DP134,OK)+COUNTIF(DP$133:DP134,RDGfix)+COUNTIF(DP$133:DP134,RDGave)+COUNTIF(DP$133:DP134,RDGevent)+DR$107-1","v":0},null,"","",{"$f":"COUNTIF(DT$133:DT134,OK)+COUNTIF(DT$133:DT134,RDGfix)+COUNTIF(DT$133:DT134,RDGave)+COUNTIF(DT$133:DT134,RDGevent)+DV$107-1","v":0},null,"","",{"$f":"COUNTIF(DX$133:DX134,OK)+COUNTIF(DX$133:DX134,RDGfix)+COUNTIF(DX$133:DX134,RDGave)+COUNTIF(DX$133:DX134,RDGevent)+DZ$107-1","v":0},null,"","",{"$f":"COUNTIF(EB$133:EB134,OK)+COUNTIF(EB$133:EB134,RDGfix)+COUNTIF(EB$133:EB134,RDGave)+COUNTIF(EB$133:EB134,RDGevent)+ED$107-1","v":0},null,"","",{"$f":"COUNTIF(EF$133:EF134,OK)+COUNTIF(EF$133:EF134,RDGfix)+COUNTIF(EF$133:EF134,RDGave)+COUNTIF(EF$133:EF134,RDGevent)+EH$107-1","v":0},null,"","",{"$f":"COUNTIF(EJ$133:EJ134,OK)+COUNTIF(EJ$133:EJ134,RDGfix)+COUNTIF(EJ$133:EJ134,RDGave)+COUNTIF(EJ$133:EJ134,RDGevent)+EL$107-1","v":0},null,"","",{"$f":"COUNTIF(EN$133:EN134,OK)+COUNTIF(EN$133:EN134,RDGfix)+COUNTIF(EN$133:EN134,RDGave)+COUNTIF(EN$133:EN134,RDGevent)+EP$107-1","v":0},null,"","",{"$f":"COUNTIF(ER$133:ER134,OK)+COUNTIF(ER$133:ER134,RDGfix)+COUNTIF(ER$133:ER134,RDGave)+COUNTIF(ER$133:ER134,RDGevent)+ET$107-1","v":0},null,"","",{"$f":"COUNTIF(EV$133:EV134,OK)+COUNTIF(EV$133:EV134,RDGfix)+COUNTIF(EV$133:EV134,RDGave)+COUNTIF(EV$133:EV134,RDGevent)+EX$107-1","v":0},null,"","",{"$f":"COUNTIF(EZ$133:EZ134,OK)+COUNTIF(EZ$133:EZ134,RDGfix)+COUNTIF(EZ$133:EZ134,RDGave)+COUNTIF(EZ$133:EZ134,RDGevent)+FB$107-1","v":0},null,"","",{"$f":"COUNTIF(FD$133:FD134,OK)+COUNTIF(FD$133:FD134,RDGfix)+COUNTIF(FD$133:FD134,RDGave)+COUNTIF(FD$133:FD134,RDGevent)+FF$107-1","v":0},null,"","",{"$f":"COUNTIF(FH$133:FH134,OK)+COUNTIF(FH$133:FH134,RDGfix)+COUNTIF(FH$133:FH134,RDGave)+COUNTIF(FH$133:FH134,RDGevent)+FJ$107-1","v":0}]
[null,"any",null,"","",{"$f":"COUNTIF(D$133:D135,OK)+COUNTIF(D$133:D135,RDGfix)+COUNTIF(D$133:D135,RDGave)+COUNTIF(D$133:D135,RDGevent)","v":0},null,"","",{"$f":"COUNTIF(H$133:H135,OK)+COUNTIF(H$133:H135,RDGfix)+COUNTIF(H$133:H135,RDGave)+COUNTIF(H$133:H135,RDGevent)+J$107-1","v":0},null,"","",{"$f":"COUNTIF(L$133:L135,OK)+COUNTIF(L$133:L135,RDGfix)+COUNTIF(L$133:L135,RDGave)+COUNTIF(L$133:L135,RDGevent)+N$107-1","v":0},null,"","",{"$f":"COUNTIF(P$133:P135,OK)+COUNTIF(P$133:P135,RDGfix)+COUNTIF(P$133:P135,RDGave)+COUNTIF(P$133:P135,RDGevent)+R$107-1","v":0},null,"","",{"$f":"COUNTIF(T$133:T135,OK)+COUNTIF(T$133:T135,RDGfix)+COUNTIF(T$133:T135,RDGave)+COUNTIF(T$133:T135,RDGevent)+V$107-1","v":0},null,"","",{"$f":"COUNTIF(X$133:X135,OK)+COUNTIF(X$133:X135,RDGfix)+COUNTIF(X$133:X135,RDGave)+COUNTIF(X$133:X135,RDGevent)+Z$107-1","v":0},null,"","",{"$f":"COUNTIF(AB$133:AB135,OK)+COUNTIF(AB$133:AB135,RDGfix)+COUNTIF(AB$133:AB135,RDGave)+COUNTIF(AB$133:AB135,RDGevent)+AD$107-1","v":0},null,"","",{"$f":"COUNTIF(AF$133:AF135,OK)+COUNTIF(AF$133:AF135,RDGfix)+COUNTIF(AF$133:AF135,RDGave)+COUNTIF(AF$133:AF135,RDGevent)+AH$107-1","v":0},null,"","",{"$f":"COUNTIF(AJ$133:AJ135,OK)+COUNTIF(AJ$133:AJ135,RDGfix)+COUNTIF(AJ$133:AJ135,RDGave)+COUNTIF(AJ$133:AJ135,RDGevent)+AL$107-1","v":0},null,"","",{"$f":"COUNTIF(AN$133:AN135,OK)+COUNTIF(AN$133:AN135,RDGfix)+COUNTIF(AN$133:AN135,RDGave)+COUNTIF(AN$133:AN135,RDGevent)+AP$107-1","v":0},null,"","",{"$f":"COUNTIF(AR$133:AR135,OK)+COUNTIF(AR$133:AR135,RDGfix)+COUNTIF(AR$133:AR135,RDGave)+COUNTIF(AR$133:AR135,RDGevent)+AT$107-1","v":0},null,"","",{"$f":"COUNTIF(AV$133:AV135,OK)+COUNTIF(AV$133:AV135,RDGfix)+COUNTIF(AV$133:AV135,RDGave)+COUNTIF(AV$133:AV135,RDGevent)+AX$107-1","v":0},null,"","",{"$f":"COUNTIF(AZ$133:AZ135,OK)+COUNTIF(AZ$133:AZ135,RDGfix)+COUNTIF(AZ$133:AZ135,RDGave)+COUNTIF(AZ$133:AZ135,RDGevent)+BB$107-1","v":0},null,"","",{"$f":"COUNTIF(BD$133:BD135,OK)+COUNTIF(BD$133:BD135,RDGfix)+COUNTIF(BD$133:BD135,RDGave)+COUNTIF(BD$133:BD135,RDGevent)+BF$107-1","v":0},null,"","",{"$f":"COUNTIF(BH$133:BH135,OK)+COUNTIF(BH$133:BH135,RDGfix)+COUNTIF(BH$133:BH135,RDGave)+COUNTIF(BH$133:BH135,RDGevent)+BJ$107-1","v":0},null,"","",{"$f":"COUNTIF(BL$133:BL135,OK)+COUNTIF(BL$133:BL135,RDGfix)+COUNTIF(BL$133:BL135,RDGave)+COUNTIF(BL$133:BL135,RDGevent)+BN$107-1","v":0},null,"","",{"$f":"COUNTIF(BP$133:BP135,OK)+COUNTIF(BP$133:BP135,RDGfix)+COUNTIF(BP$133:BP135,RDGave)+COUNTIF(BP$133:BP135,RDGevent)+BR$107-1","v":0},null,"","",{"$f":"COUNTIF(BT$133:BT135,OK)+COUNTIF(BT$133:BT135,RDGfix)+COUNTIF(BT$133:BT135,RDGave)+COUNTIF(BT$133:BT135,RDGevent)+BV$107-1","v":0},null,"","",{"$f":"COUNTIF(BX$133:BX135,OK)+COUNTIF(BX$133:BX135,RDGfix)+COUNTIF(BX$133:BX135,RDGave)+COUNTIF(BX$133:BX135,RDGevent)+BZ$107-1","v":0},null,"","",{"$f":"COUNTIF(CB$133:CB135,OK)+COUNTIF(CB$133:CB135,RDGfix)+COUNTIF(CB$133:CB135,RDGave)+COUNTIF(CB$133:CB135,RDGevent)+CD$107-1","v":0},null,"","",{"$f":"COUNTIF(CF$133:CF135,OK)+COUNTIF(CF$133:CF135,RDGfix)+COUNTIF(CF$133:CF135,RDGave)+COUNTIF(CF$133:CF135,RDGevent)+CH$107-1","v":0},null,"","",{"$f":"COUNTIF(CJ$133:CJ135,OK)+COUNTIF(CJ$133:CJ135,RDGfix)+COUNTIF(CJ$133:CJ135,RDGave)+COUNTIF(CJ$133:CJ135,RDGevent)+CL$107-1","v":0},null,"","",{"$f":"COUNTIF(CN$133:CN135,OK)+COUNTIF(CN$133:CN135,RDGfix)+COUNTIF(CN$133:CN135,RDGave)+COUNTIF(CN$133:CN135,RDGevent)+CP$107-1","v":0},null,"","",{"$f":"COUNTIF(CR$133:CR135,OK)+COUNTIF(CR$133:CR135,RDGfix)+COUNTIF(CR$133:CR135,RDGave)+COUNTIF(CR$133:CR135,RDGevent)+CT$107-1","v":0},null,"","",{"$f":"COUNTIF(CV$133:CV135,OK)+COUNTIF(CV$133:CV135,RDGfix)+COUNTIF(CV$133:CV135,RDGave)+COUNTIF(CV$133:CV135,RDGevent)+CX$107-1","v":0},null,"","",{"$f":"COUNTIF(CZ$133:CZ135,OK)+COUNTIF(CZ$133:CZ135,RDGfix)+COUNTIF(CZ$133:CZ135,RDGave)+COUNTIF(CZ$133:CZ135,RDGevent)+DB$107-1","v":0},null,"","",{"$f":"COUNTIF(DD$133:DD135,OK)+COUNTIF(DD$133:DD135,RDGfix)+COUNTIF(DD$133:DD135,RDGave)+COUNTIF(DD$133:DD135,RDGevent)+DF$107-1","v":0},null,"","",{"$f":"COUNTIF(DH$133:DH135,OK)+COUNTIF(DH$133:DH135,RDGfix)+COUNTIF(DH$133:DH135,RDGave)+COUNTIF(DH$133:DH135,RDGevent)+DJ$107-1","v":0},null,"","",{"$f":"COUNTIF(DL$133:DL135,OK)+COUNTIF(DL$133:DL135,RDGfix)+COUNTIF(DL$133:DL135,RDGave)+COUNTIF(DL$133:DL135,RDGevent)+DN$107-1","v":0},null,"","",{"$f":"COUNTIF(DP$133:DP135,OK)+COUNTIF(DP$133:DP135,RDGfix)+COUNTIF(DP$133:DP135,RDGave)+COUNTIF(DP$133:DP135,RDGevent)+DR$107-1","v":0},null,"","",{"$f":"COUNTIF(DT$133:DT135,OK)+COUNTIF(DT$133:DT135,RDGfix)+COUNTIF(DT$133:DT135,RDGave)+COUNTIF(DT$133:DT135,RDGevent)+DV$107-1","v":0},null,"","",{"$f":"COUNTIF(DX$133:DX135,OK)+COUNTIF(DX$133:DX135,RDGfix)+COUNTIF(DX$133:DX135,RDGave)+COUNTIF(DX$133:DX135,RDGevent)+DZ$107-1","v":0},null,"","",{"$f":"COUNTIF(EB$133:EB135,OK)+COUNTIF(EB$133:EB135,RDGfix)+COUNTIF(EB$133:EB135,RDGave)+COUNTIF(EB$133:EB135,RDGevent)+ED$107-1","v":0},null,"","",{"$f":"COUNTIF(EF$133:EF135,OK)+COUNTIF(EF$133:EF135,RDGfix)+COUNTIF(EF$133:EF135,RDGave)+COUNTIF(EF$133:EF135,RDGevent)+EH$107-1","v":0},null,"","",{"$f":"COUNTIF(EJ$133:EJ135,OK)+COUNTIF(EJ$133:EJ135,RDGfix)+COUNTIF(EJ$133:EJ135,RDGave)+COUNTIF(EJ$133:EJ135,RDGevent)+EL$107-1","v":0},null,"","",{"$f":"COUNTIF(EN$133:EN135,OK)+COUNTIF(EN$133:EN135,RDGfix)+COUNTIF(EN$133:EN135,RDGave)+COUNTIF(EN$133:EN135,RDGevent)+EP$107-1","v":0},null,"","",{"$f":"COUNTIF(ER$133:ER135,OK)+COUNTIF(ER$133:ER135,RDGfix)+COUNTIF(ER$133:ER135,RDGave)+COUNTIF(ER$133:ER135,RDGevent)+ET$107-1","v":0},null,"","",{"$f":"COUNTIF(EV$133:EV135,OK)+COUNTIF(EV$133:EV135,RDGfix)+COUNTIF(EV$133:EV135,RDGave)+COUNTIF(EV$133:EV135,RDGevent)+EX$107-1","v":0},null,"","",{"$f":"COUNTIF(EZ$133:EZ135,OK)+COUNTIF(EZ$133:EZ135,RDGfix)+COUNTIF(EZ$133:EZ135,RDGave)+COUNTIF(EZ$133:EZ135,RDGevent)+FB$107-1","v":0},null,"","",{"$f":"COUNTIF(FD$133:FD135,OK)+COUNTIF(FD$133:FD135,RDGfix)+COUNTIF(FD$133:FD135,RDGave)+COUNTIF(FD$133:FD135,RDGevent)+FF$107-1","v":0},null,"","",{"$f":"COUNTIF(FH$133:FH135,OK)+COUNTIF(FH$133:FH135,RDGfix)+COUNTIF(FH$133:FH135,RDGave)+COUNTIF(FH$133:FH135,RDGevent)+FJ$107-1","v":0}]
[null,"order",null,"","",{"$f":"COUNTIF(D$133:D136,OK)+COUNTIF(D$133:D136,RDGfix)+COUNTIF(D$133:D136,RDGave)+COUNTIF(D$133:D136,RDGevent)","v":0},null,"","",{"$f":"COUNTIF(H$133:H136,OK)+COUNTIF(H$133:H136,RDGfix)+COUNTIF(H$133:H136,RDGave)+COUNTIF(H$133:H136,RDGevent)+J$107-1","v":0},null,"","",{"$f":"COUNTIF(L$133:L136,OK)+COUNTIF(L$133:L136,RDGfix)+COUNTIF(L$133:L136,RDGave)+COUNTIF(L$133:L136,RDGevent)+N$107-1","v":0},null,"","",{"$f":"COUNTIF(P$133:P136,OK)+COUNTIF(P$133:P136,RDGfix)+COUNTIF(P$133:P136,RDGave)+COUNTIF(P$133:P136,RDGevent)+R$107-1","v":0},null,"","",{"$f":"COUNTIF(T$133:T136,OK)+COUNTIF(T$133:T136,RDGfix)+COUNTIF(T$133:T136,RDGave)+COUNTIF(T$133:T136,RDGevent)+V$107-1","v":0},null,"","",{"$f":"COUNTIF(X$133:X136,OK)+COUNTIF(X$133:X136,RDGfix)+COUNTIF(X$133:X136,RDGave)+COUNTIF(X$133:X136,RDGevent)+Z$107-1","v":0},null,"","",{"$f":"COUNTIF(AB$133:AB136,OK)+COUNTIF(AB$133:AB136,RDGfix)+COUNTIF(AB$133:AB136,RDGave)+COUNTIF(AB$133:AB136,RDGevent)+AD$107-1","v":0},null,"","",{"$f":"COUNTIF(AF$133:AF136,OK)+COUNTIF(AF$133:AF136,RDGfix)+COUNTIF(AF$133:AF136,RDGave)+COUNTIF(AF$133:AF136,RDGevent)+AH$107-1","v":0},null,"","",{"$f":"COUNTIF(AJ$133:AJ136,OK)+COUNTIF(AJ$133:AJ136,RDGfix)+COUNTIF(AJ$133:AJ136,RDGave)+COUNTIF(AJ$133:AJ136,RDGevent)+AL$107-1","v":0},null,"","",{"$f":"COUNTIF(AN$133:AN136,OK)+COUNTIF(AN$133:AN136,RDGfix)+COUNTIF(AN$133:AN136,RDGave)+COUNTIF(AN$133:AN136,RDGevent)+AP$107-1","v":0},null,"","",{"$f":"COUNTIF(AR$133:AR136,OK)+COUNTIF(AR$133:AR136,RDGfix)+COUNTIF(AR$133:AR136,RDGave)+COUNTIF(AR$133:AR136,RDGevent)+AT$107-1","v":0},null,"","",{"$f":"COUNTIF(AV$133:AV136,OK)+COUNTIF(AV$133:AV136,RDGfix)+COUNTIF(AV$133:AV136,RDGave)+COUNTIF(AV$133:AV136,RDGevent)+AX$107-1","v":0},null,"","",{"$f":"COUNTIF(AZ$133:AZ136,OK)+COUNTIF(AZ$133:AZ136,RDGfix)+COUNTIF(AZ$133:AZ136,RDGave)+COUNTIF(AZ$133:AZ136,RDGevent)+BB$107-1","v":0},null,"","",{"$f":"COUNTIF(BD$133:BD136,OK)+COUNTIF(BD$133:BD136,RDGfix)+COUNTIF(BD$133:BD136,RDGave)+COUNTIF(BD$133:BD136,RDGevent)+BF$107-1","v":0},null,"","",{"$f":"COUNTIF(BH$133:BH136,OK)+COUNTIF(BH$133:BH136,RDGfix)+COUNTIF(BH$133:BH136,RDGave)+COUNTIF(BH$133:BH136,RDGevent)+BJ$107-1","v":0},null,"","",{"$f":"COUNTIF(BL$133:BL136,OK)+COUNTIF(BL$133:BL136,RDGfix)+COUNTIF(BL$133:BL136,RDGave)+COUNTIF(BL$133:BL136,RDGevent)+BN$107-1","v":0},null,"","",{"$f":"COUNTIF(BP$133:BP136,OK)+COUNTIF(BP$133:BP136,RDGfix)+COUNTIF(BP$133:BP136,RDGave)+COUNTIF(BP$133:BP136,RDGevent)+BR$107-1","v":0},null,"","",{"$f":"COUNTIF(BT$133:BT136,OK)+COUNTIF(BT$133:BT136,RDGfix)+COUNTIF(BT$133:BT136,RDGave)+COUNTIF(BT$133:BT136,RDGevent)+BV$107-1","v":0},null,"","",{"$f":"COUNTIF(BX$133:BX136,OK)+COUNTIF(BX$133:BX136,RDGfix)+COUNTIF(BX$133:BX136,RDGave)+COUNTIF(BX$133:BX136,RDGevent)+BZ$107-1","v":0},null,"","",{"$f":"COUNTIF(CB$133:CB136,OK)+COUNTIF(CB$133:CB136,RDGfix)+COUNTIF(CB$133:CB136,RDGave)+COUNTIF(CB$133:CB136,RDGevent)+CD$107-1","v":0},null,"","",{"$f":"COUNTIF(CF$133:CF136,OK)+COUNTIF(CF$133:CF136,RDGfix)+COUNTIF(CF$133:CF136,RDGave)+COUNTIF(CF$133:CF136,RDGevent)+CH$107-1","v":0},null,"","",{"$f":"COUNTIF(CJ$133:CJ136,OK)+COUNTIF(CJ$133:CJ136,RDGfix)+COUNTIF(CJ$133:CJ136,RDGave)+COUNTIF(CJ$133:CJ136,RDGevent)+CL$107-1","v":0},null,"","",{"$f":"COUNTIF(CN$133:CN136,OK)+COUNTIF(CN$133:CN136,RDGfix)+COUNTIF(CN$133:CN136,RDGave)+COUNTIF(CN$133:CN136,RDGevent)+CP$107-1","v":0},null,"","",{"$f":"COUNTIF(CR$133:CR136,OK)+COUNTIF(CR$133:CR136,RDGfix)+COUNTIF(CR$133:CR136,RDGave)+COUNTIF(CR$133:CR136,RDGevent)+CT$107-1","v":0},null,"","",{"$f":"COUNTIF(CV$133:CV136,OK)+COUNTIF(CV$133:CV136,RDGfix)+COUNTIF(CV$133:CV136,RDGave)+COUNTIF(CV$133:CV136,RDGevent)+CX$107-1","v":0},null,"","",{"$f":"COUNTIF(CZ$133:CZ136,OK)+COUNTIF(CZ$133:CZ136,RDGfix)+COUNTIF(CZ$133:CZ136,RDGave)+COUNTIF(CZ$133:CZ136,RDGevent)+DB$107-1","v":0},null,"","",{"$f":"COUNTIF(DD$133:DD136,OK)+COUNTIF(DD$133:DD136,RDGfix)+COUNTIF(DD$133:DD136,RDGave)+COUNTIF(DD$133:DD136,RDGevent)+DF$107-1","v":0},null,"","",{"$f":"COUNTIF(DH$133:DH136,OK)+COUNTIF(DH$133:DH136,RDGfix)+COUNTIF(DH$133:DH136,RDGave)+COUNTIF(DH$133:DH136,RDGevent)+DJ$107-1","v":0},null,"","",{"$f":"COUNTIF(DL$133:DL136,OK)+COUNTIF(DL$133:DL136,RDGfix)+COUNTIF(DL$133:DL136,RDGave)+COUNTIF(DL$133:DL136,RDGevent)+DN$107-1","v":0},null,"","",{"$f":"COUNTIF(DP$133:DP136,OK)+COUNTIF(DP$133:DP136,RDGfix)+COUNTIF(DP$133:DP136,RDGave)+COUNTIF(DP$133:DP136,RDGevent)+DR$107-1","v":0},null,"","",{"$f":"COUNTIF(DT$133:DT136,OK)+COUNTIF(DT$133:DT136,RDGfix)+COUNTIF(DT$133:DT136,RDGave)+COUNTIF(DT$133:DT136,RDGevent)+DV$107-1","v":0},null,"","",{"$f":"COUNTIF(DX$133:DX136,OK)+COUNTIF(DX$133:DX136,RDGfix)+COUNTIF(DX$133:DX136,RDGave)+COUNTIF(DX$133:DX136,RDGevent)+DZ$107-1","v":0},null,"","",{"$f":"COUNTIF(EB$133:EB136,OK)+COUNTIF(EB$133:EB136,RDGfix)+COUNTIF(EB$133:EB136,RDGave)+COUNTIF(EB$133:EB136,RDGevent)+ED$107-1","v":0},null,"","",{"$f":"COUNTIF(EF$133:EF136,OK)+COUNTIF(EF$133:EF136,RDGfix)+COUNTIF(EF$133:EF136,RDGave)+COUNTIF(EF$133:EF136,RDGevent)+EH$107-1","v":0},null,"","",{"$f":"COUNTIF(EJ$133:EJ136,OK)+COUNTIF(EJ$133:EJ136,RDGfix)+COUNTIF(EJ$133:EJ136,RDGave)+COUNTIF(EJ$133:EJ136,RDGevent)+EL$107-1","v":0},null,"","",{"$f":"COUNTIF(EN$133:EN136,OK)+COUNTIF(EN$133:EN136,RDGfix)+COUNTIF(EN$133:EN136,RDGave)+COUNTIF(EN$133:EN136,RDGevent)+EP$107-1","v":0},null,"","",{"$f":"COUNTIF(ER$133:ER136,OK)+COUNTIF(ER$133:ER136,RDGfix)+COUNTIF(ER$133:ER136,RDGave)+COUNTIF(ER$133:ER136,RDGevent)+ET$107-1","v":0},null,"","",{"$f":"COUNTIF(EV$133:EV136,OK)+COUNTIF(EV$133:EV136,RDGfix)+COUNTIF(EV$133:EV136,RDGave)+COUNTIF(EV$133:EV136,RDGevent)+EX$107-1","v":0},null,"","",{"$f":"COUNTIF(EZ$133:EZ136,OK)+COUNTIF(EZ$133:EZ136,RDGfix)+COUNTIF(EZ$133:EZ136,RDGave)+COUNTIF(EZ$133:EZ136,RDGevent)+FB$107-1","v":0},null,"","",{"$f":"COUNTIF(FD$133:FD136,OK)+COUNTIF(FD$133:FD136,RDGfix)+COUNTIF(FD$133:FD136,RDGave)+COUNTIF(FD$133:FD136,RDGevent)+FF$107-1","v":0},null,"","",{"$f":"COUNTIF(FH$133:FH136,OK)+COUNTIF(FH$133:FH136,RDGfix)+COUNTIF(FH$133:FH136,RDGave)+COUNTIF(FH$133:FH136,RDGevent)+FJ$107-1","v":0}]
[null,null,null,"","",{"$f":"COUNTIF(D$133:D137,OK)+COUNTIF(D$133:D137,RDGfix)+COUNTIF(D$133:D137,RDGave)+COUNTIF(D$133:D137,RDGevent)","v":0},null,"","",{"$f":"COUNTIF(H$133:H137,OK)+COUNTIF(H$133:H137,RDGfix)+COUNTIF(H$133:H137,RDGave)+COUNTIF(H$133:H137,RDGevent)+J$107-1","v":0},null,"","",{"$f":"COUNTIF(L$133:L137,OK)+COUNTIF(L$133:L137,RDGfix)+COUNTIF(L$133:L137,RDGave)+COUNTIF(L$133:L137,RDGevent)+N$107-1","v":0},null,"","",{"$f":"COUNTIF(P$133:P137,OK)+COUNTIF(P$133:P137,RDGfix)+COUNTIF(P$133:P137,RDGave)+COUNTIF(P$133:P137,RDGevent)+R$107-1","v":0},null,"","",{"$f":"COUNTIF(T$133:T137,OK)+COUNTIF(T$133:T137,RDGfix)+COUNTIF(T$133:T137,RDGave)+COUNTIF(T$133:T137,RDGevent)+V$107-1","v":0},null,"","",{"$f":"COUNTIF(X$133:X137,OK)+COUNTIF(X$133:X137,RDGfix)+COUNTIF(X$133:X137,RDGave)+COUNTIF(X$133:X137,RDGevent)+Z$107-1","v":0},null,"","",{"$f":"COUNTIF(AB$133:AB137,OK)+COUNTIF(AB$133:AB137,RDGfix)+COUNTIF(AB$133:AB137,RDGave)+COUNTIF(AB$133:AB137,RDGevent)+AD$107-1","v":0},null,"","",{"$f":"COUNTIF(AF$133:AF137,OK)+COUNTIF(AF$133:AF137,RDGfix)+COUNTIF(AF$133:AF137,RDGave)+COUNTIF(AF$133:AF137,RDGevent)+AH$107-1","v":0},null,"","",{"$f":"COUNTIF(AJ$133:AJ137,OK)+COUNTIF(AJ$133:AJ137,RDGfix)+COUNTIF(AJ$133:AJ137,RDGave)+COUNTIF(AJ$133:AJ137,RDGevent)+AL$107-1","v":0},null,"","",{"$f":"COUNTIF(AN$133:AN137,OK)+COUNTIF(AN$133:AN137,RDGfix)+COUNTIF(AN$133:AN137,RDGave)+COUNTIF(AN$133:AN137,RDGevent)+AP$107-1","v":0},null,"","",{"$f":"COUNTIF(AR$133:AR137,OK)+COUNTIF(AR$133:AR137,RDGfix)+COUNTIF(AR$133:AR137,RDGave)+COUNTIF(AR$133:AR137,RDGevent)+AT$107-1","v":0},null,"","",{"$f":"COUNTIF(AV$133:AV137,OK)+COUNTIF(AV$133:AV137,RDGfix)+COUNTIF(AV$133:AV137,RDGave)+COUNTIF(AV$133:AV137,RDGevent)+AX$107-1","v":0},null,"","",{"$f":"COUNTIF(AZ$133:AZ137,OK)+COUNTIF(AZ$133:AZ137,RDGfix)+COUNTIF(AZ$133:AZ137,RDGave)+COUNTIF(AZ$133:AZ137,RDGevent)+BB$107-1","v":0},null,"","",{"$f":"COUNTIF(BD$133:BD137,OK)+COUNTIF(BD$133:BD137,RDGfix)+COUNTIF(BD$133:BD137,RDGave)+COUNTIF(BD$133:BD137,RDGevent)+BF$107-1","v":0},null,"","",{"$f":"COUNTIF(BH$133:BH137,OK)+COUNTIF(BH$133:BH137,RDGfix)+COUNTIF(BH$133:BH137,RDGave)+COUNTIF(BH$133:BH137,RDGevent)+BJ$107-1","v":0},null,"","",{"$f":"COUNTIF(BL$133:BL137,OK)+COUNTIF(BL$133:BL137,RDGfix)+COUNTIF(BL$133:BL137,RDGave)+COUNTIF(BL$133:BL137,RDGevent)+BN$107-1","v":0},null,"","",{"$f":"COUNTIF(BP$133:BP137,OK)+COUNTIF(BP$133:BP137,RDGfix)+COUNTIF(BP$133:BP137,RDGave)+COUNTIF(BP$133:BP137,RDGevent)+BR$107-1","v":0},null,"","",{"$f":"COUNTIF(BT$133:BT137,OK)+COUNTIF(BT$133:BT137,RDGfix)+COUNTIF(BT$133:BT137,RDGave)+COUNTIF(BT$133:BT137,RDGevent)+BV$107-1","v":0},null,"","",{"$f":"COUNTIF(BX$133:BX137,OK)+COUNTIF(BX$133:BX137,RDGfix)+COUNTIF(BX$133:BX137,RDGave)+COUNTIF(BX$133:BX137,RDGevent)+BZ$107-1","v":0},null,"","",{"$f":"COUNTIF(CB$133:CB137,OK)+COUNTIF(CB$133:CB137,RDGfix)+COUNTIF(CB$133:CB137,RDGave)+COUNTIF(CB$133:CB137,RDGevent)+CD$107-1","v":0},null,"","",{"$f":"COUNTIF(CF$133:CF137,OK)+COUNTIF(CF$133:CF137,RDGfix)+COUNTIF(CF$133:CF137,RDGave)+COUNTIF(CF$133:CF137,RDGevent)+CH$107-1","v":0},null,"","",{"$f":"COUNTIF(CJ$133:CJ137,OK)+COUNTIF(CJ$133:CJ137,RDGfix)+COUNTIF(CJ$133:CJ137,RDGave)+COUNTIF(CJ$133:CJ137,RDGevent)+CL$107-1","v":0},null,"","",{"$f":"COUNTIF(CN$133:CN137,OK)+COUNTIF(CN$133:CN137,RDGfix)+COUNTIF(CN$133:CN137,RDGave)+COUNTIF(CN$133:CN137,RDGevent)+CP$107-1","v":0},null,"","",{"$f":"COUNTIF(CR$133:CR137,OK)+COUNTIF(CR$133:CR137,RDGfix)+COUNTIF(CR$133:CR137,RDGave)+COUNTIF(CR$133:CR137,RDGevent)+CT$107-1","v":0},null,"","",{"$f":"COUNTIF(CV$133:CV137,OK)+COUNTIF(CV$133:CV137,RDGfix)+COUNTIF(CV$133:CV137,RDGave)+COUNTIF(CV$133:CV137,RDGevent)+CX$107-1","v":0},null,"","",{"$f":"COUNTIF(CZ$133:CZ137,OK)+COUNTIF(CZ$133:CZ137,RDGfix)+COUNTIF(CZ$133:CZ137,RDGave)+COUNTIF(CZ$133:CZ137,RDGevent)+DB$107-1","v":0},null,"","",{"$f":"COUNTIF(DD$133:DD137,OK)+COUNTIF(DD$133:DD137,RDGfix)+COUNTIF(DD$133:DD137,RDGave)+COUNTIF(DD$133:DD137,RDGevent)+DF$107-1","v":0},null,"","",{"$f":"COUNTIF(DH$133:DH137,OK)+COUNTIF(DH$133:DH137,RDGfix)+COUNTIF(DH$133:DH137,RDGave)+COUNTIF(DH$133:DH137,RDGevent)+DJ$107-1","v":0},null,"","",{"$f":"COUNTIF(DL$133:DL137,OK)+COUNTIF(DL$133:DL137,RDGfix)+COUNTIF(DL$133:DL137,RDGave)+COUNTIF(DL$133:DL137,RDGevent)+DN$107-1","v":0},null,"","",{"$f":"COUNTIF(DP$133:DP137,OK)+COUNTIF(DP$133:DP137,RDGfix)+COUNTIF(DP$133:DP137,RDGave)+COUNTIF(DP$133:DP137,RDGevent)+DR$107-1","v":0},null,"","",{"$f":"COUNTIF(DT$133:DT137,OK)+COUNTIF(DT$133:DT137,RDGfix)+COUNTIF(DT$133:DT137,RDGave)+COUNTIF(DT$133:DT137,RDGevent)+DV$107-1","v":0},null,"","",{"$f":"COUNTIF(DX$133:DX137,OK)+COUNTIF(DX$133:DX137,RDGfix)+COUNTIF(DX$133:DX137,RDGave)+COUNTIF(DX$133:DX137,RDGevent)+DZ$107-1","v":0},null,"","",{"$f":"COUNTIF(EB$133:EB137,OK)+COUNTIF(EB$133:EB137,RDGfix)+COUNTIF(EB$133:EB137,RDGave)+COUNTIF(EB$133:EB137,RDGevent)+ED$107-1","v":0},null,"","",{"$f":"COUNTIF(EF$133:EF137,OK)+COUNTIF(EF$133:EF137,RDGfix)+COUNTIF(EF$133:EF137,RDGave)+COUNTIF(EF$133:EF137,RDGevent)+EH$107-1","v":0},null,"","",{"$f":"COUNTIF(EJ$133:EJ137,OK)+COUNTIF(EJ$133:EJ137,RDGfix)+COUNTIF(EJ$133:EJ137,RDGave)+COUNTIF(EJ$133:EJ137,RDGevent)+EL$107-1","v":0},null,"","",{"$f":"COUNTIF(EN$133:EN137,OK)+COUNTIF(EN$133:EN137,RDGfix)+COUNTIF(EN$133:EN137,RDGave)+COUNTIF(EN$133:EN137,RDGevent)+EP$107-1","v":0},null,"","",{"$f":"COUNTIF(ER$133:ER137,OK)+COUNTIF(ER$133:ER137,RDGfix)+COUNTIF(ER$133:ER137,RDGave)+COUNTIF(ER$133:ER137,RDGevent)+ET$107-1","v":0},null,"","",{"$f":"COUNTIF(EV$133:EV137,OK)+COUNTIF(EV$133:EV137,RDGfix)+COUNTIF(EV$133:EV137,RDGave)+COUNTIF(EV$133:EV137,RDGevent)+EX$107-1","v":0},null,"","",{"$f":"COUNTIF(EZ$133:EZ137,OK)+COUNTIF(EZ$133:EZ137,RDGfix)+COUNTIF(EZ$133:EZ137,RDGave)+COUNTIF(EZ$133:EZ137,RDGevent)+FB$107-1","v":0},null,"","",{"$f":"COUNTIF(FD$133:FD137,OK)+COUNTIF(FD$133:FD137,RDGfix)+COUNTIF(FD$133:FD137,RDGave)+COUNTIF(FD$133:FD137,RDGevent)+FF$107-1","v":0},null,"","",{"$f":"COUNTIF(FH$133:FH137,OK)+COUNTIF(FH$133:FH137,RDGfix)+COUNTIF(FH$133:FH137,RDGave)+COUNTIF(FH$133:FH137,RDGevent)+FJ$107-1","v":0}]
[null,null,null,"","",{"$f":"COUNTIF(D$133:D138,OK)+COUNTIF(D$133:D138,RDGfix)+COUNTIF(D$133:D138,RDGave)+COUNTIF(D$133:D138,RDGevent)","v":0},null,"","",{"$f":"COUNTIF(H$133:H138,OK)+COUNTIF(H$133:H138,RDGfix)+COUNTIF(H$133:H138,RDGave)+COUNTIF(H$133:H138,RDGevent)+J$107-1","v":0},null,"","",{"$f":"COUNTIF(L$133:L138,OK)+COUNTIF(L$133:L138,RDGfix)+COUNTIF(L$133:L138,RDGave)+COUNTIF(L$133:L138,RDGevent)+N$107-1","v":0},null,"","",{"$f":"COUNTIF(P$133:P138,OK)+COUNTIF(P$133:P138,RDGfix)+COUNTIF(P$133:P138,RDGave)+COUNTIF(P$133:P138,RDGevent)+R$107-1","v":0},null,"","",{"$f":"COUNTIF(T$133:T138,OK)+COUNTIF(T$133:T138,RDGfix)+COUNTIF(T$133:T138,RDGave)+COUNTIF(T$133:T138,RDGevent)+V$107-1","v":0},null,"","",{"$f":"COUNTIF(X$133:X138,OK)+COUNTIF(X$133:X138,RDGfix)+COUNTIF(X$133:X138,RDGave)+COUNTIF(X$133:X138,RDGevent)+Z$107-1","v":0},null,"","",{"$f":"COUNTIF(AB$133:AB138,OK)+COUNTIF(AB$133:AB138,RDGfix)+COUNTIF(AB$133:AB138,RDGave)+COUNTIF(AB$133:AB138,RDGevent)+AD$107-1","v":0},null,"","",{"$f":"COUNTIF(AF$133:AF138,OK)+COUNTIF(AF$133:AF138,RDGfix)+COUNTIF(AF$133:AF138,RDGave)+COUNTIF(AF$133:AF138,RDGevent)+AH$107-1","v":0},null,"","",{"$f":"COUNTIF(AJ$133:AJ138,OK)+COUNTIF(AJ$133:AJ138,RDGfix)+COUNTIF(AJ$133:AJ138,RDGave)+COUNTIF(AJ$133:AJ138,RDGevent)+AL$107-1","v":0},null,"","",{"$f":"COUNTIF(AN$133:AN138,OK)+COUNTIF(AN$133:AN138,RDGfix)+COUNTIF(AN$133:AN138,RDGave)+COUNTIF(AN$133:AN138,RDGevent)+AP$107-1","v":0},null,"","",{"$f":"COUNTIF(AR$133:AR138,OK)+COUNTIF(AR$133:AR138,RDGfix)+COUNTIF(AR$133:AR138,RDGave)+COUNTIF(AR$133:AR138,RDGevent)+AT$107-1","v":0},null,"","",{"$f":"COUNTIF(AV$133:AV138,OK)+COUNTIF(AV$133:AV138,RDGfix)+COUNTIF(AV$133:AV138,RDGave)+COUNTIF(AV$133:AV138,RDGevent)+AX$107-1","v":0},null,"","",{"$f":"COUNTIF(AZ$133:AZ138,OK)+COUNTIF(AZ$133:AZ138,RDGfix)+COUNTIF(AZ$133:AZ138,RDGave)+COUNTIF(AZ$133:AZ138,RDGevent)+BB$107-1","v":0},null,"","",{"$f":"COUNTIF(BD$133:BD138,OK)+COUNTIF(BD$133:BD138,RDGfix)+COUNTIF(BD$133:BD138,RDGave)+COUNTIF(BD$133:BD138,RDGevent)+BF$107-1","v":0},null,"","",{"$f":"COUNTIF(BH$133:BH138,OK)+COUNTIF(BH$133:BH138,RDGfix)+COUNTIF(BH$133:BH138,RDGave)+COUNTIF(BH$133:BH138,RDGevent)+BJ$107-1","v":0},null,"","",{"$f":"COUNTIF(BL$133:BL138,OK)+COUNTIF(BL$133:BL138,RDGfix)+COUNTIF(BL$133:BL138,RDGave)+COUNTIF(BL$133:BL138,RDGevent)+BN$107-1","v":0},null,"","",{"$f":"COUNTIF(BP$133:BP138,OK)+COUNTIF(BP$133:BP138,RDGfix)+COUNTIF(BP$133:BP138,RDGave)+COUNTIF(BP$133:BP138,RDGevent)+BR$107-1","v":0},null,"","",{"$f":"COUNTIF(BT$133:BT138,OK)+COUNTIF(BT$133:BT138,RDGfix)+COUNTIF(BT$133:BT138,RDGave)+COUNTIF(BT$133:BT138,RDGevent)+BV$107-1","v":0},null,"","",{"$f":"COUNTIF(BX$133:BX138,OK)+COUNTIF(BX$133:BX138,RDGfix)+COUNTIF(BX$133:BX138,RDGave)+COUNTIF(BX$133:BX138,RDGevent)+BZ$107-1","v":0},null,"","",{"$f":"COUNTIF(CB$133:CB138,OK)+COUNTIF(CB$133:CB138,RDGfix)+COUNTIF(CB$133:CB138,RDGave)+COUNTIF(CB$133:CB138,RDGevent)+CD$107-1","v":0},null,"","",{"$f":"COUNTIF(CF$133:CF138,OK)+COUNTIF(CF$133:CF138,RDGfix)+COUNTIF(CF$133:CF138,RDGave)+COUNTIF(CF$133:CF138,RDGevent)+CH$107-1","v":0},null,"","",{"$f":"COUNTIF(CJ$133:CJ138,OK)+COUNTIF(CJ$133:CJ138,RDGfix)+COUNTIF(CJ$133:CJ138,RDGave)+COUNTIF(CJ$133:CJ138,RDGevent)+CL$107-1","v":0},null,"","",{"$f":"COUNTIF(CN$133:CN138,OK)+COUNTIF(CN$133:CN138,RDGfix)+COUNTIF(CN$133:CN138,RDGave)+COUNTIF(CN$133:CN138,RDGevent)+CP$107-1","v":0},null,"","",{"$f":"COUNTIF(CR$133:CR138,OK)+COUNTIF(CR$133:CR138,RDGfix)+COUNTIF(CR$133:CR138,RDGave)+COUNTIF(CR$133:CR138,RDGevent)+CT$107-1","v":0},null,"","",{"$f":"COUNTIF(CV$133:CV138,OK)+COUNTIF(CV$133:CV138,RDGfix)+COUNTIF(CV$133:CV138,RDGave)+COUNTIF(CV$133:CV138,RDGevent)+CX$107-1","v":0},null,"","",{"$f":"COUNTIF(CZ$133:CZ138,OK)+COUNTIF(CZ$133:CZ138,RDGfix)+COUNTIF(CZ$133:CZ138,RDGave)+COUNTIF(CZ$133:CZ138,RDGevent)+DB$107-1","v":0},null,"","",{"$f":"COUNTIF(DD$133:DD138,OK)+COUNTIF(DD$133:DD138,RDGfix)+COUNTIF(DD$133:DD138,RDGave)+COUNTIF(DD$133:DD138,RDGevent)+DF$107-1","v":0},null,"","",{"$f":"COUNTIF(DH$133:DH138,OK)+COUNTIF(DH$133:DH138,RDGfix)+COUNTIF(DH$133:DH138,RDGave)+COUNTIF(DH$133:DH138,RDGevent)+DJ$107-1","v":0},null,"","",{"$f":"COUNTIF(DL$133:DL138,OK)+COUNTIF(DL$133:DL138,RDGfix)+COUNTIF(DL$133:DL138,RDGave)+COUNTIF(DL$133:DL138,RDGevent)+DN$107-1","v":0},null,"","",{"$f":"COUNTIF(DP$133:DP138,OK)+COUNTIF(DP$133:DP138,RDGfix)+COUNTIF(DP$133:DP138,RDGave)+COUNTIF(DP$133:DP138,RDGevent)+DR$107-1","v":0},null,"","",{"$f":"COUNTIF(DT$133:DT138,OK)+COUNTIF(DT$133:DT138,RDGfix)+COUNTIF(DT$133:DT138,RDGave)+COUNTIF(DT$133:DT138,RDGevent)+DV$107-1","v":0},null,"","",{"$f":"COUNTIF(DX$133:DX138,OK)+COUNTIF(DX$133:DX138,RDGfix)+COUNTIF(DX$133:DX138,RDGave)+COUNTIF(DX$133:DX138,RDGevent)+DZ$107-1","v":0},null,"","",{"$f":"COUNTIF(EB$133:EB138,OK)+COUNTIF(EB$133:EB138,RDGfix)+COUNTIF(EB$133:EB138,RDGave)+COUNTIF(EB$133:EB138,RDGevent)+ED$107-1","v":0},null,"","",{"$f":"COUNTIF(EF$133:EF138,OK)+COUNTIF(EF$133:EF138,RDGfix)+COUNTIF(EF$133:EF138,RDGave)+COUNTIF(EF$133:EF138,RDGevent)+EH$107-1","v":0},null,"","",{"$f":"COUNTIF(EJ$133:EJ138,OK)+COUNTIF(EJ$133:EJ138,RDGfix)+COUNTIF(EJ$133:EJ138,RDGave)+COUNTIF(EJ$133:EJ138,RDGevent)+EL$107-1","v":0},null,"","",{"$f":"COUNTIF(EN$133:EN138,OK)+COUNTIF(EN$133:EN138,RDGfix)+COUNTIF(EN$133:EN138,RDGave)+COUNTIF(EN$133:EN138,RDGevent)+EP$107-1","v":0},null,"","",{"$f":"COUNTIF(ER$133:ER138,OK)+COUNTIF(ER$133:ER138,RDGfix)+COUNTIF(ER$133:ER138,RDGave)+COUNTIF(ER$133:ER138,RDGevent)+ET$107-1","v":0},null,"","",{"$f":"COUNTIF(EV$133:EV138,OK)+COUNTIF(EV$133:EV138,RDGfix)+COUNTIF(EV$133:EV138,RDGave)+COUNTIF(EV$133:EV138,RDGevent)+EX$107-1","v":0},null,"","",{"$f":"COUNTIF(EZ$133:EZ138,OK)+COUNTIF(EZ$133:EZ138,RDGfix)+COUNTIF(EZ$133:EZ138,RDGave)+COUNTIF(EZ$133:EZ138,RDGevent)+FB$107-1","v":0},null,"","",{"$f":"COUNTIF(FD$133:FD138,OK)+COUNTIF(FD$133:FD138,RDGfix)+COUNTIF(FD$133:FD138,RDGave)+COUNTIF(FD$133:FD138,RDGevent)+FF$107-1","v":0},null,"","",{"$f":"COUNTIF(FH$133:FH138,OK)+COUNTIF(FH$133:FH138,RDGfix)+COUNTIF(FH$133:FH138,RDGave)+COUNTIF(FH$133:FH138,RDGevent)+FJ$107-1","v":0}]
[null,null,null,"","",{"$f":"COUNTIF(D$133:D139,OK)+COUNTIF(D$133:D139,RDGfix)+COUNTIF(D$133:D139,RDGave)+COUNTIF(D$133:D139,RDGevent)","v":0},null,"","",{"$f":"COUNTIF(H$133:H139,OK)+COUNTIF(H$133:H139,RDGfix)+COUNTIF(H$133:H139,RDGave)+COUNTIF(H$133:H139,RDGevent)+J$107-1","v":0},null,"","",{"$f":"COUNTIF(L$133:L139,OK)+COUNTIF(L$133:L139,RDGfix)+COUNTIF(L$133:L139,RDGave)+COUNTIF(L$133:L139,RDGevent)+N$107-1","v":0},null,"","",{"$f":"COUNTIF(P$133:P139,OK)+COUNTIF(P$133:P139,RDGfix)+COUNTIF(P$133:P139,RDGave)+COUNTIF(P$133:P139,RDGevent)+R$107-1","v":0},null,"","",{"$f":"COUNTIF(T$133:T139,OK)+COUNTIF(T$133:T139,RDGfix)+COUNTIF(T$133:T139,RDGave)+COUNTIF(T$133:T139,RDGevent)+V$107-1","v":0},null,"","",{"$f":"COUNTIF(X$133:X139,OK)+COUNTIF(X$133:X139,RDGfix)+COUNTIF(X$133:X139,RDGave)+COUNTIF(X$133:X139,RDGevent)+Z$107-1","v":0},null,"","",{"$f":"COUNTIF(AB$133:AB139,OK)+COUNTIF(AB$133:AB139,RDGfix)+COUNTIF(AB$133:AB139,RDGave)+COUNTIF(AB$133:AB139,RDGevent)+AD$107-1","v":0},null,"","",{"$f":"COUNTIF(AF$133:AF139,OK)+COUNTIF(AF$133:AF139,RDGfix)+COUNTIF(AF$133:AF139,RDGave)+COUNTIF(AF$133:AF139,RDGevent)+AH$107-1","v":0},null,"","",{"$f":"COUNTIF(AJ$133:AJ139,OK)+COUNTIF(AJ$133:AJ139,RDGfix)+COUNTIF(AJ$133:AJ139,RDGave)+COUNTIF(AJ$133:AJ139,RDGevent)+AL$107-1","v":0},null,"","",{"$f":"COUNTIF(AN$133:AN139,OK)+COUNTIF(AN$133:AN139,RDGfix)+COUNTIF(AN$133:AN139,RDGave)+COUNTIF(AN$133:AN139,RDGevent)+AP$107-1","v":0},null,"","",{"$f":"COUNTIF(AR$133:AR139,OK)+COUNTIF(AR$133:AR139,RDGfix)+COUNTIF(AR$133:AR139,RDGave)+COUNTIF(AR$133:AR139,RDGevent)+AT$107-1","v":0},null,"","",{"$f":"COUNTIF(AV$133:AV139,OK)+COUNTIF(AV$133:AV139,RDGfix)+COUNTIF(AV$133:AV139,RDGave)+COUNTIF(AV$133:AV139,RDGevent)+AX$107-1","v":0},null,"","",{"$f":"COUNTIF(AZ$133:AZ139,OK)+COUNTIF(AZ$133:AZ139,RDGfix)+COUNTIF(AZ$133:AZ139,RDGave)+COUNTIF(AZ$133:AZ139,RDGevent)+BB$107-1","v":0},null,"","",{"$f":"COUNTIF(BD$133:BD139,OK)+COUNTIF(BD$133:BD139,RDGfix)+COUNTIF(BD$133:BD139,RDGave)+COUNTIF(BD$133:BD139,RDGevent)+BF$107-1","v":0},null,"","",{"$f":"COUNTIF(BH$133:BH139,OK)+COUNTIF(BH$133:BH139,RDGfix)+COUNTIF(BH$133:BH139,RDGave)+COUNTIF(BH$133:BH139,RDGevent)+BJ$107-1","v":0},null,"","",{"$f":"COUNTIF(BL$133:BL139,OK)+COUNTIF(BL$133:BL139,RDGfix)+COUNTIF(BL$133:BL139,RDGave)+COUNTIF(BL$133:BL139,RDGevent)+BN$107-1","v":0},null,"","",{"$f":"COUNTIF(BP$133:BP139,OK)+COUNTIF(BP$133:BP139,RDGfix)+COUNTIF(BP$133:BP139,RDGave)+COUNTIF(BP$133:BP139,RDGevent)+BR$107-1","v":0},null,"","",{"$f":"COUNTIF(BT$133:BT139,OK)+COUNTIF(BT$133:BT139,RDGfix)+COUNTIF(BT$133:BT139,RDGave)+COUNTIF(BT$133:BT139,RDGevent)+BV$107-1","v":0},null,"","",{"$f":"COUNTIF(BX$133:BX139,OK)+COUNTIF(BX$133:BX139,RDGfix)+COUNTIF(BX$133:BX139,RDGave)+COUNTIF(BX$133:BX139,RDGevent)+BZ$107-1","v":0},null,"","",{"$f":"COUNTIF(CB$133:CB139,OK)+COUNTIF(CB$133:CB139,RDGfix)+COUNTIF(CB$133:CB139,RDGave)+COUNTIF(CB$133:CB139,RDGevent)+CD$107-1","v":0},null,"","",{"$f":"COUNTIF(CF$133:CF139,OK)+COUNTIF(CF$133:CF139,RDGfix)+COUNTIF(CF$133:CF139,RDGave)+COUNTIF(CF$133:CF139,RDGevent)+CH$107-1","v":0},null,"","",{"$f":"COUNTIF(CJ$133:CJ139,OK)+COUNTIF(CJ$133:CJ139,RDGfix)+COUNTIF(CJ$133:CJ139,RDGave)+COUNTIF(CJ$133:CJ139,RDGevent)+CL$107-1","v":0},null,"","",{"$f":"COUNTIF(CN$133:CN139,OK)+COUNTIF(CN$133:CN139,RDGfix)+COUNTIF(CN$133:CN139,RDGave)+COUNTIF(CN$133:CN139,RDGevent)+CP$107-1","v":0},null,"","",{"$f":"COUNTIF(CR$133:CR139,OK)+COUNTIF(CR$133:CR139,RDGfix)+COUNTIF(CR$133:CR139,RDGave)+COUNTIF(CR$133:CR139,RDGevent)+CT$107-1","v":0},null,"","",{"$f":"COUNTIF(CV$133:CV139,OK)+COUNTIF(CV$133:CV139,RDGfix)+COUNTIF(CV$133:CV139,RDGave)+COUNTIF(CV$133:CV139,RDGevent)+CX$107-1","v":0},null,"","",{"$f":"COUNTIF(CZ$133:CZ139,OK)+COUNTIF(CZ$133:CZ139,RDGfix)+COUNTIF(CZ$133:CZ139,RDGave)+COUNTIF(CZ$133:CZ139,RDGevent)+DB$107-1","v":0},null,"","",{"$f":"COUNTIF(DD$133:DD139,OK)+COUNTIF(DD$133:DD139,RDGfix)+COUNTIF(DD$133:DD139,RDGave)+COUNTIF(DD$133:DD139,RDGevent)+DF$107-1","v":0},null,"","",{"$f":"COUNTIF(DH$133:DH139,OK)+COUNTIF(DH$133:DH139,RDGfix)+COUNTIF(DH$133:DH139,RDGave)+COUNTIF(DH$133:DH139,RDGevent)+DJ$107-1","v":0},null,"","",{"$f":"COUNTIF(DL$133:DL139,OK)+COUNTIF(DL$133:DL139,RDGfix)+COUNTIF(DL$133:DL139,RDGave)+COUNTIF(DL$133:DL139,RDGevent)+DN$107-1","v":0},null,"","",{"$f":"COUNTIF(DP$133:DP139,OK)+COUNTIF(DP$133:DP139,RDGfix)+COUNTIF(DP$133:DP139,RDGave)+COUNTIF(DP$133:DP139,RDGevent)+DR$107-1","v":0},null,"","",{"$f":"COUNTIF(DT$133:DT139,OK)+COUNTIF(DT$133:DT139,RDGfix)+COUNTIF(DT$133:DT139,RDGave)+COUNTIF(DT$133:DT139,RDGevent)+DV$107-1","v":0},null,"","",{"$f":"COUNTIF(DX$133:DX139,OK)+COUNTIF(DX$133:DX139,RDGfix)+COUNTIF(DX$133:DX139,RDGave)+COUNTIF(DX$133:DX139,RDGevent)+DZ$107-1","v":0},null,"","",{"$f":"COUNTIF(EB$133:EB139,OK)+COUNTIF(EB$133:EB139,RDGfix)+COUNTIF(EB$133:EB139,RDGave)+COUNTIF(EB$133:EB139,RDGevent)+ED$107-1","v":0},null,"","",{"$f":"COUNTIF(EF$133:EF139,OK)+COUNTIF(EF$133:EF139,RDGfix)+COUNTIF(EF$133:EF139,RDGave)+COUNTIF(EF$133:EF139,RDGevent)+EH$107-1","v":0},null,"","",{"$f":"COUNTIF(EJ$133:EJ139,OK)+COUNTIF(EJ$133:EJ139,RDGfix)+COUNTIF(EJ$133:EJ139,RDGave)+COUNTIF(EJ$133:EJ139,RDGevent)+EL$107-1","v":0},null,"","",{"$f":"COUNTIF(EN$133:EN139,OK)+COUNTIF(EN$133:EN139,RDGfix)+COUNTIF(EN$133:EN139,RDGave)+COUNTIF(EN$133:EN139,RDGevent)+EP$107-1","v":0},null,"","",{"$f":"COUNTIF(ER$133:ER139,OK)+COUNTIF(ER$133:ER139,RDGfix)+COUNTIF(ER$133:ER139,RDGave)+COUNTIF(ER$133:ER139,RDGevent)+ET$107-1","v":0},null,"","",{"$f":"COUNTIF(EV$133:EV139,OK)+COUNTIF(EV$133:EV139,RDGfix)+COUNTIF(EV$133:EV139,RDGave)+COUNTIF(EV$133:EV139,RDGevent)+EX$107-1","v":0},null,"","",{"$f":"COUNTIF(EZ$133:EZ139,OK)+COUNTIF(EZ$133:EZ139,RDGfix)+COUNTIF(EZ$133:EZ139,RDGave)+COUNTIF(EZ$133:EZ139,RDGevent)+FB$107-1","v":0},null,"","",{"$f":"COUNTIF(FD$133:FD139,OK)+COUNTIF(FD$133:FD139,RDGfix)+COUNTIF(FD$133:FD139,RDGave)+COUNTIF(FD$133:FD139,RDGevent)+FF$107-1","v":0},null,"","",{"$f":"COUNTIF(FH$133:FH139,OK)+COUNTIF(FH$133:FH139,RDGfix)+COUNTIF(FH$133:FH139,RDGave)+COUNTIF(FH$133:FH139,RDGevent)+FJ$107-1","v":0}]
[null,null,null,"","",{"$f":"COUNTIF(D$133:D140,OK)+COUNTIF(D$133:D140,RDGfix)+COUNTIF(D$133:D140,RDGave)+COUNTIF(D$133:D140,RDGevent)","v":0},null,"","",{"$f":"COUNTIF(H$133:H140,OK)+COUNTIF(H$133:H140,RDGfix)+COUNTIF(H$133:H140,RDGave)+COUNTIF(H$133:H140,RDGevent)+J$107-1","v":0},null,"","",{"$f":"COUNTIF(L$133:L140,OK)+COUNTIF(L$133:L140,RDGfix)+COUNTIF(L$133:L140,RDGave)+COUNTIF(L$133:L140,RDGevent)+N$107-1","v":0},null,"","",{"$f":"COUNTIF(P$133:P140,OK)+COUNTIF(P$133:P140,RDGfix)+COUNTIF(P$133:P140,RDGave)+COUNTIF(P$133:P140,RDGevent)+R$107-1","v":0},null,"","",{"$f":"COUNTIF(T$133:T140,OK)+COUNTIF(T$133:T140,RDGfix)+COUNTIF(T$133:T140,RDGave)+COUNTIF(T$133:T140,RDGevent)+V$107-1","v":0},null,"","",{"$f":"COUNTIF(X$133:X140,OK)+COUNTIF(X$133:X140,RDGfix)+COUNTIF(X$133:X140,RDGave)+COUNTIF(X$133:X140,RDGevent)+Z$107-1","v":0},null,"","",{"$f":"COUNTIF(AB$133:AB140,OK)+COUNTIF(AB$133:AB140,RDGfix)+COUNTIF(AB$133:AB140,RDGave)+COUNTIF(AB$133:AB140,RDGevent)+AD$107-1","v":0},null,"","",{"$f":"COUNTIF(AF$133:AF140,OK)+COUNTIF(AF$133:AF140,RDGfix)+COUNTIF(AF$133:AF140,RDGave)+COUNTIF(AF$133:AF140,RDGevent)+AH$107-1","v":0},null,"","",{"$f":"COUNTIF(AJ$133:AJ140,OK)+COUNTIF(AJ$133:AJ140,RDGfix)+COUNTIF(AJ$133:AJ140,RDGave)+COUNTIF(AJ$133:AJ140,RDGevent)+AL$107-1","v":0},null,"","",{"$f":"COUNTIF(AN$133:AN140,OK)+COUNTIF(AN$133:AN140,RDGfix)+COUNTIF(AN$133:AN140,RDGave)+COUNTIF(AN$133:AN140,RDGevent)+AP$107-1","v":0},null,"","",{"$f":"COUNTIF(AR$133:AR140,OK)+COUNTIF(AR$133:AR140,RDGfix)+COUNTIF(AR$133:AR140,RDGave)+COUNTIF(AR$133:AR140,RDGevent)+AT$107-1","v":0},null,"","",{"$f":"COUNTIF(AV$133:AV140,OK)+COUNTIF(AV$133:AV140,RDGfix)+COUNTIF(AV$133:AV140,RDGave)+COUNTIF(AV$133:AV140,RDGevent)+AX$107-1","v":0},null,"","",{"$f":"COUNTIF(AZ$133:AZ140,OK)+COUNTIF(AZ$133:AZ140,RDGfix)+COUNTIF(AZ$133:AZ140,RDGave)+COUNTIF(AZ$133:AZ140,RDGevent)+BB$107-1","v":0},null,"","",{"$f":"COUNTIF(BD$133:BD140,OK)+COUNTIF(BD$133:BD140,RDGfix)+COUNTIF(BD$133:BD140,RDGave)+COUNTIF(BD$133:BD140,RDGevent)+BF$107-1","v":0},null,"","",{"$f":"COUNTIF(BH$133:BH140,OK)+COUNTIF(BH$133:BH140,RDGfix)+COUNTIF(BH$133:BH140,RDGave)+COUNTIF(BH$133:BH140,RDGevent)+BJ$107-1","v":0},null,"","",{"$f":"COUNTIF(BL$133:BL140,OK)+COUNTIF(BL$133:BL140,RDGfix)+COUNTIF(BL$133:BL140,RDGave)+COUNTIF(BL$133:BL140,RDGevent)+BN$107-1","v":0},null,"","",{"$f":"COUNTIF(BP$133:BP140,OK)+COUNTIF(BP$133:BP140,RDGfix)+COUNTIF(BP$133:BP140,RDGave)+COUNTIF(BP$133:BP140,RDGevent)+BR$107-1","v":0},null,"","",{"$f":"COUNTIF(BT$133:BT140,OK)+COUNTIF(BT$133:BT140,RDGfix)+COUNTIF(BT$133:BT140,RDGave)+COUNTIF(BT$133:BT140,RDGevent)+BV$107-1","v":0},null,"","",{"$f":"COUNTIF(BX$133:BX140,OK)+COUNTIF(BX$133:BX140,RDGfix)+COUNTIF(BX$133:BX140,RDGave)+COUNTIF(BX$133:BX140,RDGevent)+BZ$107-1","v":0},null,"","",{"$f":"COUNTIF(CB$133:CB140,OK)+COUNTIF(CB$133:CB140,RDGfix)+COUNTIF(CB$133:CB140,RDGave)+COUNTIF(CB$133:CB140,RDGevent)+CD$107-1","v":0},null,"","",{"$f":"COUNTIF(CF$133:CF140,OK)+COUNTIF(CF$133:CF140,RDGfix)+COUNTIF(CF$133:CF140,RDGave)+COUNTIF(CF$133:CF140,RDGevent)+CH$107-1","v":0},null,"","",{"$f":"COUNTIF(CJ$133:CJ140,OK)+COUNTIF(CJ$133:CJ140,RDGfix)+COUNTIF(CJ$133:CJ140,RDGave)+COUNTIF(CJ$133:CJ140,RDGevent)+CL$107-1","v":0},null,"","",{"$f":"COUNTIF(CN$133:CN140,OK)+COUNTIF(CN$133:CN140,RDGfix)+COUNTIF(CN$133:CN140,RDGave)+COUNTIF(CN$133:CN140,RDGevent)+CP$107-1","v":0},null,"","",{"$f":"COUNTIF(CR$133:CR140,OK)+COUNTIF(CR$133:CR140,RDGfix)+COUNTIF(CR$133:CR140,RDGave)+COUNTIF(CR$133:CR140,RDGevent)+CT$107-1","v":0},null,"","",{"$f":"COUNTIF(CV$133:CV140,OK)+COUNTIF(CV$133:CV140,RDGfix)+COUNTIF(CV$133:CV140,RDGave)+COUNTIF(CV$133:CV140,RDGevent)+CX$107-1","v":0},null,"","",{"$f":"COUNTIF(CZ$133:CZ140,OK)+COUNTIF(CZ$133:CZ140,RDGfix)+COUNTIF(CZ$133:CZ140,RDGave)+COUNTIF(CZ$133:CZ140,RDGevent)+DB$107-1","v":0},null,"","",{"$f":"COUNTIF(DD$133:DD140,OK)+COUNTIF(DD$133:DD140,RDGfix)+COUNTIF(DD$133:DD140,RDGave)+COUNTIF(DD$133:DD140,RDGevent)+DF$107-1","v":0},null,"","",{"$f":"COUNTIF(DH$133:DH140,OK)+COUNTIF(DH$133:DH140,RDGfix)+COUNTIF(DH$133:DH140,RDGave)+COUNTIF(DH$133:DH140,RDGevent)+DJ$107-1","v":0},null,"","",{"$f":"COUNTIF(DL$133:DL140,OK)+COUNTIF(DL$133:DL140,RDGfix)+COUNTIF(DL$133:DL140,RDGave)+COUNTIF(DL$133:DL140,RDGevent)+DN$107-1","v":0},null,"","",{"$f":"COUNTIF(DP$133:DP140,OK)+COUNTIF(DP$133:DP140,RDGfix)+COUNTIF(DP$133:DP140,RDGave)+COUNTIF(DP$133:DP140,RDGevent)+DR$107-1","v":0},null,"","",{"$f":"COUNTIF(DT$133:DT140,OK)+COUNTIF(DT$133:DT140,RDGfix)+COUNTIF(DT$133:DT140,RDGave)+COUNTIF(DT$133:DT140,RDGevent)+DV$107-1","v":0},null,"","",{"$f":"COUNTIF(DX$133:DX140,OK)+COUNTIF(DX$133:DX140,RDGfix)+COUNTIF(DX$133:DX140,RDGave)+COUNTIF(DX$133:DX140,RDGevent)+DZ$107-1","v":0},null,"","",{"$f":"COUNTIF(EB$133:EB140,OK)+COUNTIF(EB$133:EB140,RDGfix)+COUNTIF(EB$133:EB140,RDGave)+COUNTIF(EB$133:EB140,RDGevent)+ED$107-1","v":0},null,"","",{"$f":"COUNTIF(EF$133:EF140,OK)+COUNTIF(EF$133:EF140,RDGfix)+COUNTIF(EF$133:EF140,RDGave)+COUNTIF(EF$133:EF140,RDGevent)+EH$107-1","v":0},null,"","",{"$f":"COUNTIF(EJ$133:EJ140,OK)+COUNTIF(EJ$133:EJ140,RDGfix)+COUNTIF(EJ$133:EJ140,RDGave)+COUNTIF(EJ$133:EJ140,RDGevent)+EL$107-1","v":0},null,"","",{"$f":"COUNTIF(EN$133:EN140,OK)+COUNTIF(EN$133:EN140,RDGfix)+COUNTIF(EN$133:EN140,RDGave)+COUNTIF(EN$133:EN140,RDGevent)+EP$107-1","v":0},null,"","",{"$f":"COUNTIF(ER$133:ER140,OK)+COUNTIF(ER$133:ER140,RDGfix)+COUNTIF(ER$133:ER140,RDGave)+COUNTIF(ER$133:ER140,RDGevent)+ET$107-1","v":0},null,"","",{"$f":"COUNTIF(EV$133:EV140,OK)+COUNTIF(EV$133:EV140,RDGfix)+COUNTIF(EV$133:EV140,RDGave)+COUNTIF(EV$133:EV140,RDGevent)+EX$107-1","v":0},null,"","",{"$f":"COUNTIF(EZ$133:EZ140,OK)+COUNTIF(EZ$133:EZ140,RDGfix)+COUNTIF(EZ$133:EZ140,RDGave)+COUNTIF(EZ$133:EZ140,RDGevent)+FB$107-1","v":0},null,"","",{"$f":"COUNTIF(FD$133:FD140,OK)+COUNTIF(FD$133:FD140,RDGfix)+COUNTIF(FD$133:FD140,RDGave)+COUNTIF(FD$133:FD140,RDGevent)+FF$107-1","v":0},null,"","",{"$f":"COUNTIF(FH$133:FH140,OK)+COUNTIF(FH$133:FH140,RDGfix)+COUNTIF(FH$133:FH140,RDGave)+COUNTIF(FH$133:FH140,RDGevent)+FJ$107-1","v":0}]
[null,null,null,"","",{"$f":"COUNTIF(D$133:D141,OK)+COUNTIF(D$133:D141,RDGfix)+COUNTIF(D$133:D141,RDGave)+COUNTIF(D$133:D141,RDGevent)","v":0},null,"","",{"$f":"COUNTIF(H$133:H141,OK)+COUNTIF(H$133:H141,RDGfix)+COUNTIF(H$133:H141,RDGave)+COUNTIF(H$133:H141,RDGevent)+J$107-1","v":0},null,"","",{"$f":"COUNTIF(L$133:L141,OK)+COUNTIF(L$133:L141,RDGfix)+COUNTIF(L$133:L141,RDGave)+COUNTIF(L$133:L141,RDGevent)+N$107-1","v":0},null,"","",{"$f":"COUNTIF(P$133:P141,OK)+COUNTIF(P$133:P141,RDGfix)+COUNTIF(P$133:P141,RDGave)+COUNTIF(P$133:P141,RDGevent)+R$107-1","v":0},null,"","",{"$f":"COUNTIF(T$133:T141,OK)+COUNTIF(T$133:T141,RDGfix)+COUNTIF(T$133:T141,RDGave)+COUNTIF(T$133:T141,RDGevent)+V$107-1","v":0},null,"","",{"$f":"COUNTIF(X$133:X141,OK)+COUNTIF(X$133:X141,RDGfix)+COUNTIF(X$133:X141,RDGave)+COUNTIF(X$133:X141,RDGevent)+Z$107-1","v":0},null,"","",{"$f":"COUNTIF(AB$133:AB141,OK)+COUNTIF(AB$133:AB141,RDGfix)+COUNTIF(AB$133:AB141,RDGave)+COUNTIF(AB$133:AB141,RDGevent)+AD$107-1","v":0},null,"","",{"$f":"COUNTIF(AF$133:AF141,OK)+COUNTIF(AF$133:AF141,RDGfix)+COUNTIF(AF$133:AF141,RDGave)+COUNTIF(AF$133:AF141,RDGevent)+AH$107-1","v":0},null,"","",{"$f":"COUNTIF(AJ$133:AJ141,OK)+COUNTIF(AJ$133:AJ141,RDGfix)+COUNTIF(AJ$133:AJ141,RDGave)+COUNTIF(AJ$133:AJ141,RDGevent)+AL$107-1","v":0},null,"","",{"$f":"COUNTIF(AN$133:AN141,OK)+COUNTIF(AN$133:AN141,RDGfix)+COUNTIF(AN$133:AN141,RDGave)+COUNTIF(AN$133:AN141,RDGevent)+AP$107-1","v":0},null,"","",{"$f":"COUNTIF(AR$133:AR141,OK)+COUNTIF(AR$133:AR141,RDGfix)+COUNTIF(AR$133:AR141,RDGave)+COUNTIF(AR$133:AR141,RDGevent)+AT$107-1","v":0},null,"","",{"$f":"COUNTIF(AV$133:AV141,OK)+COUNTIF(AV$133:AV141,RDGfix)+COUNTIF(AV$133:AV141,RDGave)+COUNTIF(AV$133:AV141,RDGevent)+AX$107-1","v":0},null,"","",{"$f":"COUNTIF(AZ$133:AZ141,OK)+COUNTIF(AZ$133:AZ141,RDGfix)+COUNTIF(AZ$133:AZ141,RDGave)+COUNTIF(AZ$133:AZ141,RDGevent)+BB$107-1","v":0},null,"","",{"$f":"COUNTIF(BD$133:BD141,OK)+COUNTIF(BD$133:BD141,RDGfix)+COUNTIF(BD$133:BD141,RDGave)+COUNTIF(BD$133:BD141,RDGevent)+BF$107-1","v":0},null,"","",{"$f":"COUNTIF(BH$133:BH141,OK)+COUNTIF(BH$133:BH141,RDGfix)+COUNTIF(BH$133:BH141,RDGave)+COUNTIF(BH$133:BH141,RDGevent)+BJ$107-1","v":0},null,"","",{"$f":"COUNTIF(BL$133:BL141,OK)+COUNTIF(BL$133:BL141,RDGfix)+COUNTIF(BL$133:BL141,RDGave)+COUNTIF(BL$133:BL141,RDGevent)+BN$107-1","v":0},null,"","",{"$f":"COUNTIF(BP$133:BP141,OK)+COUNTIF(BP$133:BP141,RDGfix)+COUNTIF(BP$133:BP141,RDGave)+COUNTIF(BP$133:BP141,RDGevent)+BR$107-1","v":0},null,"","",{"$f":"COUNTIF(BT$133:BT141,OK)+COUNTIF(BT$133:BT141,RDGfix)+COUNTIF(BT$133:BT141,RDGave)+COUNTIF(BT$133:BT141,RDGevent)+BV$107-1","v":0},null,"","",{"$f":"COUNTIF(BX$133:BX141,OK)+COUNTIF(BX$133:BX141,RDGfix)+COUNTIF(BX$133:BX141,RDGave)+COUNTIF(BX$133:BX141,RDGevent)+BZ$107-1","v":0},null,"","",{"$f":"COUNTIF(CB$133:CB141,OK)+COUNTIF(CB$133:CB141,RDGfix)+COUNTIF(CB$133:CB141,RDGave)+COUNTIF(CB$133:CB141,RDGevent)+CD$107-1","v":0},null,"","",{"$f":"COUNTIF(CF$133:CF141,OK)+COUNTIF(CF$133:CF141,RDGfix)+COUNTIF(CF$133:CF141,RDGave)+COUNTIF(CF$133:CF141,RDGevent)+CH$107-1","v":0},null,"","",{"$f":"COUNTIF(CJ$133:CJ141,OK)+COUNTIF(CJ$133:CJ141,RDGfix)+COUNTIF(CJ$133:CJ141,RDGave)+COUNTIF(CJ$133:CJ141,RDGevent)+CL$107-1","v":0},null,"","",{"$f":"COUNTIF(CN$133:CN141,OK)+COUNTIF(CN$133:CN141,RDGfix)+COUNTIF(CN$133:CN141,RDGave)+COUNTIF(CN$133:CN141,RDGevent)+CP$107-1","v":0},null,"","",{"$f":"COUNTIF(CR$133:CR141,OK)+COUNTIF(CR$133:CR141,RDGfix)+COUNTIF(CR$133:CR141,RDGave)+COUNTIF(CR$133:CR141,RDGevent)+CT$107-1","v":0},null,"","",{"$f":"COUNTIF(CV$133:CV141,OK)+COUNTIF(CV$133:CV141,RDGfix)+COUNTIF(CV$133:CV141,RDGave)+COUNTIF(CV$133:CV141,RDGevent)+CX$107-1","v":0},null,"","",{"$f":"COUNTIF(CZ$133:CZ141,OK)+COUNTIF(CZ$133:CZ141,RDGfix)+COUNTIF(CZ$133:CZ141,RDGave)+COUNTIF(CZ$133:CZ141,RDGevent)+DB$107-1","v":0},null,"","",{"$f":"COUNTIF(DD$133:DD141,OK)+COUNTIF(DD$133:DD141,RDGfix)+COUNTIF(DD$133:DD141,RDGave)+COUNTIF(DD$133:DD141,RDGevent)+DF$107-1","v":0},null,"","",{"$f":"COUNTIF(DH$133:DH141,OK)+COUNTIF(DH$133:DH141,RDGfix)+COUNTIF(DH$133:DH141,RDGave)+COUNTIF(DH$133:DH141,RDGevent)+DJ$107-1","v":0},null,"","",{"$f":"COUNTIF(DL$133:DL141,OK)+COUNTIF(DL$133:DL141,RDGfix)+COUNTIF(DL$133:DL141,RDGave)+COUNTIF(DL$133:DL141,RDGevent)+DN$107-1","v":0},null,"","",{"$f":"COUNTIF(DP$133:DP141,OK)+COUNTIF(DP$133:DP141,RDGfix)+COUNTIF(DP$133:DP141,RDGave)+COUNTIF(DP$133:DP141,RDGevent)+DR$107-1","v":0},null,"","",{"$f":"COUNTIF(DT$133:DT141,OK)+COUNTIF(DT$133:DT141,RDGfix)+COUNTIF(DT$133:DT141,RDGave)+COUNTIF(DT$133:DT141,RDGevent)+DV$107-1","v":0},null,"","",{"$f":"COUNTIF(DX$133:DX141,OK)+COUNTIF(DX$133:DX141,RDGfix)+COUNTIF(DX$133:DX141,RDGave)+COUNTIF(DX$133:DX141,RDGevent)+DZ$107-1","v":0},null,"","",{"$f":"COUNTIF(EB$133:EB141,OK)+COUNTIF(EB$133:EB141,RDGfix)+COUNTIF(EB$133:EB141,RDGave)+COUNTIF(EB$133:EB141,RDGevent)+ED$107-1","v":0},null,"","",{"$f":"COUNTIF(EF$133:EF141,OK)+COUNTIF(EF$133:EF141,RDGfix)+COUNTIF(EF$133:EF141,RDGave)+COUNTIF(EF$133:EF141,RDGevent)+EH$107-1","v":0},null,"","",{"$f":"COUNTIF(EJ$133:EJ141,OK)+COUNTIF(EJ$133:EJ141,RDGfix)+COUNTIF(EJ$133:EJ141,RDGave)+COUNTIF(EJ$133:EJ141,RDGevent)+EL$107-1","v":0},null,"","",{"$f":"COUNTIF(EN$133:EN141,OK)+COUNTIF(EN$133:EN141,RDGfix)+COUNTIF(EN$133:EN141,RDGave)+COUNTIF(EN$133:EN141,RDGevent)+EP$107-1","v":0},null,"","",{"$f":"COUNTIF(ER$133:ER141,OK)+COUNTIF(ER$133:ER141,RDGfix)+COUNTIF(ER$133:ER141,RDGave)+COUNTIF(ER$133:ER141,RDGevent)+ET$107-1","v":0},null,"","",{"$f":"COUNTIF(EV$133:EV141,OK)+COUNTIF(EV$133:EV141,RDGfix)+COUNTIF(EV$133:EV141,RDGave)+COUNTIF(EV$133:EV141,RDGevent)+EX$107-1","v":0},null,"","",{"$f":"COUNTIF(EZ$133:EZ141,OK)+COUNTIF(EZ$133:EZ141,RDGfix)+COUNTIF(EZ$133:EZ141,RDGave)+COUNTIF(EZ$133:EZ141,RDGevent)+FB$107-1","v":0},null,"","",{"$f":"COUNTIF(FD$133:FD141,OK)+COUNTIF(FD$133:FD141,RDGfix)+COUNTIF(FD$133:FD141,RDGave)+COUNTIF(FD$133:FD141,RDGevent)+FF$107-1","v":0},null,"","",{"$f":"COUNTIF(FH$133:FH141,OK)+COUNTIF(FH$133:FH141,RDGfix)+COUNTIF(FH$133:FH141,RDGave)+COUNTIF(FH$133:FH141,RDGevent)+FJ$107-1","v":0}]
[null,null,null,"","",{"$f":"COUNTIF(D$133:D142,OK)+COUNTIF(D$133:D142,RDGfix)+COUNTIF(D$133:D142,RDGave)+COUNTIF(D$133:D142,RDGevent)","v":0},null,"","",{"$f":"COUNTIF(H$133:H142,OK)+COUNTIF(H$133:H142,RDGfix)+COUNTIF(H$133:H142,RDGave)+COUNTIF(H$133:H142,RDGevent)+J$107-1","v":0},null,"","",{"$f":"COUNTIF(L$133:L142,OK)+COUNTIF(L$133:L142,RDGfix)+COUNTIF(L$133:L142,RDGave)+COUNTIF(L$133:L142,RDGevent)+N$107-1","v":0},null,"","",{"$f":"COUNTIF(P$133:P142,OK)+COUNTIF(P$133:P142,RDGfix)+COUNTIF(P$133:P142,RDGave)+COUNTIF(P$133:P142,RDGevent)+R$107-1","v":0},null,"","",{"$f":"COUNTIF(T$133:T142,OK)+COUNTIF(T$133:T142,RDGfix)+COUNTIF(T$133:T142,RDGave)+COUNTIF(T$133:T142,RDGevent)+V$107-1","v":0},null,"","",{"$f":"COUNTIF(X$133:X142,OK)+COUNTIF(X$133:X142,RDGfix)+COUNTIF(X$133:X142,RDGave)+COUNTIF(X$133:X142,RDGevent)+Z$107-1","v":0},null,"","",{"$f":"COUNTIF(AB$133:AB142,OK)+COUNTIF(AB$133:AB142,RDGfix)+COUNTIF(AB$133:AB142,RDGave)+COUNTIF(AB$133:AB142,RDGevent)+AD$107-1","v":0},null,"","",{"$f":"COUNTIF(AF$133:AF142,OK)+COUNTIF(AF$133:AF142,RDGfix)+COUNTIF(AF$133:AF142,RDGave)+COUNTIF(AF$133:AF142,RDGevent)+AH$107-1","v":0},null,"","",{"$f":"COUNTIF(AJ$133:AJ142,OK)+COUNTIF(AJ$133:AJ142,RDGfix)+COUNTIF(AJ$133:AJ142,RDGave)+COUNTIF(AJ$133:AJ142,RDGevent)+AL$107-1","v":0},null,"","",{"$f":"COUNTIF(AN$133:AN142,OK)+COUNTIF(AN$133:AN142,RDGfix)+COUNTIF(AN$133:AN142,RDGave)+COUNTIF(AN$133:AN142,RDGevent)+AP$107-1","v":0},null,"","",{"$f":"COUNTIF(AR$133:AR142,OK)+COUNTIF(AR$133:AR142,RDGfix)+COUNTIF(AR$133:AR142,RDGave)+COUNTIF(AR$133:AR142,RDGevent)+AT$107-1","v":0},null,"","",{"$f":"COUNTIF(AV$133:AV142,OK)+COUNTIF(AV$133:AV142,RDGfix)+COUNTIF(AV$133:AV142,RDGave)+COUNTIF(AV$133:AV142,RDGevent)+AX$107-1","v":0},null,"","",{"$f":"COUNTIF(AZ$133:AZ142,OK)+COUNTIF(AZ$133:AZ142,RDGfix)+COUNTIF(AZ$133:AZ142,RDGave)+COUNTIF(AZ$133:AZ142,RDGevent)+BB$107-1","v":0},null,"","",{"$f":"COUNTIF(BD$133:BD142,OK)+COUNTIF(BD$133:BD142,RDGfix)+COUNTIF(BD$133:BD142,RDGave)+COUNTIF(BD$133:BD142,RDGevent)+BF$107-1","v":0},null,"","",{"$f":"COUNTIF(BH$133:BH142,OK)+COUNTIF(BH$133:BH142,RDGfix)+COUNTIF(BH$133:BH142,RDGave)+COUNTIF(BH$133:BH142,RDGevent)+BJ$107-1","v":0},null,"","",{"$f":"COUNTIF(BL$133:BL142,OK)+COUNTIF(BL$133:BL142,RDGfix)+COUNTIF(BL$133:BL142,RDGave)+COUNTIF(BL$133:BL142,RDGevent)+BN$107-1","v":0},null,"","",{"$f":"COUNTIF(BP$133:BP142,OK)+COUNTIF(BP$133:BP142,RDGfix)+COUNTIF(BP$133:BP142,RDGave)+COUNTIF(BP$133:BP142,RDGevent)+BR$107-1","v":0},null,"","",{"$f":"COUNTIF(BT$133:BT142,OK)+COUNTIF(BT$133:BT142,RDGfix)+COUNTIF(BT$133:BT142,RDGave)+COUNTIF(BT$133:BT142,RDGevent)+BV$107-1","v":0},null,"","",{"$f":"COUNTIF(BX$133:BX142,OK)+COUNTIF(BX$133:BX142,RDGfix)+COUNTIF(BX$133:BX142,RDGave)+COUNTIF(BX$133:BX142,RDGevent)+BZ$107-1","v":0},null,"","",{"$f":"COUNTIF(CB$133:CB142,OK)+COUNTIF(CB$133:CB142,RDGfix)+COUNTIF(CB$133:CB142,RDGave)+COUNTIF(CB$133:CB142,RDGevent)+CD$107-1","v":0},null,"","",{"$f":"COUNTIF(CF$133:CF142,OK)+COUNTIF(CF$133:CF142,RDGfix)+COUNTIF(CF$133:CF142,RDGave)+COUNTIF(CF$133:CF142,RDGevent)+CH$107-1","v":0},null,"","",{"$f":"COUNTIF(CJ$133:CJ142,OK)+COUNTIF(CJ$133:CJ142,RDGfix)+COUNTIF(CJ$133:CJ142,RDGave)+COUNTIF(CJ$133:CJ142,RDGevent)+CL$107-1","v":0},null,"","",{"$f":"COUNTIF(CN$133:CN142,OK)+COUNTIF(CN$133:CN142,RDGfix)+COUNTIF(CN$133:CN142,RDGave)+COUNTIF(CN$133:CN142,RDGevent)+CP$107-1","v":0},null,"","",{"$f":"COUNTIF(CR$133:CR142,OK)+COUNTIF(CR$133:CR142,RDGfix)+COUNTIF(CR$133:CR142,RDGave)+COUNTIF(CR$133:CR142,RDGevent)+CT$107-1","v":0},null,"","",{"$f":"COUNTIF(CV$133:CV142,OK)+COUNTIF(CV$133:CV142,RDGfix)+COUNTIF(CV$133:CV142,RDGave)+COUNTIF(CV$133:CV142,RDGevent)+CX$107-1","v":0},null,"","",{"$f":"COUNTIF(CZ$133:CZ142,OK)+COUNTIF(CZ$133:CZ142,RDGfix)+COUNTIF(CZ$133:CZ142,RDGave)+COUNTIF(CZ$133:CZ142,RDGevent)+DB$107-1","v":0},null,"","",{"$f":"COUNTIF(DD$133:DD142,OK)+COUNTIF(DD$133:DD142,RDGfix)+COUNTIF(DD$133:DD142,RDGave)+COUNTIF(DD$133:DD142,RDGevent)+DF$107-1","v":0},null,"","",{"$f":"COUNTIF(DH$133:DH142,OK)+COUNTIF(DH$133:DH142,RDGfix)+COUNTIF(DH$133:DH142,RDGave)+COUNTIF(DH$133:DH142,RDGevent)+DJ$107-1","v":0},null,"","",{"$f":"COUNTIF(DL$133:DL142,OK)+COUNTIF(DL$133:DL142,RDGfix)+COUNTIF(DL$133:DL142,RDGave)+COUNTIF(DL$133:DL142,RDGevent)+DN$107-1","v":0},null,"","",{"$f":"COUNTIF(DP$133:DP142,OK)+COUNTIF(DP$133:DP142,RDGfix)+COUNTIF(DP$133:DP142,RDGave)+COUNTIF(DP$133:DP142,RDGevent)+DR$107-1","v":0},null,"","",{"$f":"COUNTIF(DT$133:DT142,OK)+COUNTIF(DT$133:DT142,RDGfix)+COUNTIF(DT$133:DT142,RDGave)+COUNTIF(DT$133:DT142,RDGevent)+DV$107-1","v":0},null,"","",{"$f":"COUNTIF(DX$133:DX142,OK)+COUNTIF(DX$133:DX142,RDGfix)+COUNTIF(DX$133:DX142,RDGave)+COUNTIF(DX$133:DX142,RDGevent)+DZ$107-1","v":0},null,"","",{"$f":"COUNTIF(EB$133:EB142,OK)+COUNTIF(EB$133:EB142,RDGfix)+COUNTIF(EB$133:EB142,RDGave)+COUNTIF(EB$133:EB142,RDGevent)+ED$107-1","v":0},null,"","",{"$f":"COUNTIF(EF$133:EF142,OK)+COUNTIF(EF$133:EF142,RDGfix)+COUNTIF(EF$133:EF142,RDGave)+COUNTIF(EF$133:EF142,RDGevent)+EH$107-1","v":0},null,"","",{"$f":"COUNTIF(EJ$133:EJ142,OK)+COUNTIF(EJ$133:EJ142,RDGfix)+COUNTIF(EJ$133:EJ142,RDGave)+COUNTIF(EJ$133:EJ142,RDGevent)+EL$107-1","v":0},null,"","",{"$f":"COUNTIF(EN$133:EN142,OK)+COUNTIF(EN$133:EN142,RDGfix)+COUNTIF(EN$133:EN142,RDGave)+COUNTIF(EN$133:EN142,RDGevent)+EP$107-1","v":0},null,"","",{"$f":"COUNTIF(ER$133:ER142,OK)+COUNTIF(ER$133:ER142,RDGfix)+COUNTIF(ER$133:ER142,RDGave)+COUNTIF(ER$133:ER142,RDGevent)+ET$107-1","v":0},null,"","",{"$f":"COUNTIF(EV$133:EV142,OK)+COUNTIF(EV$133:EV142,RDGfix)+COUNTIF(EV$133:EV142,RDGave)+COUNTIF(EV$133:EV142,RDGevent)+EX$107-1","v":0},null,"","",{"$f":"COUNTIF(EZ$133:EZ142,OK)+COUNTIF(EZ$133:EZ142,RDGfix)+COUNTIF(EZ$133:EZ142,RDGave)+COUNTIF(EZ$133:EZ142,RDGevent)+FB$107-1","v":0},null,"","",{"$f":"COUNTIF(FD$133:FD142,OK)+COUNTIF(FD$133:FD142,RDGfix)+COUNTIF(FD$133:FD142,RDGave)+COUNTIF(FD$133:FD142,RDGevent)+FF$107-1","v":0},null,"","",{"$f":"COUNTIF(FH$133:FH142,OK)+COUNTIF(FH$133:FH142,RDGfix)+COUNTIF(FH$133:FH142,RDGave)+COUNTIF(FH$133:FH142,RDGevent)+FJ$107-1","v":0}]
[null,null,null,"","",{"$f":"COUNTIF(D$133:D143,OK)+COUNTIF(D$133:D143,RDGfix)+COUNTIF(D$133:D143,RDGave)+COUNTIF(D$133:D143,RDGevent)","v":0},null,"","",{"$f":"COUNTIF(H$133:H143,OK)+COUNTIF(H$133:H143,RDGfix)+COUNTIF(H$133:H143,RDGave)+COUNTIF(H$133:H143,RDGevent)+J$107-1","v":0},null,"","",{"$f":"COUNTIF(L$133:L143,OK)+COUNTIF(L$133:L143,RDGfix)+COUNTIF(L$133:L143,RDGave)+COUNTIF(L$133:L143,RDGevent)+N$107-1","v":0},null,"","",{"$f":"COUNTIF(P$133:P143,OK)+COUNTIF(P$133:P143,RDGfix)+COUNTIF(P$133:P143,RDGave)+COUNTIF(P$133:P143,RDGevent)+R$107-1","v":0},null,"","",{"$f":"COUNTIF(T$133:T143,OK)+COUNTIF(T$133:T143,RDGfix)+COUNTIF(T$133:T143,RDGave)+COUNTIF(T$133:T143,RDGevent)+V$107-1","v":0},null,"","",{"$f":"COUNTIF(X$133:X143,OK)+COUNTIF(X$133:X143,RDGfix)+COUNTIF(X$133:X143,RDGave)+COUNTIF(X$133:X143,RDGevent)+Z$107-1","v":0},null,"","",{"$f":"COUNTIF(AB$133:AB143,OK)+COUNTIF(AB$133:AB143,RDGfix)+COUNTIF(AB$133:AB143,RDGave)+COUNTIF(AB$133:AB143,RDGevent)+AD$107-1","v":0},null,"","",{"$f":"COUNTIF(AF$133:AF143,OK)+COUNTIF(AF$133:AF143,RDGfix)+COUNTIF(AF$133:AF143,RDGave)+COUNTIF(AF$133:AF143,RDGevent)+AH$107-1","v":0},null,"","",{"$f":"COUNTIF(AJ$133:AJ143,OK)+COUNTIF(AJ$133:AJ143,RDGfix)+COUNTIF(AJ$133:AJ143,RDGave)+COUNTIF(AJ$133:AJ143,RDGevent)+AL$107-1","v":0},null,"","",{"$f":"COUNTIF(AN$133:AN143,OK)+COUNTIF(AN$133:AN143,RDGfix)+COUNTIF(AN$133:AN143,RDGave)+COUNTIF(AN$133:AN143,RDGevent)+AP$107-1","v":0},null,"","",{"$f":"COUNTIF(AR$133:AR143,OK)+COUNTIF(AR$133:AR143,RDGfix)+COUNTIF(AR$133:AR143,RDGave)+COUNTIF(AR$133:AR143,RDGevent)+AT$107-1","v":0},null,"","",{"$f":"COUNTIF(AV$133:AV143,OK)+COUNTIF(AV$133:AV143,RDGfix)+COUNTIF(AV$133:AV143,RDGave)+COUNTIF(AV$133:AV143,RDGevent)+AX$107-1","v":0},null,"","",{"$f":"COUNTIF(AZ$133:AZ143,OK)+COUNTIF(AZ$133:AZ143,RDGfix)+COUNTIF(AZ$133:AZ143,RDGave)+COUNTIF(AZ$133:AZ143,RDGevent)+BB$107-1","v":0},null,"","",{"$f":"COUNTIF(BD$133:BD143,OK)+COUNTIF(BD$133:BD143,RDGfix)+COUNTIF(BD$133:BD143,RDGave)+COUNTIF(BD$133:BD143,RDGevent)+BF$107-1","v":0},null,"","",{"$f":"COUNTIF(BH$133:BH143,OK)+COUNTIF(BH$133:BH143,RDGfix)+COUNTIF(BH$133:BH143,RDGave)+COUNTIF(BH$133:BH143,RDGevent)+BJ$107-1","v":0},null,"","",{"$f":"COUNTIF(BL$133:BL143,OK)+COUNTIF(BL$133:BL143,RDGfix)+COUNTIF(BL$133:BL143,RDGave)+COUNTIF(BL$133:BL143,RDGevent)+BN$107-1","v":0},null,"","",{"$f":"COUNTIF(BP$133:BP143,OK)+COUNTIF(BP$133:BP143,RDGfix)+COUNTIF(BP$133:BP143,RDGave)+COUNTIF(BP$133:BP143,RDGevent)+BR$107-1","v":0},null,"","",{"$f":"COUNTIF(BT$133:BT143,OK)+COUNTIF(BT$133:BT143,RDGfix)+COUNTIF(BT$133:BT143,RDGave)+COUNTIF(BT$133:BT143,RDGevent)+BV$107-1","v":0},null,"","",{"$f":"COUNTIF(BX$133:BX143,OK)+COUNTIF(BX$133:BX143,RDGfix)+COUNTIF(BX$133:BX143,RDGave)+COUNTIF(BX$133:BX143,RDGevent)+BZ$107-1","v":0},null,"","",{"$f":"COUNTIF(CB$133:CB143,OK)+COUNTIF(CB$133:CB143,RDGfix)+COUNTIF(CB$133:CB143,RDGave)+COUNTIF(CB$133:CB143,RDGevent)+CD$107-1","v":0},null,"","",{"$f":"COUNTIF(CF$133:CF143,OK)+COUNTIF(CF$133:CF143,RDGfix)+COUNTIF(CF$133:CF143,RDGave)+COUNTIF(CF$133:CF143,RDGevent)+CH$107-1","v":0},null,"","",{"$f":"COUNTIF(CJ$133:CJ143,OK)+COUNTIF(CJ$133:CJ143,RDGfix)+COUNTIF(CJ$133:CJ143,RDGave)+COUNTIF(CJ$133:CJ143,RDGevent)+CL$107-1","v":0},null,"","",{"$f":"COUNTIF(CN$133:CN143,OK)+COUNTIF(CN$133:CN143,RDGfix)+COUNTIF(CN$133:CN143,RDGave)+COUNTIF(CN$133:CN143,RDGevent)+CP$107-1","v":0},null,"","",{"$f":"COUNTIF(CR$133:CR143,OK)+COUNTIF(CR$133:CR143,RDGfix)+COUNTIF(CR$133:CR143,RDGave)+COUNTIF(CR$133:CR143,RDGevent)+CT$107-1","v":0},null,"","",{"$f":"COUNTIF(CV$133:CV143,OK)+COUNTIF(CV$133:CV143,RDGfix)+COUNTIF(CV$133:CV143,RDGave)+COUNTIF(CV$133:CV143,RDGevent)+CX$107-1","v":0},null,"","",{"$f":"COUNTIF(CZ$133:CZ143,OK)+COUNTIF(CZ$133:CZ143,RDGfix)+COUNTIF(CZ$133:CZ143,RDGave)+COUNTIF(CZ$133:CZ143,RDGevent)+DB$107-1","v":0},null,"","",{"$f":"COUNTIF(DD$133:DD143,OK)+COUNTIF(DD$133:DD143,RDGfix)+COUNTIF(DD$133:DD143,RDGave)+COUNTIF(DD$133:DD143,RDGevent)+DF$107-1","v":0},null,"","",{"$f":"COUNTIF(DH$133:DH143,OK)+COUNTIF(DH$133:DH143,RDGfix)+COUNTIF(DH$133:DH143,RDGave)+COUNTIF(DH$133:DH143,RDGevent)+DJ$107-1","v":0},null,"","",{"$f":"COUNTIF(DL$133:DL143,OK)+COUNTIF(DL$133:DL143,RDGfix)+COUNTIF(DL$133:DL143,RDGave)+COUNTIF(DL$133:DL143,RDGevent)+DN$107-1","v":0},null,"","",{"$f":"COUNTIF(DP$133:DP143,OK)+COUNTIF(DP$133:DP143,RDGfix)+COUNTIF(DP$133:DP143,RDGave)+COUNTIF(DP$133:DP143,RDGevent)+DR$107-1","v":0},null,"","",{"$f":"COUNTIF(DT$133:DT143,OK)+COUNTIF(DT$133:DT143,RDGfix)+COUNTIF(DT$133:DT143,RDGave)+COUNTIF(DT$133:DT143,RDGevent)+DV$107-1","v":0},null,"","",{"$f":"COUNTIF(DX$133:DX143,OK)+COUNTIF(DX$133:DX143,RDGfix)+COUNTIF(DX$133:DX143,RDGave)+COUNTIF(DX$133:DX143,RDGevent)+DZ$107-1","v":0},null,"","",{"$f":"COUNTIF(EB$133:EB143,OK)+COUNTIF(EB$133:EB143,RDGfix)+COUNTIF(EB$133:EB143,RDGave)+COUNTIF(EB$133:EB143,RDGevent)+ED$107-1","v":0},null,"","",{"$f":"COUNTIF(EF$133:EF143,OK)+COUNTIF(EF$133:EF143,RDGfix)+COUNTIF(EF$133:EF143,RDGave)+COUNTIF(EF$133:EF143,RDGevent)+EH$107-1","v":0},null,"","",{"$f":"COUNTIF(EJ$133:EJ143,OK)+COUNTIF(EJ$133:EJ143,RDGfix)+COUNTIF(EJ$133:EJ143,RDGave)+COUNTIF(EJ$133:EJ143,RDGevent)+EL$107-1","v":0},null,"","",{"$f":"COUNTIF(EN$133:EN143,OK)+COUNTIF(EN$133:EN143,RDGfix)+COUNTIF(EN$133:EN143,RDGave)+COUNTIF(EN$133:EN143,RDGevent)+EP$107-1","v":0},null,"","",{"$f":"COUNTIF(ER$133:ER143,OK)+COUNTIF(ER$133:ER143,RDGfix)+COUNTIF(ER$133:ER143,RDGave)+COUNTIF(ER$133:ER143,RDGevent)+ET$107-1","v":0},null,"","",{"$f":"COUNTIF(EV$133:EV143,OK)+COUNTIF(EV$133:EV143,RDGfix)+COUNTIF(EV$133:EV143,RDGave)+COUNTIF(EV$133:EV143,RDGevent)+EX$107-1","v":0},null,"","",{"$f":"COUNTIF(EZ$133:EZ143,OK)+COUNTIF(EZ$133:EZ143,RDGfix)+COUNTIF(EZ$133:EZ143,RDGave)+COUNTIF(EZ$133:EZ143,RDGevent)+FB$107-1","v":0},null,"","",{"$f":"COUNTIF(FD$133:FD143,OK)+COUNTIF(FD$133:FD143,RDGfix)+COUNTIF(FD$133:FD143,RDGave)+COUNTIF(FD$133:FD143,RDGevent)+FF$107-1","v":0},null,"","",{"$f":"COUNTIF(FH$133:FH143,OK)+COUNTIF(FH$133:FH143,RDGfix)+COUNTIF(FH$133:FH143,RDGave)+COUNTIF(FH$133:FH143,RDGevent)+FJ$107-1","v":0}]
[null,null,null,"","",{"$f":"COUNTIF(D$133:D144,OK)+COUNTIF(D$133:D144,RDGfix)+COUNTIF(D$133:D144,RDGave)+COUNTIF(D$133:D144,RDGevent)","v":0},null,"","",{"$f":"COUNTIF(H$133:H144,OK)+COUNTIF(H$133:H144,RDGfix)+COUNTIF(H$133:H144,RDGave)+COUNTIF(H$133:H144,RDGevent)+J$107-1","v":0},null,"","",{"$f":"COUNTIF(L$133:L144,OK)+COUNTIF(L$133:L144,RDGfix)+COUNTIF(L$133:L144,RDGave)+COUNTIF(L$133:L144,RDGevent)+N$107-1","v":0},null,"","",{"$f":"COUNTIF(P$133:P144,OK)+COUNTIF(P$133:P144,RDGfix)+COUNTIF(P$133:P144,RDGave)+COUNTIF(P$133:P144,RDGevent)+R$107-1","v":0},null,"","",{"$f":"COUNTIF(T$133:T144,OK)+COUNTIF(T$133:T144,RDGfix)+COUNTIF(T$133:T144,RDGave)+COUNTIF(T$133:T144,RDGevent)+V$107-1","v":0},null,"","",{"$f":"COUNTIF(X$133:X144,OK)+COUNTIF(X$133:X144,RDGfix)+COUNTIF(X$133:X144,RDGave)+COUNTIF(X$133:X144,RDGevent)+Z$107-1","v":0},null,"","",{"$f":"COUNTIF(AB$133:AB144,OK)+COUNTIF(AB$133:AB144,RDGfix)+COUNTIF(AB$133:AB144,RDGave)+COUNTIF(AB$133:AB144,RDGevent)+AD$107-1","v":0},null,"","",{"$f":"COUNTIF(AF$133:AF144,OK)+COUNTIF(AF$133:AF144,RDGfix)+COUNTIF(AF$133:AF144,RDGave)+COUNTIF(AF$133:AF144,RDGevent)+AH$107-1","v":0},null,"","",{"$f":"COUNTIF(AJ$133:AJ144,OK)+COUNTIF(AJ$133:AJ144,RDGfix)+COUNTIF(AJ$133:AJ144,RDGave)+COUNTIF(AJ$133:AJ144,RDGevent)+AL$107-1","v":0},null,"","",{"$f":"COUNTIF(AN$133:AN144,OK)+COUNTIF(AN$133:AN144,RDGfix)+COUNTIF(AN$133:AN144,RDGave)+COUNTIF(AN$133:AN144,RDGevent)+AP$107-1","v":0},null,"","",{"$f":"COUNTIF(AR$133:AR144,OK)+COUNTIF(AR$133:AR144,RDGfix)+COUNTIF(AR$133:AR144,RDGave)+COUNTIF(AR$133:AR144,RDGevent)+AT$107-1","v":0},null,"","",{"$f":"COUNTIF(AV$133:AV144,OK)+COUNTIF(AV$133:AV144,RDGfix)+COUNTIF(AV$133:AV144,RDGave)+COUNTIF(AV$133:AV144,RDGevent)+AX$107-1","v":0},null,"","",{"$f":"COUNTIF(AZ$133:AZ144,OK)+COUNTIF(AZ$133:AZ144,RDGfix)+COUNTIF(AZ$133:AZ144,RDGave)+COUNTIF(AZ$133:AZ144,RDGevent)+BB$107-1","v":0},null,"","",{"$f":"COUNTIF(BD$133:BD144,OK)+COUNTIF(BD$133:BD144,RDGfix)+COUNTIF(BD$133:BD144,RDGave)+COUNTIF(BD$133:BD144,RDGevent)+BF$107-1","v":0},null,"","",{"$f":"COUNTIF(BH$133:BH144,OK)+COUNTIF(BH$133:BH144,RDGfix)+COUNTIF(BH$133:BH144,RDGave)+COUNTIF(BH$133:BH144,RDGevent)+BJ$107-1","v":0},null,"","",{"$f":"COUNTIF(BL$133:BL144,OK)+COUNTIF(BL$133:BL144,RDGfix)+COUNTIF(BL$133:BL144,RDGave)+COUNTIF(BL$133:BL144,RDGevent)+BN$107-1","v":0},null,"","",{"$f":"COUNTIF(BP$133:BP144,OK)+COUNTIF(BP$133:BP144,RDGfix)+COUNTIF(BP$133:BP144,RDGave)+COUNTIF(BP$133:BP144,RDGevent)+BR$107-1","v":0},null,"","",{"$f":"COUNTIF(BT$133:BT144,OK)+COUNTIF(BT$133:BT144,RDGfix)+COUNTIF(BT$133:BT144,RDGave)+COUNTIF(BT$133:BT144,RDGevent)+BV$107-1","v":0},null,"","",{"$f":"COUNTIF(BX$133:BX144,OK)+COUNTIF(BX$133:BX144,RDGfix)+COUNTIF(BX$133:BX144,RDGave)+COUNTIF(BX$133:BX144,RDGevent)+BZ$107-1","v":0},null,"","",{"$f":"COUNTIF(CB$133:CB144,OK)+COUNTIF(CB$133:CB144,RDGfix)+COUNTIF(CB$133:CB144,RDGave)+COUNTIF(CB$133:CB144,RDGevent)+CD$107-1","v":0},null,"","",{"$f":"COUNTIF(CF$133:CF144,OK)+COUNTIF(CF$133:CF144,RDGfix)+COUNTIF(CF$133:CF144,RDGave)+COUNTIF(CF$133:CF144,RDGevent)+CH$107-1","v":0},null,"","",{"$f":"COUNTIF(CJ$133:CJ144,OK)+COUNTIF(CJ$133:CJ144,RDGfix)+COUNTIF(CJ$133:CJ144,RDGave)+COUNTIF(CJ$133:CJ144,RDGevent)+CL$107-1","v":0},null,"","",{"$f":"COUNTIF(CN$133:CN144,OK)+COUNTIF(CN$133:CN144,RDGfix)+COUNTIF(CN$133:CN144,RDGave)+COUNTIF(CN$133:CN144,RDGevent)+CP$107-1","v":0},null,"","",{"$f":"COUNTIF(CR$133:CR144,OK)+COUNTIF(CR$133:CR144,RDGfix)+COUNTIF(CR$133:CR144,RDGave)+COUNTIF(CR$133:CR144,RDGevent)+CT$107-1","v":0},null,"","",{"$f":"COUNTIF(CV$133:CV144,OK)+COUNTIF(CV$133:CV144,RDGfix)+COUNTIF(CV$133:CV144,RDGave)+COUNTIF(CV$133:CV144,RDGevent)+CX$107-1","v":0},null,"","",{"$f":"COUNTIF(CZ$133:CZ144,OK)+COUNTIF(CZ$133:CZ144,RDGfix)+COUNTIF(CZ$133:CZ144,RDGave)+COUNTIF(CZ$133:CZ144,RDGevent)+DB$107-1","v":0},null,"","",{"$f":"COUNTIF(DD$133:DD144,OK)+COUNTIF(DD$133:DD144,RDGfix)+COUNTIF(DD$133:DD144,RDGave)+COUNTIF(DD$133:DD144,RDGevent)+DF$107-1","v":0},null,"","",{"$f":"COUNTIF(DH$133:DH144,OK)+COUNTIF(DH$133:DH144,RDGfix)+COUNTIF(DH$133:DH144,RDGave)+COUNTIF(DH$133:DH144,RDGevent)+DJ$107-1","v":0},null,"","",{"$f":"COUNTIF(DL$133:DL144,OK)+COUNTIF(DL$133:DL144,RDGfix)+COUNTIF(DL$133:DL144,RDGave)+COUNTIF(DL$133:DL144,RDGevent)+DN$107-1","v":0},null,"","",{"$f":"COUNTIF(DP$133:DP144,OK)+COUNTIF(DP$133:DP144,RDGfix)+COUNTIF(DP$133:DP144,RDGave)+COUNTIF(DP$133:DP144,RDGevent)+DR$107-1","v":0},null,"","",{"$f":"COUNTIF(DT$133:DT144,OK)+COUNTIF(DT$133:DT144,RDGfix)+COUNTIF(DT$133:DT144,RDGave)+COUNTIF(DT$133:DT144,RDGevent)+DV$107-1","v":0},null,"","",{"$f":"COUNTIF(DX$133:DX144,OK)+COUNTIF(DX$133:DX144,RDGfix)+COUNTIF(DX$133:DX144,RDGave)+COUNTIF(DX$133:DX144,RDGevent)+DZ$107-1","v":0},null,"","",{"$f":"COUNTIF(EB$133:EB144,OK)+COUNTIF(EB$133:EB144,RDGfix)+COUNTIF(EB$133:EB144,RDGave)+COUNTIF(EB$133:EB144,RDGevent)+ED$107-1","v":0},null,"","",{"$f":"COUNTIF(EF$133:EF144,OK)+COUNTIF(EF$133:EF144,RDGfix)+COUNTIF(EF$133:EF144,RDGave)+COUNTIF(EF$133:EF144,RDGevent)+EH$107-1","v":0},null,"","",{"$f":"COUNTIF(EJ$133:EJ144,OK)+COUNTIF(EJ$133:EJ144,RDGfix)+COUNTIF(EJ$133:EJ144,RDGave)+COUNTIF(EJ$133:EJ144,RDGevent)+EL$107-1","v":0},null,"","",{"$f":"COUNTIF(EN$133:EN144,OK)+COUNTIF(EN$133:EN144,RDGfix)+COUNTIF(EN$133:EN144,RDGave)+COUNTIF(EN$133:EN144,RDGevent)+EP$107-1","v":0},null,"","",{"$f":"COUNTIF(ER$133:ER144,OK)+COUNTIF(ER$133:ER144,RDGfix)+COUNTIF(ER$133:ER144,RDGave)+COUNTIF(ER$133:ER144,RDGevent)+ET$107-1","v":0},null,"","",{"$f":"COUNTIF(EV$133:EV144,OK)+COUNTIF(EV$133:EV144,RDGfix)+COUNTIF(EV$133:EV144,RDGave)+COUNTIF(EV$133:EV144,RDGevent)+EX$107-1","v":0},null,"","",{"$f":"COUNTIF(EZ$133:EZ144,OK)+COUNTIF(EZ$133:EZ144,RDGfix)+COUNTIF(EZ$133:EZ144,RDGave)+COUNTIF(EZ$133:EZ144,RDGevent)+FB$107-1","v":0},null,"","",{"$f":"COUNTIF(FD$133:FD144,OK)+COUNTIF(FD$133:FD144,RDGfix)+COUNTIF(FD$133:FD144,RDGave)+COUNTIF(FD$133:FD144,RDGevent)+FF$107-1","v":0},null,"","",{"$f":"COUNTIF(FH$133:FH144,OK)+COUNTIF(FH$133:FH144,RDGfix)+COUNTIF(FH$133:FH144,RDGave)+COUNTIF(FH$133:FH144,RDGevent)+FJ$107-1","v":0}]
[null,null,null,"","",{"$f":"COUNTIF(D$133:D145,OK)+COUNTIF(D$133:D145,RDGfix)+COUNTIF(D$133:D145,RDGave)+COUNTIF(D$133:D145,RDGevent)","v":0},null,"","",{"$f":"COUNTIF(H$133:H145,OK)+COUNTIF(H$133:H145,RDGfix)+COUNTIF(H$133:H145,RDGave)+COUNTIF(H$133:H145,RDGevent)+J$107-1","v":0},null,"","",{"$f":"COUNTIF(L$133:L145,OK)+COUNTIF(L$133:L145,RDGfix)+COUNTIF(L$133:L145,RDGave)+COUNTIF(L$133:L145,RDGevent)+N$107-1","v":0},null,"","",{"$f":"COUNTIF(P$133:P145,OK)+COUNTIF(P$133:P145,RDGfix)+COUNTIF(P$133:P145,RDGave)+COUNTIF(P$133:P145,RDGevent)+R$107-1","v":0},null,"","",{"$f":"COUNTIF(T$133:T145,OK)+COUNTIF(T$133:T145,RDGfix)+COUNTIF(T$133:T145,RDGave)+COUNTIF(T$133:T145,RDGevent)+V$107-1","v":0},null,"","",{"$f":"COUNTIF(X$133:X145,OK)+COUNTIF(X$133:X145,RDGfix)+COUNTIF(X$133:X145,RDGave)+COUNTIF(X$133:X145,RDGevent)+Z$107-1","v":0},null,"","",{"$f":"COUNTIF(AB$133:AB145,OK)+COUNTIF(AB$133:AB145,RDGfix)+COUNTIF(AB$133:AB145,RDGave)+COUNTIF(AB$133:AB145,RDGevent)+AD$107-1","v":0},null,"","",{"$f":"COUNTIF(AF$133:AF145,OK)+COUNTIF(AF$133:AF145,RDGfix)+COUNTIF(AF$133:AF145,RDGave)+COUNTIF(AF$133:AF145,RDGevent)+AH$107-1","v":0},null,"","",{"$f":"COUNTIF(AJ$133:AJ145,OK)+COUNTIF(AJ$133:AJ145,RDGfix)+COUNTIF(AJ$133:AJ145,RDGave)+COUNTIF(AJ$133:AJ145,RDGevent)+AL$107-1","v":0},null,"","",{"$f":"COUNTIF(AN$133:AN145,OK)+COUNTIF(AN$133:AN145,RDGfix)+COUNTIF(AN$133:AN145,RDGave)+COUNTIF(AN$133:AN145,RDGevent)+AP$107-1","v":0},null,"","",{"$f":"COUNTIF(AR$133:AR145,OK)+COUNTIF(AR$133:AR145,RDGfix)+COUNTIF(AR$133:AR145,RDGave)+COUNTIF(AR$133:AR145,RDGevent)+AT$107-1","v":0},null,"","",{"$f":"COUNTIF(AV$133:AV145,OK)+COUNTIF(AV$133:AV145,RDGfix)+COUNTIF(AV$133:AV145,RDGave)+COUNTIF(AV$133:AV145,RDGevent)+AX$107-1","v":0},null,"","",{"$f":"COUNTIF(AZ$133:AZ145,OK)+COUNTIF(AZ$133:AZ145,RDGfix)+COUNTIF(AZ$133:AZ145,RDGave)+COUNTIF(AZ$133:AZ145,RDGevent)+BB$107-1","v":0},null,"","",{"$f":"COUNTIF(BD$133:BD145,OK)+COUNTIF(BD$133:BD145,RDGfix)+COUNTIF(BD$133:BD145,RDGave)+COUNTIF(BD$133:BD145,RDGevent)+BF$107-1","v":0},null,"","",{"$f":"COUNTIF(BH$133:BH145,OK)+COUNTIF(BH$133:BH145,RDGfix)+COUNTIF(BH$133:BH145,RDGave)+COUNTIF(BH$133:BH145,RDGevent)+BJ$107-1","v":0},null,"","",{"$f":"COUNTIF(BL$133:BL145,OK)+COUNTIF(BL$133:BL145,RDGfix)+COUNTIF(BL$133:BL145,RDGave)+COUNTIF(BL$133:BL145,RDGevent)+BN$107-1","v":0},null,"","",{"$f":"COUNTIF(BP$133:BP145,OK)+COUNTIF(BP$133:BP145,RDGfix)+COUNTIF(BP$133:BP145,RDGave)+COUNTIF(BP$133:BP145,RDGevent)+BR$107-1","v":0},null,"","",{"$f":"COUNTIF(BT$133:BT145,OK)+COUNTIF(BT$133:BT145,RDGfix)+COUNTIF(BT$133:BT145,RDGave)+COUNTIF(BT$133:BT145,RDGevent)+BV$107-1","v":0},null,"","",{"$f":"COUNTIF(BX$133:BX145,OK)+COUNTIF(BX$133:BX145,RDGfix)+COUNTIF(BX$133:BX145,RDGave)+COUNTIF(BX$133:BX145,RDGevent)+BZ$107-1","v":0},null,"","",{"$f":"COUNTIF(CB$133:CB145,OK)+COUNTIF(CB$133:CB145,RDGfix)+COUNTIF(CB$133:CB145,RDGave)+COUNTIF(CB$133:CB145,RDGevent)+CD$107-1","v":0},null,"","",{"$f":"COUNTIF(CF$133:CF145,OK)+COUNTIF(CF$133:CF145,RDGfix)+COUNTIF(CF$133:CF145,RDGave)+COUNTIF(CF$133:CF145,RDGevent)+CH$107-1","v":0},null,"","",{"$f":"COUNTIF(CJ$133:CJ145,OK)+COUNTIF(CJ$133:CJ145,RDGfix)+COUNTIF(CJ$133:CJ145,RDGave)+COUNTIF(CJ$133:CJ145,RDGevent)+CL$107-1","v":0},null,"","",{"$f":"COUNTIF(CN$133:CN145,OK)+COUNTIF(CN$133:CN145,RDGfix)+COUNTIF(CN$133:CN145,RDGave)+COUNTIF(CN$133:CN145,RDGevent)+CP$107-1","v":0},null,"","",{"$f":"COUNTIF(CR$133:CR145,OK)+COUNTIF(CR$133:CR145,RDGfix)+COUNTIF(CR$133:CR145,RDGave)+COUNTIF(CR$133:CR145,RDGevent)+CT$107-1","v":0},null,"","",{"$f":"COUNTIF(CV$133:CV145,OK)+COUNTIF(CV$133:CV145,RDGfix)+COUNTIF(CV$133:CV145,RDGave)+COUNTIF(CV$133:CV145,RDGevent)+CX$107-1","v":0},null,"","",{"$f":"COUNTIF(CZ$133:CZ145,OK)+COUNTIF(CZ$133:CZ145,RDGfix)+COUNTIF(CZ$133:CZ145,RDGave)+COUNTIF(CZ$133:CZ145,RDGevent)+DB$107-1","v":0},null,"","",{"$f":"COUNTIF(DD$133:DD145,OK)+COUNTIF(DD$133:DD145,RDGfix)+COUNTIF(DD$133:DD145,RDGave)+COUNTIF(DD$133:DD145,RDGevent)+DF$107-1","v":0},null,"","",{"$f":"COUNTIF(DH$133:DH145,OK)+COUNTIF(DH$133:DH145,RDGfix)+COUNTIF(DH$133:DH145,RDGave)+COUNTIF(DH$133:DH145,RDGevent)+DJ$107-1","v":0},null,"","",{"$f":"COUNTIF(DL$133:DL145,OK)+COUNTIF(DL$133:DL145,RDGfix)+COUNTIF(DL$133:DL145,RDGave)+COUNTIF(DL$133:DL145,RDGevent)+DN$107-1","v":0},null,"","",{"$f":"COUNTIF(DP$133:DP145,OK)+COUNTIF(DP$133:DP145,RDGfix)+COUNTIF(DP$133:DP145,RDGave)+COUNTIF(DP$133:DP145,RDGevent)+DR$107-1","v":0},null,"","",{"$f":"COUNTIF(DT$133:DT145,OK)+COUNTIF(DT$133:DT145,RDGfix)+COUNTIF(DT$133:DT145,RDGave)+COUNTIF(DT$133:DT145,RDGevent)+DV$107-1","v":0},null,"","",{"$f":"COUNTIF(DX$133:DX145,OK)+COUNTIF(DX$133:DX145,RDGfix)+COUNTIF(DX$133:DX145,RDGave)+COUNTIF(DX$133:DX145,RDGevent)+DZ$107-1","v":0},null,"","",{"$f":"COUNTIF(EB$133:EB145,OK)+COUNTIF(EB$133:EB145,RDGfix)+COUNTIF(EB$133:EB145,RDGave)+COUNTIF(EB$133:EB145,RDGevent)+ED$107-1","v":0},null,"","",{"$f":"COUNTIF(EF$133:EF145,OK)+COUNTIF(EF$133:EF145,RDGfix)+COUNTIF(EF$133:EF145,RDGave)+COUNTIF(EF$133:EF145,RDGevent)+EH$107-1","v":0},null,"","",{"$f":"COUNTIF(EJ$133:EJ145,OK)+COUNTIF(EJ$133:EJ145,RDGfix)+COUNTIF(EJ$133:EJ145,RDGave)+COUNTIF(EJ$133:EJ145,RDGevent)+EL$107-1","v":0},null,"","",{"$f":"COUNTIF(EN$133:EN145,OK)+COUNTIF(EN$133:EN145,RDGfix)+COUNTIF(EN$133:EN145,RDGave)+COUNTIF(EN$133:EN145,RDGevent)+EP$107-1","v":0},null,"","",{"$f":"COUNTIF(ER$133:ER145,OK)+COUNTIF(ER$133:ER145,RDGfix)+COUNTIF(ER$133:ER145,RDGave)+COUNTIF(ER$133:ER145,RDGevent)+ET$107-1","v":0},null,"","",{"$f":"COUNTIF(EV$133:EV145,OK)+COUNTIF(EV$133:EV145,RDGfix)+COUNTIF(EV$133:EV145,RDGave)+COUNTIF(EV$133:EV145,RDGevent)+EX$107-1","v":0},null,"","",{"$f":"COUNTIF(EZ$133:EZ145,OK)+COUNTIF(EZ$133:EZ145,RDGfix)+COUNTIF(EZ$133:EZ145,RDGave)+COUNTIF(EZ$133:EZ145,RDGevent)+FB$107-1","v":0},null,"","",{"$f":"COUNTIF(FD$133:FD145,OK)+COUNTIF(FD$133:FD145,RDGfix)+COUNTIF(FD$133:FD145,RDGave)+COUNTIF(FD$133:FD145,RDGevent)+FF$107-1","v":0},null,"","",{"$f":"COUNTIF(FH$133:FH145,OK)+COUNTIF(FH$133:FH145,RDGfix)+COUNTIF(FH$133:FH145,RDGave)+COUNTIF(FH$133:FH145,RDGevent)+FJ$107-1","v":0}]
[null,null,null,"","",{"$f":"COUNTIF(D$133:D146,OK)+COUNTIF(D$133:D146,RDGfix)+COUNTIF(D$133:D146,RDGave)+COUNTIF(D$133:D146,RDGevent)","v":0},null,"","",{"$f":"COUNTIF(H$133:H146,OK)+COUNTIF(H$133:H146,RDGfix)+COUNTIF(H$133:H146,RDGave)+COUNTIF(H$133:H146,RDGevent)+J$107-1","v":0},null,"","",{"$f":"COUNTIF(L$133:L146,OK)+COUNTIF(L$133:L146,RDGfix)+COUNTIF(L$133:L146,RDGave)+COUNTIF(L$133:L146,RDGevent)+N$107-1","v":0},null,"","",{"$f":"COUNTIF(P$133:P146,OK)+COUNTIF(P$133:P146,RDGfix)+COUNTIF(P$133:P146,RDGave)+COUNTIF(P$133:P146,RDGevent)+R$107-1","v":0},null,"","",{"$f":"COUNTIF(T$133:T146,OK)+COUNTIF(T$133:T146,RDGfix)+COUNTIF(T$133:T146,RDGave)+COUNTIF(T$133:T146,RDGevent)+V$107-1","v":0},null,"","",{"$f":"COUNTIF(X$133:X146,OK)+COUNTIF(X$133:X146,RDGfix)+COUNTIF(X$133:X146,RDGave)+COUNTIF(X$133:X146,RDGevent)+Z$107-1","v":0},null,"","",{"$f":"COUNTIF(AB$133:AB146,OK)+COUNTIF(AB$133:AB146,RDGfix)+COUNTIF(AB$133:AB146,RDGave)+COUNTIF(AB$133:AB146,RDGevent)+AD$107-1","v":0},null,"","",{"$f":"COUNTIF(AF$133:AF146,OK)+COUNTIF(AF$133:AF146,RDGfix)+COUNTIF(AF$133:AF146,RDGave)+COUNTIF(AF$133:AF146,RDGevent)+AH$107-1","v":0},null,"","",{"$f":"COUNTIF(AJ$133:AJ146,OK)+COUNTIF(AJ$133:AJ146,RDGfix)+COUNTIF(AJ$133:AJ146,RDGave)+COUNTIF(AJ$133:AJ146,RDGevent)+AL$107-1","v":0},null,"","",{"$f":"COUNTIF(AN$133:AN146,OK)+COUNTIF(AN$133:AN146,RDGfix)+COUNTIF(AN$133:AN146,RDGave)+COUNTIF(AN$133:AN146,RDGevent)+AP$107-1","v":0},null,"","",{"$f":"COUNTIF(AR$133:AR146,OK)+COUNTIF(AR$133:AR146,RDGfix)+COUNTIF(AR$133:AR146,RDGave)+COUNTIF(AR$133:AR146,RDGevent)+AT$107-1","v":0},null,"","",{"$f":"COUNTIF(AV$133:AV146,OK)+COUNTIF(AV$133:AV146,RDGfix)+COUNTIF(AV$133:AV146,RDGave)+COUNTIF(AV$133:AV146,RDGevent)+AX$107-1","v":0},null,"","",{"$f":"COUNTIF(AZ$133:AZ146,OK)+COUNTIF(AZ$133:AZ146,RDGfix)+COUNTIF(AZ$133:AZ146,RDGave)+COUNTIF(AZ$133:AZ146,RDGevent)+BB$107-1","v":0},null,"","",{"$f":"COUNTIF(BD$133:BD146,OK)+COUNTIF(BD$133:BD146,RDGfix)+COUNTIF(BD$133:BD146,RDGave)+COUNTIF(BD$133:BD146,RDGevent)+BF$107-1","v":0},null,"","",{"$f":"COUNTIF(BH$133:BH146,OK)+COUNTIF(BH$133:BH146,RDGfix)+COUNTIF(BH$133:BH146,RDGave)+COUNTIF(BH$133:BH146,RDGevent)+BJ$107-1","v":0},null,"","",{"$f":"COUNTIF(BL$133:BL146,OK)+COUNTIF(BL$133:BL146,RDGfix)+COUNTIF(BL$133:BL146,RDGave)+COUNTIF(BL$133:BL146,RDGevent)+BN$107-1","v":0},null,"","",{"$f":"COUNTIF(BP$133:BP146,OK)+COUNTIF(BP$133:BP146,RDGfix)+COUNTIF(BP$133:BP146,RDGave)+COUNTIF(BP$133:BP146,RDGevent)+BR$107-1","v":0},null,"","",{"$f":"COUNTIF(BT$133:BT146,OK)+COUNTIF(BT$133:BT146,RDGfix)+COUNTIF(BT$133:BT146,RDGave)+COUNTIF(BT$133:BT146,RDGevent)+BV$107-1","v":0},null,"","",{"$f":"COUNTIF(BX$133:BX146,OK)+COUNTIF(BX$133:BX146,RDGfix)+COUNTIF(BX$133:BX146,RDGave)+COUNTIF(BX$133:BX146,RDGevent)+BZ$107-1","v":0},null,"","",{"$f":"COUNTIF(CB$133:CB146,OK)+COUNTIF(CB$133:CB146,RDGfix)+COUNTIF(CB$133:CB146,RDGave)+COUNTIF(CB$133:CB146,RDGevent)+CD$107-1","v":0},null,"","",{"$f":"COUNTIF(CF$133:CF146,OK)+COUNTIF(CF$133:CF146,RDGfix)+COUNTIF(CF$133:CF146,RDGave)+COUNTIF(CF$133:CF146,RDGevent)+CH$107-1","v":0},null,"","",{"$f":"COUNTIF(CJ$133:CJ146,OK)+COUNTIF(CJ$133:CJ146,RDGfix)+COUNTIF(CJ$133:CJ146,RDGave)+COUNTIF(CJ$133:CJ146,RDGevent)+CL$107-1","v":0},null,"","",{"$f":"COUNTIF(CN$133:CN146,OK)+COUNTIF(CN$133:CN146,RDGfix)+COUNTIF(CN$133:CN146,RDGave)+COUNTIF(CN$133:CN146,RDGevent)+CP$107-1","v":0},null,"","",{"$f":"COUNTIF(CR$133:CR146,OK)+COUNTIF(CR$133:CR146,RDGfix)+COUNTIF(CR$133:CR146,RDGave)+COUNTIF(CR$133:CR146,RDGevent)+CT$107-1","v":0},null,"","",{"$f":"COUNTIF(CV$133:CV146,OK)+COUNTIF(CV$133:CV146,RDGfix)+COUNTIF(CV$133:CV146,RDGave)+COUNTIF(CV$133:CV146,RDGevent)+CX$107-1","v":0},null,"","",{"$f":"COUNTIF(CZ$133:CZ146,OK)+COUNTIF(CZ$133:CZ146,RDGfix)+COUNTIF(CZ$133:CZ146,RDGave)+COUNTIF(CZ$133:CZ146,RDGevent)+DB$107-1","v":0},null,"","",{"$f":"COUNTIF(DD$133:DD146,OK)+COUNTIF(DD$133:DD146,RDGfix)+COUNTIF(DD$133:DD146,RDGave)+COUNTIF(DD$133:DD146,RDGevent)+DF$107-1","v":0},null,"","",{"$f":"COUNTIF(DH$133:DH146,OK)+COUNTIF(DH$133:DH146,RDGfix)+COUNTIF(DH$133:DH146,RDGave)+COUNTIF(DH$133:DH146,RDGevent)+DJ$107-1","v":0},null,"","",{"$f":"COUNTIF(DL$133:DL146,OK)+COUNTIF(DL$133:DL146,RDGfix)+COUNTIF(DL$133:DL146,RDGave)+COUNTIF(DL$133:DL146,RDGevent)+DN$107-1","v":0},null,"","",{"$f":"COUNTIF(DP$133:DP146,OK)+COUNTIF(DP$133:DP146,RDGfix)+COUNTIF(DP$133:DP146,RDGave)+COUNTIF(DP$133:DP146,RDGevent)+DR$107-1","v":0},null,"","",{"$f":"COUNTIF(DT$133:DT146,OK)+COUNTIF(DT$133:DT146,RDGfix)+COUNTIF(DT$133:DT146,RDGave)+COUNTIF(DT$133:DT146,RDGevent)+DV$107-1","v":0},null,"","",{"$f":"COUNTIF(DX$133:DX146,OK)+COUNTIF(DX$133:DX146,RDGfix)+COUNTIF(DX$133:DX146,RDGave)+COUNTIF(DX$133:DX146,RDGevent)+DZ$107-1","v":0},null,"","",{"$f":"COUNTIF(EB$133:EB146,OK)+COUNTIF(EB$133:EB146,RDGfix)+COUNTIF(EB$133:EB146,RDGave)+COUNTIF(EB$133:EB146,RDGevent)+ED$107-1","v":0},null,"","",{"$f":"COUNTIF(EF$133:EF146,OK)+COUNTIF(EF$133:EF146,RDGfix)+COUNTIF(EF$133:EF146,RDGave)+COUNTIF(EF$133:EF146,RDGevent)+EH$107-1","v":0},null,"","",{"$f":"COUNTIF(EJ$133:EJ146,OK)+COUNTIF(EJ$133:EJ146,RDGfix)+COUNTIF(EJ$133:EJ146,RDGave)+COUNTIF(EJ$133:EJ146,RDGevent)+EL$107-1","v":0},null,"","",{"$f":"COUNTIF(EN$133:EN146,OK)+COUNTIF(EN$133:EN146,RDGfix)+COUNTIF(EN$133:EN146,RDGave)+COUNTIF(EN$133:EN146,RDGevent)+EP$107-1","v":0},null,"","",{"$f":"COUNTIF(ER$133:ER146,OK)+COUNTIF(ER$133:ER146,RDGfix)+COUNTIF(ER$133:ER146,RDGave)+COUNTIF(ER$133:ER146,RDGevent)+ET$107-1","v":0},null,"","",{"$f":"COUNTIF(EV$133:EV146,OK)+COUNTIF(EV$133:EV146,RDGfix)+COUNTIF(EV$133:EV146,RDGave)+COUNTIF(EV$133:EV146,RDGevent)+EX$107-1","v":0},null,"","",{"$f":"COUNTIF(EZ$133:EZ146,OK)+COUNTIF(EZ$133:EZ146,RDGfix)+COUNTIF(EZ$133:EZ146,RDGave)+COUNTIF(EZ$133:EZ146,RDGevent)+FB$107-1","v":0},null,"","",{"$f":"COUNTIF(FD$133:FD146,OK)+COUNTIF(FD$133:FD146,RDGfix)+COUNTIF(FD$133:FD146,RDGave)+COUNTIF(FD$133:FD146,RDGevent)+FF$107-1","v":0},null,"","",{"$f":"COUNTIF(FH$133:FH146,OK)+COUNTIF(FH$133:FH146,RDGfix)+COUNTIF(FH$133:FH146,RDGave)+COUNTIF(FH$133:FH146,RDGevent)+FJ$107-1","v":0}]
[null,null,null,"","",{"$f":"COUNTIF(D$133:D147,OK)+COUNTIF(D$133:D147,RDGfix)+COUNTIF(D$133:D147,RDGave)+COUNTIF(D$133:D147,RDGevent)","v":0},null,"","",{"$f":"COUNTIF(H$133:H147,OK)+COUNTIF(H$133:H147,RDGfix)+COUNTIF(H$133:H147,RDGave)+COUNTIF(H$133:H147,RDGevent)+J$107-1","v":0},null,"","",{"$f":"COUNTIF(L$133:L147,OK)+COUNTIF(L$133:L147,RDGfix)+COUNTIF(L$133:L147,RDGave)+COUNTIF(L$133:L147,RDGevent)+N$107-1","v":0},null,"","",{"$f":"COUNTIF(P$133:P147,OK)+COUNTIF(P$133:P147,RDGfix)+COUNTIF(P$133:P147,RDGave)+COUNTIF(P$133:P147,RDGevent)+R$107-1","v":0},null,"","",{"$f":"COUNTIF(T$133:T147,OK)+COUNTIF(T$133:T147,RDGfix)+COUNTIF(T$133:T147,RDGave)+COUNTIF(T$133:T147,RDGevent)+V$107-1","v":0},null,"","",{"$f":"COUNTIF(X$133:X147,OK)+COUNTIF(X$133:X147,RDGfix)+COUNTIF(X$133:X147,RDGave)+COUNTIF(X$133:X147,RDGevent)+Z$107-1","v":0},null,"","",{"$f":"COUNTIF(AB$133:AB147,OK)+COUNTIF(AB$133:AB147,RDGfix)+COUNTIF(AB$133:AB147,RDGave)+COUNTIF(AB$133:AB147,RDGevent)+AD$107-1","v":0},null,"","",{"$f":"COUNTIF(AF$133:AF147,OK)+COUNTIF(AF$133:AF147,RDGfix)+COUNTIF(AF$133:AF147,RDGave)+COUNTIF(AF$133:AF147,RDGevent)+AH$107-1","v":0},null,"","",{"$f":"COUNTIF(AJ$133:AJ147,OK)+COUNTIF(AJ$133:AJ147,RDGfix)+COUNTIF(AJ$133:AJ147,RDGave)+COUNTIF(AJ$133:AJ147,RDGevent)+AL$107-1","v":0},null,"","",{"$f":"COUNTIF(AN$133:AN147,OK)+COUNTIF(AN$133:AN147,RDGfix)+COUNTIF(AN$133:AN147,RDGave)+COUNTIF(AN$133:AN147,RDGevent)+AP$107-1","v":0},null,"","",{"$f":"COUNTIF(AR$133:AR147,OK)+COUNTIF(AR$133:AR147,RDGfix)+COUNTIF(AR$133:AR147,RDGave)+COUNTIF(AR$133:AR147,RDGevent)+AT$107-1","v":0},null,"","",{"$f":"COUNTIF(AV$133:AV147,OK)+COUNTIF(AV$133:AV147,RDGfix)+COUNTIF(AV$133:AV147,RDGave)+COUNTIF(AV$133:AV147,RDGevent)+AX$107-1","v":0},null,"","",{"$f":"COUNTIF(AZ$133:AZ147,OK)+COUNTIF(AZ$133:AZ147,RDGfix)+COUNTIF(AZ$133:AZ147,RDGave)+COUNTIF(AZ$133:AZ147,RDGevent)+BB$107-1","v":0},null,"","",{"$f":"COUNTIF(BD$133:BD147,OK)+COUNTIF(BD$133:BD147,RDGfix)+COUNTIF(BD$133:BD147,RDGave)+COUNTIF(BD$133:BD147,RDGevent)+BF$107-1","v":0},null,"","",{"$f":"COUNTIF(BH$133:BH147,OK)+COUNTIF(BH$133:BH147,RDGfix)+COUNTIF(BH$133:BH147,RDGave)+COUNTIF(BH$133:BH147,RDGevent)+BJ$107-1","v":0},null,"","",{"$f":"COUNTIF(BL$133:BL147,OK)+COUNTIF(BL$133:BL147,RDGfix)+COUNTIF(BL$133:BL147,RDGave)+COUNTIF(BL$133:BL147,RDGevent)+BN$107-1","v":0},null,"","",{"$f":"COUNTIF(BP$133:BP147,OK)+COUNTIF(BP$133:BP147,RDGfix)+COUNTIF(BP$133:BP147,RDGave)+COUNTIF(BP$133:BP147,RDGevent)+BR$107-1","v":0},null,"","",{"$f":"COUNTIF(BT$133:BT147,OK)+COUNTIF(BT$133:BT147,RDGfix)+COUNTIF(BT$133:BT147,RDGave)+COUNTIF(BT$133:BT147,RDGevent)+BV$107-1","v":0},null,"","",{"$f":"COUNTIF(BX$133:BX147,OK)+COUNTIF(BX$133:BX147,RDGfix)+COUNTIF(BX$133:BX147,RDGave)+COUNTIF(BX$133:BX147,RDGevent)+BZ$107-1","v":0},null,"","",{"$f":"COUNTIF(CB$133:CB147,OK)+COUNTIF(CB$133:CB147,RDGfix)+COUNTIF(CB$133:CB147,RDGave)+COUNTIF(CB$133:CB147,RDGevent)+CD$107-1","v":0},null,"","",{"$f":"COUNTIF(CF$133:CF147,OK)+COUNTIF(CF$133:CF147,RDGfix)+COUNTIF(CF$133:CF147,RDGave)+COUNTIF(CF$133:CF147,RDGevent)+CH$107-1","v":0},null,"","",{"$f":"COUNTIF(CJ$133:CJ147,OK)+COUNTIF(CJ$133:CJ147,RDGfix)+COUNTIF(CJ$133:CJ147,RDGave)+COUNTIF(CJ$133:CJ147,RDGevent)+CL$107-1","v":0},null,"","",{"$f":"COUNTIF(CN$133:CN147,OK)+COUNTIF(CN$133:CN147,RDGfix)+COUNTIF(CN$133:CN147,RDGave)+COUNTIF(CN$133:CN147,RDGevent)+CP$107-1","v":0},null,"","",{"$f":"COUNTIF(CR$133:CR147,OK)+COUNTIF(CR$133:CR147,RDGfix)+COUNTIF(CR$133:CR147,RDGave)+COUNTIF(CR$133:CR147,RDGevent)+CT$107-1","v":0},null,"","",{"$f":"COUNTIF(CV$133:CV147,OK)+COUNTIF(CV$133:CV147,RDGfix)+COUNTIF(CV$133:CV147,RDGave)+COUNTIF(CV$133:CV147,RDGevent)+CX$107-1","v":0},null,"","",{"$f":"COUNTIF(CZ$133:CZ147,OK)+COUNTIF(CZ$133:CZ147,RDGfix)+COUNTIF(CZ$133:CZ147,RDGave)+COUNTIF(CZ$133:CZ147,RDGevent)+DB$107-1","v":0},null,"","",{"$f":"COUNTIF(DD$133:DD147,OK)+COUNTIF(DD$133:DD147,RDGfix)+COUNTIF(DD$133:DD147,RDGave)+COUNTIF(DD$133:DD147,RDGevent)+DF$107-1","v":0},null,"","",{"$f":"COUNTIF(DH$133:DH147,OK)+COUNTIF(DH$133:DH147,RDGfix)+COUNTIF(DH$133:DH147,RDGave)+COUNTIF(DH$133:DH147,RDGevent)+DJ$107-1","v":0},null,"","",{"$f":"COUNTIF(DL$133:DL147,OK)+COUNTIF(DL$133:DL147,RDGfix)+COUNTIF(DL$133:DL147,RDGave)+COUNTIF(DL$133:DL147,RDGevent)+DN$107-1","v":0},null,"","",{"$f":"COUNTIF(DP$133:DP147,OK)+COUNTIF(DP$133:DP147,RDGfix)+COUNTIF(DP$133:DP147,RDGave)+COUNTIF(DP$133:DP147,RDGevent)+DR$107-1","v":0},null,"","",{"$f":"COUNTIF(DT$133:DT147,OK)+COUNTIF(DT$133:DT147,RDGfix)+COUNTIF(DT$133:DT147,RDGave)+COUNTIF(DT$133:DT147,RDGevent)+DV$107-1","v":0},null,"","",{"$f":"COUNTIF(DX$133:DX147,OK)+COUNTIF(DX$133:DX147,RDGfix)+COUNTIF(DX$133:DX147,RDGave)+COUNTIF(DX$133:DX147,RDGevent)+DZ$107-1","v":0},null,"","",{"$f":"COUNTIF(EB$133:EB147,OK)+COUNTIF(EB$133:EB147,RDGfix)+COUNTIF(EB$133:EB147,RDGave)+COUNTIF(EB$133:EB147,RDGevent)+ED$107-1","v":0},null,"","",{"$f":"COUNTIF(EF$133:EF147,OK)+COUNTIF(EF$133:EF147,RDGfix)+COUNTIF(EF$133:EF147,RDGave)+COUNTIF(EF$133:EF147,RDGevent)+EH$107-1","v":0},null,"","",{"$f":"COUNTIF(EJ$133:EJ147,OK)+COUNTIF(EJ$133:EJ147,RDGfix)+COUNTIF(EJ$133:EJ147,RDGave)+COUNTIF(EJ$133:EJ147,RDGevent)+EL$107-1","v":0},null,"","",{"$f":"COUNTIF(EN$133:EN147,OK)+COUNTIF(EN$133:EN147,RDGfix)+COUNTIF(EN$133:EN147,RDGave)+COUNTIF(EN$133:EN147,RDGevent)+EP$107-1","v":0},null,"","",{"$f":"COUNTIF(ER$133:ER147,OK)+COUNTIF(ER$133:ER147,RDGfix)+COUNTIF(ER$133:ER147,RDGave)+COUNTIF(ER$133:ER147,RDGevent)+ET$107-1","v":0},null,"","",{"$f":"COUNTIF(EV$133:EV147,OK)+COUNTIF(EV$133:EV147,RDGfix)+COUNTIF(EV$133:EV147,RDGave)+COUNTIF(EV$133:EV147,RDGevent)+EX$107-1","v":0},null,"","",{"$f":"COUNTIF(EZ$133:EZ147,OK)+COUNTIF(EZ$133:EZ147,RDGfix)+COUNTIF(EZ$133:EZ147,RDGave)+COUNTIF(EZ$133:EZ147,RDGevent)+FB$107-1","v":0},null,"","",{"$f":"COUNTIF(FD$133:FD147,OK)+COUNTIF(FD$133:FD147,RDGfix)+COUNTIF(FD$133:FD147,RDGave)+COUNTIF(FD$133:FD147,RDGevent)+FF$107-1","v":0},null,"","",{"$f":"COUNTIF(FH$133:FH147,OK)+COUNTIF(FH$133:FH147,RDGfix)+COUNTIF(FH$133:FH147,RDGave)+COUNTIF(FH$133:FH147,RDGevent)+FJ$107-1","v":0}]
[null,null,null,"","",{"$f":"COUNTIF(D$133:D148,OK)+COUNTIF(D$133:D148,RDGfix)+COUNTIF(D$133:D148,RDGave)+COUNTIF(D$133:D148,RDGevent)","v":0},null,"","",{"$f":"COUNTIF(H$133:H148,OK)+COUNTIF(H$133:H148,RDGfix)+COUNTIF(H$133:H148,RDGave)+COUNTIF(H$133:H148,RDGevent)+J$107-1","v":0},null,"","",{"$f":"COUNTIF(L$133:L148,OK)+COUNTIF(L$133:L148,RDGfix)+COUNTIF(L$133:L148,RDGave)+COUNTIF(L$133:L148,RDGevent)+N$107-1","v":0},null,"","",{"$f":"COUNTIF(P$133:P148,OK)+COUNTIF(P$133:P148,RDGfix)+COUNTIF(P$133:P148,RDGave)+COUNTIF(P$133:P148,RDGevent)+R$107-1","v":0},null,"","",{"$f":"COUNTIF(T$133:T148,OK)+COUNTIF(T$133:T148,RDGfix)+COUNTIF(T$133:T148,RDGave)+COUNTIF(T$133:T148,RDGevent)+V$107-1","v":0},null,"","",{"$f":"COUNTIF(X$133:X148,OK)+COUNTIF(X$133:X148,RDGfix)+COUNTIF(X$133:X148,RDGave)+COUNTIF(X$133:X148,RDGevent)+Z$107-1","v":0},null,"","",{"$f":"COUNTIF(AB$133:AB148,OK)+COUNTIF(AB$133:AB148,RDGfix)+COUNTIF(AB$133:AB148,RDGave)+COUNTIF(AB$133:AB148,RDGevent)+AD$107-1","v":0},null,"","",{"$f":"COUNTIF(AF$133:AF148,OK)+COUNTIF(AF$133:AF148,RDGfix)+COUNTIF(AF$133:AF148,RDGave)+COUNTIF(AF$133:AF148,RDGevent)+AH$107-1","v":0},null,"","",{"$f":"COUNTIF(AJ$133:AJ148,OK)+COUNTIF(AJ$133:AJ148,RDGfix)+COUNTIF(AJ$133:AJ148,RDGave)+COUNTIF(AJ$133:AJ148,RDGevent)+AL$107-1","v":0},null,"","",{"$f":"COUNTIF(AN$133:AN148,OK)+COUNTIF(AN$133:AN148,RDGfix)+COUNTIF(AN$133:AN148,RDGave)+COUNTIF(AN$133:AN148,RDGevent)+AP$107-1","v":0},null,"","",{"$f":"COUNTIF(AR$133:AR148,OK)+COUNTIF(AR$133:AR148,RDGfix)+COUNTIF(AR$133:AR148,RDGave)+COUNTIF(AR$133:AR148,RDGevent)+AT$107-1","v":0},null,"","",{"$f":"COUNTIF(AV$133:AV148,OK)+COUNTIF(AV$133:AV148,RDGfix)+COUNTIF(AV$133:AV148,RDGave)+COUNTIF(AV$133:AV148,RDGevent)+AX$107-1","v":0},null,"","",{"$f":"COUNTIF(AZ$133:AZ148,OK)+COUNTIF(AZ$133:AZ148,RDGfix)+COUNTIF(AZ$133:AZ148,RDGave)+COUNTIF(AZ$133:AZ148,RDGevent)+BB$107-1","v":0},null,"","",{"$f":"COUNTIF(BD$133:BD148,OK)+COUNTIF(BD$133:BD148,RDGfix)+COUNTIF(BD$133:BD148,RDGave)+COUNTIF(BD$133:BD148,RDGevent)+BF$107-1","v":0},null,"","",{"$f":"COUNTIF(BH$133:BH148,OK)+COUNTIF(BH$133:BH148,RDGfix)+COUNTIF(BH$133:BH148,RDGave)+COUNTIF(BH$133:BH148,RDGevent)+BJ$107-1","v":0},null,"","",{"$f":"COUNTIF(BL$133:BL148,OK)+COUNTIF(BL$133:BL148,RDGfix)+COUNTIF(BL$133:BL148,RDGave)+COUNTIF(BL$133:BL148,RDGevent)+BN$107-1","v":0},null,"","",{"$f":"COUNTIF(BP$133:BP148,OK)+COUNTIF(BP$133:BP148,RDGfix)+COUNTIF(BP$133:BP148,RDGave)+COUNTIF(BP$133:BP148,RDGevent)+BR$107-1","v":0},null,"","",{"$f":"COUNTIF(BT$133:BT148,OK)+COUNTIF(BT$133:BT148,RDGfix)+COUNTIF(BT$133:BT148,RDGave)+COUNTIF(BT$133:BT148,RDGevent)+BV$107-1","v":0},null,"","",{"$f":"COUNTIF(BX$133:BX148,OK)+COUNTIF(BX$133:BX148,RDGfix)+COUNTIF(BX$133:BX148,RDGave)+COUNTIF(BX$133:BX148,RDGevent)+BZ$107-1","v":0},null,"","",{"$f":"COUNTIF(CB$133:CB148,OK)+COUNTIF(CB$133:CB148,RDGfix)+COUNTIF(CB$133:CB148,RDGave)+COUNTIF(CB$133:CB148,RDGevent)+CD$107-1","v":0},null,"","",{"$f":"COUNTIF(CF$133:CF148,OK)+COUNTIF(CF$133:CF148,RDGfix)+COUNTIF(CF$133:CF148,RDGave)+COUNTIF(CF$133:CF148,RDGevent)+CH$107-1","v":0},null,"","",{"$f":"COUNTIF(CJ$133:CJ148,OK)+COUNTIF(CJ$133:CJ148,RDGfix)+COUNTIF(CJ$133:CJ148,RDGave)+COUNTIF(CJ$133:CJ148,RDGevent)+CL$107-1","v":0},null,"","",{"$f":"COUNTIF(CN$133:CN148,OK)+COUNTIF(CN$133:CN148,RDGfix)+COUNTIF(CN$133:CN148,RDGave)+COUNTIF(CN$133:CN148,RDGevent)+CP$107-1","v":0},null,"","",{"$f":"COUNTIF(CR$133:CR148,OK)+COUNTIF(CR$133:CR148,RDGfix)+COUNTIF(CR$133:CR148,RDGave)+COUNTIF(CR$133:CR148,RDGevent)+CT$107-1","v":0},null,"","",{"$f":"COUNTIF(CV$133:CV148,OK)+COUNTIF(CV$133:CV148,RDGfix)+COUNTIF(CV$133:CV148,RDGave)+COUNTIF(CV$133:CV148,RDGevent)+CX$107-1","v":0},null,"","",{"$f":"COUNTIF(CZ$133:CZ148,OK)+COUNTIF(CZ$133:CZ148,RDGfix)+COUNTIF(CZ$133:CZ148,RDGave)+COUNTIF(CZ$133:CZ148,RDGevent)+DB$107-1","v":0},null,"","",{"$f":"COUNTIF(DD$133:DD148,OK)+COUNTIF(DD$133:DD148,RDGfix)+COUNTIF(DD$133:DD148,RDGave)+COUNTIF(DD$133:DD148,RDGevent)+DF$107-1","v":0},null,"","",{"$f":"COUNTIF(DH$133:DH148,OK)+COUNTIF(DH$133:DH148,RDGfix)+COUNTIF(DH$133:DH148,RDGave)+COUNTIF(DH$133:DH148,RDGevent)+DJ$107-1","v":0},null,"","",{"$f":"COUNTIF(DL$133:DL148,OK)+COUNTIF(DL$133:DL148,RDGfix)+COUNTIF(DL$133:DL148,RDGave)+COUNTIF(DL$133:DL148,RDGevent)+DN$107-1","v":0},null,"","",{"$f":"COUNTIF(DP$133:DP148,OK)+COUNTIF(DP$133:DP148,RDGfix)+COUNTIF(DP$133:DP148,RDGave)+COUNTIF(DP$133:DP148,RDGevent)+DR$107-1","v":0},null,"","",{"$f":"COUNTIF(DT$133:DT148,OK)+COUNTIF(DT$133:DT148,RDGfix)+COUNTIF(DT$133:DT148,RDGave)+COUNTIF(DT$133:DT148,RDGevent)+DV$107-1","v":0},null,"","",{"$f":"COUNTIF(DX$133:DX148,OK)+COUNTIF(DX$133:DX148,RDGfix)+COUNTIF(DX$133:DX148,RDGave)+COUNTIF(DX$133:DX148,RDGevent)+DZ$107-1","v":0},null,"","",{"$f":"COUNTIF(EB$133:EB148,OK)+COUNTIF(EB$133:EB148,RDGfix)+COUNTIF(EB$133:EB148,RDGave)+COUNTIF(EB$133:EB148,RDGevent)+ED$107-1","v":0},null,"","",{"$f":"COUNTIF(EF$133:EF148,OK)+COUNTIF(EF$133:EF148,RDGfix)+COUNTIF(EF$133:EF148,RDGave)+COUNTIF(EF$133:EF148,RDGevent)+EH$107-1","v":0},null,"","",{"$f":"COUNTIF(EJ$133:EJ148,OK)+COUNTIF(EJ$133:EJ148,RDGfix)+COUNTIF(EJ$133:EJ148,RDGave)+COUNTIF(EJ$133:EJ148,RDGevent)+EL$107-1","v":0},null,"","",{"$f":"COUNTIF(EN$133:EN148,OK)+COUNTIF(EN$133:EN148,RDGfix)+COUNTIF(EN$133:EN148,RDGave)+COUNTIF(EN$133:EN148,RDGevent)+EP$107-1","v":0},null,"","",{"$f":"COUNTIF(ER$133:ER148,OK)+COUNTIF(ER$133:ER148,RDGfix)+COUNTIF(ER$133:ER148,RDGave)+COUNTIF(ER$133:ER148,RDGevent)+ET$107-1","v":0},null,"","",{"$f":"COUNTIF(EV$133:EV148,OK)+COUNTIF(EV$133:EV148,RDGfix)+COUNTIF(EV$133:EV148,RDGave)+COUNTIF(EV$133:EV148,RDGevent)+EX$107-1","v":0},null,"","",{"$f":"COUNTIF(EZ$133:EZ148,OK)+COUNTIF(EZ$133:EZ148,RDGfix)+COUNTIF(EZ$133:EZ148,RDGave)+COUNTIF(EZ$133:EZ148,RDGevent)+FB$107-1","v":0},null,"","",{"$f":"COUNTIF(FD$133:FD148,OK)+COUNTIF(FD$133:FD148,RDGfix)+COUNTIF(FD$133:FD148,RDGave)+COUNTIF(FD$133:FD148,RDGevent)+FF$107-1","v":0},null,"","",{"$f":"COUNTIF(FH$133:FH148,OK)+COUNTIF(FH$133:FH148,RDGfix)+COUNTIF(FH$133:FH148,RDGave)+COUNTIF(FH$133:FH148,RDGevent)+FJ$107-1","v":0}]
[null,null,null,"","",{"$f":"COUNTIF(D$133:D149,OK)+COUNTIF(D$133:D149,RDGfix)+COUNTIF(D$133:D149,RDGave)+COUNTIF(D$133:D149,RDGevent)","v":0},null,"","",{"$f":"COUNTIF(H$133:H149,OK)+COUNTIF(H$133:H149,RDGfix)+COUNTIF(H$133:H149,RDGave)+COUNTIF(H$133:H149,RDGevent)+J$107-1","v":0},null,"","",{"$f":"COUNTIF(L$133:L149,OK)+COUNTIF(L$133:L149,RDGfix)+COUNTIF(L$133:L149,RDGave)+COUNTIF(L$133:L149,RDGevent)+N$107-1","v":0},null,"","",{"$f":"COUNTIF(P$133:P149,OK)+COUNTIF(P$133:P149,RDGfix)+COUNTIF(P$133:P149,RDGave)+COUNTIF(P$133:P149,RDGevent)+R$107-1","v":0},null,"","",{"$f":"COUNTIF(T$133:T149,OK)+COUNTIF(T$133:T149,RDGfix)+COUNTIF(T$133:T149,RDGave)+COUNTIF(T$133:T149,RDGevent)+V$107-1","v":0},null,"","",{"$f":"COUNTIF(X$133:X149,OK)+COUNTIF(X$133:X149,RDGfix)+COUNTIF(X$133:X149,RDGave)+COUNTIF(X$133:X149,RDGevent)+Z$107-1","v":0},null,"","",{"$f":"COUNTIF(AB$133:AB149,OK)+COUNTIF(AB$133:AB149,RDGfix)+COUNTIF(AB$133:AB149,RDGave)+COUNTIF(AB$133:AB149,RDGevent)+AD$107-1","v":0},null,"","",{"$f":"COUNTIF(AF$133:AF149,OK)+COUNTIF(AF$133:AF149,RDGfix)+COUNTIF(AF$133:AF149,RDGave)+COUNTIF(AF$133:AF149,RDGevent)+AH$107-1","v":0},null,"","",{"$f":"COUNTIF(AJ$133:AJ149,OK)+COUNTIF(AJ$133:AJ149,RDGfix)+COUNTIF(AJ$133:AJ149,RDGave)+COUNTIF(AJ$133:AJ149,RDGevent)+AL$107-1","v":0},null,"","",{"$f":"COUNTIF(AN$133:AN149,OK)+COUNTIF(AN$133:AN149,RDGfix)+COUNTIF(AN$133:AN149,RDGave)+COUNTIF(AN$133:AN149,RDGevent)+AP$107-1","v":0},null,"","",{"$f":"COUNTIF(AR$133:AR149,OK)+COUNTIF(AR$133:AR149,RDGfix)+COUNTIF(AR$133:AR149,RDGave)+COUNTIF(AR$133:AR149,RDGevent)+AT$107-1","v":0},null,"","",{"$f":"COUNTIF(AV$133:AV149,OK)+COUNTIF(AV$133:AV149,RDGfix)+COUNTIF(AV$133:AV149,RDGave)+COUNTIF(AV$133:AV149,RDGevent)+AX$107-1","v":0},null,"","",{"$f":"COUNTIF(AZ$133:AZ149,OK)+COUNTIF(AZ$133:AZ149,RDGfix)+COUNTIF(AZ$133:AZ149,RDGave)+COUNTIF(AZ$133:AZ149,RDGevent)+BB$107-1","v":0},null,"","",{"$f":"COUNTIF(BD$133:BD149,OK)+COUNTIF(BD$133:BD149,RDGfix)+COUNTIF(BD$133:BD149,RDGave)+COUNTIF(BD$133:BD149,RDGevent)+BF$107-1","v":0},null,"","",{"$f":"COUNTIF(BH$133:BH149,OK)+COUNTIF(BH$133:BH149,RDGfix)+COUNTIF(BH$133:BH149,RDGave)+COUNTIF(BH$133:BH149,RDGevent)+BJ$107-1","v":0},null,"","",{"$f":"COUNTIF(BL$133:BL149,OK)+COUNTIF(BL$133:BL149,RDGfix)+COUNTIF(BL$133:BL149,RDGave)+COUNTIF(BL$133:BL149,RDGevent)+BN$107-1","v":0},null,"","",{"$f":"COUNTIF(BP$133:BP149,OK)+COUNTIF(BP$133:BP149,RDGfix)+COUNTIF(BP$133:BP149,RDGave)+COUNTIF(BP$133:BP149,RDGevent)+BR$107-1","v":0},null,"","",{"$f":"COUNTIF(BT$133:BT149,OK)+COUNTIF(BT$133:BT149,RDGfix)+COUNTIF(BT$133:BT149,RDGave)+COUNTIF(BT$133:BT149,RDGevent)+BV$107-1","v":0},null,"","",{"$f":"COUNTIF(BX$133:BX149,OK)+COUNTIF(BX$133:BX149,RDGfix)+COUNTIF(BX$133:BX149,RDGave)+COUNTIF(BX$133:BX149,RDGevent)+BZ$107-1","v":0},null,"","",{"$f":"COUNTIF(CB$133:CB149,OK)+COUNTIF(CB$133:CB149,RDGfix)+COUNTIF(CB$133:CB149,RDGave)+COUNTIF(CB$133:CB149,RDGevent)+CD$107-1","v":0},null,"","",{"$f":"COUNTIF(CF$133:CF149,OK)+COUNTIF(CF$133:CF149,RDGfix)+COUNTIF(CF$133:CF149,RDGave)+COUNTIF(CF$133:CF149,RDGevent)+CH$107-1","v":0},null,"","",{"$f":"COUNTIF(CJ$133:CJ149,OK)+COUNTIF(CJ$133:CJ149,RDGfix)+COUNTIF(CJ$133:CJ149,RDGave)+COUNTIF(CJ$133:CJ149,RDGevent)+CL$107-1","v":0},null,"","",{"$f":"COUNTIF(CN$133:CN149,OK)+COUNTIF(CN$133:CN149,RDGfix)+COUNTIF(CN$133:CN149,RDGave)+COUNTIF(CN$133:CN149,RDGevent)+CP$107-1","v":0},null,"","",{"$f":"COUNTIF(CR$133:CR149,OK)+COUNTIF(CR$133:CR149,RDGfix)+COUNTIF(CR$133:CR149,RDGave)+COUNTIF(CR$133:CR149,RDGevent)+CT$107-1","v":0},null,"","",{"$f":"COUNTIF(CV$133:CV149,OK)+COUNTIF(CV$133:CV149,RDGfix)+COUNTIF(CV$133:CV149,RDGave)+COUNTIF(CV$133:CV149,RDGevent)+CX$107-1","v":0},null,"","",{"$f":"COUNTIF(CZ$133:CZ149,OK)+COUNTIF(CZ$133:CZ149,RDGfix)+COUNTIF(CZ$133:CZ149,RDGave)+COUNTIF(CZ$133:CZ149,RDGevent)+DB$107-1","v":0},null,"","",{"$f":"COUNTIF(DD$133:DD149,OK)+COUNTIF(DD$133:DD149,RDGfix)+COUNTIF(DD$133:DD149,RDGave)+COUNTIF(DD$133:DD149,RDGevent)+DF$107-1","v":0},null,"","",{"$f":"COUNTIF(DH$133:DH149,OK)+COUNTIF(DH$133:DH149,RDGfix)+COUNTIF(DH$133:DH149,RDGave)+COUNTIF(DH$133:DH149,RDGevent)+DJ$107-1","v":0},null,"","",{"$f":"COUNTIF(DL$133:DL149,OK)+COUNTIF(DL$133:DL149,RDGfix)+COUNTIF(DL$133:DL149,RDGave)+COUNTIF(DL$133:DL149,RDGevent)+DN$107-1","v":0},null,"","",{"$f":"COUNTIF(DP$133:DP149,OK)+COUNTIF(DP$133:DP149,RDGfix)+COUNTIF(DP$133:DP149,RDGave)+COUNTIF(DP$133:DP149,RDGevent)+DR$107-1","v":0},null,"","",{"$f":"COUNTIF(DT$133:DT149,OK)+COUNTIF(DT$133:DT149,RDGfix)+COUNTIF(DT$133:DT149,RDGave)+COUNTIF(DT$133:DT149,RDGevent)+DV$107-1","v":0},null,"","",{"$f":"COUNTIF(DX$133:DX149,OK)+COUNTIF(DX$133:DX149,RDGfix)+COUNTIF(DX$133:DX149,RDGave)+COUNTIF(DX$133:DX149,RDGevent)+DZ$107-1","v":0},null,"","",{"$f":"COUNTIF(EB$133:EB149,OK)+COUNTIF(EB$133:EB149,RDGfix)+COUNTIF(EB$133:EB149,RDGave)+COUNTIF(EB$133:EB149,RDGevent)+ED$107-1","v":0},null,"","",{"$f":"COUNTIF(EF$133:EF149,OK)+COUNTIF(EF$133:EF149,RDGfix)+COUNTIF(EF$133:EF149,RDGave)+COUNTIF(EF$133:EF149,RDGevent)+EH$107-1","v":0},null,"","",{"$f":"COUNTIF(EJ$133:EJ149,OK)+COUNTIF(EJ$133:EJ149,RDGfix)+COUNTIF(EJ$133:EJ149,RDGave)+COUNTIF(EJ$133:EJ149,RDGevent)+EL$107-1","v":0},null,"","",{"$f":"COUNTIF(EN$133:EN149,OK)+COUNTIF(EN$133:EN149,RDGfix)+COUNTIF(EN$133:EN149,RDGave)+COUNTIF(EN$133:EN149,RDGevent)+EP$107-1","v":0},null,"","",{"$f":"COUNTIF(ER$133:ER149,OK)+COUNTIF(ER$133:ER149,RDGfix)+COUNTIF(ER$133:ER149,RDGave)+COUNTIF(ER$133:ER149,RDGevent)+ET$107-1","v":0},null,"","",{"$f":"COUNTIF(EV$133:EV149,OK)+COUNTIF(EV$133:EV149,RDGfix)+COUNTIF(EV$133:EV149,RDGave)+COUNTIF(EV$133:EV149,RDGevent)+EX$107-1","v":0},null,"","",{"$f":"COUNTIF(EZ$133:EZ149,OK)+COUNTIF(EZ$133:EZ149,RDGfix)+COUNTIF(EZ$133:EZ149,RDGave)+COUNTIF(EZ$133:EZ149,RDGevent)+FB$107-1","v":0},null,"","",{"$f":"COUNTIF(FD$133:FD149,OK)+COUNTIF(FD$133:FD149,RDGfix)+COUNTIF(FD$133:FD149,RDGave)+COUNTIF(FD$133:FD149,RDGevent)+FF$107-1","v":0},null,"","",{"$f":"COUNTIF(FH$133:FH149,OK)+COUNTIF(FH$133:FH149,RDGfix)+COUNTIF(FH$133:FH149,RDGave)+COUNTIF(FH$133:FH149,RDGevent)+FJ$107-1","v":0}]
[null,null,null,"","",{"$f":"COUNTIF(D$133:D150,OK)+COUNTIF(D$133:D150,RDGfix)+COUNTIF(D$133:D150,RDGave)+COUNTIF(D$133:D150,RDGevent)","v":0},null,"","",{"$f":"COUNTIF(H$133:H150,OK)+COUNTIF(H$133:H150,RDGfix)+COUNTIF(H$133:H150,RDGave)+COUNTIF(H$133:H150,RDGevent)+J$107-1","v":0},null,"","",{"$f":"COUNTIF(L$133:L150,OK)+COUNTIF(L$133:L150,RDGfix)+COUNTIF(L$133:L150,RDGave)+COUNTIF(L$133:L150,RDGevent)+N$107-1","v":0},null,"","",{"$f":"COUNTIF(P$133:P150,OK)+COUNTIF(P$133:P150,RDGfix)+COUNTIF(P$133:P150,RDGave)+COUNTIF(P$133:P150,RDGevent)+R$107-1","v":0},null,"","",{"$f":"COUNTIF(T$133:T150,OK)+COUNTIF(T$133:T150,RDGfix)+COUNTIF(T$133:T150,RDGave)+COUNTIF(T$133:T150,RDGevent)+V$107-1","v":0},null,"","",{"$f":"COUNTIF(X$133:X150,OK)+COUNTIF(X$133:X150,RDGfix)+COUNTIF(X$133:X150,RDGave)+COUNTIF(X$133:X150,RDGevent)+Z$107-1","v":0},null,"","",{"$f":"COUNTIF(AB$133:AB150,OK)+COUNTIF(AB$133:AB150,RDGfix)+COUNTIF(AB$133:AB150,RDGave)+COUNTIF(AB$133:AB150,RDGevent)+AD$107-1","v":0},null,"","",{"$f":"COUNTIF(AF$133:AF150,OK)+COUNTIF(AF$133:AF150,RDGfix)+COUNTIF(AF$133:AF150,RDGave)+COUNTIF(AF$133:AF150,RDGevent)+AH$107-1","v":0},null,"","",{"$f":"COUNTIF(AJ$133:AJ150,OK)+COUNTIF(AJ$133:AJ150,RDGfix)+COUNTIF(AJ$133:AJ150,RDGave)+COUNTIF(AJ$133:AJ150,RDGevent)+AL$107-1","v":0},null,"","",{"$f":"COUNTIF(AN$133:AN150,OK)+COUNTIF(AN$133:AN150,RDGfix)+COUNTIF(AN$133:AN150,RDGave)+COUNTIF(AN$133:AN150,RDGevent)+AP$107-1","v":0},null,"","",{"$f":"COUNTIF(AR$133:AR150,OK)+COUNTIF(AR$133:AR150,RDGfix)+COUNTIF(AR$133:AR150,RDGave)+COUNTIF(AR$133:AR150,RDGevent)+AT$107-1","v":0},null,"","",{"$f":"COUNTIF(AV$133:AV150,OK)+COUNTIF(AV$133:AV150,RDGfix)+COUNTIF(AV$133:AV150,RDGave)+COUNTIF(AV$133:AV150,RDGevent)+AX$107-1","v":0},null,"","",{"$f":"COUNTIF(AZ$133:AZ150,OK)+COUNTIF(AZ$133:AZ150,RDGfix)+COUNTIF(AZ$133:AZ150,RDGave)+COUNTIF(AZ$133:AZ150,RDGevent)+BB$107-1","v":0},null,"","",{"$f":"COUNTIF(BD$133:BD150,OK)+COUNTIF(BD$133:BD150,RDGfix)+COUNTIF(BD$133:BD150,RDGave)+COUNTIF(BD$133:BD150,RDGevent)+BF$107-1","v":0},null,"","",{"$f":"COUNTIF(BH$133:BH150,OK)+COUNTIF(BH$133:BH150,RDGfix)+COUNTIF(BH$133:BH150,RDGave)+COUNTIF(BH$133:BH150,RDGevent)+BJ$107-1","v":0},null,"","",{"$f":"COUNTIF(BL$133:BL150,OK)+COUNTIF(BL$133:BL150,RDGfix)+COUNTIF(BL$133:BL150,RDGave)+COUNTIF(BL$133:BL150,RDGevent)+BN$107-1","v":0},null,"","",{"$f":"COUNTIF(BP$133:BP150,OK)+COUNTIF(BP$133:BP150,RDGfix)+COUNTIF(BP$133:BP150,RDGave)+COUNTIF(BP$133:BP150,RDGevent)+BR$107-1","v":0},null,"","",{"$f":"COUNTIF(BT$133:BT150,OK)+COUNTIF(BT$133:BT150,RDGfix)+COUNTIF(BT$133:BT150,RDGave)+COUNTIF(BT$133:BT150,RDGevent)+BV$107-1","v":0},null,"","",{"$f":"COUNTIF(BX$133:BX150,OK)+COUNTIF(BX$133:BX150,RDGfix)+COUNTIF(BX$133:BX150,RDGave)+COUNTIF(BX$133:BX150,RDGevent)+BZ$107-1","v":0},null,"","",{"$f":"COUNTIF(CB$133:CB150,OK)+COUNTIF(CB$133:CB150,RDGfix)+COUNTIF(CB$133:CB150,RDGave)+COUNTIF(CB$133:CB150,RDGevent)+CD$107-1","v":0},null,"","",{"$f":"COUNTIF(CF$133:CF150,OK)+COUNTIF(CF$133:CF150,RDGfix)+COUNTIF(CF$133:CF150,RDGave)+COUNTIF(CF$133:CF150,RDGevent)+CH$107-1","v":0},null,"","",{"$f":"COUNTIF(CJ$133:CJ150,OK)+COUNTIF(CJ$133:CJ150,RDGfix)+COUNTIF(CJ$133:CJ150,RDGave)+COUNTIF(CJ$133:CJ150,RDGevent)+CL$107-1","v":0},null,"","",{"$f":"COUNTIF(CN$133:CN150,OK)+COUNTIF(CN$133:CN150,RDGfix)+COUNTIF(CN$133:CN150,RDGave)+COUNTIF(CN$133:CN150,RDGevent)+CP$107-1","v":0},null,"","",{"$f":"COUNTIF(CR$133:CR150,OK)+COUNTIF(CR$133:CR150,RDGfix)+COUNTIF(CR$133:CR150,RDGave)+COUNTIF(CR$133:CR150,RDGevent)+CT$107-1","v":0},null,"","",{"$f":"COUNTIF(CV$133:CV150,OK)+COUNTIF(CV$133:CV150,RDGfix)+COUNTIF(CV$133:CV150,RDGave)+COUNTIF(CV$133:CV150,RDGevent)+CX$107-1","v":0},null,"","",{"$f":"COUNTIF(CZ$133:CZ150,OK)+COUNTIF(CZ$133:CZ150,RDGfix)+COUNTIF(CZ$133:CZ150,RDGave)+COUNTIF(CZ$133:CZ150,RDGevent)+DB$107-1","v":0},null,"","",{"$f":"COUNTIF(DD$133:DD150,OK)+COUNTIF(DD$133:DD150,RDGfix)+COUNTIF(DD$133:DD150,RDGave)+COUNTIF(DD$133:DD150,RDGevent)+DF$107-1","v":0},null,"","",{"$f":"COUNTIF(DH$133:DH150,OK)+COUNTIF(DH$133:DH150,RDGfix)+COUNTIF(DH$133:DH150,RDGave)+COUNTIF(DH$133:DH150,RDGevent)+DJ$107-1","v":0},null,"","",{"$f":"COUNTIF(DL$133:DL150,OK)+COUNTIF(DL$133:DL150,RDGfix)+COUNTIF(DL$133:DL150,RDGave)+COUNTIF(DL$133:DL150,RDGevent)+DN$107-1","v":0},null,"","",{"$f":"COUNTIF(DP$133:DP150,OK)+COUNTIF(DP$133:DP150,RDGfix)+COUNTIF(DP$133:DP150,RDGave)+COUNTIF(DP$133:DP150,RDGevent)+DR$107-1","v":0},null,"","",{"$f":"COUNTIF(DT$133:DT150,OK)+COUNTIF(DT$133:DT150,RDGfix)+COUNTIF(DT$133:DT150,RDGave)+COUNTIF(DT$133:DT150,RDGevent)+DV$107-1","v":0},null,"","",{"$f":"COUNTIF(DX$133:DX150,OK)+COUNTIF(DX$133:DX150,RDGfix)+COUNTIF(DX$133:DX150,RDGave)+COUNTIF(DX$133:DX150,RDGevent)+DZ$107-1","v":0},null,"","",{"$f":"COUNTIF(EB$133:EB150,OK)+COUNTIF(EB$133:EB150,RDGfix)+COUNTIF(EB$133:EB150,RDGave)+COUNTIF(EB$133:EB150,RDGevent)+ED$107-1","v":0},null,"","",{"$f":"COUNTIF(EF$133:EF150,OK)+COUNTIF(EF$133:EF150,RDGfix)+COUNTIF(EF$133:EF150,RDGave)+COUNTIF(EF$133:EF150,RDGevent)+EH$107-1","v":0},null,"","",{"$f":"COUNTIF(EJ$133:EJ150,OK)+COUNTIF(EJ$133:EJ150,RDGfix)+COUNTIF(EJ$133:EJ150,RDGave)+COUNTIF(EJ$133:EJ150,RDGevent)+EL$107-1","v":0},null,"","",{"$f":"COUNTIF(EN$133:EN150,OK)+COUNTIF(EN$133:EN150,RDGfix)+COUNTIF(EN$133:EN150,RDGave)+COUNTIF(EN$133:EN150,RDGevent)+EP$107-1","v":0},null,"","",{"$f":"COUNTIF(ER$133:ER150,OK)+COUNTIF(ER$133:ER150,RDGfix)+COUNTIF(ER$133:ER150,RDGave)+COUNTIF(ER$133:ER150,RDGevent)+ET$107-1","v":0},null,"","",{"$f":"COUNTIF(EV$133:EV150,OK)+COUNTIF(EV$133:EV150,RDGfix)+COUNTIF(EV$133:EV150,RDGave)+COUNTIF(EV$133:EV150,RDGevent)+EX$107-1","v":0},null,"","",{"$f":"COUNTIF(EZ$133:EZ150,OK)+COUNTIF(EZ$133:EZ150,RDGfix)+COUNTIF(EZ$133:EZ150,RDGave)+COUNTIF(EZ$133:EZ150,RDGevent)+FB$107-1","v":0},null,"","",{"$f":"COUNTIF(FD$133:FD150,OK)+COUNTIF(FD$133:FD150,RDGfix)+COUNTIF(FD$133:FD150,RDGave)+COUNTIF(FD$133:FD150,RDGevent)+FF$107-1","v":0},null,"","",{"$f":"COUNTIF(FH$133:FH150,OK)+COUNTIF(FH$133:FH150,RDGfix)+COUNTIF(FH$133:FH150,RDGave)+COUNTIF(FH$133:FH150,RDGevent)+FJ$107-1","v":0}]
[null,null,null,"","",{"$f":"COUNTIF(D$133:D151,OK)+COUNTIF(D$133:D151,RDGfix)+COUNTIF(D$133:D151,RDGave)+COUNTIF(D$133:D151,RDGevent)","v":0},null,"","",{"$f":"COUNTIF(H$133:H151,OK)+COUNTIF(H$133:H151,RDGfix)+COUNTIF(H$133:H151,RDGave)+COUNTIF(H$133:H151,RDGevent)+J$107-1","v":0},null,"","",{"$f":"COUNTIF(L$133:L151,OK)+COUNTIF(L$133:L151,RDGfix)+COUNTIF(L$133:L151,RDGave)+COUNTIF(L$133:L151,RDGevent)+N$107-1","v":0},null,"","",{"$f":"COUNTIF(P$133:P151,OK)+COUNTIF(P$133:P151,RDGfix)+COUNTIF(P$133:P151,RDGave)+COUNTIF(P$133:P151,RDGevent)+R$107-1","v":0},null,"","",{"$f":"COUNTIF(T$133:T151,OK)+COUNTIF(T$133:T151,RDGfix)+COUNTIF(T$133:T151,RDGave)+COUNTIF(T$133:T151,RDGevent)+V$107-1","v":0},null,"","",{"$f":"COUNTIF(X$133:X151,OK)+COUNTIF(X$133:X151,RDGfix)+COUNTIF(X$133:X151,RDGave)+COUNTIF(X$133:X151,RDGevent)+Z$107-1","v":0},null,"","",{"$f":"COUNTIF(AB$133:AB151,OK)+COUNTIF(AB$133:AB151,RDGfix)+COUNTIF(AB$133:AB151,RDGave)+COUNTIF(AB$133:AB151,RDGevent)+AD$107-1","v":0},null,"","",{"$f":"COUNTIF(AF$133:AF151,OK)+COUNTIF(AF$133:AF151,RDGfix)+COUNTIF(AF$133:AF151,RDGave)+COUNTIF(AF$133:AF151,RDGevent)+AH$107-1","v":0},null,"","",{"$f":"COUNTIF(AJ$133:AJ151,OK)+COUNTIF(AJ$133:AJ151,RDGfix)+COUNTIF(AJ$133:AJ151,RDGave)+COUNTIF(AJ$133:AJ151,RDGevent)+AL$107-1","v":0},null,"","",{"$f":"COUNTIF(AN$133:AN151,OK)+COUNTIF(AN$133:AN151,RDGfix)+COUNTIF(AN$133:AN151,RDGave)+COUNTIF(AN$133:AN151,RDGevent)+AP$107-1","v":0},null,"","",{"$f":"COUNTIF(AR$133:AR151,OK)+COUNTIF(AR$133:AR151,RDGfix)+COUNTIF(AR$133:AR151,RDGave)+COUNTIF(AR$133:AR151,RDGevent)+AT$107-1","v":0},null,"","",{"$f":"COUNTIF(AV$133:AV151,OK)+COUNTIF(AV$133:AV151,RDGfix)+COUNTIF(AV$133:AV151,RDGave)+COUNTIF(AV$133:AV151,RDGevent)+AX$107-1","v":0},null,"","",{"$f":"COUNTIF(AZ$133:AZ151,OK)+COUNTIF(AZ$133:AZ151,RDGfix)+COUNTIF(AZ$133:AZ151,RDGave)+COUNTIF(AZ$133:AZ151,RDGevent)+BB$107-1","v":0},null,"","",{"$f":"COUNTIF(BD$133:BD151,OK)+COUNTIF(BD$133:BD151,RDGfix)+COUNTIF(BD$133:BD151,RDGave)+COUNTIF(BD$133:BD151,RDGevent)+BF$107-1","v":0},null,"","",{"$f":"COUNTIF(BH$133:BH151,OK)+COUNTIF(BH$133:BH151,RDGfix)+COUNTIF(BH$133:BH151,RDGave)+COUNTIF(BH$133:BH151,RDGevent)+BJ$107-1","v":0},null,"","",{"$f":"COUNTIF(BL$133:BL151,OK)+COUNTIF(BL$133:BL151,RDGfix)+COUNTIF(BL$133:BL151,RDGave)+COUNTIF(BL$133:BL151,RDGevent)+BN$107-1","v":0},null,"","",{"$f":"COUNTIF(BP$133:BP151,OK)+COUNTIF(BP$133:BP151,RDGfix)+COUNTIF(BP$133:BP151,RDGave)+COUNTIF(BP$133:BP151,RDGevent)+BR$107-1","v":0},null,"","",{"$f":"COUNTIF(BT$133:BT151,OK)+COUNTIF(BT$133:BT151,RDGfix)+COUNTIF(BT$133:BT151,RDGave)+COUNTIF(BT$133:BT151,RDGevent)+BV$107-1","v":0},null,"","",{"$f":"COUNTIF(BX$133:BX151,OK)+COUNTIF(BX$133:BX151,RDGfix)+COUNTIF(BX$133:BX151,RDGave)+COUNTIF(BX$133:BX151,RDGevent)+BZ$107-1","v":0},null,"","",{"$f":"COUNTIF(CB$133:CB151,OK)+COUNTIF(CB$133:CB151,RDGfix)+COUNTIF(CB$133:CB151,RDGave)+COUNTIF(CB$133:CB151,RDGevent)+CD$107-1","v":0},null,"","",{"$f":"COUNTIF(CF$133:CF151,OK)+COUNTIF(CF$133:CF151,RDGfix)+COUNTIF(CF$133:CF151,RDGave)+COUNTIF(CF$133:CF151,RDGevent)+CH$107-1","v":0},null,"","",{"$f":"COUNTIF(CJ$133:CJ151,OK)+COUNTIF(CJ$133:CJ151,RDGfix)+COUNTIF(CJ$133:CJ151,RDGave)+COUNTIF(CJ$133:CJ151,RDGevent)+CL$107-1","v":0},null,"","",{"$f":"COUNTIF(CN$133:CN151,OK)+COUNTIF(CN$133:CN151,RDGfix)+COUNTIF(CN$133:CN151,RDGave)+COUNTIF(CN$133:CN151,RDGevent)+CP$107-1","v":0},null,"","",{"$f":"COUNTIF(CR$133:CR151,OK)+COUNTIF(CR$133:CR151,RDGfix)+COUNTIF(CR$133:CR151,RDGave)+COUNTIF(CR$133:CR151,RDGevent)+CT$107-1","v":0},null,"","",{"$f":"COUNTIF(CV$133:CV151,OK)+COUNTIF(CV$133:CV151,RDGfix)+COUNTIF(CV$133:CV151,RDGave)+COUNTIF(CV$133:CV151,RDGevent)+CX$107-1","v":0},null,"","",{"$f":"COUNTIF(CZ$133:CZ151,OK)+COUNTIF(CZ$133:CZ151,RDGfix)+COUNTIF(CZ$133:CZ151,RDGave)+COUNTIF(CZ$133:CZ151,RDGevent)+DB$107-1","v":0},null,"","",{"$f":"COUNTIF(DD$133:DD151,OK)+COUNTIF(DD$133:DD151,RDGfix)+COUNTIF(DD$133:DD151,RDGave)+COUNTIF(DD$133:DD151,RDGevent)+DF$107-1","v":0},null,"","",{"$f":"COUNTIF(DH$133:DH151,OK)+COUNTIF(DH$133:DH151,RDGfix)+COUNTIF(DH$133:DH151,RDGave)+COUNTIF(DH$133:DH151,RDGevent)+DJ$107-1","v":0},null,"","",{"$f":"COUNTIF(DL$133:DL151,OK)+COUNTIF(DL$133:DL151,RDGfix)+COUNTIF(DL$133:DL151,RDGave)+COUNTIF(DL$133:DL151,RDGevent)+DN$107-1","v":0},null,"","",{"$f":"COUNTIF(DP$133:DP151,OK)+COUNTIF(DP$133:DP151,RDGfix)+COUNTIF(DP$133:DP151,RDGave)+COUNTIF(DP$133:DP151,RDGevent)+DR$107-1","v":0},null,"","",{"$f":"COUNTIF(DT$133:DT151,OK)+COUNTIF(DT$133:DT151,RDGfix)+COUNTIF(DT$133:DT151,RDGave)+COUNTIF(DT$133:DT151,RDGevent)+DV$107-1","v":0},null,"","",{"$f":"COUNTIF(DX$133:DX151,OK)+COUNTIF(DX$133:DX151,RDGfix)+COUNTIF(DX$133:DX151,RDGave)+COUNTIF(DX$133:DX151,RDGevent)+DZ$107-1","v":0},null,"","",{"$f":"COUNTIF(EB$133:EB151,OK)+COUNTIF(EB$133:EB151,RDGfix)+COUNTIF(EB$133:EB151,RDGave)+COUNTIF(EB$133:EB151,RDGevent)+ED$107-1","v":0},null,"","",{"$f":"COUNTIF(EF$133:EF151,OK)+COUNTIF(EF$133:EF151,RDGfix)+COUNTIF(EF$133:EF151,RDGave)+COUNTIF(EF$133:EF151,RDGevent)+EH$107-1","v":0},null,"","",{"$f":"COUNTIF(EJ$133:EJ151,OK)+COUNTIF(EJ$133:EJ151,RDGfix)+COUNTIF(EJ$133:EJ151,RDGave)+COUNTIF(EJ$133:EJ151,RDGevent)+EL$107-1","v":0},null,"","",{"$f":"COUNTIF(EN$133:EN151,OK)+COUNTIF(EN$133:EN151,RDGfix)+COUNTIF(EN$133:EN151,RDGave)+COUNTIF(EN$133:EN151,RDGevent)+EP$107-1","v":0},null,"","",{"$f":"COUNTIF(ER$133:ER151,OK)+COUNTIF(ER$133:ER151,RDGfix)+COUNTIF(ER$133:ER151,RDGave)+COUNTIF(ER$133:ER151,RDGevent)+ET$107-1","v":0},null,"","",{"$f":"COUNTIF(EV$133:EV151,OK)+COUNTIF(EV$133:EV151,RDGfix)+COUNTIF(EV$133:EV151,RDGave)+COUNTIF(EV$133:EV151,RDGevent)+EX$107-1","v":0},null,"","",{"$f":"COUNTIF(EZ$133:EZ151,OK)+COUNTIF(EZ$133:EZ151,RDGfix)+COUNTIF(EZ$133:EZ151,RDGave)+COUNTIF(EZ$133:EZ151,RDGevent)+FB$107-1","v":0},null,"","",{"$f":"COUNTIF(FD$133:FD151,OK)+COUNTIF(FD$133:FD151,RDGfix)+COUNTIF(FD$133:FD151,RDGave)+COUNTIF(FD$133:FD151,RDGevent)+FF$107-1","v":0},null,"","",{"$f":"COUNTIF(FH$133:FH151,OK)+COUNTIF(FH$133:FH151,RDGfix)+COUNTIF(FH$133:FH151,RDGave)+COUNTIF(FH$133:FH151,RDGevent)+FJ$107-1","v":0}]
[null,null,null,"","",{"$f":"COUNTIF(D$133:D152,OK)+COUNTIF(D$133:D152,RDGfix)+COUNTIF(D$133:D152,RDGave)+COUNTIF(D$133:D152,RDGevent)","v":0},null,"","",{"$f":"COUNTIF(H$133:H152,OK)+COUNTIF(H$133:H152,RDGfix)+COUNTIF(H$133:H152,RDGave)+COUNTIF(H$133:H152,RDGevent)+J$107-1","v":0},null,"","",{"$f":"COUNTIF(L$133:L152,OK)+COUNTIF(L$133:L152,RDGfix)+COUNTIF(L$133:L152,RDGave)+COUNTIF(L$133:L152,RDGevent)+N$107-1","v":0},null,"","",{"$f":"COUNTIF(P$133:P152,OK)+COUNTIF(P$133:P152,RDGfix)+COUNTIF(P$133:P152,RDGave)+COUNTIF(P$133:P152,RDGevent)+R$107-1","v":0},null,"","",{"$f":"COUNTIF(T$133:T152,OK)+COUNTIF(T$133:T152,RDGfix)+COUNTIF(T$133:T152,RDGave)+COUNTIF(T$133:T152,RDGevent)+V$107-1","v":0},null,"","",{"$f":"COUNTIF(X$133:X152,OK)+COUNTIF(X$133:X152,RDGfix)+COUNTIF(X$133:X152,RDGave)+COUNTIF(X$133:X152,RDGevent)+Z$107-1","v":0},null,"","",{"$f":"COUNTIF(AB$133:AB152,OK)+COUNTIF(AB$133:AB152,RDGfix)+COUNTIF(AB$133:AB152,RDGave)+COUNTIF(AB$133:AB152,RDGevent)+AD$107-1","v":0},null,"","",{"$f":"COUNTIF(AF$133:AF152,OK)+COUNTIF(AF$133:AF152,RDGfix)+COUNTIF(AF$133:AF152,RDGave)+COUNTIF(AF$133:AF152,RDGevent)+AH$107-1","v":0},null,"","",{"$f":"COUNTIF(AJ$133:AJ152,OK)+COUNTIF(AJ$133:AJ152,RDGfix)+COUNTIF(AJ$133:AJ152,RDGave)+COUNTIF(AJ$133:AJ152,RDGevent)+AL$107-1","v":0},null,"","",{"$f":"COUNTIF(AN$133:AN152,OK)+COUNTIF(AN$133:AN152,RDGfix)+COUNTIF(AN$133:AN152,RDGave)+COUNTIF(AN$133:AN152,RDGevent)+AP$107-1","v":0},null,"","",{"$f":"COUNTIF(AR$133:AR152,OK)+COUNTIF(AR$133:AR152,RDGfix)+COUNTIF(AR$133:AR152,RDGave)+COUNTIF(AR$133:AR152,RDGevent)+AT$107-1","v":0},null,"","",{"$f":"COUNTIF(AV$133:AV152,OK)+COUNTIF(AV$133:AV152,RDGfix)+COUNTIF(AV$133:AV152,RDGave)+COUNTIF(AV$133:AV152,RDGevent)+AX$107-1","v":0},null,"","",{"$f":"COUNTIF(AZ$133:AZ152,OK)+COUNTIF(AZ$133:AZ152,RDGfix)+COUNTIF(AZ$133:AZ152,RDGave)+COUNTIF(AZ$133:AZ152,RDGevent)+BB$107-1","v":0},null,"","",{"$f":"COUNTIF(BD$133:BD152,OK)+COUNTIF(BD$133:BD152,RDGfix)+COUNTIF(BD$133:BD152,RDGave)+COUNTIF(BD$133:BD152,RDGevent)+BF$107-1","v":0},null,"","",{"$f":"COUNTIF(BH$133:BH152,OK)+COUNTIF(BH$133:BH152,RDGfix)+COUNTIF(BH$133:BH152,RDGave)+COUNTIF(BH$133:BH152,RDGevent)+BJ$107-1","v":0},null,"","",{"$f":"COUNTIF(BL$133:BL152,OK)+COUNTIF(BL$133:BL152,RDGfix)+COUNTIF(BL$133:BL152,RDGave)+COUNTIF(BL$133:BL152,RDGevent)+BN$107-1","v":0},null,"","",{"$f":"COUNTIF(BP$133:BP152,OK)+COUNTIF(BP$133:BP152,RDGfix)+COUNTIF(BP$133:BP152,RDGave)+COUNTIF(BP$133:BP152,RDGevent)+BR$107-1","v":0},null,"","",{"$f":"COUNTIF(BT$133:BT152,OK)+COUNTIF(BT$133:BT152,RDGfix)+COUNTIF(BT$133:BT152,RDGave)+COUNTIF(BT$133:BT152,RDGevent)+BV$107-1","v":0},null,"","",{"$f":"COUNTIF(BX$133:BX152,OK)+COUNTIF(BX$133:BX152,RDGfix)+COUNTIF(BX$133:BX152,RDGave)+COUNTIF(BX$133:BX152,RDGevent)+BZ$107-1","v":0},null,"","",{"$f":"COUNTIF(CB$133:CB152,OK)+COUNTIF(CB$133:CB152,RDGfix)+COUNTIF(CB$133:CB152,RDGave)+COUNTIF(CB$133:CB152,RDGevent)+CD$107-1","v":0},null,"","",{"$f":"COUNTIF(CF$133:CF152,OK)+COUNTIF(CF$133:CF152,RDGfix)+COUNTIF(CF$133:CF152,RDGave)+COUNTIF(CF$133:CF152,RDGevent)+CH$107-1","v":0},null,"","",{"$f":"COUNTIF(CJ$133:CJ152,OK)+COUNTIF(CJ$133:CJ152,RDGfix)+COUNTIF(CJ$133:CJ152,RDGave)+COUNTIF(CJ$133:CJ152,RDGevent)+CL$107-1","v":0},null,"","",{"$f":"COUNTIF(CN$133:CN152,OK)+COUNTIF(CN$133:CN152,RDGfix)+COUNTIF(CN$133:CN152,RDGave)+COUNTIF(CN$133:CN152,RDGevent)+CP$107-1","v":0},null,"","",{"$f":"COUNTIF(CR$133:CR152,OK)+COUNTIF(CR$133:CR152,RDGfix)+COUNTIF(CR$133:CR152,RDGave)+COUNTIF(CR$133:CR152,RDGevent)+CT$107-1","v":0},null,"","",{"$f":"COUNTIF(CV$133:CV152,OK)+COUNTIF(CV$133:CV152,RDGfix)+COUNTIF(CV$133:CV152,RDGave)+COUNTIF(CV$133:CV152,RDGevent)+CX$107-1","v":0},null,"","",{"$f":"COUNTIF(CZ$133:CZ152,OK)+COUNTIF(CZ$133:CZ152,RDGfix)+COUNTIF(CZ$133:CZ152,RDGave)+COUNTIF(CZ$133:CZ152,RDGevent)+DB$107-1","v":0},null,"","",{"$f":"COUNTIF(DD$133:DD152,OK)+COUNTIF(DD$133:DD152,RDGfix)+COUNTIF(DD$133:DD152,RDGave)+COUNTIF(DD$133:DD152,RDGevent)+DF$107-1","v":0},null,"","",{"$f":"COUNTIF(DH$133:DH152,OK)+COUNTIF(DH$133:DH152,RDGfix)+COUNTIF(DH$133:DH152,RDGave)+COUNTIF(DH$133:DH152,RDGevent)+DJ$107-1","v":0},null,"","",{"$f":"COUNTIF(DL$133:DL152,OK)+COUNTIF(DL$133:DL152,RDGfix)+COUNTIF(DL$133:DL152,RDGave)+COUNTIF(DL$133:DL152,RDGevent)+DN$107-1","v":0},null,"","",{"$f":"COUNTIF(DP$133:DP152,OK)+COUNTIF(DP$133:DP152,RDGfix)+COUNTIF(DP$133:DP152,RDGave)+COUNTIF(DP$133:DP152,RDGevent)+DR$107-1","v":0},null,"","",{"$f":"COUNTIF(DT$133:DT152,OK)+COUNTIF(DT$133:DT152,RDGfix)+COUNTIF(DT$133:DT152,RDGave)+COUNTIF(DT$133:DT152,RDGevent)+DV$107-1","v":0},null,"","",{"$f":"COUNTIF(DX$133:DX152,OK)+COUNTIF(DX$133:DX152,RDGfix)+COUNTIF(DX$133:DX152,RDGave)+COUNTIF(DX$133:DX152,RDGevent)+DZ$107-1","v":0},null,"","",{"$f":"COUNTIF(EB$133:EB152,OK)+COUNTIF(EB$133:EB152,RDGfix)+COUNTIF(EB$133:EB152,RDGave)+COUNTIF(EB$133:EB152,RDGevent)+ED$107-1","v":0},null,"","",{"$f":"COUNTIF(EF$133:EF152,OK)+COUNTIF(EF$133:EF152,RDGfix)+COUNTIF(EF$133:EF152,RDGave)+COUNTIF(EF$133:EF152,RDGevent)+EH$107-1","v":0},null,"","",{"$f":"COUNTIF(EJ$133:EJ152,OK)+COUNTIF(EJ$133:EJ152,RDGfix)+COUNTIF(EJ$133:EJ152,RDGave)+COUNTIF(EJ$133:EJ152,RDGevent)+EL$107-1","v":0},null,"","",{"$f":"COUNTIF(EN$133:EN152,OK)+COUNTIF(EN$133:EN152,RDGfix)+COUNTIF(EN$133:EN152,RDGave)+COUNTIF(EN$133:EN152,RDGevent)+EP$107-1","v":0},null,"","",{"$f":"COUNTIF(ER$133:ER152,OK)+COUNTIF(ER$133:ER152,RDGfix)+COUNTIF(ER$133:ER152,RDGave)+COUNTIF(ER$133:ER152,RDGevent)+ET$107-1","v":0},null,"","",{"$f":"COUNTIF(EV$133:EV152,OK)+COUNTIF(EV$133:EV152,RDGfix)+COUNTIF(EV$133:EV152,RDGave)+COUNTIF(EV$133:EV152,RDGevent)+EX$107-1","v":0},null,"","",{"$f":"COUNTIF(EZ$133:EZ152,OK)+COUNTIF(EZ$133:EZ152,RDGfix)+COUNTIF(EZ$133:EZ152,RDGave)+COUNTIF(EZ$133:EZ152,RDGevent)+FB$107-1","v":0},null,"","",{"$f":"COUNTIF(FD$133:FD152,OK)+COUNTIF(FD$133:FD152,RDGfix)+COUNTIF(FD$133:FD152,RDGave)+COUNTIF(FD$133:FD152,RDGevent)+FF$107-1","v":0},null,"","",{"$f":"COUNTIF(FH$133:FH152,OK)+COUNTIF(FH$133:FH152,RDGfix)+COUNTIF(FH$133:FH152,RDGave)+COUNTIF(FH$133:FH152,RDGevent)+FJ$107-1","v":0}]
[null,null,null,"","",{"$f":"COUNTIF(D$133:D153,OK)+COUNTIF(D$133:D153,RDGfix)+COUNTIF(D$133:D153,RDGave)+COUNTIF(D$133:D153,RDGevent)","v":0},null,"","",{"$f":"COUNTIF(H$133:H153,OK)+COUNTIF(H$133:H153,RDGfix)+COUNTIF(H$133:H153,RDGave)+COUNTIF(H$133:H153,RDGevent)+J$107-1","v":0},null,"","",{"$f":"COUNTIF(L$133:L153,OK)+COUNTIF(L$133:L153,RDGfix)+COUNTIF(L$133:L153,RDGave)+COUNTIF(L$133:L153,RDGevent)+N$107-1","v":0},null,"","",{"$f":"COUNTIF(P$133:P153,OK)+COUNTIF(P$133:P153,RDGfix)+COUNTIF(P$133:P153,RDGave)+COUNTIF(P$133:P153,RDGevent)+R$107-1","v":0},null,"","",{"$f":"COUNTIF(T$133:T153,OK)+COUNTIF(T$133:T153,RDGfix)+COUNTIF(T$133:T153,RDGave)+COUNTIF(T$133:T153,RDGevent)+V$107-1","v":0},null,"","",{"$f":"COUNTIF(X$133:X153,OK)+COUNTIF(X$133:X153,RDGfix)+COUNTIF(X$133:X153,RDGave)+COUNTIF(X$133:X153,RDGevent)+Z$107-1","v":0},null,"","",{"$f":"COUNTIF(AB$133:AB153,OK)+COUNTIF(AB$133:AB153,RDGfix)+COUNTIF(AB$133:AB153,RDGave)+COUNTIF(AB$133:AB153,RDGevent)+AD$107-1","v":0},null,"","",{"$f":"COUNTIF(AF$133:AF153,OK)+COUNTIF(AF$133:AF153,RDGfix)+COUNTIF(AF$133:AF153,RDGave)+COUNTIF(AF$133:AF153,RDGevent)+AH$107-1","v":0},null,"","",{"$f":"COUNTIF(AJ$133:AJ153,OK)+COUNTIF(AJ$133:AJ153,RDGfix)+COUNTIF(AJ$133:AJ153,RDGave)+COUNTIF(AJ$133:AJ153,RDGevent)+AL$107-1","v":0},null,"","",{"$f":"COUNTIF(AN$133:AN153,OK)+COUNTIF(AN$133:AN153,RDGfix)+COUNTIF(AN$133:AN153,RDGave)+COUNTIF(AN$133:AN153,RDGevent)+AP$107-1","v":0},null,"","",{"$f":"COUNTIF(AR$133:AR153,OK)+COUNTIF(AR$133:AR153,RDGfix)+COUNTIF(AR$133:AR153,RDGave)+COUNTIF(AR$133:AR153,RDGevent)+AT$107-1","v":0},null,"","",{"$f":"COUNTIF(AV$133:AV153,OK)+COUNTIF(AV$133:AV153,RDGfix)+COUNTIF(AV$133:AV153,RDGave)+COUNTIF(AV$133:AV153,RDGevent)+AX$107-1","v":0},null,"","",{"$f":"COUNTIF(AZ$133:AZ153,OK)+COUNTIF(AZ$133:AZ153,RDGfix)+COUNTIF(AZ$133:AZ153,RDGave)+COUNTIF(AZ$133:AZ153,RDGevent)+BB$107-1","v":0},null,"","",{"$f":"COUNTIF(BD$133:BD153,OK)+COUNTIF(BD$133:BD153,RDGfix)+COUNTIF(BD$133:BD153,RDGave)+COUNTIF(BD$133:BD153,RDGevent)+BF$107-1","v":0},null,"","",{"$f":"COUNTIF(BH$133:BH153,OK)+COUNTIF(BH$133:BH153,RDGfix)+COUNTIF(BH$133:BH153,RDGave)+COUNTIF(BH$133:BH153,RDGevent)+BJ$107-1","v":0},null,"","",{"$f":"COUNTIF(BL$133:BL153,OK)+COUNTIF(BL$133:BL153,RDGfix)+COUNTIF(BL$133:BL153,RDGave)+COUNTIF(BL$133:BL153,RDGevent)+BN$107-1","v":0},null,"","",{"$f":"COUNTIF(BP$133:BP153,OK)+COUNTIF(BP$133:BP153,RDGfix)+COUNTIF(BP$133:BP153,RDGave)+COUNTIF(BP$133:BP153,RDGevent)+BR$107-1","v":0},null,"","",{"$f":"COUNTIF(BT$133:BT153,OK)+COUNTIF(BT$133:BT153,RDGfix)+COUNTIF(BT$133:BT153,RDGave)+COUNTIF(BT$133:BT153,RDGevent)+BV$107-1","v":0},null,"","",{"$f":"COUNTIF(BX$133:BX153,OK)+COUNTIF(BX$133:BX153,RDGfix)+COUNTIF(BX$133:BX153,RDGave)+COUNTIF(BX$133:BX153,RDGevent)+BZ$107-1","v":0},null,"","",{"$f":"COUNTIF(CB$133:CB153,OK)+COUNTIF(CB$133:CB153,RDGfix)+COUNTIF(CB$133:CB153,RDGave)+COUNTIF(CB$133:CB153,RDGevent)+CD$107-1","v":0},null,"","",{"$f":"COUNTIF(CF$133:CF153,OK)+COUNTIF(CF$133:CF153,RDGfix)+COUNTIF(CF$133:CF153,RDGave)+COUNTIF(CF$133:CF153,RDGevent)+CH$107-1","v":0},null,"","",{"$f":"COUNTIF(CJ$133:CJ153,OK)+COUNTIF(CJ$133:CJ153,RDGfix)+COUNTIF(CJ$133:CJ153,RDGave)+COUNTIF(CJ$133:CJ153,RDGevent)+CL$107-1","v":0},null,"","",{"$f":"COUNTIF(CN$133:CN153,OK)+COUNTIF(CN$133:CN153,RDGfix)+COUNTIF(CN$133:CN153,RDGave)+COUNTIF(CN$133:CN153,RDGevent)+CP$107-1","v":0},null,"","",{"$f":"COUNTIF(CR$133:CR153,OK)+COUNTIF(CR$133:CR153,RDGfix)+COUNTIF(CR$133:CR153,RDGave)+COUNTIF(CR$133:CR153,RDGevent)+CT$107-1","v":0},null,"","",{"$f":"COUNTIF(CV$133:CV153,OK)+COUNTIF(CV$133:CV153,RDGfix)+COUNTIF(CV$133:CV153,RDGave)+COUNTIF(CV$133:CV153,RDGevent)+CX$107-1","v":0},null,"","",{"$f":"COUNTIF(CZ$133:CZ153,OK)+COUNTIF(CZ$133:CZ153,RDGfix)+COUNTIF(CZ$133:CZ153,RDGave)+COUNTIF(CZ$133:CZ153,RDGevent)+DB$107-1","v":0},null,"","",{"$f":"COUNTIF(DD$133:DD153,OK)+COUNTIF(DD$133:DD153,RDGfix)+COUNTIF(DD$133:DD153,RDGave)+COUNTIF(DD$133:DD153,RDGevent)+DF$107-1","v":0},null,"","",{"$f":"COUNTIF(DH$133:DH153,OK)+COUNTIF(DH$133:DH153,RDGfix)+COUNTIF(DH$133:DH153,RDGave)+COUNTIF(DH$133:DH153,RDGevent)+DJ$107-1","v":0},null,"","",{"$f":"COUNTIF(DL$133:DL153,OK)+COUNTIF(DL$133:DL153,RDGfix)+COUNTIF(DL$133:DL153,RDGave)+COUNTIF(DL$133:DL153,RDGevent)+DN$107-1","v":0},null,"","",{"$f":"COUNTIF(DP$133:DP153,OK)+COUNTIF(DP$133:DP153,RDGfix)+COUNTIF(DP$133:DP153,RDGave)+COUNTIF(DP$133:DP153,RDGevent)+DR$107-1","v":0},null,"","",{"$f":"COUNTIF(DT$133:DT153,OK)+COUNTIF(DT$133:DT153,RDGfix)+COUNTIF(DT$133:DT153,RDGave)+COUNTIF(DT$133:DT153,RDGevent)+DV$107-1","v":0},null,"","",{"$f":"COUNTIF(DX$133:DX153,OK)+COUNTIF(DX$133:DX153,RDGfix)+COUNTIF(DX$133:DX153,RDGave)+COUNTIF(DX$133:DX153,RDGevent)+DZ$107-1","v":0},null,"","",{"$f":"COUNTIF(EB$133:EB153,OK)+COUNTIF(EB$133:EB153,RDGfix)+COUNTIF(EB$133:EB153,RDGave)+COUNTIF(EB$133:EB153,RDGevent)+ED$107-1","v":0},null,"","",{"$f":"COUNTIF(EF$133:EF153,OK)+COUNTIF(EF$133:EF153,RDGfix)+COUNTIF(EF$133:EF153,RDGave)+COUNTIF(EF$133:EF153,RDGevent)+EH$107-1","v":0},null,"","",{"$f":"COUNTIF(EJ$133:EJ153,OK)+COUNTIF(EJ$133:EJ153,RDGfix)+COUNTIF(EJ$133:EJ153,RDGave)+COUNTIF(EJ$133:EJ153,RDGevent)+EL$107-1","v":0},null,"","",{"$f":"COUNTIF(EN$133:EN153,OK)+COUNTIF(EN$133:EN153,RDGfix)+COUNTIF(EN$133:EN153,RDGave)+COUNTIF(EN$133:EN153,RDGevent)+EP$107-1","v":0},null,"","",{"$f":"COUNTIF(ER$133:ER153,OK)+COUNTIF(ER$133:ER153,RDGfix)+COUNTIF(ER$133:ER153,RDGave)+COUNTIF(ER$133:ER153,RDGevent)+ET$107-1","v":0},null,"","",{"$f":"COUNTIF(EV$133:EV153,OK)+COUNTIF(EV$133:EV153,RDGfix)+COUNTIF(EV$133:EV153,RDGave)+COUNTIF(EV$133:EV153,RDGevent)+EX$107-1","v":0},null,"","",{"$f":"COUNTIF(EZ$133:EZ153,OK)+COUNTIF(EZ$133:EZ153,RDGfix)+COUNTIF(EZ$133:EZ153,RDGave)+COUNTIF(EZ$133:EZ153,RDGevent)+FB$107-1","v":0},null,"","",{"$f":"COUNTIF(FD$133:FD153,OK)+COUNTIF(FD$133:FD153,RDGfix)+COUNTIF(FD$133:FD153,RDGave)+COUNTIF(FD$133:FD153,RDGevent)+FF$107-1","v":0},null,"","",{"$f":"COUNTIF(FH$133:FH153,OK)+COUNTIF(FH$133:FH153,RDGfix)+COUNTIF(FH$133:FH153,RDGave)+COUNTIF(FH$133:FH153,RDGevent)+FJ$107-1","v":0}]
[null,null,null,"","",{"$f":"COUNTIF(D$133:D154,OK)+COUNTIF(D$133:D154,RDGfix)+COUNTIF(D$133:D154,RDGave)+COUNTIF(D$133:D154,RDGevent)","v":0},null,"","",{"$f":"COUNTIF(H$133:H154,OK)+COUNTIF(H$133:H154,RDGfix)+COUNTIF(H$133:H154,RDGave)+COUNTIF(H$133:H154,RDGevent)+J$107-1","v":0},null,"","",{"$f":"COUNTIF(L$133:L154,OK)+COUNTIF(L$133:L154,RDGfix)+COUNTIF(L$133:L154,RDGave)+COUNTIF(L$133:L154,RDGevent)+N$107-1","v":0},null,"","",{"$f":"COUNTIF(P$133:P154,OK)+COUNTIF(P$133:P154,RDGfix)+COUNTIF(P$133:P154,RDGave)+COUNTIF(P$133:P154,RDGevent)+R$107-1","v":0},null,"","",{"$f":"COUNTIF(T$133:T154,OK)+COUNTIF(T$133:T154,RDGfix)+COUNTIF(T$133:T154,RDGave)+COUNTIF(T$133:T154,RDGevent)+V$107-1","v":0},null,"","",{"$f":"COUNTIF(X$133:X154,OK)+COUNTIF(X$133:X154,RDGfix)+COUNTIF(X$133:X154,RDGave)+COUNTIF(X$133:X154,RDGevent)+Z$107-1","v":0},null,"","",{"$f":"COUNTIF(AB$133:AB154,OK)+COUNTIF(AB$133:AB154,RDGfix)+COUNTIF(AB$133:AB154,RDGave)+COUNTIF(AB$133:AB154,RDGevent)+AD$107-1","v":0},null,"","",{"$f":"COUNTIF(AF$133:AF154,OK)+COUNTIF(AF$133:AF154,RDGfix)+COUNTIF(AF$133:AF154,RDGave)+COUNTIF(AF$133:AF154,RDGevent)+AH$107-1","v":0},null,"","",{"$f":"COUNTIF(AJ$133:AJ154,OK)+COUNTIF(AJ$133:AJ154,RDGfix)+COUNTIF(AJ$133:AJ154,RDGave)+COUNTIF(AJ$133:AJ154,RDGevent)+AL$107-1","v":0},null,"","",{"$f":"COUNTIF(AN$133:AN154,OK)+COUNTIF(AN$133:AN154,RDGfix)+COUNTIF(AN$133:AN154,RDGave)+COUNTIF(AN$133:AN154,RDGevent)+AP$107-1","v":0},null,"","",{"$f":"COUNTIF(AR$133:AR154,OK)+COUNTIF(AR$133:AR154,RDGfix)+COUNTIF(AR$133:AR154,RDGave)+COUNTIF(AR$133:AR154,RDGevent)+AT$107-1","v":0},null,"","",{"$f":"COUNTIF(AV$133:AV154,OK)+COUNTIF(AV$133:AV154,RDGfix)+COUNTIF(AV$133:AV154,RDGave)+COUNTIF(AV$133:AV154,RDGevent)+AX$107-1","v":0},null,"","",{"$f":"COUNTIF(AZ$133:AZ154,OK)+COUNTIF(AZ$133:AZ154,RDGfix)+COUNTIF(AZ$133:AZ154,RDGave)+COUNTIF(AZ$133:AZ154,RDGevent)+BB$107-1","v":0},null,"","",{"$f":"COUNTIF(BD$133:BD154,OK)+COUNTIF(BD$133:BD154,RDGfix)+COUNTIF(BD$133:BD154,RDGave)+COUNTIF(BD$133:BD154,RDGevent)+BF$107-1","v":0},null,"","",{"$f":"COUNTIF(BH$133:BH154,OK)+COUNTIF(BH$133:BH154,RDGfix)+COUNTIF(BH$133:BH154,RDGave)+COUNTIF(BH$133:BH154,RDGevent)+BJ$107-1","v":0},null,"","",{"$f":"COUNTIF(BL$133:BL154,OK)+COUNTIF(BL$133:BL154,RDGfix)+COUNTIF(BL$133:BL154,RDGave)+COUNTIF(BL$133:BL154,RDGevent)+BN$107-1","v":0},null,"","",{"$f":"COUNTIF(BP$133:BP154,OK)+COUNTIF(BP$133:BP154,RDGfix)+COUNTIF(BP$133:BP154,RDGave)+COUNTIF(BP$133:BP154,RDGevent)+BR$107-1","v":0},null,"","",{"$f":"COUNTIF(BT$133:BT154,OK)+COUNTIF(BT$133:BT154,RDGfix)+COUNTIF(BT$133:BT154,RDGave)+COUNTIF(BT$133:BT154,RDGevent)+BV$107-1","v":0},null,"","",{"$f":"COUNTIF(BX$133:BX154,OK)+COUNTIF(BX$133:BX154,RDGfix)+COUNTIF(BX$133:BX154,RDGave)+COUNTIF(BX$133:BX154,RDGevent)+BZ$107-1","v":0},null,"","",{"$f":"COUNTIF(CB$133:CB154,OK)+COUNTIF(CB$133:CB154,RDGfix)+COUNTIF(CB$133:CB154,RDGave)+COUNTIF(CB$133:CB154,RDGevent)+CD$107-1","v":0},null,"","",{"$f":"COUNTIF(CF$133:CF154,OK)+COUNTIF(CF$133:CF154,RDGfix)+COUNTIF(CF$133:CF154,RDGave)+COUNTIF(CF$133:CF154,RDGevent)+CH$107-1","v":0},null,"","",{"$f":"COUNTIF(CJ$133:CJ154,OK)+COUNTIF(CJ$133:CJ154,RDGfix)+COUNTIF(CJ$133:CJ154,RDGave)+COUNTIF(CJ$133:CJ154,RDGevent)+CL$107-1","v":0},null,"","",{"$f":"COUNTIF(CN$133:CN154,OK)+COUNTIF(CN$133:CN154,RDGfix)+COUNTIF(CN$133:CN154,RDGave)+COUNTIF(CN$133:CN154,RDGevent)+CP$107-1","v":0},null,"","",{"$f":"COUNTIF(CR$133:CR154,OK)+COUNTIF(CR$133:CR154,RDGfix)+COUNTIF(CR$133:CR154,RDGave)+COUNTIF(CR$133:CR154,RDGevent)+CT$107-1","v":0},null,"","",{"$f":"COUNTIF(CV$133:CV154,OK)+COUNTIF(CV$133:CV154,RDGfix)+COUNTIF(CV$133:CV154,RDGave)+COUNTIF(CV$133:CV154,RDGevent)+CX$107-1","v":0},null,"","",{"$f":"COUNTIF(CZ$133:CZ154,OK)+COUNTIF(CZ$133:CZ154,RDGfix)+COUNTIF(CZ$133:CZ154,RDGave)+COUNTIF(CZ$133:CZ154,RDGevent)+DB$107-1","v":0},null,"","",{"$f":"COUNTIF(DD$133:DD154,OK)+COUNTIF(DD$133:DD154,RDGfix)+COUNTIF(DD$133:DD154,RDGave)+COUNTIF(DD$133:DD154,RDGevent)+DF$107-1","v":0},null,"","",{"$f":"COUNTIF(DH$133:DH154,OK)+COUNTIF(DH$133:DH154,RDGfix)+COUNTIF(DH$133:DH154,RDGave)+COUNTIF(DH$133:DH154,RDGevent)+DJ$107-1","v":0},null,"","",{"$f":"COUNTIF(DL$133:DL154,OK)+COUNTIF(DL$133:DL154,RDGfix)+COUNTIF(DL$133:DL154,RDGave)+COUNTIF(DL$133:DL154,RDGevent)+DN$107-1","v":0},null,"","",{"$f":"COUNTIF(DP$133:DP154,OK)+COUNTIF(DP$133:DP154,RDGfix)+COUNTIF(DP$133:DP154,RDGave)+COUNTIF(DP$133:DP154,RDGevent)+DR$107-1","v":0},null,"","",{"$f":"COUNTIF(DT$133:DT154,OK)+COUNTIF(DT$133:DT154,RDGfix)+COUNTIF(DT$133:DT154,RDGave)+COUNTIF(DT$133:DT154,RDGevent)+DV$107-1","v":0},null,"","",{"$f":"COUNTIF(DX$133:DX154,OK)+COUNTIF(DX$133:DX154,RDGfix)+COUNTIF(DX$133:DX154,RDGave)+COUNTIF(DX$133:DX154,RDGevent)+DZ$107-1","v":0},null,"","",{"$f":"COUNTIF(EB$133:EB154,OK)+COUNTIF(EB$133:EB154,RDGfix)+COUNTIF(EB$133:EB154,RDGave)+COUNTIF(EB$133:EB154,RDGevent)+ED$107-1","v":0},null,"","",{"$f":"COUNTIF(EF$133:EF154,OK)+COUNTIF(EF$133:EF154,RDGfix)+COUNTIF(EF$133:EF154,RDGave)+COUNTIF(EF$133:EF154,RDGevent)+EH$107-1","v":0},null,"","",{"$f":"COUNTIF(EJ$133:EJ154,OK)+COUNTIF(EJ$133:EJ154,RDGfix)+COUNTIF(EJ$133:EJ154,RDGave)+COUNTIF(EJ$133:EJ154,RDGevent)+EL$107-1","v":0},null,"","",{"$f":"COUNTIF(EN$133:EN154,OK)+COUNTIF(EN$133:EN154,RDGfix)+COUNTIF(EN$133:EN154,RDGave)+COUNTIF(EN$133:EN154,RDGevent)+EP$107-1","v":0},null,"","",{"$f":"COUNTIF(ER$133:ER154,OK)+COUNTIF(ER$133:ER154,RDGfix)+COUNTIF(ER$133:ER154,RDGave)+COUNTIF(ER$133:ER154,RDGevent)+ET$107-1","v":0},null,"","",{"$f":"COUNTIF(EV$133:EV154,OK)+COUNTIF(EV$133:EV154,RDGfix)+COUNTIF(EV$133:EV154,RDGave)+COUNTIF(EV$133:EV154,RDGevent)+EX$107-1","v":0},null,"","",{"$f":"COUNTIF(EZ$133:EZ154,OK)+COUNTIF(EZ$133:EZ154,RDGfix)+COUNTIF(EZ$133:EZ154,RDGave)+COUNTIF(EZ$133:EZ154,RDGevent)+FB$107-1","v":0},null,"","",{"$f":"COUNTIF(FD$133:FD154,OK)+COUNTIF(FD$133:FD154,RDGfix)+COUNTIF(FD$133:FD154,RDGave)+COUNTIF(FD$133:FD154,RDGevent)+FF$107-1","v":0},null,"","",{"$f":"COUNTIF(FH$133:FH154,OK)+COUNTIF(FH$133:FH154,RDGfix)+COUNTIF(FH$133:FH154,RDGave)+COUNTIF(FH$133:FH154,RDGevent)+FJ$107-1","v":0}]
[null,null,null,"","",{"$f":"COUNTIF(D$133:D155,OK)+COUNTIF(D$133:D155,RDGfix)+COUNTIF(D$133:D155,RDGave)+COUNTIF(D$133:D155,RDGevent)","v":0},null,"","",{"$f":"COUNTIF(H$133:H155,OK)+COUNTIF(H$133:H155,RDGfix)+COUNTIF(H$133:H155,RDGave)+COUNTIF(H$133:H155,RDGevent)+J$107-1","v":0},null,"","",{"$f":"COUNTIF(L$133:L155,OK)+COUNTIF(L$133:L155,RDGfix)+COUNTIF(L$133:L155,RDGave)+COUNTIF(L$133:L155,RDGevent)+N$107-1","v":0},null,"","",{"$f":"COUNTIF(P$133:P155,OK)+COUNTIF(P$133:P155,RDGfix)+COUNTIF(P$133:P155,RDGave)+COUNTIF(P$133:P155,RDGevent)+R$107-1","v":0},null,"","",{"$f":"COUNTIF(T$133:T155,OK)+COUNTIF(T$133:T155,RDGfix)+COUNTIF(T$133:T155,RDGave)+COUNTIF(T$133:T155,RDGevent)+V$107-1","v":0},null,"","",{"$f":"COUNTIF(X$133:X155,OK)+COUNTIF(X$133:X155,RDGfix)+COUNTIF(X$133:X155,RDGave)+COUNTIF(X$133:X155,RDGevent)+Z$107-1","v":0},null,"","",{"$f":"COUNTIF(AB$133:AB155,OK)+COUNTIF(AB$133:AB155,RDGfix)+COUNTIF(AB$133:AB155,RDGave)+COUNTIF(AB$133:AB155,RDGevent)+AD$107-1","v":0},null,"","",{"$f":"COUNTIF(AF$133:AF155,OK)+COUNTIF(AF$133:AF155,RDGfix)+COUNTIF(AF$133:AF155,RDGave)+COUNTIF(AF$133:AF155,RDGevent)+AH$107-1","v":0},null,"","",{"$f":"COUNTIF(AJ$133:AJ155,OK)+COUNTIF(AJ$133:AJ155,RDGfix)+COUNTIF(AJ$133:AJ155,RDGave)+COUNTIF(AJ$133:AJ155,RDGevent)+AL$107-1","v":0},null,"","",{"$f":"COUNTIF(AN$133:AN155,OK)+COUNTIF(AN$133:AN155,RDGfix)+COUNTIF(AN$133:AN155,RDGave)+COUNTIF(AN$133:AN155,RDGevent)+AP$107-1","v":0},null,"","",{"$f":"COUNTIF(AR$133:AR155,OK)+COUNTIF(AR$133:AR155,RDGfix)+COUNTIF(AR$133:AR155,RDGave)+COUNTIF(AR$133:AR155,RDGevent)+AT$107-1","v":0},null,"","",{"$f":"COUNTIF(AV$133:AV155,OK)+COUNTIF(AV$133:AV155,RDGfix)+COUNTIF(AV$133:AV155,RDGave)+COUNTIF(AV$133:AV155,RDGevent)+AX$107-1","v":0},null,"","",{"$f":"COUNTIF(AZ$133:AZ155,OK)+COUNTIF(AZ$133:AZ155,RDGfix)+COUNTIF(AZ$133:AZ155,RDGave)+COUNTIF(AZ$133:AZ155,RDGevent)+BB$107-1","v":0},null,"","",{"$f":"COUNTIF(BD$133:BD155,OK)+COUNTIF(BD$133:BD155,RDGfix)+COUNTIF(BD$133:BD155,RDGave)+COUNTIF(BD$133:BD155,RDGevent)+BF$107-1","v":0},null,"","",{"$f":"COUNTIF(BH$133:BH155,OK)+COUNTIF(BH$133:BH155,RDGfix)+COUNTIF(BH$133:BH155,RDGave)+COUNTIF(BH$133:BH155,RDGevent)+BJ$107-1","v":0},null,"","",{"$f":"COUNTIF(BL$133:BL155,OK)+COUNTIF(BL$133:BL155,RDGfix)+COUNTIF(BL$133:BL155,RDGave)+COUNTIF(BL$133:BL155,RDGevent)+BN$107-1","v":0},null,"","",{"$f":"COUNTIF(BP$133:BP155,OK)+COUNTIF(BP$133:BP155,RDGfix)+COUNTIF(BP$133:BP155,RDGave)+COUNTIF(BP$133:BP155,RDGevent)+BR$107-1","v":0},null,"","",{"$f":"COUNTIF(BT$133:BT155,OK)+COUNTIF(BT$133:BT155,RDGfix)+COUNTIF(BT$133:BT155,RDGave)+COUNTIF(BT$133:BT155,RDGevent)+BV$107-1","v":0},null,"","",{"$f":"COUNTIF(BX$133:BX155,OK)+COUNTIF(BX$133:BX155,RDGfix)+COUNTIF(BX$133:BX155,RDGave)+COUNTIF(BX$133:BX155,RDGevent)+BZ$107-1","v":0},null,"","",{"$f":"COUNTIF(CB$133:CB155,OK)+COUNTIF(CB$133:CB155,RDGfix)+COUNTIF(CB$133:CB155,RDGave)+COUNTIF(CB$133:CB155,RDGevent)+CD$107-1","v":0},null,"","",{"$f":"COUNTIF(CF$133:CF155,OK)+COUNTIF(CF$133:CF155,RDGfix)+COUNTIF(CF$133:CF155,RDGave)+COUNTIF(CF$133:CF155,RDGevent)+CH$107-1","v":0},null,"","",{"$f":"COUNTIF(CJ$133:CJ155,OK)+COUNTIF(CJ$133:CJ155,RDGfix)+COUNTIF(CJ$133:CJ155,RDGave)+COUNTIF(CJ$133:CJ155,RDGevent)+CL$107-1","v":0},null,"","",{"$f":"COUNTIF(CN$133:CN155,OK)+COUNTIF(CN$133:CN155,RDGfix)+COUNTIF(CN$133:CN155,RDGave)+COUNTIF(CN$133:CN155,RDGevent)+CP$107-1","v":0},null,"","",{"$f":"COUNTIF(CR$133:CR155,OK)+COUNTIF(CR$133:CR155,RDGfix)+COUNTIF(CR$133:CR155,RDGave)+COUNTIF(CR$133:CR155,RDGevent)+CT$107-1","v":0},null,"","",{"$f":"COUNTIF(CV$133:CV155,OK)+COUNTIF(CV$133:CV155,RDGfix)+COUNTIF(CV$133:CV155,RDGave)+COUNTIF(CV$133:CV155,RDGevent)+CX$107-1","v":0},null,"","",{"$f":"COUNTIF(CZ$133:CZ155,OK)+COUNTIF(CZ$133:CZ155,RDGfix)+COUNTIF(CZ$133:CZ155,RDGave)+COUNTIF(CZ$133:CZ155,RDGevent)+DB$107-1","v":0},null,"","",{"$f":"COUNTIF(DD$133:DD155,OK)+COUNTIF(DD$133:DD155,RDGfix)+COUNTIF(DD$133:DD155,RDGave)+COUNTIF(DD$133:DD155,RDGevent)+DF$107-1","v":0},null,"","",{"$f":"COUNTIF(DH$133:DH155,OK)+COUNTIF(DH$133:DH155,RDGfix)+COUNTIF(DH$133:DH155,RDGave)+COUNTIF(DH$133:DH155,RDGevent)+DJ$107-1","v":0},null,"","",{"$f":"COUNTIF(DL$133:DL155,OK)+COUNTIF(DL$133:DL155,RDGfix)+COUNTIF(DL$133:DL155,RDGave)+COUNTIF(DL$133:DL155,RDGevent)+DN$107-1","v":0},null,"","",{"$f":"COUNTIF(DP$133:DP155,OK)+COUNTIF(DP$133:DP155,RDGfix)+COUNTIF(DP$133:DP155,RDGave)+COUNTIF(DP$133:DP155,RDGevent)+DR$107-1","v":0},null,"","",{"$f":"COUNTIF(DT$133:DT155,OK)+COUNTIF(DT$133:DT155,RDGfix)+COUNTIF(DT$133:DT155,RDGave)+COUNTIF(DT$133:DT155,RDGevent)+DV$107-1","v":0},null,"","",{"$f":"COUNTIF(DX$133:DX155,OK)+COUNTIF(DX$133:DX155,RDGfix)+COUNTIF(DX$133:DX155,RDGave)+COUNTIF(DX$133:DX155,RDGevent)+DZ$107-1","v":0},null,"","",{"$f":"COUNTIF(EB$133:EB155,OK)+COUNTIF(EB$133:EB155,RDGfix)+COUNTIF(EB$133:EB155,RDGave)+COUNTIF(EB$133:EB155,RDGevent)+ED$107-1","v":0},null,"","",{"$f":"COUNTIF(EF$133:EF155,OK)+COUNTIF(EF$133:EF155,RDGfix)+COUNTIF(EF$133:EF155,RDGave)+COUNTIF(EF$133:EF155,RDGevent)+EH$107-1","v":0},null,"","",{"$f":"COUNTIF(EJ$133:EJ155,OK)+COUNTIF(EJ$133:EJ155,RDGfix)+COUNTIF(EJ$133:EJ155,RDGave)+COUNTIF(EJ$133:EJ155,RDGevent)+EL$107-1","v":0},null,"","",{"$f":"COUNTIF(EN$133:EN155,OK)+COUNTIF(EN$133:EN155,RDGfix)+COUNTIF(EN$133:EN155,RDGave)+COUNTIF(EN$133:EN155,RDGevent)+EP$107-1","v":0},null,"","",{"$f":"COUNTIF(ER$133:ER155,OK)+COUNTIF(ER$133:ER155,RDGfix)+COUNTIF(ER$133:ER155,RDGave)+COUNTIF(ER$133:ER155,RDGevent)+ET$107-1","v":0},null,"","",{"$f":"COUNTIF(EV$133:EV155,OK)+COUNTIF(EV$133:EV155,RDGfix)+COUNTIF(EV$133:EV155,RDGave)+COUNTIF(EV$133:EV155,RDGevent)+EX$107-1","v":0},null,"","",{"$f":"COUNTIF(EZ$133:EZ155,OK)+COUNTIF(EZ$133:EZ155,RDGfix)+COUNTIF(EZ$133:EZ155,RDGave)+COUNTIF(EZ$133:EZ155,RDGevent)+FB$107-1","v":0},null,"","",{"$f":"COUNTIF(FD$133:FD155,OK)+COUNTIF(FD$133:FD155,RDGfix)+COUNTIF(FD$133:FD155,RDGave)+COUNTIF(FD$133:FD155,RDGevent)+FF$107-1","v":0},null,"","",{"$f":"COUNTIF(FH$133:FH155,OK)+COUNTIF(FH$133:FH155,RDGfix)+COUNTIF(FH$133:FH155,RDGave)+COUNTIF(FH$133:FH155,RDGevent)+FJ$107-1","v":0}]
[null,null,null,"","",{"$f":"COUNTIF(D$133:D156,OK)+COUNTIF(D$133:D156,RDGfix)+COUNTIF(D$133:D156,RDGave)+COUNTIF(D$133:D156,RDGevent)","v":0},null,{"$f":"IF(G156=\"\",\"\",IF(G$7<1,\"\",WDN))","v":""},{"$f":"IF(G156=\"\",\"\",IF(H156=OK,J156,IF(HLOOKUP(H156,Comments3,2,FALSE)=D,J$132,IF(HLOOKUP(H156,Comments3,2,FALSE)=A,VLOOKUP(G156,Averages,G$4,FALSE),IF(HLOOKUP(H156,Comments3,2,FALSE)=E,VLOOKUP(G156,EventAverage,2,FALSE), HLOOKUP(H156,Comments4,2,FALSE))))))","v":""},{"$f":"COUNTIF(H$133:H156,OK)+COUNTIF(H$133:H156,RDGfix)+COUNTIF(H$133:H156,RDGave)+COUNTIF(H$133:H156,RDGevent)+J$107-1","v":0},null,{"$f":"IF(K156=\"\",\"\",IF(K$7<1,\"\",WDN))","v":""},{"$f":"IF(K156=\"\",\"\",IF(L156=OK,N156,IF(HLOOKUP(L156,Comments3,2,FALSE)=D,N$132,IF(HLOOKUP(L156,Comments3,2,FALSE)=A,VLOOKUP(K156,Averages,K$4,FALSE),IF(HLOOKUP(L156,Comments3,2,FALSE)=E,VLOOKUP(K156,EventAverage,2,FALSE), HLOOKUP(L156,Comments4,2,FALSE))))))","v":""},{"$f":"COUNTIF(L$133:L156,OK)+COUNTIF(L$133:L156,RDGfix)+COUNTIF(L$133:L156,RDGave)+COUNTIF(L$133:L156,RDGevent)+N$107-1","v":0},null,{"$f":"IF(O156=\"\",\"\",IF(O$7<1,\"\",WDN))","v":""},{"$f":"IF(O156=\"\",\"\",IF(P156=OK,R156,IF(HLOOKUP(P156,Comments3,2,FALSE)=D,R$132,IF(HLOOKUP(P156,Comments3,2,FALSE)=A,VLOOKUP(O156,Averages,O$4,FALSE),IF(HLOOKUP(P156,Comments3,2,FALSE)=E,VLOOKUP(O156,EventAverage,2,FALSE), HLOOKUP(P156,Comments4,2,FALSE))))))","v":""},{"$f":"COUNTIF(P$133:P156,OK)+COUNTIF(P$133:P156,RDGfix)+COUNTIF(P$133:P156,RDGave)+COUNTIF(P$133:P156,RDGevent)+R$107-1","v":0},null,{"$f":"IF(S156=\"\",\"\",IF(S$7<1,\"\",WDN))","v":""},{"$f":"IF(S156=\"\",\"\",IF(T156=OK,V156,IF(HLOOKUP(T156,Comments3,2,FALSE)=D,V$132,IF(HLOOKUP(T156,Comments3,2,FALSE)=A,VLOOKUP(S156,Averages,S$4,FALSE),IF(HLOOKUP(T156,Comments3,2,FALSE)=E,VLOOKUP(S156,EventAverage,2,FALSE), HLOOKUP(T156,Comments4,2,FALSE))))))","v":""},{"$f":"COUNTIF(T$133:T156,OK)+COUNTIF(T$133:T156,RDGfix)+COUNTIF(T$133:T156,RDGave)+COUNTIF(T$133:T156,RDGevent)+V$107-1","v":0},null,{"$f":"IF(W156=\"\",\"\",IF(W$7<1,\"\",WDN))","v":""},{"$f":"IF(W156=\"\",\"\",IF(X156=OK,Z156,IF(HLOOKUP(X156,Comments3,2,FALSE)=D,Z$132,IF(HLOOKUP(X156,Comments3,2,FALSE)=A,VLOOKUP(W156,Averages,W$4,FALSE),IF(HLOOKUP(X156,Comments3,2,FALSE)=E,VLOOKUP(W156,EventAverage,2,FALSE), HLOOKUP(X156,Comments4,2,FALSE))))))","v":""},{"$f":"COUNTIF(X$133:X156,OK)+COUNTIF(X$133:X156,RDGfix)+COUNTIF(X$133:X156,RDGave)+COUNTIF(X$133:X156,RDGevent)+Z$107-1","v":0},null,{"$f":"IF(AA156=\"\",\"\",IF(AA$7<1,\"\",WDN))","v":""},{"$f":"IF(AA156=\"\",\"\",IF(AB156=OK,AD156,IF(HLOOKUP(AB156,Comments3,2,FALSE)=D,AD$132,IF(HLOOKUP(AB156,Comments3,2,FALSE)=A,VLOOKUP(AA156,Averages,AA$4,FALSE),IF(HLOOKUP(AB156,Comments3,2,FALSE)=E,VLOOKUP(AA156,EventAverage,2,FALSE), HLOOKUP(AB156,Comments4,2,FALSE))))))","v":""},{"$f":"COUNTIF(AB$133:AB156,OK)+COUNTIF(AB$133:AB156,RDGfix)+COUNTIF(AB$133:AB156,RDGave)+COUNTIF(AB$133:AB156,RDGevent)+AD$107-1","v":0},null,{"$f":"IF(AE156=\"\",\"\",IF(AE$7<1,\"\",WDN))","v":""},{"$f":"IF(AE156=\"\",\"\",IF(AF156=OK,AH156,IF(HLOOKUP(AF156,Comments3,2,FALSE)=D,AH$132,IF(HLOOKUP(AF156,Comments3,2,FALSE)=A,VLOOKUP(AE156,Averages,AE$4,FALSE),IF(HLOOKUP(AF156,Comments3,2,FALSE)=E,VLOOKUP(AE156,EventAverage,2,FALSE), HLOOKUP(AF156,Comments4,2,FALSE))))))","v":""},{"$f":"COUNTIF(AF$133:AF156,OK)+COUNTIF(AF$133:AF156,RDGfix)+COUNTIF(AF$133:AF156,RDGave)+COUNTIF(AF$133:AF156,RDGevent)+AH$107-1","v":0},null,{"$f":"IF(AI156=\"\",\"\",IF(AI$7<1,\"\",WDN))","v":""},{"$f":"IF(AI156=\"\",\"\",IF(AJ156=OK,AL156,IF(HLOOKUP(AJ156,Comments3,2,FALSE)=D,AL$132,IF(HLOOKUP(AJ156,Comments3,2,FALSE)=A,VLOOKUP(AI156,Averages,AI$4,FALSE),IF(HLOOKUP(AJ156,Comments3,2,FALSE)=E,VLOOKUP(AI156,EventAverage,2,FALSE), HLOOKUP(AJ156,Comments4,2,FALSE))))))","v":""},{"$f":"COUNTIF(AJ$133:AJ156,OK)+COUNTIF(AJ$133:AJ156,RDGfix)+COUNTIF(AJ$133:AJ156,RDGave)+COUNTIF(AJ$133:AJ156,RDGevent)+AL$107-1","v":0},null,{"$f":"IF(AM156=\"\",\"\",IF(AM$7<1,\"\",WDN))","v":""},{"$f":"IF(AM156=\"\",\"\",IF(AN156=OK,AP156,IF(HLOOKUP(AN156,Comments3,2,FALSE)=D,AP$132,IF(HLOOKUP(AN156,Comments3,2,FALSE)=A,VLOOKUP(AM156,Averages,AM$4,FALSE),IF(HLOOKUP(AN156,Comments3,2,FALSE)=E,VLOOKUP(AM156,EventAverage,2,FALSE), HLOOKUP(AN156,Comments4,2,FALSE))))))","v":""},{"$f":"COUNTIF(AN$133:AN156,OK)+COUNTIF(AN$133:AN156,RDGfix)+COUNTIF(AN$133:AN156,RDGave)+COUNTIF(AN$133:AN156,RDGevent)+AP$107-1","v":0},null,{"$f":"IF(AQ156=\"\",\"\",IF(AQ$7<1,\"\",WDN))","v":""},{"$f":"IF(AQ156=\"\",\"\",IF(AR156=OK,AT156,IF(HLOOKUP(AR156,Comments3,2,FALSE)=D,AT$132,IF(HLOOKUP(AR156,Comments3,2,FALSE)=A,VLOOKUP(AQ156,Averages,AQ$4,FALSE),IF(HLOOKUP(AR156,Comments3,2,FALSE)=E,VLOOKUP(AQ156,EventAverage,2,FALSE), HLOOKUP(AR156,Comments4,2,FALSE))))))","v":""},{"$f":"COUNTIF(AR$133:AR156,OK)+COUNTIF(AR$133:AR156,RDGfix)+COUNTIF(AR$133:AR156,RDGave)+COUNTIF(AR$133:AR156,RDGevent)+AT$107-1","v":0},null,{"$f":"IF(AU156=\"\",\"\",IF(AU$7<1,\"\",WDN))","v":""},{"$f":"IF(AU156=\"\",\"\",IF(AV156=OK,AX156,IF(HLOOKUP(AV156,Comments3,2,FALSE)=D,AX$132,IF(HLOOKUP(AV156,Comments3,2,FALSE)=A,VLOOKUP(AU156,Averages,AU$4,FALSE),IF(HLOOKUP(AV156,Comments3,2,FALSE)=E,VLOOKUP(AU156,EventAverage,2,FALSE), HLOOKUP(AV156,Comments4,2,FALSE))))))","v":""},{"$f":"COUNTIF(AV$133:AV156,OK)+COUNTIF(AV$133:AV156,RDGfix)+COUNTIF(AV$133:AV156,RDGave)+COUNTIF(AV$133:AV156,RDGevent)+AX$107-1","v":0},null,{"$f":"IF(AY156=\"\",\"\",IF(AY$7<1,\"\",WDN))","v":""},{"$f":"IF(AY156=\"\",\"\",IF(AZ156=OK,BB156,IF(HLOOKUP(AZ156,Comments3,2,FALSE)=D,BB$132,IF(HLOOKUP(AZ156,Comments3,2,FALSE)=A,VLOOKUP(AY156,Averages,AY$4,FALSE),IF(HLOOKUP(AZ156,Comments3,2,FALSE)=E,VLOOKUP(AY156,EventAverage,2,FALSE), HLOOKUP(AZ156,Comments4,2,FALSE))))))","v":""},{"$f":"COUNTIF(AZ$133:AZ156,OK)+COUNTIF(AZ$133:AZ156,RDGfix)+COUNTIF(AZ$133:AZ156,RDGave)+COUNTIF(AZ$133:AZ156,RDGevent)+BB$107-1","v":0},null,{"$f":"IF(BC156=\"\",\"\",IF(BC$7<1,\"\",WDN))","v":""},{"$f":"IF(BC156=\"\",\"\",IF(BD156=OK,BF156,IF(HLOOKUP(BD156,Comments3,2,FALSE)=D,BF$132,IF(HLOOKUP(BD156,Comments3,2,FALSE)=A,VLOOKUP(BC156,Averages,BC$4,FALSE),IF(HLOOKUP(BD156,Comments3,2,FALSE)=E,VLOOKUP(BC156,EventAverage,2,FALSE), HLOOKUP(BD156,Comments4,2,FALSE))))))","v":""},{"$f":"COUNTIF(BD$133:BD156,OK)+COUNTIF(BD$133:BD156,RDGfix)+COUNTIF(BD$133:BD156,RDGave)+COUNTIF(BD$133:BD156,RDGevent)+BF$107-1","v":0},null,{"$f":"IF(BG156=\"\",\"\",IF(BG$7<1,\"\",WDN))","v":""},{"$f":"IF(BG156=\"\",\"\",IF(BH156=OK,BJ156,IF(HLOOKUP(BH156,Comments3,2,FALSE)=D,BJ$132,IF(HLOOKUP(BH156,Comments3,2,FALSE)=A,VLOOKUP(BG156,Averages,BG$4,FALSE),IF(HLOOKUP(BH156,Comments3,2,FALSE)=E,VLOOKUP(BG156,EventAverage,2,FALSE), HLOOKUP(BH156,Comments4,2,FALSE))))))","v":""},{"$f":"COUNTIF(BH$133:BH156,OK)+COUNTIF(BH$133:BH156,RDGfix)+COUNTIF(BH$133:BH156,RDGave)+COUNTIF(BH$133:BH156,RDGevent)+BJ$107-1","v":0},null,{"$f":"IF(BK156=\"\",\"\",IF(BK$7<1,\"\",WDN))","v":""},{"$f":"IF(BK156=\"\",\"\",IF(BL156=OK,BN156,IF(HLOOKUP(BL156,Comments3,2,FALSE)=D,BN$132,IF(HLOOKUP(BL156,Comments3,2,FALSE)=A,VLOOKUP(BK156,Averages,BK$4,FALSE),IF(HLOOKUP(BL156,Comments3,2,FALSE)=E,VLOOKUP(BK156,EventAverage,2,FALSE), HLOOKUP(BL156,Comments4,2,FALSE))))))","v":""},{"$f":"COUNTIF(BL$133:BL156,OK)+COUNTIF(BL$133:BL156,RDGfix)+COUNTIF(BL$133:BL156,RDGave)+COUNTIF(BL$133:BL156,RDGevent)+BN$107-1","v":0},null,{"$f":"IF(BO156=\"\",\"\",IF(BO$7<1,\"\",WDN))","v":""},{"$f":"IF(BO156=\"\",\"\",IF(BP156=OK,BR156,IF(HLOOKUP(BP156,Comments3,2,FALSE)=D,BR$132,IF(HLOOKUP(BP156,Comments3,2,FALSE)=A,VLOOKUP(BO156,Averages,BO$4,FALSE),IF(HLOOKUP(BP156,Comments3,2,FALSE)=E,VLOOKUP(BO156,EventAverage,2,FALSE), HLOOKUP(BP156,Comments4,2,FALSE))))))","v":""},{"$f":"COUNTIF(BP$133:BP156,OK)+COUNTIF(BP$133:BP156,RDGfix)+COUNTIF(BP$133:BP156,RDGave)+COUNTIF(BP$133:BP156,RDGevent)+BR$107-1","v":0},null,{"$f":"IF(BS156=\"\",\"\",IF(BS$7<1,\"\",WDN))","v":""},{"$f":"IF(BS156=\"\",\"\",IF(BT156=OK,BV156,IF(HLOOKUP(BT156,Comments3,2,FALSE)=D,BV$132,IF(HLOOKUP(BT156,Comments3,2,FALSE)=A,VLOOKUP(BS156,Averages,BS$4,FALSE),IF(HLOOKUP(BT156,Comments3,2,FALSE)=E,VLOOKUP(BS156,EventAverage,2,FALSE), HLOOKUP(BT156,Comments4,2,FALSE))))))","v":""},{"$f":"COUNTIF(BT$133:BT156,OK)+COUNTIF(BT$133:BT156,RDGfix)+COUNTIF(BT$133:BT156,RDGave)+COUNTIF(BT$133:BT156,RDGevent)+BV$107-1","v":0},null,{"$f":"IF(BW156=\"\",\"\",IF(BW$7<1,\"\",WDN))","v":""},{"$f":"IF(BW156=\"\",\"\",IF(BX156=OK,BZ156,IF(HLOOKUP(BX156,Comments3,2,FALSE)=D,BZ$132,IF(HLOOKUP(BX156,Comments3,2,FALSE)=A,VLOOKUP(BW156,Averages,BW$4,FALSE),IF(HLOOKUP(BX156,Comments3,2,FALSE)=E,VLOOKUP(BW156,EventAverage,2,FALSE), HLOOKUP(BX156,Comments4,2,FALSE))))))","v":""},{"$f":"COUNTIF(BX$133:BX156,OK)+COUNTIF(BX$133:BX156,RDGfix)+COUNTIF(BX$133:BX156,RDGave)+COUNTIF(BX$133:BX156,RDGevent)+BZ$107-1","v":0},null,{"$f":"IF(CA156=\"\",\"\",IF(CA$7<1,\"\",WDN))","v":""},{"$f":"IF(CA156=\"\",\"\",IF(CB156=OK,CD156,IF(HLOOKUP(CB156,Comments3,2,FALSE)=D,CD$132,IF(HLOOKUP(CB156,Comments3,2,FALSE)=A,VLOOKUP(CA156,Averages,CA$4,FALSE),IF(HLOOKUP(CB156,Comments3,2,FALSE)=E,VLOOKUP(CA156,EventAverage,2,FALSE), HLOOKUP(CB156,Comments4,2,FALSE))))))","v":""},{"$f":"COUNTIF(CB$133:CB156,OK)+COUNTIF(CB$133:CB156,RDGfix)+COUNTIF(CB$133:CB156,RDGave)+COUNTIF(CB$133:CB156,RDGevent)+CD$107-1","v":0},null,{"$f":"IF(CE156=\"\",\"\",IF(CE$7<1,\"\",WDN))","v":""},{"$f":"IF(CE156=\"\",\"\",IF(CF156=OK,CH156,IF(HLOOKUP(CF156,Comments3,2,FALSE)=D,CH$132,IF(HLOOKUP(CF156,Comments3,2,FALSE)=A,VLOOKUP(CE156,Averages,CE$4,FALSE),IF(HLOOKUP(CF156,Comments3,2,FALSE)=E,VLOOKUP(CE156,EventAverage,2,FALSE), HLOOKUP(CF156,Comments4,2,FALSE))))))","v":""},{"$f":"COUNTIF(CF$133:CF156,OK)+COUNTIF(CF$133:CF156,RDGfix)+COUNTIF(CF$133:CF156,RDGave)+COUNTIF(CF$133:CF156,RDGevent)+CH$107-1","v":0},null,{"$f":"IF(CI156=\"\",\"\",IF(CI$7<1,\"\",WDN))","v":""},{"$f":"IF(CI156=\"\",\"\",IF(CJ156=OK,CL156,IF(HLOOKUP(CJ156,Comments3,2,FALSE)=D,CL$132,IF(HLOOKUP(CJ156,Comments3,2,FALSE)=A,VLOOKUP(CI156,Averages,CI$4,FALSE),IF(HLOOKUP(CJ156,Comments3,2,FALSE)=E,VLOOKUP(CI156,EventAverage,2,FALSE), HLOOKUP(CJ156,Comments4,2,FALSE))))))","v":""},{"$f":"COUNTIF(CJ$133:CJ156,OK)+COUNTIF(CJ$133:CJ156,RDGfix)+COUNTIF(CJ$133:CJ156,RDGave)+COUNTIF(CJ$133:CJ156,RDGevent)+CL$107-1","v":0},null,{"$f":"IF(CM156=\"\",\"\",IF(CM$7<1,\"\",WDN))","v":""},{"$f":"IF(CM156=\"\",\"\",IF(CN156=OK,CP156,IF(HLOOKUP(CN156,Comments3,2,FALSE)=D,CP$132,IF(HLOOKUP(CN156,Comments3,2,FALSE)=A,VLOOKUP(CM156,Averages,CM$4,FALSE),IF(HLOOKUP(CN156,Comments3,2,FALSE)=E,VLOOKUP(CM156,EventAverage,2,FALSE), HLOOKUP(CN156,Comments4,2,FALSE))))))","v":""},{"$f":"COUNTIF(CN$133:CN156,OK)+COUNTIF(CN$133:CN156,RDGfix)+COUNTIF(CN$133:CN156,RDGave)+COUNTIF(CN$133:CN156,RDGevent)+CP$107-1","v":0},null,{"$f":"IF(CQ156=\"\",\"\",IF(CQ$7<1,\"\",WDN))","v":""},{"$f":"IF(CQ156=\"\",\"\",IF(CR156=OK,CT156,IF(HLOOKUP(CR156,Comments3,2,FALSE)=D,CT$132,IF(HLOOKUP(CR156,Comments3,2,FALSE)=A,VLOOKUP(CQ156,Averages,CQ$4,FALSE),IF(HLOOKUP(CR156,Comments3,2,FALSE)=E,VLOOKUP(CQ156,EventAverage,2,FALSE), HLOOKUP(CR156,Comments4,2,FALSE))))))","v":""},{"$f":"COUNTIF(CR$133:CR156,OK)+COUNTIF(CR$133:CR156,RDGfix)+COUNTIF(CR$133:CR156,RDGave)+COUNTIF(CR$133:CR156,RDGevent)+CT$107-1","v":0},null,{"$f":"IF(CU156=\"\",\"\",IF(CU$7<1,\"\",WDN))","v":""},{"$f":"IF(CU156=\"\",\"\",IF(CV156=OK,CX156,IF(HLOOKUP(CV156,Comments3,2,FALSE)=D,CX$132,IF(HLOOKUP(CV156,Comments3,2,FALSE)=A,VLOOKUP(CU156,Averages,CU$4,FALSE),IF(HLOOKUP(CV156,Comments3,2,FALSE)=E,VLOOKUP(CU156,EventAverage,2,FALSE), HLOOKUP(CV156,Comments4,2,FALSE))))))","v":""},{"$f":"COUNTIF(CV$133:CV156,OK)+COUNTIF(CV$133:CV156,RDGfix)+COUNTIF(CV$133:CV156,RDGave)+COUNTIF(CV$133:CV156,RDGevent)+CX$107-1","v":0},null,{"$f":"IF(CY156=\"\",\"\",IF(CY$7<1,\"\",WDN))","v":""},{"$f":"IF(CY156=\"\",\"\",IF(CZ156=OK,DB156,IF(HLOOKUP(CZ156,Comments3,2,FALSE)=D,DB$132,IF(HLOOKUP(CZ156,Comments3,2,FALSE)=A,VLOOKUP(CY156,Averages,CY$4,FALSE),IF(HLOOKUP(CZ156,Comments3,2,FALSE)=E,VLOOKUP(CY156,EventAverage,2,FALSE), HLOOKUP(CZ156,Comments4,2,FALSE))))))","v":""},{"$f":"COUNTIF(CZ$133:CZ156,OK)+COUNTIF(CZ$133:CZ156,RDGfix)+COUNTIF(CZ$133:CZ156,RDGave)+COUNTIF(CZ$133:CZ156,RDGevent)+DB$107-1","v":0},null,{"$f":"IF(DC156=\"\",\"\",IF(DC$7<1,\"\",WDN))","v":""},{"$f":"IF(DC156=\"\",\"\",IF(DD156=OK,DF156,IF(HLOOKUP(DD156,Comments3,2,FALSE)=D,DF$132,IF(HLOOKUP(DD156,Comments3,2,FALSE)=A,VLOOKUP(DC156,Averages,DC$4,FALSE),IF(HLOOKUP(DD156,Comments3,2,FALSE)=E,VLOOKUP(DC156,EventAverage,2,FALSE), HLOOKUP(DD156,Comments4,2,FALSE))))))","v":""},{"$f":"COUNTIF(DD$133:DD156,OK)+COUNTIF(DD$133:DD156,RDGfix)+COUNTIF(DD$133:DD156,RDGave)+COUNTIF(DD$133:DD156,RDGevent)+DF$107-1","v":0},null,{"$f":"IF(DG156=\"\",\"\",IF(DG$7<1,\"\",WDN))","v":""},{"$f":"IF(DG156=\"\",\"\",IF(DH156=OK,DJ156,IF(HLOOKUP(DH156,Comments3,2,FALSE)=D,DJ$132,IF(HLOOKUP(DH156,Comments3,2,FALSE)=A,VLOOKUP(DG156,Averages,DG$4,FALSE),IF(HLOOKUP(DH156,Comments3,2,FALSE)=E,VLOOKUP(DG156,EventAverage,2,FALSE), HLOOKUP(DH156,Comments4,2,FALSE))))))","v":""},{"$f":"COUNTIF(DH$133:DH156,OK)+COUNTIF(DH$133:DH156,RDGfix)+COUNTIF(DH$133:DH156,RDGave)+COUNTIF(DH$133:DH156,RDGevent)+DJ$107-1","v":0},null,{"$f":"IF(DK156=\"\",\"\",IF(DK$7<1,\"\",WDN))","v":""},{"$f":"IF(DK156=\"\",\"\",IF(DL156=OK,DN156,IF(HLOOKUP(DL156,Comments3,2,FALSE)=D,DN$132,IF(HLOOKUP(DL156,Comments3,2,FALSE)=A,VLOOKUP(DK156,Averages,DK$4,FALSE),IF(HLOOKUP(DL156,Comments3,2,FALSE)=E,VLOOKUP(DK156,EventAverage,2,FALSE), HLOOKUP(DL156,Comments4,2,FALSE))))))","v":""},{"$f":"COUNTIF(DL$133:DL156,OK)+COUNTIF(DL$133:DL156,RDGfix)+COUNTIF(DL$133:DL156,RDGave)+COUNTIF(DL$133:DL156,RDGevent)+DN$107-1","v":0},null,{"$f":"IF(DO156=\"\",\"\",IF(DO$7<1,\"\",WDN))","v":""},{"$f":"IF(DO156=\"\",\"\",IF(DP156=OK,DR156,IF(HLOOKUP(DP156,Comments3,2,FALSE)=D,DR$132,IF(HLOOKUP(DP156,Comments3,2,FALSE)=A,VLOOKUP(DO156,Averages,DO$4,FALSE),IF(HLOOKUP(DP156,Comments3,2,FALSE)=E,VLOOKUP(DO156,EventAverage,2,FALSE), HLOOKUP(DP156,Comments4,2,FALSE))))))","v":""},{"$f":"COUNTIF(DP$133:DP156,OK)+COUNTIF(DP$133:DP156,RDGfix)+COUNTIF(DP$133:DP156,RDGave)+COUNTIF(DP$133:DP156,RDGevent)+DR$107-1","v":0},null,{"$f":"IF(DS156=\"\",\"\",IF(DS$7<1,\"\",WDN))","v":""},{"$f":"IF(DS156=\"\",\"\",IF(DT156=OK,DV156,IF(HLOOKUP(DT156,Comments3,2,FALSE)=D,DV$132,IF(HLOOKUP(DT156,Comments3,2,FALSE)=A,VLOOKUP(DS156,Averages,DS$4,FALSE),IF(HLOOKUP(DT156,Comments3,2,FALSE)=E,VLOOKUP(DS156,EventAverage,2,FALSE), HLOOKUP(DT156,Comments4,2,FALSE))))))","v":""},{"$f":"COUNTIF(DT$133:DT156,OK)+COUNTIF(DT$133:DT156,RDGfix)+COUNTIF(DT$133:DT156,RDGave)+COUNTIF(DT$133:DT156,RDGevent)+DV$107-1","v":0},null,{"$f":"IF(DW156=\"\",\"\",IF(DW$7<1,\"\",WDN))","v":""},{"$f":"IF(DW156=\"\",\"\",IF(DX156=OK,DZ156,IF(HLOOKUP(DX156,Comments3,2,FALSE)=D,DZ$132,IF(HLOOKUP(DX156,Comments3,2,FALSE)=A,VLOOKUP(DW156,Averages,DW$4,FALSE),IF(HLOOKUP(DX156,Comments3,2,FALSE)=E,VLOOKUP(DW156,EventAverage,2,FALSE), HLOOKUP(DX156,Comments4,2,FALSE))))))","v":""},{"$f":"COUNTIF(DX$133:DX156,OK)+COUNTIF(DX$133:DX156,RDGfix)+COUNTIF(DX$133:DX156,RDGave)+COUNTIF(DX$133:DX156,RDGevent)+DZ$107-1","v":0},null,{"$f":"IF(EA156=\"\",\"\",IF(EA$7<1,\"\",WDN))","v":""},{"$f":"IF(EA156=\"\",\"\",IF(EB156=OK,ED156,IF(HLOOKUP(EB156,Comments3,2,FALSE)=D,ED$132,IF(HLOOKUP(EB156,Comments3,2,FALSE)=A,VLOOKUP(EA156,Averages,EA$4,FALSE),IF(HLOOKUP(EB156,Comments3,2,FALSE)=E,VLOOKUP(EA156,EventAverage,2,FALSE), HLOOKUP(EB156,Comments4,2,FALSE))))))","v":""},{"$f":"COUNTIF(EB$133:EB156,OK)+COUNTIF(EB$133:EB156,RDGfix)+COUNTIF(EB$133:EB156,RDGave)+COUNTIF(EB$133:EB156,RDGevent)+ED$107-1","v":0},null,{"$f":"IF(EE156=\"\",\"\",IF(EE$7<1,\"\",WDN))","v":""},{"$f":"IF(EE156=\"\",\"\",IF(EF156=OK,EH156,IF(HLOOKUP(EF156,Comments3,2,FALSE)=D,EH$132,IF(HLOOKUP(EF156,Comments3,2,FALSE)=A,VLOOKUP(EE156,Averages,EE$4,FALSE),IF(HLOOKUP(EF156,Comments3,2,FALSE)=E,VLOOKUP(EE156,EventAverage,2,FALSE), HLOOKUP(EF156,Comments4,2,FALSE))))))","v":""},{"$f":"COUNTIF(EF$133:EF156,OK)+COUNTIF(EF$133:EF156,RDGfix)+COUNTIF(EF$133:EF156,RDGave)+COUNTIF(EF$133:EF156,RDGevent)+EH$107-1","v":0},null,{"$f":"IF(EI156=\"\",\"\",IF(EI$7<1,\"\",WDN))","v":""},{"$f":"IF(EI156=\"\",\"\",IF(EJ156=OK,EL156,IF(HLOOKUP(EJ156,Comments3,2,FALSE)=D,EL$132,IF(HLOOKUP(EJ156,Comments3,2,FALSE)=A,VLOOKUP(EI156,Averages,EI$4,FALSE),IF(HLOOKUP(EJ156,Comments3,2,FALSE)=E,VLOOKUP(EI156,EventAverage,2,FALSE), HLOOKUP(EJ156,Comments4,2,FALSE))))))","v":""},{"$f":"COUNTIF(EJ$133:EJ156,OK)+COUNTIF(EJ$133:EJ156,RDGfix)+COUNTIF(EJ$133:EJ156,RDGave)+COUNTIF(EJ$133:EJ156,RDGevent)+EL$107-1","v":0},null,{"$f":"IF(EM156=\"\",\"\",IF(EM$7<1,\"\",WDN))","v":""},{"$f":"IF(EM156=\"\",\"\",IF(EN156=OK,EP156,IF(HLOOKUP(EN156,Comments3,2,FALSE)=D,EP$132,IF(HLOOKUP(EN156,Comments3,2,FALSE)=A,VLOOKUP(EM156,Averages,EM$4,FALSE),IF(HLOOKUP(EN156,Comments3,2,FALSE)=E,VLOOKUP(EM156,EventAverage,2,FALSE), HLOOKUP(EN156,Comments4,2,FALSE))))))","v":""},{"$f":"COUNTIF(EN$133:EN156,OK)+COUNTIF(EN$133:EN156,RDGfix)+COUNTIF(EN$133:EN156,RDGave)+COUNTIF(EN$133:EN156,RDGevent)+EP$107-1","v":0},null,{"$f":"IF(EQ156=\"\",\"\",IF(EQ$7<1,\"\",WDN))","v":""},{"$f":"IF(EQ156=\"\",\"\",IF(ER156=OK,ET156,IF(HLOOKUP(ER156,Comments3,2,FALSE)=D,ET$132,IF(HLOOKUP(ER156,Comments3,2,FALSE)=A,VLOOKUP(EQ156,Averages,EQ$4,FALSE),IF(HLOOKUP(ER156,Comments3,2,FALSE)=E,VLOOKUP(EQ156,EventAverage,2,FALSE), HLOOKUP(ER156,Comments4,2,FALSE))))))","v":""},{"$f":"COUNTIF(ER$133:ER156,OK)+COUNTIF(ER$133:ER156,RDGfix)+COUNTIF(ER$133:ER156,RDGave)+COUNTIF(ER$133:ER156,RDGevent)+ET$107-1","v":0},null,{"$f":"IF(EU156=\"\",\"\",IF(EU$7<1,\"\",WDN))","v":""},{"$f":"IF(EU156=\"\",\"\",IF(EV156=OK,EX156,IF(HLOOKUP(EV156,Comments3,2,FALSE)=D,EX$132,IF(HLOOKUP(EV156,Comments3,2,FALSE)=A,VLOOKUP(EU156,Averages,EU$4,FALSE),IF(HLOOKUP(EV156,Comments3,2,FALSE)=E,VLOOKUP(EU156,EventAverage,2,FALSE), HLOOKUP(EV156,Comments4,2,FALSE))))))","v":""},{"$f":"COUNTIF(EV$133:EV156,OK)+COUNTIF(EV$133:EV156,RDGfix)+COUNTIF(EV$133:EV156,RDGave)+COUNTIF(EV$133:EV156,RDGevent)+EX$107-1","v":0},null,{"$f":"IF(EY156=\"\",\"\",IF(EY$7<1,\"\",WDN))","v":""},{"$f":"IF(EY156=\"\",\"\",IF(EZ156=OK,FB156,IF(HLOOKUP(EZ156,Comments3,2,FALSE)=D,FB$132,IF(HLOOKUP(EZ156,Comments3,2,FALSE)=A,VLOOKUP(EY156,Averages,EY$4,FALSE),IF(HLOOKUP(EZ156,Comments3,2,FALSE)=E,VLOOKUP(EY156,EventAverage,2,FALSE), HLOOKUP(EZ156,Comments4,2,FALSE))))))","v":""},{"$f":"COUNTIF(EZ$133:EZ156,OK)+COUNTIF(EZ$133:EZ156,RDGfix)+COUNTIF(EZ$133:EZ156,RDGave)+COUNTIF(EZ$133:EZ156,RDGevent)+FB$107-1","v":0},null,{"$f":"IF(FC156=\"\",\"\",IF(FC$7<1,\"\",WDN))","v":""},{"$f":"IF(FC156=\"\",\"\",IF(FD156=OK,FF156,IF(HLOOKUP(FD156,Comments3,2,FALSE)=D,FF$132,IF(HLOOKUP(FD156,Comments3,2,FALSE)=A,VLOOKUP(FC156,Averages,FC$4,FALSE),IF(HLOOKUP(FD156,Comments3,2,FALSE)=E,VLOOKUP(FC156,EventAverage,2,FALSE), HLOOKUP(FD156,Comments4,2,FALSE))))))","v":""},{"$f":"COUNTIF(FD$133:FD156,OK)+COUNTIF(FD$133:FD156,RDGfix)+COUNTIF(FD$133:FD156,RDGave)+COUNTIF(FD$133:FD156,RDGevent)+FF$107-1","v":0},null,{"$f":"IF(FG156=\"\",\"\",IF(FG$7<1,\"\",WDN))","v":""},{"$f":"IF(FG156=\"\",\"\",IF(FH156=OK,FJ156,IF(HLOOKUP(FH156,Comments3,2,FALSE)=D,FJ$132,IF(HLOOKUP(FH156,Comments3,2,FALSE)=A,VLOOKUP(FG156,Averages,FG$4,FALSE),IF(HLOOKUP(FH156,Comments3,2,FALSE)=E,VLOOKUP(FG156,EventAverage,2,FALSE), HLOOKUP(FH156,Comments4,2,FALSE))))))","v":""},{"$f":"COUNTIF(FH$133:FH156,OK)+COUNTIF(FH$133:FH156,RDGfix)+COUNTIF(FH$133:FH156,RDGave)+COUNTIF(FH$133:FH156,RDGevent)+FJ$107-1","v":0}]
[]
[null,null,null,null,null,null,null,null,null,null,null,null,null,null,null,null,null,null,null,null,null,null,null,null,null,null,null,null,null,null,null,null,null,null,null,null,null,null,null,null,null,null,null,null,null,null,null,null,null,null,null,null,null,null,null,null,null,null,null,null,null,null,null,null,null,null,null,null,null,null,null,null,null,null,null,null,null,null,null,null,null,null,null,null,null,null,null,null,null,null,null,null,null,null,null,null,null,null,null,null,null,null,null,null,null,null,null,null,null,null,null,null,null,null,null,null,null,null,null,null,null,null,null,null,null,null,null,null,null,null,null,null,null,null,null,null,null,null,null,null,null,null,null,null,null,null,null,null,null,null,null,null,null,null,null,null,null,null,null,null,null,null,null,"FH158"]
[null,null,null,null,null,"DAFT!"]

{"sheet":"Score Sheet","index":2,"n_rows":95,"n_cols":74,"rows_kept":95,"cut":false,"hidden":false,"merged":[[8,58,8,67],[0,0,0,7],[2,1,2,6],[1,1,1,6],[3,1,3,6]]}
["HMS 2016 Scoring v3a - October 2016 - Promote = 4"]
["Event"]
["Date(s)"]
["Host Club",null,null,null,null,null,null,null,null,null,null,null,null,null,null,null,null,null,null,null,null,null,null,null,null,null,null,null,null,null,null,null,null,null,null,null,null,null,null,null,null,null,null,null,null,null,null,null,null,null,null,null,null,null,null,null,null,null,null,null,null,null,null,null,null,null,null,null,null,null,"Races"]
[null,null,null,null,null,null,null,null,null,null,null,null,null,null,null,null,null,null,null,null,null,null,null,null,null,null,null,null,null,null,null,null,null,null,null,null,null,null,null,null,null,null,null,null,null,null,null,null,null,null,null,null,null,null,null,null,null,null,null,null,null,null,null,null,null,null,null,null,null,null,"with results"]
[null,null,null,null,null,null,null,null,{"$f":"IF('Race results'!C7<1,\"\",I8)","v":""},{"$f":"IF('Race results'!G7<1,\"\",J8)","v":""},{"$f":"IF('Race results'!K7<1,\"\",K8)","v":""},{"$f":"IF('Race results'!O7<1,\"\",L8)","v":""},{"$f":"IF('Race results'!S7<1,\"\",M8)","v":""},{"$f":"IF('Race results'!W7<1,\"\",N8)","v":""},{"$f":"IF('Race results'!AA7<1,\"\",O8)","v":""},{"$f":"IF('Race results'!AE7<1,\"\",P8)","v":""},{"$f":"IF('Race results'!AI7<1,\"\",Q8)","v":""},{"$f":"IF('Race results'!AM7<1,\"\",R8)","v":""},{"$f":"IF('Race results'!AQ7<1,\"\",S8)","v":""},{"$f":"IF('Race results'!AU7<1,\"\",T8)","v":""},{"$f":"IF('Race results'!AY7<1,\"\",U8)","v":""},{"$f":"IF('Race results'!BC7<1,\"\",V8)","v":""},{"$f":"IF('Race results'!BG7<1,\"\",W8)","v":""},{"$f":"IF('Race results'!BK7<1,\"\",X8)","v":""},{"$f":"IF('Race results'!BO7<1,\"\",Y8)","v":""},{"$f":"IF('Race results'!BS7<1,\"\",Z8)","v":""},{"$f":"IF('Race results'!BW7<1,\"\",AA8)","v":""},{"$f":"IF('Race results'!CA7<1,\"\",AB8)","v":""},{"$f":"IF('Race results'!CE7<1,\"\",AC8)","v":""},{"$f":"IF('Race results'!CI7<1,\"\",AD8)","v":""},{"$f":"IF('Race results'!CM7<1,\"\",AE8)","v":""},{"$f":"IF('Race results'!CQ7<1,\"\",AF8)","v":""},{"$f":"IF('Race results'!CU7<1,\"\",AG8)","v":""},{"$f":"IF('Race results'!CY7<1,\"\",AH8)","v":""},{"$f":"IF('Race results'!DC7<1,\"\",AI8)","v":""},{"$f":"IF('Race results'!DG7<1,\"\",AJ8)","v":""},{"$f":"IF('Race results'!DK7<1,\"\",AK8)","v":""},{"$f":"IF('Race results'!DO7<1,\"\",AL8)","v":""},{"$f":"IF('Race results'!DS7<1,\"\",AM8)","v":""},{"$f":"IF('Race results'!DW7<1,\"\",AN8)","v":""},{"$f":"IF('Race results'!EA7<1,\"\",AO8)","v":""},{"$f":"IF('Race results'!EE7<1,\"\",AP8)","v":""},{"$f":"IF('Race results'!EI7<1,\"\",AQ8)","v":""},{"$f":"IF('Race results'!EM7<1,\"\",AR8)","v":""},{"$f":"IF('Race results'!EQ7<1,\"\",AS8)","v":""},{"$f":"IF('Race results'!EU7<1,\"\",AT8)","v":""},{"$f":"IF('Race results'!EY7<1,\"\",AU8)","v":""},{"$f":"IF('Race results'!FC7<1,\"\",AV8)","v":""},{"$f":"IF('Race results'!FG7<1,\"\",AW8)","v":""},null,null,null,null,null,null,null,null,null,null,null,null,null,null,null,null,null,null,null,null,null,{"$f":"COUNT(I6:AW6)","v":0}]
[null,null,null,null,null,null,null,null,null,null,null,null,null,null,null,null,null,null,null,null,null,null,null,null,null,null,null,null,null,null,null,null,null,null,null,null,null,null,null,null,null,null,null,null,null,null,null,null,null,"sub",1,2,3,4,5,6,null,null,null,null,null,null,null,null,null,null,null,null,null,null,null,"DNE/DGM","DNE/DGM","Races"]
["Position","Skipper","Sail #","Club/City","Hull","MYA No.","Man TB","Score",1,2,3,4,5,6,7,8,9,10,11,12,13,14,15,16,17,18,19,20,21,22,23,24,25,26,27,28,29,30,31,32,33,34,35,36,37,38,39,40,41,"Tot.","dis 1","dis 2","dis 3","dis 4","dis 5","dis 6","Tot.","Pos.","Best race","2nd","3rd","4th","5th","6th","7th","8th","9th","10th","Sail No.","Average","Last Race","Race 1","Race 2- N","Scored"]
[{"$f":"COUNTA(B10:B93)","v":0},null,null,{"$f":"COUNTA(D10:D93)","v":0},{"$f":"COUNTA(E10:E93)","v":0},{"$f":"COUNTA(F10:F93)","v":0},{"$f":"COUNTA(G10:G93)","v":0},{"$f":"COUNT(H10:H93)","v":0},{"$f":"IF(I10=\"\",\"\",'Race results'!C3)","v":""},{"$f":"IF(J10=\"\",\"\",'Race results'!$H$2)","v":""},{"$f":"IF(K10=\"\",\"\",'Race results'!$H$2)","v":""},{"$f":"IF(L10=\"\",\"\",'Race results'!$H$2)","v":""},{"$f":"IF(M10=\"\",\"\",'Race results'!$H$2)","v":""},{"$f":"IF(N10=\"\",\"\",'Race results'!$H$2)","v":""},{"$f":"IF(O10=\"\",\"\",'Race results'!$H$2)","v":""},{"$f":"IF(P10=\"\",\"\",'Race results'!$H$2)","v":""},{"$f":"IF(Q10=\"\",\"\",'Race results'!$H$2)","v":""},{"$f":"IF(R10=\"\",\"\",'Race results'!$H$2)","v":""},{"$f":"IF(S10=\"\",\"\",'Race results'!$H$2)","v":""},{"$f":"IF(T10=\"\",\"\",'Race results'!$H$2)","v":""},{"$f":"IF(U10=\"\",\"\",'Race results'!$H$2)","v":""},{"$f":"IF(V10=\"\",\"\",'Race results'!$H$2)","v":""},{"$f":"IF(W10=\"\",\"\",'Race results'!$H$2)","v":""},{"$f":"IF(X10=\"\",\"\",'Race results'!$H$2)","v":""},{"$f":"IF(Y10=\"\",\"\",'Race results'!$H$2)","v":""},{"$f":"IF(Z10=\"\",\"\",'Race results'!$H$2)","v":""},{"$f":"IF(AA10=\"\",\"\",'Race results'!$H$2)","v":""},{"$f":"IF(AB10=\"\",\"\",'Race results'!$H$2)","v":""},{"$f":"IF(AC10=\"\",\"\",'Race results'!$H$2)","v":""},{"$f":"IF(AD10=\"\",\"\",'Race results'!$H$2)","v":""},{"$f":"IF(AE10=\"\",\"\",'Race results'!$H$2)","v":""},{"$f":"IF(AF10=\"\",\"\",'Race results'!$H$2)","v":""},{"$f":"IF(AG10=\"\",\"\",'Race results'!$H$2)","v":""},{"$f":"IF(AH10=\"\",\"\",'Race results'!$H$2)","v":""},{"$f":"IF(AI10=\"\",\"\",'Race results'!$H$2)","v":""},{"$f":"IF(AJ10=\"\",\"\",'Race results'!$H$2)","v":""},{"$f":"IF(AK10=\"\",\"\",'Race results'!$H$2)","v":""},{"$f":"IF(AL10=\"\",\"\",'Race results'!$H$2)","v":""},{"$f":"IF(AM10=\"\",\"\",'Race results'!$H$2)","v":""},{"$f":"IF(AN10=\"\",\"\",'Race results'!$H$2)","v":""},{"$f":"IF(AO10=\"\",\"\",'Race results'!$H$2)","v":""},{"$f":"IF(AP10=\"\",\"\",'Race results'!$H$2)","v":""},{"$f":"IF(AQ10=\"\",\"\",'Race results'!$H$2)","v":""},{"$f":"IF(AR10=\"\",\"\",'Race results'!$H$2)","v":""},{"$f":"IF(AS10=\"\",\"\",'Race results'!$H$2)","v":""},{"$f":"IF(AT10=\"\",\"\",'Race results'!$H$2)","v":""},{"$f":"IF(AU10=\"\",\"\",'Race results'!$H$2)","v":""},{"$f":"IF(AV10=\"\",\"\",'Race results'!$H$2)","v":""},{"$f":"IF(AW10=\"\",\"\",'Race results'!$H$2)","v":""},"Dis.Sched",4,8,16,24,32,40,null,null,"Manual Tie Resolution help columns - order excludes Race 1 (if more than 1 heat), as required by HMS 2007",null,null,null,null,null,null,null,null,null,null,null,{"$f":"MAX(I6:AW6)","v":0},{"$f":"IF('Race results'!C32>0,0,1)","v":1},{"$f":"IF('Race results'!C32>0,1,0)","v":0},{"$f":"BS6","v":0}]
[{"$f":"BF10","v":""},null,null,null,null,null,null,{"$f":"IF(BV$9=BV10, BE10, IF(B10=\"\",BE10,CONCATENATE(\"*****\",TEXT(BE10,\"0.0\"),\"*****\")))","v":""},{"$f":"IF(OR($C10=\"\",ISERROR(VLOOKUP($C10,Race01Results,3,FALSE))),\"\",VLOOKUP($C10,Race01Results,3,FALSE))","v":""},{"$f":"IF(OR($C10=\"\",ISERROR(VLOOKUP($C10,Race02Results,3,FALSE))),\"\",VLOOKUP($C10,Race02Results,3,FALSE))","v":""},{"$f":"IF(OR($C10=\"\",ISERROR(VLOOKUP($C10,Race03Results,3,FALSE))),\"\",VLOOKUP($C10,Race03Results,3,FALSE))","v":""},{"$f":"IF(OR($C10=\"\",ISERROR(VLOOKUP($C10,Race04Results,3,FALSE))),\"\",VLOOKUP($C10,Race04Results,3,FALSE))","v":""},{"$f":"IF(OR($C10=\"\",ISERROR(VLOOKUP($C10,Race05Results,3,FALSE))),\"\",VLOOKUP($C10,Race05Results,3,FALSE))","v":""},{"$f":"IF(OR($C10=\"\",ISERROR(VLOOKUP($C10,Race06Results,3,FALSE))),\"\",VLOOKUP($C10,Race06Results,3,FALSE))","v":""},{"$f":"IF(OR($C10=\"\",ISERROR(VLOOKUP($C10,Race07Results,3,FALSE))),\"\",VLOOKUP($C10,Race07Results,3,FALSE))","v":""},{"$f":"IF(OR($C10=\"\",ISERROR(VLOOKUP($C10,Race08Results,3,FALSE))),\"\",VLOOKUP($C10,Race08Results,3,FALSE))","v":""},{"$f":"IF(OR($C10=\"\",ISERROR(VLOOKUP($C10,Race09Results,3,FALSE))),\"\",VLOOKUP($C10,Race09Results,3,FALSE))","v":""},{"$f":"IF(OR($C10=\"\",ISERROR(VLOOKUP($C10,Race10Results,3,FALSE))),\"\",VLOOKUP($C10,Race10Results,3,FALSE))","v":""},{"$f":"IF(OR($C10=\"\",ISERROR(VLOOKUP($C10,Race11Results,3,FALSE))),\"\",VLOOKUP($C10,Race11Results,3,FALSE))","v":""},{"$f":"IF(OR($C10=\"\",ISERROR(VLOOKUP($C10,Race12Results,3,FALSE))),\"\",VLOOKUP($C10,Race12Results,3,FALSE))","v":""},{"$f":"IF(OR($C10=\"\",ISERROR(VLOOKUP($C10,Race13Results,3,FALSE))),\"\",VLOOKUP($C10,Race13Results,3,FALSE))","v":""},{"$f":"IF(OR($C10=\"\",ISERROR(VLOOKUP($C10,Race14Results,3,FALSE))),\"\",VLOOKUP($C10,Race14Results,3,FALSE))","v":""},{"$f":"IF(OR($C10=\"\",ISERROR(VLOOKUP($C10,Race15Results,3,FALSE))),\"\",VLOOKUP($C10,Race15Results,3,FALSE))","v":""},{"$f":"IF(OR($C10=\"\",ISERROR(VLOOKUP($C10,Race16Results,3,FALSE))),\"\",VLOOKUP($C10,Race16Results,3,FALSE))","v":""},{"$f":"IF(OR($C10=\"\",ISERROR(VLOOKUP($C10,Race17Results,3,FALSE))),\"\",VLOOKUP($C10,Race17Results,3,FALSE))","v":""},{"$f":"IF(OR($C10=\"\",ISERROR(VLOOKUP($C10,Race18Results,3,FALSE))),\"\",VLOOKUP($C10,Race18Results,3,FALSE))","v":""},{"$f":"IF(OR($C10=\"\",ISERROR(VLOOKUP($C10,Race19Results,3,FALSE))),\"\",VLOOKUP($C10,Race19Results,3,FALSE))","v":""},{"$f":"IF(OR($C10=\"\",ISERROR(VLOOKUP($C10,Race20Results,3,FALSE))),\"\",VLOOKUP($C10,Race20Results,3,FALSE))","v":""},{"$f":"IF(OR($C10=\"\",ISERROR(VLOOKUP($C10,Race21Results,3,FALSE))),\"\",VLOOKUP($C10,Race21Results,3,FALSE))","v":""},{"$f":"IF(OR($C10=\"\",ISERROR(VLOOKUP($C10,Race22Results,3,FALSE))),\"\",VLOOKUP($C10,Race22Results,3,FALSE))","v":""},{"$f":"IF(OR($C10=\"\",ISERROR(VLOOKUP($C10,Race23Results,3,FALSE))),\"\",VLOOKUP($C10,Race23Results,3,FALSE))","v":""},{"$f":"IF(OR($C10=\"\",ISERROR(VLOOKUP($C10,Race24Results,3,FALSE))),\"\",VLOOKUP($C10,Race24Results,3,FALSE))","v":""},{"$f":"IF(OR($C10=\"\",ISERROR(VLOOKUP($C10,Race25Results,3,FALSE))),\"\",VLOOKUP($C10,Race25Results,3,FALSE))","v":""},{"$f":"IF(OR($C10=\"\",ISERROR(VLOOKUP($C10,Race26Results,3,FALSE))),\"\",VLOOKUP($C10,Race26Results,3,FALSE))","v":""},{"$f":"IF(OR($C10=\"\",ISERROR(VLOOKUP($C10,Race27Results,3,FALSE))),\"\",VLOOKUP($C10,Race27Results,3,FALSE))","v":""},{"$f":"IF(OR($C10=\"\",ISERROR(VLOOKUP($C10,Race28Results,3,FALSE))),\"\",VLOOKUP($C10,Race28Results,3,FALSE))","v":""},{"$f":"IF(OR($C10=\"\",ISERROR(VLOOKUP($C10,Race29Results,3,FALSE))),\"\",VLOOKUP($C10,Race29Results,3,FALSE))","v":""},{"$f":"IF(OR($C10=\"\",ISERROR(VLOOKUP($C10,Race30Results,3,FALSE))),\"\",VLOOKUP($C10,Race30Results,3,FALSE))","v":""},{"$f":"IF(OR($C10=\"\",ISERROR(VLOOKUP($C10,Race31Results,3,FALSE))),\"\",VLOOKUP($C10,Race31Results,3,FALSE))","v":""},{"$f":"IF(OR($C10=\"\",ISERROR(VLOOKUP($C10,Race32Results,3,FALSE))),\"\",VLOOKUP($C10,Race32Results,3,FALSE))","v":""},{"$f":"IF(OR($C10=\"\",ISERROR(VLOOKUP($C10,Race33Results,3,FALSE))),\"\",VLOOKUP($C10,Race33Results,3,FALSE))","v":""},{"$f":"IF(OR($C10=\"\",ISERROR(VLOOKUP($C10,Race34Results,3,FALSE))),\"\",VLOOKUP($C10,Race34Results,3,FALSE))","v":""},{"$f":"IF(OR($C10=\"\",ISERROR(VLOOKUP($C10,Race35Results,3,FALSE))),\"\",VLOOKUP($C10,Race35Results,3,FALSE))","v":""},{"$f":"IF(OR($C10=\"\",ISERROR(VLOOKUP($C10,Race36Results,3,FALSE))),\"\",VLOOKUP($C10,Race36Results,3,FALSE))","v":""},{"$f":"IF(OR($C10=\"\",ISERROR(VLOOKUP($C10,Race37Results,3,FALSE))),\"\",VLOOKUP($C10,Race37Results,3,FALSE))","v":""},{"$f":"IF(OR($C10=\"\",ISERROR(VLOOKUP($C10,Race38Results,3,FALSE))),\"\",VLOOKUP($C10,Race38Results,3,FALSE))","v":""},{"$f":"IF(OR($C10=\"\",ISERROR(VLOOKUP($C10,Race39Results,3,FALSE))),\"\",VLOOKUP($C10,Race39Results,3,FALSE))","v":""},{"$f":"IF(OR($C10=\"\",ISERROR(VLOOKUP($C10,Race40Results,3,FALSE))),\"\",VLOOKUP($C10,Race40Results,3,FALSE))","v":""},{"$f":"IF(OR($C10=\"\",ISERROR(VLOOKUP($C10,Race41Results,3,FALSE))),\"\",VLOOKUP($C10,Race41Results,3,FALSE))","v":""},{"$f":"IF(No_Races=0,0,SUM(I10:OFFSET(I10,0,No_Races-1)))","v":0},{"$f":"IF(No_Races=0,0,IF(No_Races>AY$9-1,LARGE($I10:OFFSET($I10,0,No_Races-1),AY$7+$BT10+$BU10),0))","v":0},{"$f":"IF(No_Races=0,0,IF(No_Races>AZ$9-1,LARGE($I10:OFFSET($I10,0,No_Races-1),AZ$7+$BT10+$BU10),0))","v":0},{"$f":"IF(No_Races=0,0,IF(No_Races>BA$9-1,LARGE($I10:OFFSET($I10,0,No_Races-1),BA$7+$BT10+$BU10),0))","v":0},{"$f":"IF(No_Races=0,0,IF(No_Races>BB$9-1,LARGE($I10:OFFSET($I10,0,No_Races-1),BB$7+$BT10+$BU10),0))","v":0},{"$f":"IF(No_Races=0,0,IF(No_Races>BC$9-1,LARGE($I10:OFFSET($I10,0,No_Races-1),BC$7+$BT10+$BU10),0))","v":0},{"$f":"IF(No_Races=0,0,IF(No_Races>BD$9-1,LARGE($I10:OFFSET($I10,0,No_Races-1),BD$7+$BT10+$BU10),0))","v":0},{"$f":"IF(B10=\"\",\"\",G10/1000+INT((AX10-SUM(AY10:BD10))*1000)/1000+IF(COUNTIF(Summary!$D$7:$D$90,C10)<1,0,VLOOKUP(C10,Summary!$D$7:$F$90,3,FALSE)/10000))","v":""},{"$f":"IF(B10 = \"\", \"\",RANK(BE10,BE$10:BE$93,1))","v":""},{"$f":"IF($B10=\"\",\"\",IF($BT$9>0,IF(No_Races<1,\"\",SMALL($I10:$AW10,1)),IF(No_Races<2,\"\",SMALL($J10:$AW10,1))))","v":""},{"$f":"IF($B10=\"\",\"\",IF($BT$9>0,IF(No_Races<2,\"\",SMALL($I10:$AW10,2)),IF(No_Races<3,\"\",SMALL($J10:$AW10,2))))","v":""},{"$f":"IF($B10=\"\",\"\",IF($BT$9>0,IF(No_Races<3,\"\",SMALL($I10:$AW10,3)),IF(No_Races<4,\"\",SMALL($J10:$AW10,3))))","v":""},{"$f":"IF($B10=\"\",\"\",IF($BT$9>0,IF(No_Races<4,\"\",SMALL($I10:$AW10,4)),IF(No_Races<5,\"\",SMALL($J10:$AW10,4))))","v":""},{"$f":"IF($B10=\"\",\"\",IF($BT$9>0,IF(No_Races<5,\"\",SMALL($I10:$AW10,5)),IF(No_Races<6,\"\",SMALL($J10:$AW10,5))))","v":""},{"$f":"IF($B10=\"\",\"\",IF($BT$9>0,IF(No_Races<6,\"\",SMALL($I10:$AW10,6)),IF(No_Races<7,\"\",SMALL($J10:$AW10,6))))","v":""},{"$f":"IF($B10=\"\",\"\",IF($BT$9>0,IF(No_Races<7,\"\",SMALL($I10:$AW10,7)),IF(No_Races<8,\"\",SMALL($J10:$AW10,7))))","v":""},{"$f":"IF($B10=\"\",\"\",IF($BT$9>0,IF(No_Races<8,\"\",SMALL($I10:$AW10,8)),IF(No_Races<9,\"\",SMALL($J10:$AW10,8))))","v":""},{"$f":"IF($B10=\"\",\"\",IF($BT$9>0,IF(No_Races<9,\"\",SMALL($I10:$AW10,9)),IF(No_Races<10,\"\",SMALL($J10:$AW10,9))))","v":""},{"$f":"IF($B10=\"\",\"\",IF($BT$9>0,IF(No_Races<10,\"\",SMALL($I10:$AW10,10)),IF(No_Races<11,\"\",SMALL($J10:$AW10,10))))","v":""},{"$f":"IF(B10=\"\",\"\",C10)","v":""},{"$f":"IF(B10=\"\",\"\",IF($BT$9>0,AVERAGE(I10:AW10),AVERAGE(J10:AW10)))","v":""},{"$f":"IF($BS$9=\"\",\"\",IF(B10=\"\",\"\",IF($BS$9<30,CHOOSE($BS$9,I10,J10,K10,L10,M10,N10,O10,P10,Q10,R10,S10,T10,U10,V10,W10,X10,Y10,Z10,AA10,AB10,AC10,AD10,AE10,AF10,AG10,AH10,AI10,AJ10,AK10),CHOOSE($BS$9-29,AL10,AM10,AN10,AO10,AP10,AQ10,AR10,AS10,AT10,AU10,AV10,AW10))))","v":""},{"$f":"IF(B10=\"\",\"\",COUNTIF(I10:I10,'Race results'!$J$3)+COUNTIF(I10:I10,'Race results'!$K$3))","v":""},{"$f":"IF(B10=\"\",\"\",COUNTIF(J10:AW10,'Race results'!$J$2)+COUNTIF(J10:AW10,'Race results'!$K$2))","v":""},{"$f":"IF(No_Races=0,0,COUNT(I10:OFFSET(I10,0,No_Races-1)))","v":0}]
[{"$f":"BF11","v":""},null,null,null,null,null,null,{"$f":"IF(BV$9=BV11, BE11, IF(B11=\"\",BE11,CONCATENATE(\"*****\",TEXT(BE11,\"0.0\"),\"*****\")))","v":""},{"$f":"IF(OR($C11=\"\",ISERROR(VLOOKUP($C11,Race01Results,3,FALSE))),\"\",VLOOKUP($C11,Race01Results,3,FALSE))","v":""},{"$f":"IF(OR($C11=\"\",ISERROR(VLOOKUP($C11,Race02Results,3,FALSE))),\"\",VLOOKUP($C11,Race02Results,3,FALSE))","v":""},{"$f":"IF(OR($C11=\"\",ISERROR(VLOOKUP($C11,Race03Results,3,FALSE))),\"\",VLOOKUP($C11,Race03Results,3,FALSE))","v":""},{"$f":"IF(OR($C11=\"\",ISERROR(VLOOKUP($C11,Race04Results,3,FALSE))),\"\",VLOOKUP($C11,Race04Results,3,FALSE))","v":""},{"$f":"IF(OR($C11=\"\",ISERROR(VLOOKUP($C11,Race05Results,3,FALSE))),\"\",VLOOKUP($C11,Race05Results,3,FALSE))","v":""},{"$f":"IF(OR($C11=\"\",ISERROR(VLOOKUP($C11,Race06Results,3,FALSE))),\"\",VLOOKUP($C11,Race06Results,3,FALSE))","v":""},{"$f":"IF(OR($C11=\"\",ISERROR(VLOOKUP($C11,Race07Results,3,FALSE))),\"\",VLOOKUP($C11,Race07Results,3,FALSE))","v":""},{"$f":"IF(OR($C11=\"\",ISERROR(VLOOKUP($C11,Race08Results,3,FALSE))),\"\",VLOOKUP($C11,Race08Results,3,FALSE))","v":""},{"$f":"IF(OR($C11=\"\",ISERROR(VLOOKUP($C11,Race09Results,3,FALSE))),\"\",VLOOKUP($C11,Race09Results,3,FALSE))","v":""},{"$f":"IF(OR($C11=\"\",ISERROR(VLOOKUP($C11,Race10Results,3,FALSE))),\"\",VLOOKUP($C11,Race10Results,3,FALSE))","v":""},{"$f":"IF(OR($C11=\"\",ISERROR(VLOOKUP($C11,Race11Results,3,FALSE))),\"\",VLOOKUP($C11,Race11Results,3,FALSE))","v":""},{"$f":"IF(OR($C11=\"\",ISERROR(VLOOKUP($C11,Race12Results,3,FALSE))),\"\",VLOOKUP($C11,Race12Results,3,FALSE))","v":""},{"$f":"IF(OR($C11=\"\",ISERROR(VLOOKUP($C11,Race13Results,3,FALSE))),\"\",VLOOKUP($C11,Race13Results,3,FALSE))","v":""},{"$f":"IF(OR($C11=\"\",ISERROR(VLOOKUP($C11,Race14Results,3,FALSE))),\"\",VLOOKUP($C11,Race14Results,3,FALSE))","v":""},{"$f":"IF(OR($C11=\"\",ISERROR(VLOOKUP($C11,Race15Results,3,FALSE))),\"\",VLOOKUP($C11,Race15Results,3,FALSE))","v":""},{"$f":"IF(OR($C11=\"\",ISERROR(VLOOKUP($C11,Race16Results,3,FALSE))),\"\",VLOOKUP($C11,Race16Results,3,FALSE))","v":""},{"$f":"IF(OR($C11=\"\",ISERROR(VLOOKUP($C11,Race17Results,3,FALSE))),\"\",VLOOKUP($C11,Race17Results,3,FALSE))","v":""},{"$f":"IF(OR($C11=\"\",ISERROR(VLOOKUP($C11,Race18Results,3,FALSE))),\"\",VLOOKUP($C11,Race18Results,3,FALSE))","v":""},{"$f":"IF(OR($C11=\"\",ISERROR(VLOOKUP($C11,Race19Results,3,FALSE))),\"\",VLOOKUP($C11,Race19Results,3,FALSE))","v":""},{"$f":"IF(OR($C11=\"\",ISERROR(VLOOKUP($C11,Race20Results,3,FALSE))),\"\",VLOOKUP($C11,Race20Results,3,FALSE))","v":""},{"$f":"IF(OR($C11=\"\",ISERROR(VLOOKUP($C11,Race21Results,3,FALSE))),\"\",VLOOKUP($C11,Race21Results,3,FALSE))","v":""},{"$f":"IF(OR($C11=\"\",ISERROR(VLOOKUP($C11,Race22Results,3,FALSE))),\"\",VLOOKUP($C11,Race22Results,3,FALSE))","v":""},{"$f":"IF(OR($C11=\"\",ISERROR(VLOOKUP($C11,Race23Results,3,FALSE))),\"\",VLOOKUP($C11,Race23Results,3,FALSE))","v":""},{"$f":"IF(OR($C11=\"\",ISERROR(VLOOKUP($C11,Race24Results,3,FALSE))),\"\",VLOOKUP($C11,Race24Results,3,FALSE))","v":""},{"$f":"IF(OR($C11=\"\",ISERROR(VLOOKUP($C11,Race25Results,3,FALSE))),\"\",VLOOKUP($C11,Race25Results,3,FALSE))","v":""},{"$f":"IF(OR($C11=\"\",ISERROR(VLOOKUP($C11,Race26Results,3,FALSE))),\"\",VLOOKUP($C11,Race26Results,3,FALSE))","v":""},{"$f":"IF(OR($C11=\"\",ISERROR(VLOOKUP($C11,Race27Results,3,FALSE))),\"\",VLOOKUP($C11,Race27Results,3,FALSE))","v":""},{"$f":"IF(OR($C11=\"\",ISERROR(VLOOKUP($C11,Race28Results,3,FALSE))),\"\",VLOOKUP($C11,Race28Results,3,FALSE))","v":""},{"$f":"IF(OR($C11=\"\",ISERROR(VLOOKUP($C11,Race29Results,3,FALSE))),\"\",VLOOKUP($C11,Race29Results,3,FALSE))","v":""},{"$f":"IF(OR($C11=\"\",ISERROR(VLOOKUP($C11,Race30Results,3,FALSE))),\"\",VLOOKUP($C11,Race30Results,3,FALSE))","v":""},{"$f":"IF(OR($C11=\"\",ISERROR(VLOOKUP($C11,Race31Results,3,FALSE))),\"\",VLOOKUP($C11,Race31Results,3,FALSE))","v":""},{"$f":"IF(OR($C11=\"\",ISERROR(VLOOKUP($C11,Race32Results,3,FALSE))),\"\",VLOOKUP($C11,Race32Results,3,FALSE))","v":""},{"$f":"IF(OR($C11=\"\",ISERROR(VLOOKUP($C11,Race33Results,3,FALSE))),\"\",VLOOKUP($C11,Race33Results,3,FALSE))","v":""},{"$f":"IF(OR($C11=\"\",ISERROR(VLOOKUP($C11,Race34Results,3,FALSE))),\"\",VLOOKUP($C11,Race34Results,3,FALSE))","v":""},{"$f":"IF(OR($C11=\"\",ISERROR(VLOOKUP($C11,Race35Results,3,FALSE))),\"\",VLOOKUP($C11,Race35Results,3,FALSE))","v":""},{"$f":"IF(OR($C11=\"\",ISERROR(VLOOKUP($C11,Race36Results,3,FALSE))),\"\",VLOOKUP($C11,Race36Results,3,FALSE))","v":""},{"$f":"IF(OR($C11=\"\",ISERROR(VLOOKUP($C11,Race37Results,3,FALSE))),\"\",VLOOKUP($C11,Race37Results,3,FALSE))","v":""},{"$f":"IF(OR($C11=\"\",ISERROR(VLOOKUP($C11,Race38Results,3,FALSE))),\"\",VLOOKUP($C11,Race38Results,3,FALSE))","v":""},{"$f":"IF(OR($C11=\"\",ISERROR(VLOOKUP($C11,Race39Results,3,FALSE))),\"\",VLOOKUP($C11,Race39Results,3,FALSE))","v":""},{"$f":"IF(OR($C11=\"\",ISERROR(VLOOKUP($C11,Race40Results,3,FALSE))),\"\",VLOOKUP($C11,Race40Results,3,FALSE))","v":""},{"$f":"IF(OR($C11=\"\",ISERROR(VLOOKUP($C11,Race41Results,3,FALSE))),\"\",VLOOKUP($C11,Race41Results,3,FALSE))","v":""},{"$f":"IF(No_Races=0,0,SUM(I11:OFFSET(I11,0,No_Races-1)))","v":0},{"$f":"IF(No_Races=0,0,IF(No_Races>AY$9-1,LARGE($I11:OFFSET($I11,0,No_Races-1),AY$7+$BT11+$BU11),0))","v":0},{"$f":"IF(No_Races=0,0,IF(No_Races>AZ$9-1,LARGE($I11:OFFSET($I11,0,No_Races-1),AZ$7+$BT11+$BU11),0))","v":0},{"$f":"IF(No_Races=0,0,IF(No_Races>BA$9-1,LARGE($I11:OFFSET($I11,0,No_Races-1),BA$7+$BT11+$BU11),0))","v":0},{"$f":"IF(No_Races=0,0,IF(No_Races>BB$9-1,LARGE($I11:OFFSET($I11,0,No_Races-1),BB$7+$BT11+$BU11),0))","v":0},{"$f":"IF(No_Races=0,0,IF(No_Races>BC$9-1,LARGE($I11:OFFSET($I11,0,No_Races-1),BC$7+$BT11+$BU11),0))","v":0},{"$f":"IF(No_Races=0,0,IF(No_Races>BD$9-1,LARGE($I11:OFFSET($I11,0,No_Races-1),BD$7+$BT11+$BU11),0))","v":0},{"$f":"IF(B11=\"\",\"\",G11/1000+INT((AX11-SUM(AY11:BD11))*1000)/1000+IF(COUNTIF(Summary!$D$7:$D$90,C11)<1,0,VLOOKUP(C11,Summary!$D$7:$F$90,3,FALSE)/10000))","v":""},{"$f":"IF(B11 = \"\", \"\",RANK(BE11,BE$10:BE$93,1))","v":""},"","","","","","","","","","",{"$f":"IF(B11=\"\",\"\",C11)","v":""},{"$f":"IF(B11=\"\",\"\",IF($BT$9>0,AVERAGE(I11:AW11),AVERAGE(J11:AW11)))","v":""},"",{"$f":"IF(B11=\"\",\"\",COUNTIF(I11:I11,'Race results'!$J$3)+COUNTIF(I11:I11,'Race results'!$K$3))","v":""},{"$f":"IF(B11=\"\",\"\",COUNTIF(J11:AW11,'Race results'!$J$2)+COUNTIF(J11:AW11,'Race results'!$K$2))","v":""},{"$f":"IF(No_Races=0,0,COUNT(I11:OFFSET(I11,0,No_Races-1)))","v":0}]
["",null,null,null,null,null,null,"","","","","","","","","","","","","","","","","","","","","","","","","","","","","","","","","","","","","","","","","","",{"$f":"IF(No_Races=0,0,SUM(I12:OFFSET(I12,0,No_Races-1)))","v":0},{"$f":"IF(No_Races=0,0,IF(No_Races>AY$9-1,LARGE($I12:OFFSET($I12,0,No_Races-1),AY$7+$BT12+$BU12),0))","v":0},{"$f":"IF(No_Races=0,0,IF(No_Races>AZ$9-1,LARGE($I12:OFFSET($I12,0,No_Races-1),AZ$7+$BT12+$BU12),0))","v":0},{"$f":"IF(No_Races=0,0,IF(No_Races>BA$9-1,LARGE($I12:OFFSET($I12,0,No_Races-1),BA$7+$BT12+$BU12),0))","v":0},{"$f":"IF(No_Races=0,0,IF(No_Races>BB$9-1,LARGE($I12:OFFSET($I12,0,No_Races-1),BB$7+$BT12+$BU12),0))","v":0},{"$f":"IF(No_Races=0,0,IF(No_Races>BC$9-1,LARGE($I12:OFFSET($I12,0,No_Races-1),BC$7+$BT12+$BU12),0))","v":0},{"$f":"IF(No_Races=0,0,IF(No_Races>BD$9-1,LARGE($I12:OFFSET($I12,0,No_Races-1),BD$7+$BT12+$BU12),0))","v":0},{"$f":"IF(B12=\"\",\"\",G12/1000+INT((AX12-SUM(AY12:BD12))*1000)/1000+IF(COUNTIF(Summary!$D$7:$D$90,C12)<1,0,VLOOKUP(C12,Summary!$D$7:$F$90,3,FALSE)/10000))","v":""},"","","","","","","","","","","","","","",{"$f":"IF(B12=\"\",\"\",COUNTIF(I12:I12,'Race results'!$J$3)+COUNTIF(I12:I12,'Race results'!$K$3))","v":""},{"$f":"IF(B12=\"\",\"\",COUNTIF(J12:AW12,'Race results'!$J$2)+COUNTIF(J12:AW12,'Race results'!$K$2))","v":""},{"$f":"IF(No_Races=0,0,COUNT(I12:OFFSET(I12,0,No_Races-1)))","v":0}]
["",null,null,null,null,null,null,"","","","","","","","","","","","","","","","","","","","","","","","","","","","","","","","","","","","","","","","","","",{"$f":"IF(No_Races=0,0,SUM(I13:OFFSET(I13,0,No_Races-1)))","v":0},{"$f":"IF(No_Races=0,0,IF(No_Races>AY$9-1,LARGE($I13:OFFSET($I13,0,No_Races-1),AY$7+$BT13+$BU13),0))","v":0},{"$f":"IF(No_Races=0,0,IF(No_Races>AZ$9-1,LARGE($I13:OFFSET($I13,0,No_Races-1),AZ$7+$BT13+$BU13),0))","v":0},{"$f":"IF(No_Races=0,0,IF(No_Races>BA$9-1,LARGE($I13:OFFSET($I13,0,No_Races-1),BA$7+$BT13+$BU13),0))","v":0},{"$f":"IF(No_Races=0,0,IF(No_Races>BB$9-1,LARGE($I13:OFFSET($I13,0,No_Races-1),BB$7+$BT13+$BU13),0))","v":0},{"$f":"IF(No_Races=0,0,IF(No_Races>BC$9-1,LARGE($I13:OFFSET($I13,0,No_Races-1),BC$7+$BT13+$BU13),0))","v":0},{"$f":"IF(No_Races=0,0,IF(No_Races>BD$9-1,LARGE($I13:OFFSET($I13,0,No_Races-1),BD$7+$BT13+$BU13),0))","v":0},{"$f":"IF(B13=\"\",\"\",G13/1000+INT((AX13-SUM(AY13:BD13))*1000)/1000+IF(COUNTIF(Summary!$D$7:$D$90,C13)<1,0,VLOOKUP(C13,Summary!$D$7:$F$90,3,FALSE)/10000))","v":""},"","","","","","","","","","","","","","",{"$f":"IF(B13=\"\",\"\",COUNTIF(I13:I13,'Race results'!$J$3)+COUNTIF(I13:I13,'Race results'!$K$3))","v":""},{"$f":"IF(B13=\"\",\"\",COUNTIF(J13:AW13,'Race results'!$J$2)+COUNTIF(J13:AW13,'Race results'!$K$2))","v":""},{"$f":"IF(No_Races=0,0,COUNT(I13:OFFSET(I13,0,No_Races-1)))","v":0}]
["",null,null,null,null,null,null,"","","","","","","","","","","","","","","","","","","","","","","","","","","","","","","","","","","","","","","","","","",{"$f":"IF(No_Races=0,0,SUM(I14:OFFSET(I14,0,No_Races-1)))","v":0},{"$f":"IF(No_Races=0,0,IF(No_Races>AY$9-1,LARGE($I14:OFFSET($I14,0,No_Races-1),AY$7+$BT14+$BU14),0))","v":0},{"$f":"IF(No_Races=0,0,IF(No_Races>AZ$9-1,LARGE($I14:OFFSET($I14,0,No_Races-1),AZ$7+$BT14+$BU14),0))","v":0},{"$f":"IF(No_Races=0,0,IF(No_Races>BA$9-1,LARGE($I14:OFFSET($I14,0,No_Races-1),BA$7+$BT14+$BU14),0))","v":0},{"$f":"IF(No_Races=0,0,IF(No_Races>BB$9-1,LARGE($I14:OFFSET($I14,0,No_Races-1),BB$7+$BT14+$BU14),0))","v":0},{"$f":"IF(No_Races=0,0,IF(No_Races>BC$9-1,LARGE($I14:OFFSET($I14,0,No_Races-1),BC$7+$BT14+$BU14),0))","v":0},{"$f":"IF(No_Races=0,0,IF(No_Races>BD$9-1,LARGE($I14:OFFSET($I14,0,No_Races-1),BD$7+$BT14+$BU14),0))","v":0},{"$f":"IF(B14=\"\",\"\",G14/1000+INT((AX14-SUM(AY14:BD14))*1000)/1000+IF(COUNTIF(Summary!$D$7:$D$90,C14)<1,0,VLOOKUP(C14,Summary!$D$7:$F$90,3,FALSE)/10000))","v":""},"","","","","","","","","","","","","","",{"$f":"IF(B14=\"\",\"\",COUNTIF(I14:I14,'Race results'!$J$3)+COUNTIF(I14:I14,'Race results'!$K$3))","v":""},{"$f":"IF(B14=\"\",\"\",COUNTIF(J14:AW14,'Race results'!$J$2)+COUNTIF(J14:AW14,'Race results'!$K$2))","v":""},{"$f":"IF(No_Races=0,0,COUNT(I14:OFFSET(I14,0,No_Races-1)))","v":0}]
["",null,null,null,null,null,null,"","","","","","","","","","","","","","","","","","","","","","","","","","","","","","","","","","","","","","","","","","",{"$f":"IF(No_Races=0,0,SUM(I15:OFFSET(I15,0,No_Races-1)))","v":0},{"$f":"IF(No_Races=0,0,IF(No_Races>AY$9-1,LARGE($I15:OFFSET($I15,0,No_Races-1),AY$7+$BT15+$BU15),0))","v":0},{"$f":"IF(No_Races=0,0,IF(No_Races>AZ$9-1,LARGE($I15:OFFSET($I15,0,No_Races-1),AZ$7+$BT15+$BU15),0))","v":0},{"$f":"IF(No_Races=0,0,IF(No_Races>BA$9-1,LARGE($I15:OFFSET($I15,0,No_Races-1),BA$7+$BT15+$BU15),0))","v":0},{"$f":"IF(No_Races=0,0,IF(No_Races>BB$9-1,LARGE($I15:OFFSET($I15,0,No_Races-1),BB$7+$BT15+$BU15),0))","v":0},{"$f":"IF(No_Races=0,0,IF(No_Races>BC$9-1,LARGE($I15:OFFSET($I15,0,No_Races-1),BC$7+$BT15+$BU15),0))","v":0},{"$f":"IF(No_Races=0,0,IF(No_Races>BD$9-1,LARGE($I15:OFFSET($I15,0,No_Races-1),BD$7+$BT15+$BU15),0))","v":0},{"$f":"IF(B15=\"\",\"\",G15/1000+INT((AX15-SUM(AY15:BD15))*1000)/1000+IF(COUNTIF(Summary!$D$7:$D$90,C15)<1,0,VLOOKUP(C15,Summary!$D$7:$F$90,3,FALSE)/10000))","v":""},"","","","","","","","","","","","","","",{"$f":"IF(B15=\"\",\"\",COUNTIF(I15:I15,'Race results'!$J$3)+COUNTIF(I15:I15,'Race results'!$K$3))","v":""},{"$f":"IF(B15=\"\",\"\",COUNTIF(J15:AW15,'Race results'!$J$2)+COUNTIF(J15:AW15,'Race results'!$K$2))","v":""},{"$f":"IF(No_Races=0,0,COUNT(I15:OFFSET(I15,0,No_Races-1)))","v":0}]
["",null,null,null,null,null,null,"","","","","","","","","","","","","","","","","","","","","","","","","","","","","","","","","","","","","","","","","","",{"$f":"IF(No_Races=0,0,SUM(I16:OFFSET(I16,0,No_Races-1)))","v":0},{"$f":"IF(No_Races=0,0,IF(No_Races>AY$9-1,LARGE($I16:OFFSET($I16,0,No_Races-1),AY$7+$BT16+$BU16),0))","v":0},{"$f":"IF(No_Races=0,0,IF(No_Races>AZ$9-1,LARGE($I16:OFFSET($I16,0,No_Races-1),AZ$7+$BT16+$BU16),0))","v":0},{"$f":"IF(No_Races=0,0,IF(No_Races>BA$9-1,LARGE($I16:OFFSET($I16,0,No_Races-1),BA$7+$BT16+$BU16),0))","v":0},{"$f":"IF(No_Races=0,0,IF(No_Races>BB$9-1,LARGE($I16:OFFSET($I16,0,No_Races-1),BB$7+$BT16+$BU16),0))","v":0},{"$f":"IF(No_Races=0,0,IF(No_Races>BC$9-1,LARGE($I16:OFFSET($I16,0,No_Races-1),BC$7+$BT16+$BU16),0))","v":0},{"$f":"IF(No_Races=0,0,IF(No_Races>BD$9-1,LARGE($I16:OFFSET($I16,0,No_Races-1),BD$7+$BT16+$BU16),0))","v":0},{"$f":"IF(B16=\"\",\"\",G16/1000+INT((AX16-SUM(AY16:BD16))*1000)/1000+IF(COUNTIF(Summary!$D$7:$D$90,C16)<1,0,VLOOKUP(C16,Summary!$D$7:$F$90,3,FALSE)/10000))","v":""},"","","","","","","","","","","","","","",{"$f":"IF(B16=\"\",\"\",COUNTIF(I16:I16,'Race results'!$J$3)+COUNTIF(I16:I16,'Race results'!$K$3))","v":""},{"$f":"IF(B16=\"\",\"\",COUNTIF(J16:AW16,'Race results'!$J$2)+COUNTIF(J16:AW16,'Race results'!$K$2))","v":""},{"$f":"IF(No_Races=0,0,COUNT(I16:OFFSET(I16,0,No_Races-1)))","v":0}]
["",null,null,null,null,null,null,"","","","","","","","","","","","","","","","","","","","","","","","","","","","","","","","","","","","","","","","","","",{"$f":"IF(No_Races=0,0,SUM(I17:OFFSET(I17,0,No_Races-1)))","v":0},{"$f":"IF(No_Races=0,0,IF(No_Races>AY$9-1,LARGE($I17:OFFSET($I17,0,No_Races-1),AY$7+$BT17+$BU17),0))","v":0},{"$f":"IF(No_Races=0,0,IF(No_Races>AZ$9-1,LARGE($I17:OFFSET($I17,0,No_Races-1),AZ$7+$BT17+$BU17),0))","v":0},{"$f":"IF(No_Races=0,0,IF(No_Races>BA$9-1,LARGE($I17:OFFSET($I17,0,No_Races-1),BA$7+$BT17+$BU17),0))","v":0},{"$f":"IF(No_Races=0,0,IF(No_Races>BB$9-1,LARGE($I17:OFFSET($I17,0,No_Races-1),BB$7+$BT17+$BU17),0))","v":0},{"$f":"IF(No_Races=0,0,IF(No_Races>BC$9-1,LARGE($I17:OFFSET($I17,0,No_Races-1),BC$7+$BT17+$BU17),0))","v":0},{"$f":"IF(No_Races=0,0,IF(No_Races>BD$9-1,LARGE($I17:OFFSET($I17,0,No_Races-1),BD$7+$BT17+$BU17),0))","v":0},{"$f":"IF(B17=\"\",\"\",G17/1000+INT((AX17-SUM(AY17:BD17))*1000)/1000+IF(COUNTIF(Summary!$D$7:$D$90,C17)<1,0,VLOOKUP(C17,Summary!$D$7:$F$90,3,FALSE)/10000))","v":""},"","","","","","","","","","","","","","",{"$f":"IF(B17=\"\",\"\",COUNTIF(I17:I17,'Race results'!$J$3)+COUNTIF(I17:I17,'Race results'!$K$3))","v":""},{"$f":"IF(B17=\"\",\"\",COUNTIF(J17:AW17,'Race results'!$J$2)+COUNTIF(J17:AW17,'Race results'!$K$2))","v":""},{"$f":"IF(No_Races=0,0,COUNT(I17:OFFSET(I17,0,No_Races-1)))","v":0}]
["",null,null,null,null,null,null,"","","","","","","","","","","","","","","","","","","","","","","","","","","","","","","","","","","","","","","","","","",{"$f":"IF(No_Races=0,0,SUM(I18:OFFSET(I18,0,No_Races-1)))","v":0},{"$f":"IF(No_Races=0,0,IF(No_Races>AY$9-1,LARGE($I18:OFFSET($I18,0,No_Races-1),AY$7+$BT18+$BU18),0))","v":0},{"$f":"IF(No_Races=0,0,IF(No_Races>AZ$9-1,LARGE($I18:OFFSET($I18,0,No_Races-1),AZ$7+$BT18+$BU18),0))","v":0},{"$f":"IF(No_Races=0,0,IF(No_Races>BA$9-1,LARGE($I18:OFFSET($I18,0,No_Races-1),BA$7+$BT18+$BU18),0))","v":0},{"$f":"IF(No_Races=0,0,IF(No_Races>BB$9-1,LARGE($I18:OFFSET($I18,0,No_Races-1),BB$7+$BT18+$BU18),0))","v":0},{"$f":"IF(No_Races=0,0,IF(No_Races>BC$9-1,LARGE($I18:OFFSET($I18,0,No_Races-1),BC$7+$BT18+$BU18),0))","v":0},{"$f":"IF(No_Races=0,0,IF(No_Races>BD$9-1,LARGE($I18:OFFSET($I18,0,No_Races-1),BD$7+$BT18+$BU18),0))","v":0},{"$f":"IF(B18=\"\",\"\",G18/1000+INT((AX18-SUM(AY18:BD18))*1000)/1000+IF(COUNTIF(Summary!$D$7:$D$90,C18)<1,0,VLOOKUP(C18,Summary!$D$7:$F$90,3,FALSE)/10000))","v":""},"","","","","","","","","","","","","","",{"$f":"IF(B18=\"\",\"\",COUNTIF(I18:I18,'Race results'!$J$3)+COUNTIF(I18:I18,'Race results'!$K$3))","v":""},{"$f":"IF(B18=\"\",\"\",COUNTIF(J18:AW18,'Race results'!$J$2)+COUNTIF(J18:AW18,'Race results'!$K$2))","v":""},{"$f":"IF(No_Races=0,0,COUNT(I18:OFFSET(I18,0,No_Races-1)))","v":0}]
["",null,null,null,null,null,null,"","","","","","","","","","","","","","","","","","","","","","","","","","","","","","","","","","","","","","","","","","",{"$f":"IF(No_Races=0,0,SUM(I19:OFFSET(I19,0,No_Races-1)))","v":0},{"$f":"IF(No_Races=0,0,IF(No_Races>AY$9-1,LARGE($I19:OFFSET($I19,0,No_Races-1),AY$7+$BT19+$BU19),0))","v":0},{"$f":"IF(No_Races=0,0,IF(No_Races>AZ$9-1,LARGE($I19:OFFSET($I19,0,No_Races-1),AZ$7+$BT19+$BU19),0))","v":0},{"$f":"IF(No_Races=0,0,IF(No_Races>BA$9-1,LARGE($I19:OFFSET($I19,0,No_Races-1),BA$7+$BT19+$BU19),0))","v":0},{"$f":"IF(No_Races=0,0,IF(No_Races>BB$9-1,LARGE($I19:OFFSET($I19,0,No_Races-1),BB$7+$BT19+$BU19),0))","v":0},{"$f":"IF(No_Races=0,0,IF(No_Races>BC$9-1,LARGE($I19:OFFSET($I19,0,No_Races-1),BC$7+$BT19+$BU19),0))","v":0},{"$f":"IF(No_Races=0,0,IF(No_Races>BD$9-1,LARGE($I19:OFFSET($I19,0,No_Races-1),BD$7+$BT19+$BU19),0))","v":0},{"$f":"IF(B19=\"\",\"\",G19/1000+INT((AX19-SUM(AY19:BD19))*1000)/1000+IF(COUNTIF(Summary!$D$7:$D$90,C19)<1,0,VLOOKUP(C19,Summary!$D$7:$F$90,3,FALSE)/10000))","v":""},"","","","","","","","","","","","","","",{"$f":"IF(B19=\"\",\"\",COUNTIF(I19:I19,'Race results'!$J$3)+COUNTIF(I19:I19,'Race results'!$K$3))","v":""},{"$f":"IF(B19=\"\",\"\",COUNTIF(J19:AW19,'Race results'!$J$2)+COUNTIF(J19:AW19,'Race results'!$K$2))","v":""},{"$f":"IF(No_Races=0,0,COUNT(I19:OFFSET(I19,0,No_Races-1)))","v":0}]
["",null,null,null,null,null,null,"","","","","","","","","","","","","","","","","","","","","","","","","","","","","","","","","","","","","","","","","","",{"$f":"IF(No_Races=0,0,SUM(I20:OFFSET(I20,0,No_Races-1)))","v":0},{"$f":"IF(No_Races=0,0,IF(No_Races>AY$9-1,LARGE($I20:OFFSET($I20,0,No_Races-1),AY$7+$BT20+$BU20),0))","v":0},{"$f":"IF(No_Races=0,0,IF(No_Races>AZ$9-1,LARGE($I20:OFFSET($I20,0,No_Races-1),AZ$7+$BT20+$BU20),0))","v":0},{"$f":"IF(No_Races=0,0,IF(No_Races>BA$9-1,LARGE($I20:OFFSET($I20,0,No_Races-1),BA$7+$BT20+$BU20),0))","v":0},{"$f":"IF(No_Races=0,0,IF(No_Races>BB$9-1,LARGE($I20:OFFSET($I20,0,No_Races-1),BB$7+$BT20+$BU20),0))","v":0},{"$f":"IF(No_Races=0,0,IF(No_Races>BC$9-1,LARGE($I20:OFFSET($I20,0,No_Races-1),BC$7+$BT20+$BU20),0))","v":0},{"$f":"IF(No_Races=0,0,IF(No_Races>BD$9-1,LARGE($I20:OFFSET($I20,0,No_Races-1),BD$7+$BT20+$BU20),0))","v":0},{"$f":"IF(B20=\"\",\"\",G20/1000+INT((AX20-SUM(AY20:BD20))*1000)/1000+IF(COUNTIF(Summary!$D$7:$D$90,C20)<1,0,VLOOKUP(C20,Summary!$D$7:$F$90,3,FALSE)/10000))","v":""},"","","","","","","","","","","","","","",{"$f":"IF(B20=\"\",\"\",COUNTIF(I20:I20,'Race results'!$J$3)+COUNTIF(I20:I20,'Race results'!$K$3))","v":""},{"$f":"IF(B20=\"\",\"\",COUNTIF(J20:AW20,'Race results'!$J$2)+COUNTIF(J20:AW20,'Race results'!$K$2))","v":""},{"$f":"IF(No_Races=0,0,COUNT(I20:OFFSET(I20,0,No_Races-1)))","v":0}]
["",null,null,null,null,null,null,"","","","","","","","","","","","","","","","","","","","","","","","","","","","","","","","","","","","","","","","","","",{"$f":"IF(No_Races=0,0,SUM(I21:OFFSET(I21,0,No_Races-1)))","v":0},{"$f":"IF(No_Races=0,0,IF(No_Races>AY$9-1,LARGE($I21:OFFSET($I21,0,No_Races-1),AY$7+$BT21+$BU21),0))","v":0},{"$f":"IF(No_Races=0,0,IF(No_Races>AZ$9-1,LARGE($I21:OFFSET($I21,0,No_Races-1),AZ$7+$BT21+$BU21),0))","v":0},{"$f":"IF(No_Races=0,0,IF(No_Races>BA$9-1,LARGE($I21:OFFSET($I21,0,No_Races-1),BA$7+$BT21+$BU21),0))","v":0},{"$f":"IF(No_Races=0,0,IF(No_Races>BB$9-1,LARGE($I21:OFFSET($I21,0,No_Races-1),BB$7+$BT21+$BU21),0))","v":0},{"$f":"IF(No_Races=0,0,IF(No_Races>BC$9-1,LARGE($I21:OFFSET($I21,0,No_Races-1),BC$7+$BT21+$BU21),0))","v":0},{"$f":"IF(No_Races=0,0,IF(No_Races>BD$9-1,LARGE($I21:OFFSET($I21,0,No_Races-1),BD$7+$BT21+$BU21),0))","v":0},{"$f":"IF(B21=\"\",\"\",G21/1000+INT((AX21-SUM(AY21:BD21))*1000)/1000+IF(COUNTIF(Summary!$D$7:$D$90,C21)<1,0,VLOOKUP(C21,Summary!$D$7:$F$90,3,FALSE)/10000))","v":""},"","","","","","","","","","","","","","",{"$f":"IF(B21=\"\",\"\",COUNTIF(I21:I21,'Race results'!$J$3)+COUNTIF(I21:I21,'Race results'!$K$3))","v":""},{"$f":"IF(B21=\"\",\"\",COUNTIF(J21:AW21,'Race results'!$J$2)+COUNTIF(J21:AW21,'Race results'!$K$2))","v":""},{"$f":"IF(No_Races=0,0,COUNT(I21:OFFSET(I21,0,No_Races-1)))","v":0}]
["",null,null,null,null,null,null,"","","","","","","","","","","","","","","","","","","","","","","","","","","","","","","","","","","","","","","","","","",{"$f":"IF(No_Races=0,0,SUM(I22:OFFSET(I22,0,No_Races-1)))","v":0},{"$f":"IF(No_Races=0,0,IF(No_Races>AY$9-1,LARGE($I22:OFFSET($I22,0,No_Races-1),AY$7+$BT22+$BU22),0))","v":0},{"$f":"IF(No_Races=0,0,IF(No_Races>AZ$9-1,LARGE($I22:OFFSET($I22,0,No_Races-1),AZ$7+$BT22+$BU22),0))","v":0},{"$f":"IF(No_Races=0,0,IF(No_Races>BA$9-1,LARGE($I22:OFFSET($I22,0,No_Races-1),BA$7+$BT22+$BU22),0))","v":0},{"$f":"IF(No_Races=0,0,IF(No_Races>BB$9-1,LARGE($I22:OFFSET($I22,0,No_Races-1),BB$7+$BT22+$BU22),0))","v":0},{"$f":"IF(No_Races=0,0,IF(No_Races>BC$9-1,LARGE($I22:OFFSET($I22,0,No_Races-1),BC$7+$BT22+$BU22),0))","v":0},{"$f":"IF(No_Races=0,0,IF(No_Races>BD$9-1,LARGE($I22:OFFSET($I22,0,No_Races-1),BD$7+$BT22+$BU22),0))","v":0},{"$f":"IF(B22=\"\",\"\",G22/1000+INT((AX22-SUM(AY22:BD22))*1000)/1000+IF(COUNTIF(Summary!$D$7:$D$90,C22)<1,0,VLOOKUP(C22,Summary!$D$7:$F$90,3,FALSE)/10000))","v":""},"","","","","","","","","","","","","","",{"$f":"IF(B22=\"\",\"\",COUNTIF(I22:I22,'Race results'!$J$3)+COUNTIF(I22:I22,'Race results'!$K$3))","v":""},{"$f":"IF(B22=\"\",\"\",COUNTIF(J22:AW22,'Race results'!$J$2)+COUNTIF(J22:AW22,'Race results'!$K$2))","v":""},{"$f":"IF(No_Races=0,0,COUNT(I22:OFFSET(I22,0,No_Races-1)))","v":0}]
["",null,null,null,null,null,null,"","","","","","","","","","","","","","","","","","","","","","","","","","","","","","","","","","","","","","","","","","",{"$f":"IF(No_Races=0,0,SUM(I23:OFFSET(I23,0,No_Races-1)))","v":0},{"$f":"IF(No_Races=0,0,IF(No_Races>AY$9-1,LARGE($I23:OFFSET($I23,0,No_Races-1),AY$7+$BT23+$BU23),0))","v":0},{"$f":"IF(No_Races=0,0,IF(No_Races>AZ$9-1,LARGE($I23:OFFSET($I23,0,No_Races-1),AZ$7+$BT23+$BU23),0))","v":0},{"$f":"IF(No_Races=0,0,IF(No_Races>BA$9-1,LARGE($I23:OFFSET($I23,0,No_Races-1),BA$7+$BT23+$BU23),0))","v":0},{"$f":"IF(No_Races=0,0,IF(No_Races>BB$9-1,LARGE($I23:OFFSET($I23,0,No_Races-1),BB$7+$BT23+$BU23),0))","v":0},{"$f":"IF(No_Races=0,0,IF(No_Races>BC$9-1,LARGE($I23:OFFSET($I23,0,No_Races-1),BC$7+$BT23+$BU23),0))","v":0},{"$f":"IF(No_Races=0,0,IF(No_Races>BD$9-1,LARGE($I23:OFFSET($I23,0,No_Races-1),BD$7+$BT23+$BU23),0))","v":0},{"$f":"IF(B23=\"\",\"\",G23/1000+INT((AX23-SUM(AY23:BD23))*1000)/1000+IF(COUNTIF(Summary!$D$7:$D$90,C23)<1,0,VLOOKUP(C23,Summary!$D$7:$F$90,3,FALSE)/10000))","v":""},"","","","","","","","","","","","","","",{"$f":"IF(B23=\"\",\"\",COUNTIF(I23:I23,'Race results'!$J$3)+COUNTIF(I23:I23,'Race results'!$K$3))","v":""},{"$f":"IF(B23=\"\",\"\",COUNTIF(J23:AW23,'Race results'!$J$2)+COUNTIF(J23:AW23,'Race results'!$K$2))","v":""},{"$f":"IF(No_Races=0,0,COUNT(I23:OFFSET(I23,0,No_Races-1)))","v":0}]
["",null,null,null,null,null,null,"","","","","","","","","","","","","","","","","","","","","","","","","","","","","","","","","","","","","","","","","","",{"$f":"IF(No_Races=0,0,SUM(I24:OFFSET(I24,0,No_Races-1)))","v":0},{"$f":"IF(No_Races=0,0,IF(No_Races>AY$9-1,LARGE($I24:OFFSET($I24,0,No_Races-1),AY$7+$BT24+$BU24),0))","v":0},{"$f":"IF(No_Races=0,0,IF(No_Races>AZ$9-1,LARGE($I24:OFFSET($I24,0,No_Races-1),AZ$7+$BT24+$BU24),0))","v":0},{"$f":"IF(No_Races=0,0,IF(No_Races>BA$9-1,LARGE($I24:OFFSET($I24,0,No_Races-1),BA$7+$BT24+$BU24),0))","v":0},{"$f":"IF(No_Races=0,0,IF(No_Races>BB$9-1,LARGE($I24:OFFSET($I24,0,No_Races-1),BB$7+$BT24+$BU24),0))","v":0},{"$f":"IF(No_Races=0,0,IF(No_Races>BC$9-1,LARGE($I24:OFFSET($I24,0,No_Races-1),BC$7+$BT24+$BU24),0))","v":0},{"$f":"IF(No_Races=0,0,IF(No_Races>BD$9-1,LARGE($I24:OFFSET($I24,0,No_Races-1),BD$7+$BT24+$BU24),0))","v":0},{"$f":"IF(B24=\"\",\"\",G24/1000+INT((AX24-SUM(AY24:BD24))*1000)/1000+IF(COUNTIF(Summary!$D$7:$D$90,C24)<1,0,VLOOKUP(C24,Summary!$D$7:$F$90,3,FALSE)/10000))","v":""},"","","","","","","","","","","","","","",{"$f":"IF(B24=\"\",\"\",COUNTIF(I24:I24,'Race results'!$J$3)+COUNTIF(I24:I24,'Race results'!$K$3))","v":""},{"$f":"IF(B24=\"\",\"\",COUNTIF(J24:AW24,'Race results'!$J$2)+COUNTIF(J24:AW24,'Race results'!$K$2))","v":""},{"$f":"IF(No_Races=0,0,COUNT(I24:OFFSET(I24,0,No_Races-1)))","v":0}]
["",null,null,null,null,null,null,"","","","","","","","","","","","","","","","","","","","","","","","","","","","","","","","","","","","","","","","","","",{"$f":"IF(No_Races=0,0,SUM(I25:OFFSET(I25,0,No_Races-1)))","v":0},{"$f":"IF(No_Races=0,0,IF(No_Races>AY$9-1,LARGE($I25:OFFSET($I25,0,No_Races-1),AY$7+$BT25+$BU25),0))","v":0},{"$f":"IF(No_Races=0,0,IF(No_Races>AZ$9-1,LARGE($I25:OFFSET($I25,0,No_Races-1),AZ$7+$BT25+$BU25),0))","v":0},{"$f":"IF(No_Races=0,0,IF(No_Races>BA$9-1,LARGE($I25:OFFSET($I25,0,No_Races-1),BA$7+$BT25+$BU25),0))","v":0},{"$f":"IF(No_Races=0,0,IF(No_Races>BB$9-1,LARGE($I25:OFFSET($I25,0,No_Races-1),BB$7+$BT25+$BU25),0))","v":0},{"$f":"IF(No_Races=0,0,IF(No_Races>BC$9-1,LARGE($I25:OFFSET($I25,0,No_Races-1),BC$7+$BT25+$BU25),0))","v":0},{"$f":"IF(No_Races=0,0,IF(No_Races>BD$9-1,LARGE($I25:OFFSET($I25,0,No_Races-1),BD$7+$BT25+$BU25),0))","v":0},{"$f":"IF(B25=\"\",\"\",G25/1000+INT((AX25-SUM(AY25:BD25))*1000)/1000+IF(COUNTIF(Summary!$D$7:$D$90,C25)<1,0,VLOOKUP(C25,Summary!$D$7:$F$90,3,FALSE)/10000))","v":""},"","","","","","","","","","","","","","",{"$f":"IF(B25=\"\",\"\",COUNTIF(I25:I25,'Race results'!$J$3)+COUNTIF(I25:I25,'Race results'!$K$3))","v":""},{"$f":"IF(B25=\"\",\"\",COUNTIF(J25:AW25,'Race results'!$J$2)+COUNTIF(J25:AW25,'Race results'!$K$2))","v":""},{"$f":"IF(No_Races=0,0,COUNT(I25:OFFSET(I25,0,No_Races-1)))","v":0}]
["",null,null,null,null,null,null,"","","","","","","","","","","","","","","","","","","","","","","","","","","","","","","","","","","","","","","","","","",{"$f":"IF(No_Races=0,0,SUM(I26:OFFSET(I26,0,No_Races-1)))","v":0},{"$f":"IF(No_Races=0,0,IF(No_Races>AY$9-1,LARGE($I26:OFFSET($I26,0,No_Races-1),AY$7+$BT26+$BU26),0))","v":0},{"$f":"IF(No_Races=0,0,IF(No_Races>AZ$9-1,LARGE($I26:OFFSET($I26,0,No_Races-1),AZ$7+$BT26+$BU26),0))","v":0},{"$f":"IF(No_Races=0,0,IF(No_Races>BA$9-1,LARGE($I26:OFFSET($I26,0,No_Races-1),BA$7+$BT26+$BU26),0))","v":0},{"$f":"IF(No_Races=0,0,IF(No_Races>BB$9-1,LARGE($I26:OFFSET($I26,0,No_Races-1),BB$7+$BT26+$BU26),0))","v":0},{"$f":"IF(No_Races=0,0,IF(No_Races>BC$9-1,LARGE($I26:OFFSET($I26,0,No_Races-1),BC$7+$BT26+$BU26),0))","v":0},{"$f":"IF(No_Races=0,0,IF(No_Races>BD$9-1,LARGE($I26:OFFSET($I26,0,No_Races-1),BD$7+$BT26+$BU26),0))","v":0},{"$f":"IF(B26=\"\",\"\",G26/1000+INT((AX26-SUM(AY26:BD26))*1000)/1000+IF(COUNTIF(Summary!$D$7:$D$90,C26)<1,0,VLOOKUP(C26,Summary!$D$7:$F$90,3,FALSE)/10000))","v":""},"","","","","","","","","","","","","","",{"$f":"IF(B26=\"\",\"\",COUNTIF(I26:I26,'Race results'!$J$3)+COUNTIF(I26:I26,'Race results'!$K$3))","v":""},{"$f":"IF(B26=\"\",\"\",COUNTIF(J26:AW26,'Race results'!$J$2)+COUNTIF(J26:AW26,'Race results'!$K$2))","v":""},{"$f":"IF(No_Races=0,0,COUNT(I26:OFFSET(I26,0,No_Races-1)))","v":0}]
["",null,null,null,null,null,null,"","","","","","","","","","","","","","","","","","","","","","","","","","","","","","","","","","","","","","","","","","",{"$f":"IF(No_Races=0,0,SUM(I27:OFFSET(I27,0,No_Races-1)))","v":0},{"$f":"IF(No_Races=0,0,IF(No_Races>AY$9-1,LARGE($I27:OFFSET($I27,0,No_Races-1),AY$7+$BT27+$BU27),0))","v":0},{"$f":"IF(No_Races=0,0,IF(No_Races>AZ$9-1,LARGE($I27:OFFSET($I27,0,No_Races-1),AZ$7+$BT27+$BU27),0))","v":0},{"$f":"IF(No_Races=0,0,IF(No_Races>BA$9-1,LARGE($I27:OFFSET($I27,0,No_Races-1),BA$7+$BT27+$BU27),0))","v":0},{"$f":"IF(No_Races=0,0,IF(No_Races>BB$9-1,LARGE($I27:OFFSET($I27,0,No_Races-1),BB$7+$BT27+$BU27),0))","v":0},{"$f":"IF(No_Races=0,0,IF(No_Races>BC$9-1,LARGE($I27:OFFSET($I27,0,No_Races-1),BC$7+$BT27+$BU27),0))","v":0},{"$f":"IF(No_Races=0,0,IF(No_Races>BD$9-1,LARGE($I27:OFFSET($I27,0,No_Races-1),BD$7+$BT27+$BU27),0))","v":0},{"$f":"IF(B27=\"\",\"\",G27/1000+INT((AX27-SUM(AY27:BD27))*1000)/1000+IF(COUNTIF(Summary!$D$7:$D$90,C27)<1,0,VLOOKUP(C27,Summary!$D$7:$F$90,3,FALSE)/10000))","v":""},"","","","","","","","","","","","","","",{"$f":"IF(B27=\"\",\"\",COUNTIF(I27:I27,'Race results'!$J$3)+COUNTIF(I27:I27,'Race results'!$K$3))","v":""},{"$f":"IF(B27=\"\",\"\",COUNTIF(J27:AW27,'Race results'!$J$2)+COUNTIF(J27:AW27,'Race results'!$K$2))","v":""},{"$f":"IF(No_Races=0,0,COUNT(I27:OFFSET(I27,0,No_Races-1)))","v":0}]
["",null,null,null,null,null,null,"","","","","","","","","","","","","","","","","","","","","","","","","","","","","","","","","","","","","","","","","","",{"$f":"IF(No_Races=0,0,SUM(I28:OFFSET(I28,0,No_Races-1)))","v":0},{"$f":"IF(No_Races=0,0,IF(No_Races>AY$9-1,LARGE($I28:OFFSET($I28,0,No_Races-1),AY$7+$BT28+$BU28),0))","v":0},{"$f":"IF(No_Races=0,0,IF(No_Races>AZ$9-1,LARGE($I28:OFFSET($I28,0,No_Races-1),AZ$7+$BT28+$BU28),0))","v":0},{"$f":"IF(No_Races=0,0,IF(No_Races>BA$9-1,LARGE($I28:OFFSET($I28,0,No_Races-1),BA$7+$BT28+$BU28),0))","v":0},{"$f":"IF(No_Races=0,0,IF(No_Races>BB$9-1,LARGE($I28:OFFSET($I28,0,No_Races-1),BB$7+$BT28+$BU28),0))","v":0},{"$f":"IF(No_Races=0,0,IF(No_Races>BC$9-1,LARGE($I28:OFFSET($I28,0,No_Races-1),BC$7+$BT28+$BU28),0))","v":0},{"$f":"IF(No_Races=0,0,IF(No_Races>BD$9-1,LARGE($I28:OFFSET($I28,0,No_Races-1),BD$7+$BT28+$BU28),0))","v":0},{"$f":"IF(B28=\"\",\"\",G28/1000+INT((AX28-SUM(AY28:BD28))*1000)/1000+IF(COUNTIF(Summary!$D$7:$D$90,C28)<1,0,VLOOKUP(C28,Summary!$D$7:$F$90,3,FALSE)/10000))","v":""},"","","","","","","","","","","","","","",{"$f":"IF(B28=\"\",\"\",COUNTIF(I28:I28,'Race results'!$J$3)+COUNTIF(I28:I28,'Race results'!$K$3))","v":""},{"$f":"IF(B28=\"\",\"\",COUNTIF(J28:AW28,'Race results'!$J$2)+COUNTIF(J28:AW28,'Race results'!$K$2))","v":""},{"$f":"IF(No_Races=0,0,COUNT(I28:OFFSET(I28,0,No_Races-1)))","v":0}]
["",null,null,null,null,null,null,"","","","","","","","","","","","","","","","","","","","","","","","","","","","","","","","","","","","","","","","","","",{"$f":"IF(No_Races=0,0,SUM(I29:OFFSET(I29,0,No_Races-1)))","v":0},{"$f":"IF(No_Races=0,0,IF(No_Races>AY$9-1,LARGE($I29:OFFSET($I29,0,No_Races-1),AY$7+$BT29+$BU29),0))","v":0},{"$f":"IF(No_Races=0,0,IF(No_Races>AZ$9-1,LARGE($I29:OFFSET($I29,0,No_Races-1),AZ$7+$BT29+$BU29),0))","v":0},{"$f":"IF(No_Races=0,0,IF(No_Races>BA$9-1,LARGE($I29:OFFSET($I29,0,No_Races-1),BA$7+$BT29+$BU29),0))","v":0},{"$f":"IF(No_Races=0,0,IF(No_Races>BB$9-1,LARGE($I29:OFFSET($I29,0,No_Races-1),BB$7+$BT29+$BU29),0))","v":0},{"$f":"IF(No_Races=0,0,IF(No_Races>BC$9-1,LARGE($I29:OFFSET($I29,0,No_Races-1),BC$7+$BT29+$BU29),0))","v":0},{"$f":"IF(No_Races=0,0,IF(No_Races>BD$9-1,LARGE($I29:OFFSET($I29,0,No_Races-1),BD$7+$BT29+$BU29),0))","v":0},{"$f":"IF(B29=\"\",\"\",G29/1000+INT((AX29-SUM(AY29:BD29))*1000)/1000+IF(COUNTIF(Summary!$D$7:$D$90,C29)<1,0,VLOOKUP(C29,Summary!$D$7:$F$90,3,FALSE)/10000))","v":""},"","","","","","","","","","","","","","",{"$f":"IF(B29=\"\",\"\",COUNTIF(I29:I29,'Race results'!$J$3)+COUNTIF(I29:I29,'Race results'!$K$3))","v":""},{"$f":"IF(B29=\"\",\"\",COUNTIF(J29:AW29,'Race results'!$J$2)+COUNTIF(J29:AW29,'Race results'!$K$2))","v":""},{"$f":"IF(No_Races=0,0,COUNT(I29:OFFSET(I29,0,No_Races-1)))","v":0}]
["",null,null,null,null,null,null,"","","","","","","","","","","","","","","","","","","","","","","","","","","","","","","","","","","","","","","","","","",{"$f":"IF(No_Races=0,0,SUM(I30:OFFSET(I30,0,No_Races-1)))","v":0},{"$f":"IF(No_Races=0,0,IF(No_Races>AY$9-1,LARGE($I30:OFFSET($I30,0,No_Races-1),AY$7+$BT30+$BU30),0))","v":0},{"$f":"IF(No_Races=0,0,IF(No_Races>AZ$9-1,LARGE($I30:OFFSET($I30,0,No_Races-1),AZ$7+$BT30+$BU30),0))","v":0},{"$f":"IF(No_Races=0,0,IF(No_Races>BA$9-1,LARGE($I30:OFFSET($I30,0,No_Races-1),BA$7+$BT30+$BU30),0))","v":0},{"$f":"IF(No_Races=0,0,IF(No_Races>BB$9-1,LARGE($I30:OFFSET($I30,0,No_Races-1),BB$7+$BT30+$BU30),0))","v":0},{"$f":"IF(No_Races=0,0,IF(No_Races>BC$9-1,LARGE($I30:OFFSET($I30,0,No_Races-1),BC$7+$BT30+$BU30),0))","v":0},{"$f":"IF(No_Races=0,0,IF(No_Races>BD$9-1,LARGE($I30:OFFSET($I30,0,No_Races-1),BD$7+$BT30+$BU30),0))","v":0},{"$f":"IF(B30=\"\",\"\",G30/1000+INT((AX30-SUM(AY30:BD30))*1000)/1000+IF(COUNTIF(Summary!$D$7:$D$90,C30)<1,0,VLOOKUP(C30,Summary!$D$7:$F$90,3,FALSE)/10000))","v":""},"","","","","","","","","","","","","","",{"$f":"IF(B30=\"\",\"\",COUNTIF(I30:I30,'Race results'!$J$3)+COUNTIF(I30:I30,'Race results'!$K$3))","v":""},{"$f":"IF(B30=\"\",\"\",COUNTIF(J30:AW30,'Race results'!$J$2)+COUNTIF(J30:AW30,'Race results'!$K$2))","v":""},{"$f":"IF(No_Races=0,0,COUNT(I30:OFFSET(I30,0,No_Races-1)))","v":0}]
["",null,null,null,null,null,null,"","","","","","","","","","","","","","","","","","","","","","","","","","","","","","","","","","","","","","","","","","",{"$f":"IF(No_Races=0,0,SUM(I31:OFFSET(I31,0,No_Races-1)))","v":0},{"$f":"IF(No_Races=0,0,IF(No_Races>AY$9-1,LARGE($I31:OFFSET($I31,0,No_Races-1),AY$7+$BT31+$BU31),0))","v":0},{"$f":"IF(No_Races=0,0,IF(No_Races>AZ$9-1,LARGE($I31:OFFSET($I31,0,No_Races-1),AZ$7+$BT31+$BU31),0))","v":0},{"$f":"IF(No_Races=0,0,IF(No_Races>BA$9-1,LARGE($I31:OFFSET($I31,0,No_Races-1),BA$7+$BT31+$BU31),0))","v":0},{"$f":"IF(No_Races=0,0,IF(No_Races>BB$9-1,LARGE($I31:OFFSET($I31,0,No_Races-1),BB$7+$BT31+$BU31),0))","v":0},{"$f":"IF(No_Races=0,0,IF(No_Races>BC$9-1,LARGE($I31:OFFSET($I31,0,No_Races-1),BC$7+$BT31+$BU31),0))","v":0},{"$f":"IF(No_Races=0,0,IF(No_Races>BD$9-1,LARGE($I31:OFFSET($I31,0,No_Races-1),BD$7+$BT31+$BU31),0))","v":0},{"$f":"IF(B31=\"\",\"\",G31/1000+INT((AX31-SUM(AY31:BD31))*1000)/1000+IF(COUNTIF(Summary!$D$7:$D$90,C31)<1,0,VLOOKUP(C31,Summary!$D$7:$F$90,3,FALSE)/10000))","v":""},"","","","","","","","","","","","","","",{"$f":"IF(B31=\"\",\"\",COUNTIF(I31:I31,'Race results'!$J$3)+COUNTIF(I31:I31,'Race results'!$K$3))","v":""},{"$f":"IF(B31=\"\",\"\",COUNTIF(J31:AW31,'Race results'!$J$2)+COUNTIF(J31:AW31,'Race results'!$K$2))","v":""},{"$f":"IF(No_Races=0,0,COUNT(I31:OFFSET(I31,0,No_Races-1)))","v":0}]
["",null,null,null,null,null,null,"","","","","","","","","","","","","","","","","","","","","","","","","","","","","","","","","","","","","","","","","","",{"$f":"IF(No_Races=0,0,SUM(I32:OFFSET(I32,0,No_Races-1)))","v":0},{"$f":"IF(No_Races=0,0,IF(No_Races>AY$9-1,LARGE($I32:OFFSET($I32,0,No_Races-1),AY$7+$BT32+$BU32),0))","v":0},{"$f":"IF(No_Races=0,0,IF(No_Races>AZ$9-1,LARGE($I32:OFFSET($I32,0,No_Races-1),AZ$7+$BT32+$BU32),0))","v":0},{"$f":"IF(No_Races=0,0,IF(No_Races>BA$9-1,LARGE($I32:OFFSET($I32,0,No_Races-1),BA$7+$BT32+$BU32),0))","v":0},{"$f":"IF(No_Races=0,0,IF(No_Races>BB$9-1,LARGE($I32:OFFSET($I32,0,No_Races-1),BB$7+$BT32+$BU32),0))","v":0},{"$f":"IF(No_Races=0,0,IF(No_Races>BC$9-1,LARGE($I32:OFFSET($I32,0,No_Races-1),BC$7+$BT32+$BU32),0))","v":0},{"$f":"IF(No_Races=0,0,IF(No_Races>BD$9-1,LARGE($I32:OFFSET($I32,0,No_Races-1),BD$7+$BT32+$BU32),0))","v":0},{"$f":"IF(B32=\"\",\"\",G32/1000+INT((AX32-SUM(AY32:BD32))*1000)/1000+IF(COUNTIF(Summary!$D$7:$D$90,C32)<1,0,VLOOKUP(C32,Summary!$D$7:$F$90,3,FALSE)/10000))","v":""},"","","","","","","","","","","","","","",{"$f":"IF(B32=\"\",\"\",COUNTIF(I32:I32,'Race results'!$J$3)+COUNTIF(I32:I32,'Race results'!$K$3))","v":""},{"$f":"IF(B32=\"\",\"\",COUNTIF(J32:AW32,'Race results'!$J$2)+COUNTIF(J32:AW32,'Race results'!$K$2))","v":""},{"$f":"IF(No_Races=0,0,COUNT(I32:OFFSET(I32,0,No_Races-1)))","v":0}]
["",null,null,null,null,null,null,"","","","","","","","","","","","","","","","","","","","","","","","","","","","","","","","","","","","","","","","","","",{"$f":"IF(No_Races=0,0,SUM(I33:OFFSET(I33,0,No_Races-1)))","v":0},{"$f":"IF(No_Races=0,0,IF(No_Races>AY$9-1,LARGE($I33:OFFSET($I33,0,No_Races-1),AY$7+$BT33+$BU33),0))","v":0},{"$f":"IF(No_Races=0,0,IF(No_Races>AZ$9-1,LARGE($I33:OFFSET($I33,0,No_Races-1),AZ$7+$BT33+$BU33),0))","v":0},{"$f":"IF(No_Races=0,0,IF(No_Races>BA$9-1,LARGE($I33:OFFSET($I33,0,No_Races-1),BA$7+$BT33+$BU33),0))","v":0},{"$f":"IF(No_Races=0,0,IF(No_Races>BB$9-1,LARGE($I33:OFFSET($I33,0,No_Races-1),BB$7+$BT33+$BU33),0))","v":0},{"$f":"IF(No_Races=0,0,IF(No_Races>BC$9-1,LARGE($I33:OFFSET($I33,0,No_Races-1),BC$7+$BT33+$BU33),0))","v":0},{"$f":"IF(No_Races=0,0,IF(No_Races>BD$9-1,LARGE($I33:OFFSET($I33,0,No_Races-1),BD$7+$BT33+$BU33),0))","v":0},{"$f":"IF(B33=\"\",\"\",G33/1000+INT((AX33-SUM(AY33:BD33))*1000)/1000+IF(COUNTIF(Summary!$D$7:$D$90,C33)<1,0,VLOOKUP(C33,Summary!$D$7:$F$90,3,FALSE)/10000))","v":""},"","","","","","","","","","","","","","",{"$f":"IF(B33=\"\",\"\",COUNTIF(I33:I33,'Race results'!$J$3)+COUNTIF(I33:I33,'Race results'!$K$3))","v":""},{"$f":"IF(B33=\"\",\"\",COUNTIF(J33:AW33,'Race results'!$J$2)+COUNTIF(J33:AW33,'Race results'!$K$2))","v":""},{"$f":"IF(No_Races=0,0,COUNT(I33:OFFSET(I33,0,No_Races-1)))","v":0}]
["",null,null,null,null,null,null,"","","","","","","","","","","","","","","","","","","","","","","","","","","","","","","","","","","","","","","","","","",{"$f":"IF(No_Races=0,0,SUM(I34:OFFSET(I34,0,No_Races-1)))","v":0},{"$f":"IF(No_Races=0,0,IF(No_Races>AY$9-1,LARGE($I34:OFFSET($I34,0,No_Races-1),AY$7+$BT34+$BU34),0))","v":0},{"$f":"IF(No_Races=0,0,IF(No_Races>AZ$9-1,LARGE($I34:OFFSET($I34,0,No_Races-1),AZ$7+$BT34+$BU34),0))","v":0},{"$f":"IF(No_Races=0,0,IF(No_Races>BA$9-1,LARGE($I34:OFFSET($I34,0,No_Races-1),BA$7+$BT34+$BU34),0))","v":0},{"$f":"IF(No_Races=0,0,IF(No_Races>BB$9-1,LARGE($I34:OFFSET($I34,0,No_Races-1),BB$7+$BT34+$BU34),0))","v":0},{"$f":"IF(No_Races=0,0,IF(No_Races>BC$9-1,LARGE($I34:OFFSET($I34,0,No_Races-1),BC$7+$BT34+$BU34),0))","v":0},{"$f":"IF(No_Races=0,0,IF(No_Races>BD$9-1,LARGE($I34:OFFSET($I34,0,No_Races-1),BD$7+$BT34+$BU34),0))","v":0},{"$f":"IF(B34=\"\",\"\",G34/1000+INT((AX34-SUM(AY34:BD34))*1000)/1000+IF(COUNTIF(Summary!$D$7:$D$90,C34)<1,0,VLOOKUP(C34,Summary!$D$7:$F$90,3,FALSE)/10000))","v":""},"","","","","","","","","","","","","","",{"$f":"IF(B34=\"\",\"\",COUNTIF(I34:I34,'Race results'!$J$3)+COUNTIF(I34:I34,'Race results'!$K$3))","v":""},{"$f":"IF(B34=\"\",\"\",COUNTIF(J34:AW34,'Race results'!$J$2)+COUNTIF(J34:AW34,'Race results'!$K$2))","v":""},{"$f":"IF(No_Races=0,0,COUNT(I34:OFFSET(I34,0,No_Races-1)))","v":0}]
["",null,null,null,null,null,null,"","","","","","","","","","","","","","","","","","","","","","","","","","","","","","","","","","","","","","","","","","",{"$f":"IF(No_Races=0,0,SUM(I35:OFFSET(I35,0,No_Races-1)))","v":0},{"$f":"IF(No_Races=0,0,IF(No_Races>AY$9-1,LARGE($I35:OFFSET($I35,0,No_Races-1),AY$7+$BT35+$BU35),0))","v":0},{"$f":"IF(No_Races=0,0,IF(No_Races>AZ$9-1,LARGE($I35:OFFSET($I35,0,No_Races-1),AZ$7+$BT35+$BU35),0))","v":0},{"$f":"IF(No_Races=0,0,IF(No_Races>BA$9-1,LARGE($I35:OFFSET($I35,0,No_Races-1),BA$7+$BT35+$BU35),0))","v":0},{"$f":"IF(No_Races=0,0,IF(No_Races>BB$9-1,LARGE($I35:OFFSET($I35,0,No_Races-1),BB$7+$BT35+$BU35),0))","v":0},{"$f":"IF(No_Races=0,0,IF(No_Races>BC$9-1,LARGE($I35:OFFSET($I35,0,No_Races-1),BC$7+$BT35+$BU35),0))","v":0},{"$f":"IF(No_Races=0,0,IF(No_Races>BD$9-1,LARGE($I35:OFFSET($I35,0,No_Races-1),BD$7+$BT35+$BU35),0))","v":0},{"$f":"IF(B35=\"\",\"\",G35/1000+INT((AX35-SUM(AY35:BD35))*1000)/1000+IF(COUNTIF(Summary!$D$7:$D$90,C35)<1,0,VLOOKUP(C35,Summary!$D$7:$F$90,3,FALSE)/10000))","v":""},"","","","","","","","","","","","","","",{"$f":"IF(B35=\"\",\"\",COUNTIF(I35:I35,'Race results'!$J$3)+COUNTIF(I35:I35,'Race results'!$K$3))","v":""},{"$f":"IF(B35=\"\",\"\",COUNTIF(J35:AW35,'Race results'!$J$2)+COUNTIF(J35:AW35,'Race results'!$K$2))","v":""},{"$f":"IF(No_Races=0,0,COUNT(I35:OFFSET(I35,0,No_Races-1)))","v":0}]
["",null,null,null,null,null,null,"","","","","","","","","","","","","","","","","","","","","","","","","","","","","","","","","","","","","","","","","","",{"$f":"IF(No_Races=0,0,SUM(I36:OFFSET(I36,0,No_Races-1)))","v":0},{"$f":"IF(No_Races=0,0,IF(No_Races>AY$9-1,LARGE($I36:OFFSET($I36,0,No_Races-1),AY$7+$BT36+$BU36),0))","v":0},{"$f":"IF(No_Races=0,0,IF(No_Races>AZ$9-1,LARGE($I36:OFFSET($I36,0,No_Races-1),AZ$7+$BT36+$BU36),0))","v":0},{"$f":"IF(No_Races=0,0,IF(No_Races>BA$9-1,LARGE($I36:OFFSET($I36,0,No_Races-1),BA$7+$BT36+$BU36),0))","v":0},{"$f":"IF(No_Races=0,0,IF(No_Races>BB$9-1,LARGE($I36:OFFSET($I36,0,No_Races-1),BB$7+$BT36+$BU36),0))","v":0},{"$f":"IF(No_Races=0,0,IF(No_Races>BC$9-1,LARGE($I36:OFFSET($I36,0,No_Races-1),BC$7+$BT36+$BU36),0))","v":0},{"$f":"IF(No_Races=0,0,IF(No_Races>BD$9-1,LARGE($I36:OFFSET($I36,0,No_Races-1),BD$7+$BT36+$BU36),0))","v":0},{"$f":"IF(B36=\"\",\"\",G36/1000+INT((AX36-SUM(AY36:BD36))*1000)/1000+IF(COUNTIF(Summary!$D$7:$D$90,C36)<1,0,VLOOKUP(C36,Summary!$D$7:$F$90,3,FALSE)/10000))","v":""},"","","","","","","","","","","","","","",{"$f":"IF(B36=\"\",\"\",COUNTIF(I36:I36,'Race results'!$J$3)+COUNTIF(I36:I36,'Race results'!$K$3))","v":""},{"$f":"IF(B36=\"\",\"\",COUNTIF(J36:AW36,'Race results'!$J$2)+COUNTIF(J36:AW36,'Race results'!$K$2))","v":""},{"$f":"IF(No_Races=0,0,COUNT(I36:OFFSET(I36,0,No_Races-1)))","v":0}]
["",null,null,null,null,null,null,"","","","","","","","","","","","","","","","","","","","","","","","","","","","","","","","","","","","","","","","","","",{"$f":"IF(No_Races=0,0,SUM(I37:OFFSET(I37,0,No_Races-1)))","v":0},{"$f":"IF(No_Races=0,0,IF(No_Races>AY$9-1,LARGE($I37:OFFSET($I37,0,No_Races-1),AY$7+$BT37+$BU37),0))","v":0},{"$f":"IF(No_Races=0,0,IF(No_Races>AZ$9-1,LARGE($I37:OFFSET($I37,0,No_Races-1),AZ$7+$BT37+$BU37),0))","v":0},{"$f":"IF(No_Races=0,0,IF(No_Races>BA$9-1,LARGE($I37:OFFSET($I37,0,No_Races-1),BA$7+$BT37+$BU37),0))","v":0},{"$f":"IF(No_Races=0,0,IF(No_Races>BB$9-1,LARGE($I37:OFFSET($I37,0,No_Races-1),BB$7+$BT37+$BU37),0))","v":0},{"$f":"IF(No_Races=0,0,IF(No_Races>BC$9-1,LARGE($I37:OFFSET($I37,0,No_Races-1),BC$7+$BT37+$BU37),0))","v":0},{"$f":"IF(No_Races=0,0,IF(No_Races>BD$9-1,LARGE($I37:OFFSET($I37,0,No_Races-1),BD$7+$BT37+$BU37),0))","v":0},{"$f":"IF(B37=\"\",\"\",G37/1000+INT((AX37-SUM(AY37:BD37))*1000)/1000+IF(COUNTIF(Summary!$D$7:$D$90,C37)<1,0,VLOOKUP(C37,Summary!$D$7:$F$90,3,FALSE)/10000))","v":""},"","","","","","","","","","","","","","",{"$f":"IF(B37=\"\",\"\",COUNTIF(I37:I37,'Race results'!$J$3)+COUNTIF(I37:I37,'Race results'!$K$3))","v":""},{"$f":"IF(B37=\"\",\"\",COUNTIF(J37:AW37,'Race results'!$J$2)+COUNTIF(J37:AW37,'Race results'!$K$2))","v":""},{"$f":"IF(No_Races=0,0,COUNT(I37:OFFSET(I37,0,No_Races-1)))","v":0}]
["",null,null,null,null,null,null,"","","","","","","","","","","","","","","","","","","","","","","","","","","","","","","","","","","","","","","","","","",{"$f":"IF(No_Races=0,0,SUM(I38:OFFSET(I38,0,No_Races-1)))","v":0},{"$f":"IF(No_Races=0,0,IF(No_Races>AY$9-1,LARGE($I38:OFFSET($I38,0,No_Races-1),AY$7+$BT38+$BU38),0))","v":0},{"$f":"IF(No_Races=0,0,IF(No_Races>AZ$9-1,LARGE($I38:OFFSET($I38,0,No_Races-1),AZ$7+$BT38+$BU38),0))","v":0},{"$f":"IF(No_Races=0,0,IF(No_Races>BA$9-1,LARGE($I38:OFFSET($I38,0,No_Races-1),BA$7+$BT38+$BU38),0))","v":0},{"$f":"IF(No_Races=0,0,IF(No_Races>BB$9-1,LARGE($I38:OFFSET($I38,0,No_Races-1),BB$7+$BT38+$BU38),0))","v":0},{"$f":"IF(No_Races=0,0,IF(No_Races>BC$9-1,LARGE($I38:OFFSET($I38,0,No_Races-1),BC$7+$BT38+$BU38),0))","v":0},{"$f":"IF(No_Races=0,0,IF(No_Races>BD$9-1,LARGE($I38:OFFSET($I38,0,No_Races-1),BD$7+$BT38+$BU38),0))","v":0},{"$f":"IF(B38=\"\",\"\",G38/1000+INT((AX38-SUM(AY38:BD38))*1000)/1000+IF(COUNTIF(Summary!$D$7:$D$90,C38)<1,0,VLOOKUP(C38,Summary!$D$7:$F$90,3,FALSE)/10000))","v":""},"","","","","","","","","","","","","","",{"$f":"IF(B38=\"\",\"\",COUNTIF(I38:I38,'Race results'!$J$3)+COUNTIF(I38:I38,'Race results'!$K$3))","v":""},{"$f":"IF(B38=\"\",\"\",COUNTIF(J38:AW38,'Race results'!$J$2)+COUNTIF(J38:AW38,'Race results'!$K$2))","v":""},{"$f":"IF(No_Races=0,0,COUNT(I38:OFFSET(I38,0,No_Races-1)))","v":0}]
["",null,null,null,null,null,null,"","","","","","","","","","","","","","","","","","","","","","","","","","","","","","","","","","","","","","","","","","",{"$f":"IF(No_Races=0,0,SUM(I39:OFFSET(I39,0,No_Races-1)))","v":0},{"$f":"IF(No_Races=0,0,IF(No_Races>AY$9-1,LARGE($I39:OFFSET($I39,0,No_Races-1),AY$7+$BT39+$BU39),0))","v":0},{"$f":"IF(No_Races=0,0,IF(No_Races>AZ$9-1,LARGE($I39:OFFSET($I39,0,No_Races-1),AZ$7+$BT39+$BU39),0))","v":0},{"$f":"IF(No_Races=0,0,IF(No_Races>BA$9-1,LARGE($I39:OFFSET($I39,0,No_Races-1),BA$7+$BT39+$BU39),0))","v":0},{"$f":"IF(No_Races=0,0,IF(No_Races>BB$9-1,LARGE($I39:OFFSET($I39,0,No_Races-1),BB$7+$BT39+$BU39),0))","v":0},{"$f":"IF(No_Races=0,0,IF(No_Races>BC$9-1,LARGE($I39:OFFSET($I39,0,No_Races-1),BC$7+$BT39+$BU39),0))","v":0},{"$f":"IF(No_Races=0,0,IF(No_Races>BD$9-1,LARGE($I39:OFFSET($I39,0,No_Races-1),BD$7+$BT39+$BU39),0))","v":0},{"$f":"IF(B39=\"\",\"\",G39/1000+INT((AX39-SUM(AY39:BD39))*1000)/1000+IF(COUNTIF(Summary!$D$7:$D$90,C39)<1,0,VLOOKUP(C39,Summary!$D$7:$F$90,3,FALSE)/10000))","v":""},"","","","","","","","","","","","","","",{"$f":"IF(B39=\"\",\"\",COUNTIF(I39:I39,'Race results'!$J$3)+COUNTIF(I39:I39,'Race results'!$K$3))","v":""},{"$f":"IF(B39=\"\",\"\",COUNTIF(J39:AW39,'Race results'!$J$2)+COUNTIF(J39:AW39,'Race results'!$K$2))","v":""},{"$f":"IF(No_Races=0,0,COUNT(I39:OFFSET(I39,0,No_Races-1)))","v":0}]
["",null,null,null,null,null,null,"","",{"$f":"IF(OR($C40=\"\",ISERROR(VLOOKUP($C40,Race02Results,3,FALSE))),\"\",VLOOKUP($C40,Race02Results,3,FALSE))","v":""},"","","","","","","","","","","","","","","","","","","","","","","","","","","","","","","","","","","","","","","",{"$f":"IF(No_Races=0,0,SUM(I40:OFFSET(I40,0,No_Races-1)))","v":0},{"$f":"IF(No_Races=0,0,IF(No_Races>AY$9-1,LARGE($I40:OFFSET($I40,0,No_Races-1),AY$7+$BT40+$BU40),0))","v":0},{"$f":"IF(No_Races=0,0,IF(No_Races>AZ$9-1,LARGE($I40:OFFSET($I40,0,No_Races-1),AZ$7+$BT40+$BU40),0))","v":0},{"$f":"IF(No_Races=0,0,IF(No_Races>BA$9-1,LARGE($I40:OFFSET($I40,0,No_Races-1),BA$7+$BT40+$BU40),0))","v":0},{"$f":"IF(No_Races=0,0,IF(No_Races>BB$9-1,LARGE($I40:OFFSET($I40,0,No_Races-1),BB$7+$BT40+$BU40),0))","v":0},{"$f":"IF(No_Races=0,0,IF(No_Races>BC$9-1,LARGE($I40:OFFSET($I40,0,No_Races-1),BC$7+$BT40+$BU40),0))","v":0},{"$f":"IF(No_Races=0,0,IF(No_Races>BD$9-1,LARGE($I40:OFFSET($I40,0,No_Races-1),BD$7+$BT40+$BU40),0))","v":0},{"$f":"IF(B40=\"\",\"\",G40/1000+INT((AX40-SUM(AY40:BD40))*1000)/1000+IF(COUNTIF(Summary!$D$7:$D$90,C40)<1,0,VLOOKUP(C40,Summary!$D$7:$F$90,3,FALSE)/10000))","v":""},"","","","","","","","","","","","","","",{"$f":"IF(B40=\"\",\"\",COUNTIF(I40:I40,'Race results'!$J$3)+COUNTIF(I40:I40,'Race results'!$K$3))","v":""},{"$f":"IF(B40=\"\",\"\",COUNTIF(J40:AW40,'Race results'!$J$2)+COUNTIF(J40:AW40,'Race results'!$K$2))","v":""},{"$f":"IF(No_Races=0,0,COUNT(I40:OFFSET(I40,0,No_Races-1)))","v":0}]
["",null,null,null,null,null,null,"","","","","","","","","","","","","","","","","","","","","","","","","","","","","","","","","","","","","","","","","","",{"$f":"IF(No_Races=0,0,SUM(I41:OFFSET(I41,0,No_Races-1)))","v":0},{"$f":"IF(No_Races=0,0,IF(No_Races>AY$9-1,LARGE($I41:OFFSET($I41,0,No_Races-1),AY$7+$BT41+$BU41),0))","v":0},{"$f":"IF(No_Races=0,0,IF(No_Races>AZ$9-1,LARGE($I41:OFFSET($I41,0,No_Races-1),AZ$7+$BT41+$BU41),0))","v":0},{"$f":"IF(No_Races=0,0,IF(No_Races>BA$9-1,LARGE($I41:OFFSET($I41,0,No_Races-1),BA$7+$BT41+$BU41),0))","v":0},{"$f":"IF(No_Races=0,0,IF(No_Races>BB$9-1,LARGE($I41:OFFSET($I41,0,No_Races-1),BB$7+$BT41+$BU41),0))","v":0},{"$f":"IF(No_Races=0,0,IF(No_Races>BC$9-1,LARGE($I41:OFFSET($I41,0,No_Races-1),BC$7+$BT41+$BU41),0))","v":0},{"$f":"IF(No_Races=0,0,IF(No_Races>BD$9-1,LARGE($I41:OFFSET($I41,0,No_Races-1),BD$7+$BT41+$BU41),0))","v":0},{"$f":"IF(B41=\"\",\"\",G41/1000+INT((AX41-SUM(AY41:BD41))*1000)/1000+IF(COUNTIF(Summary!$D$7:$D$90,C41)<1,0,VLOOKUP(C41,Summary!$D$7:$F$90,3,FALSE)/10000))","v":""},"","","","","","","","","","","","","","",{"$f":"IF(B41=\"\",\"\",COUNTIF(I41:I41,'Race results'!$J$3)+COUNTIF(I41:I41,'Race results'!$K$3))","v":""},{"$f":"IF(B41=\"\",\"\",COUNTIF(J41:AW41,'Race results'!$J$2)+COUNTIF(J41:AW41,'Race results'!$K$2))","v":""},{"$f":"IF(No_Races=0,0,COUNT(I41:OFFSET(I41,0,No_Races-1)))","v":0}]
["",null,null,null,null,null,null,"","","","","","","","","","","","","","","","","","","","","","","","","","","","","","","","","","","","","","","","","","",{"$f":"IF(No_Races=0,0,SUM(I42:OFFSET(I42,0,No_Races-1)))","v":0},{"$f":"IF(No_Races=0,0,IF(No_Races>AY$9-1,LARGE($I42:OFFSET($I42,0,No_Races-1),AY$7+$BT42+$BU42),0))","v":0},{"$f":"IF(No_Races=0,0,IF(No_Races>AZ$9-1,LARGE($I42:OFFSET($I42,0,No_Races-1),AZ$7+$BT42+$BU42),0))","v":0},{"$f":"IF(No_Races=0,0,IF(No_Races>BA$9-1,LARGE($I42:OFFSET($I42,0,No_Races-1),BA$7+$BT42+$BU42),0))","v":0},{"$f":"IF(No_Races=0,0,IF(No_Races>BB$9-1,LARGE($I42:OFFSET($I42,0,No_Races-1),BB$7+$BT42+$BU42),0))","v":0},{"$f":"IF(No_Races=0,0,IF(No_Races>BC$9-1,LARGE($I42:OFFSET($I42,0,No_Races-1),BC$7+$BT42+$BU42),0))","v":0},{"$f":"IF(No_Races=0,0,IF(No_Races>BD$9-1,LARGE($I42:OFFSET($I42,0,No_Races-1),BD$7+$BT42+$BU42),0))","v":0},{"$f":"IF(B42=\"\",\"\",G42/1000+INT((AX42-SUM(AY42:BD42))*1000)/1000+IF(COUNTIF(Summary!$D$7:$D$90,C42)<1,0,VLOOKUP(C42,Summary!$D$7:$F$90,3,FALSE)/10000))","v":""},{"$f":"IF(B42 = \"\", \"\",RANK(BE42,BE$10:BE$93,1))","v":""},{"$f":"IF($B42=\"\",\"\",IF($BT$9>0,IF(No_Races<1,\"\",SMALL($I42:$AW42,1)),IF(No_Races<2,\"\",SMALL($J42:$AW42,1))))","v":""},{"$f":"IF($B42=\"\",\"\",IF($BT$9>0,IF(No_Races<2,\"\",SMALL($I42:$AW42,2)),IF(No_Races<3,\"\",SMALL($J42:$AW42,2))))","v":""},{"$f":"IF($B42=\"\",\"\",IF($BT$9>0,IF(No_Races<3,\"\",SMALL($I42:$AW42,3)),IF(No_Races<4,\"\",SMALL($J42:$AW42,3))))","v":""},{"$f":"IF($B42=\"\",\"\",IF($BT$9>0,IF(No_Races<4,\"\",SMALL($I42:$AW42,4)),IF(No_Races<5,\"\",SMALL($J42:$AW42,4))))","v":""},{"$f":"IF($B42=\"\",\"\",IF($BT$9>0,IF(No_Races<5,\"\",SMALL($I42:$AW42,5)),IF(No_Races<6,\"\",SMALL($J42:$AW42,5))))","v":""},{"$f":"IF($B42=\"\",\"\",IF($BT$9>0,IF(No_Races<6,\"\",SMALL($I42:$AW42,6)),IF(No_Races<7,\"\",SMALL($J42:$AW42,6))))","v":""},{"$f":"IF($B42=\"\",\"\",IF($BT$9>0,IF(No_Races<7,\"\",SMALL($I42:$AW42,7)),IF(No_Races<8,\"\",SMALL($J42:$AW42,7))))","v":""},{"$f":"IF($B42=\"\",\"\",IF($BT$9>0,IF(No_Races<8,\"\",SMALL($I42:$AW42,8)),IF(No_Races<9,\"\",SMALL($J42:$AW42,8))))","v":""},{"$f":"IF($B42=\"\",\"\",IF($BT$9>0,IF(No_Races<9,\"\",SMALL($I42:$AW42,9)),IF(No_Races<10,\"\",SMALL($J42:$AW42,9))))","v":""},{"$f":"IF($B42=\"\",\"\",IF($BT$9>0,IF(No_Races<10,\"\",SMALL($I42:$AW42,10)),IF(No_Races<11,\"\",SMALL($J42:$AW42,10))))","v":""},"","",{"$f":"IF($BS$9=\"\",\"\",IF(B42=\"\",\"\",IF($BS$9<30,CHOOSE($BS$9,I42,J42,K42,L42,M42,N42,O42,P42,Q42,R42,S42,T42,U42,V42,W42,X42,Y42,Z42,AA42,AB42,AC42,AD42,AE42,AF42,AG42,AH42,AI42,AJ42,AK42),CHOOSE($BS$9-29,AL42,AM42,AN42,AO42,AP42,AQ42,AR42,AS42,AT42,AU42,AV42,AW42))))","v":""},{"$f":"IF(B42=\"\",\"\",COUNTIF(I42:I42,'Race results'!$J$3)+COUNTIF(I42:I42,'Race results'!$K$3))","v":""},{"$f":"IF(B42=\"\",\"\",COUNTIF(J42:AW42,'Race results'!$J$2)+COUNTIF(J42:AW42,'Race results'!$K$2))","v":""},{"$f":"IF(No_Races=0,0,COUNT(I42:OFFSET(I42,0,No_Races-1)))","v":0}]
["",null,null,null,null,null,null,"","","","","","","","","","","","","","","","","","","","","","","","","","","","","","","","","","","","","","","","","","",{"$f":"IF(No_Races=0,0,SUM(I43:OFFSET(I43,0,No_Races-1)))","v":0},{"$f":"IF(No_Races=0,0,IF(No_Races>AY$9-1,LARGE($I43:OFFSET($I43,0,No_Races-1),AY$7+$BT43+$BU43),0))","v":0},{"$f":"IF(No_Races=0,0,IF(No_Races>AZ$9-1,LARGE($I43:OFFSET($I43,0,No_Races-1),AZ$7+$BT43+$BU43),0))","v":0},{"$f":"IF(No_Races=0,0,IF(No_Races>BA$9-1,LARGE($I43:OFFSET($I43,0,No_Races-1),BA$7+$BT43+$BU43),0))","v":0},{"$f":"IF(No_Races=0,0,IF(No_Races>BB$9-1,LARGE($I43:OFFSET($I43,0,No_Races-1),BB$7+$BT43+$BU43),0))","v":0},{"$f":"IF(No_Races=0,0,IF(No_Races>BC$9-1,LARGE($I43:OFFSET($I43,0,No_Races-1),BC$7+$BT43+$BU43),0))","v":0},{"$f":"IF(No_Races=0,0,IF(No_Races>BD$9-1,LARGE($I43:OFFSET($I43,0,No_Races-1),BD$7+$BT43+$BU43),0))","v":0},{"$f":"IF(B43=\"\",\"\",G43/1000+INT((AX43-SUM(AY43:BD43))*1000)/1000+IF(COUNTIF(Summary!$D$7:$D$90,C43)<1,0,VLOOKUP(C43,Summary!$D$7:$F$90,3,FALSE)/10000))","v":""},"","","","","","","","","","","","","","",{"$f":"IF(B43=\"\",\"\",COUNTIF(I43:I43,'Race results'!$J$3)+COUNTIF(I43:I43,'Race results'!$K$3))","v":""},{"$f":"IF(B43=\"\",\"\",COUNTIF(J43:AW43,'Race results'!$J$2)+COUNTIF(J43:AW43,'Race results'!$K$2))","v":""},{"$f":"IF(No_Races=0,0,COUNT(I43:OFFSET(I43,0,No_Races-1)))","v":0}]
["",null,null,null,null,null,null,"","","","","","","","","","","","","","","","","","","","","","","","","","","","","","","","","","","","","","","","","","",{"$f":"IF(No_Races=0,0,SUM(I44:OFFSET(I44,0,No_Races-1)))","v":0},{"$f":"IF(No_Races=0,0,IF(No_Races>AY$9-1,LARGE($I44:OFFSET($I44,0,No_Races-1),AY$7+$BT44+$BU44),0))","v":0},{"$f":"IF(No_Races=0,0,IF(No_Races>AZ$9-1,LARGE($I44:OFFSET($I44,0,No_Races-1),AZ$7+$BT44+$BU44),0))","v":0},{"$f":"IF(No_Races=0,0,IF(No_Races>BA$9-1,LARGE($I44:OFFSET($I44,0,No_Races-1),BA$7+$BT44+$BU44),0))","v":0},{"$f":"IF(No_Races=0,0,IF(No_Races>BB$9-1,LARGE($I44:OFFSET($I44,0,No_Races-1),BB$7+$BT44+$BU44),0))","v":0},{"$f":"IF(No_Races=0,0,IF(No_Races>BC$9-1,LARGE($I44:OFFSET($I44,0,No_Races-1),BC$7+$BT44+$BU44),0))","v":0},{"$f":"IF(No_Races=0,0,IF(No_Races>BD$9-1,LARGE($I44:OFFSET($I44,0,No_Races-1),BD$7+$BT44+$BU44),0))","v":0},{"$f":"IF(B44=\"\",\"\",G44/1000+INT((AX44-SUM(AY44:BD44))*1000)/1000+IF(COUNTIF(Summary!$D$7:$D$90,C44)<1,0,VLOOKUP(C44,Summary!$D$7:$F$90,3,FALSE)/10000))","v":""},"","","","","","","","","","","","","","",{"$f":"IF(B44=\"\",\"\",COUNTIF(I44:I44,'Race results'!$J$3)+COUNTIF(I44:I44,'Race results'!$K$3))","v":""},{"$f":"IF(B44=\"\",\"\",COUNTIF(J44:AW44,'Race results'!$J$2)+COUNTIF(J44:AW44,'Race results'!$K$2))","v":""},{"$f":"IF(No_Races=0,0,COUNT(I44:OFFSET(I44,0,No_Races-1)))","v":0}]
["",null,null,null,null,null,null,"","","","","","","","","","","","","","","","","","","","","","","","","","","","","","","","","","","","","","","","","","",{"$f":"IF(No_Races=0,0,SUM(I45:OFFSET(I45,0,No_Races-1)))","v":0},{"$f":"IF(No_Races=0,0,IF(No_Races>AY$9-1,LARGE($I45:OFFSET($I45,0,No_Races-1),AY$7+$BT45+$BU45),0))","v":0},{"$f":"IF(No_Races=0,0,IF(No_Races>AZ$9-1,LARGE($I45:OFFSET($I45,0,No_Races-1),AZ$7+$BT45+$BU45),0))","v":0},{"$f":"IF(No_Races=0,0,IF(No_Races>BA$9-1,LARGE($I45:OFFSET($I45,0,No_Races-1),BA$7+$BT45+$BU45),0))","v":0},{"$f":"IF(No_Races=0,0,IF(No_Races>BB$9-1,LARGE($I45:OFFSET($I45,0,No_Races-1),BB$7+$BT45+$BU45),0))","v":0},{"$f":"IF(No_Races=0,0,IF(No_Races>BC$9-1,LARGE($I45:OFFSET($I45,0,No_Races-1),BC$7+$BT45+$BU45),0))","v":0},{"$f":"IF(No_Races=0,0,IF(No_Races>BD$9-1,LARGE($I45:OFFSET($I45,0,No_Races-1),BD$7+$BT45+$BU45),0))","v":0},{"$f":"IF(B45=\"\",\"\",G45/1000+INT((AX45-SUM(AY45:BD45))*1000)/1000+IF(COUNTIF(Summary!$D$7:$D$90,C45)<1,0,VLOOKUP(C45,Summary!$D$7:$F$90,3,FALSE)/10000))","v":""},"","","","","","","","","","","","","","",{"$f":"IF(B45=\"\",\"\",COUNTIF(I45:I45,'Race results'!$J$3)+COUNTIF(I45:I45,'Race results'!$K$3))","v":""},{"$f":"IF(B45=\"\",\"\",COUNTIF(J45:AW45,'Race results'!$J$2)+COUNTIF(J45:AW45,'Race results'!$K$2))","v":""},{"$f":"IF(No_Races=0,0,COUNT(I45:OFFSET(I45,0,No_Races-1)))","v":0}]
["",null,null,null,null,null,null,"","","","","","","","","","","","","","","","","","","","","","","","","","","","","","","","","","","","","","","","","","",{"$f":"IF(No_Races=0,0,SUM(I46:OFFSET(I46,0,No_Races-1)))","v":0},{"$f":"IF(No_Races=0,0,IF(No_Races>AY$9-1,LARGE($I46:OFFSET($I46,0,No_Races-1),AY$7+$BT46+$BU46),0))","v":0},{"$f":"IF(No_Races=0,0,IF(No_Races>AZ$9-1,LARGE($I46:OFFSET($I46,0,No_Races-1),AZ$7+$BT46+$BU46),0))","v":0},{"$f":"IF(No_Races=0,0,IF(No_Races>BA$9-1,LARGE($I46:OFFSET($I46,0,No_Races-1),BA$7+$BT46+$BU46),0))","v":0},{"$f":"IF(No_Races=0,0,IF(No_Races>BB$9-1,LARGE($I46:OFFSET($I46,0,No_Races-1),BB$7+$BT46+$BU46),0))","v":0},{"$f":"IF(No_Races=0,0,IF(No_Races>BC$9-1,LARGE($I46:OFFSET($I46,0,No_Races-1),BC$7+$BT46+$BU46),0))","v":0},{"$f":"IF(No_Races=0,0,IF(No_Races>BD$9-1,LARGE($I46:OFFSET($I46,0,No_Races-1),BD$7+$BT46+$BU46),0))","v":0},{"$f":"IF(B46=\"\",\"\",G46/1000+INT((AX46-SUM(AY46:BD46))*1000)/1000+IF(COUNTIF(Summary!$D$7:$D$90,C46)<1,0,VLOOKUP(C46,Summary!$D$7:$F$90,3,FALSE)/10000))","v":""},"","","","","","","","","","","","","","",{"$f":"IF(B46=\"\",\"\",COUNTIF(I46:I46,'Race results'!$J$3)+COUNTIF(I46:I46,'Race results'!$K$3))","v":""},{"$f":"IF(B46=\"\",\"\",COUNTIF(J46:AW46,'Race results'!$J$2)+COUNTIF(J46:AW46,'Race results'!$K$2))","v":""},{"$f":"IF(No_Races=0,0,COUNT(I46:OFFSET(I46,0,No_Races-1)))","v":0}]
["",null,null,null,null,null,null,"","","","","","","","","","","","","","","","","","","","","","","","","","","","","","","","","","","","","","","","","","",{"$f":"IF(No_Races=0,0,SUM(I47:OFFSET(I47,0,No_Races-1)))","v":0},{"$f":"IF(No_Races=0,0,IF(No_Races>AY$9-1,LARGE($I47:OFFSET($I47,0,No_Races-1),AY$7+$BT47+$BU47),0))","v":0},{"$f":"IF(No_Races=0,0,IF(No_Races>AZ$9-1,LARGE($I47:OFFSET($I47,0,No_Races-1),AZ$7+$BT47+$BU47),0))","v":0},{"$f":"IF(No_Races=0,0,IF(No_Races>BA$9-1,LARGE($I47:OFFSET($I47,0,No_Races-1),BA$7+$BT47+$BU47),0))","v":0},{"$f":"IF(No_Races=0,0,IF(No_Races>BB$9-1,LARGE($I47:OFFSET($I47,0,No_Races-1),BB$7+$BT47+$BU47),0))","v":0},{"$f":"IF(No_Races=0,0,IF(No_Races>BC$9-1,LARGE($I47:OFFSET($I47,0,No_Races-1),BC$7+$BT47+$BU47),0))","v":0},{"$f":"IF(No_Races=0,0,IF(No_Races>BD$9-1,LARGE($I47:OFFSET($I47,0,No_Races-1),BD$7+$BT47+$BU47),0))","v":0},{"$f":"IF(B47=\"\",\"\",G47/1000+INT((AX47-SUM(AY47:BD47))*1000)/1000+IF(COUNTIF(Summary!$D$7:$D$90,C47)<1,0,VLOOKUP(C47,Summary!$D$7:$F$90,3,FALSE)/10000))","v":""},"","","","","","","","","","","","","","",{"$f":"IF(B47=\"\",\"\",COUNTIF(I47:I47,'Race results'!$J$3)+COUNTIF(I47:I47,'Race results'!$K$3))","v":""},{"$f":"IF(B47=\"\",\"\",COUNTIF(J47:AW47,'Race results'!$J$2)+COUNTIF(J47:AW47,'Race results'!$K$2))","v":""},{"$f":"IF(No_Races=0,0,COUNT(I47:OFFSET(I47,0,No_Races-1)))","v":0}]
["",null,null,null,null,null,null,"","","","","","","","","","","","","","","","","","","","","","","","","","","","","","","","","","","","","","","","","","",{"$f":"IF(No_Races=0,0,SUM(I48:OFFSET(I48,0,No_Races-1)))","v":0},{"$f":"IF(No_Races=0,0,IF(No_Races>AY$9-1,LARGE($I48:OFFSET($I48,0,No_Races-1),AY$7+$BT48+$BU48),0))","v":0},{"$f":"IF(No_Races=0,0,IF(No_Races>AZ$9-1,LARGE($I48:OFFSET($I48,0,No_Races-1),AZ$7+$BT48+$BU48),0))","v":0},{"$f":"IF(No_Races=0,0,IF(No_Races>BA$9-1,LARGE($I48:OFFSET($I48,0,No_Races-1),BA$7+$BT48+$BU48),0))","v":0},{"$f":"IF(No_Races=0,0,IF(No_Races>BB$9-1,LARGE($I48:OFFSET($I48,0,No_Races-1),BB$7+$BT48+$BU48),0))","v":0},{"$f":"IF(No_Races=0,0,IF(No_Races>BC$9-1,LARGE($I48:OFFSET($I48,0,No_Races-1),BC$7+$BT48+$BU48),0))","v":0},{"$f":"IF(No_Races=0,0,IF(No_Races>BD$9-1,LARGE($I48:OFFSET($I48,0,No_Races-1),BD$7+$BT48+$BU48),0))","v":0},{"$f":"IF(B48=\"\",\"\",G48/1000+INT((AX48-SUM(AY48:BD48))*1000)/1000+IF(COUNTIF(Summary!$D$7:$D$90,C48)<1,0,VLOOKUP(C48,Summary!$D$7:$F$90,3,FALSE)/10000))","v":""},"","","","","","","","","","","","","","",{"$f":"IF(B48=\"\",\"\",COUNTIF(I48:I48,'Race results'!$J$3)+COUNTIF(I48:I48,'Race results'!$K$3))","v":""},{"$f":"IF(B48=\"\",\"\",COUNTIF(J48:AW48,'Race results'!$J$2)+COUNTIF(J48:AW48,'Race results'!$K$2))","v":""},{"$f":"IF(No_Races=0,0,COUNT(I48:OFFSET(I48,0,No_Races-1)))","v":0}]
["",null,null,null,null,null,null,"","","","","","","","","","","","","","","","","","","","","","","","","","","","","","","","","","","","","","","","","","",{"$f":"IF(No_Races=0,0,SUM(I49:OFFSET(I49,0,No_Races-1)))","v":0},{"$f":"IF(No_Races=0,0,IF(No_Races>AY$9-1,LARGE($I49:OFFSET($I49,0,No_Races-1),AY$7+$BT49+$BU49),0))","v":0},{"$f":"IF(No_Races=0,0,IF(No_Races>AZ$9-1,LARGE($I49:OFFSET($I49,0,No_Races-1),AZ$7+$BT49+$BU49),0))","v":0},{"$f":"IF(No_Races=0,0,IF(No_Races>BA$9-1,LARGE($I49:OFFSET($I49,0,No_Races-1),BA$7+$BT49+$BU49),0))","v":0},{"$f":"IF(No_Races=0,0,IF(No_Races>BB$9-1,LARGE($I49:OFFSET($I49,0,No_Races-1),BB$7+$BT49+$BU49),0))","v":0},{"$f":"IF(No_Races=0,0,IF(No_Races>BC$9-1,LARGE($I49:OFFSET($I49,0,No_Races-1),BC$7+$BT49+$BU49),0))","v":0},{"$f":"IF(No_Races=0,0,IF(No_Races>BD$9-1,LARGE($I49:OFFSET($I49,0,No_Races-1),BD$7+$BT49+$BU49),0))","v":0},{"$f":"IF(B49=\"\",\"\",G49/1000+INT((AX49-SUM(AY49:BD49))*1000)/1000+IF(COUNTIF(Summary!$D$7:$D$90,C49)<1,0,VLOOKUP(C49,Summary!$D$7:$F$90,3,FALSE)/10000))","v":""},"","","","","","","","","","","","","","",{"$f":"IF(B49=\"\",\"\",COUNTIF(I49:I49,'Race results'!$J$3)+COUNTIF(I49:I49,'Race results'!$K$3))","v":""},{"$f":"IF(B49=\"\",\"\",COUNTIF(J49:AW49,'Race results'!$J$2)+COUNTIF(J49:AW49,'Race results'!$K$2))","v":""},{"$f":"IF(No_Races=0,0,COUNT(I49:OFFSET(I49,0,No_Races-1)))","v":0}]
["",null,null,null,null,null,null,"","","","","","","","","","","","","","","","","","","","","","","","","","","","","","","","","","","","","","","","","","",{"$f":"IF(No_Races=0,0,SUM(I50:OFFSET(I50,0,No_Races-1)))","v":0},{"$f":"IF(No_Races=0,0,IF(No_Races>AY$9-1,LARGE($I50:OFFSET($I50,0,No_Races-1),AY$7+$BT50+$BU50),0))","v":0},{"$f":"IF(No_Races=0,0,IF(No_Races>AZ$9-1,LARGE($I50:OFFSET($I50,0,No_Races-1),AZ$7+$BT50+$BU50),0))","v":0},{"$f":"IF(No_Races=0,0,IF(No_Races>BA$9-1,LARGE($I50:OFFSET($I50,0,No_Races-1),BA$7+$BT50+$BU50),0))","v":0},{"$f":"IF(No_Races=0,0,IF(No_Races>BB$9-1,LARGE($I50:OFFSET($I50,0,No_Races-1),BB$7+$BT50+$BU50),0))","v":0},{"$f":"IF(No_Races=0,0,IF(No_Races>BC$9-1,LARGE($I50:OFFSET($I50,0,No_Races-1),BC$7+$BT50+$BU50),0))","v":0},{"$f":"IF(No_Races=0,0,IF(No_Races>BD$9-1,LARGE($I50:OFFSET($I50,0,No_Races-1),BD$7+$BT50+$BU50),0))","v":0},{"$f":"IF(B50=\"\",\"\",G50/1000+INT((AX50-SUM(AY50:BD50))*1000)/1000+IF(COUNTIF(Summary!$D$7:$D$90,C50)<1,0,VLOOKUP(C50,Summary!$D$7:$F$90,3,FALSE)/10000))","v":""},"","","","","","","","","","","","","","",{"$f":"IF(B50=\"\",\"\",COUNTIF(I50:I50,'Race results'!$J$3)+COUNTIF(I50:I50,'Race results'!$K$3))","v":""},{"$f":"IF(B50=\"\",\"\",COUNTIF(J50:AW50,'Race results'!$J$2)+COUNTIF(J50:AW50,'Race results'!$K$2))","v":""},{"$f":"IF(No_Races=0,0,COUNT(I50:OFFSET(I50,0,No_Races-1)))","v":0}]
["",null,null,null,null,null,null,"","","","","","","","","","","","","","","","","","","","","","","","","","","","","","","","","","","","","","","","","","",{"$f":"IF(No_Races=0,0,SUM(I51:OFFSET(I51,0,No_Races-1)))","v":0},{"$f":"IF(No_Races=0,0,IF(No_Races>AY$9-1,LARGE($I51:OFFSET($I51,0,No_Races-1),AY$7+$BT51+$BU51),0))","v":0},{"$f":"IF(No_Races=0,0,IF(No_Races>AZ$9-1,LARGE($I51:OFFSET($I51,0,No_Races-1),AZ$7+$BT51+$BU51),0))","v":0},{"$f":"IF(No_Races=0,0,IF(No_Races>BA$9-1,LARGE($I51:OFFSET($I51,0,No_Races-1),BA$7+$BT51+$BU51),0))","v":0},{"$f":"IF(No_Races=0,0,IF(No_Races>BB$9-1,LARGE($I51:OFFSET($I51,0,No_Races-1),BB$7+$BT51+$BU51),0))","v":0},{"$f":"IF(No_Races=0,0,IF(No_Races>BC$9-1,LARGE($I51:OFFSET($I51,0,No_Races-1),BC$7+$BT51+$BU51),0))","v":0},{"$f":"IF(No_Races=0,0,IF(No_Races>BD$9-1,LARGE($I51:OFFSET($I51,0,No_Races-1),BD$7+$BT51+$BU51),0))","v":0},{"$f":"IF(B51=\"\",\"\",G51/1000+INT((AX51-SUM(AY51:BD51))*1000)/1000+IF(COUNTIF(Summary!$D$7:$D$90,C51)<1,0,VLOOKUP(C51,Summary!$D$7:$F$90,3,FALSE)/10000))","v":""},"","","","","","","","","","","","","","",{"$f":"IF(B51=\"\",\"\",COUNTIF(I51:I51,'Race results'!$J$3)+COUNTIF(I51:I51,'Race results'!$K$3))","v":""},{"$f":"IF(B51=\"\",\"\",COUNTIF(J51:AW51,'Race results'!$J$2)+COUNTIF(J51:AW51,'Race results'!$K$2))","v":""},{"$f":"IF(No_Races=0,0,COUNT(I51:OFFSET(I51,0,No_Races-1)))","v":0}]
["",null,null,null,null,null,null,"","","","","","","","","","","","","","","","","","","","","","","","","","","","","","","","","","","","","","","","","","",{"$f":"IF(No_Races=0,0,SUM(I52:OFFSET(I52,0,No_Races-1)))","v":0},{"$f":"IF(No_Races=0,0,IF(No_Races>AY$9-1,LARGE($I52:OFFSET($I52,0,No_Races-1),AY$7+$BT52+$BU52),0))","v":0},{"$f":"IF(No_Races=0,0,IF(No_Races>AZ$9-1,LARGE($I52:OFFSET($I52,0,No_Races-1),AZ$7+$BT52+$BU52),0))","v":0},{"$f":"IF(No_Races=0,0,IF(No_Races>BA$9-1,LARGE($I52:OFFSET($I52,0,No_Races-1),BA$7+$BT52+$BU52),0))","v":0},{"$f":"IF(No_Races=0,0,IF(No_Races>BB$9-1,LARGE($I52:OFFSET($I52,0,No_Races-1),BB$7+$BT52+$BU52),0))","v":0},{"$f":"IF(No_Races=0,0,IF(No_Races>BC$9-1,LARGE($I52:OFFSET($I52,0,No_Races-1),BC$7+$BT52+$BU52),0))","v":0},{"$f":"IF(No_Races=0,0,IF(No_Races>BD$9-1,LARGE($I52:OFFSET($I52,0,No_Races-1),BD$7+$BT52+$BU52),0))","v":0},{"$f":"IF(B52=\"\",\"\",G52/1000+INT((AX52-SUM(AY52:BD52))*1000)/1000+IF(COUNTIF(Summary!$D$7:$D$90,C52)<1,0,VLOOKUP(C52,Summary!$D$7:$F$90,3,FALSE)/10000))","v":""},"","","","","","","","","","","","","","",{"$f":"IF(B52=\"\",\"\",COUNTIF(I52:I52,'Race results'!$J$3)+COUNTIF(I52:I52,'Race results'!$K$3))","v":""},{"$f":"IF(B52=\"\",\"\",COUNTIF(J52:AW52,'Race results'!$J$2)+COUNTIF(J52:AW52,'Race results'!$K$2))","v":""},{"$f":"IF(No_Races=0,0,COUNT(I52:OFFSET(I52,0,No_Races-1)))","v":0}]
["",null,null,null,null,null,null,"","","","","","","","","","","","","","","","","","","","","","","","","","","","","","","","","","","","","","","","","","",{"$f":"IF(No_Races=0,0,SUM(I53:OFFSET(I53,0,No_Races-1)))","v":0},{"$f":"IF(No_Races=0,0,IF(No_Races>AY$9-1,LARGE($I53:OFFSET($I53,0,No_Races-1),AY$7+$BT53+$BU53),0))","v":0},{"$f":"IF(No_Races=0,0,IF(No_Races>AZ$9-1,LARGE($I53:OFFSET($I53,0,No_Races-1),AZ$7+$BT53+$BU53),0))","v":0},{"$f":"IF(No_Races=0,0,IF(No_Races>BA$9-1,LARGE($I53:OFFSET($I53,0,No_Races-1),BA$7+$BT53+$BU53),0))","v":0},{"$f":"IF(No_Races=0,0,IF(No_Races>BB$9-1,LARGE($I53:OFFSET($I53,0,No_Races-1),BB$7+$BT53+$BU53),0))","v":0},{"$f":"IF(No_Races=0,0,IF(No_Races>BC$9-1,LARGE($I53:OFFSET($I53,0,No_Races-1),BC$7+$BT53+$BU53),0))","v":0},{"$f":"IF(No_Races=0,0,IF(No_Races>BD$9-1,LARGE($I53:OFFSET($I53,0,No_Races-1),BD$7+$BT53+$BU53),0))","v":0},{"$f":"IF(B53=\"\",\"\",G53/1000+INT((AX53-SUM(AY53:BD53))*1000)/1000+IF(COUNTIF(Summary!$D$7:$D$90,C53)<1,0,VLOOKUP(C53,Summary!$D$7:$F$90,3,FALSE)/10000))","v":""},"","","","","","","","","","","","","","",{"$f":"IF(B53=\"\",\"\",COUNTIF(I53:I53,'Race results'!$J$3)+COUNTIF(I53:I53,'Race results'!$K$3))","v":""},{"$f":"IF(B53=\"\",\"\",COUNTIF(J53:AW53,'Race results'!$J$2)+COUNTIF(J53:AW53,'Race results'!$K$2))","v":""},{"$f":"IF(No_Races=0,0,COUNT(I53:OFFSET(I53,0,No_Races-1)))","v":0}]
["",null,null,null,null,null,null,"","","","","","","","","","","","","","","","","","","","","","","","","","","","","","","","","","","","","","","","","","",{"$f":"IF(No_Races=0,0,SUM(I54:OFFSET(I54,0,No_Races-1)))","v":0},{"$f":"IF(No_Races=0,0,IF(No_Races>AY$9-1,LARGE($I54:OFFSET($I54,0,No_Races-1),AY$7+$BT54+$BU54),0))","v":0},{"$f":"IF(No_Races=0,0,IF(No_Races>AZ$9-1,LARGE($I54:OFFSET($I54,0,No_Races-1),AZ$7+$BT54+$BU54),0))","v":0},{"$f":"IF(No_Races=0,0,IF(No_Races>BA$9-1,LARGE($I54:OFFSET($I54,0,No_Races-1),BA$7+$BT54+$BU54),0))","v":0},{"$f":"IF(No_Races=0,0,IF(No_Races>BB$9-1,LARGE($I54:OFFSET($I54,0,No_Races-1),BB$7+$BT54+$BU54),0))","v":0},{"$f":"IF(No_Races=0,0,IF(No_Races>BC$9-1,LARGE($I54:OFFSET($I54,0,No_Races-1),BC$7+$BT54+$BU54),0))","v":0},{"$f":"IF(No_Races=0,0,IF(No_Races>BD$9-1,LARGE($I54:OFFSET($I54,0,No_Races-1),BD$7+$BT54+$BU54),0))","v":0},{"$f":"IF(B54=\"\",\"\",G54/1000+INT((AX54-SUM(AY54:BD54))*1000)/1000+IF(COUNTIF(Summary!$D$7:$D$90,C54)<1,0,VLOOKUP(C54,Summary!$D$7:$F$90,3,FALSE)/10000))","v":""},"","","","","","","","","","","","","","",{"$f":"IF(B54=\"\",\"\",COUNTIF(I54:I54,'Race results'!$J$3)+COUNTIF(I54:I54,'Race results'!$K$3))","v":""},{"$f":"IF(B54=\"\",\"\",COUNTIF(J54:AW54,'Race results'!$J$2)+COUNTIF(J54:AW54,'Race results'!$K$2))","v":""},{"$f":"IF(No_Races=0,0,COUNT(I54:OFFSET(I54,0,No_Races-1)))","v":0}]
["",null,null,null,null,null,null,"","","","","","","","","","","","","","","","","","","","","","","","","","","","","","","","","","","","","","","","","","",{"$f":"IF(No_Races=0,0,SUM(I55:OFFSET(I55,0,No_Races-1)))","v":0},{"$f":"IF(No_Races=0,0,IF(No_Races>AY$9-1,LARGE($I55:OFFSET($I55,0,No_Races-1),AY$7+$BT55+$BU55),0))","v":0},{"$f":"IF(No_Races=0,0,IF(No_Races>AZ$9-1,LARGE($I55:OFFSET($I55,0,No_Races-1),AZ$7+$BT55+$BU55),0))","v":0},{"$f":"IF(No_Races=0,0,IF(No_Races>BA$9-1,LARGE($I55:OFFSET($I55,0,No_Races-1),BA$7+$BT55+$BU55),0))","v":0},{"$f":"IF(No_Races=0,0,IF(No_Races>BB$9-1,LARGE($I55:OFFSET($I55,0,No_Races-1),BB$7+$BT55+$BU55),0))","v":0},{"$f":"IF(No_Races=0,0,IF(No_Races>BC$9-1,LARGE($I55:OFFSET($I55,0,No_Races-1),BC$7+$BT55+$BU55),0))","v":0},{"$f":"IF(No_Races=0,0,IF(No_Races>BD$9-1,LARGE($I55:OFFSET($I55,0,No_Races-1),BD$7+$BT55+$BU55),0))","v":0},{"$f":"IF(B55=\"\",\"\",G55/1000+INT((AX55-SUM(AY55:BD55))*1000)/1000+IF(COUNTIF(Summary!$D$7:$D$90,C55)<1,0,VLOOKUP(C55,Summary!$D$7:$F$90,3,FALSE)/10000))","v":""},"","","","","","","","","","","","","","",{"$f":"IF(B55=\"\",\"\",COUNTIF(I55:I55,'Race results'!$J$3)+COUNTIF(I55:I55,'Race results'!$K$3))","v":""},{"$f":"IF(B55=\"\",\"\",COUNTIF(J55:AW55,'Race results'!$J$2)+COUNTIF(J55:AW55,'Race results'!$K$2))","v":""},{"$f":"IF(No_Races=0,0,COUNT(I55:OFFSET(I55,0,No_Races-1)))","v":0}]
["",null,null,null,null,null,null,"","","","","","","","","","","","","","","","","","","","","","","","","","","","","","","","","","","","","","","","","","",{"$f":"IF(No_Races=0,0,SUM(I56:OFFSET(I56,0,No_Races-1)))","v":0},{"$f":"IF(No_Races=0,0,IF(No_Races>AY$9-1,LARGE($I56:OFFSET($I56,0,No_Races-1),AY$7+$BT56+$BU56),0))","v":0},{"$f":"IF(No_Races=0,0,IF(No_Races>AZ$9-1,LARGE($I56:OFFSET($I56,0,No_Races-1),AZ$7+$BT56+$BU56),0))","v":0},{"$f":"IF(No_Races=0,0,IF(No_Races>BA$9-1,LARGE($I56:OFFSET($I56,0,No_Races-1),BA$7+$BT56+$BU56),0))","v":0},{"$f":"IF(No_Races=0,0,IF(No_Races>BB$9-1,LARGE($I56:OFFSET($I56,0,No_Races-1),BB$7+$BT56+$BU56),0))","v":0},{"$f":"IF(No_Races=0,0,IF(No_Races>BC$9-1,LARGE($I56:OFFSET($I56,0,No_Races-1),BC$7+$BT56+$BU56),0))","v":0},{"$f":"IF(No_Races=0,0,IF(No_Races>BD$9-1,LARGE($I56:OFFSET($I56,0,No_Races-1),BD$7+$BT56+$BU56),0))","v":0},{"$f":"IF(B56=\"\",\"\",G56/1000+INT((AX56-SUM(AY56:BD56))*1000)/1000+IF(COUNTIF(Summary!$D$7:$D$90,C56)<1,0,VLOOKUP(C56,Summary!$D$7:$F$90,3,FALSE)/10000))","v":""},"","","","","","","","","","","","","","",{"$f":"IF(B56=\"\",\"\",COUNTIF(I56:I56,'Race results'!$J$3)+COUNTIF(I56:I56,'Race results'!$K$3))","v":""},{"$f":"IF(B56=\"\",\"\",COUNTIF(J56:AW56,'Race results'!$J$2)+COUNTIF(J56:AW56,'Race results'!$K$2))","v":""},{"$f":"IF(No_Races=0,0,COUNT(I56:OFFSET(I56,0,No_Races-1)))","v":0}]
["",null,null,null,null,null,null,"","","","","","","","","","","","","","","","","","","","","","","","","","","","","","","","","","","","","","","","","","",{"$f":"IF(No_Races=0,0,SUM(I57:OFFSET(I57,0,No_Races-1)))","v":0},{"$f":"IF(No_Races=0,0,IF(No_Races>AY$9-1,LARGE($I57:OFFSET($I57,0,No_Races-1),AY$7+$BT57+$BU57),0))","v":0},{"$f":"IF(No_Races=0,0,IF(No_Races>AZ$9-1,LARGE($I57:OFFSET($I57,0,No_Races-1),AZ$7+$BT57+$BU57),0))","v":0},{"$f":"IF(No_Races=0,0,IF(No_Races>BA$9-1,LARGE($I57:OFFSET($I57,0,No_Races-1),BA$7+$BT57+$BU57),0))","v":0},{"$f":"IF(No_Races=0,0,IF(No_Races>BB$9-1,LARGE($I57:OFFSET($I57,0,No_Races-1),BB$7+$BT57+$BU57),0))","v":0},{"$f":"IF(No_Races=0,0,IF(No_Races>BC$9-1,LARGE($I57:OFFSET($I57,0,No_Races-1),BC$7+$BT57+$BU57),0))","v":0},{"$f":"IF(No_Races=0,0,IF(No_Races>BD$9-1,LARGE($I57:OFFSET($I57,0,No_Races-1),BD$7+$BT57+$BU57),0))","v":0},{"$f":"IF(B57=\"\",\"\",G57/1000+INT((AX57-SUM(AY57:BD57))*1000)/1000+IF(COUNTIF(Summary!$D$7:$D$90,C57)<1,0,VLOOKUP(C57,Summary!$D$7:$F$90,3,FALSE)/10000))","v":""},"","","","","","","","","","","","","","",{"$f":"IF(B57=\"\",\"\",COUNTIF(I57:I57,'Race results'!$J$3)+COUNTIF(I57:I57,'Race results'!$K$3))","v":""},{"$f":"IF(B57=\"\",\"\",COUNTIF(J57:AW57,'Race results'!$J$2)+COUNTIF(J57:AW57,'Race results'!$K$2))","v":""},{"$f":"IF(No_Races=0,0,COUNT(I57:OFFSET(I57,0,No_Races-1)))","v":0}]
["",null,null,null,null,null,null,"","","","","","","","","","","","","","","","","","","","","","","","","","","","","","","","","","","","","","","","","","",{"$f":"IF(No_Races=0,0,SUM(I58:OFFSET(I58,0,No_Races-1)))","v":0},{"$f":"IF(No_Races=0,0,IF(No_Races>AY$9-1,LARGE($I58:OFFSET($I58,0,No_Races-1),AY$7+$BT58+$BU58),0))","v":0},{"$f":"IF(No_Races=0,0,IF(No_Races>AZ$9-1,LARGE($I58:OFFSET($I58,0,No_Races-1),AZ$7+$BT58+$BU58),0))","v":0},{"$f":"IF(No_Races=0,0,IF(No_Races>BA$9-1,LARGE($I58:OFFSET($I58,0,No_Races-1),BA$7+$BT58+$BU58),0))","v":0},{"$f":"IF(No_Races=0,0,IF(No_Races>BB$9-1,LARGE($I58:OFFSET($I58,0,No_Races-1),BB$7+$BT58+$BU58),0))","v":0},{"$f":"IF(No_Races=0,0,IF(No_Races>BC$9-1,LARGE($I58:OFFSET($I58,0,No_Races-1),BC$7+$BT58+$BU58),0))","v":0},{"$f":"IF(No_Races=0,0,IF(No_Races>BD$9-1,LARGE($I58:OFFSET($I58,0,No_Races-1),BD$7+$BT58+$BU58),0))","v":0},{"$f":"IF(B58=\"\",\"\",G58/1000+INT((AX58-SUM(AY58:BD58))*1000)/1000+IF(COUNTIF(Summary!$D$7:$D$90,C58)<1,0,VLOOKUP(C58,Summary!$D$7:$F$90,3,FALSE)/10000))","v":""},"","","","","","","","","","","","","","",{"$f":"IF(B58=\"\",\"\",COUNTIF(I58:I58,'Race results'!$J$3)+COUNTIF(I58:I58,'Race results'!$K$3))","v":""},{"$f":"IF(B58=\"\",\"\",COUNTIF(J58:AW58,'Race results'!$J$2)+COUNTIF(J58:AW58,'Race results'!$K$2))","v":""},{"$f":"IF(No_Races=0,0,COUNT(I58:OFFSET(I58,0,No_Races-1)))","v":0}]
["",null,null,null,null,null,null,"","","","","","","","","","","","","","","","","","","","","","","","","","","","","","","","","","","","","","","","","","",{"$f":"IF(No_Races=0,0,SUM(I59:OFFSET(I59,0,No_Races-1)))","v":0},{"$f":"IF(No_Races=0,0,IF(No_Races>AY$9-1,LARGE($I59:OFFSET($I59,0,No_Races-1),AY$7+$BT59+$BU59),0))","v":0},{"$f":"IF(No_Races=0,0,IF(No_Races>AZ$9-1,LARGE($I59:OFFSET($I59,0,No_Races-1),AZ$7+$BT59+$BU59),0))","v":0},{"$f":"IF(No_Races=0,0,IF(No_Races>BA$9-1,LARGE($I59:OFFSET($I59,0,No_Races-1),BA$7+$BT59+$BU59),0))","v":0},{"$f":"IF(No_Races=0,0,IF(No_Races>BB$9-1,LARGE($I59:OFFSET($I59,0,No_Races-1),BB$7+$BT59+$BU59),0))","v":0},{"$f":"IF(No_Races=0,0,IF(No_Races>BC$9-1,LARGE($I59:OFFSET($I59,0,No_Races-1),BC$7+$BT59+$BU59),0))","v":0},{"$f":"IF(No_Races=0,0,IF(No_Races>BD$9-1,LARGE($I59:OFFSET($I59,0,No_Races-1),BD$7+$BT59+$BU59),0))","v":0},{"$f":"IF(B59=\"\",\"\",G59/1000+INT((AX59-SUM(AY59:BD59))*1000)/1000+IF(COUNTIF(Summary!$D$7:$D$90,C59)<1,0,VLOOKUP(C59,Summary!$D$7:$F$90,3,FALSE)/10000))","v":""},"","","","","","","","","","","","","","",{"$f":"IF(B59=\"\",\"\",COUNTIF(I59:I59,'Race results'!$J$3)+COUNTIF(I59:I59,'Race results'!$K$3))","v":""},{"$f":"IF(B59=\"\",\"\",COUNTIF(J59:AW59,'Race results'!$J$2)+COUNTIF(J59:AW59,'Race results'!$K$2))","v":""},{"$f":"IF(No_Races=0,0,COUNT(I59:OFFSET(I59,0,No_Races-1)))","v":0}]
["",null,null,null,null,null,null,"","","","","","","","","","","","","","","","","","","","","","","","","","","","","","","","","","","","","","","","","","",{"$f":"IF(No_Races=0,0,SUM(I60:OFFSET(I60,0,No_Races-1)))","v":0},{"$f":"IF(No_Races=0,0,IF(No_Races>AY$9-1,LARGE($I60:OFFSET($I60,0,No_Races-1),AY$7+$BT60+$BU60),0))","v":0},{"$f":"IF(No_Races=0,0,IF(No_Races>AZ$9-1,LARGE($I60:OFFSET($I60,0,No_Races-1),AZ$7+$BT60+$BU60),0))","v":0},{"$f":"IF(No_Races=0,0,IF(No_Races>BA$9-1,LARGE($I60:OFFSET($I60,0,No_Races-1),BA$7+$BT60+$BU60),0))","v":0},{"$f":"IF(No_Races=0,0,IF(No_Races>BB$9-1,LARGE($I60:OFFSET($I60,0,No_Races-1),BB$7+$BT60+$BU60),0))","v":0},{"$f":"IF(No_Races=0,0,IF(No_Races>BC$9-1,LARGE($I60:OFFSET($I60,0,No_Races-1),BC$7+$BT60+$BU60),0))","v":0},{"$f":"IF(No_Races=0,0,IF(No_Races>BD$9-1,LARGE($I60:OFFSET($I60,0,No_Races-1),BD$7+$BT60+$BU60),0))","v":0},{"$f":"IF(B60=\"\",\"\",G60/1000+INT((AX60-SUM(AY60:BD60))*1000)/1000+IF(COUNTIF(Summary!$D$7:$D$90,C60)<1,0,VLOOKUP(C60,Summary!$D$7:$F$90,3,FALSE)/10000))","v":""},"","","","","","","","","","","","","","",{"$f":"IF(B60=\"\",\"\",COUNTIF(I60:I60,'Race results'!$J$3)+COUNTIF(I60:I60,'Race results'!$K$3))","v":""},{"$f":"IF(B60=\"\",\"\",COUNTIF(J60:AW60,'Race results'!$J$2)+COUNTIF(J60:AW60,'Race results'!$K$2))","v":""},{"$f":"IF(No_Races=0,0,COUNT(I60:OFFSET(I60,0,No_Races-1)))","v":0}]
["",null,null,null,null,null,null,"","","","","","","","","","","","","","","","","","","","","","","","","","","","","","","","","","","","","","","","","","",{"$f":"IF(No_Races=0,0,SUM(I61:OFFSET(I61,0,No_Races-1)))","v":0},{"$f":"IF(No_Races=0,0,IF(No_Races>AY$9-1,LARGE($I61:OFFSET($I61,0,No_Races-1),AY$7+$BT61+$BU61),0))","v":0},{"$f":"IF(No_Races=0,0,IF(No_Races>AZ$9-1,LARGE($I61:OFFSET($I61,0,No_Races-1),AZ$7+$BT61+$BU61),0))","v":0},{"$f":"IF(No_Races=0,0,IF(No_Races>BA$9-1,LARGE($I61:OFFSET($I61,0,No_Races-1),BA$7+$BT61+$BU61),0))","v":0},{"$f":"IF(No_Races=0,0,IF(No_Races>BB$9-1,LARGE($I61:OFFSET($I61,0,No_Races-1),BB$7+$BT61+$BU61),0))","v":0},{"$f":"IF(No_Races=0,0,IF(No_Races>BC$9-1,LARGE($I61:OFFSET($I61,0,No_Races-1),BC$7+$BT61+$BU61),0))","v":0},{"$f":"IF(No_Races=0,0,IF(No_Races>BD$9-1,LARGE($I61:OFFSET($I61,0,No_Races-1),BD$7+$BT61+$BU61),0))","v":0},{"$f":"IF(B61=\"\",\"\",G61/1000+INT((AX61-SUM(AY61:BD61))*1000)/1000+IF(COUNTIF(Summary!$D$7:$D$90,C61)<1,0,VLOOKUP(C61,Summary!$D$7:$F$90,3,FALSE)/10000))","v":""},"","","","","","","","","","","","","","",{"$f":"IF(B61=\"\",\"\",COUNTIF(I61:I61,'Race results'!$J$3)+COUNTIF(I61:I61,'Race results'!$K$3))","v":""},{"$f":"IF(B61=\"\",\"\",COUNTIF(J61:AW61,'Race results'!$J$2)+COUNTIF(J61:AW61,'Race results'!$K$2))","v":""},{"$f":"IF(No_Races=0,0,COUNT(I61:OFFSET(I61,0,No_Races-1)))","v":0}]
["",null,null,null,null,null,null,"","","","","","","","","","","","","","","","","","","","","","","","","","","","","","","","","","","","","","","","","","",{"$f":"IF(No_Races=0,0,SUM(I62:OFFSET(I62,0,No_Races-1)))","v":0},{"$f":"IF(No_Races=0,0,IF(No_Races>AY$9-1,LARGE($I62:OFFSET($I62,0,No_Races-1),AY$7+$BT62+$BU62),0))","v":0},{"$f":"IF(No_Races=0,0,IF(No_Races>AZ$9-1,LARGE($I62:OFFSET($I62,0,No_Races-1),AZ$7+$BT62+$BU62),0))","v":0},{"$f":"IF(No_Races=0,0,IF(No_Races>BA$9-1,LARGE($I62:OFFSET($I62,0,No_Races-1),BA$7+$BT62+$BU62),0))","v":0},{"$f":"IF(No_Races=0,0,IF(No_Races>BB$9-1,LARGE($I62:OFFSET($I62,0,No_Races-1),BB$7+$BT62+$BU62),0))","v":0},{"$f":"IF(No_Races=0,0,IF(No_Races>BC$9-1,LARGE($I62:OFFSET($I62,0,No_Races-1),BC$7+$BT62+$BU62),0))","v":0},{"$f":"IF(No_Races=0,0,IF(No_Races>BD$9-1,LARGE($I62:OFFSET($I62,0,No_Races-1),BD$7+$BT62+$BU62),0))","v":0},{"$f":"IF(B62=\"\",\"\",G62/1000+INT((AX62-SUM(AY62:BD62))*1000)/1000+IF(COUNTIF(Summary!$D$7:$D$90,C62)<1,0,VLOOKUP(C62,Summary!$D$7:$F$90,3,FALSE)/10000))","v":""},"","","","","","","","","","","","","","",{"$f":"IF(B62=\"\",\"\",COUNTIF(I62:I62,'Race results'!$J$3)+COUNTIF(I62:I62,'Race results'!$K$3))","v":""},{"$f":"IF(B62=\"\",\"\",COUNTIF(J62:AW62,'Race results'!$J$2)+COUNTIF(J62:AW62,'Race results'!$K$2))","v":""},{"$f":"IF(No_Races=0,0,COUNT(I62:OFFSET(I62,0,No_Races-1)))","v":0}]
["",null,null,null,null,null,null,"","","","","","","","","","","","","","","","","","","","","","","","","","","","","","","","","","","","","","","","","","",{"$f":"IF(No_Races=0,0,SUM(I63:OFFSET(I63,0,No_Races-1)))","v":0},{"$f":"IF(No_Races=0,0,IF(No_Races>AY$9-1,LARGE($I63:OFFSET($I63,0,No_Races-1),AY$7+$BT63+$BU63),0))","v":0},{"$f":"IF(No_Races=0,0,IF(No_Races>AZ$9-1,LARGE($I63:OFFSET($I63,0,No_Races-1),AZ$7+$BT63+$BU63),0))","v":0},{"$f":"IF(No_Races=0,0,IF(No_Races>BA$9-1,LARGE($I63:OFFSET($I63,0,No_Races-1),BA$7+$BT63+$BU63),0))","v":0},{"$f":"IF(No_Races=0,0,IF(No_Races>BB$9-1,LARGE($I63:OFFSET($I63,0,No_Races-1),BB$7+$BT63+$BU63),0))","v":0},{"$f":"IF(No_Races=0,0,IF(No_Races>BC$9-1,LARGE($I63:OFFSET($I63,0,No_Races-1),BC$7+$BT63+$BU63),0))","v":0},{"$f":"IF(No_Races=0,0,IF(No_Races>BD$9-1,LARGE($I63:OFFSET($I63,0,No_Races-1),BD$7+$BT63+$BU63),0))","v":0},{"$f":"IF(B63=\"\",\"\",G63/1000+INT((AX63-SUM(AY63:BD63))*1000)/1000+IF(COUNTIF(Summary!$D$7:$D$90,C63)<1,0,VLOOKUP(C63,Summary!$D$7:$F$90,3,FALSE)/10000))","v":""},"","","","","","","","","","","","","","",{"$f":"IF(B63=\"\",\"\",COUNTIF(I63:I63,'Race results'!$J$3)+COUNTIF(I63:I63,'Race results'!$K$3))","v":""},{"$f":"IF(B63=\"\",\"\",COUNTIF(J63:AW63,'Race results'!$J$2)+COUNTIF(J63:AW63,'Race results'!$K$2))","v":""},{"$f":"IF(No_Races=0,0,COUNT(I63:OFFSET(I63,0,No_Races-1)))","v":0}]
["",null,null,null,null,null,null,"","","","","","","","","","","","","","","","","","","","","","","","","","","","","","","","","","","","","","","","","","",{"$f":"IF(No_Races=0,0,SUM(I64:OFFSET(I64,0,No_Races-1)))","v":0},{"$f":"IF(No_Races=0,0,IF(No_Races>AY$9-1,LARGE($I64:OFFSET($I64,0,No_Races-1),AY$7+$BT64+$BU64),0))","v":0},{"$f":"IF(No_Races=0,0,IF(No_Races>AZ$9-1,LARGE($I64:OFFSET($I64,0,No_Races-1),AZ$7+$BT64+$BU64),0))","v":0},{"$f":"IF(No_Races=0,0,IF(No_Races>BA$9-1,LARGE($I64:OFFSET($I64,0,No_Races-1),BA$7+$BT64+$BU64),0))","v":0},{"$f":"IF(No_Races=0,0,IF(No_Races>BB$9-1,LARGE($I64:OFFSET($I64,0,No_Races-1),BB$7+$BT64+$BU64),0))","v":0},{"$f":"IF(No_Races=0,0,IF(No_Races>BC$9-1,LARGE($I64:OFFSET($I64,0,No_Races-1),BC$7+$BT64+$BU64),0))","v":0},{"$f":"IF(No_Races=0,0,IF(No_Races>BD$9-1,LARGE($I64:OFFSET($I64,0,No_Races-1),BD$7+$BT64+$BU64),0))","v":0},{"$f":"IF(B64=\"\",\"\",G64/1000+INT((AX64-SUM(AY64:BD64))*1000)/1000+IF(COUNTIF(Summary!$D$7:$D$90,C64)<1,0,VLOOKUP(C64,Summary!$D$7:$F$90,3,FALSE)/10000))","v":""},"","","","","","","","","","","","","","",{"$f":"IF(B64=\"\",\"\",COUNTIF(I64:I64,'Race results'!$J$3)+COUNTIF(I64:I64,'Race results'!$K$3))","v":""},{"$f":"IF(B64=\"\",\"\",COUNTIF(J64:AW64,'Race results'!$J$2)+COUNTIF(J64:AW64,'Race results'!$K$2))","v":""},{"$f":"IF(No_Races=0,0,COUNT(I64:OFFSET(I64,0,No_Races-1)))","v":0}]
["",null,null,null,null,null,null,"","","","","","","","","","","","","","","","","","","","","","","","","","","","","","","","","","","","","","","","","","",{"$f":"IF(No_Races=0,0,SUM(I65:OFFSET(I65,0,No_Races-1)))","v":0},{"$f":"IF(No_Races=0,0,IF(No_Races>AY$9-1,LARGE($I65:OFFSET($I65,0,No_Races-1),AY$7+$BT65+$BU65),0))","v":0},{"$f":"IF(No_Races=0,0,IF(No_Races>AZ$9-1,LARGE($I65:OFFSET($I65,0,No_Races-1),AZ$7+$BT65+$BU65),0))","v":0},{"$f":"IF(No_Races=0,0,IF(No_Races>BA$9-1,LARGE($I65:OFFSET($I65,0,No_Races-1),BA$7+$BT65+$BU65),0))","v":0},{"$f":"IF(No_Races=0,0,IF(No_Races>BB$9-1,LARGE($I65:OFFSET($I65,0,No_Races-1),BB$7+$BT65+$BU65),0))","v":0},{"$f":"IF(No_Races=0,0,IF(No_Races>BC$9-1,LARGE($I65:OFFSET($I65,0,No_Races-1),BC$7+$BT65+$BU65),0))","v":0},{"$f":"IF(No_Races=0,0,IF(No_Races>BD$9-1,LARGE($I65:OFFSET($I65,0,No_Races-1),BD$7+$BT65+$BU65),0))","v":0},{"$f":"IF(B65=\"\",\"\",G65/1000+INT((AX65-SUM(AY65:BD65))*1000)/1000+IF(COUNTIF(Summary!$D$7:$D$90,C65)<1,0,VLOOKUP(C65,Summary!$D$7:$F$90,3,FALSE)/10000))","v":""},"","","","","","","","","","","","","","",{"$f":"IF(B65=\"\",\"\",COUNTIF(I65:I65,'Race results'!$J$3)+COUNTIF(I65:I65,'Race results'!$K$3))","v":""},{"$f":"IF(B65=\"\",\"\",COUNTIF(J65:AW65,'Race results'!$J$2)+COUNTIF(J65:AW65,'Race results'!$K$2))","v":""},{"$f":"IF(No_Races=0,0,COUNT(I65:OFFSET(I65,0,No_Races-1)))","v":0}]
["",null,null,null,null,null,null,"","","","","","","","","","","","","","","","","","","","","","","","","","","","","","","","","","","","","","","","","","",{"$f":"IF(No_Races=0,0,SUM(I66:OFFSET(I66,0,No_Races-1)))","v":0},{"$f":"IF(No_Races=0,0,IF(No_Races>AY$9-1,LARGE($I66:OFFSET($I66,0,No_Races-1),AY$7+$BT66+$BU66),0))","v":0},{"$f":"IF(No_Races=0,0,IF(No_Races>AZ$9-1,LARGE($I66:OFFSET($I66,0,No_Races-1),AZ$7+$BT66+$BU66),0))","v":0},{"$f":"IF(No_Races=0,0,IF(No_Races>BA$9-1,LARGE($I66:OFFSET($I66,0,No_Races-1),BA$7+$BT66+$BU66),0))","v":0},{"$f":"IF(No_Races=0,0,IF(No_Races>BB$9-1,LARGE($I66:OFFSET($I66,0,No_Races-1),BB$7+$BT66+$BU66),0))","v":0},{"$f":"IF(No_Races=0,0,IF(No_Races>BC$9-1,LARGE($I66:OFFSET($I66,0,No_Races-1),BC$7+$BT66+$BU66),0))","v":0},{"$f":"IF(No_Races=0,0,IF(No_Races>BD$9-1,LARGE($I66:OFFSET($I66,0,No_Races-1),BD$7+$BT66+$BU66),0))","v":0},{"$f":"IF(B66=\"\",\"\",G66/1000+INT((AX66-SUM(AY66:BD66))*1000)/1000+IF(COUNTIF(Summary!$D$7:$D$90,C66)<1,0,VLOOKUP(C66,Summary!$D$7:$F$90,3,FALSE)/10000))","v":""},"","","","","","","","","","","","","","",{"$f":"IF(B66=\"\",\"\",COUNTIF(I66:I66,'Race results'!$J$3)+COUNTIF(I66:I66,'Race results'!$K$3))","v":""},{"$f":"IF(B66=\"\",\"\",COUNTIF(J66:AW66,'Race results'!$J$2)+COUNTIF(J66:AW66,'Race results'!$K$2))","v":""},{"$f":"IF(No_Races=0,0,COUNT(I66:OFFSET(I66,0,No_Races-1)))","v":0}]
["",null,null,null,null,null,null,"","","","","","","","","","","","","","","","","","","","","","","","","","","","","","","","","","","","","","","","","","",{"$f":"IF(No_Races=0,0,SUM(I67:OFFSET(I67,0,No_Races-1)))","v":0},{"$f":"IF(No_Races=0,0,IF(No_Races>AY$9-1,LARGE($I67:OFFSET($I67,0,No_Races-1),AY$7+$BT67+$BU67),0))","v":0},{"$f":"IF(No_Races=0,0,IF(No_Races>AZ$9-1,LARGE($I67:OFFSET($I67,0,No_Races-1),AZ$7+$BT67+$BU67),0))","v":0},{"$f":"IF(No_Races=0,0,IF(No_Races>BA$9-1,LARGE($I67:OFFSET($I67,0,No_Races-1),BA$7+$BT67+$BU67),0))","v":0},{"$f":"IF(No_Races=0,0,IF(No_Races>BB$9-1,LARGE($I67:OFFSET($I67,0,No_Races-1),BB$7+$BT67+$BU67),0))","v":0},{"$f":"IF(No_Races=0,0,IF(No_Races>BC$9-1,LARGE($I67:OFFSET($I67,0,No_Races-1),BC$7+$BT67+$BU67),0))","v":0},{"$f":"IF(No_Races=0,0,IF(No_Races>BD$9-1,LARGE($I67:OFFSET($I67,0,No_Races-1),BD$7+$BT67+$BU67),0))","v":0},{"$f":"IF(B67=\"\",\"\",G67/1000+INT((AX67-SUM(AY67:BD67))*1000)/1000+IF(COUNTIF(Summary!$D$7:$D$90,C67)<1,0,VLOOKUP(C67,Summary!$D$7:$F$90,3,FALSE)/10000))","v":""},"","","","","","","","","","","","","","",{"$f":"IF(B67=\"\",\"\",COUNTIF(I67:I67,'Race results'!$J$3)+COUNTIF(I67:I67,'Race results'!$K$3))","v":""},{"$f":"IF(B67=\"\",\"\",COUNTIF(J67:AW67,'Race results'!$J$2)+COUNTIF(J67:AW67,'Race results'!$K$2))","v":""},{"$f":"IF(No_Races=0,0,COUNT(I67:OFFSET(I67,0,No_Races-1)))","v":0}]
["",null,null,null,null,null,null,"","","","","","","","","","","","","","","","","","","","","","","","","","","","","","","","","","","","","","","","","","",{"$f":"IF(No_Races=0,0,SUM(I68:OFFSET(I68,0,No_Races-1)))","v":0},{"$f":"IF(No_Races=0,0,IF(No_Races>AY$9-1,LARGE($I68:OFFSET($I68,0,No_Races-1),AY$7+$BT68+$BU68),0))","v":0},{"$f":"IF(No_Races=0,0,IF(No_Races>AZ$9-1,LARGE($I68:OFFSET($I68,0,No_Races-1),AZ$7+$BT68+$BU68),0))","v":0},{"$f":"IF(No_Races=0,0,IF(No_Races>BA$9-1,LARGE($I68:OFFSET($I68,0,No_Races-1),BA$7+$BT68+$BU68),0))","v":0},{"$f":"IF(No_Races=0,0,IF(No_Races>BB$9-1,LARGE($I68:OFFSET($I68,0,No_Races-1),BB$7+$BT68+$BU68),0))","v":0},{"$f":"IF(No_Races=0,0,IF(No_Races>BC$9-1,LARGE($I68:OFFSET($I68,0,No_Races-1),BC$7+$BT68+$BU68),0))","v":0},{"$f":"IF(No_Races=0,0,IF(No_Races>BD$9-1,LARGE($I68:OFFSET($I68,0,No_Races-1),BD$7+$BT68+$BU68),0))","v":0},{"$f":"IF(B68=\"\",\"\",G68/1000+INT((AX68-SUM(AY68:BD68))*1000)/1000+IF(COUNTIF(Summary!$D$7:$D$90,C68)<1,0,VLOOKUP(C68,Summary!$D$7:$F$90,3,FALSE)/10000))","v":""},"","","","","","","","","","","","","","",{"$f":"IF(B68=\"\",\"\",COUNTIF(I68:I68,'Race results'!$J$3)+COUNTIF(I68:I68,'Race results'!$K$3))","v":""},{"$f":"IF(B68=\"\",\"\",COUNTIF(J68:AW68,'Race results'!$J$2)+COUNTIF(J68:AW68,'Race results'!$K$2))","v":""},{"$f":"IF(No_Races=0,0,COUNT(I68:OFFSET(I68,0,No_Races-1)))","v":0}]
["",null,null,null,null,null,null,"","","","","","","","","","","","","","","","","","","","","","","","","","","","","","","","","","","","","","","","","","",{"$f":"IF(No_Races=0,0,SUM(I69:OFFSET(I69,0,No_Races-1)))","v":0},{"$f":"IF(No_Races=0,0,IF(No_Races>AY$9-1,LARGE($I69:OFFSET($I69,0,No_Races-1),AY$7+$BT69+$BU69),0))","v":0},{"$f":"IF(No_Races=0,0,IF(No_Races>AZ$9-1,LARGE($I69:OFFSET($I69,0,No_Races-1),AZ$7+$BT69+$BU69),0))","v":0},{"$f":"IF(No_Races=0,0,IF(No_Races>BA$9-1,LARGE($I69:OFFSET($I69,0,No_Races-1),BA$7+$BT69+$BU69),0))","v":0},{"$f":"IF(No_Races=0,0,IF(No_Races>BB$9-1,LARGE($I69:OFFSET($I69,0,No_Races-1),BB$7+$BT69+$BU69),0))","v":0},{"$f":"IF(No_Races=0,0,IF(No_Races>BC$9-1,LARGE($I69:OFFSET($I69,0,No_Races-1),BC$7+$BT69+$BU69),0))","v":0},{"$f":"IF(No_Races=0,0,IF(No_Races>BD$9-1,LARGE($I69:OFFSET($I69,0,No_Races-1),BD$7+$BT69+$BU69),0))","v":0},{"$f":"IF(B69=\"\",\"\",G69/1000+INT((AX69-SUM(AY69:BD69))*1000)/1000+IF(COUNTIF(Summary!$D$7:$D$90,C69)<1,0,VLOOKUP(C69,Summary!$D$7:$F$90,3,FALSE)/10000))","v":""},"","","","","","","","","","","","","","",{"$f":"IF(B69=\"\",\"\",COUNTIF(I69:I69,'Race results'!$J$3)+COUNTIF(I69:I69,'Race results'!$K$3))","v":""},{"$f":"IF(B69=\"\",\"\",COUNTIF(J69:AW69,'Race results'!$J$2)+COUNTIF(J69:AW69,'Race results'!$K$2))","v":""},{"$f":"IF(No_Races=0,0,COUNT(I69:OFFSET(I69,0,No_Races-1)))","v":0}]
["",null,null,null,null,null,null,"","","","","","","","","","","","","","","","","","","","","","","","","","","","","","","","","","","","","","","","","","",{"$f":"IF(No_Races=0,0,SUM(I70:OFFSET(I70,0,No_Races-1)))","v":0},{"$f":"IF(No_Races=0,0,IF(No_Races>AY$9-1,LARGE($I70:OFFSET($I70,0,No_Races-1),AY$7+$BT70+$BU70),0))","v":0},{"$f":"IF(No_Races=0,0,IF(No_Races>AZ$9-1,LARGE($I70:OFFSET($I70,0,No_Races-1),AZ$7+$BT70+$BU70),0))","v":0},{"$f":"IF(No_Races=0,0,IF(No_Races>BA$9-1,LARGE($I70:OFFSET($I70,0,No_Races-1),BA$7+$BT70+$BU70),0))","v":0},{"$f":"IF(No_Races=0,0,IF(No_Races>BB$9-1,LARGE($I70:OFFSET($I70,0,No_Races-1),BB$7+$BT70+$BU70),0))","v":0},{"$f":"IF(No_Races=0,0,IF(No_Races>BC$9-1,LARGE($I70:OFFSET($I70,0,No_Races-1),BC$7+$BT70+$BU70),0))","v":0},{"$f":"IF(No_Races=0,0,IF(No_Races>BD$9-1,LARGE($I70:OFFSET($I70,0,No_Races-1),BD$7+$BT70+$BU70),0))","v":0},{"$f":"IF(B70=\"\",\"\",G70/1000+INT((AX70-SUM(AY70:BD70))*1000)/1000+IF(COUNTIF(Summary!$D$7:$D$90,C70)<1,0,VLOOKUP(C70,Summary!$D$7:$F$90,3,FALSE)/10000))","v":""},"","","","","","","","","","","","","","",{"$f":"IF(B70=\"\",\"\",COUNTIF(I70:I70,'Race results'!$J$3)+COUNTIF(I70:I70,'Race results'!$K$3))","v":""},{"$f":"IF(B70=\"\",\"\",COUNTIF(J70:AW70,'Race results'!$J$2)+COUNTIF(J70:AW70,'Race results'!$K$2))","v":""},{"$f":"IF(No_Races=0,0,COUNT(I70:OFFSET(I70,0,No_Races-1)))","v":0}]
["",null,null,null,null,null,null,"","","","","","","","","","","","","","","","","","","","","","","","","","","","","","","","","","","","","","","","","","",{"$f":"IF(No_Races=0,0,SUM(I71:OFFSET(I71,0,No_Races-1)))","v":0},{"$f":"IF(No_Races=0,0,IF(No_Races>AY$9-1,LARGE($I71:OFFSET($I71,0,No_Races-1),AY$7+$BT71+$BU71),0))","v":0},{"$f":"IF(No_Races=0,0,IF(No_Races>AZ$9-1,LARGE($I71:OFFSET($I71,0,No_Races-1),AZ$7+$BT71+$BU71),0))","v":0},{"$f":"IF(No_Races=0,0,IF(No_Races>BA$9-1,LARGE($I71:OFFSET($I71,0,No_Races-1),BA$7+$BT71+$BU71),0))","v":0},{"$f":"IF(No_Races=0,0,IF(No_Races>BB$9-1,LARGE($I71:OFFSET($I71,0,No_Races-1),BB$7+$BT71+$BU71),0))","v":0},{"$f":"IF(No_Races=0,0,IF(No_Races>BC$9-1,LARGE($I71:OFFSET($I71,0,No_Races-1),BC$7+$BT71+$BU71),0))","v":0},{"$f":"IF(No_Races=0,0,IF(No_Races>BD$9-1,LARGE($I71:OFFSET($I71,0,No_Races-1),BD$7+$BT71+$BU71),0))","v":0},{"$f":"IF(B71=\"\",\"\",G71/1000+INT((AX71-SUM(AY71:BD71))*1000)/1000+IF(COUNTIF(Summary!$D$7:$D$90,C71)<1,0,VLOOKUP(C71,Summary!$D$7:$F$90,3,FALSE)/10000))","v":""},"","","","","","","","","","","","","","",{"$f":"IF(B71=\"\",\"\",COUNTIF(I71:I71,'Race results'!$J$3)+COUNTIF(I71:I71,'Race results'!$K$3))","v":""},{"$f":"IF(B71=\"\",\"\",COUNTIF(J71:AW71,'Race results'!$J$2)+COUNTIF(J71:AW71,'Race results'!$K$2))","v":""},{"$f":"IF(No_Races=0,0,COUNT(I71:OFFSET(I71,0,No_Races-1)))","v":0}]
["",null,null,null,null,null,null,"","","","","","","","","","","","","","","","","","","","","","","","","","","","","","","","","","","","","","","","","","",{"$f":"IF(No_Races=0,0,SUM(I72:OFFSET(I72,0,No_Races-1)))","v":0},{"$f":"IF(No_Races=0,0,IF(No_Races>AY$9-1,LARGE($I72:OFFSET($I72,0,No_Races-1),AY$7+$BT72+$BU72),0))","v":0},{"$f":"IF(No_Races=0,0,IF(No_Races>AZ$9-1,LARGE($I72:OFFSET($I72,0,No_Races-1),AZ$7+$BT72+$BU72),0))","v":0},{"$f":"IF(No_Races=0,0,IF(No_Races>BA$9-1,LARGE($I72:OFFSET($I72,0,No_Races-1),BA$7+$BT72+$BU72),0))","v":0},{"$f":"IF(No_Races=0,0,IF(No_Races>BB$9-1,LARGE($I72:OFFSET($I72,0,No_Races-1),BB$7+$BT72+$BU72),0))","v":0},{"$f":"IF(No_Races=0,0,IF(No_Races>BC$9-1,LARGE($I72:OFFSET($I72,0,No_Races-1),BC$7+$BT72+$BU72),0))","v":0},{"$f":"IF(No_Races=0,0,IF(No_Races>BD$9-1,LARGE($I72:OFFSET($I72,0,No_Races-1),BD$7+$BT72+$BU72),0))","v":0},{"$f":"IF(B72=\"\",\"\",G72/1000+INT((AX72-SUM(AY72:BD72))*1000)/1000+IF(COUNTIF(Summary!$D$7:$D$90,C72)<1,0,VLOOKUP(C72,Summary!$D$7:$F$90,3,FALSE)/10000))","v":""},"","","","","","","","","","","","","","",{"$f":"IF(B72=\"\",\"\",COUNTIF(I72:I72,'Race results'!$J$3)+COUNTIF(I72:I72,'Race results'!$K$3))","v":""},{"$f":"IF(B72=\"\",\"\",COUNTIF(J72:AW72,'Race results'!$J$2)+COUNTIF(J72:AW72,'Race results'!$K$2))","v":""},{"$f":"IF(No_Races=0,0,COUNT(I72:OFFSET(I72,0,No_Races-1)))","v":0}]
["",null,null,null,null,null,null,"","","","","","","","","","","","","","","","","","","","","","","","","","","","","","","","","","","","","","","","","","",{"$f":"IF(No_Races=0,0,SUM(I73:OFFSET(I73,0,No_Races-1)))","v":0},{"$f":"IF(No_Races=0,0,IF(No_Races>AY$9-1,LARGE($I73:OFFSET($I73,0,No_Races-1),AY$7+$BT73+$BU73),0))","v":0},{"$f":"IF(No_Races=0,0,IF(No_Races>AZ$9-1,LARGE($I73:OFFSET($I73,0,No_Races-1),AZ$7+$BT73+$BU73),0))","v":0},{"$f":"IF(No_Races=0,0,IF(No_Races>BA$9-1,LARGE($I73:OFFSET($I73,0,No_Races-1),BA$7+$BT73+$BU73),0))","v":0},{"$f":"IF(No_Races=0,0,IF(No_Races>BB$9-1,LARGE($I73:OFFSET($I73,0,No_Races-1),BB$7+$BT73+$BU73),0))","v":0},{"$f":"IF(No_Races=0,0,IF(No_Races>BC$9-1,LARGE($I73:OFFSET($I73,0,No_Races-1),BC$7+$BT73+$BU73),0))","v":0},{"$f":"IF(No_Races=0,0,IF(No_Races>BD$9-1,LARGE($I73:OFFSET($I73,0,No_Races-1),BD$7+$BT73+$BU73),0))","v":0},{"$f":"IF(B73=\"\",\"\",G73/1000+INT((AX73-SUM(AY73:BD73))*1000)/1000+IF(COUNTIF(Summary!$D$7:$D$90,C73)<1,0,VLOOKUP(C73,Summary!$D$7:$F$90,3,FALSE)/10000))","v":""},"","","","","","","","","","","","","","",{"$f":"IF(B73=\"\",\"\",COUNTIF(I73:I73,'Race results'!$J$3)+COUNTIF(I73:I73,'Race results'!$K$3))","v":""},{"$f":"IF(B73=\"\",\"\",COUNTIF(J73:AW73,'Race results'!$J$2)+COUNTIF(J73:AW73,'Race results'!$K$2))","v":""},{"$f":"IF(No_Races=0,0,COUNT(I73:OFFSET(I73,0,No_Races-1)))","v":0}]
["",null,null,null,null,null,null,"","","","","","","","","","","","","","","","","","","","","","","","","","","","","","","","","","","","","","","","","","",{"$f":"IF(No_Races=0,0,SUM(I74:OFFSET(I74,0,No_Races-1)))","v":0},{"$f":"IF(No_Races=0,0,IF(No_Races>AY$9-1,LARGE($I74:OFFSET($I74,0,No_Races-1),AY$7+$BT74+$BU74),0))","v":0},{"$f":"IF(No_Races=0,0,IF(No_Races>AZ$9-1,LARGE($I74:OFFSET($I74,0,No_Races-1),AZ$7+$BT74+$BU74),0))","v":0},{"$f":"IF(No_Races=0,0,IF(No_Races>BA$9-1,LARGE($I74:OFFSET($I74,0,No_Races-1),BA$7+$BT74+$BU74),0))","v":0},{"$f":"IF(No_Races=0,0,IF(No_Races>BB$9-1,LARGE($I74:OFFSET($I74,0,No_Races-1),BB$7+$BT74+$BU74),0))","v":0},{"$f":"IF(No_Races=0,0,IF(No_Races>BC$9-1,LARGE($I74:OFFSET($I74,0,No_Races-1),BC$7+$BT74+$BU74),0))","v":0},{"$f":"IF(No_Races=0,0,IF(No_Races>BD$9-1,LARGE($I74:OFFSET($I74,0,No_Races-1),BD$7+$BT74+$BU74),0))","v":0},{"$f":"IF(B74=\"\",\"\",G74/1000+INT((AX74-SUM(AY74:BD74))*1000)/1000+IF(COUNTIF(Summary!$D$7:$D$90,C74)<1,0,VLOOKUP(C74,Summary!$D$7:$F$90,3,FALSE)/10000))","v":""},{"$f":"IF(B74 = \"\", \"\",RANK(BE74,BE$10:BE$93,1))","v":""},{"$f":"IF($B74=\"\",\"\",IF($BT$9>0,IF(No_Races<1,\"\",SMALL($I74:$AW74,1)),IF(No_Races<2,\"\",SMALL($J74:$AW74,1))))","v":""},{"$f":"IF($B74=\"\",\"\",IF($BT$9>0,IF(No_Races<2,\"\",SMALL($I74:$AW74,2)),IF(No_Races<3,\"\",SMALL($J74:$AW74,2))))","v":""},{"$f":"IF($B74=\"\",\"\",IF($BT$9>0,IF(No_Races<3,\"\",SMALL($I74:$AW74,3)),IF(No_Races<4,\"\",SMALL($J74:$AW74,3))))","v":""},{"$f":"IF($B74=\"\",\"\",IF($BT$9>0,IF(No_Races<4,\"\",SMALL($I74:$AW74,4)),IF(No_Races<5,\"\",SMALL($J74:$AW74,4))))","v":""},{"$f":"IF($B74=\"\",\"\",IF($BT$9>0,IF(No_Races<5,\"\",SMALL($I74:$AW74,5)),IF(No_Races<6,\"\",SMALL($J74:$AW74,5))))","v":""},{"$f":"IF($B74=\"\",\"\",IF($BT$9>0,IF(No_Races<6,\"\",SMALL($I74:$AW74,6)),IF(No_Races<7,\"\",SMALL($J74:$AW74,6))))","v":""},{"$f":"IF($B74=\"\",\"\",IF($BT$9>0,IF(No_Races<7,\"\",SMALL($I74:$AW74,7)),IF(No_Races<8,\"\",SMALL($J74:$AW74,7))))","v":""},{"$f":"IF($B74=\"\",\"\",IF($BT$9>0,IF(No_Races<8,\"\",SMALL($I74:$AW74,8)),IF(No_Races<9,\"\",SMALL($J74:$AW74,8))))","v":""},{"$f":"IF($B74=\"\",\"\",IF($BT$9>0,IF(No_Races<9,\"\",SMALL($I74:$AW74,9)),IF(No_Races<10,\"\",SMALL($J74:$AW74,9))))","v":""},{"$f":"IF($B74=\"\",\"\",IF($BT$9>0,IF(No_Races<10,\"\",SMALL($I74:$AW74,10)),IF(No_Races<11,\"\",SMALL($J74:$AW74,10))))","v":""},"","",{"$f":"IF($BS$9=\"\",\"\",IF(B74=\"\",\"\",IF($BS$9<30,CHOOSE($BS$9,I74,J74,K74,L74,M74,N74,O74,P74,Q74,R74,S74,T74,U74,V74,W74,X74,Y74,Z74,AA74,AB74,AC74,AD74,AE74,AF74,AG74,AH74,AI74,AJ74,AK74),CHOOSE($BS$9-29,AL74,AM74,AN74,AO74,AP74,AQ74,AR74,AS74,AT74,AU74,AV74,AW74))))","v":""},{"$f":"IF(B74=\"\",\"\",COUNTIF(I74:I74,'Race results'!$J$3)+COUNTIF(I74:I74,'Race results'!$K$3))","v":""},{"$f":"IF(B74=\"\",\"\",COUNTIF(J74:AW74,'Race results'!$J$2)+COUNTIF(J74:AW74,'Race results'!$K$2))","v":""},{"$f":"IF(No_Races=0,0,COUNT(I74:OFFSET(I74,0,No_Races-1)))","v":0}]
[{"$f":"BF75","v":""},null,null,null,null,null,null,{"$f":"IF(BV$9=BV75, BE75, IF(B75=\"\",BE75,CONCATENATE(\"*****\",TEXT(BE75,\"0.0\"),\"*****\")))","v":""},{"$f":"IF(OR($C75=\"\",ISERROR(VLOOKUP($C75,Race01Results,3,FALSE))),\"\",VLOOKUP($C75,Race01Results,3,FALSE))","v":""},{"$f":"IF(OR($C75=\"\",ISERROR(VLOOKUP($C75,Race02Results,3,FALSE))),\"\",VLOOKUP($C75,Race02Results,3,FALSE))","v":""},{"$f":"IF(OR($C75=\"\",ISERROR(VLOOKUP($C75,Race03Results,3,FALSE))),\"\",VLOOKUP($C75,Race03Results,3,FALSE))","v":""},{"$f":"IF(OR($C75=\"\",ISERROR(VLOOKUP($C75,Race04Results,3,FALSE))),\"\",VLOOKUP($C75,Race04Results,3,FALSE))","v":""},{"$f":"IF(OR($C75=\"\",ISERROR(VLOOKUP($C75,Race05Results,3,FALSE))),\"\",VLOOKUP($C75,Race05Results,3,FALSE))","v":""},{"$f":"IF(OR($C75=\"\",ISERROR(VLOOKUP($C75,Race06Results,3,FALSE))),\"\",VLOOKUP($C75,Race06Results,3,FALSE))","v":""},{"$f":"IF(OR($C75=\"\",ISERROR(VLOOKUP($C75,Race07Results,3,FALSE))),\"\",VLOOKUP($C75,Race07Results,3,FALSE))","v":""},{"$f":"IF(OR($C75=\"\",ISERROR(VLOOKUP($C75,Race08Results,3,FALSE))),\"\",VLOOKUP($C75,Race08Results,3,FALSE))","v":""},{"$f":"IF(OR($C75=\"\",ISERROR(VLOOKUP($C75,Race09Results,3,FALSE))),\"\",VLOOKUP($C75,Race09Results,3,FALSE))","v":""},{"$f":"IF(OR($C75=\"\",ISERROR(VLOOKUP($C75,Race10Results,3,FALSE))),\"\",VLOOKUP($C75,Race10Results,3,FALSE))","v":""},{"$f":"IF(OR($C75=\"\",ISERROR(VLOOKUP($C75,Race11Results,3,FALSE))),\"\",VLOOKUP($C75,Race11Results,3,FALSE))","v":""},{"$f":"IF(OR($C75=\"\",ISERROR(VLOOKUP($C75,Race12Results,3,FALSE))),\"\",VLOOKUP($C75,Race12Results,3,FALSE))","v":""},{"$f":"IF(OR($C75=\"\",ISERROR(VLOOKUP($C75,Race13Results,3,FALSE))),\"\",VLOOKUP($C75,Race13Results,3,FALSE))","v":""},{"$f":"IF(OR($C75=\"\",ISERROR(VLOOKUP($C75,Race14Results,3,FALSE))),\"\",VLOOKUP($C75,Race14Results,3,FALSE))","v":""},{"$f":"IF(OR($C75=\"\",ISERROR(VLOOKUP($C75,Race15Results,3,FALSE))),\"\",VLOOKUP($C75,Race15Results,3,FALSE))","v":""},{"$f":"IF(OR($C75=\"\",ISERROR(VLOOKUP($C75,Race16Results,3,FALSE))),\"\",VLOOKUP($C75,Race16Results,3,FALSE))","v":""},{"$f":"IF(OR($C75=\"\",ISERROR(VLOOKUP($C75,Race17Results,3,FALSE))),\"\",VLOOKUP($C75,Race17Results,3,FALSE))","v":""},{"$f":"IF(OR($C75=\"\",ISERROR(VLOOKUP($C75,Race18Results,3,FALSE))),\"\",VLOOKUP($C75,Race18Results,3,FALSE))","v":""},{"$f":"IF(OR($C75=\"\",ISERROR(VLOOKUP($C75,Race19Results,3,FALSE))),\"\",VLOOKUP($C75,Race19Results,3,FALSE))","v":""},{"$f":"IF(OR($C75=\"\",ISERROR(VLOOKUP($C75,Race20Results,3,FALSE))),\"\",VLOOKUP($C75,Race20Results,3,FALSE))","v":""},{"$f":"IF(OR($C75=\"\",ISERROR(VLOOKUP($C75,Race21Results,3,FALSE))),\"\",VLOOKUP($C75,Race21Results,3,FALSE))","v":""},{"$f":"IF(OR($C75=\"\",ISERROR(VLOOKUP($C75,Race22Results,3,FALSE))),\"\",VLOOKUP($C75,Race22Results,3,FALSE))","v":""},{"$f":"IF(OR($C75=\"\",ISERROR(VLOOKUP($C75,Race23Results,3,FALSE))),\"\",VLOOKUP($C75,Race23Results,3,FALSE))","v":""},{"$f":"IF(OR($C75=\"\",ISERROR(VLOOKUP($C75,Race24Results,3,FALSE))),\"\",VLOOKUP($C75,Race24Results,3,FALSE))","v":""},{"$f":"IF(OR($C75=\"\",ISERROR(VLOOKUP($C75,Race25Results,3,FALSE))),\"\",VLOOKUP($C75,Race25Results,3,FALSE))","v":""},{"$f":"IF(OR($C75=\"\",ISERROR(VLOOKUP($C75,Race26Results,3,FALSE))),\"\",VLOOKUP($C75,Race26Results,3,FALSE))","v":""},{"$f":"IF(OR($C75=\"\",ISERROR(VLOOKUP($C75,Race27Results,3,FALSE))),\"\",VLOOKUP($C75,Race27Results,3,FALSE))","v":""},{"$f":"IF(OR($C75=\"\",ISERROR(VLOOKUP($C75,Race28Results,3,FALSE))),\"\",VLOOKUP($C75,Race28Results,3,FALSE))","v":""},{"$f":"IF(OR($C75=\"\",ISERROR(VLOOKUP($C75,Race29Results,3,FALSE))),\"\",VLOOKUP($C75,Race29Results,3,FALSE))","v":""},{"$f":"IF(OR($C75=\"\",ISERROR(VLOOKUP($C75,Race30Results,3,FALSE))),\"\",VLOOKUP($C75,Race30Results,3,FALSE))","v":""},{"$f":"IF(OR($C75=\"\",ISERROR(VLOOKUP($C75,Race31Results,3,FALSE))),\"\",VLOOKUP($C75,Race31Results,3,FALSE))","v":""},{"$f":"IF(OR($C75=\"\",ISERROR(VLOOKUP($C75,Race32Results,3,FALSE))),\"\",VLOOKUP($C75,Race32Results,3,FALSE))","v":""},{"$f":"IF(OR($C75=\"\",ISERROR(VLOOKUP($C75,Race33Results,3,FALSE))),\"\",VLOOKUP($C75,Race33Results,3,FALSE))","v":""},{"$f":"IF(OR($C75=\"\",ISERROR(VLOOKUP($C75,Race34Results,3,FALSE))),\"\",VLOOKUP($C75,Race34Results,3,FALSE))","v":""},{"$f":"IF(OR($C75=\"\",ISERROR(VLOOKUP($C75,Race35Results,3,FALSE))),\"\",VLOOKUP($C75,Race35Results,3,FALSE))","v":""},{"$f":"IF(OR($C75=\"\",ISERROR(VLOOKUP($C75,Race36Results,3,FALSE))),\"\",VLOOKUP($C75,Race36Results,3,FALSE))","v":""},{"$f":"IF(OR($C75=\"\",ISERROR(VLOOKUP($C75,Race37Results,3,FALSE))),\"\",VLOOKUP($C75,Race37Results,3,FALSE))","v":""},{"$f":"IF(OR($C75=\"\",ISERROR(VLOOKUP($C75,Race38Results,3,FALSE))),\"\",VLOOKUP($C75,Race38Results,3,FALSE))","v":""},{"$f":"IF(OR($C75=\"\",ISERROR(VLOOKUP($C75,Race39Results,3,FALSE))),\"\",VLOOKUP($C75,Race39Results,3,FALSE))","v":""},{"$f":"IF(OR($C75=\"\",ISERROR(VLOOKUP($C75,Race40Results,3,FALSE))),\"\",VLOOKUP($C75,Race40Results,3,FALSE))","v":""},{"$f":"IF(OR($C75=\"\",ISERROR(VLOOKUP($C75,Race41Results,3,FALSE))),\"\",VLOOKUP($C75,Race41Results,3,FALSE))","v":""},{"$f":"IF(No_Races=0,0,SUM(I75:OFFSET(I75,0,No_Races-1)))","v":0},{"$f":"IF(No_Races=0,0,IF(No_Races>AY$9-1,LARGE($I75:OFFSET($I75,0,No_Races-1),AY$7+$BT75+$BU75),0))","v":0},{"$f":"IF(No_Races=0,0,IF(No_Races>AZ$9-1,LARGE($I75:OFFSET($I75,0,No_Races-1),AZ$7+$BT75+$BU75),0))","v":0},{"$f":"IF(No_Races=0,0,IF(No_Races>BA$9-1,LARGE($I75:OFFSET($I75,0,No_Races-1),BA$7+$BT75+$BU75),0))","v":0},{"$f":"IF(No_Races=0,0,IF(No_Races>BB$9-1,LARGE($I75:OFFSET($I75,0,No_Races-1),BB$7+$BT75+$BU75),0))","v":0},{"$f":"IF(No_Races=0,0,IF(No_Races>BC$9-1,LARGE($I75:OFFSET($I75,0,No_Races-1),BC$7+$BT75+$BU75),0))","v":0},{"$f":"IF(No_Races=0,0,IF(No_Races>BD$9-1,LARGE($I75:OFFSET($I75,0,No_Races-1),BD$7+$BT75+$BU75),0))","v":0},{"$f":"IF(B75=\"\",\"\",G75/1000+INT((AX75-SUM(AY75:BD75))*1000)/1000+IF(COUNTIF(Summary!$D$7:$D$90,C75)<1,0,VLOOKUP(C75,Summary!$D$7:$F$90,3,FALSE)/10000))","v":""},"","","","","","","","","","","",{"$f":"IF(B75=\"\",\"\",C75)","v":""},{"$f":"IF(B75=\"\",\"\",IF($BT$9>0,AVERAGE(I75:AW75),AVERAGE(J75:AW75)))","v":""},"",{"$f":"IF(B75=\"\",\"\",COUNTIF(I75:I75,'Race results'!$J$3)+COUNTIF(I75:I75,'Race results'!$K$3))","v":""},{"$f":"IF(B75=\"\",\"\",COUNTIF(J75:AW75,'Race results'!$J$2)+COUNTIF(J75:AW75,'Race results'!$K$2))","v":""},{"$f":"IF(No_Races=0,0,COUNT(I75:OFFSET(I75,0,No_Races-1)))","v":0}]
["",null,null,null,null,null,null,"","","","","","","","","","","","","","","","","","","","","","","","","","","","","","","","","","","","","","","","","","",{"$f":"IF(No_Races=0,0,SUM(I76:OFFSET(I76,0,No_Races-1)))","v":0},{"$f":"IF(No_Races=0,0,IF(No_Races>AY$9-1,LARGE($I76:OFFSET($I76,0,No_Races-1),AY$7+$BT76+$BU76),0))","v":0},{"$f":"IF(No_Races=0,0,IF(No_Races>AZ$9-1,LARGE($I76:OFFSET($I76,0,No_Races-1),AZ$7+$BT76+$BU76),0))","v":0},{"$f":"IF(No_Races=0,0,IF(No_Races>BA$9-1,LARGE($I76:OFFSET($I76,0,No_Races-1),BA$7+$BT76+$BU76),0))","v":0},{"$f":"IF(No_Races=0,0,IF(No_Races>BB$9-1,LARGE($I76:OFFSET($I76,0,No_Races-1),BB$7+$BT76+$BU76),0))","v":0},{"$f":"IF(No_Races=0,0,IF(No_Races>BC$9-1,LARGE($I76:OFFSET($I76,0,No_Races-1),BC$7+$BT76+$BU76),0))","v":0},{"$f":"IF(No_Races=0,0,IF(No_Races>BD$9-1,LARGE($I76:OFFSET($I76,0,No_Races-1),BD$7+$BT76+$BU76),0))","v":0},{"$f":"IF(B76=\"\",\"\",G76/1000+INT((AX76-SUM(AY76:BD76))*1000)/1000+IF(COUNTIF(Summary!$D$7:$D$90,C76)<1,0,VLOOKUP(C76,Summary!$D$7:$F$90,3,FALSE)/10000))","v":""},"","","","","","","","","","","","","","",{"$f":"IF(B76=\"\",\"\",COUNTIF(I76:I76,'Race results'!$J$3)+COUNTIF(I76:I76,'Race results'!$K$3))","v":""},{"$f":"IF(B76=\"\",\"\",COUNTIF(J76:AW76,'Race results'!$J$2)+COUNTIF(J76:AW76,'Race results'!$K$2))","v":""},{"$f":"IF(No_Races=0,0,COUNT(I76:OFFSET(I76,0,No_Races-1)))","v":0}]
["",null,null,null,null,null,null,"","","","","","","","","","","","","","","","","","","","","","","","","","","","","","","","","","","","","","","","","","",{"$f":"IF(No_Races=0,0,SUM(I77:OFFSET(I77,0,No_Races-1)))","v":0},{"$f":"IF(No_Races=0,0,IF(No_Races>AY$9-1,LARGE($I77:OFFSET($I77,0,No_Races-1),AY$7+$BT77+$BU77),0))","v":0},{"$f":"IF(No_Races=0,0,IF(No_Races>AZ$9-1,LARGE($I77:OFFSET($I77,0,No_Races-1),AZ$7+$BT77+$BU77),0))","v":0},{"$f":"IF(No_Races=0,0,IF(No_Races>BA$9-1,LARGE($I77:OFFSET($I77,0,No_Races-1),BA$7+$BT77+$BU77),0))","v":0},{"$f":"IF(No_Races=0,0,IF(No_Races>BB$9-1,LARGE($I77:OFFSET($I77,0,No_Races-1),BB$7+$BT77+$BU77),0))","v":0},{"$f":"IF(No_Races=0,0,IF(No_Races>BC$9-1,LARGE($I77:OFFSET($I77,0,No_Races-1),BC$7+$BT77+$BU77),0))","v":0},{"$f":"IF(No_Races=0,0,IF(No_Races>BD$9-1,LARGE($I77:OFFSET($I77,0,No_Races-1),BD$7+$BT77+$BU77),0))","v":0},{"$f":"IF(B77=\"\",\"\",G77/1000+INT((AX77-SUM(AY77:BD77))*1000)/1000+IF(COUNTIF(Summary!$D$7:$D$90,C77)<1,0,VLOOKUP(C77,Summary!$D$7:$F$90,3,FALSE)/10000))","v":""},"","","","","","","","","","","","","","",{"$f":"IF(B77=\"\",\"\",COUNTIF(I77:I77,'Race results'!$J$3)+COUNTIF(I77:I77,'Race results'!$K$3))","v":""},{"$f":"IF(B77=\"\",\"\",COUNTIF(J77:AW77,'Race results'!$J$2)+COUNTIF(J77:AW77,'Race results'!$K$2))","v":""},{"$f":"IF(No_Races=0,0,COUNT(I77:OFFSET(I77,0,No_Races-1)))","v":0}]
["",null,null,null,null,null,null,"","","","","","","","","","","","","","","","","","","","","","","","","","","","","","","","","","","","","","","","","","",{"$f":"IF(No_Races=0,0,SUM(I78:OFFSET(I78,0,No_Races-1)))","v":0},{"$f":"IF(No_Races=0,0,IF(No_Races>AY$9-1,LARGE($I78:OFFSET($I78,0,No_Races-1),AY$7+$BT78+$BU78),0))","v":0},{"$f":"IF(No_Races=0,0,IF(No_Races>AZ$9-1,LARGE($I78:OFFSET($I78,0,No_Races-1),AZ$7+$BT78+$BU78),0))","v":0},{"$f":"IF(No_Races=0,0,IF(No_Races>BA$9-1,LARGE($I78:OFFSET($I78,0,No_Races-1),BA$7+$BT78+$BU78),0))","v":0},{"$f":"IF(No_Races=0,0,IF(No_Races>BB$9-1,LARGE($I78:OFFSET($I78,0,No_Races-1),BB$7+$BT78+$BU78),0))","v":0},{"$f":"IF(No_Races=0,0,IF(No_Races>BC$9-1,LARGE($I78:OFFSET($I78,0,No_Races-1),BC$7+$BT78+$BU78),0))","v":0},{"$f":"IF(No_Races=0,0,IF(No_Races>BD$9-1,LARGE($I78:OFFSET($I78,0,No_Races-1),BD$7+$BT78+$BU78),0))","v":0},{"$f":"IF(B78=\"\",\"\",G78/1000+INT((AX78-SUM(AY78:BD78))*1000)/1000+IF(COUNTIF(Summary!$D$7:$D$90,C78)<1,0,VLOOKUP(C78,Summary!$D$7:$F$90,3,FALSE)/10000))","v":""},"","","","","","","","","","","","","","",{"$f":"IF(B78=\"\",\"\",COUNTIF(I78:I78,'Race results'!$J$3)+COUNTIF(I78:I78,'Race results'!$K$3))","v":""},{"$f":"IF(B78=\"\",\"\",COUNTIF(J78:AW78,'Race results'!$J$2)+COUNTIF(J78:AW78,'Race results'!$K$2))","v":""},{"$f":"IF(No_Races=0,0,COUNT(I78:OFFSET(I78,0,No_Races-1)))","v":0}]
["",null,null,null,null,null,null,"","","","","","","","","","","","","","","","","","","","","","","","","","","","","","","","","","","","","","","","","","",{"$f":"IF(No_Races=0,0,SUM(I79:OFFSET(I79,0,No_Races-1)))","v":0},{"$f":"IF(No_Races=0,0,IF(No_Races>AY$9-1,LARGE($I79:OFFSET($I79,0,No_Races-1),AY$7+$BT79+$BU79),0))","v":0},{"$f":"IF(No_Races=0,0,IF(No_Races>AZ$9-1,LARGE($I79:OFFSET($I79,0,No_Races-1),AZ$7+$BT79+$BU79),0))","v":0},{"$f":"IF(No_Races=0,0,IF(No_Races>BA$9-1,LARGE($I79:OFFSET($I79,0,No_Races-1),BA$7+$BT79+$BU79),0))","v":0},{"$f":"IF(No_Races=0,0,IF(No_Races>BB$9-1,LARGE($I79:OFFSET($I79,0,No_Races-1),BB$7+$BT79+$BU79),0))","v":0},{"$f":"IF(No_Races=0,0,IF(No_Races>BC$9-1,LARGE($I79:OFFSET($I79,0,No_Races-1),BC$7+$BT79+$BU79),0))","v":0},{"$f":"IF(No_Races=0,0,IF(No_Races>BD$9-1,LARGE($I79:OFFSET($I79,0,No_Races-1),BD$7+$BT79+$BU79),0))","v":0},{"$f":"IF(B79=\"\",\"\",G79/1000+INT((AX79-SUM(AY79:BD79))*1000)/1000+IF(COUNTIF(Summary!$D$7:$D$90,C79)<1,0,VLOOKUP(C79,Summary!$D$7:$F$90,3,FALSE)/10000))","v":""},"","","","","","","","","","","","","","",{"$f":"IF(B79=\"\",\"\",COUNTIF(I79:I79,'Race results'!$J$3)+COUNTIF(I79:I79,'Race results'!$K$3))","v":""},{"$f":"IF(B79=\"\",\"\",COUNTIF(J79:AW79,'Race results'!$J$2)+COUNTIF(J79:AW79,'Race results'!$K$2))","v":""},{"$f":"IF(No_Races=0,0,COUNT(I79:OFFSET(I79,0,No_Races-1)))","v":0}]
["",null,null,null,null,null,null,"","","","","","","","","","","","","","","","","","","","","","","","","","","","","","","","","","","","","","","","","","",{"$f":"IF(No_Races=0,0,SUM(I80:OFFSET(I80,0,No_Races-1)))","v":0},{"$f":"IF(No_Races=0,0,IF(No_Races>AY$9-1,LARGE($I80:OFFSET($I80,0,No_Races-1),AY$7+$BT80+$BU80),0))","v":0},{"$f":"IF(No_Races=0,0,IF(No_Races>AZ$9-1,LARGE($I80:OFFSET($I80,0,No_Races-1),AZ$7+$BT80+$BU80),0))","v":0},{"$f":"IF(No_Races=0,0,IF(No_Races>BA$9-1,LARGE($I80:OFFSET($I80,0,No_Races-1),BA$7+$BT80+$BU80),0))","v":0},{"$f":"IF(No_Races=0,0,IF(No_Races>BB$9-1,LARGE($I80:OFFSET($I80,0,No_Races-1),BB$7+$BT80+$BU80),0))","v":0},{"$f":"IF(No_Races=0,0,IF(No_Races>BC$9-1,LARGE($I80:OFFSET($I80,0,No_Races-1),BC$7+$BT80+$BU80),0))","v":0},{"$f":"IF(No_Races=0,0,IF(No_Races>BD$9-1,LARGE($I80:OFFSET($I80,0,No_Races-1),BD$7+$BT80+$BU80),0))","v":0},{"$f":"IF(B80=\"\",\"\",G80/1000+INT((AX80-SUM(AY80:BD80))*1000)/1000+IF(COUNTIF(Summary!$D$7:$D$90,C80)<1,0,VLOOKUP(C80,Summary!$D$7:$F$90,3,FALSE)/10000))","v":""},"","","","","","","","","","","","","","",{"$f":"IF(B80=\"\",\"\",COUNTIF(I80:I80,'Race results'!$J$3)+COUNTIF(I80:I80,'Race results'!$K$3))","v":""},{"$f":"IF(B80=\"\",\"\",COUNTIF(J80:AW80,'Race results'!$J$2)+COUNTIF(J80:AW80,'Race results'!$K$2))","v":""},{"$f":"IF(No_Races=0,0,COUNT(I80:OFFSET(I80,0,No_Races-1)))","v":0}]
["",null,null,null,null,null,null,"","","","","","","","","","","","","","","","","","","","","","","","","","","","","","","","","","","","","","","","","","",{"$f":"IF(No_Races=0,0,SUM(I81:OFFSET(I81,0,No_Races-1)))","v":0},{"$f":"IF(No_Races=0,0,IF(No_Races>AY$9-1,LARGE($I81:OFFSET($I81,0,No_Races-1),AY$7+$BT81+$BU81),0))","v":0},{"$f":"IF(No_Races=0,0,IF(No_Races>AZ$9-1,LARGE($I81:OFFSET($I81,0,No_Races-1),AZ$7+$BT81+$BU81),0))","v":0},{"$f":"IF(No_Races=0,0,IF(No_Races>BA$9-1,LARGE($I81:OFFSET($I81,0,No_Races-1),BA$7+$BT81+$BU81),0))","v":0},{"$f":"IF(No_Races=0,0,IF(No_Races>BB$9-1,LARGE($I81:OFFSET($I81,0,No_Races-1),BB$7+$BT81+$BU81),0))","v":0},{"$f":"IF(No_Races=0,0,IF(No_Races>BC$9-1,LARGE($I81:OFFSET($I81,0,No_Races-1),BC$7+$BT81+$BU81),0))","v":0},{"$f":"IF(No_Races=0,0,IF(No_Races>BD$9-1,LARGE($I81:OFFSET($I81,0,No_Races-1),BD$7+$BT81+$BU81),0))","v":0},{"$f":"IF(B81=\"\",\"\",G81/1000+INT((AX81-SUM(AY81:BD81))*1000)/1000+IF(COUNTIF(Summary!$D$7:$D$90,C81)<1,0,VLOOKUP(C81,Summary!$D$7:$F$90,3,FALSE)/10000))","v":""},"","","","","","","","","","","","","","",{"$f":"IF(B81=\"\",\"\",COUNTIF(I81:I81,'Race results'!$J$3)+COUNTIF(I81:I81,'Race results'!$K$3))","v":""},{"$f":"IF(B81=\"\",\"\",COUNTIF(J81:AW81,'Race results'!$J$2)+COUNTIF(J81:AW81,'Race results'!$K$2))","v":""},{"$f":"IF(No_Races=0,0,COUNT(I81:OFFSET(I81,0,No_Races-1)))","v":0}]
["",null,null,null,null,null,null,"","","","","","","","","","","","","","","","","","","","","","","","","","","","","","","","","","","","","","","","","","",{"$f":"IF(No_Races=0,0,SUM(I82:OFFSET(I82,0,No_Races-1)))","v":0},{"$f":"IF(No_Races=0,0,IF(No_Races>AY$9-1,LARGE($I82:OFFSET($I82,0,No_Races-1),AY$7+$BT82+$BU82),0))","v":0},{"$f":"IF(No_Races=0,0,IF(No_Races>AZ$9-1,LARGE($I82:OFFSET($I82,0,No_Races-1),AZ$7+$BT82+$BU82),0))","v":0},{"$f":"IF(No_Races=0,0,IF(No_Races>BA$9-1,LARGE($I82:OFFSET($I82,0,No_Races-1),BA$7+$BT82+$BU82),0))","v":0},{"$f":"IF(No_Races=0,0,IF(No_Races>BB$9-1,LARGE($I82:OFFSET($I82,0,No_Races-1),BB$7+$BT82+$BU82),0))","v":0},{"$f":"IF(No_Races=0,0,IF(No_Races>BC$9-1,LARGE($I82:OFFSET($I82,0,No_Races-1),BC$7+$BT82+$BU82),0))","v":0},{"$f":"IF(No_Races=0,0,IF(No_Races>BD$9-1,LARGE($I82:OFFSET($I82,0,No_Races-1),BD$7+$BT82+$BU82),0))","v":0},{"$f":"IF(B82=\"\",\"\",G82/1000+INT((AX82-SUM(AY82:BD82))*1000)/1000+IF(COUNTIF(Summary!$D$7:$D$90,C82)<1,0,VLOOKUP(C82,Summary!$D$7:$F$90,3,FALSE)/10000))","v":""},"","","","","","","","","","","","","","",{"$f":"IF(B82=\"\",\"\",COUNTIF(I82:I82,'Race results'!$J$3)+COUNTIF(I82:I82,'Race results'!$K$3))","v":""},{"$f":"IF(B82=\"\",\"\",COUNTIF(J82:AW82,'Race results'!$J$2)+COUNTIF(J82:AW82,'Race results'!$K$2))","v":""},{"$f":"IF(No_Races=0,0,COUNT(I82:OFFSET(I82,0,No_Races-1)))","v":0}]
["",null,null,null,null,null,null,"","","","","","","","","","","","","","","","","","","","","","","","","","","","","","","","","","","","","","","","","","",{"$f":"IF(No_Races=0,0,SUM(I83:OFFSET(I83,0,No_Races-1)))","v":0},{"$f":"IF(No_Races=0,0,IF(No_Races>AY$9-1,LARGE($I83:OFFSET($I83,0,No_Races-1),AY$7+$BT83+$BU83),0))","v":0},{"$f":"IF(No_Races=0,0,IF(No_Races>AZ$9-1,LARGE($I83:OFFSET($I83,0,No_Races-1),AZ$7+$BT83+$BU83),0))","v":0},{"$f":"IF(No_Races=0,0,IF(No_Races>BA$9-1,LARGE($I83:OFFSET($I83,0,No_Races-1),BA$7+$BT83+$BU83),0))","v":0},{"$f":"IF(No_Races=0,0,IF(No_Races>BB$9-1,LARGE($I83:OFFSET($I83,0,No_Races-1),BB$7+$BT83+$BU83),0))","v":0},{"$f":"IF(No_Races=0,0,IF(No_Races>BC$9-1,LARGE($I83:OFFSET($I83,0,No_Races-1),BC$7+$BT83+$BU83),0))","v":0},{"$f":"IF(No_Races=0,0,IF(No_Races>BD$9-1,LARGE($I83:OFFSET($I83,0,No_Races-1),BD$7+$BT83+$BU83),0))","v":0},{"$f":"IF(B83=\"\",\"\",G83/1000+INT((AX83-SUM(AY83:BD83))*1000)/1000+IF(COUNTIF(Summary!$D$7:$D$90,C83)<1,0,VLOOKUP(C83,Summary!$D$7:$F$90,3,FALSE)/10000))","v":""},"","","","","","","","","","","","","","",{"$f":"IF(B83=\"\",\"\",COUNTIF(I83:I83,'Race results'!$J$3)+COUNTIF(I83:I83,'Race results'!$K$3))","v":""},{"$f":"IF(B83=\"\",\"\",COUNTIF(J83:AW83,'Race results'!$J$2)+COUNTIF(J83:AW83,'Race results'!$K$2))","v":""},{"$f":"IF(No_Races=0,0,COUNT(I83:OFFSET(I83,0,No_Races-1)))","v":0}]
["",null,null,null,null,null,null,"","","","","","","","","","","","","","","","","","","","","","","","","","","","","","","","","","","","","","","","","","",{"$f":"IF(No_Races=0,0,SUM(I84:OFFSET(I84,0,No_Races-1)))","v":0},{"$f":"IF(No_Races=0,0,IF(No_Races>AY$9-1,LARGE($I84:OFFSET($I84,0,No_Races-1),AY$7+$BT84+$BU84),0))","v":0},{"$f":"IF(No_Races=0,0,IF(No_Races>AZ$9-1,LARGE($I84:OFFSET($I84,0,No_Races-1),AZ$7+$BT84+$BU84),0))","v":0},{"$f":"IF(No_Races=0,0,IF(No_Races>BA$9-1,LARGE($I84:OFFSET($I84,0,No_Races-1),BA$7+$BT84+$BU84),0))","v":0},{"$f":"IF(No_Races=0,0,IF(No_Races>BB$9-1,LARGE($I84:OFFSET($I84,0,No_Races-1),BB$7+$BT84+$BU84),0))","v":0},{"$f":"IF(No_Races=0,0,IF(No_Races>BC$9-1,LARGE($I84:OFFSET($I84,0,No_Races-1),BC$7+$BT84+$BU84),0))","v":0},{"$f":"IF(No_Races=0,0,IF(No_Races>BD$9-1,LARGE($I84:OFFSET($I84,0,No_Races-1),BD$7+$BT84+$BU84),0))","v":0},{"$f":"IF(B84=\"\",\"\",G84/1000+INT((AX84-SUM(AY84:BD84))*1000)/1000+IF(COUNTIF(Summary!$D$7:$D$90,C84)<1,0,VLOOKUP(C84,Summary!$D$7:$F$90,3,FALSE)/10000))","v":""},"","","","","","","","","","","","","","",{"$f":"IF(B84=\"\",\"\",COUNTIF(I84:I84,'Race results'!$J$3)+COUNTIF(I84:I84,'Race results'!$K$3))","v":""},{"$f":"IF(B84=\"\",\"\",COUNTIF(J84:AW84,'Race results'!$J$2)+COUNTIF(J84:AW84,'Race results'!$K$2))","v":""},{"$f":"IF(No_Races=0,0,COUNT(I84:OFFSET(I84,0,No_Races-1)))","v":0}]
["",null,null,null,null,null,null,"","","","","","","","","","","","","","","","","","","","","","","","","","","","","","","","","","","","","","","","","","",{"$f":"IF(No_Races=0,0,SUM(I85:OFFSET(I85,0,No_Races-1)))","v":0},{"$f":"IF(No_Races=0,0,IF(No_Races>AY$9-1,LARGE($I85:OFFSET($I85,0,No_Races-1),AY$7+$BT85+$BU85),0))","v":0},{"$f":"IF(No_Races=0,0,IF(No_Races>AZ$9-1,LARGE($I85:OFFSET($I85,0,No_Races-1),AZ$7+$BT85+$BU85),0))","v":0},{"$f":"IF(No_Races=0,0,IF(No_Races>BA$9-1,LARGE($I85:OFFSET($I85,0,No_Races-1),BA$7+$BT85+$BU85),0))","v":0},{"$f":"IF(No_Races=0,0,IF(No_Races>BB$9-1,LARGE($I85:OFFSET($I85,0,No_Races-1),BB$7+$BT85+$BU85),0))","v":0},{"$f":"IF(No_Races=0,0,IF(No_Races>BC$9-1,LARGE($I85:OFFSET($I85,0,No_Races-1),BC$7+$BT85+$BU85),0))","v":0},{"$f":"IF(No_Races=0,0,IF(No_Races>BD$9-1,LARGE($I85:OFFSET($I85,0,No_Races-1),BD$7+$BT85+$BU85),0))","v":0},{"$f":"IF(B85=\"\",\"\",G85/1000+INT((AX85-SUM(AY85:BD85))*1000)/1000+IF(COUNTIF(Summary!$D$7:$D$90,C85)<1,0,VLOOKUP(C85,Summary!$D$7:$F$90,3,FALSE)/10000))","v":""},"","","","","","","","","","","","","","",{"$f":"IF(B85=\"\",\"\",COUNTIF(I85:I85,'Race results'!$J$3)+COUNTIF(I85:I85,'Race results'!$K$3))","v":""},{"$f":"IF(B85=\"\",\"\",COUNTIF(J85:AW85,'Race results'!$J$2)+COUNTIF(J85:AW85,'Race results'!$K$2))","v":""},{"$f":"IF(No_Races=0,0,COUNT(I85:OFFSET(I85,0,No_Races-1)))","v":0}]
["",null,null,null,null,null,null,"","","","","","","","","","","","","","","","","","","","","","","","","","","","","","","","","","","","","","","","","","",{"$f":"IF(No_Races=0,0,SUM(I86:OFFSET(I86,0,No_Races-1)))","v":0},{"$f":"IF(No_Races=0,0,IF(No_Races>AY$9-1,LARGE($I86:OFFSET($I86,0,No_Races-1),AY$7+$BT86+$BU86),0))","v":0},{"$f":"IF(No_Races=0,0,IF(No_Races>AZ$9-1,LARGE($I86:OFFSET($I86,0,No_Races-1),AZ$7+$BT86+$BU86),0))","v":0},{"$f":"IF(No_Races=0,0,IF(No_Races>BA$9-1,LARGE($I86:OFFSET($I86,0,No_Races-1),BA$7+$BT86+$BU86),0))","v":0},{"$f":"IF(No_Races=0,0,IF(No_Races>BB$9-1,LARGE($I86:OFFSET($I86,0,No_Races-1),BB$7+$BT86+$BU86),0))","v":0},{"$f":"IF(No_Races=0,0,IF(No_Races>BC$9-1,LARGE($I86:OFFSET($I86,0,No_Races-1),BC$7+$BT86+$BU86),0))","v":0},{"$f":"IF(No_Races=0,0,IF(No_Races>BD$9-1,LARGE($I86:OFFSET($I86,0,No_Races-1),BD$7+$BT86+$BU86),0))","v":0},{"$f":"IF(B86=\"\",\"\",G86/1000+INT((AX86-SUM(AY86:BD86))*1000)/1000+IF(COUNTIF(Summary!$D$7:$D$90,C86)<1,0,VLOOKUP(C86,Summary!$D$7:$F$90,3,FALSE)/10000))","v":""},"","","","","","","","","","","","","","",{"$f":"IF(B86=\"\",\"\",COUNTIF(I86:I86,'Race results'!$J$3)+COUNTIF(I86:I86,'Race results'!$K$3))","v":""},{"$f":"IF(B86=\"\",\"\",COUNTIF(J86:AW86,'Race results'!$J$2)+COUNTIF(J86:AW86,'Race results'!$K$2))","v":""},{"$f":"IF(No_Races=0,0,COUNT(I86:OFFSET(I86,0,No_Races-1)))","v":0}]
["",null,null,null,null,null,null,"","","","","","","","","","","","","","","","","","","","","","","","","","","","","","","","","","","","","","","","","","",{"$f":"IF(No_Races=0,0,SUM(I87:OFFSET(I87,0,No_Races-1)))","v":0},{"$f":"IF(No_Races=0,0,IF(No_Races>AY$9-1,LARGE($I87:OFFSET($I87,0,No_Races-1),AY$7+$BT87+$BU87),0))","v":0},{"$f":"IF(No_Races=0,0,IF(No_Races>AZ$9-1,LARGE($I87:OFFSET($I87,0,No_Races-1),AZ$7+$BT87+$BU87),0))","v":0},{"$f":"IF(No_Races=0,0,IF(No_Races>BA$9-1,LARGE($I87:OFFSET($I87,0,No_Races-1),BA$7+$BT87+$BU87),0))","v":0},{"$f":"IF(No_Races=0,0,IF(No_Races>BB$9-1,LARGE($I87:OFFSET($I87,0,No_Races-1),BB$7+$BT87+$BU87),0))","v":0},{"$f":"IF(No_Races=0,0,IF(No_Races>BC$9-1,LARGE($I87:OFFSET($I87,0,No_Races-1),BC$7+$BT87+$BU87),0))","v":0},{"$f":"IF(No_Races=0,0,IF(No_Races>BD$9-1,LARGE($I87:OFFSET($I87,0,No_Races-1),BD$7+$BT87+$BU87),0))","v":0},{"$f":"IF(B87=\"\",\"\",G87/1000+INT((AX87-SUM(AY87:BD87))*1000)/1000+IF(COUNTIF(Summary!$D$7:$D$90,C87)<1,0,VLOOKUP(C87,Summary!$D$7:$F$90,3,FALSE)/10000))","v":""},"","","","","","","","","","","","","","",{"$f":"IF(B87=\"\",\"\",COUNTIF(I87:I87,'Race results'!$J$3)+COUNTIF(I87:I87,'Race results'!$K$3))","v":""},{"$f":"IF(B87=\"\",\"\",COUNTIF(J87:AW87,'Race results'!$J$2)+COUNTIF(J87:AW87,'Race results'!$K$2))","v":""},{"$f":"IF(No_Races=0,0,COUNT(I87:OFFSET(I87,0,No_Races-1)))","v":0}]
["",null,null,null,null,null,null,"","","","","","","","","","","","","","","","","","","","","","","","","","","","","","","","","","","","","","","","","","",{"$f":"IF(No_Races=0,0,SUM(I88:OFFSET(I88,0,No_Races-1)))","v":0},{"$f":"IF(No_Races=0,0,IF(No_Races>AY$9-1,LARGE($I88:OFFSET($I88,0,No_Races-1),AY$7+$BT88+$BU88),0))","v":0},{"$f":"IF(No_Races=0,0,IF(No_Races>AZ$9-1,LARGE($I88:OFFSET($I88,0,No_Races-1),AZ$7+$BT88+$BU88),0))","v":0},{"$f":"IF(No_Races=0,0,IF(No_Races>BA$9-1,LARGE($I88:OFFSET($I88,0,No_Races-1),BA$7+$BT88+$BU88),0))","v":0},{"$f":"IF(No_Races=0,0,IF(No_Races>BB$9-1,LARGE($I88:OFFSET($I88,0,No_Races-1),BB$7+$BT88+$BU88),0))","v":0},{"$f":"IF(No_Races=0,0,IF(No_Races>BC$9-1,LARGE($I88:OFFSET($I88,0,No_Races-1),BC$7+$BT88+$BU88),0))","v":0},{"$f":"IF(No_Races=0,0,IF(No_Races>BD$9-1,LARGE($I88:OFFSET($I88,0,No_Races-1),BD$7+$BT88+$BU88),0))","v":0},{"$f":"IF(B88=\"\",\"\",G88/1000+INT((AX88-SUM(AY88:BD88))*1000)/1000+IF(COUNTIF(Summary!$D$7:$D$90,C88)<1,0,VLOOKUP(C88,Summary!$D$7:$F$90,3,FALSE)/10000))","v":""},"","","","","","","","","","","","","","",{"$f":"IF(B88=\"\",\"\",COUNTIF(I88:I88,'Race results'!$J$3)+COUNTIF(I88:I88,'Race results'!$K$3))","v":""},{"$f":"IF(B88=\"\",\"\",COUNTIF(J88:AW88,'Race results'!$J$2)+COUNTIF(J88:AW88,'Race results'!$K$2))","v":""},{"$f":"IF(No_Races=0,0,COUNT(I88:OFFSET(I88,0,No_Races-1)))","v":0}]
["",null,null,null,null,null,null,"","","","","","","","","","","","","","","","","","","","","","","","","","","","","","","","","","","","","","","","","","",{"$f":"IF(No_Races=0,0,SUM(I89:OFFSET(I89,0,No_Races-1)))","v":0},{"$f":"IF(No_Races=0,0,IF(No_Races>AY$9-1,LARGE($I89:OFFSET($I89,0,No_Races-1),AY$7+$BT89+$BU89),0))","v":0},{"$f":"IF(No_Races=0,0,IF(No_Races>AZ$9-1,LARGE($I89:OFFSET($I89,0,No_Races-1),AZ$7+$BT89+$BU89),0))","v":0},{"$f":"IF(No_Races=0,0,IF(No_Races>BA$9-1,LARGE($I89:OFFSET($I89,0,No_Races-1),BA$7+$BT89+$BU89),0))","v":0},{"$f":"IF(No_Races=0,0,IF(No_Races>BB$9-1,LARGE($I89:OFFSET($I89,0,No_Races-1),BB$7+$BT89+$BU89),0))","v":0},{"$f":"IF(No_Races=0,0,IF(No_Races>BC$9-1,LARGE($I89:OFFSET($I89,0,No_Races-1),BC$7+$BT89+$BU89),0))","v":0},{"$f":"IF(No_Races=0,0,IF(No_Races>BD$9-1,LARGE($I89:OFFSET($I89,0,No_Races-1),BD$7+$BT89+$BU89),0))","v":0},{"$f":"IF(B89=\"\",\"\",G89/1000+INT((AX89-SUM(AY89:BD89))*1000)/1000+IF(COUNTIF(Summary!$D$7:$D$90,C89)<1,0,VLOOKUP(C89,Summary!$D$7:$F$90,3,FALSE)/10000))","v":""},"","","","","","","","","","","","","","",{"$f":"IF(B89=\"\",\"\",COUNTIF(I89:I89,'Race results'!$J$3)+COUNTIF(I89:I89,'Race results'!$K$3))","v":""},{"$f":"IF(B89=\"\",\"\",COUNTIF(J89:AW89,'Race results'!$J$2)+COUNTIF(J89:AW89,'Race results'!$K$2))","v":""},{"$f":"IF(No_Races=0,0,COUNT(I89:OFFSET(I89,0,No_Races-1)))","v":0}]
["",null,null,null,null,null,null,"","","","","","","","","","","","","","","","","","","","","","","","","","","","","","","","","","","","","","","","","","",{"$f":"IF(No_Races=0,0,SUM(I90:OFFSET(I90,0,No_Races-1)))","v":0},{"$f":"IF(No_Races=0,0,IF(No_Races>AY$9-1,LARGE($I90:OFFSET($I90,0,No_Races-1),AY$7+$BT90+$BU90),0))","v":0},{"$f":"IF(No_Races=0,0,IF(No_Races>AZ$9-1,LARGE($I90:OFFSET($I90,0,No_Races-1),AZ$7+$BT90+$BU90),0))","v":0},{"$f":"IF(No_Races=0,0,IF(No_Races>BA$9-1,LARGE($I90:OFFSET($I90,0,No_Races-1),BA$7+$BT90+$BU90),0))","v":0},{"$f":"IF(No_Races=0,0,IF(No_Races>BB$9-1,LARGE($I90:OFFSET($I90,0,No_Races-1),BB$7+$BT90+$BU90),0))","v":0},{"$f":"IF(No_Races=0,0,IF(No_Races>BC$9-1,LARGE($I90:OFFSET($I90,0,No_Races-1),BC$7+$BT90+$BU90),0))","v":0},{"$f":"IF(No_Races=0,0,IF(No_Races>BD$9-1,LARGE($I90:OFFSET($I90,0,No_Races-1),BD$7+$BT90+$BU90),0))","v":0},{"$f":"IF(B90=\"\",\"\",G90/1000+INT((AX90-SUM(AY90:BD90))*1000)/1000+IF(COUNTIF(Summary!$D$7:$D$90,C90)<1,0,VLOOKUP(C90,Summary!$D$7:$F$90,3,FALSE)/10000))","v":""},"","","","","","","","","","","","","","",{"$f":"IF(B90=\"\",\"\",COUNTIF(I90:I90,'Race results'!$J$3)+COUNTIF(I90:I90,'Race results'!$K$3))","v":""},{"$f":"IF(B90=\"\",\"\",COUNTIF(J90:AW90,'Race results'!$J$2)+COUNTIF(J90:AW90,'Race results'!$K$2))","v":""},{"$f":"IF(No_Races=0,0,COUNT(I90:OFFSET(I90,0,No_Races-1)))","v":0}]
["",null,null,null,null,null,null,"","","","","","","","","","","","","","","","","","","","","","","","","","","","","","","","","","","","","","","","","","",{"$f":"IF(No_Races=0,0,SUM(I91:OFFSET(I91,0,No_Races-1)))","v":0},{"$f":"IF(No_Races=0,0,IF(No_Races>AY$9-1,LARGE($I91:OFFSET($I91,0,No_Races-1),AY$7+$BT91+$BU91),0))","v":0},{"$f":"IF(No_Races=0,0,IF(No_Races>AZ$9-1,LARGE($I91:OFFSET($I91,0,No_Races-1),AZ$7+$BT91+$BU91),0))","v":0},{"$f":"IF(No_Races=0,0,IF(No_Races>BA$9-1,LARGE($I91:OFFSET($I91,0,No_Races-1),BA$7+$BT91+$BU91),0))","v":0},{"$f":"IF(No_Races=0,0,IF(No_Races>BB$9-1,LARGE($I91:OFFSET($I91,0,No_Races-1),BB$7+$BT91+$BU91),0))","v":0},{"$f":"IF(No_Races=0,0,IF(No_Races>BC$9-1,LARGE($I91:OFFSET($I91,0,No_Races-1),BC$7+$BT91+$BU91),0))","v":0},{"$f":"IF(No_Races=0,0,IF(No_Races>BD$9-1,LARGE($I91:OFFSET($I91,0,No_Races-1),BD$7+$BT91+$BU91),0))","v":0},{"$f":"IF(B91=\"\",\"\",G91/1000+INT((AX91-SUM(AY91:BD91))*1000)/1000+IF(COUNTIF(Summary!$D$7:$D$90,C91)<1,0,VLOOKUP(C91,Summary!$D$7:$F$90,3,FALSE)/10000))","v":""},"","","","","","","","","","","","","","",{"$f":"IF(B91=\"\",\"\",COUNTIF(I91:I91,'Race results'!$J$3)+COUNTIF(I91:I91,'Race results'!$K$3))","v":""},{"$f":"IF(B91=\"\",\"\",COUNTIF(J91:AW91,'Race results'!$J$2)+COUNTIF(J91:AW91,'Race results'!$K$2))","v":""},{"$f":"IF(No_Races=0,0,COUNT(I91:OFFSET(I91,0,No_Races-1)))","v":0}]
["",null,null,null,null,null,null,"","","","","","","","","","","","","","","","","","","","","","","","","","","","","","","","","","","","","","","","","","",{"$f":"IF(No_Races=0,0,SUM(I92:OFFSET(I92,0,No_Races-1)))","v":0},{"$f":"IF(No_Races=0,0,IF(No_Races>AY$9-1,LARGE($I92:OFFSET($I92,0,No_Races-1),AY$7+$BT92+$BU92),0))","v":0},{"$f":"IF(No_Races=0,0,IF(No_Races>AZ$9-1,LARGE($I92:OFFSET($I92,0,No_Races-1),AZ$7+$BT92+$BU92),0))","v":0},{"$f":"IF(No_Races=0,0,IF(No_Races>BA$9-1,LARGE($I92:OFFSET($I92,0,No_Races-1),BA$7+$BT92+$BU92),0))","v":0},{"$f":"IF(No_Races=0,0,IF(No_Races>BB$9-1,LARGE($I92:OFFSET($I92,0,No_Races-1),BB$7+$BT92+$BU92),0))","v":0},{"$f":"IF(No_Races=0,0,IF(No_Races>BC$9-1,LARGE($I92:OFFSET($I92,0,No_Races-1),BC$7+$BT92+$BU92),0))","v":0},{"$f":"IF(No_Races=0,0,IF(No_Races>BD$9-1,LARGE($I92:OFFSET($I92,0,No_Races-1),BD$7+$BT92+$BU92),0))","v":0},{"$f":"IF(B92=\"\",\"\",G92/1000+INT((AX92-SUM(AY92:BD92))*1000)/1000+IF(COUNTIF(Summary!$D$7:$D$90,C92)<1,0,VLOOKUP(C92,Summary!$D$7:$F$90,3,FALSE)/10000))","v":""},"","","","","","","","","","","","","","",{"$f":"IF(B92=\"\",\"\",COUNTIF(I92:I92,'Race results'!$J$3)+COUNTIF(I92:I92,'Race results'!$K$3))","v":""},{"$f":"IF(B92=\"\",\"\",COUNTIF(J92:AW92,'Race results'!$J$2)+COUNTIF(J92:AW92,'Race results'!$K$2))","v":""},{"$f":"IF(No_Races=0,0,COUNT(I92:OFFSET(I92,0,No_Races-1)))","v":0}]
["",null,null,null,null,null,null,"","","","","","","","","","","","","","","","","","","","","","","","","","","","","","","","","","","","","","","","","","",{"$f":"IF(No_Races=0,0,SUM(I93:OFFSET(I93,0,No_Races-1)))","v":0},{"$f":"IF(No_Races=0,0,IF(No_Races>AY$9-1,LARGE($I93:OFFSET($I93,0,No_Races-1),AY$7+$BT93+$BU93),0))","v":0},{"$f":"IF(No_Races=0,0,IF(No_Races>AZ$9-1,LARGE($I93:OFFSET($I93,0,No_Races-1),AZ$7+$BT93+$BU93),0))","v":0},{"$f":"IF(No_Races=0,0,IF(No_Races>BA$9-1,LARGE($I93:OFFSET($I93,0,No_Races-1),BA$7+$BT93+$BU93),0))","v":0},{"$f":"IF(No_Races=0,0,IF(No_Races>BB$9-1,LARGE($I93:OFFSET($I93,0,No_Races-1),BB$7+$BT93+$BU93),0))","v":0},{"$f":"IF(No_Races=0,0,IF(No_Races>BC$9-1,LARGE($I93:OFFSET($I93,0,No_Races-1),BC$7+$BT93+$BU93),0))","v":0},{"$f":"IF(No_Races=0,0,IF(No_Races>BD$9-1,LARGE($I93:OFFSET($I93,0,No_Races-1),BD$7+$BT93+$BU93),0))","v":0},{"$f":"IF(B93=\"\",\"\",G93/1000+INT((AX93-SUM(AY93:BD93))*1000)/1000+IF(COUNTIF(Summary!$D$7:$D$90,C93)<1,0,VLOOKUP(C93,Summary!$D$7:$F$90,3,FALSE)/10000))","v":""},"","","","","","","","","","","","","","",{"$f":"IF(B93=\"\",\"\",COUNTIF(I93:I93,'Race results'!$J$3)+COUNTIF(I93:I93,'Race results'!$K$3))","v":""},{"$f":"IF(B93=\"\",\"\",COUNTIF(J93:AW93,'Race results'!$J$2)+COUNTIF(J93:AW93,'Race results'!$K$2))","v":""},{"$f":"IF(No_Races=0,0,COUNT(I93:OFFSET(I93,0,No_Races-1)))","v":0}]
[null,null,null,null,null,null,null,null,null,null,null,null,null,null,null,null,null,null,null,null,null,null,null,null,null,null,null,null,null,null,null,null,null,null,null,null,null,null,null,null,null,null,null,null,null,null,null,null,null,null,null,null,null,null,null,null,null,null,null,null,null,null,null,null,null,null,null,null,null,null,"BS94"]
[null,null,null,null,null,null,null,{"$f":"No_Boats-COUNT(H10:H94)","v":0}]

{"sheet":"COVER PAGE","index":3,"n_rows":0,"n_cols":0,"rows_kept":0,"cut":false,"hidden":true,"merged":[]}

{"sheet":"Summary","index":4,"n_rows":93,"n_cols":6,"rows_kept":93,"cut":false,"hidden":true,"merged":[[2,1,2,5],[3,2,3,4]]}
[null,{"$f":"'Score Sheet'!A9","v":0},null,"HMS 2006 SCORING ASSISTANT"]
[76,1,"LAST RACE   ",{"$f":"Last_Race","v":0},"DISCARDS",{"$f":"IF(No_Races > 'Score Sheet'!$AY$9 -1,1,0)+IF(No_Races > 'Score Sheet'!$AZ$9-1,1,0)+IF(No_Races>'Score Sheet'!$BA$9-1,1,0)+IF(No_Races>'Score Sheet'!$BB$9-1,1,0)+IF(No_Races>'Score Sheet'!$BC$9-1,1,0)+IF(No_Races>'Score Sheet'!$BD$9-1,1,0)","v":0}]
[]
[null,null,{"$f":"CONCATENATE(\"After Race  \",TEXT(D2,\"0\"),\"  with  \",TEXT(F2,\"0\"),\"  Discard(s)\")","v":"After Race  0  with  0  Discard(s)"}]
[]
[null,"Position","Skipper","Sail No.","Points","Position"]
[{"$f":"IF(Summary1=\"\",\"\",IF(Summary1=B8,\"=\",\"\"))","v":""},"",null,null,"",""]
[{"$f":"IF(B8=\"\",\"\",IF(OR(B7=B8,B8=B9),\"=\",\"\"))","v":""},"",null,null,"",""]
[{"$f":"IF(B9=\"\",\"\",IF(OR(B8=B9,B9=B10),\"=\",\"\"))","v":""},"",null,null,"",""]
[{"$f":"IF(B10=\"\",\"\",IF(OR(B9=B10,B10=B11),\"=\",\"\"))","v":""},"",null,null,"",""]
["","",null,null,"",""]
["","",null,null,"",""]
["","",null,null,"",""]
["","",null,null,"",""]
["","",null,null,"",""]
["","",null,null,"",""]
["","",null,null,"",""]
["","",null,null,"",""]
["","",null,null,"",""]
["","",null,null,"",""]
["","",null,null,"",""]
["","",null,null,"",""]
["","",null,null,"",""]
["","",null,null,"",""]
["","",null,null,"",""]
["","",null,null,"",""]
["","",null,null,"",""]
["","",null,null,"",""]
["","",null,null,"",""]
["","",null,null,"",""]
["","",null,null,"",""]
["","",null,null,"",""]
["","",null,null,"",""]
["","",null,null,"",""]
["","",null,null,"",""]
["","",null,null,"",""]
["","",null,null,"",""]
["","",null,null,"",""]
["","",null,null,"",""]
["","",null,null,"",""]
["","",null,null,"",""]
["","",null,null,"",""]
["","",null,null,"",""]
["","",null,null,"",""]
["","",null,null,"",""]
["","",null,null,"",""]
["","",null,null,"",""]
["","",null,null,"",""]
["","",null,null,"",""]
["","",null,null,"",""]
["","",null,null,"",""]
["","",null,null,"",""]
["","",null,null,"",""]
["","",null,null,"",""]
["","",null,null,"",""]
["","",null,null,"",""]
["","",null,null,"",""]
["","",null,null,"",""]
["","",null,null,"",""]
["","",null,null,"",""]
["","",null,null,"",""]
["","",null,null,"",""]
["","",null,null,"",""]
["","",null,null,"",""]
["","",null,null,"",""]
["","",null,null,"",""]
["","",null,null,"",""]
["","",null,null,"",""]
["","",null,null,"",""]
["","",null,null,"",""]
["","",null,null,"",""]
["","",null,null,"",""]
["","",null,null,"",""]
["","",null,null,"",""]
[{"$f":"IF(B75=\"\",\"\",IF(OR(B74=B75,B75=B76),\"=\",\"\"))","v":""},"",null,null,"",""]
["","",null,null,"",""]
["","",null,null,"",""]
["","",null,null,"",""]
["","",null,null,"",""]
["","",null,null,"",""]
["","",null,null,"",""]
["","",null,null,"",""]
["","",null,null,"",""]
["","",null,null,"",""]
["","",null,null,"",""]
["","",null,null,"",""]
["","",null,null,"",""]
["","",null,null,"",""]
["","",null,null,"",""]
["","",null,null,"",""]
[null,null,null,null,0]
[null,null,null,null,0]
[null,null,null,null,0]

{"sheet":"Seeding Example","index":5,"n_rows":78,"n_cols":18,"rows_kept":78,"cut":false,"hidden":false,"merged":[[23,13,23,17],[24,16,24,17],[25,4,25,5],[23,0,23,5],[23,7,23,11]]}
["Seeding example with 29 competitors (sail numbers 1 - 29) using HMS 2007 guidelines. "]
["Assign skippers to heats in Race 1 based on even mixture of skills."]
["Heats are run in reverse alphabetical order."]
[]
["Skippers per heat:"]
["Promotion = 4",null,null,"D","C","B","A"]
[null,"2 heats",null,null,null,17,16]
[null,"3 heats",null,null,11,13,13]
[null,"4 heats",null,9,8,12,12]
[]
["Promotion = 6",null,null,"D","C","B","A"]
[null,"2 heats",null,null,null,17,18]
[]
[]
[]
["Note","P","=","Promoted from previous Heat "]
[null,"N","=","Finishing place in previous race - Heat A"]
[null,"N","=","Finishing place in previous race - Heat B"]
[null,"N","=","Finishing place in previous race - Heat C"]
[null,"N","=","Finishing place in previous race - Heat D"]
[]
[]
[]
["2 Heats",null,null,null,null,null,null,"3 Heats",null,null,null,null,null,"4 Heats"]
[]
[null,"Race 1",null,"Race 2","Race 3+",null,null,null,"Race 1",null,"Race 2","Race 3",null,null,"Race 1",null,"Race 2","Race 3"]
[null,"Finishers",null,"P = 4","P = 4","P = 6",null,null,"Finishers",null,"P = 4","P = 4",null,null,"Finishers",null,"P = 4","P = 4"]
["Heat A",null,null,null,null,null,null,"Heat A",null,null,null,null,null,"Heat A"]
[1,1,null,1,1,1,null,1,1,null,1,1,null,1,1,null,1,1]
[2,2,null,2,2,2,null,2,2,null,2,2,null,2,2,null,2,2]
[3,3,null,3,3,3,null,3,3,null,3,3,null,3,3,null,8,3]
[4,4,null,4,4,4,null,4,4,null,11,4,null,4,4,null,9,4]
[5,5,null,5,5,5,null,5,5,null,12,5,null,5,5,null,16,5]
[6,6,null,6,6,6,null,6,6,null,13,6,null,6,6,null,17,6]
[7,7,null,16,7,7,null,7,7,null,20,7,null,7,7,null,23,7]
[8,8,null,17,8,8,null,8,8,null,21,8,null,8,null,null,24,"P"]
[9,9,null,18,9,9,null,9,9,null,22,9,null,9,null,null,"P","P"]
[10,10,null,19,10,10,null,10,10,null,"P","P",null,10,null,null,"P","P"]
[11,11,null,20,11,11,null,11,null,null,"P","P",null,11,null,null,"P","P"]
[12,12,null,21,12,12,null,12,null,null,"P","P",null,12,null,null,"P"]
[13,13,null,"P",13,"P",null,13,null,null,"P","P"]
[14,14,null,"P","P","P",null,null,null,null,null,null,null,"Heat B"]
[15,15,null,"P","P","P",null,"Heat B",null,null,null,null,null,1,8,null,3,8]
[16,null,null,"P","P","P",null,1,11,null,4,10,null,2,9,null,4,9]
[17,null,null,null,"P","P",null,2,12,null,5,11,null,3,10,null,10,10]
[18,null,null,null,null,"P",null,3,13,null,6,12,null,4,11,null,11,11]
[null,null,null,null,null,null,null,4,14,null,14,13,null,5,12,null,18,12]
["Heat B",null,null,null,null,null,null,5,15,null,15,14,null,6,13,null,19,13]
[1,16,null,7,14,13,null,6,16,null,16,15,null,7,14,null,25,"P"]
[2,17,null,8,15,14,null,7,17,null,23,16,null,8,15,null,26,"P"]
[3,18,null,9,16,15,null,8,18,null,24,17,null,9,null,null,"P","P"]
[4,19,null,10,17,16,null,9,19,null,25,"P",null,10,null,null,"P","P"]
[5,20,null,11,18,17,null,10,null,null,"P","P",null,11,null,null,"P"]
[6,21,null,12,19,18,null,11,null,null,"P","P",null,12,null,null,"P"]
[7,22,null,13,20,19,null,12,null,null,"P","P"]
[8,23,null,14,21,20,null,13,null,null,"P",null,null,"Heat C"]
[9,24,null,15,22,21,null,null,null,null,null,null,null,1,16,null,5,14]
[10,25,null,22,23,22,null,"Heat C",null,null,null,null,null,2,17,null,12,15]
[11,26,null,23,24,23,null,1,20,null,7,18,null,3,18,null,20,16]
[12,27,null,24,25,24,null,2,21,null,8,19,null,4,19,null,27,17]
[13,28,null,25,26,25,null,3,22,null,9,20,null,5,20,null,"P",18]
[14,29,null,26,27,26,null,4,23,null,10,21,null,6,21,null,"P",19]
[15,null,null,27,28,27,null,5,24,null,17,22,null,7,22,null,"P","P"]
[16,null,null,28,29,28,null,6,25,null,18,23,null,8,null,null,"P","P"]
[17,null,null,29,null,29,null,7,26,null,19,24,null,9,null,null,null,"P"]
[null,null,null,null,null,null,null,8,27,null,26,25,null,10,null,null,null,"P"]
[null,null,null,null,null,null,null,9,28,null,27,26]
[null,null,null,null,null,null,null,10,29,null,28,27,null,"Heat D"]
[null,null,null,null,null,null,null,11,null,null,29,28,null,1,23,null,6,20]
[null,null,null,null,null,null,null,12,null,null,null,29,null,2,24,null,7,21]
[null,null,null,null,null,null,null,null,null,null,null,null,null,3,25,null,13,22]
[null,null,null,null,null,null,null,null,null,null,null,null,null,4,26,null,14,23]
[null,null,null,null,null,null,null,null,null,null,null,null,null,5,27,null,15,24]
[null,null,null,null,null,null,null,null,null,null,null,null,null,6,28,null,21,25]
[null,null,null,null,null,null,null,null,null,null,null,null,null,7,29,null,22,26]
[null,null,null,null,null,null,null,null,null,null,null,null,null,8,null,null,28,27]
[null,null,null,null,null,null,null,null,null,null,null,null,null,9,null,null,29,28]
[null,null,null,null,null,null,null,null,null,null,null,null,null,10,null,null,null,29]

{"sheet":"Averages","index":6,"n_rows":93,"n_cols":90,"rows_kept":93,"cut":false,"hidden":true,"merged":[]}
[]
[]
[]
[]
[]
[]
[]
[null,null,"Sail #",null,null,null,null,null,null,null,null,"Race Number",null,null,null,null,null,null,null,null,null,null,null,null,null,null,null,null,null,null,null,null,null,null,null,null,null,null,null,null,null,null,null,null,null,"Sail #","Event Ave",null,null,null,null,null,null,null,null,null,null,"Race Number"]
[null,null,null,1,2,3,4,5,6,7,8,9,10,11,12,13,14,15,16,17,18,19,20,21,22,23,24,25,26,27,28,29,30,31,32,33,34,35,36,37,38,39,40,41,null,null,null,null,null,1,2,3,4,5,6,7,8,9,10,11,12,13,14,15,16,17,18,19,20,21,22,23,24,25,26,27,28,29,30,31,32,33,34,35,36,37,38,39,40,41]
[null,1,{"$f":"IF('Score Sheet'!C10=\"\",\"\",'Score Sheet'!C10)","v":""},{"$f":"'Race results'!$F$159","v":"DAFT!"},{"$f":"'Race results'!$F$159","v":"DAFT!"},{"$f":"IF('Score Sheet'!J10=\"\",\"R\",IF('Race results'!$C$32>0,'Race results'!$F$159,ROUND(AVERAGE('Score Sheet'!$I10:J10),1)))","v":"R"},{"$f":"IF('Score Sheet'!K10=\"\",\"R\",IF('Race results'!$C$32>0,ROUND(AVERAGE('Score Sheet'!$J10:K10),1),ROUND(AVERAGE('Score Sheet'!$I10:K10),1)))","v":"R"},{"$f":"IF('Score Sheet'!L10=\"\",\"R\",IF('Race results'!$C$32>0,ROUND(AVERAGE('Score Sheet'!$J10:L10),1),ROUND(AVERAGE('Score Sheet'!$I10:L10),1)))","v":"R"},{"$f":"IF('Score Sheet'!M10=\"\",\"R\",IF('Race results'!$C$32>0,ROUND(AVERAGE('Score Sheet'!$J10:M10),1),ROUND(AVERAGE('Score Sheet'!$I10:M10),1)))","v":"R"},{"$f":"IF('Score Sheet'!N10=\"\",\"R\",IF('Race results'!$C$32>0,ROUND(AVERAGE('Score Sheet'!$J10:N10),1),ROUND(AVERAGE('Score Sheet'!$I10:N10),1)))","v":"R"},{"$f":"IF('Score Sheet'!O10=\"\",\"R\",IF('Race results'!$C$32>0,ROUND(AVERAGE('Score Sheet'!$J10:O10),1),ROUND(AVERAGE('Score Sheet'!$I10:O10),1)))","v":"R"},{"$f":"IF('Score Sheet'!P10=\"\",\"R\",IF('Race results'!$C$32>0,ROUND(AVERAGE('Score Sheet'!$J10:P10),1),ROUND(AVERAGE('Score Sheet'!$I10:P10),1)))","v":"R"},{"$f":"IF('Score Sheet'!Q10=\"\",\"R\",IF('Race results'!$C$32>0,ROUND(AVERAGE('Score Sheet'!$J10:Q10),1),ROUND(AVERAGE('Score Sheet'!$I10:Q10),1)))","v":"R"},{"$f":"IF('Score Sheet'!R10=\"\",\"R\",IF('Race results'!$C$32>0,ROUND(AVERAGE('Score Sheet'!$J10:R10),1),ROUND(AVERAGE('Score Sheet'!$I10:R10),1)))","v":"R"},{"$f":"IF('Score Sheet'!S10=\"\",\"R\",IF('Race results'!$C$32>0,ROUND(AVERAGE('Score Sheet'!$J10:S10),1),ROUND(AVERAGE('Score Sheet'!$I10:S10),1)))","v":"R"},{"$f":"IF('Score Sheet'!T10=\"\",\"R\",IF('Race results'!$C$32>0,ROUND(AVERAGE('Score Sheet'!$J10:T10),1),ROUND(AVERAGE('Score Sheet'!$I10:T10),1)))","v":"R"},{"$f":"IF('Score Sheet'!U10=\"\",\"R\",IF('Race results'!$C$32>0,ROUND(AVERAGE('Score Sheet'!$J10:U10),1),ROUND(AVERAGE('Score Sheet'!$I10:U10),1)))","v":"R"},{"$f":"IF('Score Sheet'!V10=\"\",\"R\",IF('Race results'!$C$32>0,ROUND(AVERAGE('Score Sheet'!$J10:V10),1),ROUND(AVERAGE('Score Sheet'!$I10:V10),1)))","v":"R"},{"$f":"IF('Score Sheet'!W10=\"\",\"R\",IF('Race results'!$C$32>0,ROUND(AVERAGE('Score Sheet'!$J10:W10),1),ROUND(AVERAGE('Score Sheet'!$I10:W10),1)))","v":"R"},{"$f":"IF('Score Sheet'!X10=\"\",\"R\",IF('Race results'!$C$32>0,ROUND(AVERAGE('Score Sheet'!$J10:X10),1),ROUND(AVERAGE('Score Sheet'!$I10:X10),1)))","v":"R"},{"$f":"IF('Score Sheet'!Y10=\"\",\"R\",IF('Race results'!$C$32>0,ROUND(AVERAGE('Score Sheet'!$J10:Y10),1),ROUND(AVERAGE('Score Sheet'!$I10:Y10),1)))","v":"R"},{"$f":"IF('Score Sheet'!Z10=\"\",\"R\",IF('Race results'!$C$32>0,ROUND(AVERAGE('Score Sheet'!$J10:Z10),1),ROUND(AVERAGE('Score Sheet'!$I10:Z10),1)))","v":"R"},{"$f":"IF('Score Sheet'!AA10=\"\",\"R\",IF('Race results'!$C$32>0,ROUND(AVERAGE('Score Sheet'!$J10:AA10),1),ROUND(AVERAGE('Score Sheet'!$I10:AA10),1)))","v":"R"},{"$f":"IF('Score Sheet'!AB10=\"\",\"R\",IF('Race results'!$C$32>0,ROUND(AVERAGE('Score Sheet'!$J10:AB10),1),ROUND(AVERAGE('Score Sheet'!$I10:AB10),1)))","v":"R"},{"$f":"IF('Score Sheet'!AC10=\"\",\"R\",IF('Race results'!$C$32>0,ROUND(AVERAGE('Score Sheet'!$J10:AC10),1),ROUND(AVERAGE('Score Sheet'!$I10:AC10),1)))","v":"R"},{"$f":"IF('Score Sheet'!AD10=\"\",\"R\",IF('Race results'!$C$32>0,ROUND(AVERAGE('Score Sheet'!$J10:AD10),1),ROUND(AVERAGE('Score Sheet'!$I10:AD10),1)))","v":"R"},{"$f":"IF('Score Sheet'!AE10=\"\",\"R\",IF('Race results'!$C$32>0,ROUND(AVERAGE('Score Sheet'!$J10:AE10),1),ROUND(AVERAGE('Score Sheet'!$I10:AE10),1)))","v":"R"},{"$f":"IF('Score Sheet'!AF10=\"\",\"R\",IF('Race results'!$C$32>0,ROUND(AVERAGE('Score Sheet'!$J10:AF10),1),ROUND(AVERAGE('Score Sheet'!$I10:AF10),1)))","v":"R"},{"$f":"IF('Score Sheet'!AG10=\"\",\"R\",IF('Race results'!$C$32>0,ROUND(AVERAGE('Score Sheet'!$J10:AG10),1),ROUND(AVERAGE('Score Sheet'!$I10:AG10),1)))","v":"R"},{"$f":"IF('Score Sheet'!AH10=\"\",\"R\",IF('Race results'!$C$32>0,ROUND(AVERAGE('Score Sheet'!$J10:AH10),1),ROUND(AVERAGE('Score Sheet'!$I10:AH10),1)))","v":"R"},{"$f":"IF('Score Sheet'!AI10=\"\",\"R\",IF('Race results'!$C$32>0,ROUND(AVERAGE('Score Sheet'!$J10:AI10),1),ROUND(AVERAGE('Score Sheet'!$I10:AI10),1)))","v":"R"},{"$f":"IF('Score Sheet'!AJ10=\"\",\"R\",IF('Race results'!$C$32>0,ROUND(AVERAGE('Score Sheet'!$J10:AJ10),1),ROUND(AVERAGE('Score Sheet'!$I10:AJ10),1)))","v":"R"},{"$f":"IF('Score Sheet'!AK10=\"\",\"R\",IF('Race results'!$C$32>0,ROUND(AVERAGE('Score Sheet'!$J10:AK10),1),ROUND(AVERAGE('Score Sheet'!$I10:AK10),1)))","v":"R"},{"$f":"IF('Score Sheet'!AL10=\"\",\"R\",IF('Race results'!$C$32>0,ROUND(AVERAGE('Score Sheet'!$J10:AL10),1),ROUND(AVERAGE('Score Sheet'!$I10:AL10),1)))","v":"R"},{"$f":"IF('Score Sheet'!AM10=\"\",\"R\",IF('Race results'!$C$32>0,ROUND(AVERAGE('Score Sheet'!$J10:AM10),1),ROUND(AVERAGE('Score Sheet'!$I10:AM10),1)))","v":"R"},{"$f":"IF('Score Sheet'!AN10=\"\",\"R\",IF('Race results'!$C$32>0,ROUND(AVERAGE('Score Sheet'!$J10:AN10),1),ROUND(AVERAGE('Score Sheet'!$I10:AN10),1)))","v":"R"},{"$f":"IF('Score Sheet'!AO10=\"\",\"R\",IF('Race results'!$C$32>0,ROUND(AVERAGE('Score Sheet'!$J10:AO10),1),ROUND(AVERAGE('Score Sheet'!$I10:AO10),1)))","v":"R"},{"$f":"IF('Score Sheet'!AP10=\"\",\"R\",IF('Race results'!$C$32>0,ROUND(AVERAGE('Score Sheet'!$J10:AP10),1),ROUND(AVERAGE('Score Sheet'!$I10:AP10),1)))","v":"R"},{"$f":"IF('Score Sheet'!AQ10=\"\",\"R\",IF('Race results'!$C$32>0,ROUND(AVERAGE('Score Sheet'!$J10:AQ10),1),ROUND(AVERAGE('Score Sheet'!$I10:AQ10),1)))","v":"R"},{"$f":"IF('Score Sheet'!AR10=\"\",\"R\",IF('Race results'!$C$32>0,ROUND(AVERAGE('Score Sheet'!$J10:AR10),1),ROUND(AVERAGE('Score Sheet'!$I10:AR10),1)))","v":"R"},{"$f":"IF('Score Sheet'!AS10=\"\",\"R\",IF('Race results'!$C$32>0,ROUND(AVERAGE('Score Sheet'!$J10:AS10),1),ROUND(AVERAGE('Score Sheet'!$I10:AS10),1)))","v":"R"},{"$f":"IF('Score Sheet'!AT10=\"\",\"R\",IF('Race results'!$C$32>0,ROUND(AVERAGE('Score Sheet'!$J10:AT10),1),ROUND(AVERAGE('Score Sheet'!$I10:AT10),1)))","v":"R"},{"$f":"IF('Score Sheet'!AU10=\"\",\"R\",IF('Race results'!$C$32>0,ROUND(AVERAGE('Score Sheet'!$J10:AU10),1),ROUND(AVERAGE('Score Sheet'!$I10:AU10),1)))","v":"R"},{"$f":"IF('Score Sheet'!AV10=\"\",\"R\",IF('Race results'!$C$32>0,ROUND(AVERAGE('Score Sheet'!$J10:AV10),1),ROUND(AVERAGE('Score Sheet'!$I10:AV10),1)))","v":"R"},null,{"$f":"C10","v":""},{"$f":"IF(C10=\"\",\"\",IF('Race results'!$C$7<1, \"E\", IF('Race results'!$C$32>0,IF(COUNT(AY10:CL10)<1,\"R\",ROUND(AVERAGE(AY10:CL10),1)),IF(COUNT(AX10:CL10)<1,\"R\",ROUND(AVERAGE(AX10:CL10),1)))))","v":""},null,null,{"$f":"IF($C10=\"\",\"\",IF(ISERROR(VLOOKUP($C10,Race01Results,2,FALSE)),\"\",IF(VLOOKUP($C10,Race01Results,2,FALSE)=RDGevent,\"\",IF(ISNUMBER(VLOOKUP($C10,Race01Results,3,FALSE)),VLOOKUP($C10,Race01Results,3,FALSE),\"\"))))","v":""},{"$f":"IF($C10=\"\",\"\",IF(ISERROR(VLOOKUP($C10,Race02Results,2,FALSE)),\"\",IF(VLOOKUP($C10,Race02Results,2,FALSE)=RDGevent,\"\",IF(ISNUMBER(VLOOKUP($C10,Race02Results,3,FALSE)),VLOOKUP($C10,Race02Results,3,FALSE),\"\"))))","v":""},{"$f":"IF($C10=\"\",\"\",IF(ISERROR(VLOOKUP($C10,Race03Results,2,FALSE)),\"\",IF(VLOOKUP($C10,Race03Results,2,FALSE)=RDGevent,\"\",IF(ISNUMBER(VLOOKUP($C10,Race03Results,3,FALSE)),VLOOKUP($C10,Race03Results,3,FALSE),\"\"))))","v":""},{"$f":"IF($C10=\"\",\"\",IF(ISERROR(VLOOKUP($C10,Race04Results,2,FALSE)),\"\",IF(VLOOKUP($C10,Race04Results,2,FALSE)=RDGevent,\"\",IF(ISNUMBER(VLOOKUP($C10,Race04Results,3,FALSE)),VLOOKUP($C10,Race04Results,3,FALSE),\"\"))))","v":""},{"$f":"IF($C10=\"\",\"\",IF(ISERROR(VLOOKUP($C10,Race05Results,2,FALSE)),\"\",IF(VLOOKUP($C10,Race05Results,2,FALSE)=RDGevent,\"\",IF(ISNUMBER(VLOOKUP($C10,Race05Results,3,FALSE)),VLOOKUP($C10,Race05Results,3,FALSE),\"\"))))","v":""},{"$f":"IF($C10=\"\",\"\",IF(ISERROR(VLOOKUP($C10,Race06Results,2,FALSE)),\"\",IF(VLOOKUP($C10,Race06Results,2,FALSE)=RDGevent,\"\",IF(ISNUMBER(VLOOKUP($C10,Race06Results,3,FALSE)),VLOOKUP($C10,Race06Results,3,FALSE),\"\"))))","v":""},{"$f":"IF($C10=\"\",\"\",IF(ISERROR(VLOOKUP($C10,Race07Results,2,FALSE)),\"\",IF(VLOOKUP($C10,Race07Results,2,FALSE)=RDGevent,\"\",IF(ISNUMBER(VLOOKUP($C10,Race07Results,3,FALSE)),VLOOKUP($C10,Race07Results,3,FALSE),\"\"))))","v":""},{"$f":"IF($C10=\"\",\"\",IF(ISERROR(VLOOKUP($C10,Race08Results,2,FALSE)),\"\",IF(VLOOKUP($C10,Race08Results,2,FALSE)=RDGevent,\"\",IF(ISNUMBER(VLOOKUP($C10,Race08Results,3,FALSE)),VLOOKUP($C10,Race08Results,3,FALSE),\"\"))))","v":""},{"$f":"IF($C10=\"\",\"\",IF(ISERROR(VLOOKUP($C10,Race09Results,2,FALSE)),\"\",IF(VLOOKUP($C10,Race09Results,2,FALSE)=RDGevent,\"\",IF(ISNUMBER(VLOOKUP($C10,Race09Results,3,FALSE)),VLOOKUP($C10,Race09Results,3,FALSE),\"\"))))","v":""},{"$f":"IF($C10=\"\",\"\",IF(ISERROR(VLOOKUP($C10,Race10Results,2,FALSE)),\"\",IF(VLOOKUP($C10,Race10Results,2,FALSE)=RDGevent,\"\",IF(ISNUMBER(VLOOKUP($C10,Race10Results,3,FALSE)),VLOOKUP($C10,Race10Results,3,FALSE),\"\"))))","v":""},{"$f":"IF($C10=\"\",\"\",IF(ISERROR(VLOOKUP($C10,Race11Results,2,FALSE)),\"\",IF(VLOOKUP($C10,Race11Results,2,FALSE)=RDGevent,\"\",IF(ISNUMBER(VLOOKUP($C10,Race11Results,3,FALSE)),VLOOKUP($C10,Race11Results,3,FALSE),\"\"))))","v":""},{"$f":"IF($C10=\"\",\"\",IF(ISERROR(VLOOKUP($C10,Race12Results,2,FALSE)),\"\",IF(VLOOKUP($C10,Race12Results,2,FALSE)=RDGevent,\"\",IF(ISNUMBER(VLOOKUP($C10,Race12Results,3,FALSE)),VLOOKUP($C10,Race12Results,3,FALSE),\"\"))))","v":""},{"$f":"IF($C10=\"\",\"\",IF(ISERROR(VLOOKUP($C10,Race13Results,2,FALSE)),\"\",IF(VLOOKUP($C10,Race13Results,2,FALSE)=RDGevent,\"\",IF(ISNUMBER(VLOOKUP($C10,Race13Results,3,FALSE)),VLOOKUP($C10,Race13Results,3,FALSE),\"\"))))","v":""},{"$f":"IF($C10=\"\",\"\",IF(ISERROR(VLOOKUP($C10,Race14Results,2,FALSE)),\"\",IF(VLOOKUP($C10,Race14Results,2,FALSE)=RDGevent,\"\",IF(ISNUMBER(VLOOKUP($C10,Race14Results,3,FALSE)),VLOOKUP($C10,Race14Results,3,FALSE),\"\"))))","v":""},{"$f":"IF($C10=\"\",\"\",IF(ISERROR(VLOOKUP($C10,Race15Results,2,FALSE)),\"\",IF(VLOOKUP($C10,Race15Results,2,FALSE)=RDGevent,\"\",IF(ISNUMBER(VLOOKUP($C10,Race15Results,3,FALSE)),VLOOKUP($C10,Race15Results,3,FALSE),\"\"))))","v":""},{"$f":"IF($C10=\"\",\"\",IF(ISERROR(VLOOKUP($C10,Race16Results,2,FALSE)),\"\",IF(VLOOKUP($C10,Race16Results,2,FALSE)=RDGevent,\"\",IF(ISNUMBER(VLOOKUP($C10,Race16Results,3,FALSE)),VLOOKUP($C10,Race16Results,3,FALSE),\"\"))))","v":""},{"$f":"IF($C10=\"\",\"\",IF(ISERROR(VLOOKUP($C10,Race17Results,2,FALSE)),\"\",IF(VLOOKUP($C10,Race17Results,2,FALSE)=RDGevent,\"\",IF(ISNUMBER(VLOOKUP($C10,Race17Results,3,FALSE)),VLOOKUP($C10,Race17Results,3,FALSE),\"\"))))","v":""},{"$f":"IF($C10=\"\",\"\",IF(ISERROR(VLOOKUP($C10,Race18Results,2,FALSE)),\"\",IF(VLOOKUP($C10,Race18Results,2,FALSE)=RDGevent,\"\",IF(ISNUMBER(VLOOKUP($C10,Race18Results,3,FALSE)),VLOOKUP($C10,Race18Results,3,FALSE),\"\"))))","v":""},{"$f":"IF($C10=\"\",\"\",IF(ISERROR(VLOOKUP($C10,Race19Results,2,FALSE)),\"\",IF(VLOOKUP($C10,Race19Results,2,FALSE)=RDGevent,\"\",IF(ISNUMBER(VLOOKUP($C10,Race19Results,3,FALSE)),VLOOKUP($C10,Race19Results,3,FALSE),\"\"))))","v":""},{"$f":"IF($C10=\"\",\"\",IF(ISERROR(VLOOKUP($C10,Race20Results,2,FALSE)),\"\",IF(VLOOKUP($C10,Race20Results,2,FALSE)=RDGevent,\"\",IF(ISNUMBER(VLOOKUP($C10,Race20Results,3,FALSE)),VLOOKUP($C10,Race20Results,3,FALSE),\"\"))))","v":""},{"$f":"IF($C10=\"\",\"\",IF(ISERROR(VLOOKUP($C10,Race21Results,2,FALSE)),\"\",IF(VLOOKUP($C10,Race21Results,2,FALSE)=RDGevent,\"\",IF(ISNUMBER(VLOOKUP($C10,Race21Results,3,FALSE)),VLOOKUP($C10,Race21Results,3,FALSE),\"\"))))","v":""},{"$f":"IF($C10=\"\",\"\",IF(ISERROR(VLOOKUP($C10,Race22Results,2,FALSE)),\"\",IF(VLOOKUP($C10,Race22Results,2,FALSE)=RDGevent,\"\",IF(ISNUMBER(VLOOKUP($C10,Race22Results,3,FALSE)),VLOOKUP($C10,Race22Results,3,FALSE),\"\"))))","v":""},{"$f":"IF($C10=\"\",\"\",IF(ISERROR(VLOOKUP($C10,Race23Results,2,FALSE)),\"\",IF(VLOOKUP($C10,Race23Results,2,FALSE)=RDGevent,\"\",IF(ISNUMBER(VLOOKUP($C10,Race23Results,3,FALSE)),VLOOKUP($C10,Race23Results,3,FALSE),\"\"))))","v":""},{"$f":"IF($C10=\"\",\"\",IF(ISERROR(VLOOKUP($C10,Race24Results,2,FALSE)),\"\",IF(VLOOKUP($C10,Race24Results,2,FALSE)=RDGevent,\"\",IF(ISNUMBER(VLOOKUP($C10,Race24Results,3,FALSE)),VLOOKUP($C10,Race24Results,3,FALSE),\"\"))))","v":""},{"$f":"IF($C10=\"\",\"\",IF(ISERROR(VLOOKUP($C10,Race25Results,2,FALSE)),\"\",IF(VLOOKUP($C10,Race25Results,2,FALSE)=RDGevent,\"\",IF(ISNUMBER(VLOOKUP($C10,Race25Results,3,FALSE)),VLOOKUP($C10,Race25Results,3,FALSE),\"\"))))","v":""},{"$f":"IF($C10=\"\",\"\",IF(ISERROR(VLOOKUP($C10,Race26Results,2,FALSE)),\"\",IF(VLOOKUP($C10,Race26Results,2,FALSE)=RDGevent,\"\",IF(ISNUMBER(VLOOKUP($C10,Race26Results,3,FALSE)),VLOOKUP($C10,Race26Results,3,FALSE),\"\"))))","v":""},{"$f":"IF($C10=\"\",\"\",IF(ISERROR(VLOOKUP($C10,Race27Results,2,FALSE)),\"\",IF(VLOOKUP($C10,Race27Results,2,FALSE)=RDGevent,\"\",IF(ISNUMBER(VLOOKUP($C10,Race27Results,3,FALSE)),VLOOKUP($C10,Race27Results,3,FALSE),\"\"))))","v":""},{"$f":"IF($C10=\"\",\"\",IF(ISERROR(VLOOKUP($C10,Race28Results,2,FALSE)),\"\",IF(VLOOKUP($C10,Race28Results,2,FALSE)=RDGevent,\"\",IF(ISNUMBER(VLOOKUP($C10,Race28Results,3,FALSE)),VLOOKUP($C10,Race28Results,3,FALSE),\"\"))))","v":""},{"$f":"IF($C10=\"\",\"\",IF(ISERROR(VLOOKUP($C10,Race29Results,2,FALSE)),\"\",IF(VLOOKUP($C10,Race29Results,2,FALSE)=RDGevent,\"\",IF(ISNUMBER(VLOOKUP($C10,Race29Results,3,FALSE)),VLOOKUP($C10,Race29Results,3,FALSE),\"\"))))","v":""},{"$f":"IF($C10=\"\",\"\",IF(ISERROR(VLOOKUP($C10,Race30Results,2,FALSE)),\"\",IF(VLOOKUP($C10,Race30Results,2,FALSE)=RDGevent,\"\",IF(ISNUMBER(VLOOKUP($C10,Race30Results,3,FALSE)),VLOOKUP($C10,Race30Results,3,FALSE),\"\"))))","v":""},{"$f":"IF($C10=\"\",\"\",IF(ISERROR(VLOOKUP($C10,Race31Results,2,FALSE)),\"\",IF(VLOOKUP($C10,Race31Results,2,FALSE)=RDGevent,\"\",IF(ISNUMBER(VLOOKUP($C10,Race31Results,3,FALSE)),VLOOKUP($C10,Race31Results,3,FALSE),\"\"))))","v":""},{"$f":"IF($C10=\"\",\"\",IF(ISERROR(VLOOKUP($C10,Race32Results,2,FALSE)),\"\",IF(VLOOKUP($C10,Race32Results,2,FALSE)=RDGevent,\"\",IF(ISNUMBER(VLOOKUP($C10,Race32Results,3,FALSE)),VLOOKUP($C10,Race32Results,3,FALSE),\"\"))))","v":""},{"$f":"IF($C10=\"\",\"\",IF(ISERROR(VLOOKUP($C10,Race33Results,2,FALSE)),\"\",IF(VLOOKUP($C10,Race33Results,2,FALSE)=RDGevent,\"\",IF(ISNUMBER(VLOOKUP($C10,Race33Results,3,FALSE)),VLOOKUP($C10,Race33Results,3,FALSE),\"\"))))","v":""},{"$f":"IF($C10=\"\",\"\",IF(ISERROR(VLOOKUP($C10,Race34Results,2,FALSE)),\"\",IF(VLOOKUP($C10,Race34Results,2,FALSE)=RDGevent,\"\",IF(ISNUMBER(VLOOKUP($C10,Race34Results,3,FALSE)),VLOOKUP($C10,Race34Results,3,FALSE),\"\"))))","v":""},{"$f":"IF($C10=\"\",\"\",IF(ISERROR(VLOOKUP($C10,Race35Results,2,FALSE)),\"\",IF(VLOOKUP($C10,Race35Results,2,FALSE)=RDGevent,\"\",IF(ISNUMBER(VLOOKUP($C10,Race35Results,3,FALSE)),VLOOKUP($C10,Race35Results,3,FALSE),\"\"))))","v":""},{"$f":"IF($C10=\"\",\"\",IF(ISERROR(VLOOKUP($C10,Race36Results,2,FALSE)),\"\",IF(VLOOKUP($C10,Race36Results,2,FALSE)=RDGevent,\"\",IF(ISNUMBER(VLOOKUP($C10,Race36Results,3,FALSE)),VLOOKUP($C10,Race36Results,3,FALSE),\"\"))))","v":""},{"$f":"IF($C10=\"\",\"\",IF(ISERROR(VLOOKUP($C10,Race37Results,2,FALSE)),\"\",IF(VLOOKUP($C10,Race37Results,2,FALSE)=RDGevent,\"\",IF(ISNUMBER(VLOOKUP($C10,Race37Results,3,FALSE)),VLOOKUP($C10,Race37Results,3,FALSE),\"\"))))","v":""},{"$f":"IF($C10=\"\",\"\",IF(ISERROR(VLOOKUP($C10,Race38Results,2,FALSE)),\"\",IF(VLOOKUP($C10,Race38Results,2,FALSE)=RDGevent,\"\",IF(ISNUMBER(VLOOKUP($C10,Race38Results,3,FALSE)),VLOOKUP($C10,Race38Results,3,FALSE),\"\"))))","v":""},{"$f":"IF($C10=\"\",\"\",IF(ISERROR(VLOOKUP($C10,Race39Results,2,FALSE)),\"\",IF(VLOOKUP($C10,Race39Results,2,FALSE)=RDGevent,\"\",IF(ISNUMBER(VLOOKUP($C10,Race39Results,3,FALSE)),VLOOKUP($C10,Race39Results,3,FALSE),\"\"))))","v":""},{"$f":"IF($C10=\"\",\"\",IF(ISERROR(VLOOKUP($C10,Race40Results,2,FALSE)),\"\",IF(VLOOKUP($C10,Race40Results,2,FALSE)=RDGevent,\"\",IF(ISNUMBER(VLOOKUP($C10,Race40Results,3,FALSE)),VLOOKUP($C10,Race40Results,3,FALSE),\"\"))))","v":""},{"$f":"IF($C10=\"\",\"\",IF(ISERROR(VLOOKUP($C10,Race41Results,2,FALSE)),\"\",IF(VLOOKUP($C10,Race41Results,2,FALSE)=RDGevent,\"\",IF(ISNUMBER(VLOOKUP($C10,Race41Results,3,FALSE)),VLOOKUP($C10,Race41Results,3,FALSE),\"\"))))","v":""}]
[null,2,{"$f":"IF('Score Sheet'!C11=\"\",\"\",'Score Sheet'!C11)","v":""},{"$f":"'Race results'!$F$159","v":"DAFT!"},{"$f":"'Race results'!$F$159","v":"DAFT!"},{"$f":"IF('Score Sheet'!J11=\"\",\"R\",IF('Race results'!$C$32>0,'Race results'!$F$159,ROUND(AVERAGE('Score Sheet'!$I11:J11),1)))","v":"R"},{"$f":"IF('Score Sheet'!K11=\"\",\"R\",IF('Race results'!$C$32>0,ROUND(AVERAGE('Score Sheet'!$J11:K11),1),ROUND(AVERAGE('Score Sheet'!$I11:K11),1)))","v":"R"},{"$f":"IF('Score Sheet'!L11=\"\",\"R\",IF('Race results'!$C$32>0,ROUND(AVERAGE('Score Sheet'!$J11:L11),1),ROUND(AVERAGE('Score Sheet'!$I11:L11),1)))","v":"R"},{"$f":"IF('Score Sheet'!M11=\"\",\"R\",IF('Race results'!$C$32>0,ROUND(AVERAGE('Score Sheet'!$J11:M11),1),ROUND(AVERAGE('Score Sheet'!$I11:M11),1)))","v":"R"},{"$f":"IF('Score Sheet'!N11=\"\",\"R\",IF('Race results'!$C$32>0,ROUND(AVERAGE('Score Sheet'!$J11:N11),1),ROUND(AVERAGE('Score Sheet'!$I11:N11),1)))","v":"R"},{"$f":"IF('Score Sheet'!O11=\"\",\"R\",IF('Race results'!$C$32>0,ROUND(AVERAGE('Score Sheet'!$J11:O11),1),ROUND(AVERAGE('Score Sheet'!$I11:O11),1)))","v":"R"},{"$f":"IF('Score Sheet'!P11=\"\",\"R\",IF('Race results'!$C$32>0,ROUND(AVERAGE('Score Sheet'!$J11:P11),1),ROUND(AVERAGE('Score Sheet'!$I11:P11),1)))","v":"R"},{"$f":"IF('Score Sheet'!Q11=\"\",\"R\",IF('Race results'!$C$32>0,ROUND(AVERAGE('Score Sheet'!$J11:Q11),1),ROUND(AVERAGE('Score Sheet'!$I11:Q11),1)))","v":"R"},{"$f":"IF('Score Sheet'!R11=\"\",\"R\",IF('Race results'!$C$32>0,ROUND(AVERAGE('Score Sheet'!$J11:R11),1),ROUND(AVERAGE('Score Sheet'!$I11:R11),1)))","v":"R"},{"$f":"IF('Score Sheet'!S11=\"\",\"R\",IF('Race results'!$C$32>0,ROUND(AVERAGE('Score Sheet'!$J11:S11),1),ROUND(AVERAGE('Score Sheet'!$I11:S11),1)))","v":"R"},{"$f":"IF('Score Sheet'!T11=\"\",\"R\",IF('Race results'!$C$32>0,ROUND(AVERAGE('Score Sheet'!$J11:T11),1),ROUND(AVERAGE('Score Sheet'!$I11:T11),1)))","v":"R"},{"$f":"IF('Score Sheet'!U11=\"\",\"R\",IF('Race results'!$C$32>0,ROUND(AVERAGE('Score Sheet'!$J11:U11),1),ROUND(AVERAGE('Score Sheet'!$I11:U11),1)))","v":"R"},{"$f":"IF('Score Sheet'!V11=\"\",\"R\",IF('Race results'!$C$32>0,ROUND(AVERAGE('Score Sheet'!$J11:V11),1),ROUND(AVERAGE('Score Sheet'!$I11:V11),1)))","v":"R"},{"$f":"IF('Score Sheet'!W11=\"\",\"R\",IF('Race results'!$C$32>0,ROUND(AVERAGE('Score Sheet'!$J11:W11),1),ROUND(AVERAGE('Score Sheet'!$I11:W11),1)))","v":"R"},{"$f":"IF('Score Sheet'!X11=\"\",\"R\",IF('Race results'!$C$32>0,ROUND(AVERAGE('Score Sheet'!$J11:X11),1),ROUND(AVERAGE('Score Sheet'!$I11:X11),1)))","v":"R"},{"$f":"IF('Score Sheet'!Y11=\"\",\"R\",IF('Race results'!$C$32>0,ROUND(AVERAGE('Score Sheet'!$J11:Y11),1),ROUND(AVERAGE('Score Sheet'!$I11:Y11),1)))","v":"R"},{"$f":"IF('Score Sheet'!Z11=\"\",\"R\",IF('Race results'!$C$32>0,ROUND(AVERAGE('Score Sheet'!$J11:Z11),1),ROUND(AVERAGE('Score Sheet'!$I11:Z11),1)))","v":"R"},{"$f":"IF('Score Sheet'!AA11=\"\",\"R\",IF('Race results'!$C$32>0,ROUND(AVERAGE('Score Sheet'!$J11:AA11),1),ROUND(AVERAGE('Score Sheet'!$I11:AA11),1)))","v":"R"},{"$f":"IF('Score Sheet'!AB11=\"\",\"R\",IF('Race results'!$C$32>0,ROUND(AVERAGE('Score Sheet'!$J11:AB11),1),ROUND(AVERAGE('Score Sheet'!$I11:AB11),1)))","v":"R"},{"$f":"IF('Score Sheet'!AC11=\"\",\"R\",IF('Race results'!$C$32>0,ROUND(AVERAGE('Score Sheet'!$J11:AC11),1),ROUND(AVERAGE('Score Sheet'!$I11:AC11),1)))","v":"R"},{"$f":"IF('Score Sheet'!AD11=\"\",\"R\",IF('Race results'!$C$32>0,ROUND(AVERAGE('Score Sheet'!$J11:AD11),1),ROUND(AVERAGE('Score Sheet'!$I11:AD11),1)))","v":"R"},{"$f":"IF('Score Sheet'!AE11=\"\",\"R\",IF('Race results'!$C$32>0,ROUND(AVERAGE('Score Sheet'!$J11:AE11),1),ROUND(AVERAGE('Score Sheet'!$I11:AE11),1)))","v":"R"},{"$f":"IF('Score Sheet'!AF11=\"\",\"R\",IF('Race results'!$C$32>0,ROUND(AVERAGE('Score Sheet'!$J11:AF11),1),ROUND(AVERAGE('Score Sheet'!$I11:AF11),1)))","v":"R"},{"$f":"IF('Score Sheet'!AG11=\"\",\"R\",IF('Race results'!$C$32>0,ROUND(AVERAGE('Score Sheet'!$J11:AG11),1),ROUND(AVERAGE('Score Sheet'!$I11:AG11),1)))","v":"R"},{"$f":"IF('Score Sheet'!AH11=\"\",\"R\",IF('Race results'!$C$32>0,ROUND(AVERAGE('Score Sheet'!$J11:AH11),1),ROUND(AVERAGE('Score Sheet'!$I11:AH11),1)))","v":"R"},{"$f":"IF('Score Sheet'!AI11=\"\",\"R\",IF('Race results'!$C$32>0,ROUND(AVERAGE('Score Sheet'!$J11:AI11),1),ROUND(AVERAGE('Score Sheet'!$I11:AI11),1)))","v":"R"},{"$f":"IF('Score Sheet'!AJ11=\"\",\"R\",IF('Race results'!$C$32>0,ROUND(AVERAGE('Score Sheet'!$J11:AJ11),1),ROUND(AVERAGE('Score Sheet'!$I11:AJ11),1)))","v":"R"},{"$f":"IF('Score Sheet'!AK11=\"\",\"R\",IF('Race results'!$C$32>0,ROUND(AVERAGE('Score Sheet'!$J11:AK11),1),ROUND(AVERAGE('Score Sheet'!$I11:AK11),1)))","v":"R"},{"$f":"IF('Score Sheet'!AL11=\"\",\"R\",IF('Race results'!$C$32>0,ROUND(AVERAGE('Score Sheet'!$J11:AL11),1),ROUND(AVERAGE('Score Sheet'!$I11:AL11),1)))","v":"R"},{"$f":"IF('Score Sheet'!AM11=\"\",\"R\",IF('Race results'!$C$32>0,ROUND(AVERAGE('Score Sheet'!$J11:AM11),1),ROUND(AVERAGE('Score Sheet'!$I11:AM11),1)))","v":"R"},{"$f":"IF('Score Sheet'!AN11=\"\",\"R\",IF('Race results'!$C$32>0,ROUND(AVERAGE('Score Sheet'!$J11:AN11),1),ROUND(AVERAGE('Score Sheet'!$I11:AN11),1)))","v":"R"},{"$f":"IF('Score Sheet'!AO11=\"\",\"R\",IF('Race results'!$C$32>0,ROUND(AVERAGE('Score Sheet'!$J11:AO11),1),ROUND(AVERAGE('Score Sheet'!$I11:AO11),1)))","v":"R"},{"$f":"IF('Score Sheet'!AP11=\"\",\"R\",IF('Race results'!$C$32>0,ROUND(AVERAGE('Score Sheet'!$J11:AP11),1),ROUND(AVERAGE('Score Sheet'!$I11:AP11),1)))","v":"R"},{"$f":"IF('Score Sheet'!AQ11=\"\",\"R\",IF('Race results'!$C$32>0,ROUND(AVERAGE('Score Sheet'!$J11:AQ11),1),ROUND(AVERAGE('Score Sheet'!$I11:AQ11),1)))","v":"R"},{"$f":"IF('Score Sheet'!AR11=\"\",\"R\",IF('Race results'!$C$32>0,ROUND(AVERAGE('Score Sheet'!$J11:AR11),1),ROUND(AVERAGE('Score Sheet'!$I11:AR11),1)))","v":"R"},{"$f":"IF('Score Sheet'!AS11=\"\",\"R\",IF('Race results'!$C$32>0,ROUND(AVERAGE('Score Sheet'!$J11:AS11),1),ROUND(AVERAGE('Score Sheet'!$I11:AS11),1)))","v":"R"},{"$f":"IF('Score Sheet'!AT11=\"\",\"R\",IF('Race results'!$C$32>0,ROUND(AVERAGE('Score Sheet'!$J11:AT11),1),ROUND(AVERAGE('Score Sheet'!$I11:AT11),1)))","v":"R"},{"$f":"IF('Score Sheet'!AU11=\"\",\"R\",IF('Race results'!$C$32>0,ROUND(AVERAGE('Score Sheet'!$J11:AU11),1),ROUND(AVERAGE('Score Sheet'!$I11:AU11),1)))","v":"R"},{"$f":"IF('Score Sheet'!AV11=\"\",\"R\",IF('Race results'!$C$32>0,ROUND(AVERAGE('Score Sheet'!$J11:AV11),1),ROUND(AVERAGE('Score Sheet'!$I11:AV11),1)))","v":"R"},null,{"$f":"C11","v":""},{"$f":"IF(C11=\"\",\"\",IF('Race results'!$C$7<1, \"E\", IF('Race results'!$C$32>0,IF(COUNT(AY11:CL11)<1,\"R\",ROUND(AVERAGE(AY11:CL11),1)),IF(COUNT(AX11:CL11)<1,\"R\",ROUND(AVERAGE(AX11:CL11),1)))))","v":""},null,null,{"$f":"IF($C11=\"\",\"\",IF(ISERROR(VLOOKUP($C11,Race01Results,2,FALSE)),\"\",IF(VLOOKUP($C11,Race01Results,2,FALSE)=RDGevent,\"\",IF(ISNUMBER(VLOOKUP($C11,Race01Results,3,FALSE)),VLOOKUP($C11,Race01Results,3,FALSE),\"\"))))","v":""},{"$f":"IF($C11=\"\",\"\",IF(ISERROR(VLOOKUP($C11,Race02Results,2,FALSE)),\"\",IF(VLOOKUP($C11,Race02Results,2,FALSE)=RDGevent,\"\",IF(ISNUMBER(VLOOKUP($C11,Race02Results,3,FALSE)),VLOOKUP($C11,Race02Results,3,FALSE),\"\"))))","v":""},{"$f":"IF($C11=\"\",\"\",IF(ISERROR(VLOOKUP($C11,Race03Results,2,FALSE)),\"\",IF(VLOOKUP($C11,Race03Results,2,FALSE)=RDGevent,\"\",IF(ISNUMBER(VLOOKUP($C11,Race03Results,3,FALSE)),VLOOKUP($C11,Race03Results,3,FALSE),\"\"))))","v":""},{"$f":"IF($C11=\"\",\"\",IF(ISERROR(VLOOKUP($C11,Race04Results,2,FALSE)),\"\",IF(VLOOKUP($C11,Race04Results,2,FALSE)=RDGevent,\"\",IF(ISNUMBER(VLOOKUP($C11,Race04Results,3,FALSE)),VLOOKUP($C11,Race04Results,3,FALSE),\"\"))))","v":""},{"$f":"IF($C11=\"\",\"\",IF(ISERROR(VLOOKUP($C11,Race05Results,2,FALSE)),\"\",IF(VLOOKUP($C11,Race05Results,2,FALSE)=RDGevent,\"\",IF(ISNUMBER(VLOOKUP($C11,Race05Results,3,FALSE)),VLOOKUP($C11,Race05Results,3,FALSE),\"\"))))","v":""},{"$f":"IF($C11=\"\",\"\",IF(ISERROR(VLOOKUP($C11,Race06Results,2,FALSE)),\"\",IF(VLOOKUP($C11,Race06Results,2,FALSE)=RDGevent,\"\",IF(ISNUMBER(VLOOKUP($C11,Race06Results,3,FALSE)),VLOOKUP($C11,Race06Results,3,FALSE),\"\"))))","v":""},{"$f":"IF($C11=\"\",\"\",IF(ISERROR(VLOOKUP($C11,Race07Results,2,FALSE)),\"\",IF(VLOOKUP($C11,Race07Results,2,FALSE)=RDGevent,\"\",IF(ISNUMBER(VLOOKUP($C11,Race07Results,3,FALSE)),VLOOKUP($C11,Race07Results,3,FALSE),\"\"))))","v":""},{"$f":"IF($C11=\"\",\"\",IF(ISERROR(VLOOKUP($C11,Race08Results,2,FALSE)),\"\",IF(VLOOKUP($C11,Race08Results,2,FALSE)=RDGevent,\"\",IF(ISNUMBER(VLOOKUP($C11,Race08Results,3,FALSE)),VLOOKUP($C11,Race08Results,3,FALSE),\"\"))))","v":""},{"$f":"IF($C11=\"\",\"\",IF(ISERROR(VLOOKUP($C11,Race09Results,2,FALSE)),\"\",IF(VLOOKUP($C11,Race09Results,2,FALSE)=RDGevent,\"\",IF(ISNUMBER(VLOOKUP($C11,Race09Results,3,FALSE)),VLOOKUP($C11,Race09Results,3,FALSE),\"\"))))","v":""},{"$f":"IF($C11=\"\",\"\",IF(ISERROR(VLOOKUP($C11,Race10Results,2,FALSE)),\"\",IF(VLOOKUP($C11,Race10Results,2,FALSE)=RDGevent,\"\",IF(ISNUMBER(VLOOKUP($C11,Race10Results,3,FALSE)),VLOOKUP($C11,Race10Results,3,FALSE),\"\"))))","v":""},{"$f":"IF($C11=\"\",\"\",IF(ISERROR(VLOOKUP($C11,Race11Results,2,FALSE)),\"\",IF(VLOOKUP($C11,Race11Results,2,FALSE)=RDGevent,\"\",IF(ISNUMBER(VLOOKUP($C11,Race11Results,3,FALSE)),VLOOKUP($C11,Race11Results,3,FALSE),\"\"))))","v":""},{"$f":"IF($C11=\"\",\"\",IF(ISERROR(VLOOKUP($C11,Race12Results,2,FALSE)),\"\",IF(VLOOKUP($C11,Race12Results,2,FALSE)=RDGevent,\"\",IF(ISNUMBER(VLOOKUP($C11,Race12Results,3,FALSE)),VLOOKUP($C11,Race12Results,3,FALSE),\"\"))))","v":""},{"$f":"IF($C11=\"\",\"\",IF(ISERROR(VLOOKUP($C11,Race13Results,2,FALSE)),\"\",IF(VLOOKUP($C11,Race13Results,2,FALSE)=RDGevent,\"\",IF(ISNUMBER(VLOOKUP($C11,Race13Results,3,FALSE)),VLOOKUP($C11,Race13Results,3,FALSE),\"\"))))","v":""},{"$f":"IF($C11=\"\",\"\",IF(ISERROR(VLOOKUP($C11,Race14Results,2,FALSE)),\"\",IF(VLOOKUP($C11,Race14Results,2,FALSE)=RDGevent,\"\",IF(ISNUMBER(VLOOKUP($C11,Race14Results,3,FALSE)),VLOOKUP($C11,Race14Results,3,FALSE),\"\"))))","v":""},{"$f":"IF($C11=\"\",\"\",IF(ISERROR(VLOOKUP($C11,Race15Results,2,FALSE)),\"\",IF(VLOOKUP($C11,Race15Results,2,FALSE)=RDGevent,\"\",IF(ISNUMBER(VLOOKUP($C11,Race15Results,3,FALSE)),VLOOKUP($C11,Race15Results,3,FALSE),\"\"))))","v":""},{"$f":"IF($C11=\"\",\"\",IF(ISERROR(VLOOKUP($C11,Race16Results,2,FALSE)),\"\",IF(VLOOKUP($C11,Race16Results,2,FALSE)=RDGevent,\"\",IF(ISNUMBER(VLOOKUP($C11,Race16Results,3,FALSE)),VLOOKUP($C11,Race16Results,3,FALSE),\"\"))))","v":""},{"$f":"IF($C11=\"\",\"\",IF(ISERROR(VLOOKUP($C11,Race17Results,2,FALSE)),\"\",IF(VLOOKUP($C11,Race17Results,2,FALSE)=RDGevent,\"\",IF(ISNUMBER(VLOOKUP($C11,Race17Results,3,FALSE)),VLOOKUP($C11,Race17Results,3,FALSE),\"\"))))","v":""},{"$f":"IF($C11=\"\",\"\",IF(ISERROR(VLOOKUP($C11,Race18Results,2,FALSE)),\"\",IF(VLOOKUP($C11,Race18Results,2,FALSE)=RDGevent,\"\",IF(ISNUMBER(VLOOKUP($C11,Race18Results,3,FALSE)),VLOOKUP($C11,Race18Results,3,FALSE),\"\"))))","v":""},{"$f":"IF($C11=\"\",\"\",IF(ISERROR(VLOOKUP($C11,Race19Results,2,FALSE)),\"\",IF(VLOOKUP($C11,Race19Results,2,FALSE)=RDGevent,\"\",IF(ISNUMBER(VLOOKUP($C11,Race19Results,3,FALSE)),VLOOKUP($C11,Race19Results,3,FALSE),\"\"))))","v":""},{"$f":"IF($C11=\"\",\"\",IF(ISERROR(VLOOKUP($C11,Race20Results,2,FALSE)),\"\",IF(VLOOKUP($C11,Race20Results,2,FALSE)=RDGevent,\"\",IF(ISNUMBER(VLOOKUP($C11,Race20Results,3,FALSE)),VLOOKUP($C11,Race20Results,3,FALSE),\"\"))))","v":""},{"$f":"IF($C11=\"\",\"\",IF(ISERROR(VLOOKUP($C11,Race21Results,2,FALSE)),\"\",IF(VLOOKUP($C11,Race21Results,2,FALSE)=RDGevent,\"\",IF(ISNUMBER(VLOOKUP($C11,Race21Results,3,FALSE)),VLOOKUP($C11,Race21Results,3,FALSE),\"\"))))","v":""},{"$f":"IF($C11=\"\",\"\",IF(ISERROR(VLOOKUP($C11,Race22Results,2,FALSE)),\"\",IF(VLOOKUP($C11,Race22Results,2,FALSE)=RDGevent,\"\",IF(ISNUMBER(VLOOKUP($C11,Race22Results,3,FALSE)),VLOOKUP($C11,Race22Results,3,FALSE),\"\"))))","v":""},{"$f":"IF($C11=\"\",\"\",IF(ISERROR(VLOOKUP($C11,Race23Results,2,FALSE)),\"\",IF(VLOOKUP($C11,Race23Results,2,FALSE)=RDGevent,\"\",IF(ISNUMBER(VLOOKUP($C11,Race23Results,3,FALSE)),VLOOKUP($C11,Race23Results,3,FALSE),\"\"))))","v":""},{"$f":"IF($C11=\"\",\"\",IF(ISERROR(VLOOKUP($C11,Race24Results,2,FALSE)),\"\",IF(VLOOKUP($C11,Race24Results,2,FALSE)=RDGevent,\"\",IF(ISNUMBER(VLOOKUP($C11,Race24Results,3,FALSE)),VLOOKUP($C11,Race24Results,3,FALSE),\"\"))))","v":""},{"$f":"IF($C11=\"\",\"\",IF(ISERROR(VLOOKUP($C11,Race25Results,2,FALSE)),\"\",IF(VLOOKUP($C11,Race25Results,2,FALSE)=RDGevent,\"\",IF(ISNUMBER(VLOOKUP($C11,Race25Results,3,FALSE)),VLOOKUP($C11,Race25Results,3,FALSE),\"\"))))","v":""},{"$f":"IF($C11=\"\",\"\",IF(ISERROR(VLOOKUP($C11,Race26Results,2,FALSE)),\"\",IF(VLOOKUP($C11,Race26Results,2,FALSE)=RDGevent,\"\",IF(ISNUMBER(VLOOKUP($C11,Race26Results,3,FALSE)),VLOOKUP($C11,Race26Results,3,FALSE),\"\"))))","v":""},{"$f":"IF($C11=\"\",\"\",IF(ISERROR(VLOOKUP($C11,Race27Results,2,FALSE)),\"\",IF(VLOOKUP($C11,Race27Results,2,FALSE)=RDGevent,\"\",IF(ISNUMBER(VLOOKUP($C11,Race27Results,3,FALSE)),VLOOKUP($C11,Race27Results,3,FALSE),\"\"))))","v":""},{"$f":"IF($C11=\"\",\"\",IF(ISERROR(VLOOKUP($C11,Race28Results,2,FALSE)),\"\",IF(VLOOKUP($C11,Race28Results,2,FALSE)=RDGevent,\"\",IF(ISNUMBER(VLOOKUP($C11,Race28Results,3,FALSE)),VLOOKUP($C11,Race28Results,3,FALSE),\"\"))))","v":""},{"$f":"IF($C11=\"\",\"\",IF(ISERROR(VLOOKUP($C11,Race29Results,2,FALSE)),\"\",IF(VLOOKUP($C11,Race29Results,2,FALSE)=RDGevent,\"\",IF(ISNUMBER(VLOOKUP($C11,Race29Results,3,FALSE)),VLOOKUP($C11,Race29Results,3,FALSE),\"\"))))","v":""},{"$f":"IF($C11=\"\",\"\",IF(ISERROR(VLOOKUP($C11,Race30Results,2,FALSE)),\"\",IF(VLOOKUP($C11,Race30Results,2,FALSE)=RDGevent,\"\",IF(ISNUMBER(VLOOKUP($C11,Race30Results,3,FALSE)),VLOOKUP($C11,Race30Results,3,FALSE),\"\"))))","v":""},{"$f":"IF($C11=\"\",\"\",IF(ISERROR(VLOOKUP($C11,Race31Results,2,FALSE)),\"\",IF(VLOOKUP($C11,Race31Results,2,FALSE)=RDGevent,\"\",IF(ISNUMBER(VLOOKUP($C11,Race31Results,3,FALSE)),VLOOKUP($C11,Race31Results,3,FALSE),\"\"))))","v":""},{"$f":"IF($C11=\"\",\"\",IF(ISERROR(VLOOKUP($C11,Race32Results,2,FALSE)),\"\",IF(VLOOKUP($C11,Race32Results,2,FALSE)=RDGevent,\"\",IF(ISNUMBER(VLOOKUP($C11,Race32Results,3,FALSE)),VLOOKUP($C11,Race32Results,3,FALSE),\"\"))))","v":""},{"$f":"IF($C11=\"\",\"\",IF(ISERROR(VLOOKUP($C11,Race33Results,2,FALSE)),\"\",IF(VLOOKUP($C11,Race33Results,2,FALSE)=RDGevent,\"\",IF(ISNUMBER(VLOOKUP($C11,Race33Results,3,FALSE)),VLOOKUP($C11,Race33Results,3,FALSE),\"\"))))","v":""},{"$f":"IF($C11=\"\",\"\",IF(ISERROR(VLOOKUP($C11,Race34Results,2,FALSE)),\"\",IF(VLOOKUP($C11,Race34Results,2,FALSE)=RDGevent,\"\",IF(ISNUMBER(VLOOKUP($C11,Race34Results,3,FALSE)),VLOOKUP($C11,Race34Results,3,FALSE),\"\"))))","v":""},{"$f":"IF($C11=\"\",\"\",IF(ISERROR(VLOOKUP($C11,Race35Results,2,FALSE)),\"\",IF(VLOOKUP($C11,Race35Results,2,FALSE)=RDGevent,\"\",IF(ISNUMBER(VLOOKUP($C11,Race35Results,3,FALSE)),VLOOKUP($C11,Race35Results,3,FALSE),\"\"))))","v":""},{"$f":"IF($C11=\"\",\"\",IF(ISERROR(VLOOKUP($C11,Race36Results,2,FALSE)),\"\",IF(VLOOKUP($C11,Race36Results,2,FALSE)=RDGevent,\"\",IF(ISNUMBER(VLOOKUP($C11,Race36Results,3,FALSE)),VLOOKUP($C11,Race36Results,3,FALSE),\"\"))))","v":""},{"$f":"IF($C11=\"\",\"\",IF(ISERROR(VLOOKUP($C11,Race37Results,2,FALSE)),\"\",IF(VLOOKUP($C11,Race37Results,2,FALSE)=RDGevent,\"\",IF(ISNUMBER(VLOOKUP($C11,Race37Results,3,FALSE)),VLOOKUP($C11,Race37Results,3,FALSE),\"\"))))","v":""},{"$f":"IF($C11=\"\",\"\",IF(ISERROR(VLOOKUP($C11,Race38Results,2,FALSE)),\"\",IF(VLOOKUP($C11,Race38Results,2,FALSE)=RDGevent,\"\",IF(ISNUMBER(VLOOKUP($C11,Race38Results,3,FALSE)),VLOOKUP($C11,Race38Results,3,FALSE),\"\"))))","v":""},{"$f":"IF($C11=\"\",\"\",IF(ISERROR(VLOOKUP($C11,Race39Results,2,FALSE)),\"\",IF(VLOOKUP($C11,Race39Results,2,FALSE)=RDGevent,\"\",IF(ISNUMBER(VLOOKUP($C11,Race39Results,3,FALSE)),VLOOKUP($C11,Race39Results,3,FALSE),\"\"))))","v":""},{"$f":"IF($C11=\"\",\"\",IF(ISERROR(VLOOKUP($C11,Race40Results,2,FALSE)),\"\",IF(VLOOKUP($C11,Race40Results,2,FALSE)=RDGevent,\"\",IF(ISNUMBER(VLOOKUP($C11,Race40Results,3,FALSE)),VLOOKUP($C11,Race40Results,3,FALSE),\"\"))))","v":""},{"$f":"IF($C11=\"\",\"\",IF(ISERROR(VLOOKUP($C11,Race41Results,2,FALSE)),\"\",IF(VLOOKUP($C11,Race41Results,2,FALSE)=RDGevent,\"\",IF(ISNUMBER(VLOOKUP($C11,Race41Results,3,FALSE)),VLOOKUP($C11,Race41Results,3,FALSE),\"\"))))","v":""}]
[null,3,{"$f":"IF('Score Sheet'!C12=\"\",\"\",'Score Sheet'!C12)","v":""},{"$f":"'Race results'!$F$159","v":"DAFT!"},{"$f":"'Race results'!$F$159","v":"DAFT!"},{"$f":"IF('Score Sheet'!J12=\"\",\"R\",IF('Race results'!$C$32>0,'Race results'!$F$159,ROUND(AVERAGE('Score Sheet'!$I12:J12),1)))","v":"R"},{"$f":"IF('Score Sheet'!K12=\"\",\"R\",IF('Race results'!$C$32>0,ROUND(AVERAGE('Score Sheet'!$J12:K12),1),ROUND(AVERAGE('Score Sheet'!$I12:K12),1)))","v":"R"},{"$f":"IF('Score Sheet'!L12=\"\",\"R\",IF('Race results'!$C$32>0,ROUND(AVERAGE('Score Sheet'!$J12:L12),1),ROUND(AVERAGE('Score Sheet'!$I12:L12),1)))","v":"R"},{"$f":"IF('Score Sheet'!M12=\"\",\"R\",IF('Race results'!$C$32>0,ROUND(AVERAGE('Score Sheet'!$J12:M12),1),ROUND(AVERAGE('Score Sheet'!$I12:M12),1)))","v":"R"},{"$f":"IF('Score Sheet'!N12=\"\",\"R\",IF('Race results'!$C$32>0,ROUND(AVERAGE('Score Sheet'!$J12:N12),1),ROUND(AVERAGE('Score Sheet'!$I12:N12),1)))","v":"R"},{"$f":"IF('Score Sheet'!O12=\"\",\"R\",IF('Race results'!$C$32>0,ROUND(AVERAGE('Score Sheet'!$J12:O12),1),ROUND(AVERAGE('Score Sheet'!$I12:O12),1)))","v":"R"},{"$f":"IF('Score Sheet'!P12=\"\",\"R\",IF('Race results'!$C$32>0,ROUND(AVERAGE('Score Sheet'!$J12:P12),1),ROUND(AVERAGE('Score Sheet'!$I12:P12),1)))","v":"R"},{"$f":"IF('Score Sheet'!Q12=\"\",\"R\",IF('Race results'!$C$32>0,ROUND(AVERAGE('Score Sheet'!$J12:Q12),1),ROUND(AVERAGE('Score Sheet'!$I12:Q12),1)))","v":"R"},{"$f":"IF('Score Sheet'!R12=\"\",\"R\",IF('Race results'!$C$32>0,ROUND(AVERAGE('Score Sheet'!$J12:R12),1),ROUND(AVERAGE('Score Sheet'!$I12:R12),1)))","v":"R"},{"$f":"IF('Score Sheet'!S12=\"\",\"R\",IF('Race results'!$C$32>0,ROUND(AVERAGE('Score Sheet'!$J12:S12),1),ROUND(AVERAGE('Score Sheet'!$I12:S12),1)))","v":"R"},{"$f":"IF('Score Sheet'!T12=\"\",\"R\",IF('Race results'!$C$32>0,ROUND(AVERAGE('Score Sheet'!$J12:T12),1),ROUND(AVERAGE('Score Sheet'!$I12:T12),1)))","v":"R"},{"$f":"IF('Score Sheet'!U12=\"\",\"R\",IF('Race results'!$C$32>0,ROUND(AVERAGE('Score Sheet'!$J12:U12),1),ROUND(AVERAGE('Score Sheet'!$I12:U12),1)))","v":"R"},{"$f":"IF('Score Sheet'!V12=\"\",\"R\",IF('Race results'!$C$32>0,ROUND(AVERAGE('Score Sheet'!$J12:V12),1),ROUND(AVERAGE('Score Sheet'!$I12:V12),1)))","v":"R"},{"$f":"IF('Score Sheet'!W12=\"\",\"R\",IF('Race results'!$C$32>0,ROUND(AVERAGE('Score Sheet'!$J12:W12),1),ROUND(AVERAGE('Score Sheet'!$I12:W12),1)))","v":"R"},{"$f":"IF('Score Sheet'!X12=\"\",\"R\",IF('Race results'!$C$32>0,ROUND(AVERAGE('Score Sheet'!$J12:X12),1),ROUND(AVERAGE('Score Sheet'!$I12:X12),1)))","v":"R"},{"$f":"IF('Score Sheet'!Y12=\"\",\"R\",IF('Race results'!$C$32>0,ROUND(AVERAGE('Score Sheet'!$J12:Y12),1),ROUND(AVERAGE('Score Sheet'!$I12:Y12),1)))","v":"R"},{"$f":"IF('Score Sheet'!Z12=\"\",\"R\",IF('Race results'!$C$32>0,ROUND(AVERAGE('Score Sheet'!$J12:Z12),1),ROUND(AVERAGE('Score Sheet'!$I12:Z12),1)))","v":"R"},{"$f":"IF('Score Sheet'!AA12=\"\",\"R\",IF('Race results'!$C$32>0,ROUND(AVERAGE('Score Sheet'!$J12:AA12),1),ROUND(AVERAGE('Score Sheet'!$I12:AA12),1)))","v":"R"},{"$f":"IF('Score Sheet'!AB12=\"\",\"R\",IF('Race results'!$C$32>0,ROUND(AVERAGE('Score Sheet'!$J12:AB12),1),ROUND(AVERAGE('Score Sheet'!$I12:AB12),1)))","v":"R"},{"$f":"IF('Score Sheet'!AC12=\"\",\"R\",IF('Race results'!$C$32>0,ROUND(AVERAGE('Score Sheet'!$J12:AC12),1),ROUND(AVERAGE('Score Sheet'!$I12:AC12),1)))","v":"R"},{"$f":"IF('Score Sheet'!AD12=\"\",\"R\",IF('Race results'!$C$32>0,ROUND(AVERAGE('Score Sheet'!$J12:AD12),1),ROUND(AVERAGE('Score Sheet'!$I12:AD12),1)))","v":"R"},{"$f":"IF('Score Sheet'!AE12=\"\",\"R\",IF('Race results'!$C$32>0,ROUND(AVERAGE('Score Sheet'!$J12:AE12),1),ROUND(AVERAGE('Score Sheet'!$I12:AE12),1)))","v":"R"},{"$f":"IF('Score Sheet'!AF12=\"\",\"R\",IF('Race results'!$C$32>0,ROUND(AVERAGE('Score Sheet'!$J12:AF12),1),ROUND(AVERAGE('Score Sheet'!$I12:AF12),1)))","v":"R"},{"$f":"IF('Score Sheet'!AG12=\"\",\"R\",IF('Race results'!$C$32>0,ROUND(AVERAGE('Score Sheet'!$J12:AG12),1),ROUND(AVERAGE('Score Sheet'!$I12:AG12),1)))","v":"R"},{"$f":"IF('Score Sheet'!AH12=\"\",\"R\",IF('Race results'!$C$32>0,ROUND(AVERAGE('Score Sheet'!$J12:AH12),1),ROUND(AVERAGE('Score Sheet'!$I12:AH12),1)))","v":"R"},{"$f":"IF('Score Sheet'!AI12=\"\",\"R\",IF('Race results'!$C$32>0,ROUND(AVERAGE('Score Sheet'!$J12:AI12),1),ROUND(AVERAGE('Score Sheet'!$I12:AI12),1)))","v":"R"},{"$f":"IF('Score Sheet'!AJ12=\"\",\"R\",IF('Race results'!$C$32>0,ROUND(AVERAGE('Score Sheet'!$J12:AJ12),1),ROUND(AVERAGE('Score Sheet'!$I12:AJ12),1)))","v":"R"},{"$f":"IF('Score Sheet'!AK12=\"\",\"R\",IF('Race results'!$C$32>0,ROUND(AVERAGE('Score Sheet'!$J12:AK12),1),ROUND(AVERAGE('Score Sheet'!$I12:AK12),1)))","v":"R"},{"$f":"IF('Score Sheet'!AL12=\"\",\"R\",IF('Race results'!$C$32>0,ROUND(AVERAGE('Score Sheet'!$J12:AL12),1),ROUND(AVERAGE('Score Sheet'!$I12:AL12),1)))","v":"R"},{"$f":"IF('Score Sheet'!AM12=\"\",\"R\",IF('Race results'!$C$32>0,ROUND(AVERAGE('Score Sheet'!$J12:AM12),1),ROUND(AVERAGE('Score Sheet'!$I12:AM12),1)))","v":"R"},{"$f":"IF('Score Sheet'!AN12=\"\",\"R\",IF('Race results'!$C$32>0,ROUND(AVERAGE('Score Sheet'!$J12:AN12),1),ROUND(AVERAGE('Score Sheet'!$I12:AN12),1)))","v":"R"},{"$f":"IF('Score Sheet'!AO12=\"\",\"R\",IF('Race results'!$C$32>0,ROUND(AVERAGE('Score Sheet'!$J12:AO12),1),ROUND(AVERAGE('Score Sheet'!$I12:AO12),1)))","v":"R"},{"$f":"IF('Score Sheet'!AP12=\"\",\"R\",IF('Race results'!$C$32>0,ROUND(AVERAGE('Score Sheet'!$J12:AP12),1),ROUND(AVERAGE('Score Sheet'!$I12:AP12),1)))","v":"R"},{"$f":"IF('Score Sheet'!AQ12=\"\",\"R\",IF('Race results'!$C$32>0,ROUND(AVERAGE('Score Sheet'!$J12:AQ12),1),ROUND(AVERAGE('Score Sheet'!$I12:AQ12),1)))","v":"R"},{"$f":"IF('Score Sheet'!AR12=\"\",\"R\",IF('Race results'!$C$32>0,ROUND(AVERAGE('Score Sheet'!$J12:AR12),1),ROUND(AVERAGE('Score Sheet'!$I12:AR12),1)))","v":"R"},{"$f":"IF('Score Sheet'!AS12=\"\",\"R\",IF('Race results'!$C$32>0,ROUND(AVERAGE('Score Sheet'!$J12:AS12),1),ROUND(AVERAGE('Score Sheet'!$I12:AS12),1)))","v":"R"},{"$f":"IF('Score Sheet'!AT12=\"\",\"R\",IF('Race results'!$C$32>0,ROUND(AVERAGE('Score Sheet'!$J12:AT12),1),ROUND(AVERAGE('Score Sheet'!$I12:AT12),1)))","v":"R"},{"$f":"IF('Score Sheet'!AU12=\"\",\"R\",IF('Race results'!$C$32>0,ROUND(AVERAGE('Score Sheet'!$J12:AU12),1),ROUND(AVERAGE('Score Sheet'!$I12:AU12),1)))","v":"R"},{"$f":"IF('Score Sheet'!AV12=\"\",\"R\",IF('Race results'!$C$32>0,ROUND(AVERAGE('Score Sheet'!$J12:AV12),1),ROUND(AVERAGE('Score Sheet'!$I12:AV12),1)))","v":"R"},null,"",{"$f":"IF(C12=\"\",\"\",IF('Race results'!$C$7<1, \"E\", IF('Race results'!$C$32>0,IF(COUNT(AY12:CL12)<1,\"R\",ROUND(AVERAGE(AY12:CL12),1)),IF(COUNT(AX12:CL12)<1,\"R\",ROUND(AVERAGE(AX12:CL12),1)))))","v":""},null,null,"","","","","","","","","","","","","","","","","","","","","","","","","","","","","","","","","","","","","","","","",""]
[null,4,{"$f":"IF('Score Sheet'!C13=\"\",\"\",'Score Sheet'!C13)","v":""},{"$f":"'Race results'!$F$159","v":"DAFT!"},{"$f":"'Race results'!$F$159","v":"DAFT!"},{"$f":"IF('Score Sheet'!J13=\"\",\"R\",IF('Race results'!$C$32>0,'Race results'!$F$159,ROUND(AVERAGE('Score Sheet'!$I13:J13),1)))","v":"R"},{"$f":"IF('Score Sheet'!K13=\"\",\"R\",IF('Race results'!$C$32>0,ROUND(AVERAGE('Score Sheet'!$J13:K13),1),ROUND(AVERAGE('Score Sheet'!$I13:K13),1)))","v":"R"},{"$f":"IF('Score Sheet'!L13=\"\",\"R\",IF('Race results'!$C$32>0,ROUND(AVERAGE('Score Sheet'!$J13:L13),1),ROUND(AVERAGE('Score Sheet'!$I13:L13),1)))","v":"R"},{"$f":"IF('Score Sheet'!M13=\"\",\"R\",IF('Race results'!$C$32>0,ROUND(AVERAGE('Score Sheet'!$J13:M13),1),ROUND(AVERAGE('Score Sheet'!$I13:M13),1)))","v":"R"},{"$f":"IF('Score Sheet'!N13=\"\",\"R\",IF('Race results'!$C$32>0,ROUND(AVERAGE('Score Sheet'!$J13:N13),1),ROUND(AVERAGE('Score Sheet'!$I13:N13),1)))","v":"R"},{"$f":"IF('Score Sheet'!O13=\"\",\"R\",IF('Race results'!$C$32>0,ROUND(AVERAGE('Score Sheet'!$J13:O13),1),ROUND(AVERAGE('Score Sheet'!$I13:O13),1)))","v":"R"},{"$f":"IF('Score Sheet'!P13=\"\",\"R\",IF('Race results'!$C$32>0,ROUND(AVERAGE('Score Sheet'!$J13:P13),1),ROUND(AVERAGE('Score Sheet'!$I13:P13),1)))","v":"R"},{"$f":"IF('Score Sheet'!Q13=\"\",\"R\",IF('Race results'!$C$32>0,ROUND(AVERAGE('Score Sheet'!$J13:Q13),1),ROUND(AVERAGE('Score Sheet'!$I13:Q13),1)))","v":"R"},{"$f":"IF('Score Sheet'!R13=\"\",\"R\",IF('Race results'!$C$32>0,ROUND(AVERAGE('Score Sheet'!$J13:R13),1),ROUND(AVERAGE('Score Sheet'!$I13:R13),1)))","v":"R"},{"$f":"IF('Score Sheet'!S13=\"\",\"R\",IF('Race results'!$C$32>0,ROUND(AVERAGE('Score Sheet'!$J13:S13),1),ROUND(AVERAGE('Score Sheet'!$I13:S13),1)))","v":"R"},{"$f":"IF('Score Sheet'!T13=\"\",\"R\",IF('Race results'!$C$32>0,ROUND(AVERAGE('Score Sheet'!$J13:T13),1),ROUND(AVERAGE('Score Sheet'!$I13:T13),1)))","v":"R"},{"$f":"IF('Score Sheet'!U13=\"\",\"R\",IF('Race results'!$C$32>0,ROUND(AVERAGE('Score Sheet'!$J13:U13),1),ROUND(AVERAGE('Score Sheet'!$I13:U13),1)))","v":"R"},{"$f":"IF('Score Sheet'!V13=\"\",\"R\",IF('Race results'!$C$32>0,ROUND(AVERAGE('Score Sheet'!$J13:V13),1),ROUND(AVERAGE('Score Sheet'!$I13:V13),1)))","v":"R"},{"$f":"IF('Score Sheet'!W13=\"\",\"R\",IF('Race results'!$C$32>0,ROUND(AVERAGE('Score Sheet'!$J13:W13),1),ROUND(AVERAGE('Score Sheet'!$I13:W13),1)))","v":"R"},{"$f":"IF('Score Sheet'!X13=\"\",\"R\",IF('Race results'!$C$32>0,ROUND(AVERAGE('Score Sheet'!$J13:X13),1),ROUND(AVERAGE('Score Sheet'!$I13:X13),1)))","v":"R"},{"$f":"IF('Score Sheet'!Y13=\"\",\"R\",IF('Race results'!$C$32>0,ROUND(AVERAGE('Score Sheet'!$J13:Y13),1),ROUND(AVERAGE('Score Sheet'!$I13:Y13),1)))","v":"R"},{"$f":"IF('Score Sheet'!Z13=\"\",\"R\",IF('Race results'!$C$32>0,ROUND(AVERAGE('Score Sheet'!$J13:Z13),1),ROUND(AVERAGE('Score Sheet'!$I13:Z13),1)))","v":"R"},{"$f":"IF('Score Sheet'!AA13=\"\",\"R\",IF('Race results'!$C$32>0,ROUND(AVERAGE('Score Sheet'!$J13:AA13),1),ROUND(AVERAGE('Score Sheet'!$I13:AA13),1)))","v":"R"},{"$f":"IF('Score Sheet'!AB13=\"\",\"R\",IF('Race results'!$C$32>0,ROUND(AVERAGE('Score Sheet'!$J13:AB13),1),ROUND(AVERAGE('Score Sheet'!$I13:AB13),1)))","v":"R"},{"$f":"IF('Score Sheet'!AC13=\"\",\"R\",IF('Race results'!$C$32>0,ROUND(AVERAGE('Score Sheet'!$J13:AC13),1),ROUND(AVERAGE('Score Sheet'!$I13:AC13),1)))","v":"R"},{"$f":"IF('Score Sheet'!AD13=\"\",\"R\",IF('Race results'!$C$32>0,ROUND(AVERAGE('Score Sheet'!$J13:AD13),1),ROUND(AVERAGE('Score Sheet'!$I13:AD13),1)))","v":"R"},{"$f":"IF('Score Sheet'!AE13=\"\",\"R\",IF('Race results'!$C$32>0,ROUND(AVERAGE('Score Sheet'!$J13:AE13),1),ROUND(AVERAGE('Score Sheet'!$I13:AE13),1)))","v":"R"},{"$f":"IF('Score Sheet'!AF13=\"\",\"R\",IF('Race results'!$C$32>0,ROUND(AVERAGE('Score Sheet'!$J13:AF13),1),ROUND(AVERAGE('Score Sheet'!$I13:AF13),1)))","v":"R"},{"$f":"IF('Score Sheet'!AG13=\"\",\"R\",IF('Race results'!$C$32>0,ROUND(AVERAGE('Score Sheet'!$J13:AG13),1),ROUND(AVERAGE('Score Sheet'!$I13:AG13),1)))","v":"R"},{"$f":"IF('Score Sheet'!AH13=\"\",\"R\",IF('Race results'!$C$32>0,ROUND(AVERAGE('Score Sheet'!$J13:AH13),1),ROUND(AVERAGE('Score Sheet'!$I13:AH13),1)))","v":"R"},{"$f":"IF('Score Sheet'!AI13=\"\",\"R\",IF('Race results'!$C$32>0,ROUND(AVERAGE('Score Sheet'!$J13:AI13),1),ROUND(AVERAGE('Score Sheet'!$I13:AI13),1)))","v":"R"},{"$f":"IF('Score Sheet'!AJ13=\"\",\"R\",IF('Race results'!$C$32>0,ROUND(AVERAGE('Score Sheet'!$J13:AJ13),1),ROUND(AVERAGE('Score Sheet'!$I13:AJ13),1)))","v":"R"},{"$f":"IF('Score Sheet'!AK13=\"\",\"R\",IF('Race results'!$C$32>0,ROUND(AVERAGE('Score Sheet'!$J13:AK13),1),ROUND(AVERAGE('Score Sheet'!$I13:AK13),1)))","v":"R"},{"$f":"IF('Score Sheet'!AL13=\"\",\"R\",IF('Race results'!$C$32>0,ROUND(AVERAGE('Score Sheet'!$J13:AL13),1),ROUND(AVERAGE('Score Sheet'!$I13:AL13),1)))","v":"R"},{"$f":"IF('Score Sheet'!AM13=\"\",\"R\",IF('Race results'!$C$32>0,ROUND(AVERAGE('Score Sheet'!$J13:AM13),1),ROUND(AVERAGE('Score Sheet'!$I13:AM13),1)))","v":"R"},{"$f":"IF('Score Sheet'!AN13=\"\",\"R\",IF('Race results'!$C$32>0,ROUND(AVERAGE('Score Sheet'!$J13:AN13),1),ROUND(AVERAGE('Score Sheet'!$I13:AN13),1)))","v":"R"},{"$f":"IF('Score Sheet'!AO13=\"\",\"R\",IF('Race results'!$C$32>0,ROUND(AVERAGE('Score Sheet'!$J13:AO13),1),ROUND(AVERAGE('Score Sheet'!$I13:AO13),1)))","v":"R"},{"$f":"IF('Score Sheet'!AP13=\"\",\"R\",IF('Race results'!$C$32>0,ROUND(AVERAGE('Score Sheet'!$J13:AP13),1),ROUND(AVERAGE('Score Sheet'!$I13:AP13),1)))","v":"R"},{"$f":"IF('Score Sheet'!AQ13=\"\",\"R\",IF('Race results'!$C$32>0,ROUND(AVERAGE('Score Sheet'!$J13:AQ13),1),ROUND(AVERAGE('Score Sheet'!$I13:AQ13),1)))","v":"R"},{"$f":"IF('Score Sheet'!AR13=\"\",\"R\",IF('Race results'!$C$32>0,ROUND(AVERAGE('Score Sheet'!$J13:AR13),1),ROUND(AVERAGE('Score Sheet'!$I13:AR13),1)))","v":"R"},{"$f":"IF('Score Sheet'!AS13=\"\",\"R\",IF('Race results'!$C$32>0,ROUND(AVERAGE('Score Sheet'!$J13:AS13),1),ROUND(AVERAGE('Score Sheet'!$I13:AS13),1)))","v":"R"},{"$f":"IF('Score Sheet'!AT13=\"\",\"R\",IF('Race results'!$C$32>0,ROUND(AVERAGE('Score Sheet'!$J13:AT13),1),ROUND(AVERAGE('Score Sheet'!$I13:AT13),1)))","v":"R"},{"$f":"IF('Score Sheet'!AU13=\"\",\"R\",IF('Race results'!$C$32>0,ROUND(AVERAGE('Score Sheet'!$J13:AU13),1),ROUND(AVERAGE('Score Sheet'!$I13:AU13),1)))","v":"R"},{"$f":"IF('Score Sheet'!AV13=\"\",\"R\",IF('Race results'!$C$32>0,ROUND(AVERAGE('Score Sheet'!$J13:AV13),1),ROUND(AVERAGE('Score Sheet'!$I13:AV13),1)))","v":"R"},null,"",{"$f":"IF(C13=\"\",\"\",IF('Race results'!$C$7<1, \"E\", IF('Race results'!$C$32>0,IF(COUNT(AY13:CL13)<1,\"R\",ROUND(AVERAGE(AY13:CL13),1)),IF(COUNT(AX13:CL13)<1,\"R\",ROUND(AVERAGE(AX13:CL13),1)))))","v":""},null,null,"","","","","","","","","","","","","","","","","","","","","","","","","","","","","","","","","","","","","","","","",""]
[null,5,{"$f":"IF('Score Sheet'!C14=\"\",\"\",'Score Sheet'!C14)","v":""},{"$f":"'Race results'!$F$159","v":"DAFT!"},{"$f":"'Race results'!$F$159","v":"DAFT!"},{"$f":"IF('Score Sheet'!J14=\"\",\"R\",IF('Race results'!$C$32>0,'Race results'!$F$159,ROUND(AVERAGE('Score Sheet'!$I14:J14),1)))","v":"R"},{"$f":"IF('Score Sheet'!K14=\"\",\"R\",IF('Race results'!$C$32>0,ROUND(AVERAGE('Score Sheet'!$J14:K14),1),ROUND(AVERAGE('Score Sheet'!$I14:K14),1)))","v":"R"},{"$f":"IF('Score Sheet'!L14=\"\",\"R\",IF('Race results'!$C$32>0,ROUND(AVERAGE('Score Sheet'!$J14:L14),1),ROUND(AVERAGE('Score Sheet'!$I14:L14),1)))","v":"R"},{"$f":"IF('Score Sheet'!M14=\"\",\"R\",IF('Race results'!$C$32>0,ROUND(AVERAGE('Score Sheet'!$J14:M14),1),ROUND(AVERAGE('Score Sheet'!$I14:M14),1)))","v":"R"},{"$f":"IF('Score Sheet'!N14=\"\",\"R\",IF('Race results'!$C$32>0,ROUND(AVERAGE('Score Sheet'!$J14:N14),1),ROUND(AVERAGE('Score Sheet'!$I14:N14),1)))","v":"R"},{"$f":"IF('Score Sheet'!O14=\"\",\"R\",IF('Race results'!$C$32>0,ROUND(AVERAGE('Score Sheet'!$J14:O14),1),ROUND(AVERAGE('Score Sheet'!$I14:O14),1)))","v":"R"},{"$f":"IF('Score Sheet'!P14=\"\",\"R\",IF('Race results'!$C$32>0,ROUND(AVERAGE('Score Sheet'!$J14:P14),1),ROUND(AVERAGE('Score Sheet'!$I14:P14),1)))","v":"R"},{"$f":"IF('Score Sheet'!Q14=\"\",\"R\",IF('Race results'!$C$32>0,ROUND(AVERAGE('Score Sheet'!$J14:Q14),1),ROUND(AVERAGE('Score Sheet'!$I14:Q14),1)))","v":"R"},{"$f":"IF('Score Sheet'!R14=\"\",\"R\",IF('Race results'!$C$32>0,ROUND(AVERAGE('Score Sheet'!$J14:R14),1),ROUND(AVERAGE('Score Sheet'!$I14:R14),1)))","v":"R"},{"$f":"IF('Score Sheet'!S14=\"\",\"R\",IF('Race results'!$C$32>0,ROUND(AVERAGE('Score Sheet'!$J14:S14),1),ROUND(AVERAGE('Score Sheet'!$I14:S14),1)))","v":"R"},{"$f":"IF('Score Sheet'!T14=\"\",\"R\",IF('Race results'!$C$32>0,ROUND(AVERAGE('Score Sheet'!$J14:T14),1),ROUND(AVERAGE('Score Sheet'!$I14:T14),1)))","v":"R"},{"$f":"IF('Score Sheet'!U14=\"\",\"R\",IF('Race results'!$C$32>0,ROUND(AVERAGE('Score Sheet'!$J14:U14),1),ROUND(AVERAGE('Score Sheet'!$I14:U14),1)))","v":"R"},{"$f":"IF('Score Sheet'!V14=\"\",\"R\",IF('Race results'!$C$32>0,ROUND(AVERAGE('Score Sheet'!$J14:V14),1),ROUND(AVERAGE('Score Sheet'!$I14:V14),1)))","v":"R"},{"$f":"IF('Score Sheet'!W14=\"\",\"R\",IF('Race results'!$C$32>0,ROUND(AVERAGE('Score Sheet'!$J14:W14),1),ROUND(AVERAGE('Score Sheet'!$I14:W14),1)))","v":"R"},{"$f":"IF('Score Sheet'!X14=\"\",\"R\",IF('Race results'!$C$32>0,ROUND(AVERAGE('Score Sheet'!$J14:X14),1),ROUND(AVERAGE('Score Sheet'!$I14:X14),1)))","v":"R"},{"$f":"IF('Score Sheet'!Y14=\"\",\"R\",IF('Race results'!$C$32>0,ROUND(AVERAGE('Score Sheet'!$J14:Y14),1),ROUND(AVERAGE('Score Sheet'!$I14:Y14),1)))","v":"R"},{"$f":"IF('Score Sheet'!Z14=\"\",\"R\",IF('Race results'!$C$32>0,ROUND(AVERAGE('Score Sheet'!$J14:Z14),1),ROUND(AVERAGE('Score Sheet'!$I14:Z14),1)))","v":"R"},{"$f":"IF('Score Sheet'!AA14=\"\",\"R\",IF('Race results'!$C$32>0,ROUND(AVERAGE('Score Sheet'!$J14:AA14),1),ROUND(AVERAGE('Score Sheet'!$I14:AA14),1)))","v":"R"},{"$f":"IF('Score Sheet'!AB14=\"\",\"R\",IF('Race results'!$C$32>0,ROUND(AVERAGE('Score Sheet'!$J14:AB14),1),ROUND(AVERAGE('Score Sheet'!$I14:AB14),1)))","v":"R"},{"$f":"IF('Score Sheet'!AC14=\"\",\"R\",IF('Race results'!$C$32>0,ROUND(AVERAGE('Score Sheet'!$J14:AC14),1),ROUND(AVERAGE('Score Sheet'!$I14:AC14),1)))","v":"R"},{"$f":"IF('Score Sheet'!AD14=\"\",\"R\",IF('Race results'!$C$32>0,ROUND(AVERAGE('Score Sheet'!$J14:AD14),1),ROUND(AVERAGE('Score Sheet'!$I14:AD14),1)))","v":"R"},{"$f":"IF('Score Sheet'!AE14=\"\",\"R\",IF('Race results'!$C$32>0,ROUND(AVERAGE('Score Sheet'!$J14:AE14),1),ROUND(AVERAGE('Score Sheet'!$I14:AE14),1)))","v":"R"},{"$f":"IF('Score Sheet'!AF14=\"\",\"R\",IF('Race results'!$C$32>0,ROUND(AVERAGE('Score Sheet'!$J14:AF14),1),ROUND(AVERAGE('Score Sheet'!$I14:AF14),1)))","v":"R"},{"$f":"IF('Score Sheet'!AG14=\"\",\"R\",IF('Race results'!$C$32>0,ROUND(AVERAGE('Score Sheet'!$J14:AG14),1),ROUND(AVERAGE('Score Sheet'!$I14:AG14),1)))","v":"R"},{"$f":"IF('Score Sheet'!AH14=\"\",\"R\",IF('Race results'!$C$32>0,ROUND(AVERAGE('Score Sheet'!$J14:AH14),1),ROUND(AVERAGE('Score Sheet'!$I14:AH14),1)))","v":"R"},{"$f":"IF('Score Sheet'!AI14=\"\",\"R\",IF('Race results'!$C$32>0,ROUND(AVERAGE('Score Sheet'!$J14:AI14),1),ROUND(AVERAGE('Score Sheet'!$I14:AI14),1)))","v":"R"},{"$f":"IF('Score Sheet'!AJ14=\"\",\"R\",IF('Race results'!$C$32>0,ROUND(AVERAGE('Score Sheet'!$J14:AJ14),1),ROUND(AVERAGE('Score Sheet'!$I14:AJ14),1)))","v":"R"},{"$f":"IF('Score Sheet'!AK14=\"\",\"R\",IF('Race results'!$C$32>0,ROUND(AVERAGE('Score Sheet'!$J14:AK14),1),ROUND(AVERAGE('Score Sheet'!$I14:AK14),1)))","v":"R"},{"$f":"IF('Score Sheet'!AL14=\"\",\"R\",IF('Race results'!$C$32>0,ROUND(AVERAGE('Score Sheet'!$J14:AL14),1),ROUND(AVERAGE('Score Sheet'!$I14:AL14),1)))","v":"R"},{"$f":"IF('Score Sheet'!AM14=\"\",\"R\",IF('Race results'!$C$32>0,ROUND(AVERAGE('Score Sheet'!$J14:AM14),1),ROUND(AVERAGE('Score Sheet'!$I14:AM14),1)))","v":"R"},{"$f":"IF('Score Sheet'!AN14=\"\",\"R\",IF('Race results'!$C$32>0,ROUND(AVERAGE('Score Sheet'!$J14:AN14),1),ROUND(AVERAGE('Score Sheet'!$I14:AN14),1)))","v":"R"},{"$f":"IF('Score Sheet'!AO14=\"\",\"R\",IF('Race results'!$C$32>0,ROUND(AVERAGE('Score Sheet'!$J14:AO14),1),ROUND(AVERAGE('Score Sheet'!$I14:AO14),1)))","v":"R"},{"$f":"IF('Score Sheet'!AP14=\"\",\"R\",IF('Race results'!$C$32>0,ROUND(AVERAGE('Score Sheet'!$J14:AP14),1),ROUND(AVERAGE('Score Sheet'!$I14:AP14),1)))","v":"R"},{"$f":"IF('Score Sheet'!AQ14=\"\",\"R\",IF('Race results'!$C$32>0,ROUND(AVERAGE('Score Sheet'!$J14:AQ14),1),ROUND(AVERAGE('Score Sheet'!$I14:AQ14),1)))","v":"R"},{"$f":"IF('Score Sheet'!AR14=\"\",\"R\",IF('Race results'!$C$32>0,ROUND(AVERAGE('Score Sheet'!$J14:AR14),1),ROUND(AVERAGE('Score Sheet'!$I14:AR14),1)))","v":"R"},{"$f":"IF('Score Sheet'!AS14=\"\",\"R\",IF('Race results'!$C$32>0,ROUND(AVERAGE('Score Sheet'!$J14:AS14),1),ROUND(AVERAGE('Score Sheet'!$I14:AS14),1)))","v":"R"},{"$f":"IF('Score Sheet'!AT14=\"\",\"R\",IF('Race results'!$C$32>0,ROUND(AVERAGE('Score Sheet'!$J14:AT14),1),ROUND(AVERAGE('Score Sheet'!$I14:AT14),1)))","v":"R"},{"$f":"IF('Score Sheet'!AU14=\"\",\"R\",IF('Race results'!$C$32>0,ROUND(AVERAGE('Score Sheet'!$J14:AU14),1),ROUND(AVERAGE('Score Sheet'!$I14:AU14),1)))","v":"R"},{"$f":"IF('Score Sheet'!AV14=\"\",\"R\",IF('Race results'!$C$32>0,ROUND(AVERAGE('Score Sheet'!$J14:AV14),1),ROUND(AVERAGE('Score Sheet'!$I14:AV14),1)))","v":"R"},null,"",{"$f":"IF(C14=\"\",\"\",IF('Race results'!$C$7<1, \"E\", IF('Race results'!$C$32>0,IF(COUNT(AY14:CL14)<1,\"R\",ROUND(AVERAGE(AY14:CL14),1)),IF(COUNT(AX14:CL14)<1,\"R\",ROUND(AVERAGE(AX14:CL14),1)))))","v":""},null,null,"","","","","","","","","","","","","","","","","","","","","","","","","","","","","","","","","","","","","","","","",""]
[null,6,{"$f":"IF('Score Sheet'!C15=\"\",\"\",'Score Sheet'!C15)","v":""},{"$f":"'Race results'!$F$159","v":"DAFT!"},{"$f":"'Race results'!$F$159","v":"DAFT!"},{"$f":"IF('Score Sheet'!J15=\"\",\"R\",IF('Race results'!$C$32>0,'Race results'!$F$159,ROUND(AVERAGE('Score Sheet'!$I15:J15),1)))","v":"R"},{"$f":"IF('Score Sheet'!K15=\"\",\"R\",IF('Race results'!$C$32>0,ROUND(AVERAGE('Score Sheet'!$J15:K15),1),ROUND(AVERAGE('Score Sheet'!$I15:K15),1)))","v":"R"},{"$f":"IF('Score Sheet'!L15=\"\",\"R\",IF('Race results'!$C$32>0,ROUND(AVERAGE('Score Sheet'!$J15:L15),1),ROUND(AVERAGE('Score Sheet'!$I15:L15),1)))","v":"R"},{"$f":"IF('Score Sheet'!M15=\"\",\"R\",IF('Race results'!$C$32>0,ROUND(AVERAGE('Score Sheet'!$J15:M15),1),ROUND(AVERAGE('Score Sheet'!$I15:M15),1)))","v":"R"},{"$f":"IF('Score Sheet'!N15=\"\",\"R\",IF('Race results'!$C$32>0,ROUND(AVERAGE('Score Sheet'!$J15:N15),1),ROUND(AVERAGE('Score Sheet'!$I15:N15),1)))","v":"R"},{"$f":"IF('Score Sheet'!O15=\"\",\"R\",IF('Race results'!$C$32>0,ROUND(AVERAGE('Score Sheet'!$J15:O15),1),ROUND(AVERAGE('Score Sheet'!$I15:O15),1)))","v":"R"},{"$f":"IF('Score Sheet'!P15=\"\",\"R\",IF('Race results'!$C$32>0,ROUND(AVERAGE('Score Sheet'!$J15:P15),1),ROUND(AVERAGE('Score Sheet'!$I15:P15),1)))","v":"R"},{"$f":"IF('Score Sheet'!Q15=\"\",\"R\",IF('Race results'!$C$32>0,ROUND(AVERAGE('Score Sheet'!$J15:Q15),1),ROUND(AVERAGE('Score Sheet'!$I15:Q15),1)))","v":"R"},{"$f":"IF('Score Sheet'!R15=\"\",\"R\",IF('Race results'!$C$32>0,ROUND(AVERAGE('Score Sheet'!$J15:R15),1),ROUND(AVERAGE('Score Sheet'!$I15:R15),1)))","v":"R"},{"$f":"IF('Score Sheet'!S15=\"\",\"R\",IF('Race results'!$C$32>0,ROUND(AVERAGE('Score Sheet'!$J15:S15),1),ROUND(AVERAGE('Score Sheet'!$I15:S15),1)))","v":"R"},{"$f":"IF('Score Sheet'!T15=\"\",\"R\",IF('Race results'!$C$32>0,ROUND(AVERAGE('Score Sheet'!$J15:T15),1),ROUND(AVERAGE('Score Sheet'!$I15:T15),1)))","v":"R"},{"$f":"IF('Score Sheet'!U15=\"\",\"R\",IF('Race results'!$C$32>0,ROUND(AVERAGE('Score Sheet'!$J15:U15),1),ROUND(AVERAGE('Score Sheet'!$I15:U15),1)))","v":"R"},{"$f":"IF('Score Sheet'!V15=\"\",\"R\",IF('Race results'!$C$32>0,ROUND(AVERAGE('Score Sheet'!$J15:V15),1),ROUND(AVERAGE('Score Sheet'!$I15:V15),1)))","v":"R"},{"$f":"IF('Score Sheet'!W15=\"\",\"R\",IF('Race results'!$C$32>0,ROUND(AVERAGE('Score Sheet'!$J15:W15),1),ROUND(AVERAGE('Score Sheet'!$I15:W15),1)))","v":"R"},{"$f":"IF('Score Sheet'!X15=\"\",\"R\",IF('Race results'!$C$32>0,ROUND(AVERAGE('Score Sheet'!$J15:X15),1),ROUND(AVERAGE('Score Sheet'!$I15:X15),1)))","v":"R"},{"$f":"IF('Score Sheet'!Y15=\"\",\"R\",IF('Race results'!$C$32>0,ROUND(AVERAGE('Score Sheet'!$J15:Y15),1),ROUND(AVERAGE('Score Sheet'!$I15:Y15),1)))","v":"R"},{"$f":"IF('Score Sheet'!Z15=\"\",\"R\",IF('Race results'!$C$32>0,ROUND(AVERAGE('Score Sheet'!$J15:Z15),1),ROUND(AVERAGE('Score Sheet'!$I15:Z15),1)))","v":"R"},{"$f":"IF('Score Sheet'!AA15=\"\",\"R\",IF('Race results'!$C$32>0,ROUND(AVERAGE('Score Sheet'!$J15:AA15),1),ROUND(AVERAGE('Score Sheet'!$I15:AA15),1)))","v":"R"},{"$f":"IF('Score Sheet'!AB15=\"\",\"R\",IF('Race results'!$C$32>0,ROUND(AVERAGE('Score Sheet'!$J15:AB15),1),ROUND(AVERAGE('Score Sheet'!$I15:AB15),1)))","v":"R"},{"$f":"IF('Score Sheet'!AC15=\"\",\"R\",IF('Race results'!$C$32>0,ROUND(AVERAGE('Score Sheet'!$J15:AC15),1),ROUND(AVERAGE('Score Sheet'!$I15:AC15),1)))","v":"R"},{"$f":"IF('Score Sheet'!AD15=\"\",\"R\",IF('Race results'!$C$32>0,ROUND(AVERAGE('Score Sheet'!$J15:AD15),1),ROUND(AVERAGE('Score Sheet'!$I15:AD15),1)))","v":"R"},{"$f":"IF('Score Sheet'!AE15=\"\",\"R\",IF('Race results'!$C$32>0,ROUND(AVERAGE('Score Sheet'!$J15:AE15),1),ROUND(AVERAGE('Score Sheet'!$I15:AE15),1)))","v":"R"},{"$f":"IF('Score Sheet'!AF15=\"\",\"R\",IF('Race results'!$C$32>0,ROUND(AVERAGE('Score Sheet'!$J15:AF15),1),ROUND(AVERAGE('Score Sheet'!$I15:AF15),1)))","v":"R"},{"$f":"IF('Score Sheet'!AG15=\"\",\"R\",IF('Race results'!$C$32>0,ROUND(AVERAGE('Score Sheet'!$J15:AG15),1),ROUND(AVERAGE('Score Sheet'!$I15:AG15),1)))","v":"R"},{"$f":"IF('Score Sheet'!AH15=\"\",\"R\",IF('Race results'!$C$32>0,ROUND(AVERAGE('Score Sheet'!$J15:AH15),1),ROUND(AVERAGE('Score Sheet'!$I15:AH15),1)))","v":"R"},{"$f":"IF('Score Sheet'!AI15=\"\",\"R\",IF('Race results'!$C$32>0,ROUND(AVERAGE('Score Sheet'!$J15:AI15),1),ROUND(AVERAGE('Score Sheet'!$I15:AI15),1)))","v":"R"},{"$f":"IF('Score Sheet'!AJ15=\"\",\"R\",IF('Race results'!$C$32>0,ROUND(AVERAGE('Score Sheet'!$J15:AJ15),1),ROUND(AVERAGE('Score Sheet'!$I15:AJ15),1)))","v":"R"},{"$f":"IF('Score Sheet'!AK15=\"\",\"R\",IF('Race results'!$C$32>0,ROUND(AVERAGE('Score Sheet'!$J15:AK15),1),ROUND(AVERAGE('Score Sheet'!$I15:AK15),1)))","v":"R"},{"$f":"IF('Score Sheet'!AL15=\"\",\"R\",IF('Race results'!$C$32>0,ROUND(AVERAGE('Score Sheet'!$J15:AL15),1),ROUND(AVERAGE('Score Sheet'!$I15:AL15),1)))","v":"R"},{"$f":"IF('Score Sheet'!AM15=\"\",\"R\",IF('Race results'!$C$32>0,ROUND(AVERAGE('Score Sheet'!$J15:AM15),1),ROUND(AVERAGE('Score Sheet'!$I15:AM15),1)))","v":"R"},{"$f":"IF('Score Sheet'!AN15=\"\",\"R\",IF('Race results'!$C$32>0,ROUND(AVERAGE('Score Sheet'!$J15:AN15),1),ROUND(AVERAGE('Score Sheet'!$I15:AN15),1)))","v":"R"},{"$f":"IF('Score Sheet'!AO15=\"\",\"R\",IF('Race results'!$C$32>0,ROUND(AVERAGE('Score Sheet'!$J15:AO15),1),ROUND(AVERAGE('Score Sheet'!$I15:AO15),1)))","v":"R"},{"$f":"IF('Score Sheet'!AP15=\"\",\"R\",IF('Race results'!$C$32>0,ROUND(AVERAGE('Score Sheet'!$J15:AP15),1),ROUND(AVERAGE('Score Sheet'!$I15:AP15),1)))","v":"R"},{"$f":"IF('Score Sheet'!AQ15=\"\",\"R\",IF('Race results'!$C$32>0,ROUND(AVERAGE('Score Sheet'!$J15:AQ15),1),ROUND(AVERAGE('Score Sheet'!$I15:AQ15),1)))","v":"R"},{"$f":"IF('Score Sheet'!AR15=\"\",\"R\",IF('Race results'!$C$32>0,ROUND(AVERAGE('Score Sheet'!$J15:AR15),1),ROUND(AVERAGE('Score Sheet'!$I15:AR15),1)))","v":"R"},{"$f":"IF('Score Sheet'!AS15=\"\",\"R\",IF('Race results'!$C$32>0,ROUND(AVERAGE('Score Sheet'!$J15:AS15),1),ROUND(AVERAGE('Score Sheet'!$I15:AS15),1)))","v":"R"},{"$f":"IF('Score Sheet'!AT15=\"\",\"R\",IF('Race results'!$C$32>0,ROUND(AVERAGE('Score Sheet'!$J15:AT15),1),ROUND(AVERAGE('Score Sheet'!$I15:AT15),1)))","v":"R"},{"$f":"IF('Score Sheet'!AU15=\"\",\"R\",IF('Race results'!$C$32>0,ROUND(AVERAGE('Score Sheet'!$J15:AU15),1),ROUND(AVERAGE('Score Sheet'!$I15:AU15),1)))","v":"R"},{"$f":"IF('Score Sheet'!AV15=\"\",\"R\",IF('Race results'!$C$32>0,ROUND(AVERAGE('Score Sheet'!$J15:AV15),1),ROUND(AVERAGE('Score Sheet'!$I15:AV15),1)))","v":"R"},null,"",{"$f":"IF(C15=\"\",\"\",IF('Race results'!$C$7<1, \"E\", IF('Race results'!$C$32>0,IF(COUNT(AY15:CL15)<1,\"R\",ROUND(AVERAGE(AY15:CL15),1)),IF(COUNT(AX15:CL15)<1,\"R\",ROUND(AVERAGE(AX15:CL15),1)))))","v":""},null,null,"","","","","","","","","","","","","","","","","","","","","","","","","","","","","","","","","","","","","","","","",""]
[null,7,{"$f":"IF('Score Sheet'!C16=\"\",\"\",'Score Sheet'!C16)","v":""},{"$f":"'Race results'!$F$159","v":"DAFT!"},{"$f":"'Race results'!$F$159","v":"DAFT!"},{"$f":"IF('Score Sheet'!J16=\"\",\"R\",IF('Race results'!$C$32>0,'Race results'!$F$159,ROUND(AVERAGE('Score Sheet'!$I16:J16),1)))","v":"R"},{"$f":"IF('Score Sheet'!K16=\"\",\"R\",IF('Race results'!$C$32>0,ROUND(AVERAGE('Score Sheet'!$J16:K16),1),ROUND(AVERAGE('Score Sheet'!$I16:K16),1)))","v":"R"},{"$f":"IF('Score Sheet'!L16=\"\",\"R\",IF('Race results'!$C$32>0,ROUND(AVERAGE('Score Sheet'!$J16:L16),1),ROUND(AVERAGE('Score Sheet'!$I16:L16),1)))","v":"R"},{"$f":"IF('Score Sheet'!M16=\"\",\"R\",IF('Race results'!$C$32>0,ROUND(AVERAGE('Score Sheet'!$J16:M16),1),ROUND(AVERAGE('Score Sheet'!$I16:M16),1)))","v":"R"},{"$f":"IF('Score Sheet'!N16=\"\",\"R\",IF('Race results'!$C$32>0,ROUND(AVERAGE('Score Sheet'!$J16:N16),1),ROUND(AVERAGE('Score Sheet'!$I16:N16),1)))","v":"R"},{"$f":"IF('Score Sheet'!O16=\"\",\"R\",IF('Race results'!$C$32>0,ROUND(AVERAGE('Score Sheet'!$J16:O16),1),ROUND(AVERAGE('Score Sheet'!$I16:O16),1)))","v":"R"},{"$f":"IF('Score Sheet'!P16=\"\",\"R\",IF('Race results'!$C$32>0,ROUND(AVERAGE('Score Sheet'!$J16:P16),1),ROUND(AVERAGE('Score Sheet'!$I16:P16),1)))","v":"R"},{"$f":"IF('Score Sheet'!Q16=\"\",\"R\",IF('Race results'!$C$32>0,ROUND(AVERAGE('Score Sheet'!$J16:Q16),1),ROUND(AVERAGE('Score Sheet'!$I16:Q16),1)))","v":"R"},{"$f":"IF('Score Sheet'!R16=\"\",\"R\",IF('Race results'!$C$32>0,ROUND(AVERAGE('Score Sheet'!$J16:R16),1),ROUND(AVERAGE('Score Sheet'!$I16:R16),1)))","v":"R"},{"$f":"IF('Score Sheet'!S16=\"\",\"R\",IF('Race results'!$C$32>0,ROUND(AVERAGE('Score Sheet'!$J16:S16),1),ROUND(AVERAGE('Score Sheet'!$I16:S16),1)))","v":"R"},{"$f":"IF('Score Sheet'!T16=\"\",\"R\",IF('Race results'!$C$32>0,ROUND(AVERAGE('Score Sheet'!$J16:T16),1),ROUND(AVERAGE('Score Sheet'!$I16:T16),1)))","v":"R"},{"$f":"IF('Score Sheet'!U16=\"\",\"R\",IF('Race results'!$C$32>0,ROUND(AVERAGE('Score Sheet'!$J16:U16),1),ROUND(AVERAGE('Score Sheet'!$I16:U16),1)))","v":"R"},{"$f":"IF('Score Sheet'!V16=\"\",\"R\",IF('Race results'!$C$32>0,ROUND(AVERAGE('Score Sheet'!$J16:V16),1),ROUND(AVERAGE('Score Sheet'!$I16:V16),1)))","v":"R"},{"$f":"IF('Score Sheet'!W16=\"\",\"R\",IF('Race results'!$C$32>0,ROUND(AVERAGE('Score Sheet'!$J16:W16),1),ROUND(AVERAGE('Score Sheet'!$I16:W16),1)))","v":"R"},{"$f":"IF('Score Sheet'!X16=\"\",\"R\",IF('Race results'!$C$32>0,ROUND(AVERAGE('Score Sheet'!$J16:X16),1),ROUND(AVERAGE('Score Sheet'!$I16:X16),1)))","v":"R"},{"$f":"IF('Score Sheet'!Y16=\"\",\"R\",IF('Race results'!$C$32>0,ROUND(AVERAGE('Score Sheet'!$J16:Y16),1),ROUND(AVERAGE('Score Sheet'!$I16:Y16),1)))","v":"R"},{"$f":"IF('Score Sheet'!Z16=\"\",\"R\",IF('Race results'!$C$32>0,ROUND(AVERAGE('Score Sheet'!$J16:Z16),1),ROUND(AVERAGE('Score Sheet'!$I16:Z16),1)))","v":"R"},{"$f":"IF('Score Sheet'!AA16=\"\",\"R\",IF('Race results'!$C$32>0,ROUND(AVERAGE('Score Sheet'!$J16:AA16),1),ROUND(AVERAGE('Score Sheet'!$I16:AA16),1)))","v":"R"},{"$f":"IF('Score Sheet'!AB16=\"\",\"R\",IF('Race results'!$C$32>0,ROUND(AVERAGE('Score Sheet'!$J16:AB16),1),ROUND(AVERAGE('Score Sheet'!$I16:AB16),1)))","v":"R"},{"$f":"IF('Score Sheet'!AC16=\"\",\"R\",IF('Race results'!$C$32>0,ROUND(AVERAGE('Score Sheet'!$J16:AC16),1),ROUND(AVERAGE('Score Sheet'!$I16:AC16),1)))","v":"R"},{"$f":"IF('Score Sheet'!AD16=\"\",\"R\",IF('Race results'!$C$32>0,ROUND(AVERAGE('Score Sheet'!$J16:AD16),1),ROUND(AVERAGE('Score Sheet'!$I16:AD16),1)))","v":"R"},{"$f":"IF('Score Sheet'!AE16=\"\",\"R\",IF('Race results'!$C$32>0,ROUND(AVERAGE('Score Sheet'!$J16:AE16),1),ROUND(AVERAGE('Score Sheet'!$I16:AE16),1)))","v":"R"},{"$f":"IF('Score Sheet'!AF16=\"\",\"R\",IF('Race results'!$C$32>0,ROUND(AVERAGE('Score Sheet'!$J16:AF16),1),ROUND(AVERAGE('Score Sheet'!$I16:AF16),1)))","v":"R"},{"$f":"IF('Score Sheet'!AG16=\"\",\"R\",IF('Race results'!$C$32>0,ROUND(AVERAGE('Score Sheet'!$J16:AG16),1),ROUND(AVERAGE('Score Sheet'!$I16:AG16),1)))","v":"R"},{"$f":"IF('Score Sheet'!AH16=\"\",\"R\",IF('Race results'!$C$32>0,ROUND(AVERAGE('Score Sheet'!$J16:AH16),1),ROUND(AVERAGE('Score Sheet'!$I16:AH16),1)))","v":"R"},{"$f":"IF('Score Sheet'!AI16=\"\",\"R\",IF('Race results'!$C$32>0,ROUND(AVERAGE('Score Sheet'!$J16:AI16),1),ROUND(AVERAGE('Score Sheet'!$I16:AI16),1)))","v":"R"},{"$f":"IF('Score Sheet'!AJ16=\"\",\"R\",IF('Race results'!$C$32>0,ROUND(AVERAGE('Score Sheet'!$J16:AJ16),1),ROUND(AVERAGE('Score Sheet'!$I16:AJ16),1)))","v":"R"},{"$f":"IF('Score Sheet'!AK16=\"\",\"R\",IF('Race results'!$C$32>0,ROUND(AVERAGE('Score Sheet'!$J16:AK16),1),ROUND(AVERAGE('Score Sheet'!$I16:AK16),1)))","v":"R"},{"$f":"IF('Score Sheet'!AL16=\"\",\"R\",IF('Race results'!$C$32>0,ROUND(AVERAGE('Score Sheet'!$J16:AL16),1),ROUND(AVERAGE('Score Sheet'!$I16:AL16),1)))","v":"R"},{"$f":"IF('Score Sheet'!AM16=\"\",\"R\",IF('Race results'!$C$32>0,ROUND(AVERAGE('Score Sheet'!$J16:AM16),1),ROUND(AVERAGE('Score Sheet'!$I16:AM16),1)))","v":"R"},{"$f":"IF('Score Sheet'!AN16=\"\",\"R\",IF('Race results'!$C$32>0,ROUND(AVERAGE('Score Sheet'!$J16:AN16),1),ROUND(AVERAGE('Score Sheet'!$I16:AN16),1)))","v":"R"},{"$f":"IF('Score Sheet'!AO16=\"\",\"R\",IF('Race results'!$C$32>0,ROUND(AVERAGE('Score Sheet'!$J16:AO16),1),ROUND(AVERAGE('Score Sheet'!$I16:AO16),1)))","v":"R"},{"$f":"IF('Score Sheet'!AP16=\"\",\"R\",IF('Race results'!$C$32>0,ROUND(AVERAGE('Score Sheet'!$J16:AP16),1),ROUND(AVERAGE('Score Sheet'!$I16:AP16),1)))","v":"R"},{"$f":"IF('Score Sheet'!AQ16=\"\",\"R\",IF('Race results'!$C$32>0,ROUND(AVERAGE('Score Sheet'!$J16:AQ16),1),ROUND(AVERAGE('Score Sheet'!$I16:AQ16),1)))","v":"R"},{"$f":"IF('Score Sheet'!AR16=\"\",\"R\",IF('Race results'!$C$32>0,ROUND(AVERAGE('Score Sheet'!$J16:AR16),1),ROUND(AVERAGE('Score Sheet'!$I16:AR16),1)))","v":"R"},{"$f":"IF('Score Sheet'!AS16=\"\",\"R\",IF('Race results'!$C$32>0,ROUND(AVERAGE('Score Sheet'!$J16:AS16),1),ROUND(AVERAGE('Score Sheet'!$I16:AS16),1)))","v":"R"},{"$f":"IF('Score Sheet'!AT16=\"\",\"R\",IF('Race results'!$C$32>0,ROUND(AVERAGE('Score Sheet'!$J16:AT16),1),ROUND(AVERAGE('Score Sheet'!$I16:AT16),1)))","v":"R"},{"$f":"IF('Score Sheet'!AU16=\"\",\"R\",IF('Race results'!$C$32>0,ROUND(AVERAGE('Score Sheet'!$J16:AU16),1),ROUND(AVERAGE('Score Sheet'!$I16:AU16),1)))","v":"R"},{"$f":"IF('Score Sheet'!AV16=\"\",\"R\",IF('Race results'!$C$32>0,ROUND(AVERAGE('Score Sheet'!$J16:AV16),1),ROUND(AVERAGE('Score Sheet'!$I16:AV16),1)))","v":"R"},null,"",{"$f":"IF(C16=\"\",\"\",IF('Race results'!$C$7<1, \"E\", IF('Race results'!$C$32>0,IF(COUNT(AY16:CL16)<1,\"R\",ROUND(AVERAGE(AY16:CL16),1)),IF(COUNT(AX16:CL16)<1,\"R\",ROUND(AVERAGE(AX16:CL16),1)))))","v":""},null,null,"","","","","","","","","","","","","","","","","","","","","","","","","","","","","","","","","","","","","","","","",""]
[null,8,{"$f":"IF('Score Sheet'!C17=\"\",\"\",'Score Sheet'!C17)","v":""},{"$f":"'Race results'!$F$159","v":"DAFT!"},{"$f":"'Race results'!$F$159","v":"DAFT!"},{"$f":"IF('Score Sheet'!J17=\"\",\"R\",IF('Race results'!$C$32>0,'Race results'!$F$159,ROUND(AVERAGE('Score Sheet'!$I17:J17),1)))","v":"R"},{"$f":"IF('Score Sheet'!K17=\"\",\"R\",IF('Race results'!$C$32>0,ROUND(AVERAGE('Score Sheet'!$J17:K17),1),ROUND(AVERAGE('Score Sheet'!$I17:K17),1)))","v":"R"},{"$f":"IF('Score Sheet'!L17=\"\",\"R\",IF('Race results'!$C$32>0,ROUND(AVERAGE('Score Sheet'!$J17:L17),1),ROUND(AVERAGE('Score Sheet'!$I17:L17),1)))","v":"R"},{"$f":"IF('Score Sheet'!M17=\"\",\"R\",IF('Race results'!$C$32>0,ROUND(AVERAGE('Score Sheet'!$J17:M17),1),ROUND(AVERAGE('Score Sheet'!$I17:M17),1)))","v":"R"},{"$f":"IF('Score Sheet'!N17=\"\",\"R\",IF('Race results'!$C$32>0,ROUND(AVERAGE('Score Sheet'!$J17:N17),1),ROUND(AVERAGE('Score Sheet'!$I17:N17),1)))","v":"R"},{"$f":"IF('Score Sheet'!O17=\"\",\"R\",IF('Race results'!$C$32>0,ROUND(AVERAGE('Score Sheet'!$J17:O17),1),ROUND(AVERAGE('Score Sheet'!$I17:O17),1)))","v":"R"},{"$f":"IF('Score Sheet'!P17=\"\",\"R\",IF('Race results'!$C$32>0,ROUND(AVERAGE('Score Sheet'!$J17:P17),1),ROUND(AVERAGE('Score Sheet'!$I17:P17),1)))","v":"R"},{"$f":"IF('Score Sheet'!Q17=\"\",\"R\",IF('Race results'!$C$32>0,ROUND(AVERAGE('Score Sheet'!$J17:Q17),1),ROUND(AVERAGE('Score Sheet'!$I17:Q17),1)))","v":"R"},{"$f":"IF('Score Sheet'!R17=\"\",\"R\",IF('Race results'!$C$32>0,ROUND(AVERAGE('Score Sheet'!$J17:R17),1),ROUND(AVERAGE('Score Sheet'!$I17:R17),1)))","v":"R"},{"$f":"IF('Score Sheet'!S17=\"\",\"R\",IF('Race results'!$C$32>0,ROUND(AVERAGE('Score Sheet'!$J17:S17),1),ROUND(AVERAGE('Score Sheet'!$I17:S17),1)))","v":"R"},{"$f":"IF('Score Sheet'!T17=\"\",\"R\",IF('Race results'!$C$32>0,ROUND(AVERAGE('Score Sheet'!$J17:T17),1),ROUND(AVERAGE('Score Sheet'!$I17:T17),1)))","v":"R"},{"$f":"IF('Score Sheet'!U17=\"\",\"R\",IF('Race results'!$C$32>0,ROUND(AVERAGE('Score Sheet'!$J17:U17),1),ROUND(AVERAGE('Score Sheet'!$I17:U17),1)))","v":"R"},{"$f":"IF('Score Sheet'!V17=\"\",\"R\",IF('Race results'!$C$32>0,ROUND(AVERAGE('Score Sheet'!$J17:V17),1),ROUND(AVERAGE('Score Sheet'!$I17:V17),1)))","v":"R"},{"$f":"IF('Score Sheet'!W17=\"\",\"R\",IF('Race results'!$C$32>0,ROUND(AVERAGE('Score Sheet'!$J17:W17),1),ROUND(AVERAGE('Score Sheet'!$I17:W17),1)))","v":"R"},{"$f":"IF('Score Sheet'!X17=\"\",\"R\",IF('Race results'!$C$32>0,ROUND(AVERAGE('Score Sheet'!$J17:X17),1),ROUND(AVERAGE('Score Sheet'!$I17:X17),1)))","v":"R"},{"$f":"IF('Score Sheet'!Y17=\"\",\"R\",IF('Race results'!$C$32>0,ROUND(AVERAGE('Score Sheet'!$J17:Y17),1),ROUND(AVERAGE('Score Sheet'!$I17:Y17),1)))","v":"R"},{"$f":"IF('Score Sheet'!Z17=\"\",\"R\",IF('Race results'!$C$32>0,ROUND(AVERAGE('Score Sheet'!$J17:Z17),1),ROUND(AVERAGE('Score Sheet'!$I17:Z17),1)))","v":"R"},{"$f":"IF('Score Sheet'!AA17=\"\",\"R\",IF('Race results'!$C$32>0,ROUND(AVERAGE('Score Sheet'!$J17:AA17),1),ROUND(AVERAGE('Score Sheet'!$I17:AA17),1)))","v":"R"},{"$f":"IF('Score Sheet'!AB17=\"\",\"R\",IF('Race results'!$C$32>0,ROUND(AVERAGE('Score Sheet'!$J17:AB17),1),ROUND(AVERAGE('Score Sheet'!$I17:AB17),1)))","v":"R"},{"$f":"IF('Score Sheet'!AC17=\"\",\"R\",IF('Race results'!$C$32>0,ROUND(AVERAGE('Score Sheet'!$J17:AC17),1),ROUND(AVERAGE('Score Sheet'!$I17:AC17),1)))","v":"R"},{"$f":"IF('Score Sheet'!AD17=\"\",\"R\",IF('Race results'!$C$32>0,ROUND(AVERAGE('Score Sheet'!$J17:AD17),1),ROUND(AVERAGE('Score Sheet'!$I17:AD17),1)))","v":"R"},{"$f":"IF('Score Sheet'!AE17=\"\",\"R\",IF('Race results'!$C$32>0,ROUND(AVERAGE('Score Sheet'!$J17:AE17),1),ROUND(AVERAGE('Score Sheet'!$I17:AE17),1)))","v":"R"},{"$f":"IF('Score Sheet'!AF17=\"\",\"R\",IF('Race results'!$C$32>0,ROUND(AVERAGE('Score Sheet'!$J17:AF17),1),ROUND(AVERAGE('Score Sheet'!$I17:AF17),1)))","v":"R"},{"$f":"IF('Score Sheet'!AG17=\"\",\"R\",IF('Race results'!$C$32>0,ROUND(AVERAGE('Score Sheet'!$J17:AG17),1),ROUND(AVERAGE('Score Sheet'!$I17:AG17),1)))","v":"R"},{"$f":"IF('Score Sheet'!AH17=\"\",\"R\",IF('Race results'!$C$32>0,ROUND(AVERAGE('Score Sheet'!$J17:AH17),1),ROUND(AVERAGE('Score Sheet'!$I17:AH17),1)))","v":"R"},{"$f":"IF('Score Sheet'!AI17=\"\",\"R\",IF('Race results'!$C$32>0,ROUND(AVERAGE('Score Sheet'!$J17:AI17),1),ROUND(AVERAGE('Score Sheet'!$I17:AI17),1)))","v":"R"},{"$f":"IF('Score Sheet'!AJ17=\"\",\"R\",IF('Race results'!$C$32>0,ROUND(AVERAGE('Score Sheet'!$J17:AJ17),1),ROUND(AVERAGE('Score Sheet'!$I17:AJ17),1)))","v":"R"},{"$f":"IF('Score Sheet'!AK17=\"\",\"R\",IF('Race results'!$C$32>0,ROUND(AVERAGE('Score Sheet'!$J17:AK17),1),ROUND(AVERAGE('Score Sheet'!$I17:AK17),1)))","v":"R"},{"$f":"IF('Score Sheet'!AL17=\"\",\"R\",IF('Race results'!$C$32>0,ROUND(AVERAGE('Score Sheet'!$J17:AL17),1),ROUND(AVERAGE('Score Sheet'!$I17:AL17),1)))","v":"R"},{"$f":"IF('Score Sheet'!AM17=\"\",\"R\",IF('Race results'!$C$32>0,ROUND(AVERAGE('Score Sheet'!$J17:AM17),1),ROUND(AVERAGE('Score Sheet'!$I17:AM17),1)))","v":"R"},{"$f":"IF('Score Sheet'!AN17=\"\",\"R\",IF('Race results'!$C$32>0,ROUND(AVERAGE('Score Sheet'!$J17:AN17),1),ROUND(AVERAGE('Score Sheet'!$I17:AN17),1)))","v":"R"},{"$f":"IF('Score Sheet'!AO17=\"\",\"R\",IF('Race results'!$C$32>0,ROUND(AVERAGE('Score Sheet'!$J17:AO17),1),ROUND(AVERAGE('Score Sheet'!$I17:AO17),1)))","v":"R"},{"$f":"IF('Score Sheet'!AP17=\"\",\"R\",IF('Race results'!$C$32>0,ROUND(AVERAGE('Score Sheet'!$J17:AP17),1),ROUND(AVERAGE('Score Sheet'!$I17:AP17),1)))","v":"R"},{"$f":"IF('Score Sheet'!AQ17=\"\",\"R\",IF('Race results'!$C$32>0,ROUND(AVERAGE('Score Sheet'!$J17:AQ17),1),ROUND(AVERAGE('Score Sheet'!$I17:AQ17),1)))","v":"R"},{"$f":"IF('Score Sheet'!AR17=\"\",\"R\",IF('Race results'!$C$32>0,ROUND(AVERAGE('Score Sheet'!$J17:AR17),1),ROUND(AVERAGE('Score Sheet'!$I17:AR17),1)))","v":"R"},{"$f":"IF('Score Sheet'!AS17=\"\",\"R\",IF('Race results'!$C$32>0,ROUND(AVERAGE('Score Sheet'!$J17:AS17),1),ROUND(AVERAGE('Score Sheet'!$I17:AS17),1)))","v":"R"},{"$f":"IF('Score Sheet'!AT17=\"\",\"R\",IF('Race results'!$C$32>0,ROUND(AVERAGE('Score Sheet'!$J17:AT17),1),ROUND(AVERAGE('Score Sheet'!$I17:AT17),1)))","v":"R"},{"$f":"IF('Score Sheet'!AU17=\"\",\"R\",IF('Race results'!$C$32>0,ROUND(AVERAGE('Score Sheet'!$J17:AU17),1),ROUND(AVERAGE('Score Sheet'!$I17:AU17),1)))","v":"R"},{"$f":"IF('Score Sheet'!AV17=\"\",\"R\",IF('Race results'!$C$32>0,ROUND(AVERAGE('Score Sheet'!$J17:AV17),1),ROUND(AVERAGE('Score Sheet'!$I17:AV17),1)))","v":"R"},null,"",{"$f":"IF(C17=\"\",\"\",IF('Race results'!$C$7<1, \"E\", IF('Race results'!$C$32>0,IF(COUNT(AY17:CL17)<1,\"R\",ROUND(AVERAGE(AY17:CL17),1)),IF(COUNT(AX17:CL17)<1,\"R\",ROUND(AVERAGE(AX17:CL17),1)))))","v":""},null,null,"","","","","","","","","","","","","","","","","","","","","","","","","","","","","","","","","","","","","","","","",""]
[null,9,{"$f":"IF('Score Sheet'!C18=\"\",\"\",'Score Sheet'!C18)","v":""},{"$f":"'Race results'!$F$159","v":"DAFT!"},{"$f":"'Race results'!$F$159","v":"DAFT!"},{"$f":"IF('Score Sheet'!J18=\"\",\"R\",IF('Race results'!$C$32>0,'Race results'!$F$159,ROUND(AVERAGE('Score Sheet'!$I18:J18),1)))","v":"R"},{"$f":"IF('Score Sheet'!K18=\"\",\"R\",IF('Race results'!$C$32>0,ROUND(AVERAGE('Score Sheet'!$J18:K18),1),ROUND(AVERAGE('Score Sheet'!$I18:K18),1)))","v":"R"},{"$f":"IF('Score Sheet'!L18=\"\",\"R\",IF('Race results'!$C$32>0,ROUND(AVERAGE('Score Sheet'!$J18:L18),1),ROUND(AVERAGE('Score Sheet'!$I18:L18),1)))","v":"R"},{"$f":"IF('Score Sheet'!M18=\"\",\"R\",IF('Race results'!$C$32>0,ROUND(AVERAGE('Score Sheet'!$J18:M18),1),ROUND(AVERAGE('Score Sheet'!$I18:M18),1)))","v":"R"},{"$f":"IF('Score Sheet'!N18=\"\",\"R\",IF('Race results'!$C$32>0,ROUND(AVERAGE('Score Sheet'!$J18:N18),1),ROUND(AVERAGE('Score Sheet'!$I18:N18),1)))","v":"R"},{"$f":"IF('Score Sheet'!O18=\"\",\"R\",IF('Race results'!$C$32>0,ROUND(AVERAGE('Score Sheet'!$J18:O18),1),ROUND(AVERAGE('Score Sheet'!$I18:O18),1)))","v":"R"},{"$f":"IF('Score Sheet'!P18=\"\",\"R\",IF('Race results'!$C$32>0,ROUND(AVERAGE('Score Sheet'!$J18:P18),1),ROUND(AVERAGE('Score Sheet'!$I18:P18),1)))","v":"R"},{"$f":"IF('Score Sheet'!Q18=\"\",\"R\",IF('Race results'!$C$32>0,ROUND(AVERAGE('Score Sheet'!$J18:Q18),1),ROUND(AVERAGE('Score Sheet'!$I18:Q18),1)))","v":"R"},{"$f":"IF('Score Sheet'!R18=\"\",\"R\",IF('Race results'!$C$32>0,ROUND(AVERAGE('Score Sheet'!$J18:R18),1),ROUND(AVERAGE('Score Sheet'!$I18:R18),1)))","v":"R"},{"$f":"IF('Score Sheet'!S18=\"\",\"R\",IF('Race results'!$C$32>0,ROUND(AVERAGE('Score Sheet'!$J18:S18),1),ROUND(AVERAGE('Score Sheet'!$I18:S18),1)))","v":"R"},{"$f":"IF('Score Sheet'!T18=\"\",\"R\",IF('Race results'!$C$32>0,ROUND(AVERAGE('Score Sheet'!$J18:T18),1),ROUND(AVERAGE('Score Sheet'!$I18:T18),1)))","v":"R"},{"$f":"IF('Score Sheet'!U18=\"\",\"R\",IF('Race results'!$C$32>0,ROUND(AVERAGE('Score Sheet'!$J18:U18),1),ROUND(AVERAGE('Score Sheet'!$I18:U18),1)))","v":"R"},{"$f":"IF('Score Sheet'!V18=\"\",\"R\",IF('Race results'!$C$32>0,ROUND(AVERAGE('Score Sheet'!$J18:V18),1),ROUND(AVERAGE('Score Sheet'!$I18:V18),1)))","v":"R"},{"$f":"IF('Score Sheet'!W18=\"\",\"R\",IF('Race results'!$C$32>0,ROUND(AVERAGE('Score Sheet'!$J18:W18),1),ROUND(AVERAGE('Score Sheet'!$I18:W18),1)))","v":"R"},{"$f":"IF('Score Sheet'!X18=\"\",\"R\",IF('Race results'!$C$32>0,ROUND(AVERAGE('Score Sheet'!$J18:X18),1),ROUND(AVERAGE('Score Sheet'!$I18:X18),1)))","v":"R"},{"$f":"IF('Score Sheet'!Y18=\"\",\"R\",IF('Race results'!$C$32>0,ROUND(AVERAGE('Score Sheet'!$J18:Y18),1),ROUND(AVERAGE('Score Sheet'!$I18:Y18),1)))","v":"R"},{"$f":"IF('Score Sheet'!Z18=\"\",\"R\",IF('Race results'!$C$32>0,ROUND(AVERAGE('Score Sheet'!$J18:Z18),1),ROUND(AVERAGE('Score Sheet'!$I18:Z18),1)))","v":"R"},{"$f":"IF('Score Sheet'!AA18=\"\",\"R\",IF('Race results'!$C$32>0,ROUND(AVERAGE('Score Sheet'!$J18:AA18),1),ROUND(AVERAGE('Score Sheet'!$I18:AA18),1)))","v":"R"},{"$f":"IF('Score Sheet'!AB18=\"\",\"R\",IF('Race results'!$C$32>0,ROUND(AVERAGE('Score Sheet'!$J18:AB18),1),ROUND(AVERAGE('Score Sheet'!$I18:AB18),1)))","v":"R"},{"$f":"IF('Score Sheet'!AC18=\"\",\"R\",IF('Race results'!$C$32>0,ROUND(AVERAGE('Score Sheet'!$J18:AC18),1),ROUND(AVERAGE('Score Sheet'!$I18:AC18),1)))","v":"R"},{"$f":"IF('Score Sheet'!AD18=\"\",\"R\",IF('Race results'!$C$32>0,ROUND(AVERAGE('Score Sheet'!$J18:AD18),1),ROUND(AVERAGE('Score Sheet'!$I18:AD18),1)))","v":"R"},{"$f":"IF('Score Sheet'!AE18=\"\",\"R\",IF('Race results'!$C$32>0,ROUND(AVERAGE('Score Sheet'!$J18:AE18),1),ROUND(AVERAGE('Score Sheet'!$I18:AE18),1)))","v":"R"},{"$f":"IF('Score Sheet'!AF18=\"\",\"R\",IF('Race results'!$C$32>0,ROUND(AVERAGE('Score Sheet'!$J18:AF18),1),ROUND(AVERAGE('Score Sheet'!$I18:AF18),1)))","v":"R"},{"$f":"IF('Score Sheet'!AG18=\"\",\"R\",IF('Race results'!$C$32>0,ROUND(AVERAGE('Score Sheet'!$J18:AG18),1),ROUND(AVERAGE('Score Sheet'!$I18:AG18),1)))","v":"R"},{"$f":"IF('Score Sheet'!AH18=\"\",\"R\",IF('Race results'!$C$32>0,ROUND(AVERAGE('Score Sheet'!$J18:AH18),1),ROUND(AVERAGE('Score Sheet'!$I18:AH18),1)))","v":"R"},{"$f":"IF('Score Sheet'!AI18=\"\",\"R\",IF('Race results'!$C$32>0,ROUND(AVERAGE('Score Sheet'!$J18:AI18),1),ROUND(AVERAGE('Score Sheet'!$I18:AI18),1)))","v":"R"},{"$f":"IF('Score Sheet'!AJ18=\"\",\"R\",IF('Race results'!$C$32>0,ROUND(AVERAGE('Score Sheet'!$J18:AJ18),1),ROUND(AVERAGE('Score Sheet'!$I18:AJ18),1)))","v":"R"},{"$f":"IF('Score Sheet'!AK18=\"\",\"R\",IF('Race results'!$C$32>0,ROUND(AVERAGE('Score Sheet'!$J18:AK18),1),ROUND(AVERAGE('Score Sheet'!$I18:AK18),1)))","v":"R"},{"$f":"IF('Score Sheet'!AL18=\"\",\"R\",IF('Race results'!$C$32>0,ROUND(AVERAGE('Score Sheet'!$J18:AL18),1),ROUND(AVERAGE('Score Sheet'!$I18:AL18),1)))","v":"R"},{"$f":"IF('Score Sheet'!AM18=\"\",\"R\",IF('Race results'!$C$32>0,ROUND(AVERAGE('Score Sheet'!$J18:AM18),1),ROUND(AVERAGE('Score Sheet'!$I18:AM18),1)))","v":"R"},{"$f":"IF('Score Sheet'!AN18=\"\",\"R\",IF('Race results'!$C$32>0,ROUND(AVERAGE('Score Sheet'!$J18:AN18),1),ROUND(AVERAGE('Score Sheet'!$I18:AN18),1)))","v":"R"},{"$f":"IF('Score Sheet'!AO18=\"\",\"R\",IF('Race results'!$C$32>0,ROUND(AVERAGE('Score Sheet'!$J18:AO18),1),ROUND(AVERAGE('Score Sheet'!$I18:AO18),1)))","v":"R"},{"$f":"IF('Score Sheet'!AP18=\"\",\"R\",IF('Race results'!$C$32>0,ROUND(AVERAGE('Score Sheet'!$J18:AP18),1),ROUND(AVERAGE('Score Sheet'!$I18:AP18),1)))","v":"R"},{"$f":"IF('Score Sheet'!AQ18=\"\",\"R\",IF('Race results'!$C$32>0,ROUND(AVERAGE('Score Sheet'!$J18:AQ18),1),ROUND(AVERAGE('Score Sheet'!$I18:AQ18),1)))","v":"R"},{"$f":"IF('Score Sheet'!AR18=\"\",\"R\",IF('Race results'!$C$32>0,ROUND(AVERAGE('Score Sheet'!$J18:AR18),1),ROUND(AVERAGE('Score Sheet'!$I18:AR18),1)))","v":"R"},{"$f":"IF('Score Sheet'!AS18=\"\",\"R\",IF('Race results'!$C$32>0,ROUND(AVERAGE('Score Sheet'!$J18:AS18),1),ROUND(AVERAGE('Score Sheet'!$I18:AS18),1)))","v":"R"},{"$f":"IF('Score Sheet'!AT18=\"\",\"R\",IF('Race results'!$C$32>0,ROUND(AVERAGE('Score Sheet'!$J18:AT18),1),ROUND(AVERAGE('Score Sheet'!$I18:AT18),1)))","v":"R"},{"$f":"IF('Score Sheet'!AU18=\"\",\"R\",IF('Race results'!$C$32>0,ROUND(AVERAGE('Score Sheet'!$J18:AU18),1),ROUND(AVERAGE('Score Sheet'!$I18:AU18),1)))","v":"R"},{"$f":"IF('Score Sheet'!AV18=\"\",\"R\",IF('Race results'!$C$32>0,ROUND(AVERAGE('Score Sheet'!$J18:AV18),1),ROUND(AVERAGE('Score Sheet'!$I18:AV18),1)))","v":"R"},null,"",{"$f":"IF(C18=\"\",\"\",IF('Race results'!$C$7<1, \"E\", IF('Race results'!$C$32>0,IF(COUNT(AY18:CL18)<1,\"R\",ROUND(AVERAGE(AY18:CL18),1)),IF(COUNT(AX18:CL18)<1,\"R\",ROUND(AVERAGE(AX18:CL18),1)))))","v":""},null,null,"","","","","","","","","","","","","","","","","","","","","","","","","","","","","","","","","","","","","","","","",""]
[null,10,{"$f":"IF('Score Sheet'!C19=\"\",\"\",'Score Sheet'!C19)","v":""},{"$f":"'Race results'!$F$159","v":"DAFT!"},{"$f":"'Race results'!$F$159","v":"DAFT!"},{"$f":"IF('Score Sheet'!J19=\"\",\"R\",IF('Race results'!$C$32>0,'Race results'!$F$159,ROUND(AVERAGE('Score Sheet'!$I19:J19),1)))","v":"R"},{"$f":"IF('Score Sheet'!K19=\"\",\"R\",IF('Race results'!$C$32>0,ROUND(AVERAGE('Score Sheet'!$J19:K19),1),ROUND(AVERAGE('Score Sheet'!$I19:K19),1)))","v":"R"},{"$f":"IF('Score Sheet'!L19=\"\",\"R\",IF('Race results'!$C$32>0,ROUND(AVERAGE('Score Sheet'!$J19:L19),1),ROUND(AVERAGE('Score Sheet'!$I19:L19),1)))","v":"R"},{"$f":"IF('Score Sheet'!M19=\"\",\"R\",IF('Race results'!$C$32>0,ROUND(AVERAGE('Score Sheet'!$J19:M19),1),ROUND(AVERAGE('Score Sheet'!$I19:M19),1)))","v":"R"},{"$f":"IF('Score Sheet'!N19=\"\",\"R\",IF('Race results'!$C$32>0,ROUND(AVERAGE('Score Sheet'!$J19:N19),1),ROUND(AVERAGE('Score Sheet'!$I19:N19),1)))","v":"R"},{"$f":"IF('Score Sheet'!O19=\"\",\"R\",IF('Race results'!$C$32>0,ROUND(AVERAGE('Score Sheet'!$J19:O19),1),ROUND(AVERAGE('Score Sheet'!$I19:O19),1)))","v":"R"},{"$f":"IF('Score Sheet'!P19=\"\",\"R\",IF('Race results'!$C$32>0,ROUND(AVERAGE('Score Sheet'!$J19:P19),1),ROUND(AVERAGE('Score Sheet'!$I19:P19),1)))","v":"R"},{"$f":"IF('Score Sheet'!Q19=\"\",\"R\",IF('Race results'!$C$32>0,ROUND(AVERAGE('Score Sheet'!$J19:Q19),1),ROUND(AVERAGE('Score Sheet'!$I19:Q19),1)))","v":"R"},{"$f":"IF('Score Sheet'!R19=\"\",\"R\",IF('Race results'!$C$32>0,ROUND(AVERAGE('Score Sheet'!$J19:R19),1),ROUND(AVERAGE('Score Sheet'!$I19:R19),1)))","v":"R"},{"$f":"IF('Score Sheet'!S19=\"\",\"R\",IF('Race results'!$C$32>0,ROUND(AVERAGE('Score Sheet'!$J19:S19),1),ROUND(AVERAGE('Score Sheet'!$I19:S19),1)))","v":"R"},{"$f":"IF('Score Sheet'!T19=\"\",\"R\",IF('Race results'!$C$32>0,ROUND(AVERAGE('Score Sheet'!$J19:T19),1),ROUND(AVERAGE('Score Sheet'!$I19:T19),1)))","v":"R"},{"$f":"IF('Score Sheet'!U19=\"\",\"R\",IF('Race results'!$C$32>0,ROUND(AVERAGE('Score Sheet'!$J19:U19),1),ROUND(AVERAGE('Score Sheet'!$I19:U19),1)))","v":"R"},{"$f":"IF('Score Sheet'!V19=\"\",\"R\",IF('Race results'!$C$32>0,ROUND(AVERAGE('Score Sheet'!$J19:V19),1),ROUND(AVERAGE('Score Sheet'!$I19:V19),1)))","v":"R"},{"$f":"IF('Score Sheet'!W19=\"\",\"R\",IF('Race results'!$C$32>0,ROUND(AVERAGE('Score Sheet'!$J19:W19),1),ROUND(AVERAGE('Score Sheet'!$I19:W19),1)))","v":"R"},{"$f":"IF('Score Sheet'!X19=\"\",\"R\",IF('Race results'!$C$32>0,ROUND(AVERAGE('Score Sheet'!$J19:X19),1),ROUND(AVERAGE('Score Sheet'!$I19:X19),1)))","v":"R"},{"$f":"IF('Score Sheet'!Y19=\"\",\"R\",IF('Race results'!$C$32>0,ROUND(AVERAGE('Score Sheet'!$J19:Y19),1),ROUND(AVERAGE('Score Sheet'!$I19:Y19),1)))","v":"R"},{"$f":"IF('Score Sheet'!Z19=\"\",\"R\",IF('Race results'!$C$32>0,ROUND(AVERAGE('Score Sheet'!$J19:Z19),1),ROUND(AVERAGE('Score Sheet'!$I19:Z19),1)))","v":"R"},{"$f":"IF('Score Sheet'!AA19=\"\",\"R\",IF('Race results'!$C$32>0,ROUND(AVERAGE('Score Sheet'!$J19:AA19),1),ROUND(AVERAGE('Score Sheet'!$I19:AA19),1)))","v":"R"},{"$f":"IF('Score Sheet'!AB19=\"\",\"R\",IF('Race results'!$C$32>0,ROUND(AVERAGE('Score Sheet'!$J19:AB19),1),ROUND(AVERAGE('Score Sheet'!$I19:AB19),1)))","v":"R"},{"$f":"IF('Score Sheet'!AC19=\"\",\"R\",IF('Race results'!$C$32>0,ROUND(AVERAGE('Score Sheet'!$J19:AC19),1),ROUND(AVERAGE('Score Sheet'!$I19:AC19),1)))","v":"R"},{"$f":"IF('Score Sheet'!AD19=\"\",\"R\",IF('Race results'!$C$32>0,ROUND(AVERAGE('Score Sheet'!$J19:AD19),1),ROUND(AVERAGE('Score Sheet'!$I19:AD19),1)))","v":"R"},{"$f":"IF('Score Sheet'!AE19=\"\",\"R\",IF('Race results'!$C$32>0,ROUND(AVERAGE('Score Sheet'!$J19:AE19),1),ROUND(AVERAGE('Score Sheet'!$I19:AE19),1)))","v":"R"},{"$f":"IF('Score Sheet'!AF19=\"\",\"R\",IF('Race results'!$C$32>0,ROUND(AVERAGE('Score Sheet'!$J19:AF19),1),ROUND(AVERAGE('Score Sheet'!$I19:AF19),1)))","v":"R"},{"$f":"IF('Score Sheet'!AG19=\"\",\"R\",IF('Race results'!$C$32>0,ROUND(AVERAGE('Score Sheet'!$J19:AG19),1),ROUND(AVERAGE('Score Sheet'!$I19:AG19),1)))","v":"R"},{"$f":"IF('Score Sheet'!AH19=\"\",\"R\",IF('Race results'!$C$32>0,ROUND(AVERAGE('Score Sheet'!$J19:AH19),1),ROUND(AVERAGE('Score Sheet'!$I19:AH19),1)))","v":"R"},{"$f":"IF('Score Sheet'!AI19=\"\",\"R\",IF('Race results'!$C$32>0,ROUND(AVERAGE('Score Sheet'!$J19:AI19),1),ROUND(AVERAGE('Score Sheet'!$I19:AI19),1)))","v":"R"},{"$f":"IF('Score Sheet'!AJ19=\"\",\"R\",IF('Race results'!$C$32>0,ROUND(AVERAGE('Score Sheet'!$J19:AJ19),1),ROUND(AVERAGE('Score Sheet'!$I19:AJ19),1)))","v":"R"},{"$f":"IF('Score Sheet'!AK19=\"\",\"R\",IF('Race results'!$C$32>0,ROUND(AVERAGE('Score Sheet'!$J19:AK19),1),ROUND(AVERAGE('Score Sheet'!$I19:AK19),1)))","v":"R"},{"$f":"IF('Score Sheet'!AL19=\"\",\"R\",IF('Race results'!$C$32>0,ROUND(AVERAGE('Score Sheet'!$J19:AL19),1),ROUND(AVERAGE('Score Sheet'!$I19:AL19),1)))","v":"R"},{"$f":"IF('Score Sheet'!AM19=\"\",\"R\",IF('Race results'!$C$32>0,ROUND(AVERAGE('Score Sheet'!$J19:AM19),1),ROUND(AVERAGE('Score Sheet'!$I19:AM19),1)))","v":"R"},{"$f":"IF('Score Sheet'!AN19=\"\",\"R\",IF('Race results'!$C$32>0,ROUND(AVERAGE('Score Sheet'!$J19:AN19),1),ROUND(AVERAGE('Score Sheet'!$I19:AN19),1)))","v":"R"},{"$f":"IF('Score Sheet'!AO19=\"\",\"R\",IF('Race results'!$C$32>0,ROUND(AVERAGE('Score Sheet'!$J19:AO19),1),ROUND(AVERAGE('Score Sheet'!$I19:AO19),1)))","v":"R"},{"$f":"IF('Score Sheet'!AP19=\"\",\"R\",IF('Race results'!$C$32>0,ROUND(AVERAGE('Score Sheet'!$J19:AP19),1),ROUND(AVERAGE('Score Sheet'!$I19:AP19),1)))","v":"R"},{"$f":"IF('Score Sheet'!AQ19=\"\",\"R\",IF('Race results'!$C$32>0,ROUND(AVERAGE('Score Sheet'!$J19:AQ19),1),ROUND(AVERAGE('Score Sheet'!$I19:AQ19),1)))","v":"R"},{"$f":"IF('Score Sheet'!AR19=\"\",\"R\",IF('Race results'!$C$32>0,ROUND(AVERAGE('Score Sheet'!$J19:AR19),1),ROUND(AVERAGE('Score Sheet'!$I19:AR19),1)))","v":"R"},{"$f":"IF('Score Sheet'!AS19=\"\",\"R\",IF('Race results'!$C$32>0,ROUND(AVERAGE('Score Sheet'!$J19:AS19),1),ROUND(AVERAGE('Score Sheet'!$I19:AS19),1)))","v":"R"},{"$f":"IF('Score Sheet'!AT19=\"\",\"R\",IF('Race results'!$C$32>0,ROUND(AVERAGE('Score Sheet'!$J19:AT19),1),ROUND(AVERAGE('Score Sheet'!$I19:AT19),1)))","v":"R"},{"$f":"IF('Score Sheet'!AU19=\"\",\"R\",IF('Race results'!$C$32>0,ROUND(AVERAGE('Score Sheet'!$J19:AU19),1),ROUND(AVERAGE('Score Sheet'!$I19:AU19),1)))","v":"R"},{"$f":"IF('Score Sheet'!AV19=\"\",\"R\",IF('Race results'!$C$32>0,ROUND(AVERAGE('Score Sheet'!$J19:AV19),1),ROUND(AVERAGE('Score Sheet'!$I19:AV19),1)))","v":"R"},null,"",{"$f":"IF(C19=\"\",\"\",IF('Race results'!$C$7<1, \"E\", IF('Race results'!$C$32>0,IF(COUNT(AY19:CL19)<1,\"R\",ROUND(AVERAGE(AY19:CL19),1)),IF(COUNT(AX19:CL19)<1,\"R\",ROUND(AVERAGE(AX19:CL19),1)))))","v":""},null,null,"","","","","","","","","","","","","","","","","","","","","","","","","","","","","","","","","","","","","","","","",""]
[null,11,{"$f":"IF('Score Sheet'!C20=\"\",\"\",'Score Sheet'!C20)","v":""},{"$f":"'Race results'!$F$159","v":"DAFT!"},{"$f":"'Race results'!$F$159","v":"DAFT!"},{"$f":"IF('Score Sheet'!J20=\"\",\"R\",IF('Race results'!$C$32>0,'Race results'!$F$159,ROUND(AVERAGE('Score Sheet'!$I20:J20),1)))","v":"R"},{"$f":"IF('Score Sheet'!K20=\"\",\"R\",IF('Race results'!$C$32>0,ROUND(AVERAGE('Score Sheet'!$J20:K20),1),ROUND(AVERAGE('Score Sheet'!$I20:K20),1)))","v":"R"},{"$f":"IF('Score Sheet'!L20=\"\",\"R\",IF('Race results'!$C$32>0,ROUND(AVERAGE('Score Sheet'!$J20:L20),1),ROUND(AVERAGE('Score Sheet'!$I20:L20),1)))","v":"R"},{"$f":"IF('Score Sheet'!M20=\"\",\"R\",IF('Race results'!$C$32>0,ROUND(AVERAGE('Score Sheet'!$J20:M20),1),ROUND(AVERAGE('Score Sheet'!$I20:M20),1)))","v":"R"},{"$f":"IF('Score Sheet'!N20=\"\",\"R\",IF('Race results'!$C$32>0,ROUND(AVERAGE('Score Sheet'!$J20:N20),1),ROUND(AVERAGE('Score Sheet'!$I20:N20),1)))","v":"R"},{"$f":"IF('Score Sheet'!O20=\"\",\"R\",IF('Race results'!$C$32>0,ROUND(AVERAGE('Score Sheet'!$J20:O20),1),ROUND(AVERAGE('Score Sheet'!$I20:O20),1)))","v":"R"},{"$f":"IF('Score Sheet'!P20=\"\",\"R\",IF('Race results'!$C$32>0,ROUND(AVERAGE('Score Sheet'!$J20:P20),1),ROUND(AVERAGE('Score Sheet'!$I20:P20),1)))","v":"R"},{"$f":"IF('Score Sheet'!Q20=\"\",\"R\",IF('Race results'!$C$32>0,ROUND(AVERAGE('Score Sheet'!$J20:Q20),1),ROUND(AVERAGE('Score Sheet'!$I20:Q20),1)))","v":"R"},{"$f":"IF('Score Sheet'!R20=\"\",\"R\",IF('Race results'!$C$32>0,ROUND(AVERAGE('Score Sheet'!$J20:R20),1),ROUND(AVERAGE('Score Sheet'!$I20:R20),1)))","v":"R"},{"$f":"IF('Score Sheet'!S20=\"\",\"R\",IF('Race results'!$C$32>0,ROUND(AVERAGE('Score Sheet'!$J20:S20),1),ROUND(AVERAGE('Score Sheet'!$I20:S20),1)))","v":"R"},{"$f":"IF('Score Sheet'!T20=\"\",\"R\",IF('Race results'!$C$32>0,ROUND(AVERAGE('Score Sheet'!$J20:T20),1),ROUND(AVERAGE('Score Sheet'!$I20:T20),1)))","v":"R"},{"$f":"IF('Score Sheet'!U20=\"\",\"R\",IF('Race results'!$C$32>0,ROUND(AVERAGE('Score Sheet'!$J20:U20),1),ROUND(AVERAGE('Score Sheet'!$I20:U20),1)))","v":"R"},{"$f":"IF('Score Sheet'!V20=\"\",\"R\",IF('Race results'!$C$32>0,ROUND(AVERAGE('Score Sheet'!$J20:V20),1),ROUND(AVERAGE('Score Sheet'!$I20:V20),1)))","v":"R"},{"$f":"IF('Score Sheet'!W20=\"\",\"R\",IF('Race results'!$C$32>0,ROUND(AVERAGE('Score Sheet'!$J20:W20),1),ROUND(AVERAGE('Score Sheet'!$I20:W20),1)))","v":"R"},{"$f":"IF('Score Sheet'!X20=\"\",\"R\",IF('Race results'!$C$32>0,ROUND(AVERAGE('Score Sheet'!$J20:X20),1),ROUND(AVERAGE('Score Sheet'!$I20:X20),1)))","v":"R"},{"$f":"IF('Score Sheet'!Y20=\"\",\"R\",IF('Race results'!$C$32>0,ROUND(AVERAGE('Score Sheet'!$J20:Y20),1),ROUND(AVERAGE('Score Sheet'!$I20:Y20),1)))","v":"R"},{"$f":"IF('Score Sheet'!Z20=\"\",\"R\",IF('Race results'!$C$32>0,ROUND(AVERAGE('Score Sheet'!$J20:Z20),1),ROUND(AVERAGE('Score Sheet'!$I20:Z20),1)))","v":"R"},{"$f":"IF('Score Sheet'!AA20=\"\",\"R\",IF('Race results'!$C$32>0,ROUND(AVERAGE('Score Sheet'!$J20:AA20),1),ROUND(AVERAGE('Score Sheet'!$I20:AA20),1)))","v":"R"},{"$f":"IF('Score Sheet'!AB20=\"\",\"R\",IF('Race results'!$C$32>0,ROUND(AVERAGE('Score Sheet'!$J20:AB20),1),ROUND(AVERAGE('Score Sheet'!$I20:AB20),1)))","v":"R"},{"$f":"IF('Score Sheet'!AC20=\"\",\"R\",IF('Race results'!$C$32>0,ROUND(AVERAGE('Score Sheet'!$J20:AC20),1),ROUND(AVERAGE('Score Sheet'!$I20:AC20),1)))","v":"R"},{"$f":"IF('Score Sheet'!AD20=\"\",\"R\",IF('Race results'!$C$32>0,ROUND(AVERAGE('Score Sheet'!$J20:AD20),1),ROUND(AVERAGE('Score Sheet'!$I20:AD20),1)))","v":"R"},{"$f":"IF('Score Sheet'!AE20=\"\",\"R\",IF('Race results'!$C$32>0,ROUND(AVERAGE('Score Sheet'!$J20:AE20),1),ROUND(AVERAGE('Score Sheet'!$I20:AE20),1)))","v":"R"},{"$f":"IF('Score Sheet'!AF20=\"\",\"R\",IF('Race results'!$C$32>0,ROUND(AVERAGE('Score Sheet'!$J20:AF20),1),ROUND(AVERAGE('Score Sheet'!$I20:AF20),1)))","v":"R"},{"$f":"IF('Score Sheet'!AG20=\"\",\"R\",IF('Race results'!$C$32>0,ROUND(AVERAGE('Score Sheet'!$J20:AG20),1),ROUND(AVERAGE('Score Sheet'!$I20:AG20),1)))","v":"R"},{"$f":"IF('Score Sheet'!AH20=\"\",\"R\",IF('Race results'!$C$32>0,ROUND(AVERAGE('Score Sheet'!$J20:AH20),1),ROUND(AVERAGE('Score Sheet'!$I20:AH20),1)))","v":"R"},{"$f":"IF('Score Sheet'!AI20=\"\",\"R\",IF('Race results'!$C$32>0,ROUND(AVERAGE('Score Sheet'!$J20:AI20),1),ROUND(AVERAGE('Score Sheet'!$I20:AI20),1)))","v":"R"},{"$f":"IF('Score Sheet'!AJ20=\"\",\"R\",IF('Race results'!$C$32>0,ROUND(AVERAGE('Score Sheet'!$J20:AJ20),1),ROUND(AVERAGE('Score Sheet'!$I20:AJ20),1)))","v":"R"},{"$f":"IF('Score Sheet'!AK20=\"\",\"R\",IF('Race results'!$C$32>0,ROUND(AVERAGE('Score Sheet'!$J20:AK20),1),ROUND(AVERAGE('Score Sheet'!$I20:AK20),1)))","v":"R"},{"$f":"IF('Score Sheet'!AL20=\"\",\"R\",IF('Race results'!$C$32>0,ROUND(AVERAGE('Score Sheet'!$J20:AL20),1),ROUND(AVERAGE('Score Sheet'!$I20:AL20),1)))","v":"R"},{"$f":"IF('Score Sheet'!AM20=\"\",\"R\",IF('Race results'!$C$32>0,ROUND(AVERAGE('Score Sheet'!$J20:AM20),1),ROUND(AVERAGE('Score Sheet'!$I20:AM20),1)))","v":"R"},{"$f":"IF('Score Sheet'!AN20=\"\",\"R\",IF('Race results'!$C$32>0,ROUND(AVERAGE('Score Sheet'!$J20:AN20),1),ROUND(AVERAGE('Score Sheet'!$I20:AN20),1)))","v":"R"},{"$f":"IF('Score Sheet'!AO20=\"\",\"R\",IF('Race results'!$C$32>0,ROUND(AVERAGE('Score Sheet'!$J20:AO20),1),ROUND(AVERAGE('Score Sheet'!$I20:AO20),1)))","v":"R"},{"$f":"IF('Score Sheet'!AP20=\"\",\"R\",IF('Race results'!$C$32>0,ROUND(AVERAGE('Score Sheet'!$J20:AP20),1),ROUND(AVERAGE('Score Sheet'!$I20:AP20),1)))","v":"R"},{"$f":"IF('Score Sheet'!AQ20=\"\",\"R\",IF('Race results'!$C$32>0,ROUND(AVERAGE('Score Sheet'!$J20:AQ20),1),ROUND(AVERAGE('Score Sheet'!$I20:AQ20),1)))","v":"R"},{"$f":"IF('Score Sheet'!AR20=\"\",\"R\",IF('Race results'!$C$32>0,ROUND(AVERAGE('Score Sheet'!$J20:AR20),1),ROUND(AVERAGE('Score Sheet'!$I20:AR20),1)))","v":"R"},{"$f":"IF('Score Sheet'!AS20=\"\",\"R\",IF('Race results'!$C$32>0,ROUND(AVERAGE('Score Sheet'!$J20:AS20),1),ROUND(AVERAGE('Score Sheet'!$I20:AS20),1)))","v":"R"},{"$f":"IF('Score Sheet'!AT20=\"\",\"R\",IF('Race results'!$C$32>0,ROUND(AVERAGE('Score Sheet'!$J20:AT20),1),ROUND(AVERAGE('Score Sheet'!$I20:AT20),1)))","v":"R"},{"$f":"IF('Score Sheet'!AU20=\"\",\"R\",IF('Race results'!$C$32>0,ROUND(AVERAGE('Score Sheet'!$J20:AU20),1),ROUND(AVERAGE('Score Sheet'!$I20:AU20),1)))","v":"R"},{"$f":"IF('Score Sheet'!AV20=\"\",\"R\",IF('Race results'!$C$32>0,ROUND(AVERAGE('Score Sheet'!$J20:AV20),1),ROUND(AVERAGE('Score Sheet'!$I20:AV20),1)))","v":"R"},null,"",{"$f":"IF(C20=\"\",\"\",IF('Race results'!$C$7<1, \"E\", IF('Race results'!$C$32>0,IF(COUNT(AY20:CL20)<1,\"R\",ROUND(AVERAGE(AY20:CL20),1)),IF(COUNT(AX20:CL20)<1,\"R\",ROUND(AVERAGE(AX20:CL20),1)))))","v":""},null,null,"","","","","","","","","","","","","","","","","","","","","","","","","","","","","","","","","","","","","","","","",""]
[null,12,{"$f":"IF('Score Sheet'!C21=\"\",\"\",'Score Sheet'!C21)","v":""},{"$f":"'Race results'!$F$159","v":"DAFT!"},{"$f":"'Race results'!$F$159","v":"DAFT!"},{"$f":"IF('Score Sheet'!J21=\"\",\"R\",IF('Race results'!$C$32>0,'Race results'!$F$159,ROUND(AVERAGE('Score Sheet'!$I21:J21),1)))","v":"R"},{"$f":"IF('Score Sheet'!K21=\"\",\"R\",IF('Race results'!$C$32>0,ROUND(AVERAGE('Score Sheet'!$J21:K21),1),ROUND(AVERAGE('Score Sheet'!$I21:K21),1)))","v":"R"},{"$f":"IF('Score Sheet'!L21=\"\",\"R\",IF('Race results'!$C$32>0,ROUND(AVERAGE('Score Sheet'!$J21:L21),1),ROUND(AVERAGE('Score Sheet'!$I21:L21),1)))","v":"R"},{"$f":"IF('Score Sheet'!M21=\"\",\"R\",IF('Race results'!$C$32>0,ROUND(AVERAGE('Score Sheet'!$J21:M21),1),ROUND(AVERAGE('Score Sheet'!$I21:M21),1)))","v":"R"},{"$f":"IF('Score Sheet'!N21=\"\",\"R\",IF('Race results'!$C$32>0,ROUND(AVERAGE('Score Sheet'!$J21:N21),1),ROUND(AVERAGE('Score Sheet'!$I21:N21),1)))","v":"R"},{"$f":"IF('Score Sheet'!O21=\"\",\"R\",IF('Race results'!$C$32>0,ROUND(AVERAGE('Score Sheet'!$J21:O21),1),ROUND(AVERAGE('Score Sheet'!$I21:O21),1)))","v":"R"},{"$f":"IF('Score Sheet'!P21=\"\",\"R\",IF('Race results'!$C$32>0,ROUND(AVERAGE('Score Sheet'!$J21:P21),1),ROUND(AVERAGE('Score Sheet'!$I21:P21),1)))","v":"R"},{"$f":"IF('Score Sheet'!Q21=\"\",\"R\",IF('Race results'!$C$32>0,ROUND(AVERAGE('Score Sheet'!$J21:Q21),1),ROUND(AVERAGE('Score Sheet'!$I21:Q21),1)))","v":"R"},{"$f":"IF('Score Sheet'!R21=\"\",\"R\",IF('Race results'!$C$32>0,ROUND(AVERAGE('Score Sheet'!$J21:R21),1),ROUND(AVERAGE('Score Sheet'!$I21:R21),1)))","v":"R"},{"$f":"IF('Score Sheet'!S21=\"\",\"R\",IF('Race results'!$C$32>0,ROUND(AVERAGE('Score Sheet'!$J21:S21),1),ROUND(AVERAGE('Score Sheet'!$I21:S21),1)))","v":"R"},{"$f":"IF('Score Sheet'!T21=\"\",\"R\",IF('Race results'!$C$32>0,ROUND(AVERAGE('Score Sheet'!$J21:T21),1),ROUND(AVERAGE('Score Sheet'!$I21:T21),1)))","v":"R"},{"$f":"IF('Score Sheet'!U21=\"\",\"R\",IF('Race results'!$C$32>0,ROUND(AVERAGE('Score Sheet'!$J21:U21),1),ROUND(AVERAGE('Score Sheet'!$I21:U21),1)))","v":"R"},{"$f":"IF('Score Sheet'!V21=\"\",\"R\",IF('Race results'!$C$32>0,ROUND(AVERAGE('Score Sheet'!$J21:V21),1),ROUND(AVERAGE('Score Sheet'!$I21:V21),1)))","v":"R"},{"$f":"IF('Score Sheet'!W21=\"\",\"R\",IF('Race results'!$C$32>0,ROUND(AVERAGE('Score Sheet'!$J21:W21),1),ROUND(AVERAGE('Score Sheet'!$I21:W21),1)))","v":"R"},{"$f":"IF('Score Sheet'!X21=\"\",\"R\",IF('Race results'!$C$32>0,ROUND(AVERAGE('Score Sheet'!$J21:X21),1),ROUND(AVERAGE('Score Sheet'!$I21:X21),1)))","v":"R"},{"$f":"IF('Score Sheet'!Y21=\"\",\"R\",IF('Race results'!$C$32>0,ROUND(AVERAGE('Score Sheet'!$J21:Y21),1),ROUND(AVERAGE('Score Sheet'!$I21:Y21),1)))","v":"R"},{"$f":"IF('Score Sheet'!Z21=\"\",\"R\",IF('Race results'!$C$32>0,ROUND(AVERAGE('Score Sheet'!$J21:Z21),1),ROUND(AVERAGE('Score Sheet'!$I21:Z21),1)))","v":"R"},{"$f":"IF('Score Sheet'!AA21=\"\",\"R\",IF('Race results'!$C$32>0,ROUND(AVERAGE('Score Sheet'!$J21:AA21),1),ROUND(AVERAGE('Score Sheet'!$I21:AA21),1)))","v":"R"},{"$f":"IF('Score Sheet'!AB21=\"\",\"R\",IF('Race results'!$C$32>0,ROUND(AVERAGE('Score Sheet'!$J21:AB21),1),ROUND(AVERAGE('Score Sheet'!$I21:AB21),1)))","v":"R"},{"$f":"IF('Score Sheet'!AC21=\"\",\"R\",IF('Race results'!$C$32>0,ROUND(AVERAGE('Score Sheet'!$J21:AC21),1),ROUND(AVERAGE('Score Sheet'!$I21:AC21),1)))","v":"R"},{"$f":"IF('Score Sheet'!AD21=\"\",\"R\",IF('Race results'!$C$32>0,ROUND(AVERAGE('Score Sheet'!$J21:AD21),1),ROUND(AVERAGE('Score Sheet'!$I21:AD21),1)))","v":"R"},{"$f":"IF('Score Sheet'!AE21=\"\",\"R\",IF('Race results'!$C$32>0,ROUND(AVERAGE('Score Sheet'!$J21:AE21),1),ROUND(AVERAGE('Score Sheet'!$I21:AE21),1)))","v":"R"},{"$f":"IF('Score Sheet'!AF21=\"\",\"R\",IF('Race results'!$C$32>0,ROUND(AVERAGE('Score Sheet'!$J21:AF21),1),ROUND(AVERAGE('Score Sheet'!$I21:AF21),1)))","v":"R"},{"$f":"IF('Score Sheet'!AG21=\"\",\"R\",IF('Race results'!$C$32>0,ROUND(AVERAGE('Score Sheet'!$J21:AG21),1),ROUND(AVERAGE('Score Sheet'!$I21:AG21),1)))","v":"R"},{"$f":"IF('Score Sheet'!AH21=\"\",\"R\",IF('Race results'!$C$32>0,ROUND(AVERAGE('Score Sheet'!$J21:AH21),1),ROUND(AVERAGE('Score Sheet'!$I21:AH21),1)))","v":"R"},{"$f":"IF('Score Sheet'!AI21=\"\",\"R\",IF('Race results'!$C$32>0,ROUND(AVERAGE('Score Sheet'!$J21:AI21),1),ROUND(AVERAGE('Score Sheet'!$I21:AI21),1)))","v":"R"},{"$f":"IF('Score Sheet'!AJ21=\"\",\"R\",IF('Race results'!$C$32>0,ROUND(AVERAGE('Score Sheet'!$J21:AJ21),1),ROUND(AVERAGE('Score Sheet'!$I21:AJ21),1)))","v":"R"},{"$f":"IF('Score Sheet'!AK21=\"\",\"R\",IF('Race results'!$C$32>0,ROUND(AVERAGE('Score Sheet'!$J21:AK21),1),ROUND(AVERAGE('Score Sheet'!$I21:AK21),1)))","v":"R"},{"$f":"IF('Score Sheet'!AL21=\"\",\"R\",IF('Race results'!$C$32>0,ROUND(AVERAGE('Score Sheet'!$J21:AL21),1),ROUND(AVERAGE('Score Sheet'!$I21:AL21),1)))","v":"R"},{"$f":"IF('Score Sheet'!AM21=\"\",\"R\",IF('Race results'!$C$32>0,ROUND(AVERAGE('Score Sheet'!$J21:AM21),1),ROUND(AVERAGE('Score Sheet'!$I21:AM21),1)))","v":"R"},{"$f":"IF('Score Sheet'!AN21=\"\",\"R\",IF('Race results'!$C$32>0,ROUND(AVERAGE('Score Sheet'!$J21:AN21),1),ROUND(AVERAGE('Score Sheet'!$I21:AN21),1)))","v":"R"},{"$f":"IF('Score Sheet'!AO21=\"\",\"R\",IF('Race results'!$C$32>0,ROUND(AVERAGE('Score Sheet'!$J21:AO21),1),ROUND(AVERAGE('Score Sheet'!$I21:AO21),1)))","v":"R"},{"$f":"IF('Score Sheet'!AP21=\"\",\"R\",IF('Race results'!$C$32>0,ROUND(AVERAGE('Score Sheet'!$J21:AP21),1),ROUND(AVERAGE('Score Sheet'!$I21:AP21),1)))","v":"R"},{"$f":"IF('Score Sheet'!AQ21=\"\",\"R\",IF('Race results'!$C$32>0,ROUND(AVERAGE('Score Sheet'!$J21:AQ21),1),ROUND(AVERAGE('Score Sheet'!$I21:AQ21),1)))","v":"R"},{"$f":"IF('Score Sheet'!AR21=\"\",\"R\",IF('Race results'!$C$32>0,ROUND(AVERAGE('Score Sheet'!$J21:AR21),1),ROUND(AVERAGE('Score Sheet'!$I21:AR21),1)))","v":"R"},{"$f":"IF('Score Sheet'!AS21=\"\",\"R\",IF('Race results'!$C$32>0,ROUND(AVERAGE('Score Sheet'!$J21:AS21),1),ROUND(AVERAGE('Score Sheet'!$I21:AS21),1)))","v":"R"},{"$f":"IF('Score Sheet'!AT21=\"\",\"R\",IF('Race results'!$C$32>0,ROUND(AVERAGE('Score Sheet'!$J21:AT21),1),ROUND(AVERAGE('Score Sheet'!$I21:AT21),1)))","v":"R"},{"$f":"IF('Score Sheet'!AU21=\"\",\"R\",IF('Race results'!$C$32>0,ROUND(AVERAGE('Score Sheet'!$J21:AU21),1),ROUND(AVERAGE('Score Sheet'!$I21:AU21),1)))","v":"R"},{"$f":"IF('Score Sheet'!AV21=\"\",\"R\",IF('Race results'!$C$32>0,ROUND(AVERAGE('Score Sheet'!$J21:AV21),1),ROUND(AVERAGE('Score Sheet'!$I21:AV21),1)))","v":"R"},null,"",{"$f":"IF(C21=\"\",\"\",IF('Race results'!$C$7<1, \"E\", IF('Race results'!$C$32>0,IF(COUNT(AY21:CL21)<1,\"R\",ROUND(AVERAGE(AY21:CL21),1)),IF(COUNT(AX21:CL21)<1,\"R\",ROUND(AVERAGE(AX21:CL21),1)))))","v":""},null,null,"","","","","","","","","","","","","","","","","","","","","","","","","","","","","","","","","","","","","","","","",""]
[null,13,{"$f":"IF('Score Sheet'!C22=\"\",\"\",'Score Sheet'!C22)","v":""},{"$f":"'Race results'!$F$159","v":"DAFT!"},{"$f":"'Race results'!$F$159","v":"DAFT!"},{"$f":"IF('Score Sheet'!J22=\"\",\"R\",IF('Race results'!$C$32>0,'Race results'!$F$159,ROUND(AVERAGE('Score Sheet'!$I22:J22),1)))","v":"R"},{"$f":"IF('Score Sheet'!K22=\"\",\"R\",IF('Race results'!$C$32>0,ROUND(AVERAGE('Score Sheet'!$J22:K22),1),ROUND(AVERAGE('Score Sheet'!$I22:K22),1)))","v":"R"},{"$f":"IF('Score Sheet'!L22=\"\",\"R\",IF('Race results'!$C$32>0,ROUND(AVERAGE('Score Sheet'!$J22:L22),1),ROUND(AVERAGE('Score Sheet'!$I22:L22),1)))","v":"R"},{"$f":"IF('Score Sheet'!M22=\"\",\"R\",IF('Race results'!$C$32>0,ROUND(AVERAGE('Score Sheet'!$J22:M22),1),ROUND(AVERAGE('Score Sheet'!$I22:M22),1)))","v":"R"},{"$f":"IF('Score Sheet'!N22=\"\",\"R\",IF('Race results'!$C$32>0,ROUND(AVERAGE('Score Sheet'!$J22:N22),1),ROUND(AVERAGE('Score Sheet'!$I22:N22),1)))","v":"R"},{"$f":"IF('Score Sheet'!O22=\"\",\"R\",IF('Race results'!$C$32>0,ROUND(AVERAGE('Score Sheet'!$J22:O22),1),ROUND(AVERAGE('Score Sheet'!$I22:O22),1)))","v":"R"},{"$f":"IF('Score Sheet'!P22=\"\",\"R\",IF('Race results'!$C$32>0,ROUND(AVERAGE('Score Sheet'!$J22:P22),1),ROUND(AVERAGE('Score Sheet'!$I22:P22),1)))","v":"R"},{"$f":"IF('Score Sheet'!Q22=\"\",\"R\",IF('Race results'!$C$32>0,ROUND(AVERAGE('Score Sheet'!$J22:Q22),1),ROUND(AVERAGE('Score Sheet'!$I22:Q22),1)))","v":"R"},{"$f":"IF('Score Sheet'!R22=\"\",\"R\",IF('Race results'!$C$32>0,ROUND(AVERAGE('Score Sheet'!$J22:R22),1),ROUND(AVERAGE('Score Sheet'!$I22:R22),1)))","v":"R"},{"$f":"IF('Score Sheet'!S22=\"\",\"R\",IF('Race results'!$C$32>0,ROUND(AVERAGE('Score Sheet'!$J22:S22),1),ROUND(AVERAGE('Score Sheet'!$I22:S22),1)))","v":"R"},{"$f":"IF('Score Sheet'!T22=\"\",\"R\",IF('Race results'!$C$32>0,ROUND(AVERAGE('Score Sheet'!$J22:T22),1),ROUND(AVERAGE('Score Sheet'!$I22:T22),1)))","v":"R"},{"$f":"IF('Score Sheet'!U22=\"\",\"R\",IF('Race results'!$C$32>0,ROUND(AVERAGE('Score Sheet'!$J22:U22),1),ROUND(AVERAGE('Score Sheet'!$I22:U22),1)))","v":"R"},{"$f":"IF('Score Sheet'!V22=\"\",\"R\",IF('Race results'!$C$32>0,ROUND(AVERAGE('Score Sheet'!$J22:V22),1),ROUND(AVERAGE('Score Sheet'!$I22:V22),1)))","v":"R"},{"$f":"IF('Score Sheet'!W22=\"\",\"R\",IF('Race results'!$C$32>0,ROUND(AVERAGE('Score Sheet'!$J22:W22),1),ROUND(AVERAGE('Score Sheet'!$I22:W22),1)))","v":"R"},{"$f":"IF('Score Sheet'!X22=\"\",\"R\",IF('Race results'!$C$32>0,ROUND(AVERAGE('Score Sheet'!$J22:X22),1),ROUND(AVERAGE('Score Sheet'!$I22:X22),1)))","v":"R"},{"$f":"IF('Score Sheet'!Y22=\"\",\"R\",IF('Race results'!$C$32>0,ROUND(AVERAGE('Score Sheet'!$J22:Y22),1),ROUND(AVERAGE('Score Sheet'!$I22:Y22),1)))","v":"R"},{"$f":"IF('Score Sheet'!Z22=\"\",\"R\",IF('Race results'!$C$32>0,ROUND(AVERAGE('Score Sheet'!$J22:Z22),1),ROUND(AVERAGE('Score Sheet'!$I22:Z22),1)))","v":"R"},{"$f":"IF('Score Sheet'!AA22=\"\",\"R\",IF('Race results'!$C$32>0,ROUND(AVERAGE('Score Sheet'!$J22:AA22),1),ROUND(AVERAGE('Score Sheet'!$I22:AA22),1)))","v":"R"},{"$f":"IF('Score Sheet'!AB22=\"\",\"R\",IF('Race results'!$C$32>0,ROUND(AVERAGE('Score Sheet'!$J22:AB22),1),ROUND(AVERAGE('Score Sheet'!$I22:AB22),1)))","v":"R"},{"$f":"IF('Score Sheet'!AC22=\"\",\"R\",IF('Race results'!$C$32>0,ROUND(AVERAGE('Score Sheet'!$J22:AC22),1),ROUND(AVERAGE('Score Sheet'!$I22:AC22),1)))","v":"R"},{"$f":"IF('Score Sheet'!AD22=\"\",\"R\",IF('Race results'!$C$32>0,ROUND(AVERAGE('Score Sheet'!$J22:AD22),1),ROUND(AVERAGE('Score Sheet'!$I22:AD22),1)))","v":"R"},{"$f":"IF('Score Sheet'!AE22=\"\",\"R\",IF('Race results'!$C$32>0,ROUND(AVERAGE('Score Sheet'!$J22:AE22),1),ROUND(AVERAGE('Score Sheet'!$I22:AE22),1)))","v":"R"},{"$f":"IF('Score Sheet'!AF22=\"\",\"R\",IF('Race results'!$C$32>0,ROUND(AVERAGE('Score Sheet'!$J22:AF22),1),ROUND(AVERAGE('Score Sheet'!$I22:AF22),1)))","v":"R"},{"$f":"IF('Score Sheet'!AG22=\"\",\"R\",IF('Race results'!$C$32>0,ROUND(AVERAGE('Score Sheet'!$J22:AG22),1),ROUND(AVERAGE('Score Sheet'!$I22:AG22),1)))","v":"R"},{"$f":"IF('Score Sheet'!AH22=\"\",\"R\",IF('Race results'!$C$32>0,ROUND(AVERAGE('Score Sheet'!$J22:AH22),1),ROUND(AVERAGE('Score Sheet'!$I22:AH22),1)))","v":"R"},{"$f":"IF('Score Sheet'!AI22=\"\",\"R\",IF('Race results'!$C$32>0,ROUND(AVERAGE('Score Sheet'!$J22:AI22),1),ROUND(AVERAGE('Score Sheet'!$I22:AI22),1)))","v":"R"},{"$f":"IF('Score Sheet'!AJ22=\"\",\"R\",IF('Race results'!$C$32>0,ROUND(AVERAGE('Score Sheet'!$J22:AJ22),1),ROUND(AVERAGE('Score Sheet'!$I22:AJ22),1)))","v":"R"},{"$f":"IF('Score Sheet'!AK22=\"\",\"R\",IF('Race results'!$C$32>0,ROUND(AVERAGE('Score Sheet'!$J22:AK22),1),ROUND(AVERAGE('Score Sheet'!$I22:AK22),1)))","v":"R"},{"$f":"IF('Score Sheet'!AL22=\"\",\"R\",IF('Race results'!$C$32>0,ROUND(AVERAGE('Score Sheet'!$J22:AL22),1),ROUND(AVERAGE('Score Sheet'!$I22:AL22),1)))","v":"R"},{"$f":"IF('Score Sheet'!AM22=\"\",\"R\",IF('Race results'!$C$32>0,ROUND(AVERAGE('Score Sheet'!$J22:AM22),1),ROUND(AVERAGE('Score Sheet'!$I22:AM22),1)))","v":"R"},{"$f":"IF('Score Sheet'!AN22=\"\",\"R\",IF('Race results'!$C$32>0,ROUND(AVERAGE('Score Sheet'!$J22:AN22),1),ROUND(AVERAGE('Score Sheet'!$I22:AN22),1)))","v":"R"},{"$f":"IF('Score Sheet'!AO22=\"\",\"R\",IF('Race results'!$C$32>0,ROUND(AVERAGE('Score Sheet'!$J22:AO22),1),ROUND(AVERAGE('Score Sheet'!$I22:AO22),1)))","v":"R"},{"$f":"IF('Score Sheet'!AP22=\"\",\"R\",IF('Race results'!$C$32>0,ROUND(AVERAGE('Score Sheet'!$J22:AP22),1),ROUND(AVERAGE('Score Sheet'!$I22:AP22),1)))","v":"R"},{"$f":"IF('Score Sheet'!AQ22=\"\",\"R\",IF('Race results'!$C$32>0,ROUND(AVERAGE('Score Sheet'!$J22:AQ22),1),ROUND(AVERAGE('Score Sheet'!$I22:AQ22),1)))","v":"R"},{"$f":"IF('Score Sheet'!AR22=\"\",\"R\",IF('Race results'!$C$32>0,ROUND(AVERAGE('Score Sheet'!$J22:AR22),1),ROUND(AVERAGE('Score Sheet'!$I22:AR22),1)))","v":"R"},{"$f":"IF('Score Sheet'!AS22=\"\",\"R\",IF('Race results'!$C$32>0,ROUND(AVERAGE('Score Sheet'!$J22:AS22),1),ROUND(AVERAGE('Score Sheet'!$I22:AS22),1)))","v":"R"},{"$f":"IF('Score Sheet'!AT22=\"\",\"R\",IF('Race results'!$C$32>0,ROUND(AVERAGE('Score Sheet'!$J22:AT22),1),ROUND(AVERAGE('Score Sheet'!$I22:AT22),1)))","v":"R"},{"$f":"IF('Score Sheet'!AU22=\"\",\"R\",IF('Race results'!$C$32>0,ROUND(AVERAGE('Score Sheet'!$J22:AU22),1),ROUND(AVERAGE('Score Sheet'!$I22:AU22),1)))","v":"R"},{"$f":"IF('Score Sheet'!AV22=\"\",\"R\",IF('Race results'!$C$32>0,ROUND(AVERAGE('Score Sheet'!$J22:AV22),1),ROUND(AVERAGE('Score Sheet'!$I22:AV22),1)))","v":"R"},null,"",{"$f":"IF(C22=\"\",\"\",IF('Race results'!$C$7<1, \"E\", IF('Race results'!$C$32>0,IF(COUNT(AY22:CL22)<1,\"R\",ROUND(AVERAGE(AY22:CL22),1)),IF(COUNT(AX22:CL22)<1,\"R\",ROUND(AVERAGE(AX22:CL22),1)))))","v":""},null,null,"","","","","","","","","","","","","","","","","","","","","","","","","","","","","","","","","","","","","","","","",""]
[null,14,{"$f":"IF('Score Sheet'!C23=\"\",\"\",'Score Sheet'!C23)","v":""},{"$f":"'Race results'!$F$159","v":"DAFT!"},{"$f":"'Race results'!$F$159","v":"DAFT!"},{"$f":"IF('Score Sheet'!J23=\"\",\"R\",IF('Race results'!$C$32>0,'Race results'!$F$159,ROUND(AVERAGE('Score Sheet'!$I23:J23),1)))","v":"R"},{"$f":"IF('Score Sheet'!K23=\"\",\"R\",IF('Race results'!$C$32>0,ROUND(AVERAGE('Score Sheet'!$J23:K23),1),ROUND(AVERAGE('Score Sheet'!$I23:K23),1)))","v":"R"},{"$f":"IF('Score Sheet'!L23=\"\",\"R\",IF('Race results'!$C$32>0,ROUND(AVERAGE('Score Sheet'!$J23:L23),1),ROUND(AVERAGE('Score Sheet'!$I23:L23),1)))","v":"R"},{"$f":"IF('Score Sheet'!M23=\"\",\"R\",IF('Race results'!$C$32>0,ROUND(AVERAGE('Score Sheet'!$J23:M23),1),ROUND(AVERAGE('Score Sheet'!$I23:M23),1)))","v":"R"},{"$f":"IF('Score Sheet'!N23=\"\",\"R\",IF('Race results'!$C$32>0,ROUND(AVERAGE('Score Sheet'!$J23:N23),1),ROUND(AVERAGE('Score Sheet'!$I23:N23),1)))","v":"R"},{"$f":"IF('Score Sheet'!O23=\"\",\"R\",IF('Race results'!$C$32>0,ROUND(AVERAGE('Score Sheet'!$J23:O23),1),ROUND(AVERAGE('Score Sheet'!$I23:O23),1)))","v":"R"},{"$f":"IF('Score Sheet'!P23=\"\",\"R\",IF('Race results'!$C$32>0,ROUND(AVERAGE('Score Sheet'!$J23:P23),1),ROUND(AVERAGE('Score Sheet'!$I23:P23),1)))","v":"R"},{"$f":"IF('Score Sheet'!Q23=\"\",\"R\",IF('Race results'!$C$32>0,ROUND(AVERAGE('Score Sheet'!$J23:Q23),1),ROUND(AVERAGE('Score Sheet'!$I23:Q23),1)))","v":"R"},{"$f":"IF('Score Sheet'!R23=\"\",\"R\",IF('Race results'!$C$32>0,ROUND(AVERAGE('Score Sheet'!$J23:R23),1),ROUND(AVERAGE('Score Sheet'!$I23:R23),1)))","v":"R"},{"$f":"IF('Score Sheet'!S23=\"\",\"R\",IF('Race results'!$C$32>0,ROUND(AVERAGE('Score Sheet'!$J23:S23),1),ROUND(AVERAGE('Score Sheet'!$I23:S23),1)))","v":"R"},{"$f":"IF('Score Sheet'!T23=\"\",\"R\",IF('Race results'!$C$32>0,ROUND(AVERAGE('Score Sheet'!$J23:T23),1),ROUND(AVERAGE('Score Sheet'!$I23:T23),1)))","v":"R"},{"$f":"IF('Score Sheet'!U23=\"\",\"R\",IF('Race results'!$C$32>0,ROUND(AVERAGE('Score Sheet'!$J23:U23),1),ROUND(AVERAGE('Score Sheet'!$I23:U23),1)))","v":"R"},{"$f":"IF('Score Sheet'!V23=\"\",\"R\",IF('Race results'!$C$32>0,ROUND(AVERAGE('Score Sheet'!$J23:V23),1),ROUND(AVERAGE('Score Sheet'!$I23:V23),1)))","v":"R"},{"$f":"IF('Score Sheet'!W23=\"\",\"R\",IF('Race results'!$C$32>0,ROUND(AVERAGE('Score Sheet'!$J23:W23),1),ROUND(AVERAGE('Score Sheet'!$I23:W23),1)))","v":"R"},{"$f":"IF('Score Sheet'!X23=\"\",\"R\",IF('Race results'!$C$32>0,ROUND(AVERAGE('Score Sheet'!$J23:X23),1),ROUND(AVERAGE('Score Sheet'!$I23:X23),1)))","v":"R"},{"$f":"IF('Score Sheet'!Y23=\"\",\"R\",IF('Race results'!$C$32>0,ROUND(AVERAGE('Score Sheet'!$J23:Y23),1),ROUND(AVERAGE('Score Sheet'!$I23:Y23),1)))","v":"R"},{"$f":"IF('Score Sheet'!Z23=\"\",\"R\",IF('Race results'!$C$32>0,ROUND(AVERAGE('Score Sheet'!$J23:Z23),1),ROUND(AVERAGE('Score Sheet'!$I23:Z23),1)))","v":"R"},{"$f":"IF('Score Sheet'!AA23=\"\",\"R\",IF('Race results'!$C$32>0,ROUND(AVERAGE('Score Sheet'!$J23:AA23),1),ROUND(AVERAGE('Score Sheet'!$I23:AA23),1)))","v":"R"},{"$f":"IF('Score Sheet'!AB23=\"\",\"R\",IF('Race results'!$C$32>0,ROUND(AVERAGE('Score Sheet'!$J23:AB23),1),ROUND(AVERAGE('Score Sheet'!$I23:AB23),1)))","v":"R"},{"$f":"IF('Score Sheet'!AC23=\"\",\"R\",IF('Race results'!$C$32>0,ROUND(AVERAGE('Score Sheet'!$J23:AC23),1),ROUND(AVERAGE('Score Sheet'!$I23:AC23),1)))","v":"R"},{"$f":"IF('Score Sheet'!AD23=\"\",\"R\",IF('Race results'!$C$32>0,ROUND(AVERAGE('Score Sheet'!$J23:AD23),1),ROUND(AVERAGE('Score Sheet'!$I23:AD23),1)))","v":"R"},{"$f":"IF('Score Sheet'!AE23=\"\",\"R\",IF('Race results'!$C$32>0,ROUND(AVERAGE('Score Sheet'!$J23:AE23),1),ROUND(AVERAGE('Score Sheet'!$I23:AE23),1)))","v":"R"},{"$f":"IF('Score Sheet'!AF23=\"\",\"R\",IF('Race results'!$C$32>0,ROUND(AVERAGE('Score Sheet'!$J23:AF23),1),ROUND(AVERAGE('Score Sheet'!$I23:AF23),1)))","v":"R"},{"$f":"IF('Score Sheet'!AG23=\"\",\"R\",IF('Race results'!$C$32>0,ROUND(AVERAGE('Score Sheet'!$J23:AG23),1),ROUND(AVERAGE('Score Sheet'!$I23:AG23),1)))","v":"R"},{"$f":"IF('Score Sheet'!AH23=\"\",\"R\",IF('Race results'!$C$32>0,ROUND(AVERAGE('Score Sheet'!$J23:AH23),1),ROUND(AVERAGE('Score Sheet'!$I23:AH23),1)))","v":"R"},{"$f":"IF('Score Sheet'!AI23=\"\",\"R\",IF('Race results'!$C$32>0,ROUND(AVERAGE('Score Sheet'!$J23:AI23),1),ROUND(AVERAGE('Score Sheet'!$I23:AI23),1)))","v":"R"},{"$f":"IF('Score Sheet'!AJ23=\"\",\"R\",IF('Race results'!$C$32>0,ROUND(AVERAGE('Score Sheet'!$J23:AJ23),1),ROUND(AVERAGE('Score Sheet'!$I23:AJ23),1)))","v":"R"},{"$f":"IF('Score Sheet'!AK23=\"\",\"R\",IF('Race results'!$C$32>0,ROUND(AVERAGE('Score Sheet'!$J23:AK23),1),ROUND(AVERAGE('Score Sheet'!$I23:AK23),1)))","v":"R"},{"$f":"IF('Score Sheet'!AL23=\"\",\"R\",IF('Race results'!$C$32>0,ROUND(AVERAGE('Score Sheet'!$J23:AL23),1),ROUND(AVERAGE('Score Sheet'!$I23:AL23),1)))","v":"R"},{"$f":"IF('Score Sheet'!AM23=\"\",\"R\",IF('Race results'!$C$32>0,ROUND(AVERAGE('Score Sheet'!$J23:AM23),1),ROUND(AVERAGE('Score Sheet'!$I23:AM23),1)))","v":"R"},{"$f":"IF('Score Sheet'!AN23=\"\",\"R\",IF('Race results'!$C$32>0,ROUND(AVERAGE('Score Sheet'!$J23:AN23),1),ROUND(AVERAGE('Score Sheet'!$I23:AN23),1)))","v":"R"},{"$f":"IF('Score Sheet'!AO23=\"\",\"R\",IF('Race results'!$C$32>0,ROUND(AVERAGE('Score Sheet'!$J23:AO23),1),ROUND(AVERAGE('Score Sheet'!$I23:AO23),1)))","v":"R"},{"$f":"IF('Score Sheet'!AP23=\"\",\"R\",IF('Race results'!$C$32>0,ROUND(AVERAGE('Score Sheet'!$J23:AP23),1),ROUND(AVERAGE('Score Sheet'!$I23:AP23),1)))","v":"R"},{"$f":"IF('Score Sheet'!AQ23=\"\",\"R\",IF('Race results'!$C$32>0,ROUND(AVERAGE('Score Sheet'!$J23:AQ23),1),ROUND(AVERAGE('Score Sheet'!$I23:AQ23),1)))","v":"R"},{"$f":"IF('Score Sheet'!AR23=\"\",\"R\",IF('Race results'!$C$32>0,ROUND(AVERAGE('Score Sheet'!$J23:AR23),1),ROUND(AVERAGE('Score Sheet'!$I23:AR23),1)))","v":"R"},{"$f":"IF('Score Sheet'!AS23=\"\",\"R\",IF('Race results'!$C$32>0,ROUND(AVERAGE('Score Sheet'!$J23:AS23),1),ROUND(AVERAGE('Score Sheet'!$I23:AS23),1)))","v":"R"},{"$f":"IF('Score Sheet'!AT23=\"\",\"R\",IF('Race results'!$C$32>0,ROUND(AVERAGE('Score Sheet'!$J23:AT23),1),ROUND(AVERAGE('Score Sheet'!$I23:AT23),1)))","v":"R"},{"$f":"IF('Score Sheet'!AU23=\"\",\"R\",IF('Race results'!$C$32>0,ROUND(AVERAGE('Score Sheet'!$J23:AU23),1),ROUND(AVERAGE('Score Sheet'!$I23:AU23),1)))","v":"R"},{"$f":"IF('Score Sheet'!AV23=\"\",\"R\",IF('Race results'!$C$32>0,ROUND(AVERAGE('Score Sheet'!$J23:AV23),1),ROUND(AVERAGE('Score Sheet'!$I23:AV23),1)))","v":"R"},null,"",{"$f":"IF(C23=\"\",\"\",IF('Race results'!$C$7<1, \"E\", IF('Race results'!$C$32>0,IF(COUNT(AY23:CL23)<1,\"R\",ROUND(AVERAGE(AY23:CL23),1)),IF(COUNT(AX23:CL23)<1,\"R\",ROUND(AVERAGE(AX23:CL23),1)))))","v":""},null,null,"","","","","","","","","","","","","","","","","","","","","","","","","","","","","","","","","","","","","","","","",""]
[null,15,{"$f":"IF('Score Sheet'!C24=\"\",\"\",'Score Sheet'!C24)","v":""},{"$f":"'Race results'!$F$159","v":"DAFT!"},{"$f":"'Race results'!$F$159","v":"DAFT!"},{"$f":"IF('Score Sheet'!J24=\"\",\"R\",IF('Race results'!$C$32>0,'Race results'!$F$159,ROUND(AVERAGE('Score Sheet'!$I24:J24),1)))","v":"R"},{"$f":"IF('Score Sheet'!K24=\"\",\"R\",IF('Race results'!$C$32>0,ROUND(AVERAGE('Score Sheet'!$J24:K24),1),ROUND(AVERAGE('Score Sheet'!$I24:K24),1)))","v":"R"},{"$f":"IF('Score Sheet'!L24=\"\",\"R\",IF('Race results'!$C$32>0,ROUND(AVERAGE('Score Sheet'!$J24:L24),1),ROUND(AVERAGE('Score Sheet'!$I24:L24),1)))","v":"R"},{"$f":"IF('Score Sheet'!M24=\"\",\"R\",IF('Race results'!$C$32>0,ROUND(AVERAGE('Score Sheet'!$J24:M24),1),ROUND(AVERAGE('Score Sheet'!$I24:M24),1)))","v":"R"},{"$f":"IF('Score Sheet'!N24=\"\",\"R\",IF('Race results'!$C$32>0,ROUND(AVERAGE('Score Sheet'!$J24:N24),1),ROUND(AVERAGE('Score Sheet'!$I24:N24),1)))","v":"R"},{"$f":"IF('Score Sheet'!O24=\"\",\"R\",IF('Race results'!$C$32>0,ROUND(AVERAGE('Score Sheet'!$J24:O24),1),ROUND(AVERAGE('Score Sheet'!$I24:O24),1)))","v":"R"},{"$f":"IF('Score Sheet'!P24=\"\",\"R\",IF('Race results'!$C$32>0,ROUND(AVERAGE('Score Sheet'!$J24:P24),1),ROUND(AVERAGE('Score Sheet'!$I24:P24),1)))","v":"R"},{"$f":"IF('Score Sheet'!Q24=\"\",\"R\",IF('Race results'!$C$32>0,ROUND(AVERAGE('Score Sheet'!$J24:Q24),1),ROUND(AVERAGE('Score Sheet'!$I24:Q24),1)))","v":"R"},{"$f":"IF('Score Sheet'!R24=\"\",\"R\",IF('Race results'!$C$32>0,ROUND(AVERAGE('Score Sheet'!$J24:R24),1),ROUND(AVERAGE('Score Sheet'!$I24:R24),1)))","v":"R"},{"$f":"IF('Score Sheet'!S24=\"\",\"R\",IF('Race results'!$C$32>0,ROUND(AVERAGE('Score Sheet'!$J24:S24),1),ROUND(AVERAGE('Score Sheet'!$I24:S24),1)))","v":"R"},{"$f":"IF('Score Sheet'!T24=\"\",\"R\",IF('Race results'!$C$32>0,ROUND(AVERAGE('Score Sheet'!$J24:T24),1),ROUND(AVERAGE('Score Sheet'!$I24:T24),1)))","v":"R"},{"$f":"IF('Score Sheet'!U24=\"\",\"R\",IF('Race results'!$C$32>0,ROUND(AVERAGE('Score Sheet'!$J24:U24),1),ROUND(AVERAGE('Score Sheet'!$I24:U24),1)))","v":"R"},{"$f":"IF('Score Sheet'!V24=\"\",\"R\",IF('Race results'!$C$32>0,ROUND(AVERAGE('Score Sheet'!$J24:V24),1),ROUND(AVERAGE('Score Sheet'!$I24:V24),1)))","v":"R"},{"$f":"IF('Score Sheet'!W24=\"\",\"R\",IF('Race results'!$C$32>0,ROUND(AVERAGE('Score Sheet'!$J24:W24),1),ROUND(AVERAGE('Score Sheet'!$I24:W24),1)))","v":"R"},{"$f":"IF('Score Sheet'!X24=\"\",\"R\",IF('Race results'!$C$32>0,ROUND(AVERAGE('Score Sheet'!$J24:X24),1),ROUND(AVERAGE('Score Sheet'!$I24:X24),1)))","v":"R"},{"$f":"IF('Score Sheet'!Y24=\"\",\"R\",IF('Race results'!$C$32>0,ROUND(AVERAGE('Score Sheet'!$J24:Y24),1),ROUND(AVERAGE('Score Sheet'!$I24:Y24),1)))","v":"R"},{"$f":"IF('Score Sheet'!Z24=\"\",\"R\",IF('Race results'!$C$32>0,ROUND(AVERAGE('Score Sheet'!$J24:Z24),1),ROUND(AVERAGE('Score Sheet'!$I24:Z24),1)))","v":"R"},{"$f":"IF('Score Sheet'!AA24=\"\",\"R\",IF('Race results'!$C$32>0,ROUND(AVERAGE('Score Sheet'!$J24:AA24),1),ROUND(AVERAGE('Score Sheet'!$I24:AA24),1)))","v":"R"},{"$f":"IF('Score Sheet'!AB24=\"\",\"R\",IF('Race results'!$C$32>0,ROUND(AVERAGE('Score Sheet'!$J24:AB24),1),ROUND(AVERAGE('Score Sheet'!$I24:AB24),1)))","v":"R"},{"$f":"IF('Score Sheet'!AC24=\"\",\"R\",IF('Race results'!$C$32>0,ROUND(AVERAGE('Score Sheet'!$J24:AC24),1),ROUND(AVERAGE('Score Sheet'!$I24:AC24),1)))","v":"R"},{"$f":"IF('Score Sheet'!AD24=\"\",\"R\",IF('Race results'!$C$32>0,ROUND(AVERAGE('Score Sheet'!$J24:AD24),1),ROUND(AVERAGE('Score Sheet'!$I24:AD24),1)))","v":"R"},{"$f":"IF('Score Sheet'!AE24=\"\",\"R\",IF('Race results'!$C$32>0,ROUND(AVERAGE('Score Sheet'!$J24:AE24),1),ROUND(AVERAGE('Score Sheet'!$I24:AE24),1)))","v":"R"},{"$f":"IF('Score Sheet'!AF24=\"\",\"R\",IF('Race results'!$C$32>0,ROUND(AVERAGE('Score Sheet'!$J24:AF24),1),ROUND(AVERAGE('Score Sheet'!$I24:AF24),1)))","v":"R"},{"$f":"IF('Score Sheet'!AG24=\"\",\"R\",IF('Race results'!$C$32>0,ROUND(AVERAGE('Score Sheet'!$J24:AG24),1),ROUND(AVERAGE('Score Sheet'!$I24:AG24),1)))","v":"R"},{"$f":"IF('Score Sheet'!AH24=\"\",\"R\",IF('Race results'!$C$32>0,ROUND(AVERAGE('Score Sheet'!$J24:AH24),1),ROUND(AVERAGE('Score Sheet'!$I24:AH24),1)))","v":"R"},{"$f":"IF('Score Sheet'!AI24=\"\",\"R\",IF('Race results'!$C$32>0,ROUND(AVERAGE('Score Sheet'!$J24:AI24),1),ROUND(AVERAGE('Score Sheet'!$I24:AI24),1)))","v":"R"},{"$f":"IF('Score Sheet'!AJ24=\"\",\"R\",IF('Race results'!$C$32>0,ROUND(AVERAGE('Score Sheet'!$J24:AJ24),1),ROUND(AVERAGE('Score Sheet'!$I24:AJ24),1)))","v":"R"},{"$f":"IF('Score Sheet'!AK24=\"\",\"R\",IF('Race results'!$C$32>0,ROUND(AVERAGE('Score Sheet'!$J24:AK24),1),ROUND(AVERAGE('Score Sheet'!$I24:AK24),1)))","v":"R"},{"$f":"IF('Score Sheet'!AL24=\"\",\"R\",IF('Race results'!$C$32>0,ROUND(AVERAGE('Score Sheet'!$J24:AL24),1),ROUND(AVERAGE('Score Sheet'!$I24:AL24),1)))","v":"R"},{"$f":"IF('Score Sheet'!AM24=\"\",\"R\",IF('Race results'!$C$32>0,ROUND(AVERAGE('Score Sheet'!$J24:AM24),1),ROUND(AVERAGE('Score Sheet'!$I24:AM24),1)))","v":"R"},{"$f":"IF('Score Sheet'!AN24=\"\",\"R\",IF('Race results'!$C$32>0,ROUND(AVERAGE('Score Sheet'!$J24:AN24),1),ROUND(AVERAGE('Score Sheet'!$I24:AN24),1)))","v":"R"},{"$f":"IF('Score Sheet'!AO24=\"\",\"R\",IF('Race results'!$C$32>0,ROUND(AVERAGE('Score Sheet'!$J24:AO24),1),ROUND(AVERAGE('Score Sheet'!$I24:AO24),1)))","v":"R"},{"$f":"IF('Score Sheet'!AP24=\"\",\"R\",IF('Race results'!$C$32>0,ROUND(AVERAGE('Score Sheet'!$J24:AP24),1),ROUND(AVERAGE('Score Sheet'!$I24:AP24),1)))","v":"R"},{"$f":"IF('Score Sheet'!AQ24=\"\",\"R\",IF('Race results'!$C$32>0,ROUND(AVERAGE('Score Sheet'!$J24:AQ24),1),ROUND(AVERAGE('Score Sheet'!$I24:AQ24),1)))","v":"R"},{"$f":"IF('Score Sheet'!AR24=\"\",\"R\",IF('Race results'!$C$32>0,ROUND(AVERAGE('Score Sheet'!$J24:AR24),1),ROUND(AVERAGE('Score Sheet'!$I24:AR24),1)))","v":"R"},{"$f":"IF('Score Sheet'!AS24=\"\",\"R\",IF('Race results'!$C$32>0,ROUND(AVERAGE('Score Sheet'!$J24:AS24),1),ROUND(AVERAGE('Score Sheet'!$I24:AS24),1)))","v":"R"},{"$f":"IF('Score Sheet'!AT24=\"\",\"R\",IF('Race results'!$C$32>0,ROUND(AVERAGE('Score Sheet'!$J24:AT24),1),ROUND(AVERAGE('Score Sheet'!$I24:AT24),1)))","v":"R"},{"$f":"IF('Score Sheet'!AU24=\"\",\"R\",IF('Race results'!$C$32>0,ROUND(AVERAGE('Score Sheet'!$J24:AU24),1),ROUND(AVERAGE('Score Sheet'!$I24:AU24),1)))","v":"R"},{"$f":"IF('Score Sheet'!AV24=\"\",\"R\",IF('Race results'!$C$32>0,ROUND(AVERAGE('Score Sheet'!$J24:AV24),1),ROUND(AVERAGE('Score Sheet'!$I24:AV24),1)))","v":"R"},null,"",{"$f":"IF(C24=\"\",\"\",IF('Race results'!$C$7<1, \"E\", IF('Race results'!$C$32>0,IF(COUNT(AY24:CL24)<1,\"R\",ROUND(AVERAGE(AY24:CL24),1)),IF(COUNT(AX24:CL24)<1,\"R\",ROUND(AVERAGE(AX24:CL24),1)))))","v":""},null,null,"","","","","","","","","","","","","","","","","","","","","","","","","","","","","","","","","","","","","","","","",""]
[null,16,{"$f":"IF('Score Sheet'!C25=\"\",\"\",'Score Sheet'!C25)","v":""},{"$f":"'Race results'!$F$159","v":"DAFT!"},{"$f":"'Race results'!$F$159","v":"DAFT!"},{"$f":"IF('Score Sheet'!J25=\"\",\"R\",IF('Race results'!$C$32>0,'Race results'!$F$159,ROUND(AVERAGE('Score Sheet'!$I25:J25),1)))","v":"R"},{"$f":"IF('Score Sheet'!K25=\"\",\"R\",IF('Race results'!$C$32>0,ROUND(AVERAGE('Score Sheet'!$J25:K25),1),ROUND(AVERAGE('Score Sheet'!$I25:K25),1)))","v":"R"},{"$f":"IF('Score Sheet'!L25=\"\",\"R\",IF('Race results'!$C$32>0,ROUND(AVERAGE('Score Sheet'!$J25:L25),1),ROUND(AVERAGE('Score Sheet'!$I25:L25),1)))","v":"R"},{"$f":"IF('Score Sheet'!M25=\"\",\"R\",IF('Race results'!$C$32>0,ROUND(AVERAGE('Score Sheet'!$J25:M25),1),ROUND(AVERAGE('Score Sheet'!$I25:M25),1)))","v":"R"},{"$f":"IF('Score Sheet'!N25=\"\",\"R\",IF('Race results'!$C$32>0,ROUND(AVERAGE('Score Sheet'!$J25:N25),1),ROUND(AVERAGE('Score Sheet'!$I25:N25),1)))","v":"R"},{"$f":"IF('Score Sheet'!O25=\"\",\"R\",IF('Race results'!$C$32>0,ROUND(AVERAGE('Score Sheet'!$J25:O25),1),ROUND(AVERAGE('Score Sheet'!$I25:O25),1)))","v":"R"},{"$f":"IF('Score Sheet'!P25=\"\",\"R\",IF('Race results'!$C$32>0,ROUND(AVERAGE('Score Sheet'!$J25:P25),1),ROUND(AVERAGE('Score Sheet'!$I25:P25),1)))","v":"R"},{"$f":"IF('Score Sheet'!Q25=\"\",\"R\",IF('Race results'!$C$32>0,ROUND(AVERAGE('Score Sheet'!$J25:Q25),1),ROUND(AVERAGE('Score Sheet'!$I25:Q25),1)))","v":"R"},{"$f":"IF('Score Sheet'!R25=\"\",\"R\",IF('Race results'!$C$32>0,ROUND(AVERAGE('Score Sheet'!$J25:R25),1),ROUND(AVERAGE('Score Sheet'!$I25:R25),1)))","v":"R"},{"$f":"IF('Score Sheet'!S25=\"\",\"R\",IF('Race results'!$C$32>0,ROUND(AVERAGE('Score Sheet'!$J25:S25),1),ROUND(AVERAGE('Score Sheet'!$I25:S25),1)))","v":"R"},{"$f":"IF('Score Sheet'!T25=\"\",\"R\",IF('Race results'!$C$32>0,ROUND(AVERAGE('Score Sheet'!$J25:T25),1),ROUND(AVERAGE('Score Sheet'!$I25:T25),1)))","v":"R"},{"$f":"IF('Score Sheet'!U25=\"\",\"R\",IF('Race results'!$C$32>0,ROUND(AVERAGE('Score Sheet'!$J25:U25),1),ROUND(AVERAGE('Score Sheet'!$I25:U25),1)))","v":"R"},{"$f":"IF('Score Sheet'!V25=\"\",\"R\",IF('Race results'!$C$32>0,ROUND(AVERAGE('Score Sheet'!$J25:V25),1),ROUND(AVERAGE('Score Sheet'!$I25:V25),1)))","v":"R"},{"$f":"IF('Score Sheet'!W25=\"\",\"R\",IF('Race results'!$C$32>0,ROUND(AVERAGE('Score Sheet'!$J25:W25),1),ROUND(AVERAGE('Score Sheet'!$I25:W25),1)))","v":"R"},{"$f":"IF('Score Sheet'!X25=\"\",\"R\",IF('Race results'!$C$32>0,ROUND(AVERAGE('Score Sheet'!$J25:X25),1),ROUND(AVERAGE('Score Sheet'!$I25:X25),1)))","v":"R"},{"$f":"IF('Score Sheet'!Y25=\"\",\"R\",IF('Race results'!$C$32>0,ROUND(AVERAGE('Score Sheet'!$J25:Y25),1),ROUND(AVERAGE('Score Sheet'!$I25:Y25),1)))","v":"R"},{"$f":"IF('Score Sheet'!Z25=\"\",\"R\",IF('Race results'!$C$32>0,ROUND(AVERAGE('Score Sheet'!$J25:Z25),1),ROUND(AVERAGE('Score Sheet'!$I25:Z25),1)))","v":"R"},{"$f":"IF('Score Sheet'!AA25=\"\",\"R\",IF('Race results'!$C$32>0,ROUND(AVERAGE('Score Sheet'!$J25:AA25),1),ROUND(AVERAGE('Score Sheet'!$I25:AA25),1)))","v":"R"},{"$f":"IF('Score Sheet'!AB25=\"\",\"R\",IF('Race results'!$C$32>0,ROUND(AVERAGE('Score Sheet'!$J25:AB25),1),ROUND(AVERAGE('Score Sheet'!$I25:AB25),1)))","v":"R"},{"$f":"IF('Score Sheet'!AC25=\"\",\"R\",IF('Race results'!$C$32>0,ROUND(AVERAGE('Score Sheet'!$J25:AC25),1),ROUND(AVERAGE('Score Sheet'!$I25:AC25),1)))","v":"R"},{"$f":"IF('Score Sheet'!AD25=\"\",\"R\",IF('Race results'!$C$32>0,ROUND(AVERAGE('Score Sheet'!$J25:AD25),1),ROUND(AVERAGE('Score Sheet'!$I25:AD25),1)))","v":"R"},{"$f":"IF('Score Sheet'!AE25=\"\",\"R\",IF('Race results'!$C$32>0,ROUND(AVERAGE('Score Sheet'!$J25:AE25),1),ROUND(AVERAGE('Score Sheet'!$I25:AE25),1)))","v":"R"},{"$f":"IF('Score Sheet'!AF25=\"\",\"R\",IF('Race results'!$C$32>0,ROUND(AVERAGE('Score Sheet'!$J25:AF25),1),ROUND(AVERAGE('Score Sheet'!$I25:AF25),1)))","v":"R"},{"$f":"IF('Score Sheet'!AG25=\"\",\"R\",IF('Race results'!$C$32>0,ROUND(AVERAGE('Score Sheet'!$J25:AG25),1),ROUND(AVERAGE('Score Sheet'!$I25:AG25),1)))","v":"R"},{"$f":"IF('Score Sheet'!AH25=\"\",\"R\",IF('Race results'!$C$32>0,ROUND(AVERAGE('Score Sheet'!$J25:AH25),1),ROUND(AVERAGE('Score Sheet'!$I25:AH25),1)))","v":"R"},{"$f":"IF('Score Sheet'!AI25=\"\",\"R\",IF('Race results'!$C$32>0,ROUND(AVERAGE('Score Sheet'!$J25:AI25),1),ROUND(AVERAGE('Score Sheet'!$I25:AI25),1)))","v":"R"},{"$f":"IF('Score Sheet'!AJ25=\"\",\"R\",IF('Race results'!$C$32>0,ROUND(AVERAGE('Score Sheet'!$J25:AJ25),1),ROUND(AVERAGE('Score Sheet'!$I25:AJ25),1)))","v":"R"},{"$f":"IF('Score Sheet'!AK25=\"\",\"R\",IF('Race results'!$C$32>0,ROUND(AVERAGE('Score Sheet'!$J25:AK25),1),ROUND(AVERAGE('Score Sheet'!$I25:AK25),1)))","v":"R"},{"$f":"IF('Score Sheet'!AL25=\"\",\"R\",IF('Race results'!$C$32>0,ROUND(AVERAGE('Score Sheet'!$J25:AL25),1),ROUND(AVERAGE('Score Sheet'!$I25:AL25),1)))","v":"R"},{"$f":"IF('Score Sheet'!AM25=\"\",\"R\",IF('Race results'!$C$32>0,ROUND(AVERAGE('Score Sheet'!$J25:AM25),1),ROUND(AVERAGE('Score Sheet'!$I25:AM25),1)))","v":"R"},{"$f":"IF('Score Sheet'!AN25=\"\",\"R\",IF('Race results'!$C$32>0,ROUND(AVERAGE('Score Sheet'!$J25:AN25),1),ROUND(AVERAGE('Score Sheet'!$I25:AN25),1)))","v":"R"},{"$f":"IF('Score Sheet'!AO25=\"\",\"R\",IF('Race results'!$C$32>0,ROUND(AVERAGE('Score Sheet'!$J25:AO25),1),ROUND(AVERAGE('Score Sheet'!$I25:AO25),1)))","v":"R"},{"$f":"IF('Score Sheet'!AP25=\"\",\"R\",IF('Race results'!$C$32>0,ROUND(AVERAGE('Score Sheet'!$J25:AP25),1),ROUND(AVERAGE('Score Sheet'!$I25:AP25),1)))","v":"R"},{"$f":"IF('Score Sheet'!AQ25=\"\",\"R\",IF('Race results'!$C$32>0,ROUND(AVERAGE('Score Sheet'!$J25:AQ25),1),ROUND(AVERAGE('Score Sheet'!$I25:AQ25),1)))","v":"R"},{"$f":"IF('Score Sheet'!AR25=\"\",\"R\",IF('Race results'!$C$32>0,ROUND(AVERAGE('Score Sheet'!$J25:AR25),1),ROUND(AVERAGE('Score Sheet'!$I25:AR25),1)))","v":"R"},{"$f":"IF('Score Sheet'!AS25=\"\",\"R\",IF('Race results'!$C$32>0,ROUND(AVERAGE('Score Sheet'!$J25:AS25),1),ROUND(AVERAGE('Score Sheet'!$I25:AS25),1)))","v":"R"},{"$f":"IF('Score Sheet'!AT25=\"\",\"R\",IF('Race results'!$C$32>0,ROUND(AVERAGE('Score Sheet'!$J25:AT25),1),ROUND(AVERAGE('Score Sheet'!$I25:AT25),1)))","v":"R"},{"$f":"IF('Score Sheet'!AU25=\"\",\"R\",IF('Race results'!$C$32>0,ROUND(AVERAGE('Score Sheet'!$J25:AU25),1),ROUND(AVERAGE('Score Sheet'!$I25:AU25),1)))","v":"R"},{"$f":"IF('Score Sheet'!AV25=\"\",\"R\",IF('Race results'!$C$32>0,ROUND(AVERAGE('Score Sheet'!$J25:AV25),1),ROUND(AVERAGE('Score Sheet'!$I25:AV25),1)))","v":"R"},null,"",{"$f":"IF(C25=\"\",\"\",IF('Race results'!$C$7<1, \"E\", IF('Race results'!$C$32>0,IF(COUNT(AY25:CL25)<1,\"R\",ROUND(AVERAGE(AY25:CL25),1)),IF(COUNT(AX25:CL25)<1,\"R\",ROUND(AVERAGE(AX25:CL25),1)))))","v":""},null,null,"","","","","","","","","","","","","","","","","","","","","","","","","","","","","","","","","","","","","","","","",""]
[null,17,{"$f":"IF('Score Sheet'!C26=\"\",\"\",'Score Sheet'!C26)","v":""},{"$f":"'Race results'!$F$159","v":"DAFT!"},{"$f":"'Race results'!$F$159","v":"DAFT!"},{"$f":"IF('Score Sheet'!J26=\"\",\"R\",IF('Race results'!$C$32>0,'Race results'!$F$159,ROUND(AVERAGE('Score Sheet'!$I26:J26),1)))","v":"R"},{"$f":"IF('Score Sheet'!K26=\"\",\"R\",IF('Race results'!$C$32>0,ROUND(AVERAGE('Score Sheet'!$J26:K26),1),ROUND(AVERAGE('Score Sheet'!$I26:K26),1)))","v":"R"},{"$f":"IF('Score Sheet'!L26=\"\",\"R\",IF('Race results'!$C$32>0,ROUND(AVERAGE('Score Sheet'!$J26:L26),1),ROUND(AVERAGE('Score Sheet'!$I26:L26),1)))","v":"R"},{"$f":"IF('Score Sheet'!M26=\"\",\"R\",IF('Race results'!$C$32>0,ROUND(AVERAGE('Score Sheet'!$J26:M26),1),ROUND(AVERAGE('Score Sheet'!$I26:M26),1)))","v":"R"},{"$f":"IF('Score Sheet'!N26=\"\",\"R\",IF('Race results'!$C$32>0,ROUND(AVERAGE('Score Sheet'!$J26:N26),1),ROUND(AVERAGE('Score Sheet'!$I26:N26),1)))","v":"R"},{"$f":"IF('Score Sheet'!O26=\"\",\"R\",IF('Race results'!$C$32>0,ROUND(AVERAGE('Score Sheet'!$J26:O26),1),ROUND(AVERAGE('Score Sheet'!$I26:O26),1)))","v":"R"},{"$f":"IF('Score Sheet'!P26=\"\",\"R\",IF('Race results'!$C$32>0,ROUND(AVERAGE('Score Sheet'!$J26:P26),1),ROUND(AVERAGE('Score Sheet'!$I26:P26),1)))","v":"R"},{"$f":"IF('Score Sheet'!Q26=\"\",\"R\",IF('Race results'!$C$32>0,ROUND(AVERAGE('Score Sheet'!$J26:Q26),1),ROUND(AVERAGE('Score Sheet'!$I26:Q26),1)))","v":"R"},{"$f":"IF('Score Sheet'!R26=\"\",\"R\",IF('Race results'!$C$32>0,ROUND(AVERAGE('Score Sheet'!$J26:R26),1),ROUND(AVERAGE('Score Sheet'!$I26:R26),1)))","v":"R"},{"$f":"IF('Score Sheet'!S26=\"\",\"R\",IF('Race results'!$C$32>0,ROUND(AVERAGE('Score Sheet'!$J26:S26),1),ROUND(AVERAGE('Score Sheet'!$I26:S26),1)))","v":"R"},{"$f":"IF('Score Sheet'!T26=\"\",\"R\",IF('Race results'!$C$32>0,ROUND(AVERAGE('Score Sheet'!$J26:T26),1),ROUND(AVERAGE('Score Sheet'!$I26:T26),1)))","v":"R"},{"$f":"IF('Score Sheet'!U26=\"\",\"R\",IF('Race results'!$C$32>0,ROUND(AVERAGE('Score Sheet'!$J26:U26),1),ROUND(AVERAGE('Score Sheet'!$I26:U26),1)))","v":"R"},{"$f":"IF('Score Sheet'!V26=\"\",\"R\",IF('Race results'!$C$32>0,ROUND(AVERAGE('Score Sheet'!$J26:V26),1),ROUND(AVERAGE('Score Sheet'!$I26:V26),1)))","v":"R"},{"$f":"IF('Score Sheet'!W26=\"\",\"R\",IF('Race results'!$C$32>0,ROUND(AVERAGE('Score Sheet'!$J26:W26),1),ROUND(AVERAGE('Score Sheet'!$I26:W26),1)))","v":"R"},{"$f":"IF('Score Sheet'!X26=\"\",\"R\",IF('Race results'!$C$32>0,ROUND(AVERAGE('Score Sheet'!$J26:X26),1),ROUND(AVERAGE('Score Sheet'!$I26:X26),1)))","v":"R"},{"$f":"IF('Score Sheet'!Y26=\"\",\"R\",IF('Race results'!$C$32>0,ROUND(AVERAGE('Score Sheet'!$J26:Y26),1),ROUND(AVERAGE('Score Sheet'!$I26:Y26),1)))","v":"R"},{"$f":"IF('Score Sheet'!Z26=\"\",\"R\",IF('Race results'!$C$32>0,ROUND(AVERAGE('Score Sheet'!$J26:Z26),1),ROUND(AVERAGE('Score Sheet'!$I26:Z26),1)))","v":"R"},{"$f":"IF('Score Sheet'!AA26=\"\",\"R\",IF('Race results'!$C$32>0,ROUND(AVERAGE('Score Sheet'!$J26:AA26),1),ROUND(AVERAGE('Score Sheet'!$I26:AA26),1)))","v":"R"},{"$f":"IF('Score Sheet'!AB26=\"\",\"R\",IF('Race results'!$C$32>0,ROUND(AVERAGE('Score Sheet'!$J26:AB26),1),ROUND(AVERAGE('Score Sheet'!$I26:AB26),1)))","v":"R"},{"$f":"IF('Score Sheet'!AC26=\"\",\"R\",IF('Race results'!$C$32>0,ROUND(AVERAGE('Score Sheet'!$J26:AC26),1),ROUND(AVERAGE('Score Sheet'!$I26:AC26),1)))","v":"R"},{"$f":"IF('Score Sheet'!AD26=\"\",\"R\",IF('Race results'!$C$32>0,ROUND(AVERAGE('Score Sheet'!$J26:AD26),1),ROUND(AVERAGE('Score Sheet'!$I26:AD26),1)))","v":"R"},{"$f":"IF('Score Sheet'!AE26=\"\",\"R\",IF('Race results'!$C$32>0,ROUND(AVERAGE('Score Sheet'!$J26:AE26),1),ROUND(AVERAGE('Score Sheet'!$I26:AE26),1)))","v":"R"},{"$f":"IF('Score Sheet'!AF26=\"\",\"R\",IF('Race results'!$C$32>0,ROUND(AVERAGE('Score Sheet'!$J26:AF26),1),ROUND(AVERAGE('Score Sheet'!$I26:AF26),1)))","v":"R"},{"$f":"IF('Score Sheet'!AG26=\"\",\"R\",IF('Race results'!$C$32>0,ROUND(AVERAGE('Score Sheet'!$J26:AG26),1),ROUND(AVERAGE('Score Sheet'!$I26:AG26),1)))","v":"R"},{"$f":"IF('Score Sheet'!AH26=\"\",\"R\",IF('Race results'!$C$32>0,ROUND(AVERAGE('Score Sheet'!$J26:AH26),1),ROUND(AVERAGE('Score Sheet'!$I26:AH26),1)))","v":"R"},{"$f":"IF('Score Sheet'!AI26=\"\",\"R\",IF('Race results'!$C$32>0,ROUND(AVERAGE('Score Sheet'!$J26:AI26),1),ROUND(AVERAGE('Score Sheet'!$I26:AI26),1)))","v":"R"},{"$f":"IF('Score Sheet'!AJ26=\"\",\"R\",IF('Race results'!$C$32>0,ROUND(AVERAGE('Score Sheet'!$J26:AJ26),1),ROUND(AVERAGE('Score Sheet'!$I26:AJ26),1)))","v":"R"},{"$f":"IF('Score Sheet'!AK26=\"\",\"R\",IF('Race results'!$C$32>0,ROUND(AVERAGE('Score Sheet'!$J26:AK26),1),ROUND(AVERAGE('Score Sheet'!$I26:AK26),1)))","v":"R"},{"$f":"IF('Score Sheet'!AL26=\"\",\"R\",IF('Race results'!$C$32>0,ROUND(AVERAGE('Score Sheet'!$J26:AL26),1),ROUND(AVERAGE('Score Sheet'!$I26:AL26),1)))","v":"R"},{"$f":"IF('Score Sheet'!AM26=\"\",\"R\",IF('Race results'!$C$32>0,ROUND(AVERAGE('Score Sheet'!$J26:AM26),1),ROUND(AVERAGE('Score Sheet'!$I26:AM26),1)))","v":"R"},{"$f":"IF('Score Sheet'!AN26=\"\",\"R\",IF('Race results'!$C$32>0,ROUND(AVERAGE('Score Sheet'!$J26:AN26),1),ROUND(AVERAGE('Score Sheet'!$I26:AN26),1)))","v":"R"},{"$f":"IF('Score Sheet'!AO26=\"\",\"R\",IF('Race results'!$C$32>0,ROUND(AVERAGE('Score Sheet'!$J26:AO26),1),ROUND(AVERAGE('Score Sheet'!$I26:AO26),1)))","v":"R"},{"$f":"IF('Score Sheet'!AP26=\"\",\"R\",IF('Race results'!$C$32>0,ROUND(AVERAGE('Score Sheet'!$J26:AP26),1),ROUND(AVERAGE('Score Sheet'!$I26:AP26),1)))","v":"R"},{"$f":"IF('Score Sheet'!AQ26=\"\",\"R\",IF('Race results'!$C$32>0,ROUND(AVERAGE('Score Sheet'!$J26:AQ26),1),ROUND(AVERAGE('Score Sheet'!$I26:AQ26),1)))","v":"R"},{"$f":"IF('Score Sheet'!AR26=\"\",\"R\",IF('Race results'!$C$32>0,ROUND(AVERAGE('Score Sheet'!$J26:AR26),1),ROUND(AVERAGE('Score Sheet'!$I26:AR26),1)))","v":"R"},{"$f":"IF('Score Sheet'!AS26=\"\",\"R\",IF('Race results'!$C$32>0,ROUND(AVERAGE('Score Sheet'!$J26:AS26),1),ROUND(AVERAGE('Score Sheet'!$I26:AS26),1)))","v":"R"},{"$f":"IF('Score Sheet'!AT26=\"\",\"R\",IF('Race results'!$C$32>0,ROUND(AVERAGE('Score Sheet'!$J26:AT26),1),ROUND(AVERAGE('Score Sheet'!$I26:AT26),1)))","v":"R"},{"$f":"IF('Score Sheet'!AU26=\"\",\"R\",IF('Race results'!$C$32>0,ROUND(AVERAGE('Score Sheet'!$J26:AU26),1),ROUND(AVERAGE('Score Sheet'!$I26:AU26),1)))","v":"R"},{"$f":"IF('Score Sheet'!AV26=\"\",\"R\",IF('Race results'!$C$32>0,ROUND(AVERAGE('Score Sheet'!$J26:AV26),1),ROUND(AVERAGE('Score Sheet'!$I26:AV26),1)))","v":"R"},null,"",{"$f":"IF(C26=\"\",\"\",IF('Race results'!$C$7<1, \"E\", IF('Race results'!$C$32>0,IF(COUNT(AY26:CL26)<1,\"R\",ROUND(AVERAGE(AY26:CL26),1)),IF(COUNT(AX26:CL26)<1,\"R\",ROUND(AVERAGE(AX26:CL26),1)))))","v":""},null,null,"","","","","","","","","","","","","","","","","","","","","","","","","","","","","","","","","","","","","","","","",""]
[null,18,{"$f":"IF('Score Sheet'!C27=\"\",\"\",'Score Sheet'!C27)","v":""},{"$f":"'Race results'!$F$159","v":"DAFT!"},{"$f":"'Race results'!$F$159","v":"DAFT!"},{"$f":"IF('Score Sheet'!J27=\"\",\"R\",IF('Race results'!$C$32>0,'Race results'!$F$159,ROUND(AVERAGE('Score Sheet'!$I27:J27),1)))","v":"R"},{"$f":"IF('Score Sheet'!K27=\"\",\"R\",IF('Race results'!$C$32>0,ROUND(AVERAGE('Score Sheet'!$J27:K27),1),ROUND(AVERAGE('Score Sheet'!$I27:K27),1)))","v":"R"},{"$f":"IF('Score Sheet'!L27=\"\",\"R\",IF('Race results'!$C$32>0,ROUND(AVERAGE('Score Sheet'!$J27:L27),1),ROUND(AVERAGE('Score Sheet'!$I27:L27),1)))","v":"R"},{"$f":"IF('Score Sheet'!M27=\"\",\"R\",IF('Race results'!$C$32>0,ROUND(AVERAGE('Score Sheet'!$J27:M27),1),ROUND(AVERAGE('Score Sheet'!$I27:M27),1)))","v":"R"},{"$f":"IF('Score Sheet'!N27=\"\",\"R\",IF('Race results'!$C$32>0,ROUND(AVERAGE('Score Sheet'!$J27:N27),1),ROUND(AVERAGE('Score Sheet'!$I27:N27),1)))","v":"R"},{"$f":"IF('Score Sheet'!O27=\"\",\"R\",IF('Race results'!$C$32>0,ROUND(AVERAGE('Score Sheet'!$J27:O27),1),ROUND(AVERAGE('Score Sheet'!$I27:O27),1)))","v":"R"},{"$f":"IF('Score Sheet'!P27=\"\",\"R\",IF('Race results'!$C$32>0,ROUND(AVERAGE('Score Sheet'!$J27:P27),1),ROUND(AVERAGE('Score Sheet'!$I27:P27),1)))","v":"R"},{"$f":"IF('Score Sheet'!Q27=\"\",\"R\",IF('Race results'!$C$32>0,ROUND(AVERAGE('Score Sheet'!$J27:Q27),1),ROUND(AVERAGE('Score Sheet'!$I27:Q27),1)))","v":"R"},{"$f":"IF('Score Sheet'!R27=\"\",\"R\",IF('Race results'!$C$32>0,ROUND(AVERAGE('Score Sheet'!$J27:R27),1),ROUND(AVERAGE('Score Sheet'!$I27:R27),1)))","v":"R"},{"$f":"IF('Score Sheet'!S27=\"\",\"R\",IF('Race results'!$C$32>0,ROUND(AVERAGE('Score Sheet'!$J27:S27),1),ROUND(AVERAGE('Score Sheet'!$I27:S27),1)))","v":"R"},{"$f":"IF('Score Sheet'!T27=\"\",\"R\",IF('Race results'!$C$32>0,ROUND(AVERAGE('Score Sheet'!$J27:T27),1),ROUND(AVERAGE('Score Sheet'!$I27:T27),1)))","v":"R"},{"$f":"IF('Score Sheet'!U27=\"\",\"R\",IF('Race results'!$C$32>0,ROUND(AVERAGE('Score Sheet'!$J27:U27),1),ROUND(AVERAGE('Score Sheet'!$I27:U27),1)))","v":"R"},{"$f":"IF('Score Sheet'!V27=\"\",\"R\",IF('Race results'!$C$32>0,ROUND(AVERAGE('Score Sheet'!$J27:V27),1),ROUND(AVERAGE('Score Sheet'!$I27:V27),1)))","v":"R"},{"$f":"IF('Score Sheet'!W27=\"\",\"R\",IF('Race results'!$C$32>0,ROUND(AVERAGE('Score Sheet'!$J27:W27),1),ROUND(AVERAGE('Score Sheet'!$I27:W27),1)))","v":"R"},{"$f":"IF('Score Sheet'!X27=\"\",\"R\",IF('Race results'!$C$32>0,ROUND(AVERAGE('Score Sheet'!$J27:X27),1),ROUND(AVERAGE('Score Sheet'!$I27:X27),1)))","v":"R"},{"$f":"IF('Score Sheet'!Y27=\"\",\"R\",IF('Race results'!$C$32>0,ROUND(AVERAGE('Score Sheet'!$J27:Y27),1),ROUND(AVERAGE('Score Sheet'!$I27:Y27),1)))","v":"R"},{"$f":"IF('Score Sheet'!Z27=\"\",\"R\",IF('Race results'!$C$32>0,ROUND(AVERAGE('Score Sheet'!$J27:Z27),1),ROUND(AVERAGE('Score Sheet'!$I27:Z27),1)))","v":"R"},{"$f":"IF('Score Sheet'!AA27=\"\",\"R\",IF('Race results'!$C$32>0,ROUND(AVERAGE('Score Sheet'!$J27:AA27),1),ROUND(AVERAGE('Score Sheet'!$I27:AA27),1)))","v":"R"},{"$f":"IF('Score Sheet'!AB27=\"\",\"R\",IF('Race results'!$C$32>0,ROUND(AVERAGE('Score Sheet'!$J27:AB27),1),ROUND(AVERAGE('Score Sheet'!$I27:AB27),1)))","v":"R"},{"$f":"IF('Score Sheet'!AC27=\"\",\"R\",IF('Race results'!$C$32>0,ROUND(AVERAGE('Score Sheet'!$J27:AC27),1),ROUND(AVERAGE('Score Sheet'!$I27:AC27),1)))","v":"R"},{"$f":"IF('Score Sheet'!AD27=\"\",\"R\",IF('Race results'!$C$32>0,ROUND(AVERAGE('Score Sheet'!$J27:AD27),1),ROUND(AVERAGE('Score Sheet'!$I27:AD27),1)))","v":"R"},{"$f":"IF('Score Sheet'!AE27=\"\",\"R\",IF('Race results'!$C$32>0,ROUND(AVERAGE('Score Sheet'!$J27:AE27),1),ROUND(AVERAGE('Score Sheet'!$I27:AE27),1)))","v":"R"},{"$f":"IF('Score Sheet'!AF27=\"\",\"R\",IF('Race results'!$C$32>0,ROUND(AVERAGE('Score Sheet'!$J27:AF27),1),ROUND(AVERAGE('Score Sheet'!$I27:AF27),1)))","v":"R"},{"$f":"IF('Score Sheet'!AG27=\"\",\"R\",IF('Race results'!$C$32>0,ROUND(AVERAGE('Score Sheet'!$J27:AG27),1),ROUND(AVERAGE('Score Sheet'!$I27:AG27),1)))","v":"R"},{"$f":"IF('Score Sheet'!AH27=\"\",\"R\",IF('Race results'!$C$32>0,ROUND(AVERAGE('Score Sheet'!$J27:AH27),1),ROUND(AVERAGE('Score Sheet'!$I27:AH27),1)))","v":"R"},{"$f":"IF('Score Sheet'!AI27=\"\",\"R\",IF('Race results'!$C$32>0,ROUND(AVERAGE('Score Sheet'!$J27:AI27),1),ROUND(AVERAGE('Score Sheet'!$I27:AI27),1)))","v":"R"},{"$f":"IF('Score Sheet'!AJ27=\"\",\"R\",IF('Race results'!$C$32>0,ROUND(AVERAGE('Score Sheet'!$J27:AJ27),1),ROUND(AVERAGE('Score Sheet'!$I27:AJ27),1)))","v":"R"},{"$f":"IF('Score Sheet'!AK27=\"\",\"R\",IF('Race results'!$C$32>0,ROUND(AVERAGE('Score Sheet'!$J27:AK27),1),ROUND(AVERAGE('Score Sheet'!$I27:AK27),1)))","v":"R"},{"$f":"IF('Score Sheet'!AL27=\"\",\"R\",IF('Race results'!$C$32>0,ROUND(AVERAGE('Score Sheet'!$J27:AL27),1),ROUND(AVERAGE('Score Sheet'!$I27:AL27),1)))","v":"R"},{"$f":"IF('Score Sheet'!AM27=\"\",\"R\",IF('Race results'!$C$32>0,ROUND(AVERAGE('Score Sheet'!$J27:AM27),1),ROUND(AVERAGE('Score Sheet'!$I27:AM27),1)))","v":"R"},{"$f":"IF('Score Sheet'!AN27=\"\",\"R\",IF('Race results'!$C$32>0,ROUND(AVERAGE('Score Sheet'!$J27:AN27),1),ROUND(AVERAGE('Score Sheet'!$I27:AN27),1)))","v":"R"},{"$f":"IF('Score Sheet'!AO27=\"\",\"R\",IF('Race results'!$C$32>0,ROUND(AVERAGE('Score Sheet'!$J27:AO27),1),ROUND(AVERAGE('Score Sheet'!$I27:AO27),1)))","v":"R"},{"$f":"IF('Score Sheet'!AP27=\"\",\"R\",IF('Race results'!$C$32>0,ROUND(AVERAGE('Score Sheet'!$J27:AP27),1),ROUND(AVERAGE('Score Sheet'!$I27:AP27),1)))","v":"R"},{"$f":"IF('Score Sheet'!AQ27=\"\",\"R\",IF('Race results'!$C$32>0,ROUND(AVERAGE('Score Sheet'!$J27:AQ27),1),ROUND(AVERAGE('Score Sheet'!$I27:AQ27),1)))","v":"R"},{"$f":"IF('Score Sheet'!AR27=\"\",\"R\",IF('Race results'!$C$32>0,ROUND(AVERAGE('Score Sheet'!$J27:AR27),1),ROUND(AVERAGE('Score Sheet'!$I27:AR27),1)))","v":"R"},{"$f":"IF('Score Sheet'!AS27=\"\",\"R\",IF('Race results'!$C$32>0,ROUND(AVERAGE('Score Sheet'!$J27:AS27),1),ROUND(AVERAGE('Score Sheet'!$I27:AS27),1)))","v":"R"},{"$f":"IF('Score Sheet'!AT27=\"\",\"R\",IF('Race results'!$C$32>0,ROUND(AVERAGE('Score Sheet'!$J27:AT27),1),ROUND(AVERAGE('Score Sheet'!$I27:AT27),1)))","v":"R"},{"$f":"IF('Score Sheet'!AU27=\"\",\"R\",IF('Race results'!$C$32>0,ROUND(AVERAGE('Score Sheet'!$J27:AU27),1),ROUND(AVERAGE('Score Sheet'!$I27:AU27),1)))","v":"R"},{"$f":"IF('Score Sheet'!AV27=\"\",\"R\",IF('Race results'!$C$32>0,ROUND(AVERAGE('Score Sheet'!$J27:AV27),1),ROUND(AVERAGE('Score Sheet'!$I27:AV27),1)))","v":"R"},null,"",{"$f":"IF(C27=\"\",\"\",IF('Race results'!$C$7<1, \"E\", IF('Race results'!$C$32>0,IF(COUNT(AY27:CL27)<1,\"R\",ROUND(AVERAGE(AY27:CL27),1)),IF(COUNT(AX27:CL27)<1,\"R\",ROUND(AVERAGE(AX27:CL27),1)))))","v":""},null,null,"","","","","","","","","","","","","","","","","","","","","","","","","","","","","","","","","","","","","","","","",""]
[null,19,{"$f":"IF('Score Sheet'!C28=\"\",\"\",'Score Sheet'!C28)","v":""},{"$f":"'Race results'!$F$159","v":"DAFT!"},{"$f":"'Race results'!$F$159","v":"DAFT!"},{"$f":"IF('Score Sheet'!J28=\"\",\"R\",IF('Race results'!$C$32>0,'Race results'!$F$159,ROUND(AVERAGE('Score Sheet'!$I28:J28),1)))","v":"R"},{"$f":"IF('Score Sheet'!K28=\"\",\"R\",IF('Race results'!$C$32>0,ROUND(AVERAGE('Score Sheet'!$J28:K28),1),ROUND(AVERAGE('Score Sheet'!$I28:K28),1)))","v":"R"},{"$f":"IF('Score Sheet'!L28=\"\",\"R\",IF('Race results'!$C$32>0,ROUND(AVERAGE('Score Sheet'!$J28:L28),1),ROUND(AVERAGE('Score Sheet'!$I28:L28),1)))","v":"R"},{"$f":"IF('Score Sheet'!M28=\"\",\"R\",IF('Race results'!$C$32>0,ROUND(AVERAGE('Score Sheet'!$J28:M28),1),ROUND(AVERAGE('Score Sheet'!$I28:M28),1)))","v":"R"},{"$f":"IF('Score Sheet'!N28=\"\",\"R\",IF('Race results'!$C$32>0,ROUND(AVERAGE('Score Sheet'!$J28:N28),1),ROUND(AVERAGE('Score Sheet'!$I28:N28),1)))","v":"R"},{"$f":"IF('Score Sheet'!O28=\"\",\"R\",IF('Race results'!$C$32>0,ROUND(AVERAGE('Score Sheet'!$J28:O28),1),ROUND(AVERAGE('Score Sheet'!$I28:O28),1)))","v":"R"},{"$f":"IF('Score Sheet'!P28=\"\",\"R\",IF('Race results'!$C$32>0,ROUND(AVERAGE('Score Sheet'!$J28:P28),1),ROUND(AVERAGE('Score Sheet'!$I28:P28),1)))","v":"R"},{"$f":"IF('Score Sheet'!Q28=\"\",\"R\",IF('Race results'!$C$32>0,ROUND(AVERAGE('Score Sheet'!$J28:Q28),1),ROUND(AVERAGE('Score Sheet'!$I28:Q28),1)))","v":"R"},{"$f":"IF('Score Sheet'!R28=\"\",\"R\",IF('Race results'!$C$32>0,ROUND(AVERAGE('Score Sheet'!$J28:R28),1),ROUND(AVERAGE('Score Sheet'!$I28:R28),1)))","v":"R"},{"$f":"IF('Score Sheet'!S28=\"\",\"R\",IF('Race results'!$C$32>0,ROUND(AVERAGE('Score Sheet'!$J28:S28),1),ROUND(AVERAGE('Score Sheet'!$I28:S28),1)))","v":"R"},{"$f":"IF('Score Sheet'!T28=\"\",\"R\",IF('Race results'!$C$32>0,ROUND(AVERAGE('Score Sheet'!$J28:T28),1),ROUND(AVERAGE('Score Sheet'!$I28:T28),1)))","v":"R"},{"$f":"IF('Score Sheet'!U28=\"\",\"R\",IF('Race results'!$C$32>0,ROUND(AVERAGE('Score Sheet'!$J28:U28),1),ROUND(AVERAGE('Score Sheet'!$I28:U28),1)))","v":"R"},{"$f":"IF('Score Sheet'!V28=\"\",\"R\",IF('Race results'!$C$32>0,ROUND(AVERAGE('Score Sheet'!$J28:V28),1),ROUND(AVERAGE('Score Sheet'!$I28:V28),1)))","v":"R"},{"$f":"IF('Score Sheet'!W28=\"\",\"R\",IF('Race results'!$C$32>0,ROUND(AVERAGE('Score Sheet'!$J28:W28),1),ROUND(AVERAGE('Score Sheet'!$I28:W28),1)))","v":"R"},{"$f":"IF('Score Sheet'!X28=\"\",\"R\",IF('Race results'!$C$32>0,ROUND(AVERAGE('Score Sheet'!$J28:X28),1),ROUND(AVERAGE('Score Sheet'!$I28:X28),1)))","v":"R"},{"$f":"IF('Score Sheet'!Y28=\"\",\"R\",IF('Race results'!$C$32>0,ROUND(AVERAGE('Score Sheet'!$J28:Y28),1),ROUND(AVERAGE('Score Sheet'!$I28:Y28),1)))","v":"R"},{"$f":"IF('Score Sheet'!Z28=\"\",\"R\",IF('Race results'!$C$32>0,ROUND(AVERAGE('Score Sheet'!$J28:Z28),1),ROUND(AVERAGE('Score Sheet'!$I28:Z28),1)))","v":"R"},{"$f":"IF('Score Sheet'!AA28=\"\",\"R\",IF('Race results'!$C$32>0,ROUND(AVERAGE('Score Sheet'!$J28:AA28),1),ROUND(AVERAGE('Score Sheet'!$I28:AA28),1)))","v":"R"},{"$f":"IF('Score Sheet'!AB28=\"\",\"R\",IF('Race results'!$C$32>0,ROUND(AVERAGE('Score Sheet'!$J28:AB28),1),ROUND(AVERAGE('Score Sheet'!$I28:AB28),1)))","v":"R"},{"$f":"IF('Score Sheet'!AC28=\"\",\"R\",IF('Race results'!$C$32>0,ROUND(AVERAGE('Score Sheet'!$J28:AC28),1),ROUND(AVERAGE('Score Sheet'!$I28:AC28),1)))","v":"R"},{"$f":"IF('Score Sheet'!AD28=\"\",\"R\",IF('Race results'!$C$32>0,ROUND(AVERAGE('Score Sheet'!$J28:AD28),1),ROUND(AVERAGE('Score Sheet'!$I28:AD28),1)))","v":"R"},{"$f":"IF('Score Sheet'!AE28=\"\",\"R\",IF('Race results'!$C$32>0,ROUND(AVERAGE('Score Sheet'!$J28:AE28),1),ROUND(AVERAGE('Score Sheet'!$I28:AE28),1)))","v":"R"},{"$f":"IF('Score Sheet'!AF28=\"\",\"R\",IF('Race results'!$C$32>0,ROUND(AVERAGE('Score Sheet'!$J28:AF28),1),ROUND(AVERAGE('Score Sheet'!$I28:AF28),1)))","v":"R"},{"$f":"IF('Score Sheet'!AG28=\"\",\"R\",IF('Race results'!$C$32>0,ROUND(AVERAGE('Score Sheet'!$J28:AG28),1),ROUND(AVERAGE('Score Sheet'!$I28:AG28),1)))","v":"R"},{"$f":"IF('Score Sheet'!AH28=\"\",\"R\",IF('Race results'!$C$32>0,ROUND(AVERAGE('Score Sheet'!$J28:AH28),1),ROUND(AVERAGE('Score Sheet'!$I28:AH28),1)))","v":"R"},{"$f":"IF('Score Sheet'!AI28=\"\",\"R\",IF('Race results'!$C$32>0,ROUND(AVERAGE('Score Sheet'!$J28:AI28),1),ROUND(AVERAGE('Score Sheet'!$I28:AI28),1)))","v":"R"},{"$f":"IF('Score Sheet'!AJ28=\"\",\"R\",IF('Race results'!$C$32>0,ROUND(AVERAGE('Score Sheet'!$J28:AJ28),1),ROUND(AVERAGE('Score Sheet'!$I28:AJ28),1)))","v":"R"},{"$f":"IF('Score Sheet'!AK28=\"\",\"R\",IF('Race results'!$C$32>0,ROUND(AVERAGE('Score Sheet'!$J28:AK28),1),ROUND(AVERAGE('Score Sheet'!$I28:AK28),1)))","v":"R"},{"$f":"IF('Score Sheet'!AL28=\"\",\"R\",IF('Race results'!$C$32>0,ROUND(AVERAGE('Score Sheet'!$J28:AL28),1),ROUND(AVERAGE('Score Sheet'!$I28:AL28),1)))","v":"R"},{"$f":"IF('Score Sheet'!AM28=\"\",\"R\",IF('Race results'!$C$32>0,ROUND(AVERAGE('Score Sheet'!$J28:AM28),1),ROUND(AVERAGE('Score Sheet'!$I28:AM28),1)))","v":"R"},{"$f":"IF('Score Sheet'!AN28=\"\",\"R\",IF('Race results'!$C$32>0,ROUND(AVERAGE('Score Sheet'!$J28:AN28),1),ROUND(AVERAGE('Score Sheet'!$I28:AN28),1)))","v":"R"},{"$f":"IF('Score Sheet'!AO28=\"\",\"R\",IF('Race results'!$C$32>0,ROUND(AVERAGE('Score Sheet'!$J28:AO28),1),ROUND(AVERAGE('Score Sheet'!$I28:AO28),1)))","v":"R"},{"$f":"IF('Score Sheet'!AP28=\"\",\"R\",IF('Race results'!$C$32>0,ROUND(AVERAGE('Score Sheet'!$J28:AP28),1),ROUND(AVERAGE('Score Sheet'!$I28:AP28),1)))","v":"R"},{"$f":"IF('Score Sheet'!AQ28=\"\",\"R\",IF('Race results'!$C$32>0,ROUND(AVERAGE('Score Sheet'!$J28:AQ28),1),ROUND(AVERAGE('Score Sheet'!$I28:AQ28),1)))","v":"R"},{"$f":"IF('Score Sheet'!AR28=\"\",\"R\",IF('Race results'!$C$32>0,ROUND(AVERAGE('Score Sheet'!$J28:AR28),1),ROUND(AVERAGE('Score Sheet'!$I28:AR28),1)))","v":"R"},{"$f":"IF('Score Sheet'!AS28=\"\",\"R\",IF('Race results'!$C$32>0,ROUND(AVERAGE('Score Sheet'!$J28:AS28),1),ROUND(AVERAGE('Score Sheet'!$I28:AS28),1)))","v":"R"},{"$f":"IF('Score Sheet'!AT28=\"\",\"R\",IF('Race results'!$C$32>0,ROUND(AVERAGE('Score Sheet'!$J28:AT28),1),ROUND(AVERAGE('Score Sheet'!$I28:AT28),1)))","v":"R"},{"$f":"IF('Score Sheet'!AU28=\"\",\"R\",IF('Race results'!$C$32>0,ROUND(AVERAGE('Score Sheet'!$J28:AU28),1),ROUND(AVERAGE('Score Sheet'!$I28:AU28),1)))","v":"R"},{"$f":"IF('Score Sheet'!AV28=\"\",\"R\",IF('Race results'!$C$32>0,ROUND(AVERAGE('Score Sheet'!$J28:AV28),1),ROUND(AVERAGE('Score Sheet'!$I28:AV28),1)))","v":"R"},null,"",{"$f":"IF(C28=\"\",\"\",IF('Race results'!$C$7<1, \"E\", IF('Race results'!$C$32>0,IF(COUNT(AY28:CL28)<1,\"R\",ROUND(AVERAGE(AY28:CL28),1)),IF(COUNT(AX28:CL28)<1,\"R\",ROUND(AVERAGE(AX28:CL28),1)))))","v":""},null,null,"","","","","","","","","","","","","","","","","","","","","","","","","","","","","","","","","","","","","","","","",""]
[null,20,{"$f":"IF('Score Sheet'!C29=\"\",\"\",'Score Sheet'!C29)","v":""},{"$f":"'Race results'!$F$159","v":"DAFT!"},{"$f":"'Race results'!$F$159","v":"DAFT!"},{"$f":"IF('Score Sheet'!J29=\"\",\"R\",IF('Race results'!$C$32>0,'Race results'!$F$159,ROUND(AVERAGE('Score Sheet'!$I29:J29),1)))","v":"R"},{"$f":"IF('Score Sheet'!K29=\"\",\"R\",IF('Race results'!$C$32>0,ROUND(AVERAGE('Score Sheet'!$J29:K29),1),ROUND(AVERAGE('Score Sheet'!$I29:K29),1)))","v":"R"},{"$f":"IF('Score Sheet'!L29=\"\",\"R\",IF('Race results'!$C$32>0,ROUND(AVERAGE('Score Sheet'!$J29:L29),1),ROUND(AVERAGE('Score Sheet'!$I29:L29),1)))","v":"R"},{"$f":"IF('Score Sheet'!M29=\"\",\"R\",IF('Race results'!$C$32>0,ROUND(AVERAGE('Score Sheet'!$J29:M29),1),ROUND(AVERAGE('Score Sheet'!$I29:M29),1)))","v":"R"},{"$f":"IF('Score Sheet'!N29=\"\",\"R\",IF('Race results'!$C$32>0,ROUND(AVERAGE('Score Sheet'!$J29:N29),1),ROUND(AVERAGE('Score Sheet'!$I29:N29),1)))","v":"R"},{"$f":"IF('Score Sheet'!O29=\"\",\"R\",IF('Race results'!$C$32>0,ROUND(AVERAGE('Score Sheet'!$J29:O29),1),ROUND(AVERAGE('Score Sheet'!$I29:O29),1)))","v":"R"},{"$f":"IF('Score Sheet'!P29=\"\",\"R\",IF('Race results'!$C$32>0,ROUND(AVERAGE('Score Sheet'!$J29:P29),1),ROUND(AVERAGE('Score Sheet'!$I29:P29),1)))","v":"R"},{"$f":"IF('Score Sheet'!Q29=\"\",\"R\",IF('Race results'!$C$32>0,ROUND(AVERAGE('Score Sheet'!$J29:Q29),1),ROUND(AVERAGE('Score Sheet'!$I29:Q29),1)))","v":"R"},{"$f":"IF('Score Sheet'!R29=\"\",\"R\",IF('Race results'!$C$32>0,ROUND(AVERAGE('Score Sheet'!$J29:R29),1),ROUND(AVERAGE('Score Sheet'!$I29:R29),1)))","v":"R"},{"$f":"IF('Score Sheet'!S29=\"\",\"R\",IF('Race results'!$C$32>0,ROUND(AVERAGE('Score Sheet'!$J29:S29),1),ROUND(AVERAGE('Score Sheet'!$I29:S29),1)))","v":"R"},{"$f":"IF('Score Sheet'!T29=\"\",\"R\",IF('Race results'!$C$32>0,ROUND(AVERAGE('Score Sheet'!$J29:T29),1),ROUND(AVERAGE('Score Sheet'!$I29:T29),1)))","v":"R"},{"$f":"IF('Score Sheet'!U29=\"\",\"R\",IF('Race results'!$C$32>0,ROUND(AVERAGE('Score Sheet'!$J29:U29),1),ROUND(AVERAGE('Score Sheet'!$I29:U29),1)))","v":"R"},{"$f":"IF('Score Sheet'!V29=\"\",\"R\",IF('Race results'!$C$32>0,ROUND(AVERAGE('Score Sheet'!$J29:V29),1),ROUND(AVERAGE('Score Sheet'!$I29:V29),1)))","v":"R"},{"$f":"IF('Score Sheet'!W29=\"\",\"R\",IF('Race results'!$C$32>0,ROUND(AVERAGE('Score Sheet'!$J29:W29),1),ROUND(AVERAGE('Score Sheet'!$I29:W29),1)))","v":"R"},{"$f":"IF('Score Sheet'!X29=\"\",\"R\",IF('Race results'!$C$32>0,ROUND(AVERAGE('Score Sheet'!$J29:X29),1),ROUND(AVERAGE('Score Sheet'!$I29:X29),1)))","v":"R"},{"$f":"IF('Score Sheet'!Y29=\"\",\"R\",IF('Race results'!$C$32>0,ROUND(AVERAGE('Score Sheet'!$J29:Y29),1),ROUND(AVERAGE('Score Sheet'!$I29:Y29),1)))","v":"R"},{"$f":"IF('Score Sheet'!Z29=\"\",\"R\",IF('Race results'!$C$32>0,ROUND(AVERAGE('Score Sheet'!$J29:Z29),1),ROUND(AVERAGE('Score Sheet'!$I29:Z29),1)))","v":"R"},{"$f":"IF('Score Sheet'!AA29=\"\",\"R\",IF('Race results'!$C$32>0,ROUND(AVERAGE('Score Sheet'!$J29:AA29),1),ROUND(AVERAGE('Score Sheet'!$I29:AA29),1)))","v":"R"},{"$f":"IF('Score Sheet'!AB29=\"\",\"R\",IF('Race results'!$C$32>0,ROUND(AVERAGE('Score Sheet'!$J29:AB29),1),ROUND(AVERAGE('Score Sheet'!$I29:AB29),1)))","v":"R"},{"$f":"IF('Score Sheet'!AC29=\"\",\"R\",IF('Race results'!$C$32>0,ROUND(AVERAGE('Score Sheet'!$J29:AC29),1),ROUND(AVERAGE('Score Sheet'!$I29:AC29),1)))","v":"R"},{"$f":"IF('Score Sheet'!AD29=\"\",\"R\",IF('Race results'!$C$32>0,ROUND(AVERAGE('Score Sheet'!$J29:AD29),1),ROUND(AVERAGE('Score Sheet'!$I29:AD29),1)))","v":"R"},{"$f":"IF('Score Sheet'!AE29=\"\",\"R\",IF('Race results'!$C$32>0,ROUND(AVERAGE('Score Sheet'!$J29:AE29),1),ROUND(AVERAGE('Score Sheet'!$I29:AE29),1)))","v":"R"},{"$f":"IF('Score Sheet'!AF29=\"\",\"R\",IF('Race results'!$C$32>0,ROUND(AVERAGE('Score Sheet'!$J29:AF29),1),ROUND(AVERAGE('Score Sheet'!$I29:AF29),1)))","v":"R"},{"$f":"IF('Score Sheet'!AG29=\"\",\"R\",IF('Race results'!$C$32>0,ROUND(AVERAGE('Score Sheet'!$J29:AG29),1),ROUND(AVERAGE('Score Sheet'!$I29:AG29),1)))","v":"R"},{"$f":"IF('Score Sheet'!AH29=\"\",\"R\",IF('Race results'!$C$32>0,ROUND(AVERAGE('Score Sheet'!$J29:AH29),1),ROUND(AVERAGE('Score Sheet'!$I29:AH29),1)))","v":"R"},{"$f":"IF('Score Sheet'!AI29=\"\",\"R\",IF('Race results'!$C$32>0,ROUND(AVERAGE('Score Sheet'!$J29:AI29),1),ROUND(AVERAGE('Score Sheet'!$I29:AI29),1)))","v":"R"},{"$f":"IF('Score Sheet'!AJ29=\"\",\"R\",IF('Race results'!$C$32>0,ROUND(AVERAGE('Score Sheet'!$J29:AJ29),1),ROUND(AVERAGE('Score Sheet'!$I29:AJ29),1)))","v":"R"},{"$f":"IF('Score Sheet'!AK29=\"\",\"R\",IF('Race results'!$C$32>0,ROUND(AVERAGE('Score Sheet'!$J29:AK29),1),ROUND(AVERAGE('Score Sheet'!$I29:AK29),1)))","v":"R"},{"$f":"IF('Score Sheet'!AL29=\"\",\"R\",IF('Race results'!$C$32>0,ROUND(AVERAGE('Score Sheet'!$J29:AL29),1),ROUND(AVERAGE('Score Sheet'!$I29:AL29),1)))","v":"R"},{"$f":"IF('Score Sheet'!AM29=\"\",\"R\",IF('Race results'!$C$32>0,ROUND(AVERAGE('Score Sheet'!$J29:AM29),1),ROUND(AVERAGE('Score Sheet'!$I29:AM29),1)))","v":"R"},{"$f":"IF('Score Sheet'!AN29=\"\",\"R\",IF('Race results'!$C$32>0,ROUND(AVERAGE('Score Sheet'!$J29:AN29),1),ROUND(AVERAGE('Score Sheet'!$I29:AN29),1)))","v":"R"},{"$f":"IF('Score Sheet'!AO29=\"\",\"R\",IF('Race results'!$C$32>0,ROUND(AVERAGE('Score Sheet'!$J29:AO29),1),ROUND(AVERAGE('Score Sheet'!$I29:AO29),1)))","v":"R"},{"$f":"IF('Score Sheet'!AP29=\"\",\"R\",IF('Race results'!$C$32>0,ROUND(AVERAGE('Score Sheet'!$J29:AP29),1),ROUND(AVERAGE('Score Sheet'!$I29:AP29),1)))","v":"R"},{"$f":"IF('Score Sheet'!AQ29=\"\",\"R\",IF('Race results'!$C$32>0,ROUND(AVERAGE('Score Sheet'!$J29:AQ29),1),ROUND(AVERAGE('Score Sheet'!$I29:AQ29),1)))","v":"R"},{"$f":"IF('Score Sheet'!AR29=\"\",\"R\",IF('Race results'!$C$32>0,ROUND(AVERAGE('Score Sheet'!$J29:AR29),1),ROUND(AVERAGE('Score Sheet'!$I29:AR29),1)))","v":"R"},{"$f":"IF('Score Sheet'!AS29=\"\",\"R\",IF('Race results'!$C$32>0,ROUND(AVERAGE('Score Sheet'!$J29:AS29),1),ROUND(AVERAGE('Score Sheet'!$I29:AS29),1)))","v":"R"},{"$f":"IF('Score Sheet'!AT29=\"\",\"R\",IF('Race results'!$C$32>0,ROUND(AVERAGE('Score Sheet'!$J29:AT29),1),ROUND(AVERAGE('Score Sheet'!$I29:AT29),1)))","v":"R"},{"$f":"IF('Score Sheet'!AU29=\"\",\"R\",IF('Race results'!$C$32>0,ROUND(AVERAGE('Score Sheet'!$J29:AU29),1),ROUND(AVERAGE('Score Sheet'!$I29:AU29),1)))","v":"R"},{"$f":"IF('Score Sheet'!AV29=\"\",\"R\",IF('Race results'!$C$32>0,ROUND(AVERAGE('Score Sheet'!$J29:AV29),1),ROUND(AVERAGE('Score Sheet'!$I29:AV29),1)))","v":"R"},null,"",{"$f":"IF(C29=\"\",\"\",IF('Race results'!$C$7<1, \"E\", IF('Race results'!$C$32>0,IF(COUNT(AY29:CL29)<1,\"R\",ROUND(AVERAGE(AY29:CL29),1)),IF(COUNT(AX29:CL29)<1,\"R\",ROUND(AVERAGE(AX29:CL29),1)))))","v":""},null,null,"","","","","","","","","","","","","","","","","","","","","","","","","","","","","","","","","","","","","","","","",""]
[null,21,{"$f":"IF('Score Sheet'!C30=\"\",\"\",'Score Sheet'!C30)","v":""},{"$f":"'Race results'!$F$159","v":"DAFT!"},{"$f":"'Race results'!$F$159","v":"DAFT!"},{"$f":"IF('Score Sheet'!J30=\"\",\"R\",IF('Race results'!$C$32>0,'Race results'!$F$159,ROUND(AVERAGE('Score Sheet'!$I30:J30),1)))","v":"R"},{"$f":"IF('Score Sheet'!K30=\"\",\"R\",IF('Race results'!$C$32>0,ROUND(AVERAGE('Score Sheet'!$J30:K30),1),ROUND(AVERAGE('Score Sheet'!$I30:K30),1)))","v":"R"},{"$f":"IF('Score Sheet'!L30=\"\",\"R\",IF('Race results'!$C$32>0,ROUND(AVERAGE('Score Sheet'!$J30:L30),1),ROUND(AVERAGE('Score Sheet'!$I30:L30),1)))","v":"R"},{"$f":"IF('Score Sheet'!M30=\"\",\"R\",IF('Race results'!$C$32>0,ROUND(AVERAGE('Score Sheet'!$J30:M30),1),ROUND(AVERAGE('Score Sheet'!$I30:M30),1)))","v":"R"},{"$f":"IF('Score Sheet'!N30=\"\",\"R\",IF('Race results'!$C$32>0,ROUND(AVERAGE('Score Sheet'!$J30:N30),1),ROUND(AVERAGE('Score Sheet'!$I30:N30),1)))","v":"R"},{"$f":"IF('Score Sheet'!O30=\"\",\"R\",IF('Race results'!$C$32>0,ROUND(AVERAGE('Score Sheet'!$J30:O30),1),ROUND(AVERAGE('Score Sheet'!$I30:O30),1)))","v":"R"},{"$f":"IF('Score Sheet'!P30=\"\",\"R\",IF('Race results'!$C$32>0,ROUND(AVERAGE('Score Sheet'!$J30:P30),1),ROUND(AVERAGE('Score Sheet'!$I30:P30),1)))","v":"R"},{"$f":"IF('Score Sheet'!Q30=\"\",\"R\",IF('Race results'!$C$32>0,ROUND(AVERAGE('Score Sheet'!$J30:Q30),1),ROUND(AVERAGE('Score Sheet'!$I30:Q30),1)))","v":"R"},{"$f":"IF('Score Sheet'!R30=\"\",\"R\",IF('Race results'!$C$32>0,ROUND(AVERAGE('Score Sheet'!$J30:R30),1),ROUND(AVERAGE('Score Sheet'!$I30:R30),1)))","v":"R"},{"$f":"IF('Score Sheet'!S30=\"\",\"R\",IF('Race results'!$C$32>0,ROUND(AVERAGE('Score Sheet'!$J30:S30),1),ROUND(AVERAGE('Score Sheet'!$I30:S30),1)))","v":"R"},{"$f":"IF('Score Sheet'!T30=\"\",\"R\",IF('Race results'!$C$32>0,ROUND(AVERAGE('Score Sheet'!$J30:T30),1),ROUND(AVERAGE('Score Sheet'!$I30:T30),1)))","v":"R"},{"$f":"IF('Score Sheet'!U30=\"\",\"R\",IF('Race results'!$C$32>0,ROUND(AVERAGE('Score Sheet'!$J30:U30),1),ROUND(AVERAGE('Score Sheet'!$I30:U30),1)))","v":"R"},{"$f":"IF('Score Sheet'!V30=\"\",\"R\",IF('Race results'!$C$32>0,ROUND(AVERAGE('Score Sheet'!$J30:V30),1),ROUND(AVERAGE('Score Sheet'!$I30:V30),1)))","v":"R"},{"$f":"IF('Score Sheet'!W30=\"\",\"R\",IF('Race results'!$C$32>0,ROUND(AVERAGE('Score Sheet'!$J30:W30),1),ROUND(AVERAGE('Score Sheet'!$I30:W30),1)))","v":"R"},{"$f":"IF('Score Sheet'!X30=\"\",\"R\",IF('Race results'!$C$32>0,ROUND(AVERAGE('Score Sheet'!$J30:X30),1),ROUND(AVERAGE('Score Sheet'!$I30:X30),1)))","v":"R"},{"$f":"IF('Score Sheet'!Y30=\"\",\"R\",IF('Race results'!$C$32>0,ROUND(AVERAGE('Score Sheet'!$J30:Y30),1),ROUND(AVERAGE('Score Sheet'!$I30:Y30),1)))","v":"R"},{"$f":"IF('Score Sheet'!Z30=\"\",\"R\",IF('Race results'!$C$32>0,ROUND(AVERAGE('Score Sheet'!$J30:Z30),1),ROUND(AVERAGE('Score Sheet'!$I30:Z30),1)))","v":"R"},{"$f":"IF('Score Sheet'!AA30=\"\",\"R\",IF('Race results'!$C$32>0,ROUND(AVERAGE('Score Sheet'!$J30:AA30),1),ROUND(AVERAGE('Score Sheet'!$I30:AA30),1)))","v":"R"},{"$f":"IF('Score Sheet'!AB30=\"\",\"R\",IF('Race results'!$C$32>0,ROUND(AVERAGE('Score Sheet'!$J30:AB30),1),ROUND(AVERAGE('Score Sheet'!$I30:AB30),1)))","v":"R"},{"$f":"IF('Score Sheet'!AC30=\"\",\"R\",IF('Race results'!$C$32>0,ROUND(AVERAGE('Score Sheet'!$J30:AC30),1),ROUND(AVERAGE('Score Sheet'!$I30:AC30),1)))","v":"R"},{"$f":"IF('Score Sheet'!AD30=\"\",\"R\",IF('Race results'!$C$32>0,ROUND(AVERAGE('Score Sheet'!$J30:AD30),1),ROUND(AVERAGE('Score Sheet'!$I30:AD30),1)))","v":"R"},{"$f":"IF('Score Sheet'!AE30=\"\",\"R\",IF('Race results'!$C$32>0,ROUND(AVERAGE('Score Sheet'!$J30:AE30),1),ROUND(AVERAGE('Score Sheet'!$I30:AE30),1)))","v":"R"},{"$f":"IF('Score Sheet'!AF30=\"\",\"R\",IF('Race results'!$C$32>0,ROUND(AVERAGE('Score Sheet'!$J30:AF30),1),ROUND(AVERAGE('Score Sheet'!$I30:AF30),1)))","v":"R"},{"$f":"IF('Score Sheet'!AG30=\"\",\"R\",IF('Race results'!$C$32>0,ROUND(AVERAGE('Score Sheet'!$J30:AG30),1),ROUND(AVERAGE('Score Sheet'!$I30:AG30),1)))","v":"R"},{"$f":"IF('Score Sheet'!AH30=\"\",\"R\",IF('Race results'!$C$32>0,ROUND(AVERAGE('Score Sheet'!$J30:AH30),1),ROUND(AVERAGE('Score Sheet'!$I30:AH30),1)))","v":"R"},{"$f":"IF('Score Sheet'!AI30=\"\",\"R\",IF('Race results'!$C$32>0,ROUND(AVERAGE('Score Sheet'!$J30:AI30),1),ROUND(AVERAGE('Score Sheet'!$I30:AI30),1)))","v":"R"},{"$f":"IF('Score Sheet'!AJ30=\"\",\"R\",IF('Race results'!$C$32>0,ROUND(AVERAGE('Score Sheet'!$J30:AJ30),1),ROUND(AVERAGE('Score Sheet'!$I30:AJ30),1)))","v":"R"},{"$f":"IF('Score Sheet'!AK30=\"\",\"R\",IF('Race results'!$C$32>0,ROUND(AVERAGE('Score Sheet'!$J30:AK30),1),ROUND(AVERAGE('Score Sheet'!$I30:AK30),1)))","v":"R"},{"$f":"IF('Score Sheet'!AL30=\"\",\"R\",IF('Race results'!$C$32>0,ROUND(AVERAGE('Score Sheet'!$J30:AL30),1),ROUND(AVERAGE('Score Sheet'!$I30:AL30),1)))","v":"R"},{"$f":"IF('Score Sheet'!AM30=\"\",\"R\",IF('Race results'!$C$32>0,ROUND(AVERAGE('Score Sheet'!$J30:AM30),1),ROUND(AVERAGE('Score Sheet'!$I30:AM30),1)))","v":"R"},{"$f":"IF('Score Sheet'!AN30=\"\",\"R\",IF('Race results'!$C$32>0,ROUND(AVERAGE('Score Sheet'!$J30:AN30),1),ROUND(AVERAGE('Score Sheet'!$I30:AN30),1)))","v":"R"},{"$f":"IF('Score Sheet'!AO30=\"\",\"R\",IF('Race results'!$C$32>0,ROUND(AVERAGE('Score Sheet'!$J30:AO30),1),ROUND(AVERAGE('Score Sheet'!$I30:AO30),1)))","v":"R"},{"$f":"IF('Score Sheet'!AP30=\"\",\"R\",IF('Race results'!$C$32>0,ROUND(AVERAGE('Score Sheet'!$J30:AP30),1),ROUND(AVERAGE('Score Sheet'!$I30:AP30),1)))","v":"R"},{"$f":"IF('Score Sheet'!AQ30=\"\",\"R\",IF('Race results'!$C$32>0,ROUND(AVERAGE('Score Sheet'!$J30:AQ30),1),ROUND(AVERAGE('Score Sheet'!$I30:AQ30),1)))","v":"R"},{"$f":"IF('Score Sheet'!AR30=\"\",\"R\",IF('Race results'!$C$32>0,ROUND(AVERAGE('Score Sheet'!$J30:AR30),1),ROUND(AVERAGE('Score Sheet'!$I30:AR30),1)))","v":"R"},{"$f":"IF('Score Sheet'!AS30=\"\",\"R\",IF('Race results'!$C$32>0,ROUND(AVERAGE('Score Sheet'!$J30:AS30),1),ROUND(AVERAGE('Score Sheet'!$I30:AS30),1)))","v":"R"},{"$f":"IF('Score Sheet'!AT30=\"\",\"R\",IF('Race results'!$C$32>0,ROUND(AVERAGE('Score Sheet'!$J30:AT30),1),ROUND(AVERAGE('Score Sheet'!$I30:AT30),1)))","v":"R"},{"$f":"IF('Score Sheet'!AU30=\"\",\"R\",IF('Race results'!$C$32>0,ROUND(AVERAGE('Score Sheet'!$J30:AU30),1),ROUND(AVERAGE('Score Sheet'!$I30:AU30),1)))","v":"R"},{"$f":"IF('Score Sheet'!AV30=\"\",\"R\",IF('Race results'!$C$32>0,ROUND(AVERAGE('Score Sheet'!$J30:AV30),1),ROUND(AVERAGE('Score Sheet'!$I30:AV30),1)))","v":"R"},null,"",{"$f":"IF(C30=\"\",\"\",IF('Race results'!$C$7<1, \"E\", IF('Race results'!$C$32>0,IF(COUNT(AY30:CL30)<1,\"R\",ROUND(AVERAGE(AY30:CL30),1)),IF(COUNT(AX30:CL30)<1,\"R\",ROUND(AVERAGE(AX30:CL30),1)))))","v":""},null,null,"","","","","","","","","","","","","","","","","","","","","","","","","","","","","","","","","","","","","","","","",""]
[null,22,{"$f":"IF('Score Sheet'!C31=\"\",\"\",'Score Sheet'!C31)","v":""},{"$f":"'Race results'!$F$159","v":"DAFT!"},{"$f":"'Race results'!$F$159","v":"DAFT!"},{"$f":"IF('Score Sheet'!J31=\"\",\"R\",IF('Race results'!$C$32>0,'Race results'!$F$159,ROUND(AVERAGE('Score Sheet'!$I31:J31),1)))","v":"R"},{"$f":"IF('Score Sheet'!K31=\"\",\"R\",IF('Race results'!$C$32>0,ROUND(AVERAGE('Score Sheet'!$J31:K31),1),ROUND(AVERAGE('Score Sheet'!$I31:K31),1)))","v":"R"},{"$f":"IF('Score Sheet'!L31=\"\",\"R\",IF('Race results'!$C$32>0,ROUND(AVERAGE('Score Sheet'!$J31:L31),1),ROUND(AVERAGE('Score Sheet'!$I31:L31),1)))","v":"R"},{"$f":"IF('Score Sheet'!M31=\"\",\"R\",IF('Race results'!$C$32>0,ROUND(AVERAGE('Score Sheet'!$J31:M31),1),ROUND(AVERAGE('Score Sheet'!$I31:M31),1)))","v":"R"},{"$f":"IF('Score Sheet'!N31=\"\",\"R\",IF('Race results'!$C$32>0,ROUND(AVERAGE('Score Sheet'!$J31:N31),1),ROUND(AVERAGE('Score Sheet'!$I31:N31),1)))","v":"R"},{"$f":"IF('Score Sheet'!O31=\"\",\"R\",IF('Race results'!$C$32>0,ROUND(AVERAGE('Score Sheet'!$J31:O31),1),ROUND(AVERAGE('Score Sheet'!$I31:O31),1)))","v":"R"},{"$f":"IF('Score Sheet'!P31=\"\",\"R\",IF('Race results'!$C$32>0,ROUND(AVERAGE('Score Sheet'!$J31:P31),1),ROUND(AVERAGE('Score Sheet'!$I31:P31),1)))","v":"R"},{"$f":"IF('Score Sheet'!Q31=\"\",\"R\",IF('Race results'!$C$32>0,ROUND(AVERAGE('Score Sheet'!$J31:Q31),1),ROUND(AVERAGE('Score Sheet'!$I31:Q31),1)))","v":"R"},{"$f":"IF('Score Sheet'!R31=\"\",\"R\",IF('Race results'!$C$32>0,ROUND(AVERAGE('Score Sheet'!$J31:R31),1),ROUND(AVERAGE('Score Sheet'!$I31:R31),1)))","v":"R"},{"$f":"IF('Score Sheet'!S31=\"\",\"R\",IF('Race results'!$C$32>0,ROUND(AVERAGE('Score Sheet'!$J31:S31),1),ROUND(AVERAGE('Score Sheet'!$I31:S31),1)))","v":"R"},{"$f":"IF('Score Sheet'!T31=\"\",\"R\",IF('Race results'!$C$32>0,ROUND(AVERAGE('Score Sheet'!$J31:T31),1),ROUND(AVERAGE('Score Sheet'!$I31:T31),1)))","v":"R"},{"$f":"IF('Score Sheet'!U31=\"\",\"R\",IF('Race results'!$C$32>0,ROUND(AVERAGE('Score Sheet'!$J31:U31),1),ROUND(AVERAGE('Score Sheet'!$I31:U31),1)))","v":"R"},{"$f":"IF('Score Sheet'!V31=\"\",\"R\",IF('Race results'!$C$32>0,ROUND(AVERAGE('Score Sheet'!$J31:V31),1),ROUND(AVERAGE('Score Sheet'!$I31:V31),1)))","v":"R"},{"$f":"IF('Score Sheet'!W31=\"\",\"R\",IF('Race results'!$C$32>0,ROUND(AVERAGE('Score Sheet'!$J31:W31),1),ROUND(AVERAGE('Score Sheet'!$I31:W31),1)))","v":"R"},{"$f":"IF('Score Sheet'!X31=\"\",\"R\",IF('Race results'!$C$32>0,ROUND(AVERAGE('Score Sheet'!$J31:X31),1),ROUND(AVERAGE('Score Sheet'!$I31:X31),1)))","v":"R"},{"$f":"IF('Score Sheet'!Y31=\"\",\"R\",IF('Race results'!$C$32>0,ROUND(AVERAGE('Score Sheet'!$J31:Y31),1),ROUND(AVERAGE('Score Sheet'!$I31:Y31),1)))","v":"R"},{"$f":"IF('Score Sheet'!Z31=\"\",\"R\",IF('Race results'!$C$32>0,ROUND(AVERAGE('Score Sheet'!$J31:Z31),1),ROUND(AVERAGE('Score Sheet'!$I31:Z31),1)))","v":"R"},{"$f":"IF('Score Sheet'!AA31=\"\",\"R\",IF('Race results'!$C$32>0,ROUND(AVERAGE('Score Sheet'!$J31:AA31),1),ROUND(AVERAGE('Score Sheet'!$I31:AA31),1)))","v":"R"},{"$f":"IF('Score Sheet'!AB31=\"\",\"R\",IF('Race results'!$C$32>0,ROUND(AVERAGE('Score Sheet'!$J31:AB31),1),ROUND(AVERAGE('Score Sheet'!$I31:AB31),1)))","v":"R"},{"$f":"IF('Score Sheet'!AC31=\"\",\"R\",IF('Race results'!$C$32>0,ROUND(AVERAGE('Score Sheet'!$J31:AC31),1),ROUND(AVERAGE('Score Sheet'!$I31:AC31),1)))","v":"R"},{"$f":"IF('Score Sheet'!AD31=\"\",\"R\",IF('Race results'!$C$32>0,ROUND(AVERAGE('Score Sheet'!$J31:AD31),1),ROUND(AVERAGE('Score Sheet'!$I31:AD31),1)))","v":"R"},{"$f":"IF('Score Sheet'!AE31=\"\",\"R\",IF('Race results'!$C$32>0,ROUND(AVERAGE('Score Sheet'!$J31:AE31),1),ROUND(AVERAGE('Score Sheet'!$I31:AE31),1)))","v":"R"},{"$f":"IF('Score Sheet'!AF31=\"\",\"R\",IF('Race results'!$C$32>0,ROUND(AVERAGE('Score Sheet'!$J31:AF31),1),ROUND(AVERAGE('Score Sheet'!$I31:AF31),1)))","v":"R"},{"$f":"IF('Score Sheet'!AG31=\"\",\"R\",IF('Race results'!$C$32>0,ROUND(AVERAGE('Score Sheet'!$J31:AG31),1),ROUND(AVERAGE('Score Sheet'!$I31:AG31),1)))","v":"R"},{"$f":"IF('Score Sheet'!AH31=\"\",\"R\",IF('Race results'!$C$32>0,ROUND(AVERAGE('Score Sheet'!$J31:AH31),1),ROUND(AVERAGE('Score Sheet'!$I31:AH31),1)))","v":"R"},{"$f":"IF('Score Sheet'!AI31=\"\",\"R\",IF('Race results'!$C$32>0,ROUND(AVERAGE('Score Sheet'!$J31:AI31),1),ROUND(AVERAGE('Score Sheet'!$I31:AI31),1)))","v":"R"},{"$f":"IF('Score Sheet'!AJ31=\"\",\"R\",IF('Race results'!$C$32>0,ROUND(AVERAGE('Score Sheet'!$J31:AJ31),1),ROUND(AVERAGE('Score Sheet'!$I31:AJ31),1)))","v":"R"},{"$f":"IF('Score Sheet'!AK31=\"\",\"R\",IF('Race results'!$C$32>0,ROUND(AVERAGE('Score Sheet'!$J31:AK31),1),ROUND(AVERAGE('Score Sheet'!$I31:AK31),1)))","v":"R"},{"$f":"IF('Score Sheet'!AL31=\"\",\"R\",IF('Race results'!$C$32>0,ROUND(AVERAGE('Score Sheet'!$J31:AL31),1),ROUND(AVERAGE('Score Sheet'!$I31:AL31),1)))","v":"R"},{"$f":"IF('Score Sheet'!AM31=\"\",\"R\",IF('Race results'!$C$32>0,ROUND(AVERAGE('Score Sheet'!$J31:AM31),1),ROUND(AVERAGE('Score Sheet'!$I31:AM31),1)))","v":"R"},{"$f":"IF('Score Sheet'!AN31=\"\",\"R\",IF('Race results'!$C$32>0,ROUND(AVERAGE('Score Sheet'!$J31:AN31),1),ROUND(AVERAGE('Score Sheet'!$I31:AN31),1)))","v":"R"},{"$f":"IF('Score Sheet'!AO31=\"\",\"R\",IF('Race results'!$C$32>0,ROUND(AVERAGE('Score Sheet'!$J31:AO31),1),ROUND(AVERAGE('Score Sheet'!$I31:AO31),1)))","v":"R"},{"$f":"IF('Score Sheet'!AP31=\"\",\"R\",IF('Race results'!$C$32>0,ROUND(AVERAGE('Score Sheet'!$J31:AP31),1),ROUND(AVERAGE('Score Sheet'!$I31:AP31),1)))","v":"R"},{"$f":"IF('Score Sheet'!AQ31=\"\",\"R\",IF('Race results'!$C$32>0,ROUND(AVERAGE('Score Sheet'!$J31:AQ31),1),ROUND(AVERAGE('Score Sheet'!$I31:AQ31),1)))","v":"R"},{"$f":"IF('Score Sheet'!AR31=\"\",\"R\",IF('Race results'!$C$32>0,ROUND(AVERAGE('Score Sheet'!$J31:AR31),1),ROUND(AVERAGE('Score Sheet'!$I31:AR31),1)))","v":"R"},{"$f":"IF('Score Sheet'!AS31=\"\",\"R\",IF('Race results'!$C$32>0,ROUND(AVERAGE('Score Sheet'!$J31:AS31),1),ROUND(AVERAGE('Score Sheet'!$I31:AS31),1)))","v":"R"},{"$f":"IF('Score Sheet'!AT31=\"\",\"R\",IF('Race results'!$C$32>0,ROUND(AVERAGE('Score Sheet'!$J31:AT31),1),ROUND(AVERAGE('Score Sheet'!$I31:AT31),1)))","v":"R"},{"$f":"IF('Score Sheet'!AU31=\"\",\"R\",IF('Race results'!$C$32>0,ROUND(AVERAGE('Score Sheet'!$J31:AU31),1),ROUND(AVERAGE('Score Sheet'!$I31:AU31),1)))","v":"R"},{"$f":"IF('Score Sheet'!AV31=\"\",\"R\",IF('Race results'!$C$32>0,ROUND(AVERAGE('Score Sheet'!$J31:AV31),1),ROUND(AVERAGE('Score Sheet'!$I31:AV31),1)))","v":"R"},null,"",{"$f":"IF(C31=\"\",\"\",IF('Race results'!$C$7<1, \"E\", IF('Race results'!$C$32>0,IF(COUNT(AY31:CL31)<1,\"R\",ROUND(AVERAGE(AY31:CL31),1)),IF(COUNT(AX31:CL31)<1,\"R\",ROUND(AVERAGE(AX31:CL31),1)))))","v":""},null,null,"","","","","","","","","","","","","","","","","","","","","","","","","","","","","","","","","","","","","","","","",""]
[null,23,{"$f":"IF('Score Sheet'!C32=\"\",\"\",'Score Sheet'!C32)","v":""},{"$f":"'Race results'!$F$159","v":"DAFT!"},{"$f":"'Race results'!$F$159","v":"DAFT!"},{"$f":"IF('Score Sheet'!J32=\"\",\"R\",IF('Race results'!$C$32>0,'Race results'!$F$159,ROUND(AVERAGE('Score Sheet'!$I32:J32),1)))","v":"R"},{"$f":"IF('Score Sheet'!K32=\"\",\"R\",IF('Race results'!$C$32>0,ROUND(AVERAGE('Score Sheet'!$J32:K32),1),ROUND(AVERAGE('Score Sheet'!$I32:K32),1)))","v":"R"},{"$f":"IF('Score Sheet'!L32=\"\",\"R\",IF('Race results'!$C$32>0,ROUND(AVERAGE('Score Sheet'!$J32:L32),1),ROUND(AVERAGE('Score Sheet'!$I32:L32),1)))","v":"R"},{"$f":"IF('Score Sheet'!M32=\"\",\"R\",IF('Race results'!$C$32>0,ROUND(AVERAGE('Score Sheet'!$J32:M32),1),ROUND(AVERAGE('Score Sheet'!$I32:M32),1)))","v":"R"},{"$f":"IF('Score Sheet'!N32=\"\",\"R\",IF('Race results'!$C$32>0,ROUND(AVERAGE('Score Sheet'!$J32:N32),1),ROUND(AVERAGE('Score Sheet'!$I32:N32),1)))","v":"R"},{"$f":"IF('Score Sheet'!O32=\"\",\"R\",IF('Race results'!$C$32>0,ROUND(AVERAGE('Score Sheet'!$J32:O32),1),ROUND(AVERAGE('Score Sheet'!$I32:O32),1)))","v":"R"},{"$f":"IF('Score Sheet'!P32=\"\",\"R\",IF('Race results'!$C$32>0,ROUND(AVERAGE('Score Sheet'!$J32:P32),1),ROUND(AVERAGE('Score Sheet'!$I32:P32),1)))","v":"R"},{"$f":"IF('Score Sheet'!Q32=\"\",\"R\",IF('Race results'!$C$32>0,ROUND(AVERAGE('Score Sheet'!$J32:Q32),1),ROUND(AVERAGE('Score Sheet'!$I32:Q32),1)))","v":"R"},{"$f":"IF('Score Sheet'!R32=\"\",\"R\",IF('Race results'!$C$32>0,ROUND(AVERAGE('Score Sheet'!$J32:R32),1),ROUND(AVERAGE('Score Sheet'!$I32:R32),1)))","v":"R"},{"$f":"IF('Score Sheet'!S32=\"\",\"R\",IF('Race results'!$C$32>0,ROUND(AVERAGE('Score Sheet'!$J32:S32),1),ROUND(AVERAGE('Score Sheet'!$I32:S32),1)))","v":"R"},{"$f":"IF('Score Sheet'!T32=\"\",\"R\",IF('Race results'!$C$32>0,ROUND(AVERAGE('Score Sheet'!$J32:T32),1),ROUND(AVERAGE('Score Sheet'!$I32:T32),1)))","v":"R"},{"$f":"IF('Score Sheet'!U32=\"\",\"R\",IF('Race results'!$C$32>0,ROUND(AVERAGE('Score Sheet'!$J32:U32),1),ROUND(AVERAGE('Score Sheet'!$I32:U32),1)))","v":"R"},{"$f":"IF('Score Sheet'!V32=\"\",\"R\",IF('Race results'!$C$32>0,ROUND(AVERAGE('Score Sheet'!$J32:V32),1),ROUND(AVERAGE('Score Sheet'!$I32:V32),1)))","v":"R"},{"$f":"IF('Score Sheet'!W32=\"\",\"R\",IF('Race results'!$C$32>0,ROUND(AVERAGE('Score Sheet'!$J32:W32),1),ROUND(AVERAGE('Score Sheet'!$I32:W32),1)))","v":"R"},{"$f":"IF('Score Sheet'!X32=\"\",\"R\",IF('Race results'!$C$32>0,ROUND(AVERAGE('Score Sheet'!$J32:X32),1),ROUND(AVERAGE('Score Sheet'!$I32:X32),1)))","v":"R"},{"$f":"IF('Score Sheet'!Y32=\"\",\"R\",IF('Race results'!$C$32>0,ROUND(AVERAGE('Score Sheet'!$J32:Y32),1),ROUND(AVERAGE('Score Sheet'!$I32:Y32),1)))","v":"R"},{"$f":"IF('Score Sheet'!Z32=\"\",\"R\",IF('Race results'!$C$32>0,ROUND(AVERAGE('Score Sheet'!$J32:Z32),1),ROUND(AVERAGE('Score Sheet'!$I32:Z32),1)))","v":"R"},{"$f":"IF('Score Sheet'!AA32=\"\",\"R\",IF('Race results'!$C$32>0,ROUND(AVERAGE('Score Sheet'!$J32:AA32),1),ROUND(AVERAGE('Score Sheet'!$I32:AA32),1)))","v":"R"},{"$f":"IF('Score Sheet'!AB32=\"\",\"R\",IF('Race results'!$C$32>0,ROUND(AVERAGE('Score Sheet'!$J32:AB32),1),ROUND(AVERAGE('Score Sheet'!$I32:AB32),1)))","v":"R"},{"$f":"IF('Score Sheet'!AC32=\"\",\"R\",IF('Race results'!$C$32>0,ROUND(AVERAGE('Score Sheet'!$J32:AC32),1),ROUND(AVERAGE('Score Sheet'!$I32:AC32),1)))","v":"R"},{"$f":"IF('Score Sheet'!AD32=\"\",\"R\",IF('Race results'!$C$32>0,ROUND(AVERAGE('Score Sheet'!$J32:AD32),1),ROUND(AVERAGE('Score Sheet'!$I32:AD32),1)))","v":"R"},{"$f":"IF('Score Sheet'!AE32=\"\",\"R\",IF('Race results'!$C$32>0,ROUND(AVERAGE('Score Sheet'!$J32:AE32),1),ROUND(AVERAGE('Score Sheet'!$I32:AE32),1)))","v":"R"},{"$f":"IF('Score Sheet'!AF32=\"\",\"R\",IF('Race results'!$C$32>0,ROUND(AVERAGE('Score Sheet'!$J32:AF32),1),ROUND(AVERAGE('Score Sheet'!$I32:AF32),1)))","v":"R"},{"$f":"IF('Score Sheet'!AG32=\"\",\"R\",IF('Race results'!$C$32>0,ROUND(AVERAGE('Score Sheet'!$J32:AG32),1),ROUND(AVERAGE('Score Sheet'!$I32:AG32),1)))","v":"R"},{"$f":"IF('Score Sheet'!AH32=\"\",\"R\",IF('Race results'!$C$32>0,ROUND(AVERAGE('Score Sheet'!$J32:AH32),1),ROUND(AVERAGE('Score Sheet'!$I32:AH32),1)))","v":"R"},{"$f":"IF('Score Sheet'!AI32=\"\",\"R\",IF('Race results'!$C$32>0,ROUND(AVERAGE('Score Sheet'!$J32:AI32),1),ROUND(AVERAGE('Score Sheet'!$I32:AI32),1)))","v":"R"},{"$f":"IF('Score Sheet'!AJ32=\"\",\"R\",IF('Race results'!$C$32>0,ROUND(AVERAGE('Score Sheet'!$J32:AJ32),1),ROUND(AVERAGE('Score Sheet'!$I32:AJ32),1)))","v":"R"},{"$f":"IF('Score Sheet'!AK32=\"\",\"R\",IF('Race results'!$C$32>0,ROUND(AVERAGE('Score Sheet'!$J32:AK32),1),ROUND(AVERAGE('Score Sheet'!$I32:AK32),1)))","v":"R"},{"$f":"IF('Score Sheet'!AL32=\"\",\"R\",IF('Race results'!$C$32>0,ROUND(AVERAGE('Score Sheet'!$J32:AL32),1),ROUND(AVERAGE('Score Sheet'!$I32:AL32),1)))","v":"R"},{"$f":"IF('Score Sheet'!AM32=\"\",\"R\",IF('Race results'!$C$32>0,ROUND(AVERAGE('Score Sheet'!$J32:AM32),1),ROUND(AVERAGE('Score Sheet'!$I32:AM32),1)))","v":"R"},{"$f":"IF('Score Sheet'!AN32=\"\",\"R\",IF('Race results'!$C$32>0,ROUND(AVERAGE('Score Sheet'!$J32:AN32),1),ROUND(AVERAGE('Score Sheet'!$I32:AN32),1)))","v":"R"},{"$f":"IF('Score Sheet'!AO32=\"\",\"R\",IF('Race results'!$C$32>0,ROUND(AVERAGE('Score Sheet'!$J32:AO32),1),ROUND(AVERAGE('Score Sheet'!$I32:AO32),1)))","v":"R"},{"$f":"IF('Score Sheet'!AP32=\"\",\"R\",IF('Race results'!$C$32>0,ROUND(AVERAGE('Score Sheet'!$J32:AP32),1),ROUND(AVERAGE('Score Sheet'!$I32:AP32),1)))","v":"R"},{"$f":"IF('Score Sheet'!AQ32=\"\",\"R\",IF('Race results'!$C$32>0,ROUND(AVERAGE('Score Sheet'!$J32:AQ32),1),ROUND(AVERAGE('Score Sheet'!$I32:AQ32),1)))","v":"R"},{"$f":"IF('Score Sheet'!AR32=\"\",\"R\",IF('Race results'!$C$32>0,ROUND(AVERAGE('Score Sheet'!$J32:AR32),1),ROUND(AVERAGE('Score Sheet'!$I32:AR32),1)))","v":"R"},{"$f":"IF('Score Sheet'!AS32=\"\",\"R\",IF('Race results'!$C$32>0,ROUND(AVERAGE('Score Sheet'!$J32:AS32),1),ROUND(AVERAGE('Score Sheet'!$I32:AS32),1)))","v":"R"},{"$f":"IF('Score Sheet'!AT32=\"\",\"R\",IF('Race results'!$C$32>0,ROUND(AVERAGE('Score Sheet'!$J32:AT32),1),ROUND(AVERAGE('Score Sheet'!$I32:AT32),1)))","v":"R"},{"$f":"IF('Score Sheet'!AU32=\"\",\"R\",IF('Race results'!$C$32>0,ROUND(AVERAGE('Score Sheet'!$J32:AU32),1),ROUND(AVERAGE('Score Sheet'!$I32:AU32),1)))","v":"R"},{"$f":"IF('Score Sheet'!AV32=\"\",\"R\",IF('Race results'!$C$32>0,ROUND(AVERAGE('Score Sheet'!$J32:AV32),1),ROUND(AVERAGE('Score Sheet'!$I32:AV32),1)))","v":"R"},null,"",{"$f":"IF(C32=\"\",\"\",IF('Race results'!$C$7<1, \"E\", IF('Race results'!$C$32>0,IF(COUNT(AY32:CL32)<1,\"R\",ROUND(AVERAGE(AY32:CL32),1)),IF(COUNT(AX32:CL32)<1,\"R\",ROUND(AVERAGE(AX32:CL32),1)))))","v":""},null,null,"","","","","","","","","","","","","","","","","","","","","","","","","","","","","","","","","","","","","","","","",""]
[null,24,{"$f":"IF('Score Sheet'!C33=\"\",\"\",'Score Sheet'!C33)","v":""},{"$f":"'Race results'!$F$159","v":"DAFT!"},{"$f":"'Race results'!$F$159","v":"DAFT!"},{"$f":"IF('Score Sheet'!J33=\"\",\"R\",IF('Race results'!$C$32>0,'Race results'!$F$159,ROUND(AVERAGE('Score Sheet'!$I33:J33),1)))","v":"R"},{"$f":"IF('Score Sheet'!K33=\"\",\"R\",IF('Race results'!$C$32>0,ROUND(AVERAGE('Score Sheet'!$J33:K33),1),ROUND(AVERAGE('Score Sheet'!$I33:K33),1)))","v":"R"},{"$f":"IF('Score Sheet'!L33=\"\",\"R\",IF('Race results'!$C$32>0,ROUND(AVERAGE('Score Sheet'!$J33:L33),1),ROUND(AVERAGE('Score Sheet'!$I33:L33),1)))","v":"R"},{"$f":"IF('Score Sheet'!M33=\"\",\"R\",IF('Race results'!$C$32>0,ROUND(AVERAGE('Score Sheet'!$J33:M33),1),ROUND(AVERAGE('Score Sheet'!$I33:M33),1)))","v":"R"},{"$f":"IF('Score Sheet'!N33=\"\",\"R\",IF('Race results'!$C$32>0,ROUND(AVERAGE('Score Sheet'!$J33:N33),1),ROUND(AVERAGE('Score Sheet'!$I33:N33),1)))","v":"R"},{"$f":"IF('Score Sheet'!O33=\"\",\"R\",IF('Race results'!$C$32>0,ROUND(AVERAGE('Score Sheet'!$J33:O33),1),ROUND(AVERAGE('Score Sheet'!$I33:O33),1)))","v":"R"},{"$f":"IF('Score Sheet'!P33=\"\",\"R\",IF('Race results'!$C$32>0,ROUND(AVERAGE('Score Sheet'!$J33:P33),1),ROUND(AVERAGE('Score Sheet'!$I33:P33),1)))","v":"R"},{"$f":"IF('Score Sheet'!Q33=\"\",\"R\",IF('Race results'!$C$32>0,ROUND(AVERAGE('Score Sheet'!$J33:Q33),1),ROUND(AVERAGE('Score Sheet'!$I33:Q33),1)))","v":"R"},{"$f":"IF('Score Sheet'!R33=\"\",\"R\",IF('Race results'!$C$32>0,ROUND(AVERAGE('Score Sheet'!$J33:R33),1),ROUND(AVERAGE('Score Sheet'!$I33:R33),1)))","v":"R"},{"$f":"IF('Score Sheet'!S33=\"\",\"R\",IF('Race results'!$C$32>0,ROUND(AVERAGE('Score Sheet'!$J33:S33),1),ROUND(AVERAGE('Score Sheet'!$I33:S33),1)))","v":"R"},{"$f":"IF('Score Sheet'!T33=\"\",\"R\",IF('Race results'!$C$32>0,ROUND(AVERAGE('Score Sheet'!$J33:T33),1),ROUND(AVERAGE('Score Sheet'!$I33:T33),1)))","v":"R"},{"$f":"IF('Score Sheet'!U33=\"\",\"R\",IF('Race results'!$C$32>0,ROUND(AVERAGE('Score Sheet'!$J33:U33),1),ROUND(AVERAGE('Score Sheet'!$I33:U33),1)))","v":"R"},{"$f":"IF('Score Sheet'!V33=\"\",\"R\",IF('Race results'!$C$32>0,ROUND(AVERAGE('Score Sheet'!$J33:V33),1),ROUND(AVERAGE('Score Sheet'!$I33:V33),1)))","v":"R"},{"$f":"IF('Score Sheet'!W33=\"\",\"R\",IF('Race results'!$C$32>0,ROUND(AVERAGE('Score Sheet'!$J33:W33),1),ROUND(AVERAGE('Score Sheet'!$I33:W33),1)))","v":"R"},{"$f":"IF('Score Sheet'!X33=\"\",\"R\",IF('Race results'!$C$32>0,ROUND(AVERAGE('Score Sheet'!$J33:X33),1),ROUND(AVERAGE('Score Sheet'!$I33:X33),1)))","v":"R"},{"$f":"IF('Score Sheet'!Y33=\"\",\"R\",IF('Race results'!$C$32>0,ROUND(AVERAGE('Score Sheet'!$J33:Y33),1),ROUND(AVERAGE('Score Sheet'!$I33:Y33),1)))","v":"R"},{"$f":"IF('Score Sheet'!Z33=\"\",\"R\",IF('Race results'!$C$32>0,ROUND(AVERAGE('Score Sheet'!$J33:Z33),1),ROUND(AVERAGE('Score Sheet'!$I33:Z33),1)))","v":"R"},{"$f":"IF('Score Sheet'!AA33=\"\",\"R\",IF('Race results'!$C$32>0,ROUND(AVERAGE('Score Sheet'!$J33:AA33),1),ROUND(AVERAGE('Score Sheet'!$I33:AA33),1)))","v":"R"},{"$f":"IF('Score Sheet'!AB33=\"\",\"R\",IF('Race results'!$C$32>0,ROUND(AVERAGE('Score Sheet'!$J33:AB33),1),ROUND(AVERAGE('Score Sheet'!$I33:AB33),1)))","v":"R"},{"$f":"IF('Score Sheet'!AC33=\"\",\"R\",IF('Race results'!$C$32>0,ROUND(AVERAGE('Score Sheet'!$J33:AC33),1),ROUND(AVERAGE('Score Sheet'!$I33:AC33),1)))","v":"R"},{"$f":"IF('Score Sheet'!AD33=\"\",\"R\",IF('Race results'!$C$32>0,ROUND(AVERAGE('Score Sheet'!$J33:AD33),1),ROUND(AVERAGE('Score Sheet'!$I33:AD33),1)))","v":"R"},{"$f":"IF('Score Sheet'!AE33=\"\",\"R\",IF('Race results'!$C$32>0,ROUND(AVERAGE('Score Sheet'!$J33:AE33),1),ROUND(AVERAGE('Score Sheet'!$I33:AE33),1)))","v":"R"},{"$f":"IF('Score Sheet'!AF33=\"\",\"R\",IF('Race results'!$C$32>0,ROUND(AVERAGE('Score Sheet'!$J33:AF33),1),ROUND(AVERAGE('Score Sheet'!$I33:AF33),1)))","v":"R"},{"$f":"IF('Score Sheet'!AG33=\"\",\"R\",IF('Race results'!$C$32>0,ROUND(AVERAGE('Score Sheet'!$J33:AG33),1),ROUND(AVERAGE('Score Sheet'!$I33:AG33),1)))","v":"R"},{"$f":"IF('Score Sheet'!AH33=\"\",\"R\",IF('Race results'!$C$32>0,ROUND(AVERAGE('Score Sheet'!$J33:AH33),1),ROUND(AVERAGE('Score Sheet'!$I33:AH33),1)))","v":"R"},{"$f":"IF('Score Sheet'!AI33=\"\",\"R\",IF('Race results'!$C$32>0,ROUND(AVERAGE('Score Sheet'!$J33:AI33),1),ROUND(AVERAGE('Score Sheet'!$I33:AI33),1)))","v":"R"},{"$f":"IF('Score Sheet'!AJ33=\"\",\"R\",IF('Race results'!$C$32>0,ROUND(AVERAGE('Score Sheet'!$J33:AJ33),1),ROUND(AVERAGE('Score Sheet'!$I33:AJ33),1)))","v":"R"},{"$f":"IF('Score Sheet'!AK33=\"\",\"R\",IF('Race results'!$C$32>0,ROUND(AVERAGE('Score Sheet'!$J33:AK33),1),ROUND(AVERAGE('Score Sheet'!$I33:AK33),1)))","v":"R"},{"$f":"IF('Score Sheet'!AL33=\"\",\"R\",IF('Race results'!$C$32>0,ROUND(AVERAGE('Score Sheet'!$J33:AL33),1),ROUND(AVERAGE('Score Sheet'!$I33:AL33),1)))","v":"R"},{"$f":"IF('Score Sheet'!AM33=\"\",\"R\",IF('Race results'!$C$32>0,ROUND(AVERAGE('Score Sheet'!$J33:AM33),1),ROUND(AVERAGE('Score Sheet'!$I33:AM33),1)))","v":"R"},{"$f":"IF('Score Sheet'!AN33=\"\",\"R\",IF('Race results'!$C$32>0,ROUND(AVERAGE('Score Sheet'!$J33:AN33),1),ROUND(AVERAGE('Score Sheet'!$I33:AN33),1)))","v":"R"},{"$f":"IF('Score Sheet'!AO33=\"\",\"R\",IF('Race results'!$C$32>0,ROUND(AVERAGE('Score Sheet'!$J33:AO33),1),ROUND(AVERAGE('Score Sheet'!$I33:AO33),1)))","v":"R"},{"$f":"IF('Score Sheet'!AP33=\"\",\"R\",IF('Race results'!$C$32>0,ROUND(AVERAGE('Score Sheet'!$J33:AP33),1),ROUND(AVERAGE('Score Sheet'!$I33:AP33),1)))","v":"R"},{"$f":"IF('Score Sheet'!AQ33=\"\",\"R\",IF('Race results'!$C$32>0,ROUND(AVERAGE('Score Sheet'!$J33:AQ33),1),ROUND(AVERAGE('Score Sheet'!$I33:AQ33),1)))","v":"R"},{"$f":"IF('Score Sheet'!AR33=\"\",\"R\",IF('Race results'!$C$32>0,ROUND(AVERAGE('Score Sheet'!$J33:AR33),1),ROUND(AVERAGE('Score Sheet'!$I33:AR33),1)))","v":"R"},{"$f":"IF('Score Sheet'!AS33=\"\",\"R\",IF('Race results'!$C$32>0,ROUND(AVERAGE('Score Sheet'!$J33:AS33),1),ROUND(AVERAGE('Score Sheet'!$I33:AS33),1)))","v":"R"},{"$f":"IF('Score Sheet'!AT33=\"\",\"R\",IF('Race results'!$C$32>0,ROUND(AVERAGE('Score Sheet'!$J33:AT33),1),ROUND(AVERAGE('Score Sheet'!$I33:AT33),1)))","v":"R"},{"$f":"IF('Score Sheet'!AU33=\"\",\"R\",IF('Race results'!$C$32>0,ROUND(AVERAGE('Score Sheet'!$J33:AU33),1),ROUND(AVERAGE('Score Sheet'!$I33:AU33),1)))","v":"R"},{"$f":"IF('Score Sheet'!AV33=\"\",\"R\",IF('Race results'!$C$32>0,ROUND(AVERAGE('Score Sheet'!$J33:AV33),1),ROUND(AVERAGE('Score Sheet'!$I33:AV33),1)))","v":"R"},null,"",{"$f":"IF(C33=\"\",\"\",IF('Race results'!$C$7<1, \"E\", IF('Race results'!$C$32>0,IF(COUNT(AY33:CL33)<1,\"R\",ROUND(AVERAGE(AY33:CL33),1)),IF(COUNT(AX33:CL33)<1,\"R\",ROUND(AVERAGE(AX33:CL33),1)))))","v":""},null,null,"","","","","","","","","","","","","","","","","","","","","","","","","","","","","","","","","","","","","","","","",""]
[null,25,{"$f":"IF('Score Sheet'!C34=\"\",\"\",'Score Sheet'!C34)","v":""},{"$f":"'Race results'!$F$159","v":"DAFT!"},{"$f":"'Race results'!$F$159","v":"DAFT!"},{"$f":"IF('Score Sheet'!J34=\"\",\"R\",IF('Race results'!$C$32>0,'Race results'!$F$159,ROUND(AVERAGE('Score Sheet'!$I34:J34),1)))","v":"R"},{"$f":"IF('Score Sheet'!K34=\"\",\"R\",IF('Race results'!$C$32>0,ROUND(AVERAGE('Score Sheet'!$J34:K34),1),ROUND(AVERAGE('Score Sheet'!$I34:K34),1)))","v":"R"},{"$f":"IF('Score Sheet'!L34=\"\",\"R\",IF('Race results'!$C$32>0,ROUND(AVERAGE('Score Sheet'!$J34:L34),1),ROUND(AVERAGE('Score Sheet'!$I34:L34),1)))","v":"R"},{"$f":"IF('Score Sheet'!M34=\"\",\"R\",IF('Race results'!$C$32>0,ROUND(AVERAGE('Score Sheet'!$J34:M34),1),ROUND(AVERAGE('Score Sheet'!$I34:M34),1)))","v":"R"},{"$f":"IF('Score Sheet'!N34=\"\",\"R\",IF('Race results'!$C$32>0,ROUND(AVERAGE('Score Sheet'!$J34:N34),1),ROUND(AVERAGE('Score Sheet'!$I34:N34),1)))","v":"R"},{"$f":"IF('Score Sheet'!O34=\"\",\"R\",IF('Race results'!$C$32>0,ROUND(AVERAGE('Score Sheet'!$J34:O34),1),ROUND(AVERAGE('Score Sheet'!$I34:O34),1)))","v":"R"},{"$f":"IF('Score Sheet'!P34=\"\",\"R\",IF('Race results'!$C$32>0,ROUND(AVERAGE('Score Sheet'!$J34:P34),1),ROUND(AVERAGE('Score Sheet'!$I34:P34),1)))","v":"R"},{"$f":"IF('Score Sheet'!Q34=\"\",\"R\",IF('Race results'!$C$32>0,ROUND(AVERAGE('Score Sheet'!$J34:Q34),1),ROUND(AVERAGE('Score Sheet'!$I34:Q34),1)))","v":"R"},{"$f":"IF('Score Sheet'!R34=\"\",\"R\",IF('Race results'!$C$32>0,ROUND(AVERAGE('Score Sheet'!$J34:R34),1),ROUND(AVERAGE('Score Sheet'!$I34:R34),1)))","v":"R"},{"$f":"IF('Score Sheet'!S34=\"\",\"R\",IF('Race results'!$C$32>0,ROUND(AVERAGE('Score Sheet'!$J34:S34),1),ROUND(AVERAGE('Score Sheet'!$I34:S34),1)))","v":"R"},{"$f":"IF('Score Sheet'!T34=\"\",\"R\",IF('Race results'!$C$32>0,ROUND(AVERAGE('Score Sheet'!$J34:T34),1),ROUND(AVERAGE('Score Sheet'!$I34:T34),1)))","v":"R"},{"$f":"IF('Score Sheet'!U34=\"\",\"R\",IF('Race results'!$C$32>0,ROUND(AVERAGE('Score Sheet'!$J34:U34),1),ROUND(AVERAGE('Score Sheet'!$I34:U34),1)))","v":"R"},{"$f":"IF('Score Sheet'!V34=\"\",\"R\",IF('Race results'!$C$32>0,ROUND(AVERAGE('Score Sheet'!$J34:V34),1),ROUND(AVERAGE('Score Sheet'!$I34:V34),1)))","v":"R"},{"$f":"IF('Score Sheet'!W34=\"\",\"R\",IF('Race results'!$C$32>0,ROUND(AVERAGE('Score Sheet'!$J34:W34),1),ROUND(AVERAGE('Score Sheet'!$I34:W34),1)))","v":"R"},{"$f":"IF('Score Sheet'!X34=\"\",\"R\",IF('Race results'!$C$32>0,ROUND(AVERAGE('Score Sheet'!$J34:X34),1),ROUND(AVERAGE('Score Sheet'!$I34:X34),1)))","v":"R"},{"$f":"IF('Score Sheet'!Y34=\"\",\"R\",IF('Race results'!$C$32>0,ROUND(AVERAGE('Score Sheet'!$J34:Y34),1),ROUND(AVERAGE('Score Sheet'!$I34:Y34),1)))","v":"R"},{"$f":"IF('Score Sheet'!Z34=\"\",\"R\",IF('Race results'!$C$32>0,ROUND(AVERAGE('Score Sheet'!$J34:Z34),1),ROUND(AVERAGE('Score Sheet'!$I34:Z34),1)))","v":"R"},{"$f":"IF('Score Sheet'!AA34=\"\",\"R\",IF('Race results'!$C$32>0,ROUND(AVERAGE('Score Sheet'!$J34:AA34),1),ROUND(AVERAGE('Score Sheet'!$I34:AA34),1)))","v":"R"},{"$f":"IF('Score Sheet'!AB34=\"\",\"R\",IF('Race results'!$C$32>0,ROUND(AVERAGE('Score Sheet'!$J34:AB34),1),ROUND(AVERAGE('Score Sheet'!$I34:AB34),1)))","v":"R"},{"$f":"IF('Score Sheet'!AC34=\"\",\"R\",IF('Race results'!$C$32>0,ROUND(AVERAGE('Score Sheet'!$J34:AC34),1),ROUND(AVERAGE('Score Sheet'!$I34:AC34),1)))","v":"R"},{"$f":"IF('Score Sheet'!AD34=\"\",\"R\",IF('Race results'!$C$32>0,ROUND(AVERAGE('Score Sheet'!$J34:AD34),1),ROUND(AVERAGE('Score Sheet'!$I34:AD34),1)))","v":"R"},{"$f":"IF('Score Sheet'!AE34=\"\",\"R\",IF('Race results'!$C$32>0,ROUND(AVERAGE('Score Sheet'!$J34:AE34),1),ROUND(AVERAGE('Score Sheet'!$I34:AE34),1)))","v":"R"},{"$f":"IF('Score Sheet'!AF34=\"\",\"R\",IF('Race results'!$C$32>0,ROUND(AVERAGE('Score Sheet'!$J34:AF34),1),ROUND(AVERAGE('Score Sheet'!$I34:AF34),1)))","v":"R"},{"$f":"IF('Score Sheet'!AG34=\"\",\"R\",IF('Race results'!$C$32>0,ROUND(AVERAGE('Score Sheet'!$J34:AG34),1),ROUND(AVERAGE('Score Sheet'!$I34:AG34),1)))","v":"R"},{"$f":"IF('Score Sheet'!AH34=\"\",\"R\",IF('Race results'!$C$32>0,ROUND(AVERAGE('Score Sheet'!$J34:AH34),1),ROUND(AVERAGE('Score Sheet'!$I34:AH34),1)))","v":"R"},{"$f":"IF('Score Sheet'!AI34=\"\",\"R\",IF('Race results'!$C$32>0,ROUND(AVERAGE('Score Sheet'!$J34:AI34),1),ROUND(AVERAGE('Score Sheet'!$I34:AI34),1)))","v":"R"},{"$f":"IF('Score Sheet'!AJ34=\"\",\"R\",IF('Race results'!$C$32>0,ROUND(AVERAGE('Score Sheet'!$J34:AJ34),1),ROUND(AVERAGE('Score Sheet'!$I34:AJ34),1)))","v":"R"},{"$f":"IF('Score Sheet'!AK34=\"\",\"R\",IF('Race results'!$C$32>0,ROUND(AVERAGE('Score Sheet'!$J34:AK34),1),ROUND(AVERAGE('Score Sheet'!$I34:AK34),1)))","v":"R"},{"$f":"IF('Score Sheet'!AL34=\"\",\"R\",IF('Race results'!$C$32>0,ROUND(AVERAGE('Score Sheet'!$J34:AL34),1),ROUND(AVERAGE('Score Sheet'!$I34:AL34),1)))","v":"R"},{"$f":"IF('Score Sheet'!AM34=\"\",\"R\",IF('Race results'!$C$32>0,ROUND(AVERAGE('Score Sheet'!$J34:AM34),1),ROUND(AVERAGE('Score Sheet'!$I34:AM34),1)))","v":"R"},{"$f":"IF('Score Sheet'!AN34=\"\",\"R\",IF('Race results'!$C$32>0,ROUND(AVERAGE('Score Sheet'!$J34:AN34),1),ROUND(AVERAGE('Score Sheet'!$I34:AN34),1)))","v":"R"},{"$f":"IF('Score Sheet'!AO34=\"\",\"R\",IF('Race results'!$C$32>0,ROUND(AVERAGE('Score Sheet'!$J34:AO34),1),ROUND(AVERAGE('Score Sheet'!$I34:AO34),1)))","v":"R"},{"$f":"IF('Score Sheet'!AP34=\"\",\"R\",IF('Race results'!$C$32>0,ROUND(AVERAGE('Score Sheet'!$J34:AP34),1),ROUND(AVERAGE('Score Sheet'!$I34:AP34),1)))","v":"R"},{"$f":"IF('Score Sheet'!AQ34=\"\",\"R\",IF('Race results'!$C$32>0,ROUND(AVERAGE('Score Sheet'!$J34:AQ34),1),ROUND(AVERAGE('Score Sheet'!$I34:AQ34),1)))","v":"R"},{"$f":"IF('Score Sheet'!AR34=\"\",\"R\",IF('Race results'!$C$32>0,ROUND(AVERAGE('Score Sheet'!$J34:AR34),1),ROUND(AVERAGE('Score Sheet'!$I34:AR34),1)))","v":"R"},{"$f":"IF('Score Sheet'!AS34=\"\",\"R\",IF('Race results'!$C$32>0,ROUND(AVERAGE('Score Sheet'!$J34:AS34),1),ROUND(AVERAGE('Score Sheet'!$I34:AS34),1)))","v":"R"},{"$f":"IF('Score Sheet'!AT34=\"\",\"R\",IF('Race results'!$C$32>0,ROUND(AVERAGE('Score Sheet'!$J34:AT34),1),ROUND(AVERAGE('Score Sheet'!$I34:AT34),1)))","v":"R"},{"$f":"IF('Score Sheet'!AU34=\"\",\"R\",IF('Race results'!$C$32>0,ROUND(AVERAGE('Score Sheet'!$J34:AU34),1),ROUND(AVERAGE('Score Sheet'!$I34:AU34),1)))","v":"R"},{"$f":"IF('Score Sheet'!AV34=\"\",\"R\",IF('Race results'!$C$32>0,ROUND(AVERAGE('Score Sheet'!$J34:AV34),1),ROUND(AVERAGE('Score Sheet'!$I34:AV34),1)))","v":"R"},null,"",{"$f":"IF(C34=\"\",\"\",IF('Race results'!$C$7<1, \"E\", IF('Race results'!$C$32>0,IF(COUNT(AY34:CL34)<1,\"R\",ROUND(AVERAGE(AY34:CL34),1)),IF(COUNT(AX34:CL34)<1,\"R\",ROUND(AVERAGE(AX34:CL34),1)))))","v":""},null,null,"","","","","","","","","","","","","","","","","","","","","","","","","","","","","","","","","","","","","","","","",""]
[null,26,{"$f":"IF('Score Sheet'!C35=\"\",\"\",'Score Sheet'!C35)","v":""},{"$f":"'Race results'!$F$159","v":"DAFT!"},{"$f":"'Race results'!$F$159","v":"DAFT!"},{"$f":"IF('Score Sheet'!J35=\"\",\"R\",IF('Race results'!$C$32>0,'Race results'!$F$159,ROUND(AVERAGE('Score Sheet'!$I35:J35),1)))","v":"R"},{"$f":"IF('Score Sheet'!K35=\"\",\"R\",IF('Race results'!$C$32>0,ROUND(AVERAGE('Score Sheet'!$J35:K35),1),ROUND(AVERAGE('Score Sheet'!$I35:K35),1)))","v":"R"},{"$f":"IF('Score Sheet'!L35=\"\",\"R\",IF('Race results'!$C$32>0,ROUND(AVERAGE('Score Sheet'!$J35:L35),1),ROUND(AVERAGE('Score Sheet'!$I35:L35),1)))","v":"R"},{"$f":"IF('Score Sheet'!M35=\"\",\"R\",IF('Race results'!$C$32>0,ROUND(AVERAGE('Score Sheet'!$J35:M35),1),ROUND(AVERAGE('Score Sheet'!$I35:M35),1)))","v":"R"},{"$f":"IF('Score Sheet'!N35=\"\",\"R\",IF('Race results'!$C$32>0,ROUND(AVERAGE('Score Sheet'!$J35:N35),1),ROUND(AVERAGE('Score Sheet'!$I35:N35),1)))","v":"R"},{"$f":"IF('Score Sheet'!O35=\"\",\"R\",IF('Race results'!$C$32>0,ROUND(AVERAGE('Score Sheet'!$J35:O35),1),ROUND(AVERAGE('Score Sheet'!$I35:O35),1)))","v":"R"},{"$f":"IF('Score Sheet'!P35=\"\",\"R\",IF('Race results'!$C$32>0,ROUND(AVERAGE('Score Sheet'!$J35:P35),1),ROUND(AVERAGE('Score Sheet'!$I35:P35),1)))","v":"R"},{"$f":"IF('Score Sheet'!Q35=\"\",\"R\",IF('Race results'!$C$32>0,ROUND(AVERAGE('Score Sheet'!$J35:Q35),1),ROUND(AVERAGE('Score Sheet'!$I35:Q35),1)))","v":"R"},{"$f":"IF('Score Sheet'!R35=\"\",\"R\",IF('Race results'!$C$32>0,ROUND(AVERAGE('Score Sheet'!$J35:R35),1),ROUND(AVERAGE('Score Sheet'!$I35:R35),1)))","v":"R"},{"$f":"IF('Score Sheet'!S35=\"\",\"R\",IF('Race results'!$C$32>0,ROUND(AVERAGE('Score Sheet'!$J35:S35),1),ROUND(AVERAGE('Score Sheet'!$I35:S35),1)))","v":"R"},{"$f":"IF('Score Sheet'!T35=\"\",\"R\",IF('Race results'!$C$32>0,ROUND(AVERAGE('Score Sheet'!$J35:T35),1),ROUND(AVERAGE('Score Sheet'!$I35:T35),1)))","v":"R"},{"$f":"IF('Score Sheet'!U35=\"\",\"R\",IF('Race results'!$C$32>0,ROUND(AVERAGE('Score Sheet'!$J35:U35),1),ROUND(AVERAGE('Score Sheet'!$I35:U35),1)))","v":"R"},{"$f":"IF('Score Sheet'!V35=\"\",\"R\",IF('Race results'!$C$32>0,ROUND(AVERAGE('Score Sheet'!$J35:V35),1),ROUND(AVERAGE('Score Sheet'!$I35:V35),1)))","v":"R"},{"$f":"IF('Score Sheet'!W35=\"\",\"R\",IF('Race results'!$C$32>0,ROUND(AVERAGE('Score Sheet'!$J35:W35),1),ROUND(AVERAGE('Score Sheet'!$I35:W35),1)))","v":"R"},{"$f":"IF('Score Sheet'!X35=\"\",\"R\",IF('Race results'!$C$32>0,ROUND(AVERAGE('Score Sheet'!$J35:X35),1),ROUND(AVERAGE('Score Sheet'!$I35:X35),1)))","v":"R"},{"$f":"IF('Score Sheet'!Y35=\"\",\"R\",IF('Race results'!$C$32>0,ROUND(AVERAGE('Score Sheet'!$J35:Y35),1),ROUND(AVERAGE('Score Sheet'!$I35:Y35),1)))","v":"R"},{"$f":"IF('Score Sheet'!Z35=\"\",\"R\",IF('Race results'!$C$32>0,ROUND(AVERAGE('Score Sheet'!$J35:Z35),1),ROUND(AVERAGE('Score Sheet'!$I35:Z35),1)))","v":"R"},{"$f":"IF('Score Sheet'!AA35=\"\",\"R\",IF('Race results'!$C$32>0,ROUND(AVERAGE('Score Sheet'!$J35:AA35),1),ROUND(AVERAGE('Score Sheet'!$I35:AA35),1)))","v":"R"},{"$f":"IF('Score Sheet'!AB35=\"\",\"R\",IF('Race results'!$C$32>0,ROUND(AVERAGE('Score Sheet'!$J35:AB35),1),ROUND(AVERAGE('Score Sheet'!$I35:AB35),1)))","v":"R"},{"$f":"IF('Score Sheet'!AC35=\"\",\"R\",IF('Race results'!$C$32>0,ROUND(AVERAGE('Score Sheet'!$J35:AC35),1),ROUND(AVERAGE('Score Sheet'!$I35:AC35),1)))","v":"R"},{"$f":"IF('Score Sheet'!AD35=\"\",\"R\",IF('Race results'!$C$32>0,ROUND(AVERAGE('Score Sheet'!$J35:AD35),1),ROUND(AVERAGE('Score Sheet'!$I35:AD35),1)))","v":"R"},{"$f":"IF('Score Sheet'!AE35=\"\",\"R\",IF('Race results'!$C$32>0,ROUND(AVERAGE('Score Sheet'!$J35:AE35),1),ROUND(AVERAGE('Score Sheet'!$I35:AE35),1)))","v":"R"},{"$f":"IF('Score Sheet'!AF35=\"\",\"R\",IF('Race results'!$C$32>0,ROUND(AVERAGE('Score Sheet'!$J35:AF35),1),ROUND(AVERAGE('Score Sheet'!$I35:AF35),1)))","v":"R"},{"$f":"IF('Score Sheet'!AG35=\"\",\"R\",IF('Race results'!$C$32>0,ROUND(AVERAGE('Score Sheet'!$J35:AG35),1),ROUND(AVERAGE('Score Sheet'!$I35:AG35),1)))","v":"R"},{"$f":"IF('Score Sheet'!AH35=\"\",\"R\",IF('Race results'!$C$32>0,ROUND(AVERAGE('Score Sheet'!$J35:AH35),1),ROUND(AVERAGE('Score Sheet'!$I35:AH35),1)))","v":"R"},{"$f":"IF('Score Sheet'!AI35=\"\",\"R\",IF('Race results'!$C$32>0,ROUND(AVERAGE('Score Sheet'!$J35:AI35),1),ROUND(AVERAGE('Score Sheet'!$I35:AI35),1)))","v":"R"},{"$f":"IF('Score Sheet'!AJ35=\"\",\"R\",IF('Race results'!$C$32>0,ROUND(AVERAGE('Score Sheet'!$J35:AJ35),1),ROUND(AVERAGE('Score Sheet'!$I35:AJ35),1)))","v":"R"},{"$f":"IF('Score Sheet'!AK35=\"\",\"R\",IF('Race results'!$C$32>0,ROUND(AVERAGE('Score Sheet'!$J35:AK35),1),ROUND(AVERAGE('Score Sheet'!$I35:AK35),1)))","v":"R"},{"$f":"IF('Score Sheet'!AL35=\"\",\"R\",IF('Race results'!$C$32>0,ROUND(AVERAGE('Score Sheet'!$J35:AL35),1),ROUND(AVERAGE('Score Sheet'!$I35:AL35),1)))","v":"R"},{"$f":"IF('Score Sheet'!AM35=\"\",\"R\",IF('Race results'!$C$32>0,ROUND(AVERAGE('Score Sheet'!$J35:AM35),1),ROUND(AVERAGE('Score Sheet'!$I35:AM35),1)))","v":"R"},{"$f":"IF('Score Sheet'!AN35=\"\",\"R\",IF('Race results'!$C$32>0,ROUND(AVERAGE('Score Sheet'!$J35:AN35),1),ROUND(AVERAGE('Score Sheet'!$I35:AN35),1)))","v":"R"},{"$f":"IF('Score Sheet'!AO35=\"\",\"R\",IF('Race results'!$C$32>0,ROUND(AVERAGE('Score Sheet'!$J35:AO35),1),ROUND(AVERAGE('Score Sheet'!$I35:AO35),1)))","v":"R"},{"$f":"IF('Score Sheet'!AP35=\"\",\"R\",IF('Race results'!$C$32>0,ROUND(AVERAGE('Score Sheet'!$J35:AP35),1),ROUND(AVERAGE('Score Sheet'!$I35:AP35),1)))","v":"R"},{"$f":"IF('Score Sheet'!AQ35=\"\",\"R\",IF('Race results'!$C$32>0,ROUND(AVERAGE('Score Sheet'!$J35:AQ35),1),ROUND(AVERAGE('Score Sheet'!$I35:AQ35),1)))","v":"R"},{"$f":"IF('Score Sheet'!AR35=\"\",\"R\",IF('Race results'!$C$32>0,ROUND(AVERAGE('Score Sheet'!$J35:AR35),1),ROUND(AVERAGE('Score Sheet'!$I35:AR35),1)))","v":"R"},{"$f":"IF('Score Sheet'!AS35=\"\",\"R\",IF('Race results'!$C$32>0,ROUND(AVERAGE('Score Sheet'!$J35:AS35),1),ROUND(AVERAGE('Score Sheet'!$I35:AS35),1)))","v":"R"},{"$f":"IF('Score Sheet'!AT35=\"\",\"R\",IF('Race results'!$C$32>0,ROUND(AVERAGE('Score Sheet'!$J35:AT35),1),ROUND(AVERAGE('Score Sheet'!$I35:AT35),1)))","v":"R"},{"$f":"IF('Score Sheet'!AU35=\"\",\"R\",IF('Race results'!$C$32>0,ROUND(AVERAGE('Score Sheet'!$J35:AU35),1),ROUND(AVERAGE('Score Sheet'!$I35:AU35),1)))","v":"R"},{"$f":"IF('Score Sheet'!AV35=\"\",\"R\",IF('Race results'!$C$32>0,ROUND(AVERAGE('Score Sheet'!$J35:AV35),1),ROUND(AVERAGE('Score Sheet'!$I35:AV35),1)))","v":"R"},null,"",{"$f":"IF(C35=\"\",\"\",IF('Race results'!$C$7<1, \"E\", IF('Race results'!$C$32>0,IF(COUNT(AY35:CL35)<1,\"R\",ROUND(AVERAGE(AY35:CL35),1)),IF(COUNT(AX35:CL35)<1,\"R\",ROUND(AVERAGE(AX35:CL35),1)))))","v":""},null,null,"","","","","","","","","","","","","","","","","","","","","","","","","","","","","","","","","","","","","","","","",""]
[null,27,{"$f":"IF('Score Sheet'!C36=\"\",\"\",'Score Sheet'!C36)","v":""},{"$f":"'Race results'!$F$159","v":"DAFT!"},{"$f":"'Race results'!$F$159","v":"DAFT!"},{"$f":"IF('Score Sheet'!J36=\"\",\"R\",IF('Race results'!$C$32>0,'Race results'!$F$159,ROUND(AVERAGE('Score Sheet'!$I36:J36),1)))","v":"R"},{"$f":"IF('Score Sheet'!K36=\"\",\"R\",IF('Race results'!$C$32>0,ROUND(AVERAGE('Score Sheet'!$J36:K36),1),ROUND(AVERAGE('Score Sheet'!$I36:K36),1)))","v":"R"},{"$f":"IF('Score Sheet'!L36=\"\",\"R\",IF('Race results'!$C$32>0,ROUND(AVERAGE('Score Sheet'!$J36:L36),1),ROUND(AVERAGE('Score Sheet'!$I36:L36),1)))","v":"R"},{"$f":"IF('Score Sheet'!M36=\"\",\"R\",IF('Race results'!$C$32>0,ROUND(AVERAGE('Score Sheet'!$J36:M36),1),ROUND(AVERAGE('Score Sheet'!$I36:M36),1)))","v":"R"},{"$f":"IF('Score Sheet'!N36=\"\",\"R\",IF('Race results'!$C$32>0,ROUND(AVERAGE('Score Sheet'!$J36:N36),1),ROUND(AVERAGE('Score Sheet'!$I36:N36),1)))","v":"R"},{"$f":"IF('Score Sheet'!O36=\"\",\"R\",IF('Race results'!$C$32>0,ROUND(AVERAGE('Score Sheet'!$J36:O36),1),ROUND(AVERAGE('Score Sheet'!$I36:O36),1)))","v":"R"},{"$f":"IF('Score Sheet'!P36=\"\",\"R\",IF('Race results'!$C$32>0,ROUND(AVERAGE('Score Sheet'!$J36:P36),1),ROUND(AVERAGE('Score Sheet'!$I36:P36),1)))","v":"R"},{"$f":"IF('Score Sheet'!Q36=\"\",\"R\",IF('Race results'!$C$32>0,ROUND(AVERAGE('Score Sheet'!$J36:Q36),1),ROUND(AVERAGE('Score Sheet'!$I36:Q36),1)))","v":"R"},{"$f":"IF('Score Sheet'!R36=\"\",\"R\",IF('Race results'!$C$32>0,ROUND(AVERAGE('Score Sheet'!$J36:R36),1),ROUND(AVERAGE('Score Sheet'!$I36:R36),1)))","v":"R"},{"$f":"IF('Score Sheet'!S36=\"\",\"R\",IF('Race results'!$C$32>0,ROUND(AVERAGE('Score Sheet'!$J36:S36),1),ROUND(AVERAGE('Score Sheet'!$I36:S36),1)))","v":"R"},{"$f":"IF('Score Sheet'!T36=\"\",\"R\",IF('Race results'!$C$32>0,ROUND(AVERAGE('Score Sheet'!$J36:T36),1),ROUND(AVERAGE('Score Sheet'!$I36:T36),1)))","v":"R"},{"$f":"IF('Score Sheet'!U36=\"\",\"R\",IF('Race results'!$C$32>0,ROUND(AVERAGE('Score Sheet'!$J36:U36),1),ROUND(AVERAGE('Score Sheet'!$I36:U36),1)))","v":"R"},{"$f":"IF('Score Sheet'!V36=\"\",\"R\",IF('Race results'!$C$32>0,ROUND(AVERAGE('Score Sheet'!$J36:V36),1),ROUND(AVERAGE('Score Sheet'!$I36:V36),1)))","v":"R"},{"$f":"IF('Score Sheet'!W36=\"\",\"R\",IF('Race results'!$C$32>0,ROUND(AVERAGE('Score Sheet'!$J36:W36),1),ROUND(AVERAGE('Score Sheet'!$I36:W36),1)))","v":"R"},{"$f":"IF('Score Sheet'!X36=\"\",\"R\",IF('Race results'!$C$32>0,ROUND(AVERAGE('Score Sheet'!$J36:X36),1),ROUND(AVERAGE('Score Sheet'!$I36:X36),1)))","v":"R"},{"$f":"IF('Score Sheet'!Y36=\"\",\"R\",IF('Race results'!$C$32>0,ROUND(AVERAGE('Score Sheet'!$J36:Y36),1),ROUND(AVERAGE('Score Sheet'!$I36:Y36),1)))","v":"R"},{"$f":"IF('Score Sheet'!Z36=\"\",\"R\",IF('Race results'!$C$32>0,ROUND(AVERAGE('Score Sheet'!$J36:Z36),1),ROUND(AVERAGE('Score Sheet'!$I36:Z36),1)))","v":"R"},{"$f":"IF('Score Sheet'!AA36=\"\",\"R\",IF('Race results'!$C$32>0,ROUND(AVERAGE('Score Sheet'!$J36:AA36),1),ROUND(AVERAGE('Score Sheet'!$I36:AA36),1)))","v":"R"},{"$f":"IF('Score Sheet'!AB36=\"\",\"R\",IF('Race results'!$C$32>0,ROUND(AVERAGE('Score Sheet'!$J36:AB36),1),ROUND(AVERAGE('Score Sheet'!$I36:AB36),1)))","v":"R"},{"$f":"IF('Score Sheet'!AC36=\"\",\"R\",IF('Race results'!$C$32>0,ROUND(AVERAGE('Score Sheet'!$J36:AC36),1),ROUND(AVERAGE('Score Sheet'!$I36:AC36),1)))","v":"R"},{"$f":"IF('Score Sheet'!AD36=\"\",\"R\",IF('Race results'!$C$32>0,ROUND(AVERAGE('Score Sheet'!$J36:AD36),1),ROUND(AVERAGE('Score Sheet'!$I36:AD36),1)))","v":"R"},{"$f":"IF('Score Sheet'!AE36=\"\",\"R\",IF('Race results'!$C$32>0,ROUND(AVERAGE('Score Sheet'!$J36:AE36),1),ROUND(AVERAGE('Score Sheet'!$I36:AE36),1)))","v":"R"},{"$f":"IF('Score Sheet'!AF36=\"\",\"R\",IF('Race results'!$C$32>0,ROUND(AVERAGE('Score Sheet'!$J36:AF36),1),ROUND(AVERAGE('Score Sheet'!$I36:AF36),1)))","v":"R"},{"$f":"IF('Score Sheet'!AG36=\"\",\"R\",IF('Race results'!$C$32>0,ROUND(AVERAGE('Score Sheet'!$J36:AG36),1),ROUND(AVERAGE('Score Sheet'!$I36:AG36),1)))","v":"R"},{"$f":"IF('Score Sheet'!AH36=\"\",\"R\",IF('Race results'!$C$32>0,ROUND(AVERAGE('Score Sheet'!$J36:AH36),1),ROUND(AVERAGE('Score Sheet'!$I36:AH36),1)))","v":"R"},{"$f":"IF('Score Sheet'!AI36=\"\",\"R\",IF('Race results'!$C$32>0,ROUND(AVERAGE('Score Sheet'!$J36:AI36),1),ROUND(AVERAGE('Score Sheet'!$I36:AI36),1)))","v":"R"},{"$f":"IF('Score Sheet'!AJ36=\"\",\"R\",IF('Race results'!$C$32>0,ROUND(AVERAGE('Score Sheet'!$J36:AJ36),1),ROUND(AVERAGE('Score Sheet'!$I36:AJ36),1)))","v":"R"},{"$f":"IF('Score Sheet'!AK36=\"\",\"R\",IF('Race results'!$C$32>0,ROUND(AVERAGE('Score Sheet'!$J36:AK36),1),ROUND(AVERAGE('Score Sheet'!$I36:AK36),1)))","v":"R"},{"$f":"IF('Score Sheet'!AL36=\"\",\"R\",IF('Race results'!$C$32>0,ROUND(AVERAGE('Score Sheet'!$J36:AL36),1),ROUND(AVERAGE('Score Sheet'!$I36:AL36),1)))","v":"R"},{"$f":"IF('Score Sheet'!AM36=\"\",\"R\",IF('Race results'!$C$32>0,ROUND(AVERAGE('Score Sheet'!$J36:AM36),1),ROUND(AVERAGE('Score Sheet'!$I36:AM36),1)))","v":"R"},{"$f":"IF('Score Sheet'!AN36=\"\",\"R\",IF('Race results'!$C$32>0,ROUND(AVERAGE('Score Sheet'!$J36:AN36),1),ROUND(AVERAGE('Score Sheet'!$I36:AN36),1)))","v":"R"},{"$f":"IF('Score Sheet'!AO36=\"\",\"R\",IF('Race results'!$C$32>0,ROUND(AVERAGE('Score Sheet'!$J36:AO36),1),ROUND(AVERAGE('Score Sheet'!$I36:AO36),1)))","v":"R"},{"$f":"IF('Score Sheet'!AP36=\"\",\"R\",IF('Race results'!$C$32>0,ROUND(AVERAGE('Score Sheet'!$J36:AP36),1),ROUND(AVERAGE('Score Sheet'!$I36:AP36),1)))","v":"R"},{"$f":"IF('Score Sheet'!AQ36=\"\",\"R\",IF('Race results'!$C$32>0,ROUND(AVERAGE('Score Sheet'!$J36:AQ36),1),ROUND(AVERAGE('Score Sheet'!$I36:AQ36),1)))","v":"R"},{"$f":"IF('Score Sheet'!AR36=\"\",\"R\",IF('Race results'!$C$32>0,ROUND(AVERAGE('Score Sheet'!$J36:AR36),1),ROUND(AVERAGE('Score Sheet'!$I36:AR36),1)))","v":"R"},{"$f":"IF('Score Sheet'!AS36=\"\",\"R\",IF('Race results'!$C$32>0,ROUND(AVERAGE('Score Sheet'!$J36:AS36),1),ROUND(AVERAGE('Score Sheet'!$I36:AS36),1)))","v":"R"},{"$f":"IF('Score Sheet'!AT36=\"\",\"R\",IF('Race results'!$C$32>0,ROUND(AVERAGE('Score Sheet'!$J36:AT36),1),ROUND(AVERAGE('Score Sheet'!$I36:AT36),1)))","v":"R"},{"$f":"IF('Score Sheet'!AU36=\"\",\"R\",IF('Race results'!$C$32>0,ROUND(AVERAGE('Score Sheet'!$J36:AU36),1),ROUND(AVERAGE('Score Sheet'!$I36:AU36),1)))","v":"R"},{"$f":"IF('Score Sheet'!AV36=\"\",\"R\",IF('Race results'!$C$32>0,ROUND(AVERAGE('Score Sheet'!$J36:AV36),1),ROUND(AVERAGE('Score Sheet'!$I36:AV36),1)))","v":"R"},null,"",{"$f":"IF(C36=\"\",\"\",IF('Race results'!$C$7<1, \"E\", IF('Race results'!$C$32>0,IF(COUNT(AY36:CL36)<1,\"R\",ROUND(AVERAGE(AY36:CL36),1)),IF(COUNT(AX36:CL36)<1,\"R\",ROUND(AVERAGE(AX36:CL36),1)))))","v":""},null,null,"","","","","","","","","","","","","","","","","","","","","","","","","","","","","","","","","","","","","","","","",""]
[null,28,{"$f":"IF('Score Sheet'!C37=\"\",\"\",'Score Sheet'!C37)","v":""},{"$f":"'Race results'!$F$159","v":"DAFT!"},{"$f":"'Race results'!$F$159","v":"DAFT!"},{"$f":"IF('Score Sheet'!J37=\"\",\"R\",IF('Race results'!$C$32>0,'Race results'!$F$159,ROUND(AVERAGE('Score Sheet'!$I37:J37),1)))","v":"R"},{"$f":"IF('Score Sheet'!K37=\"\",\"R\",IF('Race results'!$C$32>0,ROUND(AVERAGE('Score Sheet'!$J37:K37),1),ROUND(AVERAGE('Score Sheet'!$I37:K37),1)))","v":"R"},{"$f":"IF('Score Sheet'!L37=\"\",\"R\",IF('Race results'!$C$32>0,ROUND(AVERAGE('Score Sheet'!$J37:L37),1),ROUND(AVERAGE('Score Sheet'!$I37:L37),1)))","v":"R"},{"$f":"IF('Score Sheet'!M37=\"\",\"R\",IF('Race results'!$C$32>0,ROUND(AVERAGE('Score Sheet'!$J37:M37),1),ROUND(AVERAGE('Score Sheet'!$I37:M37),1)))","v":"R"},{"$f":"IF('Score Sheet'!N37=\"\",\"R\",IF('Race results'!$C$32>0,ROUND(AVERAGE('Score Sheet'!$J37:N37),1),ROUND(AVERAGE('Score Sheet'!$I37:N37),1)))","v":"R"},{"$f":"IF('Score Sheet'!O37=\"\",\"R\",IF('Race results'!$C$32>0,ROUND(AVERAGE('Score Sheet'!$J37:O37),1),ROUND(AVERAGE('Score Sheet'!$I37:O37),1)))","v":"R"},{"$f":"IF('Score Sheet'!P37=\"\",\"R\",IF('Race results'!$C$32>0,ROUND(AVERAGE('Score Sheet'!$J37:P37),1),ROUND(AVERAGE('Score Sheet'!$I37:P37),1)))","v":"R"},{"$f":"IF('Score Sheet'!Q37=\"\",\"R\",IF('Race results'!$C$32>0,ROUND(AVERAGE('Score Sheet'!$J37:Q37),1),ROUND(AVERAGE('Score Sheet'!$I37:Q37),1)))","v":"R"},{"$f":"IF('Score Sheet'!R37=\"\",\"R\",IF('Race results'!$C$32>0,ROUND(AVERAGE('Score Sheet'!$J37:R37),1),ROUND(AVERAGE('Score Sheet'!$I37:R37),1)))","v":"R"},{"$f":"IF('Score Sheet'!S37=\"\",\"R\",IF('Race results'!$C$32>0,ROUND(AVERAGE('Score Sheet'!$J37:S37),1),ROUND(AVERAGE('Score Sheet'!$I37:S37),1)))","v":"R"},{"$f":"IF('Score Sheet'!T37=\"\",\"R\",IF('Race results'!$C$32>0,ROUND(AVERAGE('Score Sheet'!$J37:T37),1),ROUND(AVERAGE('Score Sheet'!$I37:T37),1)))","v":"R"},{"$f":"IF('Score Sheet'!U37=\"\",\"R\",IF('Race results'!$C$32>0,ROUND(AVERAGE('Score Sheet'!$J37:U37),1),ROUND(AVERAGE('Score Sheet'!$I37:U37),1)))","v":"R"},{"$f":"IF('Score Sheet'!V37=\"\",\"R\",IF('Race results'!$C$32>0,ROUND(AVERAGE('Score Sheet'!$J37:V37),1),ROUND(AVERAGE('Score Sheet'!$I37:V37),1)))","v":"R"},{"$f":"IF('Score Sheet'!W37=\"\",\"R\",IF('Race results'!$C$32>0,ROUND(AVERAGE('Score Sheet'!$J37:W37),1),ROUND(AVERAGE('Score Sheet'!$I37:W37),1)))","v":"R"},{"$f":"IF('Score Sheet'!X37=\"\",\"R\",IF('Race results'!$C$32>0,ROUND(AVERAGE('Score Sheet'!$J37:X37),1),ROUND(AVERAGE('Score Sheet'!$I37:X37),1)))","v":"R"},{"$f":"IF('Score Sheet'!Y37=\"\",\"R\",IF('Race results'!$C$32>0,ROUND(AVERAGE('Score Sheet'!$J37:Y37),1),ROUND(AVERAGE('Score Sheet'!$I37:Y37),1)))","v":"R"},{"$f":"IF('Score Sheet'!Z37=\"\",\"R\",IF('Race results'!$C$32>0,ROUND(AVERAGE('Score Sheet'!$J37:Z37),1),ROUND(AVERAGE('Score Sheet'!$I37:Z37),1)))","v":"R"},{"$f":"IF('Score Sheet'!AA37=\"\",\"R\",IF('Race results'!$C$32>0,ROUND(AVERAGE('Score Sheet'!$J37:AA37),1),ROUND(AVERAGE('Score Sheet'!$I37:AA37),1)))","v":"R"},{"$f":"IF('Score Sheet'!AB37=\"\",\"R\",IF('Race results'!$C$32>0,ROUND(AVERAGE('Score Sheet'!$J37:AB37),1),ROUND(AVERAGE('Score Sheet'!$I37:AB37),1)))","v":"R"},{"$f":"IF('Score Sheet'!AC37=\"\",\"R\",IF('Race results'!$C$32>0,ROUND(AVERAGE('Score Sheet'!$J37:AC37),1),ROUND(AVERAGE('Score Sheet'!$I37:AC37),1)))","v":"R"},{"$f":"IF('Score Sheet'!AD37=\"\",\"R\",IF('Race results'!$C$32>0,ROUND(AVERAGE('Score Sheet'!$J37:AD37),1),ROUND(AVERAGE('Score Sheet'!$I37:AD37),1)))","v":"R"},{"$f":"IF('Score Sheet'!AE37=\"\",\"R\",IF('Race results'!$C$32>0,ROUND(AVERAGE('Score Sheet'!$J37:AE37),1),ROUND(AVERAGE('Score Sheet'!$I37:AE37),1)))","v":"R"},{"$f":"IF('Score Sheet'!AF37=\"\",\"R\",IF('Race results'!$C$32>0,ROUND(AVERAGE('Score Sheet'!$J37:AF37),1),ROUND(AVERAGE('Score Sheet'!$I37:AF37),1)))","v":"R"},{"$f":"IF('Score Sheet'!AG37=\"\",\"R\",IF('Race results'!$C$32>0,ROUND(AVERAGE('Score Sheet'!$J37:AG37),1),ROUND(AVERAGE('Score Sheet'!$I37:AG37),1)))","v":"R"},{"$f":"IF('Score Sheet'!AH37=\"\",\"R\",IF('Race results'!$C$32>0,ROUND(AVERAGE('Score Sheet'!$J37:AH37),1),ROUND(AVERAGE('Score Sheet'!$I37:AH37),1)))","v":"R"},{"$f":"IF('Score Sheet'!AI37=\"\",\"R\",IF('Race results'!$C$32>0,ROUND(AVERAGE('Score Sheet'!$J37:AI37),1),ROUND(AVERAGE('Score Sheet'!$I37:AI37),1)))","v":"R"},{"$f":"IF('Score Sheet'!AJ37=\"\",\"R\",IF('Race results'!$C$32>0,ROUND(AVERAGE('Score Sheet'!$J37:AJ37),1),ROUND(AVERAGE('Score Sheet'!$I37:AJ37),1)))","v":"R"},{"$f":"IF('Score Sheet'!AK37=\"\",\"R\",IF('Race results'!$C$32>0,ROUND(AVERAGE('Score Sheet'!$J37:AK37),1),ROUND(AVERAGE('Score Sheet'!$I37:AK37),1)))","v":"R"},{"$f":"IF('Score Sheet'!AL37=\"\",\"R\",IF('Race results'!$C$32>0,ROUND(AVERAGE('Score Sheet'!$J37:AL37),1),ROUND(AVERAGE('Score Sheet'!$I37:AL37),1)))","v":"R"},{"$f":"IF('Score Sheet'!AM37=\"\",\"R\",IF('Race results'!$C$32>0,ROUND(AVERAGE('Score Sheet'!$J37:AM37),1),ROUND(AVERAGE('Score Sheet'!$I37:AM37),1)))","v":"R"},{"$f":"IF('Score Sheet'!AN37=\"\",\"R\",IF('Race results'!$C$32>0,ROUND(AVERAGE('Score Sheet'!$J37:AN37),1),ROUND(AVERAGE('Score Sheet'!$I37:AN37),1)))","v":"R"},{"$f":"IF('Score Sheet'!AO37=\"\",\"R\",IF('Race results'!$C$32>0,ROUND(AVERAGE('Score Sheet'!$J37:AO37),1),ROUND(AVERAGE('Score Sheet'!$I37:AO37),1)))","v":"R"},{"$f":"IF('Score Sheet'!AP37=\"\",\"R\",IF('Race results'!$C$32>0,ROUND(AVERAGE('Score Sheet'!$J37:AP37),1),ROUND(AVERAGE('Score Sheet'!$I37:AP37),1)))","v":"R"},{"$f":"IF('Score Sheet'!AQ37=\"\",\"R\",IF('Race results'!$C$32>0,ROUND(AVERAGE('Score Sheet'!$J37:AQ37),1),ROUND(AVERAGE('Score Sheet'!$I37:AQ37),1)))","v":"R"},{"$f":"IF('Score Sheet'!AR37=\"\",\"R\",IF('Race results'!$C$32>0,ROUND(AVERAGE('Score Sheet'!$J37:AR37),1),ROUND(AVERAGE('Score Sheet'!$I37:AR37),1)))","v":"R"},{"$f":"IF('Score Sheet'!AS37=\"\",\"R\",IF('Race results'!$C$32>0,ROUND(AVERAGE('Score Sheet'!$J37:AS37),1),ROUND(AVERAGE('Score Sheet'!$I37:AS37),1)))","v":"R"},{"$f":"IF('Score Sheet'!AT37=\"\",\"R\",IF('Race results'!$C$32>0,ROUND(AVERAGE('Score Sheet'!$J37:AT37),1),ROUND(AVERAGE('Score Sheet'!$I37:AT37),1)))","v":"R"},{"$f":"IF('Score Sheet'!AU37=\"\",\"R\",IF('Race results'!$C$32>0,ROUND(AVERAGE('Score Sheet'!$J37:AU37),1),ROUND(AVERAGE('Score Sheet'!$I37:AU37),1)))","v":"R"},{"$f":"IF('Score Sheet'!AV37=\"\",\"R\",IF('Race results'!$C$32>0,ROUND(AVERAGE('Score Sheet'!$J37:AV37),1),ROUND(AVERAGE('Score Sheet'!$I37:AV37),1)))","v":"R"},null,"",{"$f":"IF(C37=\"\",\"\",IF('Race results'!$C$7<1, \"E\", IF('Race results'!$C$32>0,IF(COUNT(AY37:CL37)<1,\"R\",ROUND(AVERAGE(AY37:CL37),1)),IF(COUNT(AX37:CL37)<1,\"R\",ROUND(AVERAGE(AX37:CL37),1)))))","v":""},null,null,"","","","","","","","","","","","","","","","","","","","","","","","","","","","","","","","","","","","","","","","",""]
[null,29,{"$f":"IF('Score Sheet'!C38=\"\",\"\",'Score Sheet'!C38)","v":""},{"$f":"'Race results'!$F$159","v":"DAFT!"},{"$f":"'Race results'!$F$159","v":"DAFT!"},{"$f":"IF('Score Sheet'!J38=\"\",\"R\",IF('Race results'!$C$32>0,'Race results'!$F$159,ROUND(AVERAGE('Score Sheet'!$I38:J38),1)))","v":"R"},{"$f":"IF('Score Sheet'!K38=\"\",\"R\",IF('Race results'!$C$32>0,ROUND(AVERAGE('Score Sheet'!$J38:K38),1),ROUND(AVERAGE('Score Sheet'!$I38:K38),1)))","v":"R"},{"$f":"IF('Score Sheet'!L38=\"\",\"R\",IF('Race results'!$C$32>0,ROUND(AVERAGE('Score Sheet'!$J38:L38),1),ROUND(AVERAGE('Score Sheet'!$I38:L38),1)))","v":"R"},{"$f":"IF('Score Sheet'!M38=\"\",\"R\",IF('Race results'!$C$32>0,ROUND(AVERAGE('Score Sheet'!$J38:M38),1),ROUND(AVERAGE('Score Sheet'!$I38:M38),1)))","v":"R"},{"$f":"IF('Score Sheet'!N38=\"\",\"R\",IF('Race results'!$C$32>0,ROUND(AVERAGE('Score Sheet'!$J38:N38),1),ROUND(AVERAGE('Score Sheet'!$I38:N38),1)))","v":"R"},{"$f":"IF('Score Sheet'!O38=\"\",\"R\",IF('Race results'!$C$32>0,ROUND(AVERAGE('Score Sheet'!$J38:O38),1),ROUND(AVERAGE('Score Sheet'!$I38:O38),1)))","v":"R"},{"$f":"IF('Score Sheet'!P38=\"\",\"R\",IF('Race results'!$C$32>0,ROUND(AVERAGE('Score Sheet'!$J38:P38),1),ROUND(AVERAGE('Score Sheet'!$I38:P38),1)))","v":"R"},{"$f":"IF('Score Sheet'!Q38=\"\",\"R\",IF('Race results'!$C$32>0,ROUND(AVERAGE('Score Sheet'!$J38:Q38),1),ROUND(AVERAGE('Score Sheet'!$I38:Q38),1)))","v":"R"},{"$f":"IF('Score Sheet'!R38=\"\",\"R\",IF('Race results'!$C$32>0,ROUND(AVERAGE('Score Sheet'!$J38:R38),1),ROUND(AVERAGE('Score Sheet'!$I38:R38),1)))","v":"R"},{"$f":"IF('Score Sheet'!S38=\"\",\"R\",IF('Race results'!$C$32>0,ROUND(AVERAGE('Score Sheet'!$J38:S38),1),ROUND(AVERAGE('Score Sheet'!$I38:S38),1)))","v":"R"},{"$f":"IF('Score Sheet'!T38=\"\",\"R\",IF('Race results'!$C$32>0,ROUND(AVERAGE('Score Sheet'!$J38:T38),1),ROUND(AVERAGE('Score Sheet'!$I38:T38),1)))","v":"R"},{"$f":"IF('Score Sheet'!U38=\"\",\"R\",IF('Race results'!$C$32>0,ROUND(AVERAGE('Score Sheet'!$J38:U38),1),ROUND(AVERAGE('Score Sheet'!$I38:U38),1)))","v":"R"},{"$f":"IF('Score Sheet'!V38=\"\",\"R\",IF('Race results'!$C$32>0,ROUND(AVERAGE('Score Sheet'!$J38:V38),1),ROUND(AVERAGE('Score Sheet'!$I38:V38),1)))","v":"R"},{"$f":"IF('Score Sheet'!W38=\"\",\"R\",IF('Race results'!$C$32>0,ROUND(AVERAGE('Score Sheet'!$J38:W38),1),ROUND(AVERAGE('Score Sheet'!$I38:W38),1)))","v":"R"},{"$f":"IF('Score Sheet'!X38=\"\",\"R\",IF('Race results'!$C$32>0,ROUND(AVERAGE('Score Sheet'!$J38:X38),1),ROUND(AVERAGE('Score Sheet'!$I38:X38),1)))","v":"R"},{"$f":"IF('Score Sheet'!Y38=\"\",\"R\",IF('Race results'!$C$32>0,ROUND(AVERAGE('Score Sheet'!$J38:Y38),1),ROUND(AVERAGE('Score Sheet'!$I38:Y38),1)))","v":"R"},{"$f":"IF('Score Sheet'!Z38=\"\",\"R\",IF('Race results'!$C$32>0,ROUND(AVERAGE('Score Sheet'!$J38:Z38),1),ROUND(AVERAGE('Score Sheet'!$I38:Z38),1)))","v":"R"},{"$f":"IF('Score Sheet'!AA38=\"\",\"R\",IF('Race results'!$C$32>0,ROUND(AVERAGE('Score Sheet'!$J38:AA38),1),ROUND(AVERAGE('Score Sheet'!$I38:AA38),1)))","v":"R"},{"$f":"IF('Score Sheet'!AB38=\"\",\"R\",IF('Race results'!$C$32>0,ROUND(AVERAGE('Score Sheet'!$J38:AB38),1),ROUND(AVERAGE('Score Sheet'!$I38:AB38),1)))","v":"R"},{"$f":"IF('Score Sheet'!AC38=\"\",\"R\",IF('Race results'!$C$32>0,ROUND(AVERAGE('Score Sheet'!$J38:AC38),1),ROUND(AVERAGE('Score Sheet'!$I38:AC38),1)))","v":"R"},{"$f":"IF('Score Sheet'!AD38=\"\",\"R\",IF('Race results'!$C$32>0,ROUND(AVERAGE('Score Sheet'!$J38:AD38),1),ROUND(AVERAGE('Score Sheet'!$I38:AD38),1)))","v":"R"},{"$f":"IF('Score Sheet'!AE38=\"\",\"R\",IF('Race results'!$C$32>0,ROUND(AVERAGE('Score Sheet'!$J38:AE38),1),ROUND(AVERAGE('Score Sheet'!$I38:AE38),1)))","v":"R"},{"$f":"IF('Score Sheet'!AF38=\"\",\"R\",IF('Race results'!$C$32>0,ROUND(AVERAGE('Score Sheet'!$J38:AF38),1),ROUND(AVERAGE('Score Sheet'!$I38:AF38),1)))","v":"R"},{"$f":"IF('Score Sheet'!AG38=\"\",\"R\",IF('Race results'!$C$32>0,ROUND(AVERAGE('Score Sheet'!$J38:AG38),1),ROUND(AVERAGE('Score Sheet'!$I38:AG38),1)))","v":"R"},{"$f":"IF('Score Sheet'!AH38=\"\",\"R\",IF('Race results'!$C$32>0,ROUND(AVERAGE('Score Sheet'!$J38:AH38),1),ROUND(AVERAGE('Score Sheet'!$I38:AH38),1)))","v":"R"},{"$f":"IF('Score Sheet'!AI38=\"\",\"R\",IF('Race results'!$C$32>0,ROUND(AVERAGE('Score Sheet'!$J38:AI38),1),ROUND(AVERAGE('Score Sheet'!$I38:AI38),1)))","v":"R"},{"$f":"IF('Score Sheet'!AJ38=\"\",\"R\",IF('Race results'!$C$32>0,ROUND(AVERAGE('Score Sheet'!$J38:AJ38),1),ROUND(AVERAGE('Score Sheet'!$I38:AJ38),1)))","v":"R"},{"$f":"IF('Score Sheet'!AK38=\"\",\"R\",IF('Race results'!$C$32>0,ROUND(AVERAGE('Score Sheet'!$J38:AK38),1),ROUND(AVERAGE('Score Sheet'!$I38:AK38),1)))","v":"R"},{"$f":"IF('Score Sheet'!AL38=\"\",\"R\",IF('Race results'!$C$32>0,ROUND(AVERAGE('Score Sheet'!$J38:AL38),1),ROUND(AVERAGE('Score Sheet'!$I38:AL38),1)))","v":"R"},{"$f":"IF('Score Sheet'!AM38=\"\",\"R\",IF('Race results'!$C$32>0,ROUND(AVERAGE('Score Sheet'!$J38:AM38),1),ROUND(AVERAGE('Score Sheet'!$I38:AM38),1)))","v":"R"},{"$f":"IF('Score Sheet'!AN38=\"\",\"R\",IF('Race results'!$C$32>0,ROUND(AVERAGE('Score Sheet'!$J38:AN38),1),ROUND(AVERAGE('Score Sheet'!$I38:AN38),1)))","v":"R"},{"$f":"IF('Score Sheet'!AO38=\"\",\"R\",IF('Race results'!$C$32>0,ROUND(AVERAGE('Score Sheet'!$J38:AO38),1),ROUND(AVERAGE('Score Sheet'!$I38:AO38),1)))","v":"R"},{"$f":"IF('Score Sheet'!AP38=\"\",\"R\",IF('Race results'!$C$32>0,ROUND(AVERAGE('Score Sheet'!$J38:AP38),1),ROUND(AVERAGE('Score Sheet'!$I38:AP38),1)))","v":"R"},{"$f":"IF('Score Sheet'!AQ38=\"\",\"R\",IF('Race results'!$C$32>0,ROUND(AVERAGE('Score Sheet'!$J38:AQ38),1),ROUND(AVERAGE('Score Sheet'!$I38:AQ38),1)))","v":"R"},{"$f":"IF('Score Sheet'!AR38=\"\",\"R\",IF('Race results'!$C$32>0,ROUND(AVERAGE('Score Sheet'!$J38:AR38),1),ROUND(AVERAGE('Score Sheet'!$I38:AR38),1)))","v":"R"},{"$f":"IF('Score Sheet'!AS38=\"\",\"R\",IF('Race results'!$C$32>0,ROUND(AVERAGE('Score Sheet'!$J38:AS38),1),ROUND(AVERAGE('Score Sheet'!$I38:AS38),1)))","v":"R"},{"$f":"IF('Score Sheet'!AT38=\"\",\"R\",IF('Race results'!$C$32>0,ROUND(AVERAGE('Score Sheet'!$J38:AT38),1),ROUND(AVERAGE('Score Sheet'!$I38:AT38),1)))","v":"R"},{"$f":"IF('Score Sheet'!AU38=\"\",\"R\",IF('Race results'!$C$32>0,ROUND(AVERAGE('Score Sheet'!$J38:AU38),1),ROUND(AVERAGE('Score Sheet'!$I38:AU38),1)))","v":"R"},{"$f":"IF('Score Sheet'!AV38=\"\",\"R\",IF('Race results'!$C$32>0,ROUND(AVERAGE('Score Sheet'!$J38:AV38),1),ROUND(AVERAGE('Score Sheet'!$I38:AV38),1)))","v":"R"},null,"",{"$f":"IF(C38=\"\",\"\",IF('Race results'!$C$7<1, \"E\", IF('Race results'!$C$32>0,IF(COUNT(AY38:CL38)<1,\"R\",ROUND(AVERAGE(AY38:CL38),1)),IF(COUNT(AX38:CL38)<1,\"R\",ROUND(AVERAGE(AX38:CL38),1)))))","v":""},null,null,"","","","","","","","","","","","","","","","","","","","","","","","","","","","","","","","","","","","","","","","",""]
[null,30,{"$f":"IF('Score Sheet'!C39=\"\",\"\",'Score Sheet'!C39)","v":""},{"$f":"'Race results'!$F$159","v":"DAFT!"},{"$f":"'Race results'!$F$159","v":"DAFT!"},{"$f":"IF('Score Sheet'!J39=\"\",\"R\",IF('Race results'!$C$32>0,'Race results'!$F$159,ROUND(AVERAGE('Score Sheet'!$I39:J39),1)))","v":"R"},{"$f":"IF('Score Sheet'!K39=\"\",\"R\",IF('Race results'!$C$32>0,ROUND(AVERAGE('Score Sheet'!$J39:K39),1),ROUND(AVERAGE('Score Sheet'!$I39:K39),1)))","v":"R"},{"$f":"IF('Score Sheet'!L39=\"\",\"R\",IF('Race results'!$C$32>0,ROUND(AVERAGE('Score Sheet'!$J39:L39),1),ROUND(AVERAGE('Score Sheet'!$I39:L39),1)))","v":"R"},{"$f":"IF('Score Sheet'!M39=\"\",\"R\",IF('Race results'!$C$32>0,ROUND(AVERAGE('Score Sheet'!$J39:M39),1),ROUND(AVERAGE('Score Sheet'!$I39:M39),1)))","v":"R"},{"$f":"IF('Score Sheet'!N39=\"\",\"R\",IF('Race results'!$C$32>0,ROUND(AVERAGE('Score Sheet'!$J39:N39),1),ROUND(AVERAGE('Score Sheet'!$I39:N39),1)))","v":"R"},{"$f":"IF('Score Sheet'!O39=\"\",\"R\",IF('Race results'!$C$32>0,ROUND(AVERAGE('Score Sheet'!$J39:O39),1),ROUND(AVERAGE('Score Sheet'!$I39:O39),1)))","v":"R"},{"$f":"IF('Score Sheet'!P39=\"\",\"R\",IF('Race results'!$C$32>0,ROUND(AVERAGE('Score Sheet'!$J39:P39),1),ROUND(AVERAGE('Score Sheet'!$I39:P39),1)))","v":"R"},{"$f":"IF('Score Sheet'!Q39=\"\",\"R\",IF('Race results'!$C$32>0,ROUND(AVERAGE('Score Sheet'!$J39:Q39),1),ROUND(AVERAGE('Score Sheet'!$I39:Q39),1)))","v":"R"},{"$f":"IF('Score Sheet'!R39=\"\",\"R\",IF('Race results'!$C$32>0,ROUND(AVERAGE('Score Sheet'!$J39:R39),1),ROUND(AVERAGE('Score Sheet'!$I39:R39),1)))","v":"R"},{"$f":"IF('Score Sheet'!S39=\"\",\"R\",IF('Race results'!$C$32>0,ROUND(AVERAGE('Score Sheet'!$J39:S39),1),ROUND(AVERAGE('Score Sheet'!$I39:S39),1)))","v":"R"},{"$f":"IF('Score Sheet'!T39=\"\",\"R\",IF('Race results'!$C$32>0,ROUND(AVERAGE('Score Sheet'!$J39:T39),1),ROUND(AVERAGE('Score Sheet'!$I39:T39),1)))","v":"R"},{"$f":"IF('Score Sheet'!U39=\"\",\"R\",IF('Race results'!$C$32>0,ROUND(AVERAGE('Score Sheet'!$J39:U39),1),ROUND(AVERAGE('Score Sheet'!$I39:U39),1)))","v":"R"},{"$f":"IF('Score Sheet'!V39=\"\",\"R\",IF('Race results'!$C$32>0,ROUND(AVERAGE('Score Sheet'!$J39:V39),1),ROUND(AVERAGE('Score Sheet'!$I39:V39),1)))","v":"R"},{"$f":"IF('Score Sheet'!W39=\"\",\"R\",IF('Race results'!$C$32>0,ROUND(AVERAGE('Score Sheet'!$J39:W39),1),ROUND(AVERAGE('Score Sheet'!$I39:W39),1)))","v":"R"},{"$f":"IF('Score Sheet'!X39=\"\",\"R\",IF('Race results'!$C$32>0,ROUND(AVERAGE('Score Sheet'!$J39:X39),1),ROUND(AVERAGE('Score Sheet'!$I39:X39),1)))","v":"R"},{"$f":"IF('Score Sheet'!Y39=\"\",\"R\",IF('Race results'!$C$32>0,ROUND(AVERAGE('Score Sheet'!$J39:Y39),1),ROUND(AVERAGE('Score Sheet'!$I39:Y39),1)))","v":"R"},{"$f":"IF('Score Sheet'!Z39=\"\",\"R\",IF('Race results'!$C$32>0,ROUND(AVERAGE('Score Sheet'!$J39:Z39),1),ROUND(AVERAGE('Score Sheet'!$I39:Z39),1)))","v":"R"},{"$f":"IF('Score Sheet'!AA39=\"\",\"R\",IF('Race results'!$C$32>0,ROUND(AVERAGE('Score Sheet'!$J39:AA39),1),ROUND(AVERAGE('Score Sheet'!$I39:AA39),1)))","v":"R"},{"$f":"IF('Score Sheet'!AB39=\"\",\"R\",IF('Race results'!$C$32>0,ROUND(AVERAGE('Score Sheet'!$J39:AB39),1),ROUND(AVERAGE('Score Sheet'!$I39:AB39),1)))","v":"R"},{"$f":"IF('Score Sheet'!AC39=\"\",\"R\",IF('Race results'!$C$32>0,ROUND(AVERAGE('Score Sheet'!$J39:AC39),1),ROUND(AVERAGE('Score Sheet'!$I39:AC39),1)))","v":"R"},{"$f":"IF('Score Sheet'!AD39=\"\",\"R\",IF('Race results'!$C$32>0,ROUND(AVERAGE('Score Sheet'!$J39:AD39),1),ROUND(AVERAGE('Score Sheet'!$I39:AD39),1)))","v":"R"},{"$f":"IF('Score Sheet'!AE39=\"\",\"R\",IF('Race results'!$C$32>0,ROUND(AVERAGE('Score Sheet'!$J39:AE39),1),ROUND(AVERAGE('Score Sheet'!$I39:AE39),1)))","v":"R"},{"$f":"IF('Score Sheet'!AF39=\"\",\"R\",IF('Race results'!$C$32>0,ROUND(AVERAGE('Score Sheet'!$J39:AF39),1),ROUND(AVERAGE('Score Sheet'!$I39:AF39),1)))","v":"R"},{"$f":"IF('Score Sheet'!AG39=\"\",\"R\",IF('Race results'!$C$32>0,ROUND(AVERAGE('Score Sheet'!$J39:AG39),1),ROUND(AVERAGE('Score Sheet'!$I39:AG39),1)))","v":"R"},{"$f":"IF('Score Sheet'!AH39=\"\",\"R\",IF('Race results'!$C$32>0,ROUND(AVERAGE('Score Sheet'!$J39:AH39),1),ROUND(AVERAGE('Score Sheet'!$I39:AH39),1)))","v":"R"},{"$f":"IF('Score Sheet'!AI39=\"\",\"R\",IF('Race results'!$C$32>0,ROUND(AVERAGE('Score Sheet'!$J39:AI39),1),ROUND(AVERAGE('Score Sheet'!$I39:AI39),1)))","v":"R"},{"$f":"IF('Score Sheet'!AJ39=\"\",\"R\",IF('Race results'!$C$32>0,ROUND(AVERAGE('Score Sheet'!$J39:AJ39),1),ROUND(AVERAGE('Score Sheet'!$I39:AJ39),1)))","v":"R"},{"$f":"IF('Score Sheet'!AK39=\"\",\"R\",IF('Race results'!$C$32>0,ROUND(AVERAGE('Score Sheet'!$J39:AK39),1),ROUND(AVERAGE('Score Sheet'!$I39:AK39),1)))","v":"R"},{"$f":"IF('Score Sheet'!AL39=\"\",\"R\",IF('Race results'!$C$32>0,ROUND(AVERAGE('Score Sheet'!$J39:AL39),1),ROUND(AVERAGE('Score Sheet'!$I39:AL39),1)))","v":"R"},{"$f":"IF('Score Sheet'!AM39=\"\",\"R\",IF('Race results'!$C$32>0,ROUND(AVERAGE('Score Sheet'!$J39:AM39),1),ROUND(AVERAGE('Score Sheet'!$I39:AM39),1)))","v":"R"},{"$f":"IF('Score Sheet'!AN39=\"\",\"R\",IF('Race results'!$C$32>0,ROUND(AVERAGE('Score Sheet'!$J39:AN39),1),ROUND(AVERAGE('Score Sheet'!$I39:AN39),1)))","v":"R"},{"$f":"IF('Score Sheet'!AO39=\"\",\"R\",IF('Race results'!$C$32>0,ROUND(AVERAGE('Score Sheet'!$J39:AO39),1),ROUND(AVERAGE('Score Sheet'!$I39:AO39),1)))","v":"R"},{"$f":"IF('Score Sheet'!AP39=\"\",\"R\",IF('Race results'!$C$32>0,ROUND(AVERAGE('Score Sheet'!$J39:AP39),1),ROUND(AVERAGE('Score Sheet'!$I39:AP39),1)))","v":"R"},{"$f":"IF('Score Sheet'!AQ39=\"\",\"R\",IF('Race results'!$C$32>0,ROUND(AVERAGE('Score Sheet'!$J39:AQ39),1),ROUND(AVERAGE('Score Sheet'!$I39:AQ39),1)))","v":"R"},{"$f":"IF('Score Sheet'!AR39=\"\",\"R\",IF('Race results'!$C$32>0,ROUND(AVERAGE('Score Sheet'!$J39:AR39),1),ROUND(AVERAGE('Score Sheet'!$I39:AR39),1)))","v":"R"},{"$f":"IF('Score Sheet'!AS39=\"\",\"R\",IF('Race results'!$C$32>0,ROUND(AVERAGE('Score Sheet'!$J39:AS39),1),ROUND(AVERAGE('Score Sheet'!$I39:AS39),1)))","v":"R"},{"$f":"IF('Score Sheet'!AT39=\"\",\"R\",IF('Race results'!$C$32>0,ROUND(AVERAGE('Score Sheet'!$J39:AT39),1),ROUND(AVERAGE('Score Sheet'!$I39:AT39),1)))","v":"R"},{"$f":"IF('Score Sheet'!AU39=\"\",\"R\",IF('Race results'!$C$32>0,ROUND(AVERAGE('Score Sheet'!$J39:AU39),1),ROUND(AVERAGE('Score Sheet'!$I39:AU39),1)))","v":"R"},{"$f":"IF('Score Sheet'!AV39=\"\",\"R\",IF('Race results'!$C$32>0,ROUND(AVERAGE('Score Sheet'!$J39:AV39),1),ROUND(AVERAGE('Score Sheet'!$I39:AV39),1)))","v":"R"},null,"",{"$f":"IF(C39=\"\",\"\",IF('Race results'!$C$7<1, \"E\", IF('Race results'!$C$32>0,IF(COUNT(AY39:CL39)<1,\"R\",ROUND(AVERAGE(AY39:CL39),1)),IF(COUNT(AX39:CL39)<1,\"R\",ROUND(AVERAGE(AX39:CL39),1)))))","v":""},null,null,"","","","","","","","","","","","","","","","","","","","","","","","","","","","","","","","","","","","","","","","",""]
[null,31,{"$f":"IF('Score Sheet'!C40=\"\",\"\",'Score Sheet'!C40)","v":""},{"$f":"'Race results'!$F$159","v":"DAFT!"},{"$f":"'Race results'!$F$159","v":"DAFT!"},{"$f":"IF('Score Sheet'!J40=\"\",\"R\",IF('Race results'!$C$32>0,'Race results'!$F$159,ROUND(AVERAGE('Score Sheet'!$I40:J40),1)))","v":"R"},{"$f":"IF('Score Sheet'!K40=\"\",\"R\",IF('Race results'!$C$32>0,ROUND(AVERAGE('Score Sheet'!$J40:K40),1),ROUND(AVERAGE('Score Sheet'!$I40:K40),1)))","v":"R"},{"$f":"IF('Score Sheet'!L40=\"\",\"R\",IF('Race results'!$C$32>0,ROUND(AVERAGE('Score Sheet'!$J40:L40),1),ROUND(AVERAGE('Score Sheet'!$I40:L40),1)))","v":"R"},{"$f":"IF('Score Sheet'!M40=\"\",\"R\",IF('Race results'!$C$32>0,ROUND(AVERAGE('Score Sheet'!$J40:M40),1),ROUND(AVERAGE('Score Sheet'!$I40:M40),1)))","v":"R"},{"$f":"IF('Score Sheet'!N40=\"\",\"R\",IF('Race results'!$C$32>0,ROUND(AVERAGE('Score Sheet'!$J40:N40),1),ROUND(AVERAGE('Score Sheet'!$I40:N40),1)))","v":"R"},{"$f":"IF('Score Sheet'!O40=\"\",\"R\",IF('Race results'!$C$32>0,ROUND(AVERAGE('Score Sheet'!$J40:O40),1),ROUND(AVERAGE('Score Sheet'!$I40:O40),1)))","v":"R"},{"$f":"IF('Score Sheet'!P40=\"\",\"R\",IF('Race results'!$C$32>0,ROUND(AVERAGE('Score Sheet'!$J40:P40),1),ROUND(AVERAGE('Score Sheet'!$I40:P40),1)))","v":"R"},{"$f":"IF('Score Sheet'!Q40=\"\",\"R\",IF('Race results'!$C$32>0,ROUND(AVERAGE('Score Sheet'!$J40:Q40),1),ROUND(AVERAGE('Score Sheet'!$I40:Q40),1)))","v":"R"},{"$f":"IF('Score Sheet'!R40=\"\",\"R\",IF('Race results'!$C$32>0,ROUND(AVERAGE('Score Sheet'!$J40:R40),1),ROUND(AVERAGE('Score Sheet'!$I40:R40),1)))","v":"R"},{"$f":"IF('Score Sheet'!S40=\"\",\"R\",IF('Race results'!$C$32>0,ROUND(AVERAGE('Score Sheet'!$J40:S40),1),ROUND(AVERAGE('Score Sheet'!$I40:S40),1)))","v":"R"},{"$f":"IF('Score Sheet'!T40=\"\",\"R\",IF('Race results'!$C$32>0,ROUND(AVERAGE('Score Sheet'!$J40:T40),1),ROUND(AVERAGE('Score Sheet'!$I40:T40),1)))","v":"R"},{"$f":"IF('Score Sheet'!U40=\"\",\"R\",IF('Race results'!$C$32>0,ROUND(AVERAGE('Score Sheet'!$J40:U40),1),ROUND(AVERAGE('Score Sheet'!$I40:U40),1)))","v":"R"},{"$f":"IF('Score Sheet'!V40=\"\",\"R\",IF('Race results'!$C$32>0,ROUND(AVERAGE('Score Sheet'!$J40:V40),1),ROUND(AVERAGE('Score Sheet'!$I40:V40),1)))","v":"R"},{"$f":"IF('Score Sheet'!W40=\"\",\"R\",IF('Race results'!$C$32>0,ROUND(AVERAGE('Score Sheet'!$J40:W40),1),ROUND(AVERAGE('Score Sheet'!$I40:W40),1)))","v":"R"},{"$f":"IF('Score Sheet'!X40=\"\",\"R\",IF('Race results'!$C$32>0,ROUND(AVERAGE('Score Sheet'!$J40:X40),1),ROUND(AVERAGE('Score Sheet'!$I40:X40),1)))","v":"R"},{"$f":"IF('Score Sheet'!Y40=\"\",\"R\",IF('Race results'!$C$32>0,ROUND(AVERAGE('Score Sheet'!$J40:Y40),1),ROUND(AVERAGE('Score Sheet'!$I40:Y40),1)))","v":"R"},{"$f":"IF('Score Sheet'!Z40=\"\",\"R\",IF('Race results'!$C$32>0,ROUND(AVERAGE('Score Sheet'!$J40:Z40),1),ROUND(AVERAGE('Score Sheet'!$I40:Z40),1)))","v":"R"},{"$f":"IF('Score Sheet'!AA40=\"\",\"R\",IF('Race results'!$C$32>0,ROUND(AVERAGE('Score Sheet'!$J40:AA40),1),ROUND(AVERAGE('Score Sheet'!$I40:AA40),1)))","v":"R"},{"$f":"IF('Score Sheet'!AB40=\"\",\"R\",IF('Race results'!$C$32>0,ROUND(AVERAGE('Score Sheet'!$J40:AB40),1),ROUND(AVERAGE('Score Sheet'!$I40:AB40),1)))","v":"R"},{"$f":"IF('Score Sheet'!AC40=\"\",\"R\",IF('Race results'!$C$32>0,ROUND(AVERAGE('Score Sheet'!$J40:AC40),1),ROUND(AVERAGE('Score Sheet'!$I40:AC40),1)))","v":"R"},{"$f":"IF('Score Sheet'!AD40=\"\",\"R\",IF('Race results'!$C$32>0,ROUND(AVERAGE('Score Sheet'!$J40:AD40),1),ROUND(AVERAGE('Score Sheet'!$I40:AD40),1)))","v":"R"},{"$f":"IF('Score Sheet'!AE40=\"\",\"R\",IF('Race results'!$C$32>0,ROUND(AVERAGE('Score Sheet'!$J40:AE40),1),ROUND(AVERAGE('Score Sheet'!$I40:AE40),1)))","v":"R"},{"$f":"IF('Score Sheet'!AF40=\"\",\"R\",IF('Race results'!$C$32>0,ROUND(AVERAGE('Score Sheet'!$J40:AF40),1),ROUND(AVERAGE('Score Sheet'!$I40:AF40),1)))","v":"R"},{"$f":"IF('Score Sheet'!AG40=\"\",\"R\",IF('Race results'!$C$32>0,ROUND(AVERAGE('Score Sheet'!$J40:AG40),1),ROUND(AVERAGE('Score Sheet'!$I40:AG40),1)))","v":"R"},{"$f":"IF('Score Sheet'!AH40=\"\",\"R\",IF('Race results'!$C$32>0,ROUND(AVERAGE('Score Sheet'!$J40:AH40),1),ROUND(AVERAGE('Score Sheet'!$I40:AH40),1)))","v":"R"},{"$f":"IF('Score Sheet'!AI40=\"\",\"R\",IF('Race results'!$C$32>0,ROUND(AVERAGE('Score Sheet'!$J40:AI40),1),ROUND(AVERAGE('Score Sheet'!$I40:AI40),1)))","v":"R"},{"$f":"IF('Score Sheet'!AJ40=\"\",\"R\",IF('Race results'!$C$32>0,ROUND(AVERAGE('Score Sheet'!$J40:AJ40),1),ROUND(AVERAGE('Score Sheet'!$I40:AJ40),1)))","v":"R"},{"$f":"IF('Score Sheet'!AK40=\"\",\"R\",IF('Race results'!$C$32>0,ROUND(AVERAGE('Score Sheet'!$J40:AK40),1),ROUND(AVERAGE('Score Sheet'!$I40:AK40),1)))","v":"R"},{"$f":"IF('Score Sheet'!AL40=\"\",\"R\",IF('Race results'!$C$32>0,ROUND(AVERAGE('Score Sheet'!$J40:AL40),1),ROUND(AVERAGE('Score Sheet'!$I40:AL40),1)))","v":"R"},{"$f":"IF('Score Sheet'!AM40=\"\",\"R\",IF('Race results'!$C$32>0,ROUND(AVERAGE('Score Sheet'!$J40:AM40),1),ROUND(AVERAGE('Score Sheet'!$I40:AM40),1)))","v":"R"},{"$f":"IF('Score Sheet'!AN40=\"\",\"R\",IF('Race results'!$C$32>0,ROUND(AVERAGE('Score Sheet'!$J40:AN40),1),ROUND(AVERAGE('Score Sheet'!$I40:AN40),1)))","v":"R"},{"$f":"IF('Score Sheet'!AO40=\"\",\"R\",IF('Race results'!$C$32>0,ROUND(AVERAGE('Score Sheet'!$J40:AO40),1),ROUND(AVERAGE('Score Sheet'!$I40:AO40),1)))","v":"R"},{"$f":"IF('Score Sheet'!AP40=\"\",\"R\",IF('Race results'!$C$32>0,ROUND(AVERAGE('Score Sheet'!$J40:AP40),1),ROUND(AVERAGE('Score Sheet'!$I40:AP40),1)))","v":"R"},{"$f":"IF('Score Sheet'!AQ40=\"\",\"R\",IF('Race results'!$C$32>0,ROUND(AVERAGE('Score Sheet'!$J40:AQ40),1),ROUND(AVERAGE('Score Sheet'!$I40:AQ40),1)))","v":"R"},{"$f":"IF('Score Sheet'!AR40=\"\",\"R\",IF('Race results'!$C$32>0,ROUND(AVERAGE('Score Sheet'!$J40:AR40),1),ROUND(AVERAGE('Score Sheet'!$I40:AR40),1)))","v":"R"},{"$f":"IF('Score Sheet'!AS40=\"\",\"R\",IF('Race results'!$C$32>0,ROUND(AVERAGE('Score Sheet'!$J40:AS40),1),ROUND(AVERAGE('Score Sheet'!$I40:AS40),1)))","v":"R"},{"$f":"IF('Score Sheet'!AT40=\"\",\"R\",IF('Race results'!$C$32>0,ROUND(AVERAGE('Score Sheet'!$J40:AT40),1),ROUND(AVERAGE('Score Sheet'!$I40:AT40),1)))","v":"R"},{"$f":"IF('Score Sheet'!AU40=\"\",\"R\",IF('Race results'!$C$32>0,ROUND(AVERAGE('Score Sheet'!$J40:AU40),1),ROUND(AVERAGE('Score Sheet'!$I40:AU40),1)))","v":"R"},{"$f":"IF('Score Sheet'!AV40=\"\",\"R\",IF('Race results'!$C$32>0,ROUND(AVERAGE('Score Sheet'!$J40:AV40),1),ROUND(AVERAGE('Score Sheet'!$I40:AV40),1)))","v":"R"},null,"",{"$f":"IF(C40=\"\",\"\",IF('Race results'!$C$7<1, \"E\", IF('Race results'!$C$32>0,IF(COUNT(AY40:CL40)<1,\"R\",ROUND(AVERAGE(AY40:CL40),1)),IF(COUNT(AX40:CL40)<1,\"R\",ROUND(AVERAGE(AX40:CL40),1)))))","v":""},null,null,"","","","","","","","","","","","","","","","","","","","","","","","","","","","","","","","","","","","","","","","",""]
[null,32,{"$f":"IF('Score Sheet'!C41=\"\",\"\",'Score Sheet'!C41)","v":""},{"$f":"'Race results'!$F$159","v":"DAFT!"},{"$f":"'Race results'!$F$159","v":"DAFT!"},{"$f":"IF('Score Sheet'!J41=\"\",\"R\",IF('Race results'!$C$32>0,'Race results'!$F$159,ROUND(AVERAGE('Score Sheet'!$I41:J41),1)))","v":"R"},{"$f":"IF('Score Sheet'!K41=\"\",\"R\",IF('Race results'!$C$32>0,ROUND(AVERAGE('Score Sheet'!$J41:K41),1),ROUND(AVERAGE('Score Sheet'!$I41:K41),1)))","v":"R"},{"$f":"IF('Score Sheet'!L41=\"\",\"R\",IF('Race results'!$C$32>0,ROUND(AVERAGE('Score Sheet'!$J41:L41),1),ROUND(AVERAGE('Score Sheet'!$I41:L41),1)))","v":"R"},{"$f":"IF('Score Sheet'!M41=\"\",\"R\",IF('Race results'!$C$32>0,ROUND(AVERAGE('Score Sheet'!$J41:M41),1),ROUND(AVERAGE('Score Sheet'!$I41:M41),1)))","v":"R"},{"$f":"IF('Score Sheet'!N41=\"\",\"R\",IF('Race results'!$C$32>0,ROUND(AVERAGE('Score Sheet'!$J41:N41),1),ROUND(AVERAGE('Score Sheet'!$I41:N41),1)))","v":"R"},{"$f":"IF('Score Sheet'!O41=\"\",\"R\",IF('Race results'!$C$32>0,ROUND(AVERAGE('Score Sheet'!$J41:O41),1),ROUND(AVERAGE('Score Sheet'!$I41:O41),1)))","v":"R"},{"$f":"IF('Score Sheet'!P41=\"\",\"R\",IF('Race results'!$C$32>0,ROUND(AVERAGE('Score Sheet'!$J41:P41),1),ROUND(AVERAGE('Score Sheet'!$I41:P41),1)))","v":"R"},{"$f":"IF('Score Sheet'!Q41=\"\",\"R\",IF('Race results'!$C$32>0,ROUND(AVERAGE('Score Sheet'!$J41:Q41),1),ROUND(AVERAGE('Score Sheet'!$I41:Q41),1)))","v":"R"},{"$f":"IF('Score Sheet'!R41=\"\",\"R\",IF('Race results'!$C$32>0,ROUND(AVERAGE('Score Sheet'!$J41:R41),1),ROUND(AVERAGE('Score Sheet'!$I41:R41),1)))","v":"R"},{"$f":"IF('Score Sheet'!S41=\"\",\"R\",IF('Race results'!$C$32>0,ROUND(AVERAGE('Score Sheet'!$J41:S41),1),ROUND(AVERAGE('Score Sheet'!$I41:S41),1)))","v":"R"},{"$f":"IF('Score Sheet'!T41=\"\",\"R\",IF('Race results'!$C$32>0,ROUND(AVERAGE('Score Sheet'!$J41:T41),1),ROUND(AVERAGE('Score Sheet'!$I41:T41),1)))","v":"R"},{"$f":"IF('Score Sheet'!U41=\"\",\"R\",IF('Race results'!$C$32>0,ROUND(AVERAGE('Score Sheet'!$J41:U41),1),ROUND(AVERAGE('Score Sheet'!$I41:U41),1)))","v":"R"},{"$f":"IF('Score Sheet'!V41=\"\",\"R\",IF('Race results'!$C$32>0,ROUND(AVERAGE('Score Sheet'!$J41:V41),1),ROUND(AVERAGE('Score Sheet'!$I41:V41),1)))","v":"R"},{"$f":"IF('Score Sheet'!W41=\"\",\"R\",IF('Race results'!$C$32>0,ROUND(AVERAGE('Score Sheet'!$J41:W41),1),ROUND(AVERAGE('Score Sheet'!$I41:W41),1)))","v":"R"},{"$f":"IF('Score Sheet'!X41=\"\",\"R\",IF('Race results'!$C$32>0,ROUND(AVERAGE('Score Sheet'!$J41:X41),1),ROUND(AVERAGE('Score Sheet'!$I41:X41),1)))","v":"R"},{"$f":"IF('Score Sheet'!Y41=\"\",\"R\",IF('Race results'!$C$32>0,ROUND(AVERAGE('Score Sheet'!$J41:Y41),1),ROUND(AVERAGE('Score Sheet'!$I41:Y41),1)))","v":"R"},{"$f":"IF('Score Sheet'!Z41=\"\",\"R\",IF('Race results'!$C$32>0,ROUND(AVERAGE('Score Sheet'!$J41:Z41),1),ROUND(AVERAGE('Score Sheet'!$I41:Z41),1)))","v":"R"},{"$f":"IF('Score Sheet'!AA41=\"\",\"R\",IF('Race results'!$C$32>0,ROUND(AVERAGE('Score Sheet'!$J41:AA41),1),ROUND(AVERAGE('Score Sheet'!$I41:AA41),1)))","v":"R"},{"$f":"IF('Score Sheet'!AB41=\"\",\"R\",IF('Race results'!$C$32>0,ROUND(AVERAGE('Score Sheet'!$J41:AB41),1),ROUND(AVERAGE('Score Sheet'!$I41:AB41),1)))","v":"R"},{"$f":"IF('Score Sheet'!AC41=\"\",\"R\",IF('Race results'!$C$32>0,ROUND(AVERAGE('Score Sheet'!$J41:AC41),1),ROUND(AVERAGE('Score Sheet'!$I41:AC41),1)))","v":"R"},{"$f":"IF('Score Sheet'!AD41=\"\",\"R\",IF('Race results'!$C$32>0,ROUND(AVERAGE('Score Sheet'!$J41:AD41),1),ROUND(AVERAGE('Score Sheet'!$I41:AD41),1)))","v":"R"},{"$f":"IF('Score Sheet'!AE41=\"\",\"R\",IF('Race results'!$C$32>0,ROUND(AVERAGE('Score Sheet'!$J41:AE41),1),ROUND(AVERAGE('Score Sheet'!$I41:AE41),1)))","v":"R"},{"$f":"IF('Score Sheet'!AF41=\"\",\"R\",IF('Race results'!$C$32>0,ROUND(AVERAGE('Score Sheet'!$J41:AF41),1),ROUND(AVERAGE('Score Sheet'!$I41:AF41),1)))","v":"R"},{"$f":"IF('Score Sheet'!AG41=\"\",\"R\",IF('Race results'!$C$32>0,ROUND(AVERAGE('Score Sheet'!$J41:AG41),1),ROUND(AVERAGE('Score Sheet'!$I41:AG41),1)))","v":"R"},{"$f":"IF('Score Sheet'!AH41=\"\",\"R\",IF('Race results'!$C$32>0,ROUND(AVERAGE('Score Sheet'!$J41:AH41),1),ROUND(AVERAGE('Score Sheet'!$I41:AH41),1)))","v":"R"},{"$f":"IF('Score Sheet'!AI41=\"\",\"R\",IF('Race results'!$C$32>0,ROUND(AVERAGE('Score Sheet'!$J41:AI41),1),ROUND(AVERAGE('Score Sheet'!$I41:AI41),1)))","v":"R"},{"$f":"IF('Score Sheet'!AJ41=\"\",\"R\",IF('Race results'!$C$32>0,ROUND(AVERAGE('Score Sheet'!$J41:AJ41),1),ROUND(AVERAGE('Score Sheet'!$I41:AJ41),1)))","v":"R"},{"$f":"IF('Score Sheet'!AK41=\"\",\"R\",IF('Race results'!$C$32>0,ROUND(AVERAGE('Score Sheet'!$J41:AK41),1),ROUND(AVERAGE('Score Sheet'!$I41:AK41),1)))","v":"R"},{"$f":"IF('Score Sheet'!AL41=\"\",\"R\",IF('Race results'!$C$32>0,ROUND(AVERAGE('Score Sheet'!$J41:AL41),1),ROUND(AVERAGE('Score Sheet'!$I41:AL41),1)))","v":"R"},{"$f":"IF('Score Sheet'!AM41=\"\",\"R\",IF('Race results'!$C$32>0,ROUND(AVERAGE('Score Sheet'!$J41:AM41),1),ROUND(AVERAGE('Score Sheet'!$I41:AM41),1)))","v":"R"},{"$f":"IF('Score Sheet'!AN41=\"\",\"R\",IF('Race results'!$C$32>0,ROUND(AVERAGE('Score Sheet'!$J41:AN41),1),ROUND(AVERAGE('Score Sheet'!$I41:AN41),1)))","v":"R"},{"$f":"IF('Score Sheet'!AO41=\"\",\"R\",IF('Race results'!$C$32>0,ROUND(AVERAGE('Score Sheet'!$J41:AO41),1),ROUND(AVERAGE('Score Sheet'!$I41:AO41),1)))","v":"R"},{"$f":"IF('Score Sheet'!AP41=\"\",\"R\",IF('Race results'!$C$32>0,ROUND(AVERAGE('Score Sheet'!$J41:AP41),1),ROUND(AVERAGE('Score Sheet'!$I41:AP41),1)))","v":"R"},{"$f":"IF('Score Sheet'!AQ41=\"\",\"R\",IF('Race results'!$C$32>0,ROUND(AVERAGE('Score Sheet'!$J41:AQ41),1),ROUND(AVERAGE('Score Sheet'!$I41:AQ41),1)))","v":"R"},{"$f":"IF('Score Sheet'!AR41=\"\",\"R\",IF('Race results'!$C$32>0,ROUND(AVERAGE('Score Sheet'!$J41:AR41),1),ROUND(AVERAGE('Score Sheet'!$I41:AR41),1)))","v":"R"},{"$f":"IF('Score Sheet'!AS41=\"\",\"R\",IF('Race results'!$C$32>0,ROUND(AVERAGE('Score Sheet'!$J41:AS41),1),ROUND(AVERAGE('Score Sheet'!$I41:AS41),1)))","v":"R"},{"$f":"IF('Score Sheet'!AT41=\"\",\"R\",IF('Race results'!$C$32>0,ROUND(AVERAGE('Score Sheet'!$J41:AT41),1),ROUND(AVERAGE('Score Sheet'!$I41:AT41),1)))","v":"R"},{"$f":"IF('Score Sheet'!AU41=\"\",\"R\",IF('Race results'!$C$32>0,ROUND(AVERAGE('Score Sheet'!$J41:AU41),1),ROUND(AVERAGE('Score Sheet'!$I41:AU41),1)))","v":"R"},{"$f":"IF('Score Sheet'!AV41=\"\",\"R\",IF('Race results'!$C$32>0,ROUND(AVERAGE('Score Sheet'!$J41:AV41),1),ROUND(AVERAGE('Score Sheet'!$I41:AV41),1)))","v":"R"},null,"",{"$f":"IF(C41=\"\",\"\",IF('Race results'!$C$7<1, \"E\", IF('Race results'!$C$32>0,IF(COUNT(AY41:CL41)<1,\"R\",ROUND(AVERAGE(AY41:CL41),1)),IF(COUNT(AX41:CL41)<1,\"R\",ROUND(AVERAGE(AX41:CL41),1)))))","v":""},null,null,"","","","","","","","","","","","","","","","","","","","","","","","","","","","","","","","","","","","","","","","",""]
[null,33,{"$f":"IF('Score Sheet'!C42=\"\",\"\",'Score Sheet'!C42)","v":""},{"$f":"'Race results'!$F$159","v":"DAFT!"},{"$f":"'Race results'!$F$159","v":"DAFT!"},{"$f":"IF('Score Sheet'!J42=\"\",\"R\",IF('Race results'!$C$32>0,'Race results'!$F$159,ROUND(AVERAGE('Score Sheet'!$I42:J42),1)))","v":"R"},{"$f":"IF('Score Sheet'!K42=\"\",\"R\",IF('Race results'!$C$32>0,ROUND(AVERAGE('Score Sheet'!$J42:K42),1),ROUND(AVERAGE('Score Sheet'!$I42:K42),1)))","v":"R"},{"$f":"IF('Score Sheet'!L42=\"\",\"R\",IF('Race results'!$C$32>0,ROUND(AVERAGE('Score Sheet'!$J42:L42),1),ROUND(AVERAGE('Score Sheet'!$I42:L42),1)))","v":"R"},{"$f":"IF('Score Sheet'!M42=\"\",\"R\",IF('Race results'!$C$32>0,ROUND(AVERAGE('Score Sheet'!$J42:M42),1),ROUND(AVERAGE('Score Sheet'!$I42:M42),1)))","v":"R"},{"$f":"IF('Score Sheet'!N42=\"\",\"R\",IF('Race results'!$C$32>0,ROUND(AVERAGE('Score Sheet'!$J42:N42),1),ROUND(AVERAGE('Score Sheet'!$I42:N42),1)))","v":"R"},{"$f":"IF('Score Sheet'!O42=\"\",\"R\",IF('Race results'!$C$32>0,ROUND(AVERAGE('Score Sheet'!$J42:O42),1),ROUND(AVERAGE('Score Sheet'!$I42:O42),1)))","v":"R"},{"$f":"IF('Score Sheet'!P42=\"\",\"R\",IF('Race results'!$C$32>0,ROUND(AVERAGE('Score Sheet'!$J42:P42),1),ROUND(AVERAGE('Score Sheet'!$I42:P42),1)))","v":"R"},{"$f":"IF('Score Sheet'!Q42=\"\",\"R\",IF('Race results'!$C$32>0,ROUND(AVERAGE('Score Sheet'!$J42:Q42),1),ROUND(AVERAGE('Score Sheet'!$I42:Q42),1)))","v":"R"},{"$f":"IF('Score Sheet'!R42=\"\",\"R\",IF('Race results'!$C$32>0,ROUND(AVERAGE('Score Sheet'!$J42:R42),1),ROUND(AVERAGE('Score Sheet'!$I42:R42),1)))","v":"R"},{"$f":"IF('Score Sheet'!S42=\"\",\"R\",IF('Race results'!$C$32>0,ROUND(AVERAGE('Score Sheet'!$J42:S42),1),ROUND(AVERAGE('Score Sheet'!$I42:S42),1)))","v":"R"},{"$f":"IF('Score Sheet'!T42=\"\",\"R\",IF('Race results'!$C$32>0,ROUND(AVERAGE('Score Sheet'!$J42:T42),1),ROUND(AVERAGE('Score Sheet'!$I42:T42),1)))","v":"R"},{"$f":"IF('Score Sheet'!U42=\"\",\"R\",IF('Race results'!$C$32>0,ROUND(AVERAGE('Score Sheet'!$J42:U42),1),ROUND(AVERAGE('Score Sheet'!$I42:U42),1)))","v":"R"},{"$f":"IF('Score Sheet'!V42=\"\",\"R\",IF('Race results'!$C$32>0,ROUND(AVERAGE('Score Sheet'!$J42:V42),1),ROUND(AVERAGE('Score Sheet'!$I42:V42),1)))","v":"R"},{"$f":"IF('Score Sheet'!W42=\"\",\"R\",IF('Race results'!$C$32>0,ROUND(AVERAGE('Score Sheet'!$J42:W42),1),ROUND(AVERAGE('Score Sheet'!$I42:W42),1)))","v":"R"},{"$f":"IF('Score Sheet'!X42=\"\",\"R\",IF('Race results'!$C$32>0,ROUND(AVERAGE('Score Sheet'!$J42:X42),1),ROUND(AVERAGE('Score Sheet'!$I42:X42),1)))","v":"R"},{"$f":"IF('Score Sheet'!Y42=\"\",\"R\",IF('Race results'!$C$32>0,ROUND(AVERAGE('Score Sheet'!$J42:Y42),1),ROUND(AVERAGE('Score Sheet'!$I42:Y42),1)))","v":"R"},{"$f":"IF('Score Sheet'!Z42=\"\",\"R\",IF('Race results'!$C$32>0,ROUND(AVERAGE('Score Sheet'!$J42:Z42),1),ROUND(AVERAGE('Score Sheet'!$I42:Z42),1)))","v":"R"},{"$f":"IF('Score Sheet'!AA42=\"\",\"R\",IF('Race results'!$C$32>0,ROUND(AVERAGE('Score Sheet'!$J42:AA42),1),ROUND(AVERAGE('Score Sheet'!$I42:AA42),1)))","v":"R"},{"$f":"IF('Score Sheet'!AB42=\"\",\"R\",IF('Race results'!$C$32>0,ROUND(AVERAGE('Score Sheet'!$J42:AB42),1),ROUND(AVERAGE('Score Sheet'!$I42:AB42),1)))","v":"R"},{"$f":"IF('Score Sheet'!AC42=\"\",\"R\",IF('Race results'!$C$32>0,ROUND(AVERAGE('Score Sheet'!$J42:AC42),1),ROUND(AVERAGE('Score Sheet'!$I42:AC42),1)))","v":"R"},{"$f":"IF('Score Sheet'!AD42=\"\",\"R\",IF('Race results'!$C$32>0,ROUND(AVERAGE('Score Sheet'!$J42:AD42),1),ROUND(AVERAGE('Score Sheet'!$I42:AD42),1)))","v":"R"},{"$f":"IF('Score Sheet'!AE42=\"\",\"R\",IF('Race results'!$C$32>0,ROUND(AVERAGE('Score Sheet'!$J42:AE42),1),ROUND(AVERAGE('Score Sheet'!$I42:AE42),1)))","v":"R"},{"$f":"IF('Score Sheet'!AF42=\"\",\"R\",IF('Race results'!$C$32>0,ROUND(AVERAGE('Score Sheet'!$J42:AF42),1),ROUND(AVERAGE('Score Sheet'!$I42:AF42),1)))","v":"R"},{"$f":"IF('Score Sheet'!AG42=\"\",\"R\",IF('Race results'!$C$32>0,ROUND(AVERAGE('Score Sheet'!$J42:AG42),1),ROUND(AVERAGE('Score Sheet'!$I42:AG42),1)))","v":"R"},{"$f":"IF('Score Sheet'!AH42=\"\",\"R\",IF('Race results'!$C$32>0,ROUND(AVERAGE('Score Sheet'!$J42:AH42),1),ROUND(AVERAGE('Score Sheet'!$I42:AH42),1)))","v":"R"},{"$f":"IF('Score Sheet'!AI42=\"\",\"R\",IF('Race results'!$C$32>0,ROUND(AVERAGE('Score Sheet'!$J42:AI42),1),ROUND(AVERAGE('Score Sheet'!$I42:AI42),1)))","v":"R"},{"$f":"IF('Score Sheet'!AJ42=\"\",\"R\",IF('Race results'!$C$32>0,ROUND(AVERAGE('Score Sheet'!$J42:AJ42),1),ROUND(AVERAGE('Score Sheet'!$I42:AJ42),1)))","v":"R"},{"$f":"IF('Score Sheet'!AK42=\"\",\"R\",IF('Race results'!$C$32>0,ROUND(AVERAGE('Score Sheet'!$J42:AK42),1),ROUND(AVERAGE('Score Sheet'!$I42:AK42),1)))","v":"R"},{"$f":"IF('Score Sheet'!AL42=\"\",\"R\",IF('Race results'!$C$32>0,ROUND(AVERAGE('Score Sheet'!$J42:AL42),1),ROUND(AVERAGE('Score Sheet'!$I42:AL42),1)))","v":"R"},{"$f":"IF('Score Sheet'!AM42=\"\",\"R\",IF('Race results'!$C$32>0,ROUND(AVERAGE('Score Sheet'!$J42:AM42),1),ROUND(AVERAGE('Score Sheet'!$I42:AM42),1)))","v":"R"},{"$f":"IF('Score Sheet'!AN42=\"\",\"R\",IF('Race results'!$C$32>0,ROUND(AVERAGE('Score Sheet'!$J42:AN42),1),ROUND(AVERAGE('Score Sheet'!$I42:AN42),1)))","v":"R"},{"$f":"IF('Score Sheet'!AO42=\"\",\"R\",IF('Race results'!$C$32>0,ROUND(AVERAGE('Score Sheet'!$J42:AO42),1),ROUND(AVERAGE('Score Sheet'!$I42:AO42),1)))","v":"R"},{"$f":"IF('Score Sheet'!AP42=\"\",\"R\",IF('Race results'!$C$32>0,ROUND(AVERAGE('Score Sheet'!$J42:AP42),1),ROUND(AVERAGE('Score Sheet'!$I42:AP42),1)))","v":"R"},{"$f":"IF('Score Sheet'!AQ42=\"\",\"R\",IF('Race results'!$C$32>0,ROUND(AVERAGE('Score Sheet'!$J42:AQ42),1),ROUND(AVERAGE('Score Sheet'!$I42:AQ42),1)))","v":"R"},{"$f":"IF('Score Sheet'!AR42=\"\",\"R\",IF('Race results'!$C$32>0,ROUND(AVERAGE('Score Sheet'!$J42:AR42),1),ROUND(AVERAGE('Score Sheet'!$I42:AR42),1)))","v":"R"},{"$f":"IF('Score Sheet'!AS42=\"\",\"R\",IF('Race results'!$C$32>0,ROUND(AVERAGE('Score Sheet'!$J42:AS42),1),ROUND(AVERAGE('Score Sheet'!$I42:AS42),1)))","v":"R"},{"$f":"IF('Score Sheet'!AT42=\"\",\"R\",IF('Race results'!$C$32>0,ROUND(AVERAGE('Score Sheet'!$J42:AT42),1),ROUND(AVERAGE('Score Sheet'!$I42:AT42),1)))","v":"R"},{"$f":"IF('Score Sheet'!AU42=\"\",\"R\",IF('Race results'!$C$32>0,ROUND(AVERAGE('Score Sheet'!$J42:AU42),1),ROUND(AVERAGE('Score Sheet'!$I42:AU42),1)))","v":"R"},{"$f":"IF('Score Sheet'!AV42=\"\",\"R\",IF('Race results'!$C$32>0,ROUND(AVERAGE('Score Sheet'!$J42:AV42),1),ROUND(AVERAGE('Score Sheet'!$I42:AV42),1)))","v":"R"},null,"",{"$f":"IF(C42=\"\",\"\",IF('Race results'!$C$7<1, \"E\", IF('Race results'!$C$32>0,IF(COUNT(AY42:CL42)<1,\"R\",ROUND(AVERAGE(AY42:CL42),1)),IF(COUNT(AX42:CL42)<1,\"R\",ROUND(AVERAGE(AX42:CL42),1)))))","v":""},null,null,"","","","","","","","","","","","","","","","","","","","","","","","","","","","","","","","","","","","","","","","",""]
[null,34,{"$f":"IF('Score Sheet'!C43=\"\",\"\",'Score Sheet'!C43)","v":""},{"$f":"'Race results'!$F$159","v":"DAFT!"},{"$f":"'Race results'!$F$159","v":"DAFT!"},{"$f":"IF('Score Sheet'!J43=\"\",\"R\",IF('Race results'!$C$32>0,'Race results'!$F$159,ROUND(AVERAGE('Score Sheet'!$I43:J43),1)))","v":"R"},{"$f":"IF('Score Sheet'!K43=\"\",\"R\",IF('Race results'!$C$32>0,ROUND(AVERAGE('Score Sheet'!$J43:K43),1),ROUND(AVERAGE('Score Sheet'!$I43:K43),1)))","v":"R"},{"$f":"IF('Score Sheet'!L43=\"\",\"R\",IF('Race results'!$C$32>0,ROUND(AVERAGE('Score Sheet'!$J43:L43),1),ROUND(AVERAGE('Score Sheet'!$I43:L43),1)))","v":"R"},{"$f":"IF('Score Sheet'!M43=\"\",\"R\",IF('Race results'!$C$32>0,ROUND(AVERAGE('Score Sheet'!$J43:M43),1),ROUND(AVERAGE('Score Sheet'!$I43:M43),1)))","v":"R"},{"$f":"IF('Score Sheet'!N43=\"\",\"R\",IF('Race results'!$C$32>0,ROUND(AVERAGE('Score Sheet'!$J43:N43),1),ROUND(AVERAGE('Score Sheet'!$I43:N43),1)))","v":"R"},{"$f":"IF('Score Sheet'!O43=\"\",\"R\",IF('Race results'!$C$32>0,ROUND(AVERAGE('Score Sheet'!$J43:O43),1),ROUND(AVERAGE('Score Sheet'!$I43:O43),1)))","v":"R"},{"$f":"IF('Score Sheet'!P43=\"\",\"R\",IF('Race results'!$C$32>0,ROUND(AVERAGE('Score Sheet'!$J43:P43),1),ROUND(AVERAGE('Score Sheet'!$I43:P43),1)))","v":"R"},{"$f":"IF('Score Sheet'!Q43=\"\",\"R\",IF('Race results'!$C$32>0,ROUND(AVERAGE('Score Sheet'!$J43:Q43),1),ROUND(AVERAGE('Score Sheet'!$I43:Q43),1)))","v":"R"},{"$f":"IF('Score Sheet'!R43=\"\",\"R\",IF('Race results'!$C$32>0,ROUND(AVERAGE('Score Sheet'!$J43:R43),1),ROUND(AVERAGE('Score Sheet'!$I43:R43),1)))","v":"R"},{"$f":"IF('Score Sheet'!S43=\"\",\"R\",IF('Race results'!$C$32>0,ROUND(AVERAGE('Score Sheet'!$J43:S43),1),ROUND(AVERAGE('Score Sheet'!$I43:S43),1)))","v":"R"},{"$f":"IF('Score Sheet'!T43=\"\",\"R\",IF('Race results'!$C$32>0,ROUND(AVERAGE('Score Sheet'!$J43:T43),1),ROUND(AVERAGE('Score Sheet'!$I43:T43),1)))","v":"R"},{"$f":"IF('Score Sheet'!U43=\"\",\"R\",IF('Race results'!$C$32>0,ROUND(AVERAGE('Score Sheet'!$J43:U43),1),ROUND(AVERAGE('Score Sheet'!$I43:U43),1)))","v":"R"},{"$f":"IF('Score Sheet'!V43=\"\",\"R\",IF('Race results'!$C$32>0,ROUND(AVERAGE('Score Sheet'!$J43:V43),1),ROUND(AVERAGE('Score Sheet'!$I43:V43),1)))","v":"R"},{"$f":"IF('Score Sheet'!W43=\"\",\"R\",IF('Race results'!$C$32>0,ROUND(AVERAGE('Score Sheet'!$J43:W43),1),ROUND(AVERAGE('Score Sheet'!$I43:W43),1)))","v":"R"},{"$f":"IF('Score Sheet'!X43=\"\",\"R\",IF('Race results'!$C$32>0,ROUND(AVERAGE('Score Sheet'!$J43:X43),1),ROUND(AVERAGE('Score Sheet'!$I43:X43),1)))","v":"R"},{"$f":"IF('Score Sheet'!Y43=\"\",\"R\",IF('Race results'!$C$32>0,ROUND(AVERAGE('Score Sheet'!$J43:Y43),1),ROUND(AVERAGE('Score Sheet'!$I43:Y43),1)))","v":"R"},{"$f":"IF('Score Sheet'!Z43=\"\",\"R\",IF('Race results'!$C$32>0,ROUND(AVERAGE('Score Sheet'!$J43:Z43),1),ROUND(AVERAGE('Score Sheet'!$I43:Z43),1)))","v":"R"},{"$f":"IF('Score Sheet'!AA43=\"\",\"R\",IF('Race results'!$C$32>0,ROUND(AVERAGE('Score Sheet'!$J43:AA43),1),ROUND(AVERAGE('Score Sheet'!$I43:AA43),1)))","v":"R"},{"$f":"IF('Score Sheet'!AB43=\"\",\"R\",IF('Race results'!$C$32>0,ROUND(AVERAGE('Score Sheet'!$J43:AB43),1),ROUND(AVERAGE('Score Sheet'!$I43:AB43),1)))","v":"R"},{"$f":"IF('Score Sheet'!AC43=\"\",\"R\",IF('Race results'!$C$32>0,ROUND(AVERAGE('Score Sheet'!$J43:AC43),1),ROUND(AVERAGE('Score Sheet'!$I43:AC43),1)))","v":"R"},{"$f":"IF('Score Sheet'!AD43=\"\",\"R\",IF('Race results'!$C$32>0,ROUND(AVERAGE('Score Sheet'!$J43:AD43),1),ROUND(AVERAGE('Score Sheet'!$I43:AD43),1)))","v":"R"},{"$f":"IF('Score Sheet'!AE43=\"\",\"R\",IF('Race results'!$C$32>0,ROUND(AVERAGE('Score Sheet'!$J43:AE43),1),ROUND(AVERAGE('Score Sheet'!$I43:AE43),1)))","v":"R"},{"$f":"IF('Score Sheet'!AF43=\"\",\"R\",IF('Race results'!$C$32>0,ROUND(AVERAGE('Score Sheet'!$J43:AF43),1),ROUND(AVERAGE('Score Sheet'!$I43:AF43),1)))","v":"R"},{"$f":"IF('Score Sheet'!AG43=\"\",\"R\",IF('Race results'!$C$32>0,ROUND(AVERAGE('Score Sheet'!$J43:AG43),1),ROUND(AVERAGE('Score Sheet'!$I43:AG43),1)))","v":"R"},{"$f":"IF('Score Sheet'!AH43=\"\",\"R\",IF('Race results'!$C$32>0,ROUND(AVERAGE('Score Sheet'!$J43:AH43),1),ROUND(AVERAGE('Score Sheet'!$I43:AH43),1)))","v":"R"},{"$f":"IF('Score Sheet'!AI43=\"\",\"R\",IF('Race results'!$C$32>0,ROUND(AVERAGE('Score Sheet'!$J43:AI43),1),ROUND(AVERAGE('Score Sheet'!$I43:AI43),1)))","v":"R"},{"$f":"IF('Score Sheet'!AJ43=\"\",\"R\",IF('Race results'!$C$32>0,ROUND(AVERAGE('Score Sheet'!$J43:AJ43),1),ROUND(AVERAGE('Score Sheet'!$I43:AJ43),1)))","v":"R"},{"$f":"IF('Score Sheet'!AK43=\"\",\"R\",IF('Race results'!$C$32>0,ROUND(AVERAGE('Score Sheet'!$J43:AK43),1),ROUND(AVERAGE('Score Sheet'!$I43:AK43),1)))","v":"R"},{"$f":"IF('Score Sheet'!AL43=\"\",\"R\",IF('Race results'!$C$32>0,ROUND(AVERAGE('Score Sheet'!$J43:AL43),1),ROUND(AVERAGE('Score Sheet'!$I43:AL43),1)))","v":"R"},{"$f":"IF('Score Sheet'!AM43=\"\",\"R\",IF('Race results'!$C$32>0,ROUND(AVERAGE('Score Sheet'!$J43:AM43),1),ROUND(AVERAGE('Score Sheet'!$I43:AM43),1)))","v":"R"},{"$f":"IF('Score Sheet'!AN43=\"\",\"R\",IF('Race results'!$C$32>0,ROUND(AVERAGE('Score Sheet'!$J43:AN43),1),ROUND(AVERAGE('Score Sheet'!$I43:AN43),1)))","v":"R"},{"$f":"IF('Score Sheet'!AO43=\"\",\"R\",IF('Race results'!$C$32>0,ROUND(AVERAGE('Score Sheet'!$J43:AO43),1),ROUND(AVERAGE('Score Sheet'!$I43:AO43),1)))","v":"R"},{"$f":"IF('Score Sheet'!AP43=\"\",\"R\",IF('Race results'!$C$32>0,ROUND(AVERAGE('Score Sheet'!$J43:AP43),1),ROUND(AVERAGE('Score Sheet'!$I43:AP43),1)))","v":"R"},{"$f":"IF('Score Sheet'!AQ43=\"\",\"R\",IF('Race results'!$C$32>0,ROUND(AVERAGE('Score Sheet'!$J43:AQ43),1),ROUND(AVERAGE('Score Sheet'!$I43:AQ43),1)))","v":"R"},{"$f":"IF('Score Sheet'!AR43=\"\",\"R\",IF('Race results'!$C$32>0,ROUND(AVERAGE('Score Sheet'!$J43:AR43),1),ROUND(AVERAGE('Score Sheet'!$I43:AR43),1)))","v":"R"},{"$f":"IF('Score Sheet'!AS43=\"\",\"R\",IF('Race results'!$C$32>0,ROUND(AVERAGE('Score Sheet'!$J43:AS43),1),ROUND(AVERAGE('Score Sheet'!$I43:AS43),1)))","v":"R"},{"$f":"IF('Score Sheet'!AT43=\"\",\"R\",IF('Race results'!$C$32>0,ROUND(AVERAGE('Score Sheet'!$J43:AT43),1),ROUND(AVERAGE('Score Sheet'!$I43:AT43),1)))","v":"R"},{"$f":"IF('Score Sheet'!AU43=\"\",\"R\",IF('Race results'!$C$32>0,ROUND(AVERAGE('Score Sheet'!$J43:AU43),1),ROUND(AVERAGE('Score Sheet'!$I43:AU43),1)))","v":"R"},{"$f":"IF('Score Sheet'!AV43=\"\",\"R\",IF('Race results'!$C$32>0,ROUND(AVERAGE('Score Sheet'!$J43:AV43),1),ROUND(AVERAGE('Score Sheet'!$I43:AV43),1)))","v":"R"},null,"",{"$f":"IF(C43=\"\",\"\",IF('Race results'!$C$7<1, \"E\", IF('Race results'!$C$32>0,IF(COUNT(AY43:CL43)<1,\"R\",ROUND(AVERAGE(AY43:CL43),1)),IF(COUNT(AX43:CL43)<1,\"R\",ROUND(AVERAGE(AX43:CL43),1)))))","v":""},null,null,"","","","","","","","","","","","","","","","","","","","","","","","","","","","","","","","","","","","","","","","",""]
[null,35,{"$f":"IF('Score Sheet'!C44=\"\",\"\",'Score Sheet'!C44)","v":""},{"$f":"'Race results'!$F$159","v":"DAFT!"},{"$f":"'Race results'!$F$159","v":"DAFT!"},{"$f":"IF('Score Sheet'!J44=\"\",\"R\",IF('Race results'!$C$32>0,'Race results'!$F$159,ROUND(AVERAGE('Score Sheet'!$I44:J44),1)))","v":"R"},{"$f":"IF('Score Sheet'!K44=\"\",\"R\",IF('Race results'!$C$32>0,ROUND(AVERAGE('Score Sheet'!$J44:K44),1),ROUND(AVERAGE('Score Sheet'!$I44:K44),1)))","v":"R"},{"$f":"IF('Score Sheet'!L44=\"\",\"R\",IF('Race results'!$C$32>0,ROUND(AVERAGE('Score Sheet'!$J44:L44),1),ROUND(AVERAGE('Score Sheet'!$I44:L44),1)))","v":"R"},{"$f":"IF('Score Sheet'!M44=\"\",\"R\",IF('Race results'!$C$32>0,ROUND(AVERAGE('Score Sheet'!$J44:M44),1),ROUND(AVERAGE('Score Sheet'!$I44:M44),1)))","v":"R"},{"$f":"IF('Score Sheet'!N44=\"\",\"R\",IF('Race results'!$C$32>0,ROUND(AVERAGE('Score Sheet'!$J44:N44),1),ROUND(AVERAGE('Score Sheet'!$I44:N44),1)))","v":"R"},{"$f":"IF('Score Sheet'!O44=\"\",\"R\",IF('Race results'!$C$32>0,ROUND(AVERAGE('Score Sheet'!$J44:O44),1),ROUND(AVERAGE('Score Sheet'!$I44:O44),1)))","v":"R"},{"$f":"IF('Score Sheet'!P44=\"\",\"R\",IF('Race results'!$C$32>0,ROUND(AVERAGE('Score Sheet'!$J44:P44),1),ROUND(AVERAGE('Score Sheet'!$I44:P44),1)))","v":"R"},{"$f":"IF('Score Sheet'!Q44=\"\",\"R\",IF('Race results'!$C$32>0,ROUND(AVERAGE('Score Sheet'!$J44:Q44),1),ROUND(AVERAGE('Score Sheet'!$I44:Q44),1)))","v":"R"},{"$f":"IF('Score Sheet'!R44=\"\",\"R\",IF('Race results'!$C$32>0,ROUND(AVERAGE('Score Sheet'!$J44:R44),1),ROUND(AVERAGE('Score Sheet'!$I44:R44),1)))","v":"R"},{"$f":"IF('Score Sheet'!S44=\"\",\"R\",IF('Race results'!$C$32>0,ROUND(AVERAGE('Score Sheet'!$J44:S44),1),ROUND(AVERAGE('Score Sheet'!$I44:S44),1)))","v":"R"},{"$f":"IF('Score Sheet'!T44=\"\",\"R\",IF('Race results'!$C$32>0,ROUND(AVERAGE('Score Sheet'!$J44:T44),1),ROUND(AVERAGE('Score Sheet'!$I44:T44),1)))","v":"R"},{"$f":"IF('Score Sheet'!U44=\"\",\"R\",IF('Race results'!$C$32>0,ROUND(AVERAGE('Score Sheet'!$J44:U44),1),ROUND(AVERAGE('Score Sheet'!$I44:U44),1)))","v":"R"},{"$f":"IF('Score Sheet'!V44=\"\",\"R\",IF('Race results'!$C$32>0,ROUND(AVERAGE('Score Sheet'!$J44:V44),1),ROUND(AVERAGE('Score Sheet'!$I44:V44),1)))","v":"R"},{"$f":"IF('Score Sheet'!W44=\"\",\"R\",IF('Race results'!$C$32>0,ROUND(AVERAGE('Score Sheet'!$J44:W44),1),ROUND(AVERAGE('Score Sheet'!$I44:W44),1)))","v":"R"},{"$f":"IF('Score Sheet'!X44=\"\",\"R\",IF('Race results'!$C$32>0,ROUND(AVERAGE('Score Sheet'!$J44:X44),1),ROUND(AVERAGE('Score Sheet'!$I44:X44),1)))","v":"R"},{"$f":"IF('Score Sheet'!Y44=\"\",\"R\",IF('Race results'!$C$32>0,ROUND(AVERAGE('Score Sheet'!$J44:Y44),1),ROUND(AVERAGE('Score Sheet'!$I44:Y44),1)))","v":"R"},{"$f":"IF('Score Sheet'!Z44=\"\",\"R\",IF('Race results'!$C$32>0,ROUND(AVERAGE('Score Sheet'!$J44:Z44),1),ROUND(AVERAGE('Score Sheet'!$I44:Z44),1)))","v":"R"},{"$f":"IF('Score Sheet'!AA44=\"\",\"R\",IF('Race results'!$C$32>0,ROUND(AVERAGE('Score Sheet'!$J44:AA44),1),ROUND(AVERAGE('Score Sheet'!$I44:AA44),1)))","v":"R"},{"$f":"IF('Score Sheet'!AB44=\"\",\"R\",IF('Race results'!$C$32>0,ROUND(AVERAGE('Score Sheet'!$J44:AB44),1),ROUND(AVERAGE('Score Sheet'!$I44:AB44),1)))","v":"R"},{"$f":"IF('Score Sheet'!AC44=\"\",\"R\",IF('Race results'!$C$32>0,ROUND(AVERAGE('Score Sheet'!$J44:AC44),1),ROUND(AVERAGE('Score Sheet'!$I44:AC44),1)))","v":"R"},{"$f":"IF('Score Sheet'!AD44=\"\",\"R\",IF('Race results'!$C$32>0,ROUND(AVERAGE('Score Sheet'!$J44:AD44),1),ROUND(AVERAGE('Score Sheet'!$I44:AD44),1)))","v":"R"},{"$f":"IF('Score Sheet'!AE44=\"\",\"R\",IF('Race results'!$C$32>0,ROUND(AVERAGE('Score Sheet'!$J44:AE44),1),ROUND(AVERAGE('Score Sheet'!$I44:AE44),1)))","v":"R"},{"$f":"IF('Score Sheet'!AF44=\"\",\"R\",IF('Race results'!$C$32>0,ROUND(AVERAGE('Score Sheet'!$J44:AF44),1),ROUND(AVERAGE('Score Sheet'!$I44:AF44),1)))","v":"R"},{"$f":"IF('Score Sheet'!AG44=\"\",\"R\",IF('Race results'!$C$32>0,ROUND(AVERAGE('Score Sheet'!$J44:AG44),1),ROUND(AVERAGE('Score Sheet'!$I44:AG44),1)))","v":"R"},{"$f":"IF('Score Sheet'!AH44=\"\",\"R\",IF('Race results'!$C$32>0,ROUND(AVERAGE('Score Sheet'!$J44:AH44),1),ROUND(AVERAGE('Score Sheet'!$I44:AH44),1)))","v":"R"},{"$f":"IF('Score Sheet'!AI44=\"\",\"R\",IF('Race results'!$C$32>0,ROUND(AVERAGE('Score Sheet'!$J44:AI44),1),ROUND(AVERAGE('Score Sheet'!$I44:AI44),1)))","v":"R"},{"$f":"IF('Score Sheet'!AJ44=\"\",\"R\",IF('Race results'!$C$32>0,ROUND(AVERAGE('Score Sheet'!$J44:AJ44),1),ROUND(AVERAGE('Score Sheet'!$I44:AJ44),1)))","v":"R"},{"$f":"IF('Score Sheet'!AK44=\"\",\"R\",IF('Race results'!$C$32>0,ROUND(AVERAGE('Score Sheet'!$J44:AK44),1),ROUND(AVERAGE('Score Sheet'!$I44:AK44),1)))","v":"R"},{"$f":"IF('Score Sheet'!AL44=\"\",\"R\",IF('Race results'!$C$32>0,ROUND(AVERAGE('Score Sheet'!$J44:AL44),1),ROUND(AVERAGE('Score Sheet'!$I44:AL44),1)))","v":"R"},{"$f":"IF('Score Sheet'!AM44=\"\",\"R\",IF('Race results'!$C$32>0,ROUND(AVERAGE('Score Sheet'!$J44:AM44),1),ROUND(AVERAGE('Score Sheet'!$I44:AM44),1)))","v":"R"},{"$f":"IF('Score Sheet'!AN44=\"\",\"R\",IF('Race results'!$C$32>0,ROUND(AVERAGE('Score Sheet'!$J44:AN44),1),ROUND(AVERAGE('Score Sheet'!$I44:AN44),1)))","v":"R"},{"$f":"IF('Score Sheet'!AO44=\"\",\"R\",IF('Race results'!$C$32>0,ROUND(AVERAGE('Score Sheet'!$J44:AO44),1),ROUND(AVERAGE('Score Sheet'!$I44:AO44),1)))","v":"R"},{"$f":"IF('Score Sheet'!AP44=\"\",\"R\",IF('Race results'!$C$32>0,ROUND(AVERAGE('Score Sheet'!$J44:AP44),1),ROUND(AVERAGE('Score Sheet'!$I44:AP44),1)))","v":"R"},{"$f":"IF('Score Sheet'!AQ44=\"\",\"R\",IF('Race results'!$C$32>0,ROUND(AVERAGE('Score Sheet'!$J44:AQ44),1),ROUND(AVERAGE('Score Sheet'!$I44:AQ44),1)))","v":"R"},{"$f":"IF('Score Sheet'!AR44=\"\",\"R\",IF('Race results'!$C$32>0,ROUND(AVERAGE('Score Sheet'!$J44:AR44),1),ROUND(AVERAGE('Score Sheet'!$I44:AR44),1)))","v":"R"},{"$f":"IF('Score Sheet'!AS44=\"\",\"R\",IF('Race results'!$C$32>0,ROUND(AVERAGE('Score Sheet'!$J44:AS44),1),ROUND(AVERAGE('Score Sheet'!$I44:AS44),1)))","v":"R"},{"$f":"IF('Score Sheet'!AT44=\"\",\"R\",IF('Race results'!$C$32>0,ROUND(AVERAGE('Score Sheet'!$J44:AT44),1),ROUND(AVERAGE('Score Sheet'!$I44:AT44),1)))","v":"R"},{"$f":"IF('Score Sheet'!AU44=\"\",\"R\",IF('Race results'!$C$32>0,ROUND(AVERAGE('Score Sheet'!$J44:AU44),1),ROUND(AVERAGE('Score Sheet'!$I44:AU44),1)))","v":"R"},{"$f":"IF('Score Sheet'!AV44=\"\",\"R\",IF('Race results'!$C$32>0,ROUND(AVERAGE('Score Sheet'!$J44:AV44),1),ROUND(AVERAGE('Score Sheet'!$I44:AV44),1)))","v":"R"},null,"",{"$f":"IF(C44=\"\",\"\",IF('Race results'!$C$7<1, \"E\", IF('Race results'!$C$32>0,IF(COUNT(AY44:CL44)<1,\"R\",ROUND(AVERAGE(AY44:CL44),1)),IF(COUNT(AX44:CL44)<1,\"R\",ROUND(AVERAGE(AX44:CL44),1)))))","v":""},null,null,"","","","","","","","","","","","","","","","","","","","","","","","","","","","","","","","","","","","","","","","",""]
[null,36,{"$f":"IF('Score Sheet'!C45=\"\",\"\",'Score Sheet'!C45)","v":""},{"$f":"'Race results'!$F$159","v":"DAFT!"},{"$f":"'Race results'!$F$159","v":"DAFT!"},{"$f":"IF('Score Sheet'!J45=\"\",\"R\",IF('Race results'!$C$32>0,'Race results'!$F$159,ROUND(AVERAGE('Score Sheet'!$I45:J45),1)))","v":"R"},{"$f":"IF('Score Sheet'!K45=\"\",\"R\",IF('Race results'!$C$32>0,ROUND(AVERAGE('Score Sheet'!$J45:K45),1),ROUND(AVERAGE('Score Sheet'!$I45:K45),1)))","v":"R"},{"$f":"IF('Score Sheet'!L45=\"\",\"R\",IF('Race results'!$C$32>0,ROUND(AVERAGE('Score Sheet'!$J45:L45),1),ROUND(AVERAGE('Score Sheet'!$I45:L45),1)))","v":"R"},{"$f":"IF('Score Sheet'!M45=\"\",\"R\",IF('Race results'!$C$32>0,ROUND(AVERAGE('Score Sheet'!$J45:M45),1),ROUND(AVERAGE('Score Sheet'!$I45:M45),1)))","v":"R"},{"$f":"IF('Score Sheet'!N45=\"\",\"R\",IF('Race results'!$C$32>0,ROUND(AVERAGE('Score Sheet'!$J45:N45),1),ROUND(AVERAGE('Score Sheet'!$I45:N45),1)))","v":"R"},{"$f":"IF('Score Sheet'!O45=\"\",\"R\",IF('Race results'!$C$32>0,ROUND(AVERAGE('Score Sheet'!$J45:O45),1),ROUND(AVERAGE('Score Sheet'!$I45:O45),1)))","v":"R"},{"$f":"IF('Score Sheet'!P45=\"\",\"R\",IF('Race results'!$C$32>0,ROUND(AVERAGE('Score Sheet'!$J45:P45),1),ROUND(AVERAGE('Score Sheet'!$I45:P45),1)))","v":"R"},{"$f":"IF('Score Sheet'!Q45=\"\",\"R\",IF('Race results'!$C$32>0,ROUND(AVERAGE('Score Sheet'!$J45:Q45),1),ROUND(AVERAGE('Score Sheet'!$I45:Q45),1)))","v":"R"},{"$f":"IF('Score Sheet'!R45=\"\",\"R\",IF('Race results'!$C$32>0,ROUND(AVERAGE('Score Sheet'!$J45:R45),1),ROUND(AVERAGE('Score Sheet'!$I45:R45),1)))","v":"R"},{"$f":"IF('Score Sheet'!S45=\"\",\"R\",IF('Race results'!$C$32>0,ROUND(AVERAGE('Score Sheet'!$J45:S45),1),ROUND(AVERAGE('Score Sheet'!$I45:S45),1)))","v":"R"},{"$f":"IF('Score Sheet'!T45=\"\",\"R\",IF('Race results'!$C$32>0,ROUND(AVERAGE('Score Sheet'!$J45:T45),1),ROUND(AVERAGE('Score Sheet'!$I45:T45),1)))","v":"R"},{"$f":"IF('Score Sheet'!U45=\"\",\"R\",IF('Race results'!$C$32>0,ROUND(AVERAGE('Score Sheet'!$J45:U45),1),ROUND(AVERAGE('Score Sheet'!$I45:U45),1)))","v":"R"},{"$f":"IF('Score Sheet'!V45=\"\",\"R\",IF('Race results'!$C$32>0,ROUND(AVERAGE('Score Sheet'!$J45:V45),1),ROUND(AVERAGE('Score Sheet'!$I45:V45),1)))","v":"R"},{"$f":"IF('Score Sheet'!W45=\"\",\"R\",IF('Race results'!$C$32>0,ROUND(AVERAGE('Score Sheet'!$J45:W45),1),ROUND(AVERAGE('Score Sheet'!$I45:W45),1)))","v":"R"},{"$f":"IF('Score Sheet'!X45=\"\",\"R\",IF('Race results'!$C$32>0,ROUND(AVERAGE('Score Sheet'!$J45:X45),1),ROUND(AVERAGE('Score Sheet'!$I45:X45),1)))","v":"R"},{"$f":"IF('Score Sheet'!Y45=\"\",\"R\",IF('Race results'!$C$32>0,ROUND(AVERAGE('Score Sheet'!$J45:Y45),1),ROUND(AVERAGE('Score Sheet'!$I45:Y45),1)))","v":"R"},{"$f":"IF('Score Sheet'!Z45=\"\",\"R\",IF('Race results'!$C$32>0,ROUND(AVERAGE('Score Sheet'!$J45:Z45),1),ROUND(AVERAGE('Score Sheet'!$I45:Z45),1)))","v":"R"},{"$f":"IF('Score Sheet'!AA45=\"\",\"R\",IF('Race results'!$C$32>0,ROUND(AVERAGE('Score Sheet'!$J45:AA45),1),ROUND(AVERAGE('Score Sheet'!$I45:AA45),1)))","v":"R"},{"$f":"IF('Score Sheet'!AB45=\"\",\"R\",IF('Race results'!$C$32>0,ROUND(AVERAGE('Score Sheet'!$J45:AB45),1),ROUND(AVERAGE('Score Sheet'!$I45:AB45),1)))","v":"R"},{"$f":"IF('Score Sheet'!AC45=\"\",\"R\",IF('Race results'!$C$32>0,ROUND(AVERAGE('Score Sheet'!$J45:AC45),1),ROUND(AVERAGE('Score Sheet'!$I45:AC45),1)))","v":"R"},{"$f":"IF('Score Sheet'!AD45=\"\",\"R\",IF('Race results'!$C$32>0,ROUND(AVERAGE('Score Sheet'!$J45:AD45),1),ROUND(AVERAGE('Score Sheet'!$I45:AD45),1)))","v":"R"},{"$f":"IF('Score Sheet'!AE45=\"\",\"R\",IF('Race results'!$C$32>0,ROUND(AVERAGE('Score Sheet'!$J45:AE45),1),ROUND(AVERAGE('Score Sheet'!$I45:AE45),1)))","v":"R"},{"$f":"IF('Score Sheet'!AF45=\"\",\"R\",IF('Race results'!$C$32>0,ROUND(AVERAGE('Score Sheet'!$J45:AF45),1),ROUND(AVERAGE('Score Sheet'!$I45:AF45),1)))","v":"R"},{"$f":"IF('Score Sheet'!AG45=\"\",\"R\",IF('Race results'!$C$32>0,ROUND(AVERAGE('Score Sheet'!$J45:AG45),1),ROUND(AVERAGE('Score Sheet'!$I45:AG45),1)))","v":"R"},{"$f":"IF('Score Sheet'!AH45=\"\",\"R\",IF('Race results'!$C$32>0,ROUND(AVERAGE('Score Sheet'!$J45:AH45),1),ROUND(AVERAGE('Score Sheet'!$I45:AH45),1)))","v":"R"},{"$f":"IF('Score Sheet'!AI45=\"\",\"R\",IF('Race results'!$C$32>0,ROUND(AVERAGE('Score Sheet'!$J45:AI45),1),ROUND(AVERAGE('Score Sheet'!$I45:AI45),1)))","v":"R"},{"$f":"IF('Score Sheet'!AJ45=\"\",\"R\",IF('Race results'!$C$32>0,ROUND(AVERAGE('Score Sheet'!$J45:AJ45),1),ROUND(AVERAGE('Score Sheet'!$I45:AJ45),1)))","v":"R"},{"$f":"IF('Score Sheet'!AK45=\"\",\"R\",IF('Race results'!$C$32>0,ROUND(AVERAGE('Score Sheet'!$J45:AK45),1),ROUND(AVERAGE('Score Sheet'!$I45:AK45),1)))","v":"R"},{"$f":"IF('Score Sheet'!AL45=\"\",\"R\",IF('Race results'!$C$32>0,ROUND(AVERAGE('Score Sheet'!$J45:AL45),1),ROUND(AVERAGE('Score Sheet'!$I45:AL45),1)))","v":"R"},{"$f":"IF('Score Sheet'!AM45=\"\",\"R\",IF('Race results'!$C$32>0,ROUND(AVERAGE('Score Sheet'!$J45:AM45),1),ROUND(AVERAGE('Score Sheet'!$I45:AM45),1)))","v":"R"},{"$f":"IF('Score Sheet'!AN45=\"\",\"R\",IF('Race results'!$C$32>0,ROUND(AVERAGE('Score Sheet'!$J45:AN45),1),ROUND(AVERAGE('Score Sheet'!$I45:AN45),1)))","v":"R"},{"$f":"IF('Score Sheet'!AO45=\"\",\"R\",IF('Race results'!$C$32>0,ROUND(AVERAGE('Score Sheet'!$J45:AO45),1),ROUND(AVERAGE('Score Sheet'!$I45:AO45),1)))","v":"R"},{"$f":"IF('Score Sheet'!AP45=\"\",\"R\",IF('Race results'!$C$32>0,ROUND(AVERAGE('Score Sheet'!$J45:AP45),1),ROUND(AVERAGE('Score Sheet'!$I45:AP45),1)))","v":"R"},{"$f":"IF('Score Sheet'!AQ45=\"\",\"R\",IF('Race results'!$C$32>0,ROUND(AVERAGE('Score Sheet'!$J45:AQ45),1),ROUND(AVERAGE('Score Sheet'!$I45:AQ45),1)))","v":"R"},{"$f":"IF('Score Sheet'!AR45=\"\",\"R\",IF('Race results'!$C$32>0,ROUND(AVERAGE('Score Sheet'!$J45:AR45),1),ROUND(AVERAGE('Score Sheet'!$I45:AR45),1)))","v":"R"},{"$f":"IF('Score Sheet'!AS45=\"\",\"R\",IF('Race results'!$C$32>0,ROUND(AVERAGE('Score Sheet'!$J45:AS45),1),ROUND(AVERAGE('Score Sheet'!$I45:AS45),1)))","v":"R"},{"$f":"IF('Score Sheet'!AT45=\"\",\"R\",IF('Race results'!$C$32>0,ROUND(AVERAGE('Score Sheet'!$J45:AT45),1),ROUND(AVERAGE('Score Sheet'!$I45:AT45),1)))","v":"R"},{"$f":"IF('Score Sheet'!AU45=\"\",\"R\",IF('Race results'!$C$32>0,ROUND(AVERAGE('Score Sheet'!$J45:AU45),1),ROUND(AVERAGE('Score Sheet'!$I45:AU45),1)))","v":"R"},{"$f":"IF('Score Sheet'!AV45=\"\",\"R\",IF('Race results'!$C$32>0,ROUND(AVERAGE('Score Sheet'!$J45:AV45),1),ROUND(AVERAGE('Score Sheet'!$I45:AV45),1)))","v":"R"},null,"",{"$f":"IF(C45=\"\",\"\",IF('Race results'!$C$7<1, \"E\", IF('Race results'!$C$32>0,IF(COUNT(AY45:CL45)<1,\"R\",ROUND(AVERAGE(AY45:CL45),1)),IF(COUNT(AX45:CL45)<1,\"R\",ROUND(AVERAGE(AX45:CL45),1)))))","v":""},null,null,"","","","","","","","","","","","","","","","","","","","","","","","","","","","","","","","","","","","","","","","",""]
[null,37,{"$f":"IF('Score Sheet'!C46=\"\",\"\",'Score Sheet'!C46)","v":""},{"$f":"'Race results'!$F$159","v":"DAFT!"},{"$f":"'Race results'!$F$159","v":"DAFT!"},{"$f":"IF('Score Sheet'!J46=\"\",\"R\",IF('Race results'!$C$32>0,'Race results'!$F$159,ROUND(AVERAGE('Score Sheet'!$I46:J46),1)))","v":"R"},{"$f":"IF('Score Sheet'!K46=\"\",\"R\",IF('Race results'!$C$32>0,ROUND(AVERAGE('Score Sheet'!$J46:K46),1),ROUND(AVERAGE('Score Sheet'!$I46:K46),1)))","v":"R"},{"$f":"IF('Score Sheet'!L46=\"\",\"R\",IF('Race results'!$C$32>0,ROUND(AVERAGE('Score Sheet'!$J46:L46),1),ROUND(AVERAGE('Score Sheet'!$I46:L46),1)))","v":"R"},{"$f":"IF('Score Sheet'!M46=\"\",\"R\",IF('Race results'!$C$32>0,ROUND(AVERAGE('Score Sheet'!$J46:M46),1),ROUND(AVERAGE('Score Sheet'!$I46:M46),1)))","v":"R"},{"$f":"IF('Score Sheet'!N46=\"\",\"R\",IF('Race results'!$C$32>0,ROUND(AVERAGE('Score Sheet'!$J46:N46),1),ROUND(AVERAGE('Score Sheet'!$I46:N46),1)))","v":"R"},{"$f":"IF('Score Sheet'!O46=\"\",\"R\",IF('Race results'!$C$32>0,ROUND(AVERAGE('Score Sheet'!$J46:O46),1),ROUND(AVERAGE('Score Sheet'!$I46:O46),1)))","v":"R"},{"$f":"IF('Score Sheet'!P46=\"\",\"R\",IF('Race results'!$C$32>0,ROUND(AVERAGE('Score Sheet'!$J46:P46),1),ROUND(AVERAGE('Score Sheet'!$I46:P46),1)))","v":"R"},{"$f":"IF('Score Sheet'!Q46=\"\",\"R\",IF('Race results'!$C$32>0,ROUND(AVERAGE('Score Sheet'!$J46:Q46),1),ROUND(AVERAGE('Score Sheet'!$I46:Q46),1)))","v":"R"},{"$f":"IF('Score Sheet'!R46=\"\",\"R\",IF('Race results'!$C$32>0,ROUND(AVERAGE('Score Sheet'!$J46:R46),1),ROUND(AVERAGE('Score Sheet'!$I46:R46),1)))","v":"R"},{"$f":"IF('Score Sheet'!S46=\"\",\"R\",IF('Race results'!$C$32>0,ROUND(AVERAGE('Score Sheet'!$J46:S46),1),ROUND(AVERAGE('Score Sheet'!$I46:S46),1)))","v":"R"},{"$f":"IF('Score Sheet'!T46=\"\",\"R\",IF('Race results'!$C$32>0,ROUND(AVERAGE('Score Sheet'!$J46:T46),1),ROUND(AVERAGE('Score Sheet'!$I46:T46),1)))","v":"R"},{"$f":"IF('Score Sheet'!U46=\"\",\"R\",IF('Race results'!$C$32>0,ROUND(AVERAGE('Score Sheet'!$J46:U46),1),ROUND(AVERAGE('Score Sheet'!$I46:U46),1)))","v":"R"},{"$f":"IF('Score Sheet'!V46=\"\",\"R\",IF('Race results'!$C$32>0,ROUND(AVERAGE('Score Sheet'!$J46:V46),1),ROUND(AVERAGE('Score Sheet'!$I46:V46),1)))","v":"R"},{"$f":"IF('Score Sheet'!W46=\"\",\"R\",IF('Race results'!$C$32>0,ROUND(AVERAGE('Score Sheet'!$J46:W46),1),ROUND(AVERAGE('Score Sheet'!$I46:W46),1)))","v":"R"},{"$f":"IF('Score Sheet'!X46=\"\",\"R\",IF('Race results'!$C$32>0,ROUND(AVERAGE('Score Sheet'!$J46:X46),1),ROUND(AVERAGE('Score Sheet'!$I46:X46),1)))","v":"R"},{"$f":"IF('Score Sheet'!Y46=\"\",\"R\",IF('Race results'!$C$32>0,ROUND(AVERAGE('Score Sheet'!$J46:Y46),1),ROUND(AVERAGE('Score Sheet'!$I46:Y46),1)))","v":"R"},{"$f":"IF('Score Sheet'!Z46=\"\",\"R\",IF('Race results'!$C$32>0,ROUND(AVERAGE('Score Sheet'!$J46:Z46),1),ROUND(AVERAGE('Score Sheet'!$I46:Z46),1)))","v":"R"},{"$f":"IF('Score Sheet'!AA46=\"\",\"R\",IF('Race results'!$C$32>0,ROUND(AVERAGE('Score Sheet'!$J46:AA46),1),ROUND(AVERAGE('Score Sheet'!$I46:AA46),1)))","v":"R"},{"$f":"IF('Score Sheet'!AB46=\"\",\"R\",IF('Race results'!$C$32>0,ROUND(AVERAGE('Score Sheet'!$J46:AB46),1),ROUND(AVERAGE('Score Sheet'!$I46:AB46),1)))","v":"R"},{"$f":"IF('Score Sheet'!AC46=\"\",\"R\",IF('Race results'!$C$32>0,ROUND(AVERAGE('Score Sheet'!$J46:AC46),1),ROUND(AVERAGE('Score Sheet'!$I46:AC46),1)))","v":"R"},{"$f":"IF('Score Sheet'!AD46=\"\",\"R\",IF('Race results'!$C$32>0,ROUND(AVERAGE('Score Sheet'!$J46:AD46),1),ROUND(AVERAGE('Score Sheet'!$I46:AD46),1)))","v":"R"},{"$f":"IF('Score Sheet'!AE46=\"\",\"R\",IF('Race results'!$C$32>0,ROUND(AVERAGE('Score Sheet'!$J46:AE46),1),ROUND(AVERAGE('Score Sheet'!$I46:AE46),1)))","v":"R"},{"$f":"IF('Score Sheet'!AF46=\"\",\"R\",IF('Race results'!$C$32>0,ROUND(AVERAGE('Score Sheet'!$J46:AF46),1),ROUND(AVERAGE('Score Sheet'!$I46:AF46),1)))","v":"R"},{"$f":"IF('Score Sheet'!AG46=\"\",\"R\",IF('Race results'!$C$32>0,ROUND(AVERAGE('Score Sheet'!$J46:AG46),1),ROUND(AVERAGE('Score Sheet'!$I46:AG46),1)))","v":"R"},{"$f":"IF('Score Sheet'!AH46=\"\",\"R\",IF('Race results'!$C$32>0,ROUND(AVERAGE('Score Sheet'!$J46:AH46),1),ROUND(AVERAGE('Score Sheet'!$I46:AH46),1)))","v":"R"},{"$f":"IF('Score Sheet'!AI46=\"\",\"R\",IF('Race results'!$C$32>0,ROUND(AVERAGE('Score Sheet'!$J46:AI46),1),ROUND(AVERAGE('Score Sheet'!$I46:AI46),1)))","v":"R"},{"$f":"IF('Score Sheet'!AJ46=\"\",\"R\",IF('Race results'!$C$32>0,ROUND(AVERAGE('Score Sheet'!$J46:AJ46),1),ROUND(AVERAGE('Score Sheet'!$I46:AJ46),1)))","v":"R"},{"$f":"IF('Score Sheet'!AK46=\"\",\"R\",IF('Race results'!$C$32>0,ROUND(AVERAGE('Score Sheet'!$J46:AK46),1),ROUND(AVERAGE('Score Sheet'!$I46:AK46),1)))","v":"R"},{"$f":"IF('Score Sheet'!AL46=\"\",\"R\",IF('Race results'!$C$32>0,ROUND(AVERAGE('Score Sheet'!$J46:AL46),1),ROUND(AVERAGE('Score Sheet'!$I46:AL46),1)))","v":"R"},{"$f":"IF('Score Sheet'!AM46=\"\",\"R\",IF('Race results'!$C$32>0,ROUND(AVERAGE('Score Sheet'!$J46:AM46),1),ROUND(AVERAGE('Score Sheet'!$I46:AM46),1)))","v":"R"},{"$f":"IF('Score Sheet'!AN46=\"\",\"R\",IF('Race results'!$C$32>0,ROUND(AVERAGE('Score Sheet'!$J46:AN46),1),ROUND(AVERAGE('Score Sheet'!$I46:AN46),1)))","v":"R"},{"$f":"IF('Score Sheet'!AO46=\"\",\"R\",IF('Race results'!$C$32>0,ROUND(AVERAGE('Score Sheet'!$J46:AO46),1),ROUND(AVERAGE('Score Sheet'!$I46:AO46),1)))","v":"R"},{"$f":"IF('Score Sheet'!AP46=\"\",\"R\",IF('Race results'!$C$32>0,ROUND(AVERAGE('Score Sheet'!$J46:AP46),1),ROUND(AVERAGE('Score Sheet'!$I46:AP46),1)))","v":"R"},{"$f":"IF('Score Sheet'!AQ46=\"\",\"R\",IF('Race results'!$C$32>0,ROUND(AVERAGE('Score Sheet'!$J46:AQ46),1),ROUND(AVERAGE('Score Sheet'!$I46:AQ46),1)))","v":"R"},{"$f":"IF('Score Sheet'!AR46=\"\",\"R\",IF('Race results'!$C$32>0,ROUND(AVERAGE('Score Sheet'!$J46:AR46),1),ROUND(AVERAGE('Score Sheet'!$I46:AR46),1)))","v":"R"},{"$f":"IF('Score Sheet'!AS46=\"\",\"R\",IF('Race results'!$C$32>0,ROUND(AVERAGE('Score Sheet'!$J46:AS46),1),ROUND(AVERAGE('Score Sheet'!$I46:AS46),1)))","v":"R"},{"$f":"IF('Score Sheet'!AT46=\"\",\"R\",IF('Race results'!$C$32>0,ROUND(AVERAGE('Score Sheet'!$J46:AT46),1),ROUND(AVERAGE('Score Sheet'!$I46:AT46),1)))","v":"R"},{"$f":"IF('Score Sheet'!AU46=\"\",\"R\",IF('Race results'!$C$32>0,ROUND(AVERAGE('Score Sheet'!$J46:AU46),1),ROUND(AVERAGE('Score Sheet'!$I46:AU46),1)))","v":"R"},{"$f":"IF('Score Sheet'!AV46=\"\",\"R\",IF('Race results'!$C$32>0,ROUND(AVERAGE('Score Sheet'!$J46:AV46),1),ROUND(AVERAGE('Score Sheet'!$I46:AV46),1)))","v":"R"},null,"",{"$f":"IF(C46=\"\",\"\",IF('Race results'!$C$7<1, \"E\", IF('Race results'!$C$32>0,IF(COUNT(AY46:CL46)<1,\"R\",ROUND(AVERAGE(AY46:CL46),1)),IF(COUNT(AX46:CL46)<1,\"R\",ROUND(AVERAGE(AX46:CL46),1)))))","v":""},null,null,"","","","","","","","","","","","","","","","","","","","","","","","","","","","","","","","","","","","","","","","",""]
[null,38,{"$f":"IF('Score Sheet'!C47=\"\",\"\",'Score Sheet'!C47)","v":""},{"$f":"'Race results'!$F$159","v":"DAFT!"},{"$f":"'Race results'!$F$159","v":"DAFT!"},{"$f":"IF('Score Sheet'!J47=\"\",\"R\",IF('Race results'!$C$32>0,'Race results'!$F$159,ROUND(AVERAGE('Score Sheet'!$I47:J47),1)))","v":"R"},{"$f":"IF('Score Sheet'!K47=\"\",\"R\",IF('Race results'!$C$32>0,ROUND(AVERAGE('Score Sheet'!$J47:K47),1),ROUND(AVERAGE('Score Sheet'!$I47:K47),1)))","v":"R"},{"$f":"IF('Score Sheet'!L47=\"\",\"R\",IF('Race results'!$C$32>0,ROUND(AVERAGE('Score Sheet'!$J47:L47),1),ROUND(AVERAGE('Score Sheet'!$I47:L47),1)))","v":"R"},{"$f":"IF('Score Sheet'!M47=\"\",\"R\",IF('Race results'!$C$32>0,ROUND(AVERAGE('Score Sheet'!$J47:M47),1),ROUND(AVERAGE('Score Sheet'!$I47:M47),1)))","v":"R"},{"$f":"IF('Score Sheet'!N47=\"\",\"R\",IF('Race results'!$C$32>0,ROUND(AVERAGE('Score Sheet'!$J47:N47),1),ROUND(AVERAGE('Score Sheet'!$I47:N47),1)))","v":"R"},{"$f":"IF('Score Sheet'!O47=\"\",\"R\",IF('Race results'!$C$32>0,ROUND(AVERAGE('Score Sheet'!$J47:O47),1),ROUND(AVERAGE('Score Sheet'!$I47:O47),1)))","v":"R"},{"$f":"IF('Score Sheet'!P47=\"\",\"R\",IF('Race results'!$C$32>0,ROUND(AVERAGE('Score Sheet'!$J47:P47),1),ROUND(AVERAGE('Score Sheet'!$I47:P47),1)))","v":"R"},{"$f":"IF('Score Sheet'!Q47=\"\",\"R\",IF('Race results'!$C$32>0,ROUND(AVERAGE('Score Sheet'!$J47:Q47),1),ROUND(AVERAGE('Score Sheet'!$I47:Q47),1)))","v":"R"},{"$f":"IF('Score Sheet'!R47=\"\",\"R\",IF('Race results'!$C$32>0,ROUND(AVERAGE('Score Sheet'!$J47:R47),1),ROUND(AVERAGE('Score Sheet'!$I47:R47),1)))","v":"R"},{"$f":"IF('Score Sheet'!S47=\"\",\"R\",IF('Race results'!$C$32>0,ROUND(AVERAGE('Score Sheet'!$J47:S47),1),ROUND(AVERAGE('Score Sheet'!$I47:S47),1)))","v":"R"},{"$f":"IF('Score Sheet'!T47=\"\",\"R\",IF('Race results'!$C$32>0,ROUND(AVERAGE('Score Sheet'!$J47:T47),1),ROUND(AVERAGE('Score Sheet'!$I47:T47),1)))","v":"R"},{"$f":"IF('Score Sheet'!U47=\"\",\"R\",IF('Race results'!$C$32>0,ROUND(AVERAGE('Score Sheet'!$J47:U47),1),ROUND(AVERAGE('Score Sheet'!$I47:U47),1)))","v":"R"},{"$f":"IF('Score Sheet'!V47=\"\",\"R\",IF('Race results'!$C$32>0,ROUND(AVERAGE('Score Sheet'!$J47:V47),1),ROUND(AVERAGE('Score Sheet'!$I47:V47),1)))","v":"R"},{"$f":"IF('Score Sheet'!W47=\"\",\"R\",IF('Race results'!$C$32>0,ROUND(AVERAGE('Score Sheet'!$J47:W47),1),ROUND(AVERAGE('Score Sheet'!$I47:W47),1)))","v":"R"},{"$f":"IF('Score Sheet'!X47=\"\",\"R\",IF('Race results'!$C$32>0,ROUND(AVERAGE('Score Sheet'!$J47:X47),1),ROUND(AVERAGE('Score Sheet'!$I47:X47),1)))","v":"R"},{"$f":"IF('Score Sheet'!Y47=\"\",\"R\",IF('Race results'!$C$32>0,ROUND(AVERAGE('Score Sheet'!$J47:Y47),1),ROUND(AVERAGE('Score Sheet'!$I47:Y47),1)))","v":"R"},{"$f":"IF('Score Sheet'!Z47=\"\",\"R\",IF('Race results'!$C$32>0,ROUND(AVERAGE('Score Sheet'!$J47:Z47),1),ROUND(AVERAGE('Score Sheet'!$I47:Z47),1)))","v":"R"},{"$f":"IF('Score Sheet'!AA47=\"\",\"R\",IF('Race results'!$C$32>0,ROUND(AVERAGE('Score Sheet'!$J47:AA47),1),ROUND(AVERAGE('Score Sheet'!$I47:AA47),1)))","v":"R"},{"$f":"IF('Score Sheet'!AB47=\"\",\"R\",IF('Race results'!$C$32>0,ROUND(AVERAGE('Score Sheet'!$J47:AB47),1),ROUND(AVERAGE('Score Sheet'!$I47:AB47),1)))","v":"R"},{"$f":"IF('Score Sheet'!AC47=\"\",\"R\",IF('Race results'!$C$32>0,ROUND(AVERAGE('Score Sheet'!$J47:AC47),1),ROUND(AVERAGE('Score Sheet'!$I47:AC47),1)))","v":"R"},{"$f":"IF('Score Sheet'!AD47=\"\",\"R\",IF('Race results'!$C$32>0,ROUND(AVERAGE('Score Sheet'!$J47:AD47),1),ROUND(AVERAGE('Score Sheet'!$I47:AD47),1)))","v":"R"},{"$f":"IF('Score Sheet'!AE47=\"\",\"R\",IF('Race results'!$C$32>0,ROUND(AVERAGE('Score Sheet'!$J47:AE47),1),ROUND(AVERAGE('Score Sheet'!$I47:AE47),1)))","v":"R"},{"$f":"IF('Score Sheet'!AF47=\"\",\"R\",IF('Race results'!$C$32>0,ROUND(AVERAGE('Score Sheet'!$J47:AF47),1),ROUND(AVERAGE('Score Sheet'!$I47:AF47),1)))","v":"R"},{"$f":"IF('Score Sheet'!AG47=\"\",\"R\",IF('Race results'!$C$32>0,ROUND(AVERAGE('Score Sheet'!$J47:AG47),1),ROUND(AVERAGE('Score Sheet'!$I47:AG47),1)))","v":"R"},{"$f":"IF('Score Sheet'!AH47=\"\",\"R\",IF('Race results'!$C$32>0,ROUND(AVERAGE('Score Sheet'!$J47:AH47),1),ROUND(AVERAGE('Score Sheet'!$I47:AH47),1)))","v":"R"},{"$f":"IF('Score Sheet'!AI47=\"\",\"R\",IF('Race results'!$C$32>0,ROUND(AVERAGE('Score Sheet'!$J47:AI47),1),ROUND(AVERAGE('Score Sheet'!$I47:AI47),1)))","v":"R"},{"$f":"IF('Score Sheet'!AJ47=\"\",\"R\",IF('Race results'!$C$32>0,ROUND(AVERAGE('Score Sheet'!$J47:AJ47),1),ROUND(AVERAGE('Score Sheet'!$I47:AJ47),1)))","v":"R"},{"$f":"IF('Score Sheet'!AK47=\"\",\"R\",IF('Race results'!$C$32>0,ROUND(AVERAGE('Score Sheet'!$J47:AK47),1),ROUND(AVERAGE('Score Sheet'!$I47:AK47),1)))","v":"R"},{"$f":"IF('Score Sheet'!AL47=\"\",\"R\",IF('Race results'!$C$32>0,ROUND(AVERAGE('Score Sheet'!$J47:AL47),1),ROUND(AVERAGE('Score Sheet'!$I47:AL47),1)))","v":"R"},{"$f":"IF('Score Sheet'!AM47=\"\",\"R\",IF('Race results'!$C$32>0,ROUND(AVERAGE('Score Sheet'!$J47:AM47),1),ROUND(AVERAGE('Score Sheet'!$I47:AM47),1)))","v":"R"},{"$f":"IF('Score Sheet'!AN47=\"\",\"R\",IF('Race results'!$C$32>0,ROUND(AVERAGE('Score Sheet'!$J47:AN47),1),ROUND(AVERAGE('Score Sheet'!$I47:AN47),1)))","v":"R"},{"$f":"IF('Score Sheet'!AO47=\"\",\"R\",IF('Race results'!$C$32>0,ROUND(AVERAGE('Score Sheet'!$J47:AO47),1),ROUND(AVERAGE('Score Sheet'!$I47:AO47),1)))","v":"R"},{"$f":"IF('Score Sheet'!AP47=\"\",\"R\",IF('Race results'!$C$32>0,ROUND(AVERAGE('Score Sheet'!$J47:AP47),1),ROUND(AVERAGE('Score Sheet'!$I47:AP47),1)))","v":"R"},{"$f":"IF('Score Sheet'!AQ47=\"\",\"R\",IF('Race results'!$C$32>0,ROUND(AVERAGE('Score Sheet'!$J47:AQ47),1),ROUND(AVERAGE('Score Sheet'!$I47:AQ47),1)))","v":"R"},{"$f":"IF('Score Sheet'!AR47=\"\",\"R\",IF('Race results'!$C$32>0,ROUND(AVERAGE('Score Sheet'!$J47:AR47),1),ROUND(AVERAGE('Score Sheet'!$I47:AR47),1)))","v":"R"},{"$f":"IF('Score Sheet'!AS47=\"\",\"R\",IF('Race results'!$C$32>0,ROUND(AVERAGE('Score Sheet'!$J47:AS47),1),ROUND(AVERAGE('Score Sheet'!$I47:AS47),1)))","v":"R"},{"$f":"IF('Score Sheet'!AT47=\"\",\"R\",IF('Race results'!$C$32>0,ROUND(AVERAGE('Score Sheet'!$J47:AT47),1),ROUND(AVERAGE('Score Sheet'!$I47:AT47),1)))","v":"R"},{"$f":"IF('Score Sheet'!AU47=\"\",\"R\",IF('Race results'!$C$32>0,ROUND(AVERAGE('Score Sheet'!$J47:AU47),1),ROUND(AVERAGE('Score Sheet'!$I47:AU47),1)))","v":"R"},{"$f":"IF('Score Sheet'!AV47=\"\",\"R\",IF('Race results'!$C$32>0,ROUND(AVERAGE('Score Sheet'!$J47:AV47),1),ROUND(AVERAGE('Score Sheet'!$I47:AV47),1)))","v":"R"},null,"",{"$f":"IF(C47=\"\",\"\",IF('Race results'!$C$7<1, \"E\", IF('Race results'!$C$32>0,IF(COUNT(AY47:CL47)<1,\"R\",ROUND(AVERAGE(AY47:CL47),1)),IF(COUNT(AX47:CL47)<1,\"R\",ROUND(AVERAGE(AX47:CL47),1)))))","v":""},null,null,"","","","","","","","","","","","","","","","","","","","","","","","","","","","","","","","","","","","","","","","",""]
[null,39,{"$f":"IF('Score Sheet'!C48=\"\",\"\",'Score Sheet'!C48)","v":""},{"$f":"'Race results'!$F$159","v":"DAFT!"},{"$f":"'Race results'!$F$159","v":"DAFT!"},{"$f":"IF('Score Sheet'!J48=\"\",\"R\",IF('Race results'!$C$32>0,'Race results'!$F$159,ROUND(AVERAGE('Score Sheet'!$I48:J48),1)))","v":"R"},{"$f":"IF('Score Sheet'!K48=\"\",\"R\",IF('Race results'!$C$32>0,ROUND(AVERAGE('Score Sheet'!$J48:K48),1),ROUND(AVERAGE('Score Sheet'!$I48:K48),1)))","v":"R"},{"$f":"IF('Score Sheet'!L48=\"\",\"R\",IF('Race results'!$C$32>0,ROUND(AVERAGE('Score Sheet'!$J48:L48),1),ROUND(AVERAGE('Score Sheet'!$I48:L48),1)))","v":"R"},{"$f":"IF('Score Sheet'!M48=\"\",\"R\",IF('Race results'!$C$32>0,ROUND(AVERAGE('Score Sheet'!$J48:M48),1),ROUND(AVERAGE('Score Sheet'!$I48:M48),1)))","v":"R"},{"$f":"IF('Score Sheet'!N48=\"\",\"R\",IF('Race results'!$C$32>0,ROUND(AVERAGE('Score Sheet'!$J48:N48),1),ROUND(AVERAGE('Score Sheet'!$I48:N48),1)))","v":"R"},{"$f":"IF('Score Sheet'!O48=\"\",\"R\",IF('Race results'!$C$32>0,ROUND(AVERAGE('Score Sheet'!$J48:O48),1),ROUND(AVERAGE('Score Sheet'!$I48:O48),1)))","v":"R"},{"$f":"IF('Score Sheet'!P48=\"\",\"R\",IF('Race results'!$C$32>0,ROUND(AVERAGE('Score Sheet'!$J48:P48),1),ROUND(AVERAGE('Score Sheet'!$I48:P48),1)))","v":"R"},{"$f":"IF('Score Sheet'!Q48=\"\",\"R\",IF('Race results'!$C$32>0,ROUND(AVERAGE('Score Sheet'!$J48:Q48),1),ROUND(AVERAGE('Score Sheet'!$I48:Q48),1)))","v":"R"},{"$f":"IF('Score Sheet'!R48=\"\",\"R\",IF('Race results'!$C$32>0,ROUND(AVERAGE('Score Sheet'!$J48:R48),1),ROUND(AVERAGE('Score Sheet'!$I48:R48),1)))","v":"R"},{"$f":"IF('Score Sheet'!S48=\"\",\"R\",IF('Race results'!$C$32>0,ROUND(AVERAGE('Score Sheet'!$J48:S48),1),ROUND(AVERAGE('Score Sheet'!$I48:S48),1)))","v":"R"},{"$f":"IF('Score Sheet'!T48=\"\",\"R\",IF('Race results'!$C$32>0,ROUND(AVERAGE('Score Sheet'!$J48:T48),1),ROUND(AVERAGE('Score Sheet'!$I48:T48),1)))","v":"R"},{"$f":"IF('Score Sheet'!U48=\"\",\"R\",IF('Race results'!$C$32>0,ROUND(AVERAGE('Score Sheet'!$J48:U48),1),ROUND(AVERAGE('Score Sheet'!$I48:U48),1)))","v":"R"},{"$f":"IF('Score Sheet'!V48=\"\",\"R\",IF('Race results'!$C$32>0,ROUND(AVERAGE('Score Sheet'!$J48:V48),1),ROUND(AVERAGE('Score Sheet'!$I48:V48),1)))","v":"R"},{"$f":"IF('Score Sheet'!W48=\"\",\"R\",IF('Race results'!$C$32>0,ROUND(AVERAGE('Score Sheet'!$J48:W48),1),ROUND(AVERAGE('Score Sheet'!$I48:W48),1)))","v":"R"},{"$f":"IF('Score Sheet'!X48=\"\",\"R\",IF('Race results'!$C$32>0,ROUND(AVERAGE('Score Sheet'!$J48:X48),1),ROUND(AVERAGE('Score Sheet'!$I48:X48),1)))","v":"R"},{"$f":"IF('Score Sheet'!Y48=\"\",\"R\",IF('Race results'!$C$32>0,ROUND(AVERAGE('Score Sheet'!$J48:Y48),1),ROUND(AVERAGE('Score Sheet'!$I48:Y48),1)))","v":"R"},{"$f":"IF('Score Sheet'!Z48=\"\",\"R\",IF('Race results'!$C$32>0,ROUND(AVERAGE('Score Sheet'!$J48:Z48),1),ROUND(AVERAGE('Score Sheet'!$I48:Z48),1)))","v":"R"},{"$f":"IF('Score Sheet'!AA48=\"\",\"R\",IF('Race results'!$C$32>0,ROUND(AVERAGE('Score Sheet'!$J48:AA48),1),ROUND(AVERAGE('Score Sheet'!$I48:AA48),1)))","v":"R"},{"$f":"IF('Score Sheet'!AB48=\"\",\"R\",IF('Race results'!$C$32>0,ROUND(AVERAGE('Score Sheet'!$J48:AB48),1),ROUND(AVERAGE('Score Sheet'!$I48:AB48),1)))","v":"R"},{"$f":"IF('Score Sheet'!AC48=\"\",\"R\",IF('Race results'!$C$32>0,ROUND(AVERAGE('Score Sheet'!$J48:AC48),1),ROUND(AVERAGE('Score Sheet'!$I48:AC48),1)))","v":"R"},{"$f":"IF('Score Sheet'!AD48=\"\",\"R\",IF('Race results'!$C$32>0,ROUND(AVERAGE('Score Sheet'!$J48:AD48),1),ROUND(AVERAGE('Score Sheet'!$I48:AD48),1)))","v":"R"},{"$f":"IF('Score Sheet'!AE48=\"\",\"R\",IF('Race results'!$C$32>0,ROUND(AVERAGE('Score Sheet'!$J48:AE48),1),ROUND(AVERAGE('Score Sheet'!$I48:AE48),1)))","v":"R"},{"$f":"IF('Score Sheet'!AF48=\"\",\"R\",IF('Race results'!$C$32>0,ROUND(AVERAGE('Score Sheet'!$J48:AF48),1),ROUND(AVERAGE('Score Sheet'!$I48:AF48),1)))","v":"R"},{"$f":"IF('Score Sheet'!AG48=\"\",\"R\",IF('Race results'!$C$32>0,ROUND(AVERAGE('Score Sheet'!$J48:AG48),1),ROUND(AVERAGE('Score Sheet'!$I48:AG48),1)))","v":"R"},{"$f":"IF('Score Sheet'!AH48=\"\",\"R\",IF('Race results'!$C$32>0,ROUND(AVERAGE('Score Sheet'!$J48:AH48),1),ROUND(AVERAGE('Score Sheet'!$I48:AH48),1)))","v":"R"},{"$f":"IF('Score Sheet'!AI48=\"\",\"R\",IF('Race results'!$C$32>0,ROUND(AVERAGE('Score Sheet'!$J48:AI48),1),ROUND(AVERAGE('Score Sheet'!$I48:AI48),1)))","v":"R"},{"$f":"IF('Score Sheet'!AJ48=\"\",\"R\",IF('Race results'!$C$32>0,ROUND(AVERAGE('Score Sheet'!$J48:AJ48),1),ROUND(AVERAGE('Score Sheet'!$I48:AJ48),1)))","v":"R"},{"$f":"IF('Score Sheet'!AK48=\"\",\"R\",IF('Race results'!$C$32>0,ROUND(AVERAGE('Score Sheet'!$J48:AK48),1),ROUND(AVERAGE('Score Sheet'!$I48:AK48),1)))","v":"R"},{"$f":"IF('Score Sheet'!AL48=\"\",\"R\",IF('Race results'!$C$32>0,ROUND(AVERAGE('Score Sheet'!$J48:AL48),1),ROUND(AVERAGE('Score Sheet'!$I48:AL48),1)))","v":"R"},{"$f":"IF('Score Sheet'!AM48=\"\",\"R\",IF('Race results'!$C$32>0,ROUND(AVERAGE('Score Sheet'!$J48:AM48),1),ROUND(AVERAGE('Score Sheet'!$I48:AM48),1)))","v":"R"},{"$f":"IF('Score Sheet'!AN48=\"\",\"R\",IF('Race results'!$C$32>0,ROUND(AVERAGE('Score Sheet'!$J48:AN48),1),ROUND(AVERAGE('Score Sheet'!$I48:AN48),1)))","v":"R"},{"$f":"IF('Score Sheet'!AO48=\"\",\"R\",IF('Race results'!$C$32>0,ROUND(AVERAGE('Score Sheet'!$J48:AO48),1),ROUND(AVERAGE('Score Sheet'!$I48:AO48),1)))","v":"R"},{"$f":"IF('Score Sheet'!AP48=\"\",\"R\",IF('Race results'!$C$32>0,ROUND(AVERAGE('Score Sheet'!$J48:AP48),1),ROUND(AVERAGE('Score Sheet'!$I48:AP48),1)))","v":"R"},{"$f":"IF('Score Sheet'!AQ48=\"\",\"R\",IF('Race results'!$C$32>0,ROUND(AVERAGE('Score Sheet'!$J48:AQ48),1),ROUND(AVERAGE('Score Sheet'!$I48:AQ48),1)))","v":"R"},{"$f":"IF('Score Sheet'!AR48=\"\",\"R\",IF('Race results'!$C$32>0,ROUND(AVERAGE('Score Sheet'!$J48:AR48),1),ROUND(AVERAGE('Score Sheet'!$I48:AR48),1)))","v":"R"},{"$f":"IF('Score Sheet'!AS48=\"\",\"R\",IF('Race results'!$C$32>0,ROUND(AVERAGE('Score Sheet'!$J48:AS48),1),ROUND(AVERAGE('Score Sheet'!$I48:AS48),1)))","v":"R"},{"$f":"IF('Score Sheet'!AT48=\"\",\"R\",IF('Race results'!$C$32>0,ROUND(AVERAGE('Score Sheet'!$J48:AT48),1),ROUND(AVERAGE('Score Sheet'!$I48:AT48),1)))","v":"R"},{"$f":"IF('Score Sheet'!AU48=\"\",\"R\",IF('Race results'!$C$32>0,ROUND(AVERAGE('Score Sheet'!$J48:AU48),1),ROUND(AVERAGE('Score Sheet'!$I48:AU48),1)))","v":"R"},{"$f":"IF('Score Sheet'!AV48=\"\",\"R\",IF('Race results'!$C$32>0,ROUND(AVERAGE('Score Sheet'!$J48:AV48),1),ROUND(AVERAGE('Score Sheet'!$I48:AV48),1)))","v":"R"},null,"",{"$f":"IF(C48=\"\",\"\",IF('Race results'!$C$7<1, \"E\", IF('Race results'!$C$32>0,IF(COUNT(AY48:CL48)<1,\"R\",ROUND(AVERAGE(AY48:CL48),1)),IF(COUNT(AX48:CL48)<1,\"R\",ROUND(AVERAGE(AX48:CL48),1)))))","v":""},null,null,"","","","","","","","","","","","","","","","","","","","","","","","","","","","","","","","","","","","","","","","",""]
[null,40,{"$f":"IF('Score Sheet'!C49=\"\",\"\",'Score Sheet'!C49)","v":""},{"$f":"'Race results'!$F$159","v":"DAFT!"},{"$f":"'Race results'!$F$159","v":"DAFT!"},{"$f":"IF('Score Sheet'!J49=\"\",\"R\",IF('Race results'!$C$32>0,'Race results'!$F$159,ROUND(AVERAGE('Score Sheet'!$I49:J49),1)))","v":"R"},{"$f":"IF('Score Sheet'!K49=\"\",\"R\",IF('Race results'!$C$32>0,ROUND(AVERAGE('Score Sheet'!$J49:K49),1),ROUND(AVERAGE('Score Sheet'!$I49:K49),1)))","v":"R"},{"$f":"IF('Score Sheet'!L49=\"\",\"R\",IF('Race results'!$C$32>0,ROUND(AVERAGE('Score Sheet'!$J49:L49),1),ROUND(AVERAGE('Score Sheet'!$I49:L49),1)))","v":"R"},{"$f":"IF('Score Sheet'!M49=\"\",\"R\",IF('Race results'!$C$32>0,ROUND(AVERAGE('Score Sheet'!$J49:M49),1),ROUND(AVERAGE('Score Sheet'!$I49:M49),1)))","v":"R"},{"$f":"IF('Score Sheet'!N49=\"\",\"R\",IF('Race results'!$C$32>0,ROUND(AVERAGE('Score Sheet'!$J49:N49),1),ROUND(AVERAGE('Score Sheet'!$I49:N49),1)))","v":"R"},{"$f":"IF('Score Sheet'!O49=\"\",\"R\",IF('Race results'!$C$32>0,ROUND(AVERAGE('Score Sheet'!$J49:O49),1),ROUND(AVERAGE('Score Sheet'!$I49:O49),1)))","v":"R"},{"$f":"IF('Score Sheet'!P49=\"\",\"R\",IF('Race results'!$C$32>0,ROUND(AVERAGE('Score Sheet'!$J49:P49),1),ROUND(AVERAGE('Score Sheet'!$I49:P49),1)))","v":"R"},{"$f":"IF('Score Sheet'!Q49=\"\",\"R\",IF('Race results'!$C$32>0,ROUND(AVERAGE('Score Sheet'!$J49:Q49),1),ROUND(AVERAGE('Score Sheet'!$I49:Q49),1)))","v":"R"},{"$f":"IF('Score Sheet'!R49=\"\",\"R\",IF('Race results'!$C$32>0,ROUND(AVERAGE('Score Sheet'!$J49:R49),1),ROUND(AVERAGE('Score Sheet'!$I49:R49),1)))","v":"R"},{"$f":"IF('Score Sheet'!S49=\"\",\"R\",IF('Race results'!$C$32>0,ROUND(AVERAGE('Score Sheet'!$J49:S49),1),ROUND(AVERAGE('Score Sheet'!$I49:S49),1)))","v":"R"},{"$f":"IF('Score Sheet'!T49=\"\",\"R\",IF('Race results'!$C$32>0,ROUND(AVERAGE('Score Sheet'!$J49:T49),1),ROUND(AVERAGE('Score Sheet'!$I49:T49),1)))","v":"R"},{"$f":"IF('Score Sheet'!U49=\"\",\"R\",IF('Race results'!$C$32>0,ROUND(AVERAGE('Score Sheet'!$J49:U49),1),ROUND(AVERAGE('Score Sheet'!$I49:U49),1)))","v":"R"},{"$f":"IF('Score Sheet'!V49=\"\",\"R\",IF('Race results'!$C$32>0,ROUND(AVERAGE('Score Sheet'!$J49:V49),1),ROUND(AVERAGE('Score Sheet'!$I49:V49),1)))","v":"R"},{"$f":"IF('Score Sheet'!W49=\"\",\"R\",IF('Race results'!$C$32>0,ROUND(AVERAGE('Score Sheet'!$J49:W49),1),ROUND(AVERAGE('Score Sheet'!$I49:W49),1)))","v":"R"},{"$f":"IF('Score Sheet'!X49=\"\",\"R\",IF('Race results'!$C$32>0,ROUND(AVERAGE('Score Sheet'!$J49:X49),1),ROUND(AVERAGE('Score Sheet'!$I49:X49),1)))","v":"R"},{"$f":"IF('Score Sheet'!Y49=\"\",\"R\",IF('Race results'!$C$32>0,ROUND(AVERAGE('Score Sheet'!$J49:Y49),1),ROUND(AVERAGE('Score Sheet'!$I49:Y49),1)))","v":"R"},{"$f":"IF('Score Sheet'!Z49=\"\",\"R\",IF('Race results'!$C$32>0,ROUND(AVERAGE('Score Sheet'!$J49:Z49),1),ROUND(AVERAGE('Score Sheet'!$I49:Z49),1)))","v":"R"},{"$f":"IF('Score Sheet'!AA49=\"\",\"R\",IF('Race results'!$C$32>0,ROUND(AVERAGE('Score Sheet'!$J49:AA49),1),ROUND(AVERAGE('Score Sheet'!$I49:AA49),1)))","v":"R"},{"$f":"IF('Score Sheet'!AB49=\"\",\"R\",IF('Race results'!$C$32>0,ROUND(AVERAGE('Score Sheet'!$J49:AB49),1),ROUND(AVERAGE('Score Sheet'!$I49:AB49),1)))","v":"R"},{"$f":"IF('Score Sheet'!AC49=\"\",\"R\",IF('Race results'!$C$32>0,ROUND(AVERAGE('Score Sheet'!$J49:AC49),1),ROUND(AVERAGE('Score Sheet'!$I49:AC49),1)))","v":"R"},{"$f":"IF('Score Sheet'!AD49=\"\",\"R\",IF('Race results'!$C$32>0,ROUND(AVERAGE('Score Sheet'!$J49:AD49),1),ROUND(AVERAGE('Score Sheet'!$I49:AD49),1)))","v":"R"},{"$f":"IF('Score Sheet'!AE49=\"\",\"R\",IF('Race results'!$C$32>0,ROUND(AVERAGE('Score Sheet'!$J49:AE49),1),ROUND(AVERAGE('Score Sheet'!$I49:AE49),1)))","v":"R"},{"$f":"IF('Score Sheet'!AF49=\"\",\"R\",IF('Race results'!$C$32>0,ROUND(AVERAGE('Score Sheet'!$J49:AF49),1),ROUND(AVERAGE('Score Sheet'!$I49:AF49),1)))","v":"R"},{"$f":"IF('Score Sheet'!AG49=\"\",\"R\",IF('Race results'!$C$32>0,ROUND(AVERAGE('Score Sheet'!$J49:AG49),1),ROUND(AVERAGE('Score Sheet'!$I49:AG49),1)))","v":"R"},{"$f":"IF('Score Sheet'!AH49=\"\",\"R\",IF('Race results'!$C$32>0,ROUND(AVERAGE('Score Sheet'!$J49:AH49),1),ROUND(AVERAGE('Score Sheet'!$I49:AH49),1)))","v":"R"},{"$f":"IF('Score Sheet'!AI49=\"\",\"R\",IF('Race results'!$C$32>0,ROUND(AVERAGE('Score Sheet'!$J49:AI49),1),ROUND(AVERAGE('Score Sheet'!$I49:AI49),1)))","v":"R"},{"$f":"IF('Score Sheet'!AJ49=\"\",\"R\",IF('Race results'!$C$32>0,ROUND(AVERAGE('Score Sheet'!$J49:AJ49),1),ROUND(AVERAGE('Score Sheet'!$I49:AJ49),1)))","v":"R"},{"$f":"IF('Score Sheet'!AK49=\"\",\"R\",IF('Race results'!$C$32>0,ROUND(AVERAGE('Score Sheet'!$J49:AK49),1),ROUND(AVERAGE('Score Sheet'!$I49:AK49),1)))","v":"R"},{"$f":"IF('Score Sheet'!AL49=\"\",\"R\",IF('Race results'!$C$32>0,ROUND(AVERAGE('Score Sheet'!$J49:AL49),1),ROUND(AVERAGE('Score Sheet'!$I49:AL49),1)))","v":"R"},{"$f":"IF('Score Sheet'!AM49=\"\",\"R\",IF('Race results'!$C$32>0,ROUND(AVERAGE('Score Sheet'!$J49:AM49),1),ROUND(AVERAGE('Score Sheet'!$I49:AM49),1)))","v":"R"},{"$f":"IF('Score Sheet'!AN49=\"\",\"R\",IF('Race results'!$C$32>0,ROUND(AVERAGE('Score Sheet'!$J49:AN49),1),ROUND(AVERAGE('Score Sheet'!$I49:AN49),1)))","v":"R"},{"$f":"IF('Score Sheet'!AO49=\"\",\"R\",IF('Race results'!$C$32>0,ROUND(AVERAGE('Score Sheet'!$J49:AO49),1),ROUND(AVERAGE('Score Sheet'!$I49:AO49),1)))","v":"R"},{"$f":"IF('Score Sheet'!AP49=\"\",\"R\",IF('Race results'!$C$32>0,ROUND(AVERAGE('Score Sheet'!$J49:AP49),1),ROUND(AVERAGE('Score Sheet'!$I49:AP49),1)))","v":"R"},{"$f":"IF('Score Sheet'!AQ49=\"\",\"R\",IF('Race results'!$C$32>0,ROUND(AVERAGE('Score Sheet'!$J49:AQ49),1),ROUND(AVERAGE('Score Sheet'!$I49:AQ49),1)))","v":"R"},{"$f":"IF('Score Sheet'!AR49=\"\",\"R\",IF('Race results'!$C$32>0,ROUND(AVERAGE('Score Sheet'!$J49:AR49),1),ROUND(AVERAGE('Score Sheet'!$I49:AR49),1)))","v":"R"},{"$f":"IF('Score Sheet'!AS49=\"\",\"R\",IF('Race results'!$C$32>0,ROUND(AVERAGE('Score Sheet'!$J49:AS49),1),ROUND(AVERAGE('Score Sheet'!$I49:AS49),1)))","v":"R"},{"$f":"IF('Score Sheet'!AT49=\"\",\"R\",IF('Race results'!$C$32>0,ROUND(AVERAGE('Score Sheet'!$J49:AT49),1),ROUND(AVERAGE('Score Sheet'!$I49:AT49),1)))","v":"R"},{"$f":"IF('Score Sheet'!AU49=\"\",\"R\",IF('Race results'!$C$32>0,ROUND(AVERAGE('Score Sheet'!$J49:AU49),1),ROUND(AVERAGE('Score Sheet'!$I49:AU49),1)))","v":"R"},{"$f":"IF('Score Sheet'!AV49=\"\",\"R\",IF('Race results'!$C$32>0,ROUND(AVERAGE('Score Sheet'!$J49:AV49),1),ROUND(AVERAGE('Score Sheet'!$I49:AV49),1)))","v":"R"},null,"",{"$f":"IF(C49=\"\",\"\",IF('Race results'!$C$7<1, \"E\", IF('Race results'!$C$32>0,IF(COUNT(AY49:CL49)<1,\"R\",ROUND(AVERAGE(AY49:CL49),1)),IF(COUNT(AX49:CL49)<1,\"R\",ROUND(AVERAGE(AX49:CL49),1)))))","v":""},null,null,"","","","","","","","","","","","","","","","","","","","","","","","","","","","","","","","","","","","","","","","",""]
[null,41,{"$f":"IF('Score Sheet'!C50=\"\",\"\",'Score Sheet'!C50)","v":""},{"$f":"'Race results'!$F$159","v":"DAFT!"},{"$f":"'Race results'!$F$159","v":"DAFT!"},{"$f":"IF('Score Sheet'!J50=\"\",\"R\",IF('Race results'!$C$32>0,'Race results'!$F$159,ROUND(AVERAGE('Score Sheet'!$I50:J50),1)))","v":"R"},{"$f":"IF('Score Sheet'!K50=\"\",\"R\",IF('Race results'!$C$32>0,ROUND(AVERAGE('Score Sheet'!$J50:K50),1),ROUND(AVERAGE('Score Sheet'!$I50:K50),1)))","v":"R"},{"$f":"IF('Score Sheet'!L50=\"\",\"R\",IF('Race results'!$C$32>0,ROUND(AVERAGE('Score Sheet'!$J50:L50),1),ROUND(AVERAGE('Score Sheet'!$I50:L50),1)))","v":"R"},{"$f":"IF('Score Sheet'!M50=\"\",\"R\",IF('Race results'!$C$32>0,ROUND(AVERAGE('Score Sheet'!$J50:M50),1),ROUND(AVERAGE('Score Sheet'!$I50:M50),1)))","v":"R"},{"$f":"IF('Score Sheet'!N50=\"\",\"R\",IF('Race results'!$C$32>0,ROUND(AVERAGE('Score Sheet'!$J50:N50),1),ROUND(AVERAGE('Score Sheet'!$I50:N50),1)))","v":"R"},{"$f":"IF('Score Sheet'!O50=\"\",\"R\",IF('Race results'!$C$32>0,ROUND(AVERAGE('Score Sheet'!$J50:O50),1),ROUND(AVERAGE('Score Sheet'!$I50:O50),1)))","v":"R"},{"$f":"IF('Score Sheet'!P50=\"\",\"R\",IF('Race results'!$C$32>0,ROUND(AVERAGE('Score Sheet'!$J50:P50),1),ROUND(AVERAGE('Score Sheet'!$I50:P50),1)))","v":"R"},{"$f":"IF('Score Sheet'!Q50=\"\",\"R\",IF('Race results'!$C$32>0,ROUND(AVERAGE('Score Sheet'!$J50:Q50),1),ROUND(AVERAGE('Score Sheet'!$I50:Q50),1)))","v":"R"},{"$f":"IF('Score Sheet'!R50=\"\",\"R\",IF('Race results'!$C$32>0,ROUND(AVERAGE('Score Sheet'!$J50:R50),1),ROUND(AVERAGE('Score Sheet'!$I50:R50),1)))","v":"R"},{"$f":"IF('Score Sheet'!S50=\"\",\"R\",IF('Race results'!$C$32>0,ROUND(AVERAGE('Score Sheet'!$J50:S50),1),ROUND(AVERAGE('Score Sheet'!$I50:S50),1)))","v":"R"},{"$f":"IF('Score Sheet'!T50=\"\",\"R\",IF('Race results'!$C$32>0,ROUND(AVERAGE('Score Sheet'!$J50:T50),1),ROUND(AVERAGE('Score Sheet'!$I50:T50),1)))","v":"R"},{"$f":"IF('Score Sheet'!U50=\"\",\"R\",IF('Race results'!$C$32>0,ROUND(AVERAGE('Score Sheet'!$J50:U50),1),ROUND(AVERAGE('Score Sheet'!$I50:U50),1)))","v":"R"},{"$f":"IF('Score Sheet'!V50=\"\",\"R\",IF('Race results'!$C$32>0,ROUND(AVERAGE('Score Sheet'!$J50:V50),1),ROUND(AVERAGE('Score Sheet'!$I50:V50),1)))","v":"R"},{"$f":"IF('Score Sheet'!W50=\"\",\"R\",IF('Race results'!$C$32>0,ROUND(AVERAGE('Score Sheet'!$J50:W50),1),ROUND(AVERAGE('Score Sheet'!$I50:W50),1)))","v":"R"},{"$f":"IF('Score Sheet'!X50=\"\",\"R\",IF('Race results'!$C$32>0,ROUND(AVERAGE('Score Sheet'!$J50:X50),1),ROUND(AVERAGE('Score Sheet'!$I50:X50),1)))","v":"R"},{"$f":"IF('Score Sheet'!Y50=\"\",\"R\",IF('Race results'!$C$32>0,ROUND(AVERAGE('Score Sheet'!$J50:Y50),1),ROUND(AVERAGE('Score Sheet'!$I50:Y50),1)))","v":"R"},{"$f":"IF('Score Sheet'!Z50=\"\",\"R\",IF('Race results'!$C$32>0,ROUND(AVERAGE('Score Sheet'!$J50:Z50),1),ROUND(AVERAGE('Score Sheet'!$I50:Z50),1)))","v":"R"},{"$f":"IF('Score Sheet'!AA50=\"\",\"R\",IF('Race results'!$C$32>0,ROUND(AVERAGE('Score Sheet'!$J50:AA50),1),ROUND(AVERAGE('Score Sheet'!$I50:AA50),1)))","v":"R"},{"$f":"IF('Score Sheet'!AB50=\"\",\"R\",IF('Race results'!$C$32>0,ROUND(AVERAGE('Score Sheet'!$J50:AB50),1),ROUND(AVERAGE('Score Sheet'!$I50:AB50),1)))","v":"R"},{"$f":"IF('Score Sheet'!AC50=\"\",\"R\",IF('Race results'!$C$32>0,ROUND(AVERAGE('Score Sheet'!$J50:AC50),1),ROUND(AVERAGE('Score Sheet'!$I50:AC50),1)))","v":"R"},{"$f":"IF('Score Sheet'!AD50=\"\",\"R\",IF('Race results'!$C$32>0,ROUND(AVERAGE('Score Sheet'!$J50:AD50),1),ROUND(AVERAGE('Score Sheet'!$I50:AD50),1)))","v":"R"},{"$f":"IF('Score Sheet'!AE50=\"\",\"R\",IF('Race results'!$C$32>0,ROUND(AVERAGE('Score Sheet'!$J50:AE50),1),ROUND(AVERAGE('Score Sheet'!$I50:AE50),1)))","v":"R"},{"$f":"IF('Score Sheet'!AF50=\"\",\"R\",IF('Race results'!$C$32>0,ROUND(AVERAGE('Score Sheet'!$J50:AF50),1),ROUND(AVERAGE('Score Sheet'!$I50:AF50),1)))","v":"R"},{"$f":"IF('Score Sheet'!AG50=\"\",\"R\",IF('Race results'!$C$32>0,ROUND(AVERAGE('Score Sheet'!$J50:AG50),1),ROUND(AVERAGE('Score Sheet'!$I50:AG50),1)))","v":"R"},{"$f":"IF('Score Sheet'!AH50=\"\",\"R\",IF('Race results'!$C$32>0,ROUND(AVERAGE('Score Sheet'!$J50:AH50),1),ROUND(AVERAGE('Score Sheet'!$I50:AH50),1)))","v":"R"},{"$f":"IF('Score Sheet'!AI50=\"\",\"R\",IF('Race results'!$C$32>0,ROUND(AVERAGE('Score Sheet'!$J50:AI50),1),ROUND(AVERAGE('Score Sheet'!$I50:AI50),1)))","v":"R"},{"$f":"IF('Score Sheet'!AJ50=\"\",\"R\",IF('Race results'!$C$32>0,ROUND(AVERAGE('Score Sheet'!$J50:AJ50),1),ROUND(AVERAGE('Score Sheet'!$I50:AJ50),1)))","v":"R"},{"$f":"IF('Score Sheet'!AK50=\"\",\"R\",IF('Race results'!$C$32>0,ROUND(AVERAGE('Score Sheet'!$J50:AK50),1),ROUND(AVERAGE('Score Sheet'!$I50:AK50),1)))","v":"R"},{"$f":"IF('Score Sheet'!AL50=\"\",\"R\",IF('Race results'!$C$32>0,ROUND(AVERAGE('Score Sheet'!$J50:AL50),1),ROUND(AVERAGE('Score Sheet'!$I50:AL50),1)))","v":"R"},{"$f":"IF('Score Sheet'!AM50=\"\",\"R\",IF('Race results'!$C$32>0,ROUND(AVERAGE('Score Sheet'!$J50:AM50),1),ROUND(AVERAGE('Score Sheet'!$I50:AM50),1)))","v":"R"},{"$f":"IF('Score Sheet'!AN50=\"\",\"R\",IF('Race results'!$C$32>0,ROUND(AVERAGE('Score Sheet'!$J50:AN50),1),ROUND(AVERAGE('Score Sheet'!$I50:AN50),1)))","v":"R"},{"$f":"IF('Score Sheet'!AO50=\"\",\"R\",IF('Race results'!$C$32>0,ROUND(AVERAGE('Score Sheet'!$J50:AO50),1),ROUND(AVERAGE('Score Sheet'!$I50:AO50),1)))","v":"R"},{"$f":"IF('Score Sheet'!AP50=\"\",\"R\",IF('Race results'!$C$32>0,ROUND(AVERAGE('Score Sheet'!$J50:AP50),1),ROUND(AVERAGE('Score Sheet'!$I50:AP50),1)))","v":"R"},{"$f":"IF('Score Sheet'!AQ50=\"\",\"R\",IF('Race results'!$C$32>0,ROUND(AVERAGE('Score Sheet'!$J50:AQ50),1),ROUND(AVERAGE('Score Sheet'!$I50:AQ50),1)))","v":"R"},{"$f":"IF('Score Sheet'!AR50=\"\",\"R\",IF('Race results'!$C$32>0,ROUND(AVERAGE('Score Sheet'!$J50:AR50),1),ROUND(AVERAGE('Score Sheet'!$I50:AR50),1)))","v":"R"},{"$f":"IF('Score Sheet'!AS50=\"\",\"R\",IF('Race results'!$C$32>0,ROUND(AVERAGE('Score Sheet'!$J50:AS50),1),ROUND(AVERAGE('Score Sheet'!$I50:AS50),1)))","v":"R"},{"$f":"IF('Score Sheet'!AT50=\"\",\"R\",IF('Race results'!$C$32>0,ROUND(AVERAGE('Score Sheet'!$J50:AT50),1),ROUND(AVERAGE('Score Sheet'!$I50:AT50),1)))","v":"R"},{"$f":"IF('Score Sheet'!AU50=\"\",\"R\",IF('Race results'!$C$32>0,ROUND(AVERAGE('Score Sheet'!$J50:AU50),1),ROUND(AVERAGE('Score Sheet'!$I50:AU50),1)))","v":"R"},{"$f":"IF('Score Sheet'!AV50=\"\",\"R\",IF('Race results'!$C$32>0,ROUND(AVERAGE('Score Sheet'!$J50:AV50),1),ROUND(AVERAGE('Score Sheet'!$I50:AV50),1)))","v":"R"},null,"",{"$f":"IF(C50=\"\",\"\",IF('Race results'!$C$7<1, \"E\", IF('Race results'!$C$32>0,IF(COUNT(AY50:CL50)<1,\"R\",ROUND(AVERAGE(AY50:CL50),1)),IF(COUNT(AX50:CL50)<1,\"R\",ROUND(AVERAGE(AX50:CL50),1)))))","v":""},null,null,"","","","","","","","","","","","","","","","","","","","","","","","","","","","","","","","","","","","","","","","",""]
[null,42,{"$f":"IF('Score Sheet'!C51=\"\",\"\",'Score Sheet'!C51)","v":""},{"$f":"'Race results'!$F$159","v":"DAFT!"},{"$f":"'Race results'!$F$159","v":"DAFT!"},{"$f":"IF('Score Sheet'!J51=\"\",\"R\",IF('Race results'!$C$32>0,'Race results'!$F$159,ROUND(AVERAGE('Score Sheet'!$I51:J51),1)))","v":"R"},{"$f":"IF('Score Sheet'!K51=\"\",\"R\",IF('Race results'!$C$32>0,ROUND(AVERAGE('Score Sheet'!$J51:K51),1),ROUND(AVERAGE('Score Sheet'!$I51:K51),1)))","v":"R"},{"$f":"IF('Score Sheet'!L51=\"\",\"R\",IF('Race results'!$C$32>0,ROUND(AVERAGE('Score Sheet'!$J51:L51),1),ROUND(AVERAGE('Score Sheet'!$I51:L51),1)))","v":"R"},{"$f":"IF('Score Sheet'!M51=\"\",\"R\",IF('Race results'!$C$32>0,ROUND(AVERAGE('Score Sheet'!$J51:M51),1),ROUND(AVERAGE('Score Sheet'!$I51:M51),1)))","v":"R"},{"$f":"IF('Score Sheet'!N51=\"\",\"R\",IF('Race results'!$C$32>0,ROUND(AVERAGE('Score Sheet'!$J51:N51),1),ROUND(AVERAGE('Score Sheet'!$I51:N51),1)))","v":"R"},{"$f":"IF('Score Sheet'!O51=\"\",\"R\",IF('Race results'!$C$32>0,ROUND(AVERAGE('Score Sheet'!$J51:O51),1),ROUND(AVERAGE('Score Sheet'!$I51:O51),1)))","v":"R"},{"$f":"IF('Score Sheet'!P51=\"\",\"R\",IF('Race results'!$C$32>0,ROUND(AVERAGE('Score Sheet'!$J51:P51),1),ROUND(AVERAGE('Score Sheet'!$I51:P51),1)))","v":"R"},{"$f":"IF('Score Sheet'!Q51=\"\",\"R\",IF('Race results'!$C$32>0,ROUND(AVERAGE('Score Sheet'!$J51:Q51),1),ROUND(AVERAGE('Score Sheet'!$I51:Q51),1)))","v":"R"},{"$f":"IF('Score Sheet'!R51=\"\",\"R\",IF('Race results'!$C$32>0,ROUND(AVERAGE('Score Sheet'!$J51:R51),1),ROUND(AVERAGE('Score Sheet'!$I51:R51),1)))","v":"R"},{"$f":"IF('Score Sheet'!S51=\"\",\"R\",IF('Race results'!$C$32>0,ROUND(AVERAGE('Score Sheet'!$J51:S51),1),ROUND(AVERAGE('Score Sheet'!$I51:S51),1)))","v":"R"},{"$f":"IF('Score Sheet'!T51=\"\",\"R\",IF('Race results'!$C$32>0,ROUND(AVERAGE('Score Sheet'!$J51:T51),1),ROUND(AVERAGE('Score Sheet'!$I51:T51),1)))","v":"R"},{"$f":"IF('Score Sheet'!U51=\"\",\"R\",IF('Race results'!$C$32>0,ROUND(AVERAGE('Score Sheet'!$J51:U51),1),ROUND(AVERAGE('Score Sheet'!$I51:U51),1)))","v":"R"},{"$f":"IF('Score Sheet'!V51=\"\",\"R\",IF('Race results'!$C$32>0,ROUND(AVERAGE('Score Sheet'!$J51:V51),1),ROUND(AVERAGE('Score Sheet'!$I51:V51),1)))","v":"R"},{"$f":"IF('Score Sheet'!W51=\"\",\"R\",IF('Race results'!$C$32>0,ROUND(AVERAGE('Score Sheet'!$J51:W51),1),ROUND(AVERAGE('Score Sheet'!$I51:W51),1)))","v":"R"},{"$f":"IF('Score Sheet'!X51=\"\",\"R\",IF('Race results'!$C$32>0,ROUND(AVERAGE('Score Sheet'!$J51:X51),1),ROUND(AVERAGE('Score Sheet'!$I51:X51),1)))","v":"R"},{"$f":"IF('Score Sheet'!Y51=\"\",\"R\",IF('Race results'!$C$32>0,ROUND(AVERAGE('Score Sheet'!$J51:Y51),1),ROUND(AVERAGE('Score Sheet'!$I51:Y51),1)))","v":"R"},{"$f":"IF('Score Sheet'!Z51=\"\",\"R\",IF('Race results'!$C$32>0,ROUND(AVERAGE('Score Sheet'!$J51:Z51),1),ROUND(AVERAGE('Score Sheet'!$I51:Z51),1)))","v":"R"},{"$f":"IF('Score Sheet'!AA51=\"\",\"R\",IF('Race results'!$C$32>0,ROUND(AVERAGE('Score Sheet'!$J51:AA51),1),ROUND(AVERAGE('Score Sheet'!$I51:AA51),1)))","v":"R"},{"$f":"IF('Score Sheet'!AB51=\"\",\"R\",IF('Race results'!$C$32>0,ROUND(AVERAGE('Score Sheet'!$J51:AB51),1),ROUND(AVERAGE('Score Sheet'!$I51:AB51),1)))","v":"R"},{"$f":"IF('Score Sheet'!AC51=\"\",\"R\",IF('Race results'!$C$32>0,ROUND(AVERAGE('Score Sheet'!$J51:AC51),1),ROUND(AVERAGE('Score Sheet'!$I51:AC51),1)))","v":"R"},{"$f":"IF('Score Sheet'!AD51=\"\",\"R\",IF('Race results'!$C$32>0,ROUND(AVERAGE('Score Sheet'!$J51:AD51),1),ROUND(AVERAGE('Score Sheet'!$I51:AD51),1)))","v":"R"},{"$f":"IF('Score Sheet'!AE51=\"\",\"R\",IF('Race results'!$C$32>0,ROUND(AVERAGE('Score Sheet'!$J51:AE51),1),ROUND(AVERAGE('Score Sheet'!$I51:AE51),1)))","v":"R"},{"$f":"IF('Score Sheet'!AF51=\"\",\"R\",IF('Race results'!$C$32>0,ROUND(AVERAGE('Score Sheet'!$J51:AF51),1),ROUND(AVERAGE('Score Sheet'!$I51:AF51),1)))","v":"R"},{"$f":"IF('Score Sheet'!AG51=\"\",\"R\",IF('Race results'!$C$32>0,ROUND(AVERAGE('Score Sheet'!$J51:AG51),1),ROUND(AVERAGE('Score Sheet'!$I51:AG51),1)))","v":"R"},{"$f":"IF('Score Sheet'!AH51=\"\",\"R\",IF('Race results'!$C$32>0,ROUND(AVERAGE('Score Sheet'!$J51:AH51),1),ROUND(AVERAGE('Score Sheet'!$I51:AH51),1)))","v":"R"},{"$f":"IF('Score Sheet'!AI51=\"\",\"R\",IF('Race results'!$C$32>0,ROUND(AVERAGE('Score Sheet'!$J51:AI51),1),ROUND(AVERAGE('Score Sheet'!$I51:AI51),1)))","v":"R"},{"$f":"IF('Score Sheet'!AJ51=\"\",\"R\",IF('Race results'!$C$32>0,ROUND(AVERAGE('Score Sheet'!$J51:AJ51),1),ROUND(AVERAGE('Score Sheet'!$I51:AJ51),1)))","v":"R"},{"$f":"IF('Score Sheet'!AK51=\"\",\"R\",IF('Race results'!$C$32>0,ROUND(AVERAGE('Score Sheet'!$J51:AK51),1),ROUND(AVERAGE('Score Sheet'!$I51:AK51),1)))","v":"R"},{"$f":"IF('Score Sheet'!AL51=\"\",\"R\",IF('Race results'!$C$32>0,ROUND(AVERAGE('Score Sheet'!$J51:AL51),1),ROUND(AVERAGE('Score Sheet'!$I51:AL51),1)))","v":"R"},{"$f":"IF('Score Sheet'!AM51=\"\",\"R\",IF('Race results'!$C$32>0,ROUND(AVERAGE('Score Sheet'!$J51:AM51),1),ROUND(AVERAGE('Score Sheet'!$I51:AM51),1)))","v":"R"},{"$f":"IF('Score Sheet'!AN51=\"\",\"R\",IF('Race results'!$C$32>0,ROUND(AVERAGE('Score Sheet'!$J51:AN51),1),ROUND(AVERAGE('Score Sheet'!$I51:AN51),1)))","v":"R"},{"$f":"IF('Score Sheet'!AO51=\"\",\"R\",IF('Race results'!$C$32>0,ROUND(AVERAGE('Score Sheet'!$J51:AO51),1),ROUND(AVERAGE('Score Sheet'!$I51:AO51),1)))","v":"R"},{"$f":"IF('Score Sheet'!AP51=\"\",\"R\",IF('Race results'!$C$32>0,ROUND(AVERAGE('Score Sheet'!$J51:AP51),1),ROUND(AVERAGE('Score Sheet'!$I51:AP51),1)))","v":"R"},{"$f":"IF('Score Sheet'!AQ51=\"\",\"R\",IF('Race results'!$C$32>0,ROUND(AVERAGE('Score Sheet'!$J51:AQ51),1),ROUND(AVERAGE('Score Sheet'!$I51:AQ51),1)))","v":"R"},{"$f":"IF('Score Sheet'!AR51=\"\",\"R\",IF('Race results'!$C$32>0,ROUND(AVERAGE('Score Sheet'!$J51:AR51),1),ROUND(AVERAGE('Score Sheet'!$I51:AR51),1)))","v":"R"},{"$f":"IF('Score Sheet'!AS51=\"\",\"R\",IF('Race results'!$C$32>0,ROUND(AVERAGE('Score Sheet'!$J51:AS51),1),ROUND(AVERAGE('Score Sheet'!$I51:AS51),1)))","v":"R"},{"$f":"IF('Score Sheet'!AT51=\"\",\"R\",IF('Race results'!$C$32>0,ROUND(AVERAGE('Score Sheet'!$J51:AT51),1),ROUND(AVERAGE('Score Sheet'!$I51:AT51),1)))","v":"R"},{"$f":"IF('Score Sheet'!AU51=\"\",\"R\",IF('Race results'!$C$32>0,ROUND(AVERAGE('Score Sheet'!$J51:AU51),1),ROUND(AVERAGE('Score Sheet'!$I51:AU51),1)))","v":"R"},{"$f":"IF('Score Sheet'!AV51=\"\",\"R\",IF('Race results'!$C$32>0,ROUND(AVERAGE('Score Sheet'!$J51:AV51),1),ROUND(AVERAGE('Score Sheet'!$I51:AV51),1)))","v":"R"},null,"",{"$f":"IF(C51=\"\",\"\",IF('Race results'!$C$7<1, \"E\", IF('Race results'!$C$32>0,IF(COUNT(AY51:CL51)<1,\"R\",ROUND(AVERAGE(AY51:CL51),1)),IF(COUNT(AX51:CL51)<1,\"R\",ROUND(AVERAGE(AX51:CL51),1)))))","v":""},null,null,"","","","","","","","","","","","","","","","","","","","","","","","","","","","","","","","","","","","","","","","",""]
[null,43,{"$f":"IF('Score Sheet'!C52=\"\",\"\",'Score Sheet'!C52)","v":""},{"$f":"'Race results'!$F$159","v":"DAFT!"},{"$f":"'Race results'!$F$159","v":"DAFT!"},{"$f":"IF('Score Sheet'!J52=\"\",\"R\",IF('Race results'!$C$32>0,'Race results'!$F$159,ROUND(AVERAGE('Score Sheet'!$I52:J52),1)))","v":"R"},{"$f":"IF('Score Sheet'!K52=\"\",\"R\",IF('Race results'!$C$32>0,ROUND(AVERAGE('Score Sheet'!$J52:K52),1),ROUND(AVERAGE('Score Sheet'!$I52:K52),1)))","v":"R"},{"$f":"IF('Score Sheet'!L52=\"\",\"R\",IF('Race results'!$C$32>0,ROUND(AVERAGE('Score Sheet'!$J52:L52),1),ROUND(AVERAGE('Score Sheet'!$I52:L52),1)))","v":"R"},{"$f":"IF('Score Sheet'!M52=\"\",\"R\",IF('Race results'!$C$32>0,ROUND(AVERAGE('Score Sheet'!$J52:M52),1),ROUND(AVERAGE('Score Sheet'!$I52:M52),1)))","v":"R"},{"$f":"IF('Score Sheet'!N52=\"\",\"R\",IF('Race results'!$C$32>0,ROUND(AVERAGE('Score Sheet'!$J52:N52),1),ROUND(AVERAGE('Score Sheet'!$I52:N52),1)))","v":"R"},{"$f":"IF('Score Sheet'!O52=\"\",\"R\",IF('Race results'!$C$32>0,ROUND(AVERAGE('Score Sheet'!$J52:O52),1),ROUND(AVERAGE('Score Sheet'!$I52:O52),1)))","v":"R"},{"$f":"IF('Score Sheet'!P52=\"\",\"R\",IF('Race results'!$C$32>0,ROUND(AVERAGE('Score Sheet'!$J52:P52),1),ROUND(AVERAGE('Score Sheet'!$I52:P52),1)))","v":"R"},{"$f":"IF('Score Sheet'!Q52=\"\",\"R\",IF('Race results'!$C$32>0,ROUND(AVERAGE('Score Sheet'!$J52:Q52),1),ROUND(AVERAGE('Score Sheet'!$I52:Q52),1)))","v":"R"},{"$f":"IF('Score Sheet'!R52=\"\",\"R\",IF('Race results'!$C$32>0,ROUND(AVERAGE('Score Sheet'!$J52:R52),1),ROUND(AVERAGE('Score Sheet'!$I52:R52),1)))","v":"R"},{"$f":"IF('Score Sheet'!S52=\"\",\"R\",IF('Race results'!$C$32>0,ROUND(AVERAGE('Score Sheet'!$J52:S52),1),ROUND(AVERAGE('Score Sheet'!$I52:S52),1)))","v":"R"},{"$f":"IF('Score Sheet'!T52=\"\",\"R\",IF('Race results'!$C$32>0,ROUND(AVERAGE('Score Sheet'!$J52:T52),1),ROUND(AVERAGE('Score Sheet'!$I52:T52),1)))","v":"R"},{"$f":"IF('Score Sheet'!U52=\"\",\"R\",IF('Race results'!$C$32>0,ROUND(AVERAGE('Score Sheet'!$J52:U52),1),ROUND(AVERAGE('Score Sheet'!$I52:U52),1)))","v":"R"},{"$f":"IF('Score Sheet'!V52=\"\",\"R\",IF('Race results'!$C$32>0,ROUND(AVERAGE('Score Sheet'!$J52:V52),1),ROUND(AVERAGE('Score Sheet'!$I52:V52),1)))","v":"R"},{"$f":"IF('Score Sheet'!W52=\"\",\"R\",IF('Race results'!$C$32>0,ROUND(AVERAGE('Score Sheet'!$J52:W52),1),ROUND(AVERAGE('Score Sheet'!$I52:W52),1)))","v":"R"},{"$f":"IF('Score Sheet'!X52=\"\",\"R\",IF('Race results'!$C$32>0,ROUND(AVERAGE('Score Sheet'!$J52:X52),1),ROUND(AVERAGE('Score Sheet'!$I52:X52),1)))","v":"R"},{"$f":"IF('Score Sheet'!Y52=\"\",\"R\",IF('Race results'!$C$32>0,ROUND(AVERAGE('Score Sheet'!$J52:Y52),1),ROUND(AVERAGE('Score Sheet'!$I52:Y52),1)))","v":"R"},{"$f":"IF('Score Sheet'!Z52=\"\",\"R\",IF('Race results'!$C$32>0,ROUND(AVERAGE('Score Sheet'!$J52:Z52),1),ROUND(AVERAGE('Score Sheet'!$I52:Z52),1)))","v":"R"},{"$f":"IF('Score Sheet'!AA52=\"\",\"R\",IF('Race results'!$C$32>0,ROUND(AVERAGE('Score Sheet'!$J52:AA52),1),ROUND(AVERAGE('Score Sheet'!$I52:AA52),1)))","v":"R"},{"$f":"IF('Score Sheet'!AB52=\"\",\"R\",IF('Race results'!$C$32>0,ROUND(AVERAGE('Score Sheet'!$J52:AB52),1),ROUND(AVERAGE('Score Sheet'!$I52:AB52),1)))","v":"R"},{"$f":"IF('Score Sheet'!AC52=\"\",\"R\",IF('Race results'!$C$32>0,ROUND(AVERAGE('Score Sheet'!$J52:AC52),1),ROUND(AVERAGE('Score Sheet'!$I52:AC52),1)))","v":"R"},{"$f":"IF('Score Sheet'!AD52=\"\",\"R\",IF('Race results'!$C$32>0,ROUND(AVERAGE('Score Sheet'!$J52:AD52),1),ROUND(AVERAGE('Score Sheet'!$I52:AD52),1)))","v":"R"},{"$f":"IF('Score Sheet'!AE52=\"\",\"R\",IF('Race results'!$C$32>0,ROUND(AVERAGE('Score Sheet'!$J52:AE52),1),ROUND(AVERAGE('Score Sheet'!$I52:AE52),1)))","v":"R"},{"$f":"IF('Score Sheet'!AF52=\"\",\"R\",IF('Race results'!$C$32>0,ROUND(AVERAGE('Score Sheet'!$J52:AF52),1),ROUND(AVERAGE('Score Sheet'!$I52:AF52),1)))","v":"R"},{"$f":"IF('Score Sheet'!AG52=\"\",\"R\",IF('Race results'!$C$32>0,ROUND(AVERAGE('Score Sheet'!$J52:AG52),1),ROUND(AVERAGE('Score Sheet'!$I52:AG52),1)))","v":"R"},{"$f":"IF('Score Sheet'!AH52=\"\",\"R\",IF('Race results'!$C$32>0,ROUND(AVERAGE('Score Sheet'!$J52:AH52),1),ROUND(AVERAGE('Score Sheet'!$I52:AH52),1)))","v":"R"},{"$f":"IF('Score Sheet'!AI52=\"\",\"R\",IF('Race results'!$C$32>0,ROUND(AVERAGE('Score Sheet'!$J52:AI52),1),ROUND(AVERAGE('Score Sheet'!$I52:AI52),1)))","v":"R"},{"$f":"IF('Score Sheet'!AJ52=\"\",\"R\",IF('Race results'!$C$32>0,ROUND(AVERAGE('Score Sheet'!$J52:AJ52),1),ROUND(AVERAGE('Score Sheet'!$I52:AJ52),1)))","v":"R"},{"$f":"IF('Score Sheet'!AK52=\"\",\"R\",IF('Race results'!$C$32>0,ROUND(AVERAGE('Score Sheet'!$J52:AK52),1),ROUND(AVERAGE('Score Sheet'!$I52:AK52),1)))","v":"R"},{"$f":"IF('Score Sheet'!AL52=\"\",\"R\",IF('Race results'!$C$32>0,ROUND(AVERAGE('Score Sheet'!$J52:AL52),1),ROUND(AVERAGE('Score Sheet'!$I52:AL52),1)))","v":"R"},{"$f":"IF('Score Sheet'!AM52=\"\",\"R\",IF('Race results'!$C$32>0,ROUND(AVERAGE('Score Sheet'!$J52:AM52),1),ROUND(AVERAGE('Score Sheet'!$I52:AM52),1)))","v":"R"},{"$f":"IF('Score Sheet'!AN52=\"\",\"R\",IF('Race results'!$C$32>0,ROUND(AVERAGE('Score Sheet'!$J52:AN52),1),ROUND(AVERAGE('Score Sheet'!$I52:AN52),1)))","v":"R"},{"$f":"IF('Score Sheet'!AO52=\"\",\"R\",IF('Race results'!$C$32>0,ROUND(AVERAGE('Score Sheet'!$J52:AO52),1),ROUND(AVERAGE('Score Sheet'!$I52:AO52),1)))","v":"R"},{"$f":"IF('Score Sheet'!AP52=\"\",\"R\",IF('Race results'!$C$32>0,ROUND(AVERAGE('Score Sheet'!$J52:AP52),1),ROUND(AVERAGE('Score Sheet'!$I52:AP52),1)))","v":"R"},{"$f":"IF('Score Sheet'!AQ52=\"\",\"R\",IF('Race results'!$C$32>0,ROUND(AVERAGE('Score Sheet'!$J52:AQ52),1),ROUND(AVERAGE('Score Sheet'!$I52:AQ52),1)))","v":"R"},{"$f":"IF('Score Sheet'!AR52=\"\",\"R\",IF('Race results'!$C$32>0,ROUND(AVERAGE('Score Sheet'!$J52:AR52),1),ROUND(AVERAGE('Score Sheet'!$I52:AR52),1)))","v":"R"},{"$f":"IF('Score Sheet'!AS52=\"\",\"R\",IF('Race results'!$C$32>0,ROUND(AVERAGE('Score Sheet'!$J52:AS52),1),ROUND(AVERAGE('Score Sheet'!$I52:AS52),1)))","v":"R"},{"$f":"IF('Score Sheet'!AT52=\"\",\"R\",IF('Race results'!$C$32>0,ROUND(AVERAGE('Score Sheet'!$J52:AT52),1),ROUND(AVERAGE('Score Sheet'!$I52:AT52),1)))","v":"R"},{"$f":"IF('Score Sheet'!AU52=\"\",\"R\",IF('Race results'!$C$32>0,ROUND(AVERAGE('Score Sheet'!$J52:AU52),1),ROUND(AVERAGE('Score Sheet'!$I52:AU52),1)))","v":"R"},{"$f":"IF('Score Sheet'!AV52=\"\",\"R\",IF('Race results'!$C$32>0,ROUND(AVERAGE('Score Sheet'!$J52:AV52),1),ROUND(AVERAGE('Score Sheet'!$I52:AV52),1)))","v":"R"},null,"",{"$f":"IF(C52=\"\",\"\",IF('Race results'!$C$7<1, \"E\", IF('Race results'!$C$32>0,IF(COUNT(AY52:CL52)<1,\"R\",ROUND(AVERAGE(AY52:CL52),1)),IF(COUNT(AX52:CL52)<1,\"R\",ROUND(AVERAGE(AX52:CL52),1)))))","v":""},null,null,"","","","","","","","","","","","","","","","","","","","","","","","","","","","","","","","","","","","","","","","",""]
[null,44,{"$f":"IF('Score Sheet'!C53=\"\",\"\",'Score Sheet'!C53)","v":""},{"$f":"'Race results'!$F$159","v":"DAFT!"},{"$f":"'Race results'!$F$159","v":"DAFT!"},{"$f":"IF('Score Sheet'!J53=\"\",\"R\",IF('Race results'!$C$32>0,'Race results'!$F$159,ROUND(AVERAGE('Score Sheet'!$I53:J53),1)))","v":"R"},{"$f":"IF('Score Sheet'!K53=\"\",\"R\",IF('Race results'!$C$32>0,ROUND(AVERAGE('Score Sheet'!$J53:K53),1),ROUND(AVERAGE('Score Sheet'!$I53:K53),1)))","v":"R"},{"$f":"IF('Score Sheet'!L53=\"\",\"R\",IF('Race results'!$C$32>0,ROUND(AVERAGE('Score Sheet'!$J53:L53),1),ROUND(AVERAGE('Score Sheet'!$I53:L53),1)))","v":"R"},{"$f":"IF('Score Sheet'!M53=\"\",\"R\",IF('Race results'!$C$32>0,ROUND(AVERAGE('Score Sheet'!$J53:M53),1),ROUND(AVERAGE('Score Sheet'!$I53:M53),1)))","v":"R"},{"$f":"IF('Score Sheet'!N53=\"\",\"R\",IF('Race results'!$C$32>0,ROUND(AVERAGE('Score Sheet'!$J53:N53),1),ROUND(AVERAGE('Score Sheet'!$I53:N53),1)))","v":"R"},{"$f":"IF('Score Sheet'!O53=\"\",\"R\",IF('Race results'!$C$32>0,ROUND(AVERAGE('Score Sheet'!$J53:O53),1),ROUND(AVERAGE('Score Sheet'!$I53:O53),1)))","v":"R"},{"$f":"IF('Score Sheet'!P53=\"\",\"R\",IF('Race results'!$C$32>0,ROUND(AVERAGE('Score Sheet'!$J53:P53),1),ROUND(AVERAGE('Score Sheet'!$I53:P53),1)))","v":"R"},{"$f":"IF('Score Sheet'!Q53=\"\",\"R\",IF('Race results'!$C$32>0,ROUND(AVERAGE('Score Sheet'!$J53:Q53),1),ROUND(AVERAGE('Score Sheet'!$I53:Q53),1)))","v":"R"},{"$f":"IF('Score Sheet'!R53=\"\",\"R\",IF('Race results'!$C$32>0,ROUND(AVERAGE('Score Sheet'!$J53:R53),1),ROUND(AVERAGE('Score Sheet'!$I53:R53),1)))","v":"R"},{"$f":"IF('Score Sheet'!S53=\"\",\"R\",IF('Race results'!$C$32>0,ROUND(AVERAGE('Score Sheet'!$J53:S53),1),ROUND(AVERAGE('Score Sheet'!$I53:S53),1)))","v":"R"},{"$f":"IF('Score Sheet'!T53=\"\",\"R\",IF('Race results'!$C$32>0,ROUND(AVERAGE('Score Sheet'!$J53:T53),1),ROUND(AVERAGE('Score Sheet'!$I53:T53),1)))","v":"R"},{"$f":"IF('Score Sheet'!U53=\"\",\"R\",IF('Race results'!$C$32>0,ROUND(AVERAGE('Score Sheet'!$J53:U53),1),ROUND(AVERAGE('Score Sheet'!$I53:U53),1)))","v":"R"},{"$f":"IF('Score Sheet'!V53=\"\",\"R\",IF('Race results'!$C$32>0,ROUND(AVERAGE('Score Sheet'!$J53:V53),1),ROUND(AVERAGE('Score Sheet'!$I53:V53),1)))","v":"R"},{"$f":"IF('Score Sheet'!W53=\"\",\"R\",IF('Race results'!$C$32>0,ROUND(AVERAGE('Score Sheet'!$J53:W53),1),ROUND(AVERAGE('Score Sheet'!$I53:W53),1)))","v":"R"},{"$f":"IF('Score Sheet'!X53=\"\",\"R\",IF('Race results'!$C$32>0,ROUND(AVERAGE('Score Sheet'!$J53:X53),1),ROUND(AVERAGE('Score Sheet'!$I53:X53),1)))","v":"R"},{"$f":"IF('Score Sheet'!Y53=\"\",\"R\",IF('Race results'!$C$32>0,ROUND(AVERAGE('Score Sheet'!$J53:Y53),1),ROUND(AVERAGE('Score Sheet'!$I53:Y53),1)))","v":"R"},{"$f":"IF('Score Sheet'!Z53=\"\",\"R\",IF('Race results'!$C$32>0,ROUND(AVERAGE('Score Sheet'!$J53:Z53),1),ROUND(AVERAGE('Score Sheet'!$I53:Z53),1)))","v":"R"},{"$f":"IF('Score Sheet'!AA53=\"\",\"R\",IF('Race results'!$C$32>0,ROUND(AVERAGE('Score Sheet'!$J53:AA53),1),ROUND(AVERAGE('Score Sheet'!$I53:AA53),1)))","v":"R"},{"$f":"IF('Score Sheet'!AB53=\"\",\"R\",IF('Race results'!$C$32>0,ROUND(AVERAGE('Score Sheet'!$J53:AB53),1),ROUND(AVERAGE('Score Sheet'!$I53:AB53),1)))","v":"R"},{"$f":"IF('Score Sheet'!AC53=\"\",\"R\",IF('Race results'!$C$32>0,ROUND(AVERAGE('Score Sheet'!$J53:AC53),1),ROUND(AVERAGE('Score Sheet'!$I53:AC53),1)))","v":"R"},{"$f":"IF('Score Sheet'!AD53=\"\",\"R\",IF('Race results'!$C$32>0,ROUND(AVERAGE('Score Sheet'!$J53:AD53),1),ROUND(AVERAGE('Score Sheet'!$I53:AD53),1)))","v":"R"},{"$f":"IF('Score Sheet'!AE53=\"\",\"R\",IF('Race results'!$C$32>0,ROUND(AVERAGE('Score Sheet'!$J53:AE53),1),ROUND(AVERAGE('Score Sheet'!$I53:AE53),1)))","v":"R"},{"$f":"IF('Score Sheet'!AF53=\"\",\"R\",IF('Race results'!$C$32>0,ROUND(AVERAGE('Score Sheet'!$J53:AF53),1),ROUND(AVERAGE('Score Sheet'!$I53:AF53),1)))","v":"R"},{"$f":"IF('Score Sheet'!AG53=\"\",\"R\",IF('Race results'!$C$32>0,ROUND(AVERAGE('Score Sheet'!$J53:AG53),1),ROUND(AVERAGE('Score Sheet'!$I53:AG53),1)))","v":"R"},{"$f":"IF('Score Sheet'!AH53=\"\",\"R\",IF('Race results'!$C$32>0,ROUND(AVERAGE('Score Sheet'!$J53:AH53),1),ROUND(AVERAGE('Score Sheet'!$I53:AH53),1)))","v":"R"},{"$f":"IF('Score Sheet'!AI53=\"\",\"R\",IF('Race results'!$C$32>0,ROUND(AVERAGE('Score Sheet'!$J53:AI53),1),ROUND(AVERAGE('Score Sheet'!$I53:AI53),1)))","v":"R"},{"$f":"IF('Score Sheet'!AJ53=\"\",\"R\",IF('Race results'!$C$32>0,ROUND(AVERAGE('Score Sheet'!$J53:AJ53),1),ROUND(AVERAGE('Score Sheet'!$I53:AJ53),1)))","v":"R"},{"$f":"IF('Score Sheet'!AK53=\"\",\"R\",IF('Race results'!$C$32>0,ROUND(AVERAGE('Score Sheet'!$J53:AK53),1),ROUND(AVERAGE('Score Sheet'!$I53:AK53),1)))","v":"R"},{"$f":"IF('Score Sheet'!AL53=\"\",\"R\",IF('Race results'!$C$32>0,ROUND(AVERAGE('Score Sheet'!$J53:AL53),1),ROUND(AVERAGE('Score Sheet'!$I53:AL53),1)))","v":"R"},{"$f":"IF('Score Sheet'!AM53=\"\",\"R\",IF('Race results'!$C$32>0,ROUND(AVERAGE('Score Sheet'!$J53:AM53),1),ROUND(AVERAGE('Score Sheet'!$I53:AM53),1)))","v":"R"},{"$f":"IF('Score Sheet'!AN53=\"\",\"R\",IF('Race results'!$C$32>0,ROUND(AVERAGE('Score Sheet'!$J53:AN53),1),ROUND(AVERAGE('Score Sheet'!$I53:AN53),1)))","v":"R"},{"$f":"IF('Score Sheet'!AO53=\"\",\"R\",IF('Race results'!$C$32>0,ROUND(AVERAGE('Score Sheet'!$J53:AO53),1),ROUND(AVERAGE('Score Sheet'!$I53:AO53),1)))","v":"R"},{"$f":"IF('Score Sheet'!AP53=\"\",\"R\",IF('Race results'!$C$32>0,ROUND(AVERAGE('Score Sheet'!$J53:AP53),1),ROUND(AVERAGE('Score Sheet'!$I53:AP53),1)))","v":"R"},{"$f":"IF('Score Sheet'!AQ53=\"\",\"R\",IF('Race results'!$C$32>0,ROUND(AVERAGE('Score Sheet'!$J53:AQ53),1),ROUND(AVERAGE('Score Sheet'!$I53:AQ53),1)))","v":"R"},{"$f":"IF('Score Sheet'!AR53=\"\",\"R\",IF('Race results'!$C$32>0,ROUND(AVERAGE('Score Sheet'!$J53:AR53),1),ROUND(AVERAGE('Score Sheet'!$I53:AR53),1)))","v":"R"},{"$f":"IF('Score Sheet'!AS53=\"\",\"R\",IF('Race results'!$C$32>0,ROUND(AVERAGE('Score Sheet'!$J53:AS53),1),ROUND(AVERAGE('Score Sheet'!$I53:AS53),1)))","v":"R"},{"$f":"IF('Score Sheet'!AT53=\"\",\"R\",IF('Race results'!$C$32>0,ROUND(AVERAGE('Score Sheet'!$J53:AT53),1),ROUND(AVERAGE('Score Sheet'!$I53:AT53),1)))","v":"R"},{"$f":"IF('Score Sheet'!AU53=\"\",\"R\",IF('Race results'!$C$32>0,ROUND(AVERAGE('Score Sheet'!$J53:AU53),1),ROUND(AVERAGE('Score Sheet'!$I53:AU53),1)))","v":"R"},{"$f":"IF('Score Sheet'!AV53=\"\",\"R\",IF('Race results'!$C$32>0,ROUND(AVERAGE('Score Sheet'!$J53:AV53),1),ROUND(AVERAGE('Score Sheet'!$I53:AV53),1)))","v":"R"},null,"",{"$f":"IF(C53=\"\",\"\",IF('Race results'!$C$7<1, \"E\", IF('Race results'!$C$32>0,IF(COUNT(AY53:CL53)<1,\"R\",ROUND(AVERAGE(AY53:CL53),1)),IF(COUNT(AX53:CL53)<1,\"R\",ROUND(AVERAGE(AX53:CL53),1)))))","v":""},null,null,"","","","","","","","","","","","","","","","","","","","","","","","","","","","","","","","","","","","","","","","",""]
[null,45,{"$f":"IF('Score Sheet'!C54=\"\",\"\",'Score Sheet'!C54)","v":""},{"$f":"'Race results'!$F$159","v":"DAFT!"},{"$f":"'Race results'!$F$159","v":"DAFT!"},{"$f":"IF('Score Sheet'!J54=\"\",\"R\",IF('Race results'!$C$32>0,'Race results'!$F$159,ROUND(AVERAGE('Score Sheet'!$I54:J54),1)))","v":"R"},{"$f":"IF('Score Sheet'!K54=\"\",\"R\",IF('Race results'!$C$32>0,ROUND(AVERAGE('Score Sheet'!$J54:K54),1),ROUND(AVERAGE('Score Sheet'!$I54:K54),1)))","v":"R"},{"$f":"IF('Score Sheet'!L54=\"\",\"R\",IF('Race results'!$C$32>0,ROUND(AVERAGE('Score Sheet'!$J54:L54),1),ROUND(AVERAGE('Score Sheet'!$I54:L54),1)))","v":"R"},{"$f":"IF('Score Sheet'!M54=\"\",\"R\",IF('Race results'!$C$32>0,ROUND(AVERAGE('Score Sheet'!$J54:M54),1),ROUND(AVERAGE('Score Sheet'!$I54:M54),1)))","v":"R"},{"$f":"IF('Score Sheet'!N54=\"\",\"R\",IF('Race results'!$C$32>0,ROUND(AVERAGE('Score Sheet'!$J54:N54),1),ROUND(AVERAGE('Score Sheet'!$I54:N54),1)))","v":"R"},{"$f":"IF('Score Sheet'!O54=\"\",\"R\",IF('Race results'!$C$32>0,ROUND(AVERAGE('Score Sheet'!$J54:O54),1),ROUND(AVERAGE('Score Sheet'!$I54:O54),1)))","v":"R"},{"$f":"IF('Score Sheet'!P54=\"\",\"R\",IF('Race results'!$C$32>0,ROUND(AVERAGE('Score Sheet'!$J54:P54),1),ROUND(AVERAGE('Score Sheet'!$I54:P54),1)))","v":"R"},{"$f":"IF('Score Sheet'!Q54=\"\",\"R\",IF('Race results'!$C$32>0,ROUND(AVERAGE('Score Sheet'!$J54:Q54),1),ROUND(AVERAGE('Score Sheet'!$I54:Q54),1)))","v":"R"},{"$f":"IF('Score Sheet'!R54=\"\",\"R\",IF('Race results'!$C$32>0,ROUND(AVERAGE('Score Sheet'!$J54:R54),1),ROUND(AVERAGE('Score Sheet'!$I54:R54),1)))","v":"R"},{"$f":"IF('Score Sheet'!S54=\"\",\"R\",IF('Race results'!$C$32>0,ROUND(AVERAGE('Score Sheet'!$J54:S54),1),ROUND(AVERAGE('Score Sheet'!$I54:S54),1)))","v":"R"},{"$f":"IF('Score Sheet'!T54=\"\",\"R\",IF('Race results'!$C$32>0,ROUND(AVERAGE('Score Sheet'!$J54:T54),1),ROUND(AVERAGE('Score Sheet'!$I54:T54),1)))","v":"R"},{"$f":"IF('Score Sheet'!U54=\"\",\"R\",IF('Race results'!$C$32>0,ROUND(AVERAGE('Score Sheet'!$J54:U54),1),ROUND(AVERAGE('Score Sheet'!$I54:U54),1)))","v":"R"},{"$f":"IF('Score Sheet'!V54=\"\",\"R\",IF('Race results'!$C$32>0,ROUND(AVERAGE('Score Sheet'!$J54:V54),1),ROUND(AVERAGE('Score Sheet'!$I54:V54),1)))","v":"R"},{"$f":"IF('Score Sheet'!W54=\"\",\"R\",IF('Race results'!$C$32>0,ROUND(AVERAGE('Score Sheet'!$J54:W54),1),ROUND(AVERAGE('Score Sheet'!$I54:W54),1)))","v":"R"},{"$f":"IF('Score Sheet'!X54=\"\",\"R\",IF('Race results'!$C$32>0,ROUND(AVERAGE('Score Sheet'!$J54:X54),1),ROUND(AVERAGE('Score Sheet'!$I54:X54),1)))","v":"R"},{"$f":"IF('Score Sheet'!Y54=\"\",\"R\",IF('Race results'!$C$32>0,ROUND(AVERAGE('Score Sheet'!$J54:Y54),1),ROUND(AVERAGE('Score Sheet'!$I54:Y54),1)))","v":"R"},{"$f":"IF('Score Sheet'!Z54=\"\",\"R\",IF('Race results'!$C$32>0,ROUND(AVERAGE('Score Sheet'!$J54:Z54),1),ROUND(AVERAGE('Score Sheet'!$I54:Z54),1)))","v":"R"},{"$f":"IF('Score Sheet'!AA54=\"\",\"R\",IF('Race results'!$C$32>0,ROUND(AVERAGE('Score Sheet'!$J54:AA54),1),ROUND(AVERAGE('Score Sheet'!$I54:AA54),1)))","v":"R"},{"$f":"IF('Score Sheet'!AB54=\"\",\"R\",IF('Race results'!$C$32>0,ROUND(AVERAGE('Score Sheet'!$J54:AB54),1),ROUND(AVERAGE('Score Sheet'!$I54:AB54),1)))","v":"R"},{"$f":"IF('Score Sheet'!AC54=\"\",\"R\",IF('Race results'!$C$32>0,ROUND(AVERAGE('Score Sheet'!$J54:AC54),1),ROUND(AVERAGE('Score Sheet'!$I54:AC54),1)))","v":"R"},{"$f":"IF('Score Sheet'!AD54=\"\",\"R\",IF('Race results'!$C$32>0,ROUND(AVERAGE('Score Sheet'!$J54:AD54),1),ROUND(AVERAGE('Score Sheet'!$I54:AD54),1)))","v":"R"},{"$f":"IF('Score Sheet'!AE54=\"\",\"R\",IF('Race results'!$C$32>0,ROUND(AVERAGE('Score Sheet'!$J54:AE54),1),ROUND(AVERAGE('Score Sheet'!$I54:AE54),1)))","v":"R"},{"$f":"IF('Score Sheet'!AF54=\"\",\"R\",IF('Race results'!$C$32>0,ROUND(AVERAGE('Score Sheet'!$J54:AF54),1),ROUND(AVERAGE('Score Sheet'!$I54:AF54),1)))","v":"R"},{"$f":"IF('Score Sheet'!AG54=\"\",\"R\",IF('Race results'!$C$32>0,ROUND(AVERAGE('Score Sheet'!$J54:AG54),1),ROUND(AVERAGE('Score Sheet'!$I54:AG54),1)))","v":"R"},{"$f":"IF('Score Sheet'!AH54=\"\",\"R\",IF('Race results'!$C$32>0,ROUND(AVERAGE('Score Sheet'!$J54:AH54),1),ROUND(AVERAGE('Score Sheet'!$I54:AH54),1)))","v":"R"},{"$f":"IF('Score Sheet'!AI54=\"\",\"R\",IF('Race results'!$C$32>0,ROUND(AVERAGE('Score Sheet'!$J54:AI54),1),ROUND(AVERAGE('Score Sheet'!$I54:AI54),1)))","v":"R"},{"$f":"IF('Score Sheet'!AJ54=\"\",\"R\",IF('Race results'!$C$32>0,ROUND(AVERAGE('Score Sheet'!$J54:AJ54),1),ROUND(AVERAGE('Score Sheet'!$I54:AJ54),1)))","v":"R"},{"$f":"IF('Score Sheet'!AK54=\"\",\"R\",IF('Race results'!$C$32>0,ROUND(AVERAGE('Score Sheet'!$J54:AK54),1),ROUND(AVERAGE('Score Sheet'!$I54:AK54),1)))","v":"R"},{"$f":"IF('Score Sheet'!AL54=\"\",\"R\",IF('Race results'!$C$32>0,ROUND(AVERAGE('Score Sheet'!$J54:AL54),1),ROUND(AVERAGE('Score Sheet'!$I54:AL54),1)))","v":"R"},{"$f":"IF('Score Sheet'!AM54=\"\",\"R\",IF('Race results'!$C$32>0,ROUND(AVERAGE('Score Sheet'!$J54:AM54),1),ROUND(AVERAGE('Score Sheet'!$I54:AM54),1)))","v":"R"},{"$f":"IF('Score Sheet'!AN54=\"\",\"R\",IF('Race results'!$C$32>0,ROUND(AVERAGE('Score Sheet'!$J54:AN54),1),ROUND(AVERAGE('Score Sheet'!$I54:AN54),1)))","v":"R"},{"$f":"IF('Score Sheet'!AO54=\"\",\"R\",IF('Race results'!$C$32>0,ROUND(AVERAGE('Score Sheet'!$J54:AO54),1),ROUND(AVERAGE('Score Sheet'!$I54:AO54),1)))","v":"R"},{"$f":"IF('Score Sheet'!AP54=\"\",\"R\",IF('Race results'!$C$32>0,ROUND(AVERAGE('Score Sheet'!$J54:AP54),1),ROUND(AVERAGE('Score Sheet'!$I54:AP54),1)))","v":"R"},{"$f":"IF('Score Sheet'!AQ54=\"\",\"R\",IF('Race results'!$C$32>0,ROUND(AVERAGE('Score Sheet'!$J54:AQ54),1),ROUND(AVERAGE('Score Sheet'!$I54:AQ54),1)))","v":"R"},{"$f":"IF('Score Sheet'!AR54=\"\",\"R\",IF('Race results'!$C$32>0,ROUND(AVERAGE('Score Sheet'!$J54:AR54),1),ROUND(AVERAGE('Score Sheet'!$I54:AR54),1)))","v":"R"},{"$f":"IF('Score Sheet'!AS54=\"\",\"R\",IF('Race results'!$C$32>0,ROUND(AVERAGE('Score Sheet'!$J54:AS54),1),ROUND(AVERAGE('Score Sheet'!$I54:AS54),1)))","v":"R"},{"$f":"IF('Score Sheet'!AT54=\"\",\"R\",IF('Race results'!$C$32>0,ROUND(AVERAGE('Score Sheet'!$J54:AT54),1),ROUND(AVERAGE('Score Sheet'!$I54:AT54),1)))","v":"R"},{"$f":"IF('Score Sheet'!AU54=\"\",\"R\",IF('Race results'!$C$32>0,ROUND(AVERAGE('Score Sheet'!$J54:AU54),1),ROUND(AVERAGE('Score Sheet'!$I54:AU54),1)))","v":"R"},{"$f":"IF('Score Sheet'!AV54=\"\",\"R\",IF('Race results'!$C$32>0,ROUND(AVERAGE('Score Sheet'!$J54:AV54),1),ROUND(AVERAGE('Score Sheet'!$I54:AV54),1)))","v":"R"},null,"",{"$f":"IF(C54=\"\",\"\",IF('Race results'!$C$7<1, \"E\", IF('Race results'!$C$32>0,IF(COUNT(AY54:CL54)<1,\"R\",ROUND(AVERAGE(AY54:CL54),1)),IF(COUNT(AX54:CL54)<1,\"R\",ROUND(AVERAGE(AX54:CL54),1)))))","v":""},null,null,"","","","","","","","","","","","","","","","","","","","","","","","","","","","","","","","","","","","","","","","",""]
[null,46,{"$f":"IF('Score Sheet'!C55=\"\",\"\",'Score Sheet'!C55)","v":""},{"$f":"'Race results'!$F$159","v":"DAFT!"},{"$f":"'Race results'!$F$159","v":"DAFT!"},{"$f":"IF('Score Sheet'!J55=\"\",\"R\",IF('Race results'!$C$32>0,'Race results'!$F$159,ROUND(AVERAGE('Score Sheet'!$I55:J55),1)))","v":"R"},{"$f":"IF('Score Sheet'!K55=\"\",\"R\",IF('Race results'!$C$32>0,ROUND(AVERAGE('Score Sheet'!$J55:K55),1),ROUND(AVERAGE('Score Sheet'!$I55:K55),1)))","v":"R"},{"$f":"IF('Score Sheet'!L55=\"\",\"R\",IF('Race results'!$C$32>0,ROUND(AVERAGE('Score Sheet'!$J55:L55),1),ROUND(AVERAGE('Score Sheet'!$I55:L55),1)))","v":"R"},{"$f":"IF('Score Sheet'!M55=\"\",\"R\",IF('Race results'!$C$32>0,ROUND(AVERAGE('Score Sheet'!$J55:M55),1),ROUND(AVERAGE('Score Sheet'!$I55:M55),1)))","v":"R"},{"$f":"IF('Score Sheet'!N55=\"\",\"R\",IF('Race results'!$C$32>0,ROUND(AVERAGE('Score Sheet'!$J55:N55),1),ROUND(AVERAGE('Score Sheet'!$I55:N55),1)))","v":"R"},{"$f":"IF('Score Sheet'!O55=\"\",\"R\",IF('Race results'!$C$32>0,ROUND(AVERAGE('Score Sheet'!$J55:O55),1),ROUND(AVERAGE('Score Sheet'!$I55:O55),1)))","v":"R"},{"$f":"IF('Score Sheet'!P55=\"\",\"R\",IF('Race results'!$C$32>0,ROUND(AVERAGE('Score Sheet'!$J55:P55),1),ROUND(AVERAGE('Score Sheet'!$I55:P55),1)))","v":"R"},{"$f":"IF('Score Sheet'!Q55=\"\",\"R\",IF('Race results'!$C$32>0,ROUND(AVERAGE('Score Sheet'!$J55:Q55),1),ROUND(AVERAGE('Score Sheet'!$I55:Q55),1)))","v":"R"},{"$f":"IF('Score Sheet'!R55=\"\",\"R\",IF('Race results'!$C$32>0,ROUND(AVERAGE('Score Sheet'!$J55:R55),1),ROUND(AVERAGE('Score Sheet'!$I55:R55),1)))","v":"R"},{"$f":"IF('Score Sheet'!S55=\"\",\"R\",IF('Race results'!$C$32>0,ROUND(AVERAGE('Score Sheet'!$J55:S55),1),ROUND(AVERAGE('Score Sheet'!$I55:S55),1)))","v":"R"},{"$f":"IF('Score Sheet'!T55=\"\",\"R\",IF('Race results'!$C$32>0,ROUND(AVERAGE('Score Sheet'!$J55:T55),1),ROUND(AVERAGE('Score Sheet'!$I55:T55),1)))","v":"R"},{"$f":"IF('Score Sheet'!U55=\"\",\"R\",IF('Race results'!$C$32>0,ROUND(AVERAGE('Score Sheet'!$J55:U55),1),ROUND(AVERAGE('Score Sheet'!$I55:U55),1)))","v":"R"},{"$f":"IF('Score Sheet'!V55=\"\",\"R\",IF('Race results'!$C$32>0,ROUND(AVERAGE('Score Sheet'!$J55:V55),1),ROUND(AVERAGE('Score Sheet'!$I55:V55),1)))","v":"R"},{"$f":"IF('Score Sheet'!W55=\"\",\"R\",IF('Race results'!$C$32>0,ROUND(AVERAGE('Score Sheet'!$J55:W55),1),ROUND(AVERAGE('Score Sheet'!$I55:W55),1)))","v":"R"},{"$f":"IF('Score Sheet'!X55=\"\",\"R\",IF('Race results'!$C$32>0,ROUND(AVERAGE('Score Sheet'!$J55:X55),1),ROUND(AVERAGE('Score Sheet'!$I55:X55),1)))","v":"R"},{"$f":"IF('Score Sheet'!Y55=\"\",\"R\",IF('Race results'!$C$32>0,ROUND(AVERAGE('Score Sheet'!$J55:Y55),1),ROUND(AVERAGE('Score Sheet'!$I55:Y55),1)))","v":"R"},{"$f":"IF('Score Sheet'!Z55=\"\",\"R\",IF('Race results'!$C$32>0,ROUND(AVERAGE('Score Sheet'!$J55:Z55),1),ROUND(AVERAGE('Score Sheet'!$I55:Z55),1)))","v":"R"},{"$f":"IF('Score Sheet'!AA55=\"\",\"R\",IF('Race results'!$C$32>0,ROUND(AVERAGE('Score Sheet'!$J55:AA55),1),ROUND(AVERAGE('Score Sheet'!$I55:AA55),1)))","v":"R"},{"$f":"IF('Score Sheet'!AB55=\"\",\"R\",IF('Race results'!$C$32>0,ROUND(AVERAGE('Score Sheet'!$J55:AB55),1),ROUND(AVERAGE('Score Sheet'!$I55:AB55),1)))","v":"R"},{"$f":"IF('Score Sheet'!AC55=\"\",\"R\",IF('Race results'!$C$32>0,ROUND(AVERAGE('Score Sheet'!$J55:AC55),1),ROUND(AVERAGE('Score Sheet'!$I55:AC55),1)))","v":"R"},{"$f":"IF('Score Sheet'!AD55=\"\",\"R\",IF('Race results'!$C$32>0,ROUND(AVERAGE('Score Sheet'!$J55:AD55),1),ROUND(AVERAGE('Score Sheet'!$I55:AD55),1)))","v":"R"},{"$f":"IF('Score Sheet'!AE55=\"\",\"R\",IF('Race results'!$C$32>0,ROUND(AVERAGE('Score Sheet'!$J55:AE55),1),ROUND(AVERAGE('Score Sheet'!$I55:AE55),1)))","v":"R"},{"$f":"IF('Score Sheet'!AF55=\"\",\"R\",IF('Race results'!$C$32>0,ROUND(AVERAGE('Score Sheet'!$J55:AF55),1),ROUND(AVERAGE('Score Sheet'!$I55:AF55),1)))","v":"R"},{"$f":"IF('Score Sheet'!AG55=\"\",\"R\",IF('Race results'!$C$32>0,ROUND(AVERAGE('Score Sheet'!$J55:AG55),1),ROUND(AVERAGE('Score Sheet'!$I55:AG55),1)))","v":"R"},{"$f":"IF('Score Sheet'!AH55=\"\",\"R\",IF('Race results'!$C$32>0,ROUND(AVERAGE('Score Sheet'!$J55:AH55),1),ROUND(AVERAGE('Score Sheet'!$I55:AH55),1)))","v":"R"},{"$f":"IF('Score Sheet'!AI55=\"\",\"R\",IF('Race results'!$C$32>0,ROUND(AVERAGE('Score Sheet'!$J55:AI55),1),ROUND(AVERAGE('Score Sheet'!$I55:AI55),1)))","v":"R"},{"$f":"IF('Score Sheet'!AJ55=\"\",\"R\",IF('Race results'!$C$32>0,ROUND(AVERAGE('Score Sheet'!$J55:AJ55),1),ROUND(AVERAGE('Score Sheet'!$I55:AJ55),1)))","v":"R"},{"$f":"IF('Score Sheet'!AK55=\"\",\"R\",IF('Race results'!$C$32>0,ROUND(AVERAGE('Score Sheet'!$J55:AK55),1),ROUND(AVERAGE('Score Sheet'!$I55:AK55),1)))","v":"R"},{"$f":"IF('Score Sheet'!AL55=\"\",\"R\",IF('Race results'!$C$32>0,ROUND(AVERAGE('Score Sheet'!$J55:AL55),1),ROUND(AVERAGE('Score Sheet'!$I55:AL55),1)))","v":"R"},{"$f":"IF('Score Sheet'!AM55=\"\",\"R\",IF('Race results'!$C$32>0,ROUND(AVERAGE('Score Sheet'!$J55:AM55),1),ROUND(AVERAGE('Score Sheet'!$I55:AM55),1)))","v":"R"},{"$f":"IF('Score Sheet'!AN55=\"\",\"R\",IF('Race results'!$C$32>0,ROUND(AVERAGE('Score Sheet'!$J55:AN55),1),ROUND(AVERAGE('Score Sheet'!$I55:AN55),1)))","v":"R"},{"$f":"IF('Score Sheet'!AO55=\"\",\"R\",IF('Race results'!$C$32>0,ROUND(AVERAGE('Score Sheet'!$J55:AO55),1),ROUND(AVERAGE('Score Sheet'!$I55:AO55),1)))","v":"R"},{"$f":"IF('Score Sheet'!AP55=\"\",\"R\",IF('Race results'!$C$32>0,ROUND(AVERAGE('Score Sheet'!$J55:AP55),1),ROUND(AVERAGE('Score Sheet'!$I55:AP55),1)))","v":"R"},{"$f":"IF('Score Sheet'!AQ55=\"\",\"R\",IF('Race results'!$C$32>0,ROUND(AVERAGE('Score Sheet'!$J55:AQ55),1),ROUND(AVERAGE('Score Sheet'!$I55:AQ55),1)))","v":"R"},{"$f":"IF('Score Sheet'!AR55=\"\",\"R\",IF('Race results'!$C$32>0,ROUND(AVERAGE('Score Sheet'!$J55:AR55),1),ROUND(AVERAGE('Score Sheet'!$I55:AR55),1)))","v":"R"},{"$f":"IF('Score Sheet'!AS55=\"\",\"R\",IF('Race results'!$C$32>0,ROUND(AVERAGE('Score Sheet'!$J55:AS55),1),ROUND(AVERAGE('Score Sheet'!$I55:AS55),1)))","v":"R"},{"$f":"IF('Score Sheet'!AT55=\"\",\"R\",IF('Race results'!$C$32>0,ROUND(AVERAGE('Score Sheet'!$J55:AT55),1),ROUND(AVERAGE('Score Sheet'!$I55:AT55),1)))","v":"R"},{"$f":"IF('Score Sheet'!AU55=\"\",\"R\",IF('Race results'!$C$32>0,ROUND(AVERAGE('Score Sheet'!$J55:AU55),1),ROUND(AVERAGE('Score Sheet'!$I55:AU55),1)))","v":"R"},{"$f":"IF('Score Sheet'!AV55=\"\",\"R\",IF('Race results'!$C$32>0,ROUND(AVERAGE('Score Sheet'!$J55:AV55),1),ROUND(AVERAGE('Score Sheet'!$I55:AV55),1)))","v":"R"},null,"",{"$f":"IF(C55=\"\",\"\",IF('Race results'!$C$7<1, \"E\", IF('Race results'!$C$32>0,IF(COUNT(AY55:CL55)<1,\"R\",ROUND(AVERAGE(AY55:CL55),1)),IF(COUNT(AX55:CL55)<1,\"R\",ROUND(AVERAGE(AX55:CL55),1)))))","v":""},null,null,"","","","","","","","","","","","","","","","","","","","","","","","","","","","","","","","","","","","","","","","",""]
[null,47,{"$f":"IF('Score Sheet'!C56=\"\",\"\",'Score Sheet'!C56)","v":""},{"$f":"'Race results'!$F$159","v":"DAFT!"},{"$f":"'Race results'!$F$159","v":"DAFT!"},{"$f":"IF('Score Sheet'!J56=\"\",\"R\",IF('Race results'!$C$32>0,'Race results'!$F$159,ROUND(AVERAGE('Score Sheet'!$I56:J56),1)))","v":"R"},{"$f":"IF('Score Sheet'!K56=\"\",\"R\",IF('Race results'!$C$32>0,ROUND(AVERAGE('Score Sheet'!$J56:K56),1),ROUND(AVERAGE('Score Sheet'!$I56:K56),1)))","v":"R"},{"$f":"IF('Score Sheet'!L56=\"\",\"R\",IF('Race results'!$C$32>0,ROUND(AVERAGE('Score Sheet'!$J56:L56),1),ROUND(AVERAGE('Score Sheet'!$I56:L56),1)))","v":"R"},{"$f":"IF('Score Sheet'!M56=\"\",\"R\",IF('Race results'!$C$32>0,ROUND(AVERAGE('Score Sheet'!$J56:M56),1),ROUND(AVERAGE('Score Sheet'!$I56:M56),1)))","v":"R"},{"$f":"IF('Score Sheet'!N56=\"\",\"R\",IF('Race results'!$C$32>0,ROUND(AVERAGE('Score Sheet'!$J56:N56),1),ROUND(AVERAGE('Score Sheet'!$I56:N56),1)))","v":"R"},{"$f":"IF('Score Sheet'!O56=\"\",\"R\",IF('Race results'!$C$32>0,ROUND(AVERAGE('Score Sheet'!$J56:O56),1),ROUND(AVERAGE('Score Sheet'!$I56:O56),1)))","v":"R"},{"$f":"IF('Score Sheet'!P56=\"\",\"R\",IF('Race results'!$C$32>0,ROUND(AVERAGE('Score Sheet'!$J56:P56),1),ROUND(AVERAGE('Score Sheet'!$I56:P56),1)))","v":"R"},{"$f":"IF('Score Sheet'!Q56=\"\",\"R\",IF('Race results'!$C$32>0,ROUND(AVERAGE('Score Sheet'!$J56:Q56),1),ROUND(AVERAGE('Score Sheet'!$I56:Q56),1)))","v":"R"},{"$f":"IF('Score Sheet'!R56=\"\",\"R\",IF('Race results'!$C$32>0,ROUND(AVERAGE('Score Sheet'!$J56:R56),1),ROUND(AVERAGE('Score Sheet'!$I56:R56),1)))","v":"R"},{"$f":"IF('Score Sheet'!S56=\"\",\"R\",IF('Race results'!$C$32>0,ROUND(AVERAGE('Score Sheet'!$J56:S56),1),ROUND(AVERAGE('Score Sheet'!$I56:S56),1)))","v":"R"},{"$f":"IF('Score Sheet'!T56=\"\",\"R\",IF('Race results'!$C$32>0,ROUND(AVERAGE('Score Sheet'!$J56:T56),1),ROUND(AVERAGE('Score Sheet'!$I56:T56),1)))","v":"R"},{"$f":"IF('Score Sheet'!U56=\"\",\"R\",IF('Race results'!$C$32>0,ROUND(AVERAGE('Score Sheet'!$J56:U56),1),ROUND(AVERAGE('Score Sheet'!$I56:U56),1)))","v":"R"},{"$f":"IF('Score Sheet'!V56=\"\",\"R\",IF('Race results'!$C$32>0,ROUND(AVERAGE('Score Sheet'!$J56:V56),1),ROUND(AVERAGE('Score Sheet'!$I56:V56),1)))","v":"R"},{"$f":"IF('Score Sheet'!W56=\"\",\"R\",IF('Race results'!$C$32>0,ROUND(AVERAGE('Score Sheet'!$J56:W56),1),ROUND(AVERAGE('Score Sheet'!$I56:W56),1)))","v":"R"},{"$f":"IF('Score Sheet'!X56=\"\",\"R\",IF('Race results'!$C$32>0,ROUND(AVERAGE('Score Sheet'!$J56:X56),1),ROUND(AVERAGE('Score Sheet'!$I56:X56),1)))","v":"R"},{"$f":"IF('Score Sheet'!Y56=\"\",\"R\",IF('Race results'!$C$32>0,ROUND(AVERAGE('Score Sheet'!$J56:Y56),1),ROUND(AVERAGE('Score Sheet'!$I56:Y56),1)))","v":"R"},{"$f":"IF('Score Sheet'!Z56=\"\",\"R\",IF('Race results'!$C$32>0,ROUND(AVERAGE('Score Sheet'!$J56:Z56),1),ROUND(AVERAGE('Score Sheet'!$I56:Z56),1)))","v":"R"},{"$f":"IF('Score Sheet'!AA56=\"\",\"R\",IF('Race results'!$C$32>0,ROUND(AVERAGE('Score Sheet'!$J56:AA56),1),ROUND(AVERAGE('Score Sheet'!$I56:AA56),1)))","v":"R"},{"$f":"IF('Score Sheet'!AB56=\"\",\"R\",IF('Race results'!$C$32>0,ROUND(AVERAGE('Score Sheet'!$J56:AB56),1),ROUND(AVERAGE('Score Sheet'!$I56:AB56),1)))","v":"R"},{"$f":"IF('Score Sheet'!AC56=\"\",\"R\",IF('Race results'!$C$32>0,ROUND(AVERAGE('Score Sheet'!$J56:AC56),1),ROUND(AVERAGE('Score Sheet'!$I56:AC56),1)))","v":"R"},{"$f":"IF('Score Sheet'!AD56=\"\",\"R\",IF('Race results'!$C$32>0,ROUND(AVERAGE('Score Sheet'!$J56:AD56),1),ROUND(AVERAGE('Score Sheet'!$I56:AD56),1)))","v":"R"},{"$f":"IF('Score Sheet'!AE56=\"\",\"R\",IF('Race results'!$C$32>0,ROUND(AVERAGE('Score Sheet'!$J56:AE56),1),ROUND(AVERAGE('Score Sheet'!$I56:AE56),1)))","v":"R"},{"$f":"IF('Score Sheet'!AF56=\"\",\"R\",IF('Race results'!$C$32>0,ROUND(AVERAGE('Score Sheet'!$J56:AF56),1),ROUND(AVERAGE('Score Sheet'!$I56:AF56),1)))","v":"R"},{"$f":"IF('Score Sheet'!AG56=\"\",\"R\",IF('Race results'!$C$32>0,ROUND(AVERAGE('Score Sheet'!$J56:AG56),1),ROUND(AVERAGE('Score Sheet'!$I56:AG56),1)))","v":"R"},{"$f":"IF('Score Sheet'!AH56=\"\",\"R\",IF('Race results'!$C$32>0,ROUND(AVERAGE('Score Sheet'!$J56:AH56),1),ROUND(AVERAGE('Score Sheet'!$I56:AH56),1)))","v":"R"},{"$f":"IF('Score Sheet'!AI56=\"\",\"R\",IF('Race results'!$C$32>0,ROUND(AVERAGE('Score Sheet'!$J56:AI56),1),ROUND(AVERAGE('Score Sheet'!$I56:AI56),1)))","v":"R"},{"$f":"IF('Score Sheet'!AJ56=\"\",\"R\",IF('Race results'!$C$32>0,ROUND(AVERAGE('Score Sheet'!$J56:AJ56),1),ROUND(AVERAGE('Score Sheet'!$I56:AJ56),1)))","v":"R"},{"$f":"IF('Score Sheet'!AK56=\"\",\"R\",IF('Race results'!$C$32>0,ROUND(AVERAGE('Score Sheet'!$J56:AK56),1),ROUND(AVERAGE('Score Sheet'!$I56:AK56),1)))","v":"R"},{"$f":"IF('Score Sheet'!AL56=\"\",\"R\",IF('Race results'!$C$32>0,ROUND(AVERAGE('Score Sheet'!$J56:AL56),1),ROUND(AVERAGE('Score Sheet'!$I56:AL56),1)))","v":"R"},{"$f":"IF('Score Sheet'!AM56=\"\",\"R\",IF('Race results'!$C$32>0,ROUND(AVERAGE('Score Sheet'!$J56:AM56),1),ROUND(AVERAGE('Score Sheet'!$I56:AM56),1)))","v":"R"},{"$f":"IF('Score Sheet'!AN56=\"\",\"R\",IF('Race results'!$C$32>0,ROUND(AVERAGE('Score Sheet'!$J56:AN56),1),ROUND(AVERAGE('Score Sheet'!$I56:AN56),1)))","v":"R"},{"$f":"IF('Score Sheet'!AO56=\"\",\"R\",IF('Race results'!$C$32>0,ROUND(AVERAGE('Score Sheet'!$J56:AO56),1),ROUND(AVERAGE('Score Sheet'!$I56:AO56),1)))","v":"R"},{"$f":"IF('Score Sheet'!AP56=\"\",\"R\",IF('Race results'!$C$32>0,ROUND(AVERAGE('Score Sheet'!$J56:AP56),1),ROUND(AVERAGE('Score Sheet'!$I56:AP56),1)))","v":"R"},{"$f":"IF('Score Sheet'!AQ56=\"\",\"R\",IF('Race results'!$C$32>0,ROUND(AVERAGE('Score Sheet'!$J56:AQ56),1),ROUND(AVERAGE('Score Sheet'!$I56:AQ56),1)))","v":"R"},{"$f":"IF('Score Sheet'!AR56=\"\",\"R\",IF('Race results'!$C$32>0,ROUND(AVERAGE('Score Sheet'!$J56:AR56),1),ROUND(AVERAGE('Score Sheet'!$I56:AR56),1)))","v":"R"},{"$f":"IF('Score Sheet'!AS56=\"\",\"R\",IF('Race results'!$C$32>0,ROUND(AVERAGE('Score Sheet'!$J56:AS56),1),ROUND(AVERAGE('Score Sheet'!$I56:AS56),1)))","v":"R"},{"$f":"IF('Score Sheet'!AT56=\"\",\"R\",IF('Race results'!$C$32>0,ROUND(AVERAGE('Score Sheet'!$J56:AT56),1),ROUND(AVERAGE('Score Sheet'!$I56:AT56),1)))","v":"R"},{"$f":"IF('Score Sheet'!AU56=\"\",\"R\",IF('Race results'!$C$32>0,ROUND(AVERAGE('Score Sheet'!$J56:AU56),1),ROUND(AVERAGE('Score Sheet'!$I56:AU56),1)))","v":"R"},{"$f":"IF('Score Sheet'!AV56=\"\",\"R\",IF('Race results'!$C$32>0,ROUND(AVERAGE('Score Sheet'!$J56:AV56),1),ROUND(AVERAGE('Score Sheet'!$I56:AV56),1)))","v":"R"},null,"",{"$f":"IF(C56=\"\",\"\",IF('Race results'!$C$7<1, \"E\", IF('Race results'!$C$32>0,IF(COUNT(AY56:CL56)<1,\"R\",ROUND(AVERAGE(AY56:CL56),1)),IF(COUNT(AX56:CL56)<1,\"R\",ROUND(AVERAGE(AX56:CL56),1)))))","v":""},null,null,"","","","","","","","","","","","","","","","","","","","","","","","","","","","","","","","","","","","","","","","",""]
[null,48,{"$f":"IF('Score Sheet'!C57=\"\",\"\",'Score Sheet'!C57)","v":""},{"$f":"'Race results'!$F$159","v":"DAFT!"},{"$f":"'Race results'!$F$159","v":"DAFT!"},{"$f":"IF('Score Sheet'!J57=\"\",\"R\",IF('Race results'!$C$32>0,'Race results'!$F$159,ROUND(AVERAGE('Score Sheet'!$I57:J57),1)))","v":"R"},{"$f":"IF('Score Sheet'!K57=\"\",\"R\",IF('Race results'!$C$32>0,ROUND(AVERAGE('Score Sheet'!$J57:K57),1),ROUND(AVERAGE('Score Sheet'!$I57:K57),1)))","v":"R"},{"$f":"IF('Score Sheet'!L57=\"\",\"R\",IF('Race results'!$C$32>0,ROUND(AVERAGE('Score Sheet'!$J57:L57),1),ROUND(AVERAGE('Score Sheet'!$I57:L57),1)))","v":"R"},{"$f":"IF('Score Sheet'!M57=\"\",\"R\",IF('Race results'!$C$32>0,ROUND(AVERAGE('Score Sheet'!$J57:M57),1),ROUND(AVERAGE('Score Sheet'!$I57:M57),1)))","v":"R"},{"$f":"IF('Score Sheet'!N57=\"\",\"R\",IF('Race results'!$C$32>0,ROUND(AVERAGE('Score Sheet'!$J57:N57),1),ROUND(AVERAGE('Score Sheet'!$I57:N57),1)))","v":"R"},{"$f":"IF('Score Sheet'!O57=\"\",\"R\",IF('Race results'!$C$32>0,ROUND(AVERAGE('Score Sheet'!$J57:O57),1),ROUND(AVERAGE('Score Sheet'!$I57:O57),1)))","v":"R"},{"$f":"IF('Score Sheet'!P57=\"\",\"R\",IF('Race results'!$C$32>0,ROUND(AVERAGE('Score Sheet'!$J57:P57),1),ROUND(AVERAGE('Score Sheet'!$I57:P57),1)))","v":"R"},{"$f":"IF('Score Sheet'!Q57=\"\",\"R\",IF('Race results'!$C$32>0,ROUND(AVERAGE('Score Sheet'!$J57:Q57),1),ROUND(AVERAGE('Score Sheet'!$I57:Q57),1)))","v":"R"},{"$f":"IF('Score Sheet'!R57=\"\",\"R\",IF('Race results'!$C$32>0,ROUND(AVERAGE('Score Sheet'!$J57:R57),1),ROUND(AVERAGE('Score Sheet'!$I57:R57),1)))","v":"R"},{"$f":"IF('Score Sheet'!S57=\"\",\"R\",IF('Race results'!$C$32>0,ROUND(AVERAGE('Score Sheet'!$J57:S57),1),ROUND(AVERAGE('Score Sheet'!$I57:S57),1)))","v":"R"},{"$f":"IF('Score Sheet'!T57=\"\",\"R\",IF('Race results'!$C$32>0,ROUND(AVERAGE('Score Sheet'!$J57:T57),1),ROUND(AVERAGE('Score Sheet'!$I57:T57),1)))","v":"R"},{"$f":"IF('Score Sheet'!U57=\"\",\"R\",IF('Race results'!$C$32>0,ROUND(AVERAGE('Score Sheet'!$J57:U57),1),ROUND(AVERAGE('Score Sheet'!$I57:U57),1)))","v":"R"},{"$f":"IF('Score Sheet'!V57=\"\",\"R\",IF('Race results'!$C$32>0,ROUND(AVERAGE('Score Sheet'!$J57:V57),1),ROUND(AVERAGE('Score Sheet'!$I57:V57),1)))","v":"R"},{"$f":"IF('Score Sheet'!W57=\"\",\"R\",IF('Race results'!$C$32>0,ROUND(AVERAGE('Score Sheet'!$J57:W57),1),ROUND(AVERAGE('Score Sheet'!$I57:W57),1)))","v":"R"},{"$f":"IF('Score Sheet'!X57=\"\",\"R\",IF('Race results'!$C$32>0,ROUND(AVERAGE('Score Sheet'!$J57:X57),1),ROUND(AVERAGE('Score Sheet'!$I57:X57),1)))","v":"R"},{"$f":"IF('Score Sheet'!Y57=\"\",\"R\",IF('Race results'!$C$32>0,ROUND(AVERAGE('Score Sheet'!$J57:Y57),1),ROUND(AVERAGE('Score Sheet'!$I57:Y57),1)))","v":"R"},{"$f":"IF('Score Sheet'!Z57=\"\",\"R\",IF('Race results'!$C$32>0,ROUND(AVERAGE('Score Sheet'!$J57:Z57),1),ROUND(AVERAGE('Score Sheet'!$I57:Z57),1)))","v":"R"},{"$f":"IF('Score Sheet'!AA57=\"\",\"R\",IF('Race results'!$C$32>0,ROUND(AVERAGE('Score Sheet'!$J57:AA57),1),ROUND(AVERAGE('Score Sheet'!$I57:AA57),1)))","v":"R"},{"$f":"IF('Score Sheet'!AB57=\"\",\"R\",IF('Race results'!$C$32>0,ROUND(AVERAGE('Score Sheet'!$J57:AB57),1),ROUND(AVERAGE('Score Sheet'!$I57:AB57),1)))","v":"R"},{"$f":"IF('Score Sheet'!AC57=\"\",\"R\",IF('Race results'!$C$32>0,ROUND(AVERAGE('Score Sheet'!$J57:AC57),1),ROUND(AVERAGE('Score Sheet'!$I57:AC57),1)))","v":"R"},{"$f":"IF('Score Sheet'!AD57=\"\",\"R\",IF('Race results'!$C$32>0,ROUND(AVERAGE('Score Sheet'!$J57:AD57),1),ROUND(AVERAGE('Score Sheet'!$I57:AD57),1)))","v":"R"},{"$f":"IF('Score Sheet'!AE57=\"\",\"R\",IF('Race results'!$C$32>0,ROUND(AVERAGE('Score Sheet'!$J57:AE57),1),ROUND(AVERAGE('Score Sheet'!$I57:AE57),1)))","v":"R"},{"$f":"IF('Score Sheet'!AF57=\"\",\"R\",IF('Race results'!$C$32>0,ROUND(AVERAGE('Score Sheet'!$J57:AF57),1),ROUND(AVERAGE('Score Sheet'!$I57:AF57),1)))","v":"R"},{"$f":"IF('Score Sheet'!AG57=\"\",\"R\",IF('Race results'!$C$32>0,ROUND(AVERAGE('Score Sheet'!$J57:AG57),1),ROUND(AVERAGE('Score Sheet'!$I57:AG57),1)))","v":"R"},{"$f":"IF('Score Sheet'!AH57=\"\",\"R\",IF('Race results'!$C$32>0,ROUND(AVERAGE('Score Sheet'!$J57:AH57),1),ROUND(AVERAGE('Score Sheet'!$I57:AH57),1)))","v":"R"},{"$f":"IF('Score Sheet'!AI57=\"\",\"R\",IF('Race results'!$C$32>0,ROUND(AVERAGE('Score Sheet'!$J57:AI57),1),ROUND(AVERAGE('Score Sheet'!$I57:AI57),1)))","v":"R"},{"$f":"IF('Score Sheet'!AJ57=\"\",\"R\",IF('Race results'!$C$32>0,ROUND(AVERAGE('Score Sheet'!$J57:AJ57),1),ROUND(AVERAGE('Score Sheet'!$I57:AJ57),1)))","v":"R"},{"$f":"IF('Score Sheet'!AK57=\"\",\"R\",IF('Race results'!$C$32>0,ROUND(AVERAGE('Score Sheet'!$J57:AK57),1),ROUND(AVERAGE('Score Sheet'!$I57:AK57),1)))","v":"R"},{"$f":"IF('Score Sheet'!AL57=\"\",\"R\",IF('Race results'!$C$32>0,ROUND(AVERAGE('Score Sheet'!$J57:AL57),1),ROUND(AVERAGE('Score Sheet'!$I57:AL57),1)))","v":"R"},{"$f":"IF('Score Sheet'!AM57=\"\",\"R\",IF('Race results'!$C$32>0,ROUND(AVERAGE('Score Sheet'!$J57:AM57),1),ROUND(AVERAGE('Score Sheet'!$I57:AM57),1)))","v":"R"},{"$f":"IF('Score Sheet'!AN57=\"\",\"R\",IF('Race results'!$C$32>0,ROUND(AVERAGE('Score Sheet'!$J57:AN57),1),ROUND(AVERAGE('Score Sheet'!$I57:AN57),1)))","v":"R"},{"$f":"IF('Score Sheet'!AO57=\"\",\"R\",IF('Race results'!$C$32>0,ROUND(AVERAGE('Score Sheet'!$J57:AO57),1),ROUND(AVERAGE('Score Sheet'!$I57:AO57),1)))","v":"R"},{"$f":"IF('Score Sheet'!AP57=\"\",\"R\",IF('Race results'!$C$32>0,ROUND(AVERAGE('Score Sheet'!$J57:AP57),1),ROUND(AVERAGE('Score Sheet'!$I57:AP57),1)))","v":"R"},{"$f":"IF('Score Sheet'!AQ57=\"\",\"R\",IF('Race results'!$C$32>0,ROUND(AVERAGE('Score Sheet'!$J57:AQ57),1),ROUND(AVERAGE('Score Sheet'!$I57:AQ57),1)))","v":"R"},{"$f":"IF('Score Sheet'!AR57=\"\",\"R\",IF('Race results'!$C$32>0,ROUND(AVERAGE('Score Sheet'!$J57:AR57),1),ROUND(AVERAGE('Score Sheet'!$I57:AR57),1)))","v":"R"},{"$f":"IF('Score Sheet'!AS57=\"\",\"R\",IF('Race results'!$C$32>0,ROUND(AVERAGE('Score Sheet'!$J57:AS57),1),ROUND(AVERAGE('Score Sheet'!$I57:AS57),1)))","v":"R"},{"$f":"IF('Score Sheet'!AT57=\"\",\"R\",IF('Race results'!$C$32>0,ROUND(AVERAGE('Score Sheet'!$J57:AT57),1),ROUND(AVERAGE('Score Sheet'!$I57:AT57),1)))","v":"R"},{"$f":"IF('Score Sheet'!AU57=\"\",\"R\",IF('Race results'!$C$32>0,ROUND(AVERAGE('Score Sheet'!$J57:AU57),1),ROUND(AVERAGE('Score Sheet'!$I57:AU57),1)))","v":"R"},{"$f":"IF('Score Sheet'!AV57=\"\",\"R\",IF('Race results'!$C$32>0,ROUND(AVERAGE('Score Sheet'!$J57:AV57),1),ROUND(AVERAGE('Score Sheet'!$I57:AV57),1)))","v":"R"},null,"",{"$f":"IF(C57=\"\",\"\",IF('Race results'!$C$7<1, \"E\", IF('Race results'!$C$32>0,IF(COUNT(AY57:CL57)<1,\"R\",ROUND(AVERAGE(AY57:CL57),1)),IF(COUNT(AX57:CL57)<1,\"R\",ROUND(AVERAGE(AX57:CL57),1)))))","v":""},null,null,"","","","","","","","","","","","","","","","","","","","","","","","","","","","","","","","","","","","","","","","",""]
[null,49,{"$f":"IF('Score Sheet'!C58=\"\",\"\",'Score Sheet'!C58)","v":""},{"$f":"'Race results'!$F$159","v":"DAFT!"},{"$f":"'Race results'!$F$159","v":"DAFT!"},{"$f":"IF('Score Sheet'!J58=\"\",\"R\",IF('Race results'!$C$32>0,'Race results'!$F$159,ROUND(AVERAGE('Score Sheet'!$I58:J58),1)))","v":"R"},{"$f":"IF('Score Sheet'!K58=\"\",\"R\",IF('Race results'!$C$32>0,ROUND(AVERAGE('Score Sheet'!$J58:K58),1),ROUND(AVERAGE('Score Sheet'!$I58:K58),1)))","v":"R"},{"$f":"IF('Score Sheet'!L58=\"\",\"R\",IF('Race results'!$C$32>0,ROUND(AVERAGE('Score Sheet'!$J58:L58),1),ROUND(AVERAGE('Score Sheet'!$I58:L58),1)))","v":"R"},{"$f":"IF('Score Sheet'!M58=\"\",\"R\",IF('Race results'!$C$32>0,ROUND(AVERAGE('Score Sheet'!$J58:M58),1),ROUND(AVERAGE('Score Sheet'!$I58:M58),1)))","v":"R"},{"$f":"IF('Score Sheet'!N58=\"\",\"R\",IF('Race results'!$C$32>0,ROUND(AVERAGE('Score Sheet'!$J58:N58),1),ROUND(AVERAGE('Score Sheet'!$I58:N58),1)))","v":"R"},{"$f":"IF('Score Sheet'!O58=\"\",\"R\",IF('Race results'!$C$32>0,ROUND(AVERAGE('Score Sheet'!$J58:O58),1),ROUND(AVERAGE('Score Sheet'!$I58:O58),1)))","v":"R"},{"$f":"IF('Score Sheet'!P58=\"\",\"R\",IF('Race results'!$C$32>0,ROUND(AVERAGE('Score Sheet'!$J58:P58),1),ROUND(AVERAGE('Score Sheet'!$I58:P58),1)))","v":"R"},{"$f":"IF('Score Sheet'!Q58=\"\",\"R\",IF('Race results'!$C$32>0,ROUND(AVERAGE('Score Sheet'!$J58:Q58),1),ROUND(AVERAGE('Score Sheet'!$I58:Q58),1)))","v":"R"},{"$f":"IF('Score Sheet'!R58=\"\",\"R\",IF('Race results'!$C$32>0,ROUND(AVERAGE('Score Sheet'!$J58:R58),1),ROUND(AVERAGE('Score Sheet'!$I58:R58),1)))","v":"R"},{"$f":"IF('Score Sheet'!S58=\"\",\"R\",IF('Race results'!$C$32>0,ROUND(AVERAGE('Score Sheet'!$J58:S58),1),ROUND(AVERAGE('Score Sheet'!$I58:S58),1)))","v":"R"},{"$f":"IF('Score Sheet'!T58=\"\",\"R\",IF('Race results'!$C$32>0,ROUND(AVERAGE('Score Sheet'!$J58:T58),1),ROUND(AVERAGE('Score Sheet'!$I58:T58),1)))","v":"R"},{"$f":"IF('Score Sheet'!U58=\"\",\"R\",IF('Race results'!$C$32>0,ROUND(AVERAGE('Score Sheet'!$J58:U58),1),ROUND(AVERAGE('Score Sheet'!$I58:U58),1)))","v":"R"},{"$f":"IF('Score Sheet'!V58=\"\",\"R\",IF('Race results'!$C$32>0,ROUND(AVERAGE('Score Sheet'!$J58:V58),1),ROUND(AVERAGE('Score Sheet'!$I58:V58),1)))","v":"R"},{"$f":"IF('Score Sheet'!W58=\"\",\"R\",IF('Race results'!$C$32>0,ROUND(AVERAGE('Score Sheet'!$J58:W58),1),ROUND(AVERAGE('Score Sheet'!$I58:W58),1)))","v":"R"},{"$f":"IF('Score Sheet'!X58=\"\",\"R\",IF('Race results'!$C$32>0,ROUND(AVERAGE('Score Sheet'!$J58:X58),1),ROUND(AVERAGE('Score Sheet'!$I58:X58),1)))","v":"R"},{"$f":"IF('Score Sheet'!Y58=\"\",\"R\",IF('Race results'!$C$32>0,ROUND(AVERAGE('Score Sheet'!$J58:Y58),1),ROUND(AVERAGE('Score Sheet'!$I58:Y58),1)))","v":"R"},{"$f":"IF('Score Sheet'!Z58=\"\",\"R\",IF('Race results'!$C$32>0,ROUND(AVERAGE('Score Sheet'!$J58:Z58),1),ROUND(AVERAGE('Score Sheet'!$I58:Z58),1)))","v":"R"},{"$f":"IF('Score Sheet'!AA58=\"\",\"R\",IF('Race results'!$C$32>0,ROUND(AVERAGE('Score Sheet'!$J58:AA58),1),ROUND(AVERAGE('Score Sheet'!$I58:AA58),1)))","v":"R"},{"$f":"IF('Score Sheet'!AB58=\"\",\"R\",IF('Race results'!$C$32>0,ROUND(AVERAGE('Score Sheet'!$J58:AB58),1),ROUND(AVERAGE('Score Sheet'!$I58:AB58),1)))","v":"R"},{"$f":"IF('Score Sheet'!AC58=\"\",\"R\",IF('Race results'!$C$32>0,ROUND(AVERAGE('Score Sheet'!$J58:AC58),1),ROUND(AVERAGE('Score Sheet'!$I58:AC58),1)))","v":"R"},{"$f":"IF('Score Sheet'!AD58=\"\",\"R\",IF('Race results'!$C$32>0,ROUND(AVERAGE('Score Sheet'!$J58:AD58),1),ROUND(AVERAGE('Score Sheet'!$I58:AD58),1)))","v":"R"},{"$f":"IF('Score Sheet'!AE58=\"\",\"R\",IF('Race results'!$C$32>0,ROUND(AVERAGE('Score Sheet'!$J58:AE58),1),ROUND(AVERAGE('Score Sheet'!$I58:AE58),1)))","v":"R"},{"$f":"IF('Score Sheet'!AF58=\"\",\"R\",IF('Race results'!$C$32>0,ROUND(AVERAGE('Score Sheet'!$J58:AF58),1),ROUND(AVERAGE('Score Sheet'!$I58:AF58),1)))","v":"R"},{"$f":"IF('Score Sheet'!AG58=\"\",\"R\",IF('Race results'!$C$32>0,ROUND(AVERAGE('Score Sheet'!$J58:AG58),1),ROUND(AVERAGE('Score Sheet'!$I58:AG58),1)))","v":"R"},{"$f":"IF('Score Sheet'!AH58=\"\",\"R\",IF('Race results'!$C$32>0,ROUND(AVERAGE('Score Sheet'!$J58:AH58),1),ROUND(AVERAGE('Score Sheet'!$I58:AH58),1)))","v":"R"},{"$f":"IF('Score Sheet'!AI58=\"\",\"R\",IF('Race results'!$C$32>0,ROUND(AVERAGE('Score Sheet'!$J58:AI58),1),ROUND(AVERAGE('Score Sheet'!$I58:AI58),1)))","v":"R"},{"$f":"IF('Score Sheet'!AJ58=\"\",\"R\",IF('Race results'!$C$32>0,ROUND(AVERAGE('Score Sheet'!$J58:AJ58),1),ROUND(AVERAGE('Score Sheet'!$I58:AJ58),1)))","v":"R"},{"$f":"IF('Score Sheet'!AK58=\"\",\"R\",IF('Race results'!$C$32>0,ROUND(AVERAGE('Score Sheet'!$J58:AK58),1),ROUND(AVERAGE('Score Sheet'!$I58:AK58),1)))","v":"R"},{"$f":"IF('Score Sheet'!AL58=\"\",\"R\",IF('Race results'!$C$32>0,ROUND(AVERAGE('Score Sheet'!$J58:AL58),1),ROUND(AVERAGE('Score Sheet'!$I58:AL58),1)))","v":"R"},{"$f":"IF('Score Sheet'!AM58=\"\",\"R\",IF('Race results'!$C$32>0,ROUND(AVERAGE('Score Sheet'!$J58:AM58),1),ROUND(AVERAGE('Score Sheet'!$I58:AM58),1)))","v":"R"},{"$f":"IF('Score Sheet'!AN58=\"\",\"R\",IF('Race results'!$C$32>0,ROUND(AVERAGE('Score Sheet'!$J58:AN58),1),ROUND(AVERAGE('Score Sheet'!$I58:AN58),1)))","v":"R"},{"$f":"IF('Score Sheet'!AO58=\"\",\"R\",IF('Race results'!$C$32>0,ROUND(AVERAGE('Score Sheet'!$J58:AO58),1),ROUND(AVERAGE('Score Sheet'!$I58:AO58),1)))","v":"R"},{"$f":"IF('Score Sheet'!AP58=\"\",\"R\",IF('Race results'!$C$32>0,ROUND(AVERAGE('Score Sheet'!$J58:AP58),1),ROUND(AVERAGE('Score Sheet'!$I58:AP58),1)))","v":"R"},{"$f":"IF('Score Sheet'!AQ58=\"\",\"R\",IF('Race results'!$C$32>0,ROUND(AVERAGE('Score Sheet'!$J58:AQ58),1),ROUND(AVERAGE('Score Sheet'!$I58:AQ58),1)))","v":"R"},{"$f":"IF('Score Sheet'!AR58=\"\",\"R\",IF('Race results'!$C$32>0,ROUND(AVERAGE('Score Sheet'!$J58:AR58),1),ROUND(AVERAGE('Score Sheet'!$I58:AR58),1)))","v":"R"},{"$f":"IF('Score Sheet'!AS58=\"\",\"R\",IF('Race results'!$C$32>0,ROUND(AVERAGE('Score Sheet'!$J58:AS58),1),ROUND(AVERAGE('Score Sheet'!$I58:AS58),1)))","v":"R"},{"$f":"IF('Score Sheet'!AT58=\"\",\"R\",IF('Race results'!$C$32>0,ROUND(AVERAGE('Score Sheet'!$J58:AT58),1),ROUND(AVERAGE('Score Sheet'!$I58:AT58),1)))","v":"R"},{"$f":"IF('Score Sheet'!AU58=\"\",\"R\",IF('Race results'!$C$32>0,ROUND(AVERAGE('Score Sheet'!$J58:AU58),1),ROUND(AVERAGE('Score Sheet'!$I58:AU58),1)))","v":"R"},{"$f":"IF('Score Sheet'!AV58=\"\",\"R\",IF('Race results'!$C$32>0,ROUND(AVERAGE('Score Sheet'!$J58:AV58),1),ROUND(AVERAGE('Score Sheet'!$I58:AV58),1)))","v":"R"},null,"",{"$f":"IF(C58=\"\",\"\",IF('Race results'!$C$7<1, \"E\", IF('Race results'!$C$32>0,IF(COUNT(AY58:CL58)<1,\"R\",ROUND(AVERAGE(AY58:CL58),1)),IF(COUNT(AX58:CL58)<1,\"R\",ROUND(AVERAGE(AX58:CL58),1)))))","v":""},null,null,"","","","","","","","","","","","","","","","","","","","","","","","","","","","","","","","","","","","","","","","",""]
[null,50,{"$f":"IF('Score Sheet'!C59=\"\",\"\",'Score Sheet'!C59)","v":""},{"$f":"'Race results'!$F$159","v":"DAFT!"},{"$f":"'Race results'!$F$159","v":"DAFT!"},{"$f":"IF('Score Sheet'!J59=\"\",\"R\",IF('Race results'!$C$32>0,'Race results'!$F$159,ROUND(AVERAGE('Score Sheet'!$I59:J59),1)))","v":"R"},{"$f":"IF('Score Sheet'!K59=\"\",\"R\",IF('Race results'!$C$32>0,ROUND(AVERAGE('Score Sheet'!$J59:K59),1),ROUND(AVERAGE('Score Sheet'!$I59:K59),1)))","v":"R"},{"$f":"IF('Score Sheet'!L59=\"\",\"R\",IF('Race results'!$C$32>0,ROUND(AVERAGE('Score Sheet'!$J59:L59),1),ROUND(AVERAGE('Score Sheet'!$I59:L59),1)))","v":"R"},{"$f":"IF('Score Sheet'!M59=\"\",\"R\",IF('Race results'!$C$32>0,ROUND(AVERAGE('Score Sheet'!$J59:M59),1),ROUND(AVERAGE('Score Sheet'!$I59:M59),1)))","v":"R"},{"$f":"IF('Score Sheet'!N59=\"\",\"R\",IF('Race results'!$C$32>0,ROUND(AVERAGE('Score Sheet'!$J59:N59),1),ROUND(AVERAGE('Score Sheet'!$I59:N59),1)))","v":"R"},{"$f":"IF('Score Sheet'!O59=\"\",\"R\",IF('Race results'!$C$32>0,ROUND(AVERAGE('Score Sheet'!$J59:O59),1),ROUND(AVERAGE('Score Sheet'!$I59:O59),1)))","v":"R"},{"$f":"IF('Score Sheet'!P59=\"\",\"R\",IF('Race results'!$C$32>0,ROUND(AVERAGE('Score Sheet'!$J59:P59),1),ROUND(AVERAGE('Score Sheet'!$I59:P59),1)))","v":"R"},{"$f":"IF('Score Sheet'!Q59=\"\",\"R\",IF('Race results'!$C$32>0,ROUND(AVERAGE('Score Sheet'!$J59:Q59),1),ROUND(AVERAGE('Score Sheet'!$I59:Q59),1)))","v":"R"},{"$f":"IF('Score Sheet'!R59=\"\",\"R\",IF('Race results'!$C$32>0,ROUND(AVERAGE('Score Sheet'!$J59:R59),1),ROUND(AVERAGE('Score Sheet'!$I59:R59),1)))","v":"R"},{"$f":"IF('Score Sheet'!S59=\"\",\"R\",IF('Race results'!$C$32>0,ROUND(AVERAGE('Score Sheet'!$J59:S59),1),ROUND(AVERAGE('Score Sheet'!$I59:S59),1)))","v":"R"},{"$f":"IF('Score Sheet'!T59=\"\",\"R\",IF('Race results'!$C$32>0,ROUND(AVERAGE('Score Sheet'!$J59:T59),1),ROUND(AVERAGE('Score Sheet'!$I59:T59),1)))","v":"R"},{"$f":"IF('Score Sheet'!U59=\"\",\"R\",IF('Race results'!$C$32>0,ROUND(AVERAGE('Score Sheet'!$J59:U59),1),ROUND(AVERAGE('Score Sheet'!$I59:U59),1)))","v":"R"},{"$f":"IF('Score Sheet'!V59=\"\",\"R\",IF('Race results'!$C$32>0,ROUND(AVERAGE('Score Sheet'!$J59:V59),1),ROUND(AVERAGE('Score Sheet'!$I59:V59),1)))","v":"R"},{"$f":"IF('Score Sheet'!W59=\"\",\"R\",IF('Race results'!$C$32>0,ROUND(AVERAGE('Score Sheet'!$J59:W59),1),ROUND(AVERAGE('Score Sheet'!$I59:W59),1)))","v":"R"},{"$f":"IF('Score Sheet'!X59=\"\",\"R\",IF('Race results'!$C$32>0,ROUND(AVERAGE('Score Sheet'!$J59:X59),1),ROUND(AVERAGE('Score Sheet'!$I59:X59),1)))","v":"R"},{"$f":"IF('Score Sheet'!Y59=\"\",\"R\",IF('Race results'!$C$32>0,ROUND(AVERAGE('Score Sheet'!$J59:Y59),1),ROUND(AVERAGE('Score Sheet'!$I59:Y59),1)))","v":"R"},{"$f":"IF('Score Sheet'!Z59=\"\",\"R\",IF('Race results'!$C$32>0,ROUND(AVERAGE('Score Sheet'!$J59:Z59),1),ROUND(AVERAGE('Score Sheet'!$I59:Z59),1)))","v":"R"},{"$f":"IF('Score Sheet'!AA59=\"\",\"R\",IF('Race results'!$C$32>0,ROUND(AVERAGE('Score Sheet'!$J59:AA59),1),ROUND(AVERAGE('Score Sheet'!$I59:AA59),1)))","v":"R"},{"$f":"IF('Score Sheet'!AB59=\"\",\"R\",IF('Race results'!$C$32>0,ROUND(AVERAGE('Score Sheet'!$J59:AB59),1),ROUND(AVERAGE('Score Sheet'!$I59:AB59),1)))","v":"R"},{"$f":"IF('Score Sheet'!AC59=\"\",\"R\",IF('Race results'!$C$32>0,ROUND(AVERAGE('Score Sheet'!$J59:AC59),1),ROUND(AVERAGE('Score Sheet'!$I59:AC59),1)))","v":"R"},{"$f":"IF('Score Sheet'!AD59=\"\",\"R\",IF('Race results'!$C$32>0,ROUND(AVERAGE('Score Sheet'!$J59:AD59),1),ROUND(AVERAGE('Score Sheet'!$I59:AD59),1)))","v":"R"},{"$f":"IF('Score Sheet'!AE59=\"\",\"R\",IF('Race results'!$C$32>0,ROUND(AVERAGE('Score Sheet'!$J59:AE59),1),ROUND(AVERAGE('Score Sheet'!$I59:AE59),1)))","v":"R"},{"$f":"IF('Score Sheet'!AF59=\"\",\"R\",IF('Race results'!$C$32>0,ROUND(AVERAGE('Score Sheet'!$J59:AF59),1),ROUND(AVERAGE('Score Sheet'!$I59:AF59),1)))","v":"R"},{"$f":"IF('Score Sheet'!AG59=\"\",\"R\",IF('Race results'!$C$32>0,ROUND(AVERAGE('Score Sheet'!$J59:AG59),1),ROUND(AVERAGE('Score Sheet'!$I59:AG59),1)))","v":"R"},{"$f":"IF('Score Sheet'!AH59=\"\",\"R\",IF('Race results'!$C$32>0,ROUND(AVERAGE('Score Sheet'!$J59:AH59),1),ROUND(AVERAGE('Score Sheet'!$I59:AH59),1)))","v":"R"},{"$f":"IF('Score Sheet'!AI59=\"\",\"R\",IF('Race results'!$C$32>0,ROUND(AVERAGE('Score Sheet'!$J59:AI59),1),ROUND(AVERAGE('Score Sheet'!$I59:AI59),1)))","v":"R"},{"$f":"IF('Score Sheet'!AJ59=\"\",\"R\",IF('Race results'!$C$32>0,ROUND(AVERAGE('Score Sheet'!$J59:AJ59),1),ROUND(AVERAGE('Score Sheet'!$I59:AJ59),1)))","v":"R"},{"$f":"IF('Score Sheet'!AK59=\"\",\"R\",IF('Race results'!$C$32>0,ROUND(AVERAGE('Score Sheet'!$J59:AK59),1),ROUND(AVERAGE('Score Sheet'!$I59:AK59),1)))","v":"R"},{"$f":"IF('Score Sheet'!AL59=\"\",\"R\",IF('Race results'!$C$32>0,ROUND(AVERAGE('Score Sheet'!$J59:AL59),1),ROUND(AVERAGE('Score Sheet'!$I59:AL59),1)))","v":"R"},{"$f":"IF('Score Sheet'!AM59=\"\",\"R\",IF('Race results'!$C$32>0,ROUND(AVERAGE('Score Sheet'!$J59:AM59),1),ROUND(AVERAGE('Score Sheet'!$I59:AM59),1)))","v":"R"},{"$f":"IF('Score Sheet'!AN59=\"\",\"R\",IF('Race results'!$C$32>0,ROUND(AVERAGE('Score Sheet'!$J59:AN59),1),ROUND(AVERAGE('Score Sheet'!$I59:AN59),1)))","v":"R"},{"$f":"IF('Score Sheet'!AO59=\"\",\"R\",IF('Race results'!$C$32>0,ROUND(AVERAGE('Score Sheet'!$J59:AO59),1),ROUND(AVERAGE('Score Sheet'!$I59:AO59),1)))","v":"R"},{"$f":"IF('Score Sheet'!AP59=\"\",\"R\",IF('Race results'!$C$32>0,ROUND(AVERAGE('Score Sheet'!$J59:AP59),1),ROUND(AVERAGE('Score Sheet'!$I59:AP59),1)))","v":"R"},{"$f":"IF('Score Sheet'!AQ59=\"\",\"R\",IF('Race results'!$C$32>0,ROUND(AVERAGE('Score Sheet'!$J59:AQ59),1),ROUND(AVERAGE('Score Sheet'!$I59:AQ59),1)))","v":"R"},{"$f":"IF('Score Sheet'!AR59=\"\",\"R\",IF('Race results'!$C$32>0,ROUND(AVERAGE('Score Sheet'!$J59:AR59),1),ROUND(AVERAGE('Score Sheet'!$I59:AR59),1)))","v":"R"},{"$f":"IF('Score Sheet'!AS59=\"\",\"R\",IF('Race results'!$C$32>0,ROUND(AVERAGE('Score Sheet'!$J59:AS59),1),ROUND(AVERAGE('Score Sheet'!$I59:AS59),1)))","v":"R"},{"$f":"IF('Score Sheet'!AT59=\"\",\"R\",IF('Race results'!$C$32>0,ROUND(AVERAGE('Score Sheet'!$J59:AT59),1),ROUND(AVERAGE('Score Sheet'!$I59:AT59),1)))","v":"R"},{"$f":"IF('Score Sheet'!AU59=\"\",\"R\",IF('Race results'!$C$32>0,ROUND(AVERAGE('Score Sheet'!$J59:AU59),1),ROUND(AVERAGE('Score Sheet'!$I59:AU59),1)))","v":"R"},{"$f":"IF('Score Sheet'!AV59=\"\",\"R\",IF('Race results'!$C$32>0,ROUND(AVERAGE('Score Sheet'!$J59:AV59),1),ROUND(AVERAGE('Score Sheet'!$I59:AV59),1)))","v":"R"},null,"",{"$f":"IF(C59=\"\",\"\",IF('Race results'!$C$7<1, \"E\", IF('Race results'!$C$32>0,IF(COUNT(AY59:CL59)<1,\"R\",ROUND(AVERAGE(AY59:CL59),1)),IF(COUNT(AX59:CL59)<1,\"R\",ROUND(AVERAGE(AX59:CL59),1)))))","v":""},null,null,"","","","","","","","","","","","","","","","","","","","","","","","","","","","","","","","","","","","","","","","",""]
[null,51,{"$f":"IF('Score Sheet'!C60=\"\",\"\",'Score Sheet'!C60)","v":""},{"$f":"'Race results'!$F$159","v":"DAFT!"},{"$f":"'Race results'!$F$159","v":"DAFT!"},{"$f":"IF('Score Sheet'!J60=\"\",\"R\",IF('Race results'!$C$32>0,'Race results'!$F$159,ROUND(AVERAGE('Score Sheet'!$I60:J60),1)))","v":"R"},{"$f":"IF('Score Sheet'!K60=\"\",\"R\",IF('Race results'!$C$32>0,ROUND(AVERAGE('Score Sheet'!$J60:K60),1),ROUND(AVERAGE('Score Sheet'!$I60:K60),1)))","v":"R"},{"$f":"IF('Score Sheet'!L60=\"\",\"R\",IF('Race results'!$C$32>0,ROUND(AVERAGE('Score Sheet'!$J60:L60),1),ROUND(AVERAGE('Score Sheet'!$I60:L60),1)))","v":"R"},{"$f":"IF('Score Sheet'!M60=\"\",\"R\",IF('Race results'!$C$32>0,ROUND(AVERAGE('Score Sheet'!$J60:M60),1),ROUND(AVERAGE('Score Sheet'!$I60:M60),1)))","v":"R"},{"$f":"IF('Score Sheet'!N60=\"\",\"R\",IF('Race results'!$C$32>0,ROUND(AVERAGE('Score Sheet'!$J60:N60),1),ROUND(AVERAGE('Score Sheet'!$I60:N60),1)))","v":"R"},{"$f":"IF('Score Sheet'!O60=\"\",\"R\",IF('Race results'!$C$32>0,ROUND(AVERAGE('Score Sheet'!$J60:O60),1),ROUND(AVERAGE('Score Sheet'!$I60:O60),1)))","v":"R"},{"$f":"IF('Score Sheet'!P60=\"\",\"R\",IF('Race results'!$C$32>0,ROUND(AVERAGE('Score Sheet'!$J60:P60),1),ROUND(AVERAGE('Score Sheet'!$I60:P60),1)))","v":"R"},{"$f":"IF('Score Sheet'!Q60=\"\",\"R\",IF('Race results'!$C$32>0,ROUND(AVERAGE('Score Sheet'!$J60:Q60),1),ROUND(AVERAGE('Score Sheet'!$I60:Q60),1)))","v":"R"},{"$f":"IF('Score Sheet'!R60=\"\",\"R\",IF('Race results'!$C$32>0,ROUND(AVERAGE('Score Sheet'!$J60:R60),1),ROUND(AVERAGE('Score Sheet'!$I60:R60),1)))","v":"R"},{"$f":"IF('Score Sheet'!S60=\"\",\"R\",IF('Race results'!$C$32>0,ROUND(AVERAGE('Score Sheet'!$J60:S60),1),ROUND(AVERAGE('Score Sheet'!$I60:S60),1)))","v":"R"},{"$f":"IF('Score Sheet'!T60=\"\",\"R\",IF('Race results'!$C$32>0,ROUND(AVERAGE('Score Sheet'!$J60:T60),1),ROUND(AVERAGE('Score Sheet'!$I60:T60),1)))","v":"R"},{"$f":"IF('Score Sheet'!U60=\"\",\"R\",IF('Race results'!$C$32>0,ROUND(AVERAGE('Score Sheet'!$J60:U60),1),ROUND(AVERAGE('Score Sheet'!$I60:U60),1)))","v":"R"},{"$f":"IF('Score Sheet'!V60=\"\",\"R\",IF('Race results'!$C$32>0,ROUND(AVERAGE('Score Sheet'!$J60:V60),1),ROUND(AVERAGE('Score Sheet'!$I60:V60),1)))","v":"R"},{"$f":"IF('Score Sheet'!W60=\"\",\"R\",IF('Race results'!$C$32>0,ROUND(AVERAGE('Score Sheet'!$J60:W60),1),ROUND(AVERAGE('Score Sheet'!$I60:W60),1)))","v":"R"},{"$f":"IF('Score Sheet'!X60=\"\",\"R\",IF('Race results'!$C$32>0,ROUND(AVERAGE('Score Sheet'!$J60:X60),1),ROUND(AVERAGE('Score Sheet'!$I60:X60),1)))","v":"R"},{"$f":"IF('Score Sheet'!Y60=\"\",\"R\",IF('Race results'!$C$32>0,ROUND(AVERAGE('Score Sheet'!$J60:Y60),1),ROUND(AVERAGE('Score Sheet'!$I60:Y60),1)))","v":"R"},{"$f":"IF('Score Sheet'!Z60=\"\",\"R\",IF('Race results'!$C$32>0,ROUND(AVERAGE('Score Sheet'!$J60:Z60),1),ROUND(AVERAGE('Score Sheet'!$I60:Z60),1)))","v":"R"},{"$f":"IF('Score Sheet'!AA60=\"\",\"R\",IF('Race results'!$C$32>0,ROUND(AVERAGE('Score Sheet'!$J60:AA60),1),ROUND(AVERAGE('Score Sheet'!$I60:AA60),1)))","v":"R"},{"$f":"IF('Score Sheet'!AB60=\"\",\"R\",IF('Race results'!$C$32>0,ROUND(AVERAGE('Score Sheet'!$J60:AB60),1),ROUND(AVERAGE('Score Sheet'!$I60:AB60),1)))","v":"R"},{"$f":"IF('Score Sheet'!AC60=\"\",\"R\",IF('Race results'!$C$32>0,ROUND(AVERAGE('Score Sheet'!$J60:AC60),1),ROUND(AVERAGE('Score Sheet'!$I60:AC60),1)))","v":"R"},{"$f":"IF('Score Sheet'!AD60=\"\",\"R\",IF('Race results'!$C$32>0,ROUND(AVERAGE('Score Sheet'!$J60:AD60),1),ROUND(AVERAGE('Score Sheet'!$I60:AD60),1)))","v":"R"},{"$f":"IF('Score Sheet'!AE60=\"\",\"R\",IF('Race results'!$C$32>0,ROUND(AVERAGE('Score Sheet'!$J60:AE60),1),ROUND(AVERAGE('Score Sheet'!$I60:AE60),1)))","v":"R"},{"$f":"IF('Score Sheet'!AF60=\"\",\"R\",IF('Race results'!$C$32>0,ROUND(AVERAGE('Score Sheet'!$J60:AF60),1),ROUND(AVERAGE('Score Sheet'!$I60:AF60),1)))","v":"R"},{"$f":"IF('Score Sheet'!AG60=\"\",\"R\",IF('Race results'!$C$32>0,ROUND(AVERAGE('Score Sheet'!$J60:AG60),1),ROUND(AVERAGE('Score Sheet'!$I60:AG60),1)))","v":"R"},{"$f":"IF('Score Sheet'!AH60=\"\",\"R\",IF('Race results'!$C$32>0,ROUND(AVERAGE('Score Sheet'!$J60:AH60),1),ROUND(AVERAGE('Score Sheet'!$I60:AH60),1)))","v":"R"},{"$f":"IF('Score Sheet'!AI60=\"\",\"R\",IF('Race results'!$C$32>0,ROUND(AVERAGE('Score Sheet'!$J60:AI60),1),ROUND(AVERAGE('Score Sheet'!$I60:AI60),1)))","v":"R"},{"$f":"IF('Score Sheet'!AJ60=\"\",\"R\",IF('Race results'!$C$32>0,ROUND(AVERAGE('Score Sheet'!$J60:AJ60),1),ROUND(AVERAGE('Score Sheet'!$I60:AJ60),1)))","v":"R"},{"$f":"IF('Score Sheet'!AK60=\"\",\"R\",IF('Race results'!$C$32>0,ROUND(AVERAGE('Score Sheet'!$J60:AK60),1),ROUND(AVERAGE('Score Sheet'!$I60:AK60),1)))","v":"R"},{"$f":"IF('Score Sheet'!AL60=\"\",\"R\",IF('Race results'!$C$32>0,ROUND(AVERAGE('Score Sheet'!$J60:AL60),1),ROUND(AVERAGE('Score Sheet'!$I60:AL60),1)))","v":"R"},{"$f":"IF('Score Sheet'!AM60=\"\",\"R\",IF('Race results'!$C$32>0,ROUND(AVERAGE('Score Sheet'!$J60:AM60),1),ROUND(AVERAGE('Score Sheet'!$I60:AM60),1)))","v":"R"},{"$f":"IF('Score Sheet'!AN60=\"\",\"R\",IF('Race results'!$C$32>0,ROUND(AVERAGE('Score Sheet'!$J60:AN60),1),ROUND(AVERAGE('Score Sheet'!$I60:AN60),1)))","v":"R"},{"$f":"IF('Score Sheet'!AO60=\"\",\"R\",IF('Race results'!$C$32>0,ROUND(AVERAGE('Score Sheet'!$J60:AO60),1),ROUND(AVERAGE('Score Sheet'!$I60:AO60),1)))","v":"R"},{"$f":"IF('Score Sheet'!AP60=\"\",\"R\",IF('Race results'!$C$32>0,ROUND(AVERAGE('Score Sheet'!$J60:AP60),1),ROUND(AVERAGE('Score Sheet'!$I60:AP60),1)))","v":"R"},{"$f":"IF('Score Sheet'!AQ60=\"\",\"R\",IF('Race results'!$C$32>0,ROUND(AVERAGE('Score Sheet'!$J60:AQ60),1),ROUND(AVERAGE('Score Sheet'!$I60:AQ60),1)))","v":"R"},{"$f":"IF('Score Sheet'!AR60=\"\",\"R\",IF('Race results'!$C$32>0,ROUND(AVERAGE('Score Sheet'!$J60:AR60),1),ROUND(AVERAGE('Score Sheet'!$I60:AR60),1)))","v":"R"},{"$f":"IF('Score Sheet'!AS60=\"\",\"R\",IF('Race results'!$C$32>0,ROUND(AVERAGE('Score Sheet'!$J60:AS60),1),ROUND(AVERAGE('Score Sheet'!$I60:AS60),1)))","v":"R"},{"$f":"IF('Score Sheet'!AT60=\"\",\"R\",IF('Race results'!$C$32>0,ROUND(AVERAGE('Score Sheet'!$J60:AT60),1),ROUND(AVERAGE('Score Sheet'!$I60:AT60),1)))","v":"R"},{"$f":"IF('Score Sheet'!AU60=\"\",\"R\",IF('Race results'!$C$32>0,ROUND(AVERAGE('Score Sheet'!$J60:AU60),1),ROUND(AVERAGE('Score Sheet'!$I60:AU60),1)))","v":"R"},{"$f":"IF('Score Sheet'!AV60=\"\",\"R\",IF('Race results'!$C$32>0,ROUND(AVERAGE('Score Sheet'!$J60:AV60),1),ROUND(AVERAGE('Score Sheet'!$I60:AV60),1)))","v":"R"},null,"",{"$f":"IF(C60=\"\",\"\",IF('Race results'!$C$7<1, \"E\", IF('Race results'!$C$32>0,IF(COUNT(AY60:CL60)<1,\"R\",ROUND(AVERAGE(AY60:CL60),1)),IF(COUNT(AX60:CL60)<1,\"R\",ROUND(AVERAGE(AX60:CL60),1)))))","v":""},null,null,"","","","","","","","","","","","","","","","","","","","","","","","","","","","","","","","","","","","","","","","",""]
[null,52,{"$f":"IF('Score Sheet'!C61=\"\",\"\",'Score Sheet'!C61)","v":""},{"$f":"'Race results'!$F$159","v":"DAFT!"},{"$f":"'Race results'!$F$159","v":"DAFT!"},{"$f":"IF('Score Sheet'!J61=\"\",\"R\",IF('Race results'!$C$32>0,'Race results'!$F$159,ROUND(AVERAGE('Score Sheet'!$I61:J61),1)))","v":"R"},{"$f":"IF('Score Sheet'!K61=\"\",\"R\",IF('Race results'!$C$32>0,ROUND(AVERAGE('Score Sheet'!$J61:K61),1),ROUND(AVERAGE('Score Sheet'!$I61:K61),1)))","v":"R"},{"$f":"IF('Score Sheet'!L61=\"\",\"R\",IF('Race results'!$C$32>0,ROUND(AVERAGE('Score Sheet'!$J61:L61),1),ROUND(AVERAGE('Score Sheet'!$I61:L61),1)))","v":"R"},{"$f":"IF('Score Sheet'!M61=\"\",\"R\",IF('Race results'!$C$32>0,ROUND(AVERAGE('Score Sheet'!$J61:M61),1),ROUND(AVERAGE('Score Sheet'!$I61:M61),1)))","v":"R"},{"$f":"IF('Score Sheet'!N61=\"\",\"R\",IF('Race results'!$C$32>0,ROUND(AVERAGE('Score Sheet'!$J61:N61),1),ROUND(AVERAGE('Score Sheet'!$I61:N61),1)))","v":"R"},{"$f":"IF('Score Sheet'!O61=\"\",\"R\",IF('Race results'!$C$32>0,ROUND(AVERAGE('Score Sheet'!$J61:O61),1),ROUND(AVERAGE('Score Sheet'!$I61:O61),1)))","v":"R"},{"$f":"IF('Score Sheet'!P61=\"\",\"R\",IF('Race results'!$C$32>0,ROUND(AVERAGE('Score Sheet'!$J61:P61),1),ROUND(AVERAGE('Score Sheet'!$I61:P61),1)))","v":"R"},{"$f":"IF('Score Sheet'!Q61=\"\",\"R\",IF('Race results'!$C$32>0,ROUND(AVERAGE('Score Sheet'!$J61:Q61),1),ROUND(AVERAGE('Score Sheet'!$I61:Q61),1)))","v":"R"},{"$f":"IF('Score Sheet'!R61=\"\",\"R\",IF('Race results'!$C$32>0,ROUND(AVERAGE('Score Sheet'!$J61:R61),1),ROUND(AVERAGE('Score Sheet'!$I61:R61),1)))","v":"R"},{"$f":"IF('Score Sheet'!S61=\"\",\"R\",IF('Race results'!$C$32>0,ROUND(AVERAGE('Score Sheet'!$J61:S61),1),ROUND(AVERAGE('Score Sheet'!$I61:S61),1)))","v":"R"},{"$f":"IF('Score Sheet'!T61=\"\",\"R\",IF('Race results'!$C$32>0,ROUND(AVERAGE('Score Sheet'!$J61:T61),1),ROUND(AVERAGE('Score Sheet'!$I61:T61),1)))","v":"R"},{"$f":"IF('Score Sheet'!U61=\"\",\"R\",IF('Race results'!$C$32>0,ROUND(AVERAGE('Score Sheet'!$J61:U61),1),ROUND(AVERAGE('Score Sheet'!$I61:U61),1)))","v":"R"},{"$f":"IF('Score Sheet'!V61=\"\",\"R\",IF('Race results'!$C$32>0,ROUND(AVERAGE('Score Sheet'!$J61:V61),1),ROUND(AVERAGE('Score Sheet'!$I61:V61),1)))","v":"R"},{"$f":"IF('Score Sheet'!W61=\"\",\"R\",IF('Race results'!$C$32>0,ROUND(AVERAGE('Score Sheet'!$J61:W61),1),ROUND(AVERAGE('Score Sheet'!$I61:W61),1)))","v":"R"},{"$f":"IF('Score Sheet'!X61=\"\",\"R\",IF('Race results'!$C$32>0,ROUND(AVERAGE('Score Sheet'!$J61:X61),1),ROUND(AVERAGE('Score Sheet'!$I61:X61),1)))","v":"R"},{"$f":"IF('Score Sheet'!Y61=\"\",\"R\",IF('Race results'!$C$32>0,ROUND(AVERAGE('Score Sheet'!$J61:Y61),1),ROUND(AVERAGE('Score Sheet'!$I61:Y61),1)))","v":"R"},{"$f":"IF('Score Sheet'!Z61=\"\",\"R\",IF('Race results'!$C$32>0,ROUND(AVERAGE('Score Sheet'!$J61:Z61),1),ROUND(AVERAGE('Score Sheet'!$I61:Z61),1)))","v":"R"},{"$f":"IF('Score Sheet'!AA61=\"\",\"R\",IF('Race results'!$C$32>0,ROUND(AVERAGE('Score Sheet'!$J61:AA61),1),ROUND(AVERAGE('Score Sheet'!$I61:AA61),1)))","v":"R"},{"$f":"IF('Score Sheet'!AB61=\"\",\"R\",IF('Race results'!$C$32>0,ROUND(AVERAGE('Score Sheet'!$J61:AB61),1),ROUND(AVERAGE('Score Sheet'!$I61:AB61),1)))","v":"R"},{"$f":"IF('Score Sheet'!AC61=\"\",\"R\",IF('Race results'!$C$32>0,ROUND(AVERAGE('Score Sheet'!$J61:AC61),1),ROUND(AVERAGE('Score Sheet'!$I61:AC61),1)))","v":"R"},{"$f":"IF('Score Sheet'!AD61=\"\",\"R\",IF('Race results'!$C$32>0,ROUND(AVERAGE('Score Sheet'!$J61:AD61),1),ROUND(AVERAGE('Score Sheet'!$I61:AD61),1)))","v":"R"},{"$f":"IF('Score Sheet'!AE61=\"\",\"R\",IF('Race results'!$C$32>0,ROUND(AVERAGE('Score Sheet'!$J61:AE61),1),ROUND(AVERAGE('Score Sheet'!$I61:AE61),1)))","v":"R"},{"$f":"IF('Score Sheet'!AF61=\"\",\"R\",IF('Race results'!$C$32>0,ROUND(AVERAGE('Score Sheet'!$J61:AF61),1),ROUND(AVERAGE('Score Sheet'!$I61:AF61),1)))","v":"R"},{"$f":"IF('Score Sheet'!AG61=\"\",\"R\",IF('Race results'!$C$32>0,ROUND(AVERAGE('Score Sheet'!$J61:AG61),1),ROUND(AVERAGE('Score Sheet'!$I61:AG61),1)))","v":"R"},{"$f":"IF('Score Sheet'!AH61=\"\",\"R\",IF('Race results'!$C$32>0,ROUND(AVERAGE('Score Sheet'!$J61:AH61),1),ROUND(AVERAGE('Score Sheet'!$I61:AH61),1)))","v":"R"},{"$f":"IF('Score Sheet'!AI61=\"\",\"R\",IF('Race results'!$C$32>0,ROUND(AVERAGE('Score Sheet'!$J61:AI61),1),ROUND(AVERAGE('Score Sheet'!$I61:AI61),1)))","v":"R"},{"$f":"IF('Score Sheet'!AJ61=\"\",\"R\",IF('Race results'!$C$32>0,ROUND(AVERAGE('Score Sheet'!$J61:AJ61),1),ROUND(AVERAGE('Score Sheet'!$I61:AJ61),1)))","v":"R"},{"$f":"IF('Score Sheet'!AK61=\"\",\"R\",IF('Race results'!$C$32>0,ROUND(AVERAGE('Score Sheet'!$J61:AK61),1),ROUND(AVERAGE('Score Sheet'!$I61:AK61),1)))","v":"R"},{"$f":"IF('Score Sheet'!AL61=\"\",\"R\",IF('Race results'!$C$32>0,ROUND(AVERAGE('Score Sheet'!$J61:AL61),1),ROUND(AVERAGE('Score Sheet'!$I61:AL61),1)))","v":"R"},{"$f":"IF('Score Sheet'!AM61=\"\",\"R\",IF('Race results'!$C$32>0,ROUND(AVERAGE('Score Sheet'!$J61:AM61),1),ROUND(AVERAGE('Score Sheet'!$I61:AM61),1)))","v":"R"},{"$f":"IF('Score Sheet'!AN61=\"\",\"R\",IF('Race results'!$C$32>0,ROUND(AVERAGE('Score Sheet'!$J61:AN61),1),ROUND(AVERAGE('Score Sheet'!$I61:AN61),1)))","v":"R"},{"$f":"IF('Score Sheet'!AO61=\"\",\"R\",IF('Race results'!$C$32>0,ROUND(AVERAGE('Score Sheet'!$J61:AO61),1),ROUND(AVERAGE('Score Sheet'!$I61:AO61),1)))","v":"R"},{"$f":"IF('Score Sheet'!AP61=\"\",\"R\",IF('Race results'!$C$32>0,ROUND(AVERAGE('Score Sheet'!$J61:AP61),1),ROUND(AVERAGE('Score Sheet'!$I61:AP61),1)))","v":"R"},{"$f":"IF('Score Sheet'!AQ61=\"\",\"R\",IF('Race results'!$C$32>0,ROUND(AVERAGE('Score Sheet'!$J61:AQ61),1),ROUND(AVERAGE('Score Sheet'!$I61:AQ61),1)))","v":"R"},{"$f":"IF('Score Sheet'!AR61=\"\",\"R\",IF('Race results'!$C$32>0,ROUND(AVERAGE('Score Sheet'!$J61:AR61),1),ROUND(AVERAGE('Score Sheet'!$I61:AR61),1)))","v":"R"},{"$f":"IF('Score Sheet'!AS61=\"\",\"R\",IF('Race results'!$C$32>0,ROUND(AVERAGE('Score Sheet'!$J61:AS61),1),ROUND(AVERAGE('Score Sheet'!$I61:AS61),1)))","v":"R"},{"$f":"IF('Score Sheet'!AT61=\"\",\"R\",IF('Race results'!$C$32>0,ROUND(AVERAGE('Score Sheet'!$J61:AT61),1),ROUND(AVERAGE('Score Sheet'!$I61:AT61),1)))","v":"R"},{"$f":"IF('Score Sheet'!AU61=\"\",\"R\",IF('Race results'!$C$32>0,ROUND(AVERAGE('Score Sheet'!$J61:AU61),1),ROUND(AVERAGE('Score Sheet'!$I61:AU61),1)))","v":"R"},{"$f":"IF('Score Sheet'!AV61=\"\",\"R\",IF('Race results'!$C$32>0,ROUND(AVERAGE('Score Sheet'!$J61:AV61),1),ROUND(AVERAGE('Score Sheet'!$I61:AV61),1)))","v":"R"},null,"",{"$f":"IF(C61=\"\",\"\",IF('Race results'!$C$7<1, \"E\", IF('Race results'!$C$32>0,IF(COUNT(AY61:CL61)<1,\"R\",ROUND(AVERAGE(AY61:CL61),1)),IF(COUNT(AX61:CL61)<1,\"R\",ROUND(AVERAGE(AX61:CL61),1)))))","v":""},null,null,"","","","","","","","","","","","","","","","","","","","","","","","","","","","","","","","","","","","","","","","",""]
[null,53,{"$f":"IF('Score Sheet'!C62=\"\",\"\",'Score Sheet'!C62)","v":""},{"$f":"'Race results'!$F$159","v":"DAFT!"},{"$f":"'Race results'!$F$159","v":"DAFT!"},{"$f":"IF('Score Sheet'!J62=\"\",\"R\",IF('Race results'!$C$32>0,'Race results'!$F$159,ROUND(AVERAGE('Score Sheet'!$I62:J62),1)))","v":"R"},{"$f":"IF('Score Sheet'!K62=\"\",\"R\",IF('Race results'!$C$32>0,ROUND(AVERAGE('Score Sheet'!$J62:K62),1),ROUND(AVERAGE('Score Sheet'!$I62:K62),1)))","v":"R"},{"$f":"IF('Score Sheet'!L62=\"\",\"R\",IF('Race results'!$C$32>0,ROUND(AVERAGE('Score Sheet'!$J62:L62),1),ROUND(AVERAGE('Score Sheet'!$I62:L62),1)))","v":"R"},{"$f":"IF('Score Sheet'!M62=\"\",\"R\",IF('Race results'!$C$32>0,ROUND(AVERAGE('Score Sheet'!$J62:M62),1),ROUND(AVERAGE('Score Sheet'!$I62:M62),1)))","v":"R"},{"$f":"IF('Score Sheet'!N62=\"\",\"R\",IF('Race results'!$C$32>0,ROUND(AVERAGE('Score Sheet'!$J62:N62),1),ROUND(AVERAGE('Score Sheet'!$I62:N62),1)))","v":"R"},{"$f":"IF('Score Sheet'!O62=\"\",\"R\",IF('Race results'!$C$32>0,ROUND(AVERAGE('Score Sheet'!$J62:O62),1),ROUND(AVERAGE('Score Sheet'!$I62:O62),1)))","v":"R"},{"$f":"IF('Score Sheet'!P62=\"\",\"R\",IF('Race results'!$C$32>0,ROUND(AVERAGE('Score Sheet'!$J62:P62),1),ROUND(AVERAGE('Score Sheet'!$I62:P62),1)))","v":"R"},{"$f":"IF('Score Sheet'!Q62=\"\",\"R\",IF('Race results'!$C$32>0,ROUND(AVERAGE('Score Sheet'!$J62:Q62),1),ROUND(AVERAGE('Score Sheet'!$I62:Q62),1)))","v":"R"},{"$f":"IF('Score Sheet'!R62=\"\",\"R\",IF('Race results'!$C$32>0,ROUND(AVERAGE('Score Sheet'!$J62:R62),1),ROUND(AVERAGE('Score Sheet'!$I62:R62),1)))","v":"R"},{"$f":"IF('Score Sheet'!S62=\"\",\"R\",IF('Race results'!$C$32>0,ROUND(AVERAGE('Score Sheet'!$J62:S62),1),ROUND(AVERAGE('Score Sheet'!$I62:S62),1)))","v":"R"},{"$f":"IF('Score Sheet'!T62=\"\",\"R\",IF('Race results'!$C$32>0,ROUND(AVERAGE('Score Sheet'!$J62:T62),1),ROUND(AVERAGE('Score Sheet'!$I62:T62),1)))","v":"R"},{"$f":"IF('Score Sheet'!U62=\"\",\"R\",IF('Race results'!$C$32>0,ROUND(AVERAGE('Score Sheet'!$J62:U62),1),ROUND(AVERAGE('Score Sheet'!$I62:U62),1)))","v":"R"},{"$f":"IF('Score Sheet'!V62=\"\",\"R\",IF('Race results'!$C$32>0,ROUND(AVERAGE('Score Sheet'!$J62:V62),1),ROUND(AVERAGE('Score Sheet'!$I62:V62),1)))","v":"R"},{"$f":"IF('Score Sheet'!W62=\"\",\"R\",IF('Race results'!$C$32>0,ROUND(AVERAGE('Score Sheet'!$J62:W62),1),ROUND(AVERAGE('Score Sheet'!$I62:W62),1)))","v":"R"},{"$f":"IF('Score Sheet'!X62=\"\",\"R\",IF('Race results'!$C$32>0,ROUND(AVERAGE('Score Sheet'!$J62:X62),1),ROUND(AVERAGE('Score Sheet'!$I62:X62),1)))","v":"R"},{"$f":"IF('Score Sheet'!Y62=\"\",\"R\",IF('Race results'!$C$32>0,ROUND(AVERAGE('Score Sheet'!$J62:Y62),1),ROUND(AVERAGE('Score Sheet'!$I62:Y62),1)))","v":"R"},{"$f":"IF('Score Sheet'!Z62=\"\",\"R\",IF('Race results'!$C$32>0,ROUND(AVERAGE('Score Sheet'!$J62:Z62),1),ROUND(AVERAGE('Score Sheet'!$I62:Z62),1)))","v":"R"},{"$f":"IF('Score Sheet'!AA62=\"\",\"R\",IF('Race results'!$C$32>0,ROUND(AVERAGE('Score Sheet'!$J62:AA62),1),ROUND(AVERAGE('Score Sheet'!$I62:AA62),1)))","v":"R"},{"$f":"IF('Score Sheet'!AB62=\"\",\"R\",IF('Race results'!$C$32>0,ROUND(AVERAGE('Score Sheet'!$J62:AB62),1),ROUND(AVERAGE('Score Sheet'!$I62:AB62),1)))","v":"R"},{"$f":"IF('Score Sheet'!AC62=\"\",\"R\",IF('Race results'!$C$32>0,ROUND(AVERAGE('Score Sheet'!$J62:AC62),1),ROUND(AVERAGE('Score Sheet'!$I62:AC62),1)))","v":"R"},{"$f":"IF('Score Sheet'!AD62=\"\",\"R\",IF('Race results'!$C$32>0,ROUND(AVERAGE('Score Sheet'!$J62:AD62),1),ROUND(AVERAGE('Score Sheet'!$I62:AD62),1)))","v":"R"},{"$f":"IF('Score Sheet'!AE62=\"\",\"R\",IF('Race results'!$C$32>0,ROUND(AVERAGE('Score Sheet'!$J62:AE62),1),ROUND(AVERAGE('Score Sheet'!$I62:AE62),1)))","v":"R"},{"$f":"IF('Score Sheet'!AF62=\"\",\"R\",IF('Race results'!$C$32>0,ROUND(AVERAGE('Score Sheet'!$J62:AF62),1),ROUND(AVERAGE('Score Sheet'!$I62:AF62),1)))","v":"R"},{"$f":"IF('Score Sheet'!AG62=\"\",\"R\",IF('Race results'!$C$32>0,ROUND(AVERAGE('Score Sheet'!$J62:AG62),1),ROUND(AVERAGE('Score Sheet'!$I62:AG62),1)))","v":"R"},{"$f":"IF('Score Sheet'!AH62=\"\",\"R\",IF('Race results'!$C$32>0,ROUND(AVERAGE('Score Sheet'!$J62:AH62),1),ROUND(AVERAGE('Score Sheet'!$I62:AH62),1)))","v":"R"},{"$f":"IF('Score Sheet'!AI62=\"\",\"R\",IF('Race results'!$C$32>0,ROUND(AVERAGE('Score Sheet'!$J62:AI62),1),ROUND(AVERAGE('Score Sheet'!$I62:AI62),1)))","v":"R"},{"$f":"IF('Score Sheet'!AJ62=\"\",\"R\",IF('Race results'!$C$32>0,ROUND(AVERAGE('Score Sheet'!$J62:AJ62),1),ROUND(AVERAGE('Score Sheet'!$I62:AJ62),1)))","v":"R"},{"$f":"IF('Score Sheet'!AK62=\"\",\"R\",IF('Race results'!$C$32>0,ROUND(AVERAGE('Score Sheet'!$J62:AK62),1),ROUND(AVERAGE('Score Sheet'!$I62:AK62),1)))","v":"R"},{"$f":"IF('Score Sheet'!AL62=\"\",\"R\",IF('Race results'!$C$32>0,ROUND(AVERAGE('Score Sheet'!$J62:AL62),1),ROUND(AVERAGE('Score Sheet'!$I62:AL62),1)))","v":"R"},{"$f":"IF('Score Sheet'!AM62=\"\",\"R\",IF('Race results'!$C$32>0,ROUND(AVERAGE('Score Sheet'!$J62:AM62),1),ROUND(AVERAGE('Score Sheet'!$I62:AM62),1)))","v":"R"},{"$f":"IF('Score Sheet'!AN62=\"\",\"R\",IF('Race results'!$C$32>0,ROUND(AVERAGE('Score Sheet'!$J62:AN62),1),ROUND(AVERAGE('Score Sheet'!$I62:AN62),1)))","v":"R"},{"$f":"IF('Score Sheet'!AO62=\"\",\"R\",IF('Race results'!$C$32>0,ROUND(AVERAGE('Score Sheet'!$J62:AO62),1),ROUND(AVERAGE('Score Sheet'!$I62:AO62),1)))","v":"R"},{"$f":"IF('Score Sheet'!AP62=\"\",\"R\",IF('Race results'!$C$32>0,ROUND(AVERAGE('Score Sheet'!$J62:AP62),1),ROUND(AVERAGE('Score Sheet'!$I62:AP62),1)))","v":"R"},{"$f":"IF('Score Sheet'!AQ62=\"\",\"R\",IF('Race results'!$C$32>0,ROUND(AVERAGE('Score Sheet'!$J62:AQ62),1),ROUND(AVERAGE('Score Sheet'!$I62:AQ62),1)))","v":"R"},{"$f":"IF('Score Sheet'!AR62=\"\",\"R\",IF('Race results'!$C$32>0,ROUND(AVERAGE('Score Sheet'!$J62:AR62),1),ROUND(AVERAGE('Score Sheet'!$I62:AR62),1)))","v":"R"},{"$f":"IF('Score Sheet'!AS62=\"\",\"R\",IF('Race results'!$C$32>0,ROUND(AVERAGE('Score Sheet'!$J62:AS62),1),ROUND(AVERAGE('Score Sheet'!$I62:AS62),1)))","v":"R"},{"$f":"IF('Score Sheet'!AT62=\"\",\"R\",IF('Race results'!$C$32>0,ROUND(AVERAGE('Score Sheet'!$J62:AT62),1),ROUND(AVERAGE('Score Sheet'!$I62:AT62),1)))","v":"R"},{"$f":"IF('Score Sheet'!AU62=\"\",\"R\",IF('Race results'!$C$32>0,ROUND(AVERAGE('Score Sheet'!$J62:AU62),1),ROUND(AVERAGE('Score Sheet'!$I62:AU62),1)))","v":"R"},{"$f":"IF('Score Sheet'!AV62=\"\",\"R\",IF('Race results'!$C$32>0,ROUND(AVERAGE('Score Sheet'!$J62:AV62),1),ROUND(AVERAGE('Score Sheet'!$I62:AV62),1)))","v":"R"},null,"",{"$f":"IF(C62=\"\",\"\",IF('Race results'!$C$7<1, \"E\", IF('Race results'!$C$32>0,IF(COUNT(AY62:CL62)<1,\"R\",ROUND(AVERAGE(AY62:CL62),1)),IF(COUNT(AX62:CL62)<1,\"R\",ROUND(AVERAGE(AX62:CL62),1)))))","v":""},null,null,"","","","","","","","","","","","","","","","","","","","","","","","","","","","","","","","","","","","","","","","",""]
[null,54,{"$f":"IF('Score Sheet'!C63=\"\",\"\",'Score Sheet'!C63)","v":""},{"$f":"'Race results'!$F$159","v":"DAFT!"},{"$f":"'Race results'!$F$159","v":"DAFT!"},{"$f":"IF('Score Sheet'!J63=\"\",\"R\",IF('Race results'!$C$32>0,'Race results'!$F$159,ROUND(AVERAGE('Score Sheet'!$I63:J63),1)))","v":"R"},{"$f":"IF('Score Sheet'!K63=\"\",\"R\",IF('Race results'!$C$32>0,ROUND(AVERAGE('Score Sheet'!$J63:K63),1),ROUND(AVERAGE('Score Sheet'!$I63:K63),1)))","v":"R"},{"$f":"IF('Score Sheet'!L63=\"\",\"R\",IF('Race results'!$C$32>0,ROUND(AVERAGE('Score Sheet'!$J63:L63),1),ROUND(AVERAGE('Score Sheet'!$I63:L63),1)))","v":"R"},{"$f":"IF('Score Sheet'!M63=\"\",\"R\",IF('Race results'!$C$32>0,ROUND(AVERAGE('Score Sheet'!$J63:M63),1),ROUND(AVERAGE('Score Sheet'!$I63:M63),1)))","v":"R"},{"$f":"IF('Score Sheet'!N63=\"\",\"R\",IF('Race results'!$C$32>0,ROUND(AVERAGE('Score Sheet'!$J63:N63),1),ROUND(AVERAGE('Score Sheet'!$I63:N63),1)))","v":"R"},{"$f":"IF('Score Sheet'!O63=\"\",\"R\",IF('Race results'!$C$32>0,ROUND(AVERAGE('Score Sheet'!$J63:O63),1),ROUND(AVERAGE('Score Sheet'!$I63:O63),1)))","v":"R"},{"$f":"IF('Score Sheet'!P63=\"\",\"R\",IF('Race results'!$C$32>0,ROUND(AVERAGE('Score Sheet'!$J63:P63),1),ROUND(AVERAGE('Score Sheet'!$I63:P63),1)))","v":"R"},{"$f":"IF('Score Sheet'!Q63=\"\",\"R\",IF('Race results'!$C$32>0,ROUND(AVERAGE('Score Sheet'!$J63:Q63),1),ROUND(AVERAGE('Score Sheet'!$I63:Q63),1)))","v":"R"},{"$f":"IF('Score Sheet'!R63=\"\",\"R\",IF('Race results'!$C$32>0,ROUND(AVERAGE('Score Sheet'!$J63:R63),1),ROUND(AVERAGE('Score Sheet'!$I63:R63),1)))","v":"R"},{"$f":"IF('Score Sheet'!S63=\"\",\"R\",IF('Race results'!$C$32>0,ROUND(AVERAGE('Score Sheet'!$J63:S63),1),ROUND(AVERAGE('Score Sheet'!$I63:S63),1)))","v":"R"},{"$f":"IF('Score Sheet'!T63=\"\",\"R\",IF('Race results'!$C$32>0,ROUND(AVERAGE('Score Sheet'!$J63:T63),1),ROUND(AVERAGE('Score Sheet'!$I63:T63),1)))","v":"R"},{"$f":"IF('Score Sheet'!U63=\"\",\"R\",IF('Race results'!$C$32>0,ROUND(AVERAGE('Score Sheet'!$J63:U63),1),ROUND(AVERAGE('Score Sheet'!$I63:U63),1)))","v":"R"},{"$f":"IF('Score Sheet'!V63=\"\",\"R\",IF('Race results'!$C$32>0,ROUND(AVERAGE('Score Sheet'!$J63:V63),1),ROUND(AVERAGE('Score Sheet'!$I63:V63),1)))","v":"R"},{"$f":"IF('Score Sheet'!W63=\"\",\"R\",IF('Race results'!$C$32>0,ROUND(AVERAGE('Score Sheet'!$J63:W63),1),ROUND(AVERAGE('Score Sheet'!$I63:W63),1)))","v":"R"},{"$f":"IF('Score Sheet'!X63=\"\",\"R\",IF('Race results'!$C$32>0,ROUND(AVERAGE('Score Sheet'!$J63:X63),1),ROUND(AVERAGE('Score Sheet'!$I63:X63),1)))","v":"R"},{"$f":"IF('Score Sheet'!Y63=\"\",\"R\",IF('Race results'!$C$32>0,ROUND(AVERAGE('Score Sheet'!$J63:Y63),1),ROUND(AVERAGE('Score Sheet'!$I63:Y63),1)))","v":"R"},{"$f":"IF('Score Sheet'!Z63=\"\",\"R\",IF('Race results'!$C$32>0,ROUND(AVERAGE('Score Sheet'!$J63:Z63),1),ROUND(AVERAGE('Score Sheet'!$I63:Z63),1)))","v":"R"},{"$f":"IF('Score Sheet'!AA63=\"\",\"R\",IF('Race results'!$C$32>0,ROUND(AVERAGE('Score Sheet'!$J63:AA63),1),ROUND(AVERAGE('Score Sheet'!$I63:AA63),1)))","v":"R"},{"$f":"IF('Score Sheet'!AB63=\"\",\"R\",IF('Race results'!$C$32>0,ROUND(AVERAGE('Score Sheet'!$J63:AB63),1),ROUND(AVERAGE('Score Sheet'!$I63:AB63),1)))","v":"R"},{"$f":"IF('Score Sheet'!AC63=\"\",\"R\",IF('Race results'!$C$32>0,ROUND(AVERAGE('Score Sheet'!$J63:AC63),1),ROUND(AVERAGE('Score Sheet'!$I63:AC63),1)))","v":"R"},{"$f":"IF('Score Sheet'!AD63=\"\",\"R\",IF('Race results'!$C$32>0,ROUND(AVERAGE('Score Sheet'!$J63:AD63),1),ROUND(AVERAGE('Score Sheet'!$I63:AD63),1)))","v":"R"},{"$f":"IF('Score Sheet'!AE63=\"\",\"R\",IF('Race results'!$C$32>0,ROUND(AVERAGE('Score Sheet'!$J63:AE63),1),ROUND(AVERAGE('Score Sheet'!$I63:AE63),1)))","v":"R"},{"$f":"IF('Score Sheet'!AF63=\"\",\"R\",IF('Race results'!$C$32>0,ROUND(AVERAGE('Score Sheet'!$J63:AF63),1),ROUND(AVERAGE('Score Sheet'!$I63:AF63),1)))","v":"R"},{"$f":"IF('Score Sheet'!AG63=\"\",\"R\",IF('Race results'!$C$32>0,ROUND(AVERAGE('Score Sheet'!$J63:AG63),1),ROUND(AVERAGE('Score Sheet'!$I63:AG63),1)))","v":"R"},{"$f":"IF('Score Sheet'!AH63=\"\",\"R\",IF('Race results'!$C$32>0,ROUND(AVERAGE('Score Sheet'!$J63:AH63),1),ROUND(AVERAGE('Score Sheet'!$I63:AH63),1)))","v":"R"},{"$f":"IF('Score Sheet'!AI63=\"\",\"R\",IF('Race results'!$C$32>0,ROUND(AVERAGE('Score Sheet'!$J63:AI63),1),ROUND(AVERAGE('Score Sheet'!$I63:AI63),1)))","v":"R"},{"$f":"IF('Score Sheet'!AJ63=\"\",\"R\",IF('Race results'!$C$32>0,ROUND(AVERAGE('Score Sheet'!$J63:AJ63),1),ROUND(AVERAGE('Score Sheet'!$I63:AJ63),1)))","v":"R"},{"$f":"IF('Score Sheet'!AK63=\"\",\"R\",IF('Race results'!$C$32>0,ROUND(AVERAGE('Score Sheet'!$J63:AK63),1),ROUND(AVERAGE('Score Sheet'!$I63:AK63),1)))","v":"R"},{"$f":"IF('Score Sheet'!AL63=\"\",\"R\",IF('Race results'!$C$32>0,ROUND(AVERAGE('Score Sheet'!$J63:AL63),1),ROUND(AVERAGE('Score Sheet'!$I63:AL63),1)))","v":"R"},{"$f":"IF('Score Sheet'!AM63=\"\",\"R\",IF('Race results'!$C$32>0,ROUND(AVERAGE('Score Sheet'!$J63:AM63),1),ROUND(AVERAGE('Score Sheet'!$I63:AM63),1)))","v":"R"},{"$f":"IF('Score Sheet'!AN63=\"\",\"R\",IF('Race results'!$C$32>0,ROUND(AVERAGE('Score Sheet'!$J63:AN63),1),ROUND(AVERAGE('Score Sheet'!$I63:AN63),1)))","v":"R"},{"$f":"IF('Score Sheet'!AO63=\"\",\"R\",IF('Race results'!$C$32>0,ROUND(AVERAGE('Score Sheet'!$J63:AO63),1),ROUND(AVERAGE('Score Sheet'!$I63:AO63),1)))","v":"R"},{"$f":"IF('Score Sheet'!AP63=\"\",\"R\",IF('Race results'!$C$32>0,ROUND(AVERAGE('Score Sheet'!$J63:AP63),1),ROUND(AVERAGE('Score Sheet'!$I63:AP63),1)))","v":"R"},{"$f":"IF('Score Sheet'!AQ63=\"\",\"R\",IF('Race results'!$C$32>0,ROUND(AVERAGE('Score Sheet'!$J63:AQ63),1),ROUND(AVERAGE('Score Sheet'!$I63:AQ63),1)))","v":"R"},{"$f":"IF('Score Sheet'!AR63=\"\",\"R\",IF('Race results'!$C$32>0,ROUND(AVERAGE('Score Sheet'!$J63:AR63),1),ROUND(AVERAGE('Score Sheet'!$I63:AR63),1)))","v":"R"},{"$f":"IF('Score Sheet'!AS63=\"\",\"R\",IF('Race results'!$C$32>0,ROUND(AVERAGE('Score Sheet'!$J63:AS63),1),ROUND(AVERAGE('Score Sheet'!$I63:AS63),1)))","v":"R"},{"$f":"IF('Score Sheet'!AT63=\"\",\"R\",IF('Race results'!$C$32>0,ROUND(AVERAGE('Score Sheet'!$J63:AT63),1),ROUND(AVERAGE('Score Sheet'!$I63:AT63),1)))","v":"R"},{"$f":"IF('Score Sheet'!AU63=\"\",\"R\",IF('Race results'!$C$32>0,ROUND(AVERAGE('Score Sheet'!$J63:AU63),1),ROUND(AVERAGE('Score Sheet'!$I63:AU63),1)))","v":"R"},{"$f":"IF('Score Sheet'!AV63=\"\",\"R\",IF('Race results'!$C$32>0,ROUND(AVERAGE('Score Sheet'!$J63:AV63),1),ROUND(AVERAGE('Score Sheet'!$I63:AV63),1)))","v":"R"},null,"",{"$f":"IF(C63=\"\",\"\",IF('Race results'!$C$7<1, \"E\", IF('Race results'!$C$32>0,IF(COUNT(AY63:CL63)<1,\"R\",ROUND(AVERAGE(AY63:CL63),1)),IF(COUNT(AX63:CL63)<1,\"R\",ROUND(AVERAGE(AX63:CL63),1)))))","v":""},null,null,"","","","","","","","","","","","","","","","","","","","","","","","","","","","","","","","","","","","","","","","",""]
[null,55,{"$f":"IF('Score Sheet'!C64=\"\",\"\",'Score Sheet'!C64)","v":""},{"$f":"'Race results'!$F$159","v":"DAFT!"},{"$f":"'Race results'!$F$159","v":"DAFT!"},{"$f":"IF('Score Sheet'!J64=\"\",\"R\",IF('Race results'!$C$32>0,'Race results'!$F$159,ROUND(AVERAGE('Score Sheet'!$I64:J64),1)))","v":"R"},{"$f":"IF('Score Sheet'!K64=\"\",\"R\",IF('Race results'!$C$32>0,ROUND(AVERAGE('Score Sheet'!$J64:K64),1),ROUND(AVERAGE('Score Sheet'!$I64:K64),1)))","v":"R"},{"$f":"IF('Score Sheet'!L64=\"\",\"R\",IF('Race results'!$C$32>0,ROUND(AVERAGE('Score Sheet'!$J64:L64),1),ROUND(AVERAGE('Score Sheet'!$I64:L64),1)))","v":"R"},{"$f":"IF('Score Sheet'!M64=\"\",\"R\",IF('Race results'!$C$32>0,ROUND(AVERAGE('Score Sheet'!$J64:M64),1),ROUND(AVERAGE('Score Sheet'!$I64:M64),1)))","v":"R"},{"$f":"IF('Score Sheet'!N64=\"\",\"R\",IF('Race results'!$C$32>0,ROUND(AVERAGE('Score Sheet'!$J64:N64),1),ROUND(AVERAGE('Score Sheet'!$I64:N64),1)))","v":"R"},{"$f":"IF('Score Sheet'!O64=\"\",\"R\",IF('Race results'!$C$32>0,ROUND(AVERAGE('Score Sheet'!$J64:O64),1),ROUND(AVERAGE('Score Sheet'!$I64:O64),1)))","v":"R"},{"$f":"IF('Score Sheet'!P64=\"\",\"R\",IF('Race results'!$C$32>0,ROUND(AVERAGE('Score Sheet'!$J64:P64),1),ROUND(AVERAGE('Score Sheet'!$I64:P64),1)))","v":"R"},{"$f":"IF('Score Sheet'!Q64=\"\",\"R\",IF('Race results'!$C$32>0,ROUND(AVERAGE('Score Sheet'!$J64:Q64),1),ROUND(AVERAGE('Score Sheet'!$I64:Q64),1)))","v":"R"},{"$f":"IF('Score Sheet'!R64=\"\",\"R\",IF('Race results'!$C$32>0,ROUND(AVERAGE('Score Sheet'!$J64:R64),1),ROUND(AVERAGE('Score Sheet'!$I64:R64),1)))","v":"R"},{"$f":"IF('Score Sheet'!S64=\"\",\"R\",IF('Race results'!$C$32>0,ROUND(AVERAGE('Score Sheet'!$J64:S64),1),ROUND(AVERAGE('Score Sheet'!$I64:S64),1)))","v":"R"},{"$f":"IF('Score Sheet'!T64=\"\",\"R\",IF('Race results'!$C$32>0,ROUND(AVERAGE('Score Sheet'!$J64:T64),1),ROUND(AVERAGE('Score Sheet'!$I64:T64),1)))","v":"R"},{"$f":"IF('Score Sheet'!U64=\"\",\"R\",IF('Race results'!$C$32>0,ROUND(AVERAGE('Score Sheet'!$J64:U64),1),ROUND(AVERAGE('Score Sheet'!$I64:U64),1)))","v":"R"},{"$f":"IF('Score Sheet'!V64=\"\",\"R\",IF('Race results'!$C$32>0,ROUND(AVERAGE('Score Sheet'!$J64:V64),1),ROUND(AVERAGE('Score Sheet'!$I64:V64),1)))","v":"R"},{"$f":"IF('Score Sheet'!W64=\"\",\"R\",IF('Race results'!$C$32>0,ROUND(AVERAGE('Score Sheet'!$J64:W64),1),ROUND(AVERAGE('Score Sheet'!$I64:W64),1)))","v":"R"},{"$f":"IF('Score Sheet'!X64=\"\",\"R\",IF('Race results'!$C$32>0,ROUND(AVERAGE('Score Sheet'!$J64:X64),1),ROUND(AVERAGE('Score Sheet'!$I64:X64),1)))","v":"R"},{"$f":"IF('Score Sheet'!Y64=\"\",\"R\",IF('Race results'!$C$32>0,ROUND(AVERAGE('Score Sheet'!$J64:Y64),1),ROUND(AVERAGE('Score Sheet'!$I64:Y64),1)))","v":"R"},{"$f":"IF('Score Sheet'!Z64=\"\",\"R\",IF('Race results'!$C$32>0,ROUND(AVERAGE('Score Sheet'!$J64:Z64),1),ROUND(AVERAGE('Score Sheet'!$I64:Z64),1)))","v":"R"},{"$f":"IF('Score Sheet'!AA64=\"\",\"R\",IF('Race results'!$C$32>0,ROUND(AVERAGE('Score Sheet'!$J64:AA64),1),ROUND(AVERAGE('Score Sheet'!$I64:AA64),1)))","v":"R"},{"$f":"IF('Score Sheet'!AB64=\"\",\"R\",IF('Race results'!$C$32>0,ROUND(AVERAGE('Score Sheet'!$J64:AB64),1),ROUND(AVERAGE('Score Sheet'!$I64:AB64),1)))","v":"R"},{"$f":"IF('Score Sheet'!AC64=\"\",\"R\",IF('Race results'!$C$32>0,ROUND(AVERAGE('Score Sheet'!$J64:AC64),1),ROUND(AVERAGE('Score Sheet'!$I64:AC64),1)))","v":"R"},{"$f":"IF('Score Sheet'!AD64=\"\",\"R\",IF('Race results'!$C$32>0,ROUND(AVERAGE('Score Sheet'!$J64:AD64),1),ROUND(AVERAGE('Score Sheet'!$I64:AD64),1)))","v":"R"},{"$f":"IF('Score Sheet'!AE64=\"\",\"R\",IF('Race results'!$C$32>0,ROUND(AVERAGE('Score Sheet'!$J64:AE64),1),ROUND(AVERAGE('Score Sheet'!$I64:AE64),1)))","v":"R"},{"$f":"IF('Score Sheet'!AF64=\"\",\"R\",IF('Race results'!$C$32>0,ROUND(AVERAGE('Score Sheet'!$J64:AF64),1),ROUND(AVERAGE('Score Sheet'!$I64:AF64),1)))","v":"R"},{"$f":"IF('Score Sheet'!AG64=\"\",\"R\",IF('Race results'!$C$32>0,ROUND(AVERAGE('Score Sheet'!$J64:AG64),1),ROUND(AVERAGE('Score Sheet'!$I64:AG64),1)))","v":"R"},{"$f":"IF('Score Sheet'!AH64=\"\",\"R\",IF('Race results'!$C$32>0,ROUND(AVERAGE('Score Sheet'!$J64:AH64),1),ROUND(AVERAGE('Score Sheet'!$I64:AH64),1)))","v":"R"},{"$f":"IF('Score Sheet'!AI64=\"\",\"R\",IF('Race results'!$C$32>0,ROUND(AVERAGE('Score Sheet'!$J64:AI64),1),ROUND(AVERAGE('Score Sheet'!$I64:AI64),1)))","v":"R"},{"$f":"IF('Score Sheet'!AJ64=\"\",\"R\",IF('Race results'!$C$32>0,ROUND(AVERAGE('Score Sheet'!$J64:AJ64),1),ROUND(AVERAGE('Score Sheet'!$I64:AJ64),1)))","v":"R"},{"$f":"IF('Score Sheet'!AK64=\"\",\"R\",IF('Race results'!$C$32>0,ROUND(AVERAGE('Score Sheet'!$J64:AK64),1),ROUND(AVERAGE('Score Sheet'!$I64:AK64),1)))","v":"R"},{"$f":"IF('Score Sheet'!AL64=\"\",\"R\",IF('Race results'!$C$32>0,ROUND(AVERAGE('Score Sheet'!$J64:AL64),1),ROUND(AVERAGE('Score Sheet'!$I64:AL64),1)))","v":"R"},{"$f":"IF('Score Sheet'!AM64=\"\",\"R\",IF('Race results'!$C$32>0,ROUND(AVERAGE('Score Sheet'!$J64:AM64),1),ROUND(AVERAGE('Score Sheet'!$I64:AM64),1)))","v":"R"},{"$f":"IF('Score Sheet'!AN64=\"\",\"R\",IF('Race results'!$C$32>0,ROUND(AVERAGE('Score Sheet'!$J64:AN64),1),ROUND(AVERAGE('Score Sheet'!$I64:AN64),1)))","v":"R"},{"$f":"IF('Score Sheet'!AO64=\"\",\"R\",IF('Race results'!$C$32>0,ROUND(AVERAGE('Score Sheet'!$J64:AO64),1),ROUND(AVERAGE('Score Sheet'!$I64:AO64),1)))","v":"R"},{"$f":"IF('Score Sheet'!AP64=\"\",\"R\",IF('Race results'!$C$32>0,ROUND(AVERAGE('Score Sheet'!$J64:AP64),1),ROUND(AVERAGE('Score Sheet'!$I64:AP64),1)))","v":"R"},{"$f":"IF('Score Sheet'!AQ64=\"\",\"R\",IF('Race results'!$C$32>0,ROUND(AVERAGE('Score Sheet'!$J64:AQ64),1),ROUND(AVERAGE('Score Sheet'!$I64:AQ64),1)))","v":"R"},{"$f":"IF('Score Sheet'!AR64=\"\",\"R\",IF('Race results'!$C$32>0,ROUND(AVERAGE('Score Sheet'!$J64:AR64),1),ROUND(AVERAGE('Score Sheet'!$I64:AR64),1)))","v":"R"},{"$f":"IF('Score Sheet'!AS64=\"\",\"R\",IF('Race results'!$C$32>0,ROUND(AVERAGE('Score Sheet'!$J64:AS64),1),ROUND(AVERAGE('Score Sheet'!$I64:AS64),1)))","v":"R"},{"$f":"IF('Score Sheet'!AT64=\"\",\"R\",IF('Race results'!$C$32>0,ROUND(AVERAGE('Score Sheet'!$J64:AT64),1),ROUND(AVERAGE('Score Sheet'!$I64:AT64),1)))","v":"R"},{"$f":"IF('Score Sheet'!AU64=\"\",\"R\",IF('Race results'!$C$32>0,ROUND(AVERAGE('Score Sheet'!$J64:AU64),1),ROUND(AVERAGE('Score Sheet'!$I64:AU64),1)))","v":"R"},{"$f":"IF('Score Sheet'!AV64=\"\",\"R\",IF('Race results'!$C$32>0,ROUND(AVERAGE('Score Sheet'!$J64:AV64),1),ROUND(AVERAGE('Score Sheet'!$I64:AV64),1)))","v":"R"},null,"",{"$f":"IF(C64=\"\",\"\",IF('Race results'!$C$7<1, \"E\", IF('Race results'!$C$32>0,IF(COUNT(AY64:CL64)<1,\"R\",ROUND(AVERAGE(AY64:CL64),1)),IF(COUNT(AX64:CL64)<1,\"R\",ROUND(AVERAGE(AX64:CL64),1)))))","v":""},null,null,"","","","","","","","","","","","","","","","","","","","","","","","","","","","","","","","","","","","","","","","",""]
[null,56,{"$f":"IF('Score Sheet'!C65=\"\",\"\",'Score Sheet'!C65)","v":""},{"$f":"'Race results'!$F$159","v":"DAFT!"},{"$f":"'Race results'!$F$159","v":"DAFT!"},{"$f":"IF('Score Sheet'!J65=\"\",\"R\",IF('Race results'!$C$32>0,'Race results'!$F$159,ROUND(AVERAGE('Score Sheet'!$I65:J65),1)))","v":"R"},{"$f":"IF('Score Sheet'!K65=\"\",\"R\",IF('Race results'!$C$32>0,ROUND(AVERAGE('Score Sheet'!$J65:K65),1),ROUND(AVERAGE('Score Sheet'!$I65:K65),1)))","v":"R"},{"$f":"IF('Score Sheet'!L65=\"\",\"R\",IF('Race results'!$C$32>0,ROUND(AVERAGE('Score Sheet'!$J65:L65),1),ROUND(AVERAGE('Score Sheet'!$I65:L65),1)))","v":"R"},{"$f":"IF('Score Sheet'!M65=\"\",\"R\",IF('Race results'!$C$32>0,ROUND(AVERAGE('Score Sheet'!$J65:M65),1),ROUND(AVERAGE('Score Sheet'!$I65:M65),1)))","v":"R"},{"$f":"IF('Score Sheet'!N65=\"\",\"R\",IF('Race results'!$C$32>0,ROUND(AVERAGE('Score Sheet'!$J65:N65),1),ROUND(AVERAGE('Score Sheet'!$I65:N65),1)))","v":"R"},{"$f":"IF('Score Sheet'!O65=\"\",\"R\",IF('Race results'!$C$32>0,ROUND(AVERAGE('Score Sheet'!$J65:O65),1),ROUND(AVERAGE('Score Sheet'!$I65:O65),1)))","v":"R"},{"$f":"IF('Score Sheet'!P65=\"\",\"R\",IF('Race results'!$C$32>0,ROUND(AVERAGE('Score Sheet'!$J65:P65),1),ROUND(AVERAGE('Score Sheet'!$I65:P65),1)))","v":"R"},{"$f":"IF('Score Sheet'!Q65=\"\",\"R\",IF('Race results'!$C$32>0,ROUND(AVERAGE('Score Sheet'!$J65:Q65),1),ROUND(AVERAGE('Score Sheet'!$I65:Q65),1)))","v":"R"},{"$f":"IF('Score Sheet'!R65=\"\",\"R\",IF('Race results'!$C$32>0,ROUND(AVERAGE('Score Sheet'!$J65:R65),1),ROUND(AVERAGE('Score Sheet'!$I65:R65),1)))","v":"R"},{"$f":"IF('Score Sheet'!S65=\"\",\"R\",IF('Race results'!$C$32>0,ROUND(AVERAGE('Score Sheet'!$J65:S65),1),ROUND(AVERAGE('Score Sheet'!$I65:S65),1)))","v":"R"},{"$f":"IF('Score Sheet'!T65=\"\",\"R\",IF('Race results'!$C$32>0,ROUND(AVERAGE('Score Sheet'!$J65:T65),1),ROUND(AVERAGE('Score Sheet'!$I65:T65),1)))","v":"R"},{"$f":"IF('Score Sheet'!U65=\"\",\"R\",IF('Race results'!$C$32>0,ROUND(AVERAGE('Score Sheet'!$J65:U65),1),ROUND(AVERAGE('Score Sheet'!$I65:U65),1)))","v":"R"},{"$f":"IF('Score Sheet'!V65=\"\",\"R\",IF('Race results'!$C$32>0,ROUND(AVERAGE('Score Sheet'!$J65:V65),1),ROUND(AVERAGE('Score Sheet'!$I65:V65),1)))","v":"R"},{"$f":"IF('Score Sheet'!W65=\"\",\"R\",IF('Race results'!$C$32>0,ROUND(AVERAGE('Score Sheet'!$J65:W65),1),ROUND(AVERAGE('Score Sheet'!$I65:W65),1)))","v":"R"},{"$f":"IF('Score Sheet'!X65=\"\",\"R\",IF('Race results'!$C$32>0,ROUND(AVERAGE('Score Sheet'!$J65:X65),1),ROUND(AVERAGE('Score Sheet'!$I65:X65),1)))","v":"R"},{"$f":"IF('Score Sheet'!Y65=\"\",\"R\",IF('Race results'!$C$32>0,ROUND(AVERAGE('Score Sheet'!$J65:Y65),1),ROUND(AVERAGE('Score Sheet'!$I65:Y65),1)))","v":"R"},{"$f":"IF('Score Sheet'!Z65=\"\",\"R\",IF('Race results'!$C$32>0,ROUND(AVERAGE('Score Sheet'!$J65:Z65),1),ROUND(AVERAGE('Score Sheet'!$I65:Z65),1)))","v":"R"},{"$f":"IF('Score Sheet'!AA65=\"\",\"R\",IF('Race results'!$C$32>0,ROUND(AVERAGE('Score Sheet'!$J65:AA65),1),ROUND(AVERAGE('Score Sheet'!$I65:AA65),1)))","v":"R"},{"$f":"IF('Score Sheet'!AB65=\"\",\"R\",IF('Race results'!$C$32>0,ROUND(AVERAGE('Score Sheet'!$J65:AB65),1),ROUND(AVERAGE('Score Sheet'!$I65:AB65),1)))","v":"R"},{"$f":"IF('Score Sheet'!AC65=\"\",\"R\",IF('Race results'!$C$32>0,ROUND(AVERAGE('Score Sheet'!$J65:AC65),1),ROUND(AVERAGE('Score Sheet'!$I65:AC65),1)))","v":"R"},{"$f":"IF('Score Sheet'!AD65=\"\",\"R\",IF('Race results'!$C$32>0,ROUND(AVERAGE('Score Sheet'!$J65:AD65),1),ROUND(AVERAGE('Score Sheet'!$I65:AD65),1)))","v":"R"},{"$f":"IF('Score Sheet'!AE65=\"\",\"R\",IF('Race results'!$C$32>0,ROUND(AVERAGE('Score Sheet'!$J65:AE65),1),ROUND(AVERAGE('Score Sheet'!$I65:AE65),1)))","v":"R"},{"$f":"IF('Score Sheet'!AF65=\"\",\"R\",IF('Race results'!$C$32>0,ROUND(AVERAGE('Score Sheet'!$J65:AF65),1),ROUND(AVERAGE('Score Sheet'!$I65:AF65),1)))","v":"R"},{"$f":"IF('Score Sheet'!AG65=\"\",\"R\",IF('Race results'!$C$32>0,ROUND(AVERAGE('Score Sheet'!$J65:AG65),1),ROUND(AVERAGE('Score Sheet'!$I65:AG65),1)))","v":"R"},{"$f":"IF('Score Sheet'!AH65=\"\",\"R\",IF('Race results'!$C$32>0,ROUND(AVERAGE('Score Sheet'!$J65:AH65),1),ROUND(AVERAGE('Score Sheet'!$I65:AH65),1)))","v":"R"},{"$f":"IF('Score Sheet'!AI65=\"\",\"R\",IF('Race results'!$C$32>0,ROUND(AVERAGE('Score Sheet'!$J65:AI65),1),ROUND(AVERAGE('Score Sheet'!$I65:AI65),1)))","v":"R"},{"$f":"IF('Score Sheet'!AJ65=\"\",\"R\",IF('Race results'!$C$32>0,ROUND(AVERAGE('Score Sheet'!$J65:AJ65),1),ROUND(AVERAGE('Score Sheet'!$I65:AJ65),1)))","v":"R"},{"$f":"IF('Score Sheet'!AK65=\"\",\"R\",IF('Race results'!$C$32>0,ROUND(AVERAGE('Score Sheet'!$J65:AK65),1),ROUND(AVERAGE('Score Sheet'!$I65:AK65),1)))","v":"R"},{"$f":"IF('Score Sheet'!AL65=\"\",\"R\",IF('Race results'!$C$32>0,ROUND(AVERAGE('Score Sheet'!$J65:AL65),1),ROUND(AVERAGE('Score Sheet'!$I65:AL65),1)))","v":"R"},{"$f":"IF('Score Sheet'!AM65=\"\",\"R\",IF('Race results'!$C$32>0,ROUND(AVERAGE('Score Sheet'!$J65:AM65),1),ROUND(AVERAGE('Score Sheet'!$I65:AM65),1)))","v":"R"},{"$f":"IF('Score Sheet'!AN65=\"\",\"R\",IF('Race results'!$C$32>0,ROUND(AVERAGE('Score Sheet'!$J65:AN65),1),ROUND(AVERAGE('Score Sheet'!$I65:AN65),1)))","v":"R"},{"$f":"IF('Score Sheet'!AO65=\"\",\"R\",IF('Race results'!$C$32>0,ROUND(AVERAGE('Score Sheet'!$J65:AO65),1),ROUND(AVERAGE('Score Sheet'!$I65:AO65),1)))","v":"R"},{"$f":"IF('Score Sheet'!AP65=\"\",\"R\",IF('Race results'!$C$32>0,ROUND(AVERAGE('Score Sheet'!$J65:AP65),1),ROUND(AVERAGE('Score Sheet'!$I65:AP65),1)))","v":"R"},{"$f":"IF('Score Sheet'!AQ65=\"\",\"R\",IF('Race results'!$C$32>0,ROUND(AVERAGE('Score Sheet'!$J65:AQ65),1),ROUND(AVERAGE('Score Sheet'!$I65:AQ65),1)))","v":"R"},{"$f":"IF('Score Sheet'!AR65=\"\",\"R\",IF('Race results'!$C$32>0,ROUND(AVERAGE('Score Sheet'!$J65:AR65),1),ROUND(AVERAGE('Score Sheet'!$I65:AR65),1)))","v":"R"},{"$f":"IF('Score Sheet'!AS65=\"\",\"R\",IF('Race results'!$C$32>0,ROUND(AVERAGE('Score Sheet'!$J65:AS65),1),ROUND(AVERAGE('Score Sheet'!$I65:AS65),1)))","v":"R"},{"$f":"IF('Score Sheet'!AT65=\"\",\"R\",IF('Race results'!$C$32>0,ROUND(AVERAGE('Score Sheet'!$J65:AT65),1),ROUND(AVERAGE('Score Sheet'!$I65:AT65),1)))","v":"R"},{"$f":"IF('Score Sheet'!AU65=\"\",\"R\",IF('Race results'!$C$32>0,ROUND(AVERAGE('Score Sheet'!$J65:AU65),1),ROUND(AVERAGE('Score Sheet'!$I65:AU65),1)))","v":"R"},{"$f":"IF('Score Sheet'!AV65=\"\",\"R\",IF('Race results'!$C$32>0,ROUND(AVERAGE('Score Sheet'!$J65:AV65),1),ROUND(AVERAGE('Score Sheet'!$I65:AV65),1)))","v":"R"},null,"",{"$f":"IF(C65=\"\",\"\",IF('Race results'!$C$7<1, \"E\", IF('Race results'!$C$32>0,IF(COUNT(AY65:CL65)<1,\"R\",ROUND(AVERAGE(AY65:CL65),1)),IF(COUNT(AX65:CL65)<1,\"R\",ROUND(AVERAGE(AX65:CL65),1)))))","v":""},null,null,"","","","","","","","","","","","","","","","","","","","","","","","","","","","","","","","","","","","","","","","",""]
[null,57,{"$f":"IF('Score Sheet'!C66=\"\",\"\",'Score Sheet'!C66)","v":""},{"$f":"'Race results'!$F$159","v":"DAFT!"},{"$f":"'Race results'!$F$159","v":"DAFT!"},{"$f":"IF('Score Sheet'!J66=\"\",\"R\",IF('Race results'!$C$32>0,'Race results'!$F$159,ROUND(AVERAGE('Score Sheet'!$I66:J66),1)))","v":"R"},{"$f":"IF('Score Sheet'!K66=\"\",\"R\",IF('Race results'!$C$32>0,ROUND(AVERAGE('Score Sheet'!$J66:K66),1),ROUND(AVERAGE('Score Sheet'!$I66:K66),1)))","v":"R"},{"$f":"IF('Score Sheet'!L66=\"\",\"R\",IF('Race results'!$C$32>0,ROUND(AVERAGE('Score Sheet'!$J66:L66),1),ROUND(AVERAGE('Score Sheet'!$I66:L66),1)))","v":"R"},{"$f":"IF('Score Sheet'!M66=\"\",\"R\",IF('Race results'!$C$32>0,ROUND(AVERAGE('Score Sheet'!$J66:M66),1),ROUND(AVERAGE('Score Sheet'!$I66:M66),1)))","v":"R"},{"$f":"IF('Score Sheet'!N66=\"\",\"R\",IF('Race results'!$C$32>0,ROUND(AVERAGE('Score Sheet'!$J66:N66),1),ROUND(AVERAGE('Score Sheet'!$I66:N66),1)))","v":"R"},{"$f":"IF('Score Sheet'!O66=\"\",\"R\",IF('Race results'!$C$32>0,ROUND(AVERAGE('Score Sheet'!$J66:O66),1),ROUND(AVERAGE('Score Sheet'!$I66:O66),1)))","v":"R"},{"$f":"IF('Score Sheet'!P66=\"\",\"R\",IF('Race results'!$C$32>0,ROUND(AVERAGE('Score Sheet'!$J66:P66),1),ROUND(AVERAGE('Score Sheet'!$I66:P66),1)))","v":"R"},{"$f":"IF('Score Sheet'!Q66=\"\",\"R\",IF('Race results'!$C$32>0,ROUND(AVERAGE('Score Sheet'!$J66:Q66),1),ROUND(AVERAGE('Score Sheet'!$I66:Q66),1)))","v":"R"},{"$f":"IF('Score Sheet'!R66=\"\",\"R\",IF('Race results'!$C$32>0,ROUND(AVERAGE('Score Sheet'!$J66:R66),1),ROUND(AVERAGE('Score Sheet'!$I66:R66),1)))","v":"R"},{"$f":"IF('Score Sheet'!S66=\"\",\"R\",IF('Race results'!$C$32>0,ROUND(AVERAGE('Score Sheet'!$J66:S66),1),ROUND(AVERAGE('Score Sheet'!$I66:S66),1)))","v":"R"},{"$f":"IF('Score Sheet'!T66=\"\",\"R\",IF('Race results'!$C$32>0,ROUND(AVERAGE('Score Sheet'!$J66:T66),1),ROUND(AVERAGE('Score Sheet'!$I66:T66),1)))","v":"R"},{"$f":"IF('Score Sheet'!U66=\"\",\"R\",IF('Race results'!$C$32>0,ROUND(AVERAGE('Score Sheet'!$J66:U66),1),ROUND(AVERAGE('Score Sheet'!$I66:U66),1)))","v":"R"},{"$f":"IF('Score Sheet'!V66=\"\",\"R\",IF('Race results'!$C$32>0,ROUND(AVERAGE('Score Sheet'!$J66:V66),1),ROUND(AVERAGE('Score Sheet'!$I66:V66),1)))","v":"R"},{"$f":"IF('Score Sheet'!W66=\"\",\"R\",IF('Race results'!$C$32>0,ROUND(AVERAGE('Score Sheet'!$J66:W66),1),ROUND(AVERAGE('Score Sheet'!$I66:W66),1)))","v":"R"},{"$f":"IF('Score Sheet'!X66=\"\",\"R\",IF('Race results'!$C$32>0,ROUND(AVERAGE('Score Sheet'!$J66:X66),1),ROUND(AVERAGE('Score Sheet'!$I66:X66),1)))","v":"R"},{"$f":"IF('Score Sheet'!Y66=\"\",\"R\",IF('Race results'!$C$32>0,ROUND(AVERAGE('Score Sheet'!$J66:Y66),1),ROUND(AVERAGE('Score Sheet'!$I66:Y66),1)))","v":"R"},{"$f":"IF('Score Sheet'!Z66=\"\",\"R\",IF('Race results'!$C$32>0,ROUND(AVERAGE('Score Sheet'!$J66:Z66),1),ROUND(AVERAGE('Score Sheet'!$I66:Z66),1)))","v":"R"},{"$f":"IF('Score Sheet'!AA66=\"\",\"R\",IF('Race results'!$C$32>0,ROUND(AVERAGE('Score Sheet'!$J66:AA66),1),ROUND(AVERAGE('Score Sheet'!$I66:AA66),1)))","v":"R"},{"$f":"IF('Score Sheet'!AB66=\"\",\"R\",IF('Race results'!$C$32>0,ROUND(AVERAGE('Score Sheet'!$J66:AB66),1),ROUND(AVERAGE('Score Sheet'!$I66:AB66),1)))","v":"R"},{"$f":"IF('Score Sheet'!AC66=\"\",\"R\",IF('Race results'!$C$32>0,ROUND(AVERAGE('Score Sheet'!$J66:AC66),1),ROUND(AVERAGE('Score Sheet'!$I66:AC66),1)))","v":"R"},{"$f":"IF('Score Sheet'!AD66=\"\",\"R\",IF('Race results'!$C$32>0,ROUND(AVERAGE('Score Sheet'!$J66:AD66),1),ROUND(AVERAGE('Score Sheet'!$I66:AD66),1)))","v":"R"},{"$f":"IF('Score Sheet'!AE66=\"\",\"R\",IF('Race results'!$C$32>0,ROUND(AVERAGE('Score Sheet'!$J66:AE66),1),ROUND(AVERAGE('Score Sheet'!$I66:AE66),1)))","v":"R"},{"$f":"IF('Score Sheet'!AF66=\"\",\"R\",IF('Race results'!$C$32>0,ROUND(AVERAGE('Score Sheet'!$J66:AF66),1),ROUND(AVERAGE('Score Sheet'!$I66:AF66),1)))","v":"R"},{"$f":"IF('Score Sheet'!AG66=\"\",\"R\",IF('Race results'!$C$32>0,ROUND(AVERAGE('Score Sheet'!$J66:AG66),1),ROUND(AVERAGE('Score Sheet'!$I66:AG66),1)))","v":"R"},{"$f":"IF('Score Sheet'!AH66=\"\",\"R\",IF('Race results'!$C$32>0,ROUND(AVERAGE('Score Sheet'!$J66:AH66),1),ROUND(AVERAGE('Score Sheet'!$I66:AH66),1)))","v":"R"},{"$f":"IF('Score Sheet'!AI66=\"\",\"R\",IF('Race results'!$C$32>0,ROUND(AVERAGE('Score Sheet'!$J66:AI66),1),ROUND(AVERAGE('Score Sheet'!$I66:AI66),1)))","v":"R"},{"$f":"IF('Score Sheet'!AJ66=\"\",\"R\",IF('Race results'!$C$32>0,ROUND(AVERAGE('Score Sheet'!$J66:AJ66),1),ROUND(AVERAGE('Score Sheet'!$I66:AJ66),1)))","v":"R"},{"$f":"IF('Score Sheet'!AK66=\"\",\"R\",IF('Race results'!$C$32>0,ROUND(AVERAGE('Score Sheet'!$J66:AK66),1),ROUND(AVERAGE('Score Sheet'!$I66:AK66),1)))","v":"R"},{"$f":"IF('Score Sheet'!AL66=\"\",\"R\",IF('Race results'!$C$32>0,ROUND(AVERAGE('Score Sheet'!$J66:AL66),1),ROUND(AVERAGE('Score Sheet'!$I66:AL66),1)))","v":"R"},{"$f":"IF('Score Sheet'!AM66=\"\",\"R\",IF('Race results'!$C$32>0,ROUND(AVERAGE('Score Sheet'!$J66:AM66),1),ROUND(AVERAGE('Score Sheet'!$I66:AM66),1)))","v":"R"},{"$f":"IF('Score Sheet'!AN66=\"\",\"R\",IF('Race results'!$C$32>0,ROUND(AVERAGE('Score Sheet'!$J66:AN66),1),ROUND(AVERAGE('Score Sheet'!$I66:AN66),1)))","v":"R"},{"$f":"IF('Score Sheet'!AO66=\"\",\"R\",IF('Race results'!$C$32>0,ROUND(AVERAGE('Score Sheet'!$J66:AO66),1),ROUND(AVERAGE('Score Sheet'!$I66:AO66),1)))","v":"R"},{"$f":"IF('Score Sheet'!AP66=\"\",\"R\",IF('Race results'!$C$32>0,ROUND(AVERAGE('Score Sheet'!$J66:AP66),1),ROUND(AVERAGE('Score Sheet'!$I66:AP66),1)))","v":"R"},{"$f":"IF('Score Sheet'!AQ66=\"\",\"R\",IF('Race results'!$C$32>0,ROUND(AVERAGE('Score Sheet'!$J66:AQ66),1),ROUND(AVERAGE('Score Sheet'!$I66:AQ66),1)))","v":"R"},{"$f":"IF('Score Sheet'!AR66=\"\",\"R\",IF('Race results'!$C$32>0,ROUND(AVERAGE('Score Sheet'!$J66:AR66),1),ROUND(AVERAGE('Score Sheet'!$I66:AR66),1)))","v":"R"},{"$f":"IF('Score Sheet'!AS66=\"\",\"R\",IF('Race results'!$C$32>0,ROUND(AVERAGE('Score Sheet'!$J66:AS66),1),ROUND(AVERAGE('Score Sheet'!$I66:AS66),1)))","v":"R"},{"$f":"IF('Score Sheet'!AT66=\"\",\"R\",IF('Race results'!$C$32>0,ROUND(AVERAGE('Score Sheet'!$J66:AT66),1),ROUND(AVERAGE('Score Sheet'!$I66:AT66),1)))","v":"R"},{"$f":"IF('Score Sheet'!AU66=\"\",\"R\",IF('Race results'!$C$32>0,ROUND(AVERAGE('Score Sheet'!$J66:AU66),1),ROUND(AVERAGE('Score Sheet'!$I66:AU66),1)))","v":"R"},{"$f":"IF('Score Sheet'!AV66=\"\",\"R\",IF('Race results'!$C$32>0,ROUND(AVERAGE('Score Sheet'!$J66:AV66),1),ROUND(AVERAGE('Score Sheet'!$I66:AV66),1)))","v":"R"},null,"",{"$f":"IF(C66=\"\",\"\",IF('Race results'!$C$7<1, \"E\", IF('Race results'!$C$32>0,IF(COUNT(AY66:CL66)<1,\"R\",ROUND(AVERAGE(AY66:CL66),1)),IF(COUNT(AX66:CL66)<1,\"R\",ROUND(AVERAGE(AX66:CL66),1)))))","v":""},null,null,"","","","","","","","","","","","","","","","","","","","","","","","","","","","","","","","","","","","","","","","",""]
[null,58,{"$f":"IF('Score Sheet'!C67=\"\",\"\",'Score Sheet'!C67)","v":""},{"$f":"'Race results'!$F$159","v":"DAFT!"},{"$f":"'Race results'!$F$159","v":"DAFT!"},{"$f":"IF('Score Sheet'!J67=\"\",\"R\",IF('Race results'!$C$32>0,'Race results'!$F$159,ROUND(AVERAGE('Score Sheet'!$I67:J67),1)))","v":"R"},{"$f":"IF('Score Sheet'!K67=\"\",\"R\",IF('Race results'!$C$32>0,ROUND(AVERAGE('Score Sheet'!$J67:K67),1),ROUND(AVERAGE('Score Sheet'!$I67:K67),1)))","v":"R"},{"$f":"IF('Score Sheet'!L67=\"\",\"R\",IF('Race results'!$C$32>0,ROUND(AVERAGE('Score Sheet'!$J67:L67),1),ROUND(AVERAGE('Score Sheet'!$I67:L67),1)))","v":"R"},{"$f":"IF('Score Sheet'!M67=\"\",\"R\",IF('Race results'!$C$32>0,ROUND(AVERAGE('Score Sheet'!$J67:M67),1),ROUND(AVERAGE('Score Sheet'!$I67:M67),1)))","v":"R"},{"$f":"IF('Score Sheet'!N67=\"\",\"R\",IF('Race results'!$C$32>0,ROUND(AVERAGE('Score Sheet'!$J67:N67),1),ROUND(AVERAGE('Score Sheet'!$I67:N67),1)))","v":"R"},{"$f":"IF('Score Sheet'!O67=\"\",\"R\",IF('Race results'!$C$32>0,ROUND(AVERAGE('Score Sheet'!$J67:O67),1),ROUND(AVERAGE('Score Sheet'!$I67:O67),1)))","v":"R"},{"$f":"IF('Score Sheet'!P67=\"\",\"R\",IF('Race results'!$C$32>0,ROUND(AVERAGE('Score Sheet'!$J67:P67),1),ROUND(AVERAGE('Score Sheet'!$I67:P67),1)))","v":"R"},{"$f":"IF('Score Sheet'!Q67=\"\",\"R\",IF('Race results'!$C$32>0,ROUND(AVERAGE('Score Sheet'!$J67:Q67),1),ROUND(AVERAGE('Score Sheet'!$I67:Q67),1)))","v":"R"},{"$f":"IF('Score Sheet'!R67=\"\",\"R\",IF('Race results'!$C$32>0,ROUND(AVERAGE('Score Sheet'!$J67:R67),1),ROUND(AVERAGE('Score Sheet'!$I67:R67),1)))","v":"R"},{"$f":"IF('Score Sheet'!S67=\"\",\"R\",IF('Race results'!$C$32>0,ROUND(AVERAGE('Score Sheet'!$J67:S67),1),ROUND(AVERAGE('Score Sheet'!$I67:S67),1)))","v":"R"},{"$f":"IF('Score Sheet'!T67=\"\",\"R\",IF('Race results'!$C$32>0,ROUND(AVERAGE('Score Sheet'!$J67:T67),1),ROUND(AVERAGE('Score Sheet'!$I67:T67),1)))","v":"R"},{"$f":"IF('Score Sheet'!U67=\"\",\"R\",IF('Race results'!$C$32>0,ROUND(AVERAGE('Score Sheet'!$J67:U67),1),ROUND(AVERAGE('Score Sheet'!$I67:U67),1)))","v":"R"},{"$f":"IF('Score Sheet'!V67=\"\",\"R\",IF('Race results'!$C$32>0,ROUND(AVERAGE('Score Sheet'!$J67:V67),1),ROUND(AVERAGE('Score Sheet'!$I67:V67),1)))","v":"R"},{"$f":"IF('Score Sheet'!W67=\"\",\"R\",IF('Race results'!$C$32>0,ROUND(AVERAGE('Score Sheet'!$J67:W67),1),ROUND(AVERAGE('Score Sheet'!$I67:W67),1)))","v":"R"},{"$f":"IF('Score Sheet'!X67=\"\",\"R\",IF('Race results'!$C$32>0,ROUND(AVERAGE('Score Sheet'!$J67:X67),1),ROUND(AVERAGE('Score Sheet'!$I67:X67),1)))","v":"R"},{"$f":"IF('Score Sheet'!Y67=\"\",\"R\",IF('Race results'!$C$32>0,ROUND(AVERAGE('Score Sheet'!$J67:Y67),1),ROUND(AVERAGE('Score Sheet'!$I67:Y67),1)))","v":"R"},{"$f":"IF('Score Sheet'!Z67=\"\",\"R\",IF('Race results'!$C$32>0,ROUND(AVERAGE('Score Sheet'!$J67:Z67),1),ROUND(AVERAGE('Score Sheet'!$I67:Z67),1)))","v":"R"},{"$f":"IF('Score Sheet'!AA67=\"\",\"R\",IF('Race results'!$C$32>0,ROUND(AVERAGE('Score Sheet'!$J67:AA67),1),ROUND(AVERAGE('Score Sheet'!$I67:AA67),1)))","v":"R"},{"$f":"IF('Score Sheet'!AB67=\"\",\"R\",IF('Race results'!$C$32>0,ROUND(AVERAGE('Score Sheet'!$J67:AB67),1),ROUND(AVERAGE('Score Sheet'!$I67:AB67),1)))","v":"R"},{"$f":"IF('Score Sheet'!AC67=\"\",\"R\",IF('Race results'!$C$32>0,ROUND(AVERAGE('Score Sheet'!$J67:AC67),1),ROUND(AVERAGE('Score Sheet'!$I67:AC67),1)))","v":"R"},{"$f":"IF('Score Sheet'!AD67=\"\",\"R\",IF('Race results'!$C$32>0,ROUND(AVERAGE('Score Sheet'!$J67:AD67),1),ROUND(AVERAGE('Score Sheet'!$I67:AD67),1)))","v":"R"},{"$f":"IF('Score Sheet'!AE67=\"\",\"R\",IF('Race results'!$C$32>0,ROUND(AVERAGE('Score Sheet'!$J67:AE67),1),ROUND(AVERAGE('Score Sheet'!$I67:AE67),1)))","v":"R"},{"$f":"IF('Score Sheet'!AF67=\"\",\"R\",IF('Race results'!$C$32>0,ROUND(AVERAGE('Score Sheet'!$J67:AF67),1),ROUND(AVERAGE('Score Sheet'!$I67:AF67),1)))","v":"R"},{"$f":"IF('Score Sheet'!AG67=\"\",\"R\",IF('Race results'!$C$32>0,ROUND(AVERAGE('Score Sheet'!$J67:AG67),1),ROUND(AVERAGE('Score Sheet'!$I67:AG67),1)))","v":"R"},{"$f":"IF('Score Sheet'!AH67=\"\",\"R\",IF('Race results'!$C$32>0,ROUND(AVERAGE('Score Sheet'!$J67:AH67),1),ROUND(AVERAGE('Score Sheet'!$I67:AH67),1)))","v":"R"},{"$f":"IF('Score Sheet'!AI67=\"\",\"R\",IF('Race results'!$C$32>0,ROUND(AVERAGE('Score Sheet'!$J67:AI67),1),ROUND(AVERAGE('Score Sheet'!$I67:AI67),1)))","v":"R"},{"$f":"IF('Score Sheet'!AJ67=\"\",\"R\",IF('Race results'!$C$32>0,ROUND(AVERAGE('Score Sheet'!$J67:AJ67),1),ROUND(AVERAGE('Score Sheet'!$I67:AJ67),1)))","v":"R"},{"$f":"IF('Score Sheet'!AK67=\"\",\"R\",IF('Race results'!$C$32>0,ROUND(AVERAGE('Score Sheet'!$J67:AK67),1),ROUND(AVERAGE('Score Sheet'!$I67:AK67),1)))","v":"R"},{"$f":"IF('Score Sheet'!AL67=\"\",\"R\",IF('Race results'!$C$32>0,ROUND(AVERAGE('Score Sheet'!$J67:AL67),1),ROUND(AVERAGE('Score Sheet'!$I67:AL67),1)))","v":"R"},{"$f":"IF('Score Sheet'!AM67=\"\",\"R\",IF('Race results'!$C$32>0,ROUND(AVERAGE('Score Sheet'!$J67:AM67),1),ROUND(AVERAGE('Score Sheet'!$I67:AM67),1)))","v":"R"},{"$f":"IF('Score Sheet'!AN67=\"\",\"R\",IF('Race results'!$C$32>0,ROUND(AVERAGE('Score Sheet'!$J67:AN67),1),ROUND(AVERAGE('Score Sheet'!$I67:AN67),1)))","v":"R"},{"$f":"IF('Score Sheet'!AO67=\"\",\"R\",IF('Race results'!$C$32>0,ROUND(AVERAGE('Score Sheet'!$J67:AO67),1),ROUND(AVERAGE('Score Sheet'!$I67:AO67),1)))","v":"R"},{"$f":"IF('Score Sheet'!AP67=\"\",\"R\",IF('Race results'!$C$32>0,ROUND(AVERAGE('Score Sheet'!$J67:AP67),1),ROUND(AVERAGE('Score Sheet'!$I67:AP67),1)))","v":"R"},{"$f":"IF('Score Sheet'!AQ67=\"\",\"R\",IF('Race results'!$C$32>0,ROUND(AVERAGE('Score Sheet'!$J67:AQ67),1),ROUND(AVERAGE('Score Sheet'!$I67:AQ67),1)))","v":"R"},{"$f":"IF('Score Sheet'!AR67=\"\",\"R\",IF('Race results'!$C$32>0,ROUND(AVERAGE('Score Sheet'!$J67:AR67),1),ROUND(AVERAGE('Score Sheet'!$I67:AR67),1)))","v":"R"},{"$f":"IF('Score Sheet'!AS67=\"\",\"R\",IF('Race results'!$C$32>0,ROUND(AVERAGE('Score Sheet'!$J67:AS67),1),ROUND(AVERAGE('Score Sheet'!$I67:AS67),1)))","v":"R"},{"$f":"IF('Score Sheet'!AT67=\"\",\"R\",IF('Race results'!$C$32>0,ROUND(AVERAGE('Score Sheet'!$J67:AT67),1),ROUND(AVERAGE('Score Sheet'!$I67:AT67),1)))","v":"R"},{"$f":"IF('Score Sheet'!AU67=\"\",\"R\",IF('Race results'!$C$32>0,ROUND(AVERAGE('Score Sheet'!$J67:AU67),1),ROUND(AVERAGE('Score Sheet'!$I67:AU67),1)))","v":"R"},{"$f":"IF('Score Sheet'!AV67=\"\",\"R\",IF('Race results'!$C$32>0,ROUND(AVERAGE('Score Sheet'!$J67:AV67),1),ROUND(AVERAGE('Score Sheet'!$I67:AV67),1)))","v":"R"},null,"",{"$f":"IF(C67=\"\",\"\",IF('Race results'!$C$7<1, \"E\", IF('Race results'!$C$32>0,IF(COUNT(AY67:CL67)<1,\"R\",ROUND(AVERAGE(AY67:CL67),1)),IF(COUNT(AX67:CL67)<1,\"R\",ROUND(AVERAGE(AX67:CL67),1)))))","v":""},null,null,"","","","","","","","","","","","","","","","","","","","","","","","","","","","","","","","","","","","","","","","",""]
[null,59,{"$f":"IF('Score Sheet'!C68=\"\",\"\",'Score Sheet'!C68)","v":""},{"$f":"'Race results'!$F$159","v":"DAFT!"},{"$f":"'Race results'!$F$159","v":"DAFT!"},{"$f":"IF('Score Sheet'!J68=\"\",\"R\",IF('Race results'!$C$32>0,'Race results'!$F$159,ROUND(AVERAGE('Score Sheet'!$I68:J68),1)))","v":"R"},{"$f":"IF('Score Sheet'!K68=\"\",\"R\",IF('Race results'!$C$32>0,ROUND(AVERAGE('Score Sheet'!$J68:K68),1),ROUND(AVERAGE('Score Sheet'!$I68:K68),1)))","v":"R"},{"$f":"IF('Score Sheet'!L68=\"\",\"R\",IF('Race results'!$C$32>0,ROUND(AVERAGE('Score Sheet'!$J68:L68),1),ROUND(AVERAGE('Score Sheet'!$I68:L68),1)))","v":"R"},{"$f":"IF('Score Sheet'!M68=\"\",\"R\",IF('Race results'!$C$32>0,ROUND(AVERAGE('Score Sheet'!$J68:M68),1),ROUND(AVERAGE('Score Sheet'!$I68:M68),1)))","v":"R"},{"$f":"IF('Score Sheet'!N68=\"\",\"R\",IF('Race results'!$C$32>0,ROUND(AVERAGE('Score Sheet'!$J68:N68),1),ROUND(AVERAGE('Score Sheet'!$I68:N68),1)))","v":"R"},{"$f":"IF('Score Sheet'!O68=\"\",\"R\",IF('Race results'!$C$32>0,ROUND(AVERAGE('Score Sheet'!$J68:O68),1),ROUND(AVERAGE('Score Sheet'!$I68:O68),1)))","v":"R"},{"$f":"IF('Score Sheet'!P68=\"\",\"R\",IF('Race results'!$C$32>0,ROUND(AVERAGE('Score Sheet'!$J68:P68),1),ROUND(AVERAGE('Score Sheet'!$I68:P68),1)))","v":"R"},{"$f":"IF('Score Sheet'!Q68=\"\",\"R\",IF('Race results'!$C$32>0,ROUND(AVERAGE('Score Sheet'!$J68:Q68),1),ROUND(AVERAGE('Score Sheet'!$I68:Q68),1)))","v":"R"},{"$f":"IF('Score Sheet'!R68=\"\",\"R\",IF('Race results'!$C$32>0,ROUND(AVERAGE('Score Sheet'!$J68:R68),1),ROUND(AVERAGE('Score Sheet'!$I68:R68),1)))","v":"R"},{"$f":"IF('Score Sheet'!S68=\"\",\"R\",IF('Race results'!$C$32>0,ROUND(AVERAGE('Score Sheet'!$J68:S68),1),ROUND(AVERAGE('Score Sheet'!$I68:S68),1)))","v":"R"},{"$f":"IF('Score Sheet'!T68=\"\",\"R\",IF('Race results'!$C$32>0,ROUND(AVERAGE('Score Sheet'!$J68:T68),1),ROUND(AVERAGE('Score Sheet'!$I68:T68),1)))","v":"R"},{"$f":"IF('Score Sheet'!U68=\"\",\"R\",IF('Race results'!$C$32>0,ROUND(AVERAGE('Score Sheet'!$J68:U68),1),ROUND(AVERAGE('Score Sheet'!$I68:U68),1)))","v":"R"},{"$f":"IF('Score Sheet'!V68=\"\",\"R\",IF('Race results'!$C$32>0,ROUND(AVERAGE('Score Sheet'!$J68:V68),1),ROUND(AVERAGE('Score Sheet'!$I68:V68),1)))","v":"R"},{"$f":"IF('Score Sheet'!W68=\"\",\"R\",IF('Race results'!$C$32>0,ROUND(AVERAGE('Score Sheet'!$J68:W68),1),ROUND(AVERAGE('Score Sheet'!$I68:W68),1)))","v":"R"},{"$f":"IF('Score Sheet'!X68=\"\",\"R\",IF('Race results'!$C$32>0,ROUND(AVERAGE('Score Sheet'!$J68:X68),1),ROUND(AVERAGE('Score Sheet'!$I68:X68),1)))","v":"R"},{"$f":"IF('Score Sheet'!Y68=\"\",\"R\",IF('Race results'!$C$32>0,ROUND(AVERAGE('Score Sheet'!$J68:Y68),1),ROUND(AVERAGE('Score Sheet'!$I68:Y68),1)))","v":"R"},{"$f":"IF('Score Sheet'!Z68=\"\",\"R\",IF('Race results'!$C$32>0,ROUND(AVERAGE('Score Sheet'!$J68:Z68),1),ROUND(AVERAGE('Score Sheet'!$I68:Z68),1)))","v":"R"},{"$f":"IF('Score Sheet'!AA68=\"\",\"R\",IF('Race results'!$C$32>0,ROUND(AVERAGE('Score Sheet'!$J68:AA68),1),ROUND(AVERAGE('Score Sheet'!$I68:AA68),1)))","v":"R"},{"$f":"IF('Score Sheet'!AB68=\"\",\"R\",IF('Race results'!$C$32>0,ROUND(AVERAGE('Score Sheet'!$J68:AB68),1),ROUND(AVERAGE('Score Sheet'!$I68:AB68),1)))","v":"R"},{"$f":"IF('Score Sheet'!AC68=\"\",\"R\",IF('Race results'!$C$32>0,ROUND(AVERAGE('Score Sheet'!$J68:AC68),1),ROUND(AVERAGE('Score Sheet'!$I68:AC68),1)))","v":"R"},{"$f":"IF('Score Sheet'!AD68=\"\",\"R\",IF('Race results'!$C$32>0,ROUND(AVERAGE('Score Sheet'!$J68:AD68),1),ROUND(AVERAGE('Score Sheet'!$I68:AD68),1)))","v":"R"},{"$f":"IF('Score Sheet'!AE68=\"\",\"R\",IF('Race results'!$C$32>0,ROUND(AVERAGE('Score Sheet'!$J68:AE68),1),ROUND(AVERAGE('Score Sheet'!$I68:AE68),1)))","v":"R"},{"$f":"IF('Score Sheet'!AF68=\"\",\"R\",IF('Race results'!$C$32>0,ROUND(AVERAGE('Score Sheet'!$J68:AF68),1),ROUND(AVERAGE('Score Sheet'!$I68:AF68),1)))","v":"R"},{"$f":"IF('Score Sheet'!AG68=\"\",\"R\",IF('Race results'!$C$32>0,ROUND(AVERAGE('Score Sheet'!$J68:AG68),1),ROUND(AVERAGE('Score Sheet'!$I68:AG68),1)))","v":"R"},{"$f":"IF('Score Sheet'!AH68=\"\",\"R\",IF('Race results'!$C$32>0,ROUND(AVERAGE('Score Sheet'!$J68:AH68),1),ROUND(AVERAGE('Score Sheet'!$I68:AH68),1)))","v":"R"},{"$f":"IF('Score Sheet'!AI68=\"\",\"R\",IF('Race results'!$C$32>0,ROUND(AVERAGE('Score Sheet'!$J68:AI68),1),ROUND(AVERAGE('Score Sheet'!$I68:AI68),1)))","v":"R"},{"$f":"IF('Score Sheet'!AJ68=\"\",\"R\",IF('Race results'!$C$32>0,ROUND(AVERAGE('Score Sheet'!$J68:AJ68),1),ROUND(AVERAGE('Score Sheet'!$I68:AJ68),1)))","v":"R"},{"$f":"IF('Score Sheet'!AK68=\"\",\"R\",IF('Race results'!$C$32>0,ROUND(AVERAGE('Score Sheet'!$J68:AK68),1),ROUND(AVERAGE('Score Sheet'!$I68:AK68),1)))","v":"R"},{"$f":"IF('Score Sheet'!AL68=\"\",\"R\",IF('Race results'!$C$32>0,ROUND(AVERAGE('Score Sheet'!$J68:AL68),1),ROUND(AVERAGE('Score Sheet'!$I68:AL68),1)))","v":"R"},{"$f":"IF('Score Sheet'!AM68=\"\",\"R\",IF('Race results'!$C$32>0,ROUND(AVERAGE('Score Sheet'!$J68:AM68),1),ROUND(AVERAGE('Score Sheet'!$I68:AM68),1)))","v":"R"},{"$f":"IF('Score Sheet'!AN68=\"\",\"R\",IF('Race results'!$C$32>0,ROUND(AVERAGE('Score Sheet'!$J68:AN68),1),ROUND(AVERAGE('Score Sheet'!$I68:AN68),1)))","v":"R"},{"$f":"IF('Score Sheet'!AO68=\"\",\"R\",IF('Race results'!$C$32>0,ROUND(AVERAGE('Score Sheet'!$J68:AO68),1),ROUND(AVERAGE('Score Sheet'!$I68:AO68),1)))","v":"R"},{"$f":"IF('Score Sheet'!AP68=\"\",\"R\",IF('Race results'!$C$32>0,ROUND(AVERAGE('Score Sheet'!$J68:AP68),1),ROUND(AVERAGE('Score Sheet'!$I68:AP68),1)))","v":"R"},{"$f":"IF('Score Sheet'!AQ68=\"\",\"R\",IF('Race results'!$C$32>0,ROUND(AVERAGE('Score Sheet'!$J68:AQ68),1),ROUND(AVERAGE('Score Sheet'!$I68:AQ68),1)))","v":"R"},{"$f":"IF('Score Sheet'!AR68=\"\",\"R\",IF('Race results'!$C$32>0,ROUND(AVERAGE('Score Sheet'!$J68:AR68),1),ROUND(AVERAGE('Score Sheet'!$I68:AR68),1)))","v":"R"},{"$f":"IF('Score Sheet'!AS68=\"\",\"R\",IF('Race results'!$C$32>0,ROUND(AVERAGE('Score Sheet'!$J68:AS68),1),ROUND(AVERAGE('Score Sheet'!$I68:AS68),1)))","v":"R"},{"$f":"IF('Score Sheet'!AT68=\"\",\"R\",IF('Race results'!$C$32>0,ROUND(AVERAGE('Score Sheet'!$J68:AT68),1),ROUND(AVERAGE('Score Sheet'!$I68:AT68),1)))","v":"R"},{"$f":"IF('Score Sheet'!AU68=\"\",\"R\",IF('Race results'!$C$32>0,ROUND(AVERAGE('Score Sheet'!$J68:AU68),1),ROUND(AVERAGE('Score Sheet'!$I68:AU68),1)))","v":"R"},{"$f":"IF('Score Sheet'!AV68=\"\",\"R\",IF('Race results'!$C$32>0,ROUND(AVERAGE('Score Sheet'!$J68:AV68),1),ROUND(AVERAGE('Score Sheet'!$I68:AV68),1)))","v":"R"},null,"",{"$f":"IF(C68=\"\",\"\",IF('Race results'!$C$7<1, \"E\", IF('Race results'!$C$32>0,IF(COUNT(AY68:CL68)<1,\"R\",ROUND(AVERAGE(AY68:CL68),1)),IF(COUNT(AX68:CL68)<1,\"R\",ROUND(AVERAGE(AX68:CL68),1)))))","v":""},null,null,"","","","","","","","","","","","","","","","","","","","","","","","","","","","","","","","","","","","","","","","",""]
[null,60,{"$f":"IF('Score Sheet'!C69=\"\",\"\",'Score Sheet'!C69)","v":""},{"$f":"'Race results'!$F$159","v":"DAFT!"},{"$f":"'Race results'!$F$159","v":"DAFT!"},{"$f":"IF('Score Sheet'!J69=\"\",\"R\",IF('Race results'!$C$32>0,'Race results'!$F$159,ROUND(AVERAGE('Score Sheet'!$I69:J69),1)))","v":"R"},{"$f":"IF('Score Sheet'!K69=\"\",\"R\",IF('Race results'!$C$32>0,ROUND(AVERAGE('Score Sheet'!$J69:K69),1),ROUND(AVERAGE('Score Sheet'!$I69:K69),1)))","v":"R"},{"$f":"IF('Score Sheet'!L69=\"\",\"R\",IF('Race results'!$C$32>0,ROUND(AVERAGE('Score Sheet'!$J69:L69),1),ROUND(AVERAGE('Score Sheet'!$I69:L69),1)))","v":"R"},{"$f":"IF('Score Sheet'!M69=\"\",\"R\",IF('Race results'!$C$32>0,ROUND(AVERAGE('Score Sheet'!$J69:M69),1),ROUND(AVERAGE('Score Sheet'!$I69:M69),1)))","v":"R"},{"$f":"IF('Score Sheet'!N69=\"\",\"R\",IF('Race results'!$C$32>0,ROUND(AVERAGE('Score Sheet'!$J69:N69),1),ROUND(AVERAGE('Score Sheet'!$I69:N69),1)))","v":"R"},{"$f":"IF('Score Sheet'!O69=\"\",\"R\",IF('Race results'!$C$32>0,ROUND(AVERAGE('Score Sheet'!$J69:O69),1),ROUND(AVERAGE('Score Sheet'!$I69:O69),1)))","v":"R"},{"$f":"IF('Score Sheet'!P69=\"\",\"R\",IF('Race results'!$C$32>0,ROUND(AVERAGE('Score Sheet'!$J69:P69),1),ROUND(AVERAGE('Score Sheet'!$I69:P69),1)))","v":"R"},{"$f":"IF('Score Sheet'!Q69=\"\",\"R\",IF('Race results'!$C$32>0,ROUND(AVERAGE('Score Sheet'!$J69:Q69),1),ROUND(AVERAGE('Score Sheet'!$I69:Q69),1)))","v":"R"},{"$f":"IF('Score Sheet'!R69=\"\",\"R\",IF('Race results'!$C$32>0,ROUND(AVERAGE('Score Sheet'!$J69:R69),1),ROUND(AVERAGE('Score Sheet'!$I69:R69),1)))","v":"R"},{"$f":"IF('Score Sheet'!S69=\"\",\"R\",IF('Race results'!$C$32>0,ROUND(AVERAGE('Score Sheet'!$J69:S69),1),ROUND(AVERAGE('Score Sheet'!$I69:S69),1)))","v":"R"},{"$f":"IF('Score Sheet'!T69=\"\",\"R\",IF('Race results'!$C$32>0,ROUND(AVERAGE('Score Sheet'!$J69:T69),1),ROUND(AVERAGE('Score Sheet'!$I69:T69),1)))","v":"R"},{"$f":"IF('Score Sheet'!U69=\"\",\"R\",IF('Race results'!$C$32>0,ROUND(AVERAGE('Score Sheet'!$J69:U69),1),ROUND(AVERAGE('Score Sheet'!$I69:U69),1)))","v":"R"},{"$f":"IF('Score Sheet'!V69=\"\",\"R\",IF('Race results'!$C$32>0,ROUND(AVERAGE('Score Sheet'!$J69:V69),1),ROUND(AVERAGE('Score Sheet'!$I69:V69),1)))","v":"R"},{"$f":"IF('Score Sheet'!W69=\"\",\"R\",IF('Race results'!$C$32>0,ROUND(AVERAGE('Score Sheet'!$J69:W69),1),ROUND(AVERAGE('Score Sheet'!$I69:W69),1)))","v":"R"},{"$f":"IF('Score Sheet'!X69=\"\",\"R\",IF('Race results'!$C$32>0,ROUND(AVERAGE('Score Sheet'!$J69:X69),1),ROUND(AVERAGE('Score Sheet'!$I69:X69),1)))","v":"R"},{"$f":"IF('Score Sheet'!Y69=\"\",\"R\",IF('Race results'!$C$32>0,ROUND(AVERAGE('Score Sheet'!$J69:Y69),1),ROUND(AVERAGE('Score Sheet'!$I69:Y69),1)))","v":"R"},{"$f":"IF('Score Sheet'!Z69=\"\",\"R\",IF('Race results'!$C$32>0,ROUND(AVERAGE('Score Sheet'!$J69:Z69),1),ROUND(AVERAGE('Score Sheet'!$I69:Z69),1)))","v":"R"},{"$f":"IF('Score Sheet'!AA69=\"\",\"R\",IF('Race results'!$C$32>0,ROUND(AVERAGE('Score Sheet'!$J69:AA69),1),ROUND(AVERAGE('Score Sheet'!$I69:AA69),1)))","v":"R"},{"$f":"IF('Score Sheet'!AB69=\"\",\"R\",IF('Race results'!$C$32>0,ROUND(AVERAGE('Score Sheet'!$J69:AB69),1),ROUND(AVERAGE('Score Sheet'!$I69:AB69),1)))","v":"R"},{"$f":"IF('Score Sheet'!AC69=\"\",\"R\",IF('Race results'!$C$32>0,ROUND(AVERAGE('Score Sheet'!$J69:AC69),1),ROUND(AVERAGE('Score Sheet'!$I69:AC69),1)))","v":"R"},{"$f":"IF('Score Sheet'!AD69=\"\",\"R\",IF('Race results'!$C$32>0,ROUND(AVERAGE('Score Sheet'!$J69:AD69),1),ROUND(AVERAGE('Score Sheet'!$I69:AD69),1)))","v":"R"},{"$f":"IF('Score Sheet'!AE69=\"\",\"R\",IF('Race results'!$C$32>0,ROUND(AVERAGE('Score Sheet'!$J69:AE69),1),ROUND(AVERAGE('Score Sheet'!$I69:AE69),1)))","v":"R"},{"$f":"IF('Score Sheet'!AF69=\"\",\"R\",IF('Race results'!$C$32>0,ROUND(AVERAGE('Score Sheet'!$J69:AF69),1),ROUND(AVERAGE('Score Sheet'!$I69:AF69),1)))","v":"R"},{"$f":"IF('Score Sheet'!AG69=\"\",\"R\",IF('Race results'!$C$32>0,ROUND(AVERAGE('Score Sheet'!$J69:AG69),1),ROUND(AVERAGE('Score Sheet'!$I69:AG69),1)))","v":"R"},{"$f":"IF('Score Sheet'!AH69=\"\",\"R\",IF('Race results'!$C$32>0,ROUND(AVERAGE('Score Sheet'!$J69:AH69),1),ROUND(AVERAGE('Score Sheet'!$I69:AH69),1)))","v":"R"},{"$f":"IF('Score Sheet'!AI69=\"\",\"R\",IF('Race results'!$C$32>0,ROUND(AVERAGE('Score Sheet'!$J69:AI69),1),ROUND(AVERAGE('Score Sheet'!$I69:AI69),1)))","v":"R"},{"$f":"IF('Score Sheet'!AJ69=\"\",\"R\",IF('Race results'!$C$32>0,ROUND(AVERAGE('Score Sheet'!$J69:AJ69),1),ROUND(AVERAGE('Score Sheet'!$I69:AJ69),1)))","v":"R"},{"$f":"IF('Score Sheet'!AK69=\"\",\"R\",IF('Race results'!$C$32>0,ROUND(AVERAGE('Score Sheet'!$J69:AK69),1),ROUND(AVERAGE('Score Sheet'!$I69:AK69),1)))","v":"R"},{"$f":"IF('Score Sheet'!AL69=\"\",\"R\",IF('Race results'!$C$32>0,ROUND(AVERAGE('Score Sheet'!$J69:AL69),1),ROUND(AVERAGE('Score Sheet'!$I69:AL69),1)))","v":"R"},{"$f":"IF('Score Sheet'!AM69=\"\",\"R\",IF('Race results'!$C$32>0,ROUND(AVERAGE('Score Sheet'!$J69:AM69),1),ROUND(AVERAGE('Score Sheet'!$I69:AM69),1)))","v":"R"},{"$f":"IF('Score Sheet'!AN69=\"\",\"R\",IF('Race results'!$C$32>0,ROUND(AVERAGE('Score Sheet'!$J69:AN69),1),ROUND(AVERAGE('Score Sheet'!$I69:AN69),1)))","v":"R"},{"$f":"IF('Score Sheet'!AO69=\"\",\"R\",IF('Race results'!$C$32>0,ROUND(AVERAGE('Score Sheet'!$J69:AO69),1),ROUND(AVERAGE('Score Sheet'!$I69:AO69),1)))","v":"R"},{"$f":"IF('Score Sheet'!AP69=\"\",\"R\",IF('Race results'!$C$32>0,ROUND(AVERAGE('Score Sheet'!$J69:AP69),1),ROUND(AVERAGE('Score Sheet'!$I69:AP69),1)))","v":"R"},{"$f":"IF('Score Sheet'!AQ69=\"\",\"R\",IF('Race results'!$C$32>0,ROUND(AVERAGE('Score Sheet'!$J69:AQ69),1),ROUND(AVERAGE('Score Sheet'!$I69:AQ69),1)))","v":"R"},{"$f":"IF('Score Sheet'!AR69=\"\",\"R\",IF('Race results'!$C$32>0,ROUND(AVERAGE('Score Sheet'!$J69:AR69),1),ROUND(AVERAGE('Score Sheet'!$I69:AR69),1)))","v":"R"},{"$f":"IF('Score Sheet'!AS69=\"\",\"R\",IF('Race results'!$C$32>0,ROUND(AVERAGE('Score Sheet'!$J69:AS69),1),ROUND(AVERAGE('Score Sheet'!$I69:AS69),1)))","v":"R"},{"$f":"IF('Score Sheet'!AT69=\"\",\"R\",IF('Race results'!$C$32>0,ROUND(AVERAGE('Score Sheet'!$J69:AT69),1),ROUND(AVERAGE('Score Sheet'!$I69:AT69),1)))","v":"R"},{"$f":"IF('Score Sheet'!AU69=\"\",\"R\",IF('Race results'!$C$32>0,ROUND(AVERAGE('Score Sheet'!$J69:AU69),1),ROUND(AVERAGE('Score Sheet'!$I69:AU69),1)))","v":"R"},{"$f":"IF('Score Sheet'!AV69=\"\",\"R\",IF('Race results'!$C$32>0,ROUND(AVERAGE('Score Sheet'!$J69:AV69),1),ROUND(AVERAGE('Score Sheet'!$I69:AV69),1)))","v":"R"},null,"",{"$f":"IF(C69=\"\",\"\",IF('Race results'!$C$7<1, \"E\", IF('Race results'!$C$32>0,IF(COUNT(AY69:CL69)<1,\"R\",ROUND(AVERAGE(AY69:CL69),1)),IF(COUNT(AX69:CL69)<1,\"R\",ROUND(AVERAGE(AX69:CL69),1)))))","v":""},null,null,"","","","","","","","","","","","","","","","","","","","","","","","","","","","","","","","","","","","","","","","",""]
[null,61,{"$f":"IF('Score Sheet'!C70=\"\",\"\",'Score Sheet'!C70)","v":""},{"$f":"'Race results'!$F$159","v":"DAFT!"},{"$f":"'Race results'!$F$159","v":"DAFT!"},{"$f":"IF('Score Sheet'!J70=\"\",\"R\",IF('Race results'!$C$32>0,'Race results'!$F$159,ROUND(AVERAGE('Score Sheet'!$I70:J70),1)))","v":"R"},{"$f":"IF('Score Sheet'!K70=\"\",\"R\",IF('Race results'!$C$32>0,ROUND(AVERAGE('Score Sheet'!$J70:K70),1),ROUND(AVERAGE('Score Sheet'!$I70:K70),1)))","v":"R"},{"$f":"IF('Score Sheet'!L70=\"\",\"R\",IF('Race results'!$C$32>0,ROUND(AVERAGE('Score Sheet'!$J70:L70),1),ROUND(AVERAGE('Score Sheet'!$I70:L70),1)))","v":"R"},{"$f":"IF('Score Sheet'!M70=\"\",\"R\",IF('Race results'!$C$32>0,ROUND(AVERAGE('Score Sheet'!$J70:M70),1),ROUND(AVERAGE('Score Sheet'!$I70:M70),1)))","v":"R"},{"$f":"IF('Score Sheet'!N70=\"\",\"R\",IF('Race results'!$C$32>0,ROUND(AVERAGE('Score Sheet'!$J70:N70),1),ROUND(AVERAGE('Score Sheet'!$I70:N70),1)))","v":"R"},{"$f":"IF('Score Sheet'!O70=\"\",\"R\",IF('Race results'!$C$32>0,ROUND(AVERAGE('Score Sheet'!$J70:O70),1),ROUND(AVERAGE('Score Sheet'!$I70:O70),1)))","v":"R"},{"$f":"IF('Score Sheet'!P70=\"\",\"R\",IF('Race results'!$C$32>0,ROUND(AVERAGE('Score Sheet'!$J70:P70),1),ROUND(AVERAGE('Score Sheet'!$I70:P70),1)))","v":"R"},{"$f":"IF('Score Sheet'!Q70=\"\",\"R\",IF('Race results'!$C$32>0,ROUND(AVERAGE('Score Sheet'!$J70:Q70),1),ROUND(AVERAGE('Score Sheet'!$I70:Q70),1)))","v":"R"},{"$f":"IF('Score Sheet'!R70=\"\",\"R\",IF('Race results'!$C$32>0,ROUND(AVERAGE('Score Sheet'!$J70:R70),1),ROUND(AVERAGE('Score Sheet'!$I70:R70),1)))","v":"R"},{"$f":"IF('Score Sheet'!S70=\"\",\"R\",IF('Race results'!$C$32>0,ROUND(AVERAGE('Score Sheet'!$J70:S70),1),ROUND(AVERAGE('Score Sheet'!$I70:S70),1)))","v":"R"},{"$f":"IF('Score Sheet'!T70=\"\",\"R\",IF('Race results'!$C$32>0,ROUND(AVERAGE('Score Sheet'!$J70:T70),1),ROUND(AVERAGE('Score Sheet'!$I70:T70),1)))","v":"R"},{"$f":"IF('Score Sheet'!U70=\"\",\"R\",IF('Race results'!$C$32>0,ROUND(AVERAGE('Score Sheet'!$J70:U70),1),ROUND(AVERAGE('Score Sheet'!$I70:U70),1)))","v":"R"},{"$f":"IF('Score Sheet'!V70=\"\",\"R\",IF('Race results'!$C$32>0,ROUND(AVERAGE('Score Sheet'!$J70:V70),1),ROUND(AVERAGE('Score Sheet'!$I70:V70),1)))","v":"R"},{"$f":"IF('Score Sheet'!W70=\"\",\"R\",IF('Race results'!$C$32>0,ROUND(AVERAGE('Score Sheet'!$J70:W70),1),ROUND(AVERAGE('Score Sheet'!$I70:W70),1)))","v":"R"},{"$f":"IF('Score Sheet'!X70=\"\",\"R\",IF('Race results'!$C$32>0,ROUND(AVERAGE('Score Sheet'!$J70:X70),1),ROUND(AVERAGE('Score Sheet'!$I70:X70),1)))","v":"R"},{"$f":"IF('Score Sheet'!Y70=\"\",\"R\",IF('Race results'!$C$32>0,ROUND(AVERAGE('Score Sheet'!$J70:Y70),1),ROUND(AVERAGE('Score Sheet'!$I70:Y70),1)))","v":"R"},{"$f":"IF('Score Sheet'!Z70=\"\",\"R\",IF('Race results'!$C$32>0,ROUND(AVERAGE('Score Sheet'!$J70:Z70),1),ROUND(AVERAGE('Score Sheet'!$I70:Z70),1)))","v":"R"},{"$f":"IF('Score Sheet'!AA70=\"\",\"R\",IF('Race results'!$C$32>0,ROUND(AVERAGE('Score Sheet'!$J70:AA70),1),ROUND(AVERAGE('Score Sheet'!$I70:AA70),1)))","v":"R"},{"$f":"IF('Score Sheet'!AB70=\"\",\"R\",IF('Race results'!$C$32>0,ROUND(AVERAGE('Score Sheet'!$J70:AB70),1),ROUND(AVERAGE('Score Sheet'!$I70:AB70),1)))","v":"R"},{"$f":"IF('Score Sheet'!AC70=\"\",\"R\",IF('Race results'!$C$32>0,ROUND(AVERAGE('Score Sheet'!$J70:AC70),1),ROUND(AVERAGE('Score Sheet'!$I70:AC70),1)))","v":"R"},{"$f":"IF('Score Sheet'!AD70=\"\",\"R\",IF('Race results'!$C$32>0,ROUND(AVERAGE('Score Sheet'!$J70:AD70),1),ROUND(AVERAGE('Score Sheet'!$I70:AD70),1)))","v":"R"},{"$f":"IF('Score Sheet'!AE70=\"\",\"R\",IF('Race results'!$C$32>0,ROUND(AVERAGE('Score Sheet'!$J70:AE70),1),ROUND(AVERAGE('Score Sheet'!$I70:AE70),1)))","v":"R"},{"$f":"IF('Score Sheet'!AF70=\"\",\"R\",IF('Race results'!$C$32>0,ROUND(AVERAGE('Score Sheet'!$J70:AF70),1),ROUND(AVERAGE('Score Sheet'!$I70:AF70),1)))","v":"R"},{"$f":"IF('Score Sheet'!AG70=\"\",\"R\",IF('Race results'!$C$32>0,ROUND(AVERAGE('Score Sheet'!$J70:AG70),1),ROUND(AVERAGE('Score Sheet'!$I70:AG70),1)))","v":"R"},{"$f":"IF('Score Sheet'!AH70=\"\",\"R\",IF('Race results'!$C$32>0,ROUND(AVERAGE('Score Sheet'!$J70:AH70),1),ROUND(AVERAGE('Score Sheet'!$I70:AH70),1)))","v":"R"},{"$f":"IF('Score Sheet'!AI70=\"\",\"R\",IF('Race results'!$C$32>0,ROUND(AVERAGE('Score Sheet'!$J70:AI70),1),ROUND(AVERAGE('Score Sheet'!$I70:AI70),1)))","v":"R"},{"$f":"IF('Score Sheet'!AJ70=\"\",\"R\",IF('Race results'!$C$32>0,ROUND(AVERAGE('Score Sheet'!$J70:AJ70),1),ROUND(AVERAGE('Score Sheet'!$I70:AJ70),1)))","v":"R"},{"$f":"IF('Score Sheet'!AK70=\"\",\"R\",IF('Race results'!$C$32>0,ROUND(AVERAGE('Score Sheet'!$J70:AK70),1),ROUND(AVERAGE('Score Sheet'!$I70:AK70),1)))","v":"R"},{"$f":"IF('Score Sheet'!AL70=\"\",\"R\",IF('Race results'!$C$32>0,ROUND(AVERAGE('Score Sheet'!$J70:AL70),1),ROUND(AVERAGE('Score Sheet'!$I70:AL70),1)))","v":"R"},{"$f":"IF('Score Sheet'!AM70=\"\",\"R\",IF('Race results'!$C$32>0,ROUND(AVERAGE('Score Sheet'!$J70:AM70),1),ROUND(AVERAGE('Score Sheet'!$I70:AM70),1)))","v":"R"},{"$f":"IF('Score Sheet'!AN70=\"\",\"R\",IF('Race results'!$C$32>0,ROUND(AVERAGE('Score Sheet'!$J70:AN70),1),ROUND(AVERAGE('Score Sheet'!$I70:AN70),1)))","v":"R"},{"$f":"IF('Score Sheet'!AO70=\"\",\"R\",IF('Race results'!$C$32>0,ROUND(AVERAGE('Score Sheet'!$J70:AO70),1),ROUND(AVERAGE('Score Sheet'!$I70:AO70),1)))","v":"R"},{"$f":"IF('Score Sheet'!AP70=\"\",\"R\",IF('Race results'!$C$32>0,ROUND(AVERAGE('Score Sheet'!$J70:AP70),1),ROUND(AVERAGE('Score Sheet'!$I70:AP70),1)))","v":"R"},{"$f":"IF('Score Sheet'!AQ70=\"\",\"R\",IF('Race results'!$C$32>0,ROUND(AVERAGE('Score Sheet'!$J70:AQ70),1),ROUND(AVERAGE('Score Sheet'!$I70:AQ70),1)))","v":"R"},{"$f":"IF('Score Sheet'!AR70=\"\",\"R\",IF('Race results'!$C$32>0,ROUND(AVERAGE('Score Sheet'!$J70:AR70),1),ROUND(AVERAGE('Score Sheet'!$I70:AR70),1)))","v":"R"},{"$f":"IF('Score Sheet'!AS70=\"\",\"R\",IF('Race results'!$C$32>0,ROUND(AVERAGE('Score Sheet'!$J70:AS70),1),ROUND(AVERAGE('Score Sheet'!$I70:AS70),1)))","v":"R"},{"$f":"IF('Score Sheet'!AT70=\"\",\"R\",IF('Race results'!$C$32>0,ROUND(AVERAGE('Score Sheet'!$J70:AT70),1),ROUND(AVERAGE('Score Sheet'!$I70:AT70),1)))","v":"R"},{"$f":"IF('Score Sheet'!AU70=\"\",\"R\",IF('Race results'!$C$32>0,ROUND(AVERAGE('Score Sheet'!$J70:AU70),1),ROUND(AVERAGE('Score Sheet'!$I70:AU70),1)))","v":"R"},{"$f":"IF('Score Sheet'!AV70=\"\",\"R\",IF('Race results'!$C$32>0,ROUND(AVERAGE('Score Sheet'!$J70:AV70),1),ROUND(AVERAGE('Score Sheet'!$I70:AV70),1)))","v":"R"},null,"",{"$f":"IF(C70=\"\",\"\",IF('Race results'!$C$7<1, \"E\", IF('Race results'!$C$32>0,IF(COUNT(AY70:CL70)<1,\"R\",ROUND(AVERAGE(AY70:CL70),1)),IF(COUNT(AX70:CL70)<1,\"R\",ROUND(AVERAGE(AX70:CL70),1)))))","v":""},null,null,"","","","","","","","","","","","","","","","","","","","","","","","","","","","","","","","","","","","","","","","",""]
[null,62,{"$f":"IF('Score Sheet'!C71=\"\",\"\",'Score Sheet'!C71)","v":""},{"$f":"'Race results'!$F$159","v":"DAFT!"},{"$f":"'Race results'!$F$159","v":"DAFT!"},{"$f":"IF('Score Sheet'!J71=\"\",\"R\",IF('Race results'!$C$32>0,'Race results'!$F$159,ROUND(AVERAGE('Score Sheet'!$I71:J71),1)))","v":"R"},{"$f":"IF('Score Sheet'!K71=\"\",\"R\",IF('Race results'!$C$32>0,ROUND(AVERAGE('Score Sheet'!$J71:K71),1),ROUND(AVERAGE('Score Sheet'!$I71:K71),1)))","v":"R"},{"$f":"IF('Score Sheet'!L71=\"\",\"R\",IF('Race results'!$C$32>0,ROUND(AVERAGE('Score Sheet'!$J71:L71),1),ROUND(AVERAGE('Score Sheet'!$I71:L71),1)))","v":"R"},{"$f":"IF('Score Sheet'!M71=\"\",\"R\",IF('Race results'!$C$32>0,ROUND(AVERAGE('Score Sheet'!$J71:M71),1),ROUND(AVERAGE('Score Sheet'!$I71:M71),1)))","v":"R"},{"$f":"IF('Score Sheet'!N71=\"\",\"R\",IF('Race results'!$C$32>0,ROUND(AVERAGE('Score Sheet'!$J71:N71),1),ROUND(AVERAGE('Score Sheet'!$I71:N71),1)))","v":"R"},{"$f":"IF('Score Sheet'!O71=\"\",\"R\",IF('Race results'!$C$32>0,ROUND(AVERAGE('Score Sheet'!$J71:O71),1),ROUND(AVERAGE('Score Sheet'!$I71:O71),1)))","v":"R"},{"$f":"IF('Score Sheet'!P71=\"\",\"R\",IF('Race results'!$C$32>0,ROUND(AVERAGE('Score Sheet'!$J71:P71),1),ROUND(AVERAGE('Score Sheet'!$I71:P71),1)))","v":"R"},{"$f":"IF('Score Sheet'!Q71=\"\",\"R\",IF('Race results'!$C$32>0,ROUND(AVERAGE('Score Sheet'!$J71:Q71),1),ROUND(AVERAGE('Score Sheet'!$I71:Q71),1)))","v":"R"},{"$f":"IF('Score Sheet'!R71=\"\",\"R\",IF('Race results'!$C$32>0,ROUND(AVERAGE('Score Sheet'!$J71:R71),1),ROUND(AVERAGE('Score Sheet'!$I71:R71),1)))","v":"R"},{"$f":"IF('Score Sheet'!S71=\"\",\"R\",IF('Race results'!$C$32>0,ROUND(AVERAGE('Score Sheet'!$J71:S71),1),ROUND(AVERAGE('Score Sheet'!$I71:S71),1)))","v":"R"},{"$f":"IF('Score Sheet'!T71=\"\",\"R\",IF('Race results'!$C$32>0,ROUND(AVERAGE('Score Sheet'!$J71:T71),1),ROUND(AVERAGE('Score Sheet'!$I71:T71),1)))","v":"R"},{"$f":"IF('Score Sheet'!U71=\"\",\"R\",IF('Race results'!$C$32>0,ROUND(AVERAGE('Score Sheet'!$J71:U71),1),ROUND(AVERAGE('Score Sheet'!$I71:U71),1)))","v":"R"},{"$f":"IF('Score Sheet'!V71=\"\",\"R\",IF('Race results'!$C$32>0,ROUND(AVERAGE('Score Sheet'!$J71:V71),1),ROUND(AVERAGE('Score Sheet'!$I71:V71),1)))","v":"R"},{"$f":"IF('Score Sheet'!W71=\"\",\"R\",IF('Race results'!$C$32>0,ROUND(AVERAGE('Score Sheet'!$J71:W71),1),ROUND(AVERAGE('Score Sheet'!$I71:W71),1)))","v":"R"},{"$f":"IF('Score Sheet'!X71=\"\",\"R\",IF('Race results'!$C$32>0,ROUND(AVERAGE('Score Sheet'!$J71:X71),1),ROUND(AVERAGE('Score Sheet'!$I71:X71),1)))","v":"R"},{"$f":"IF('Score Sheet'!Y71=\"\",\"R\",IF('Race results'!$C$32>0,ROUND(AVERAGE('Score Sheet'!$J71:Y71),1),ROUND(AVERAGE('Score Sheet'!$I71:Y71),1)))","v":"R"},{"$f":"IF('Score Sheet'!Z71=\"\",\"R\",IF('Race results'!$C$32>0,ROUND(AVERAGE('Score Sheet'!$J71:Z71),1),ROUND(AVERAGE('Score Sheet'!$I71:Z71),1)))","v":"R"},{"$f":"IF('Score Sheet'!AA71=\"\",\"R\",IF('Race results'!$C$32>0,ROUND(AVERAGE('Score Sheet'!$J71:AA71),1),ROUND(AVERAGE('Score Sheet'!$I71:AA71),1)))","v":"R"},{"$f":"IF('Score Sheet'!AB71=\"\",\"R\",IF('Race results'!$C$32>0,ROUND(AVERAGE('Score Sheet'!$J71:AB71),1),ROUND(AVERAGE('Score Sheet'!$I71:AB71),1)))","v":"R"},{"$f":"IF('Score Sheet'!AC71=\"\",\"R\",IF('Race results'!$C$32>0,ROUND(AVERAGE('Score Sheet'!$J71:AC71),1),ROUND(AVERAGE('Score Sheet'!$I71:AC71),1)))","v":"R"},{"$f":"IF('Score Sheet'!AD71=\"\",\"R\",IF('Race results'!$C$32>0,ROUND(AVERAGE('Score Sheet'!$J71:AD71),1),ROUND(AVERAGE('Score Sheet'!$I71:AD71),1)))","v":"R"},{"$f":"IF('Score Sheet'!AE71=\"\",\"R\",IF('Race results'!$C$32>0,ROUND(AVERAGE('Score Sheet'!$J71:AE71),1),ROUND(AVERAGE('Score Sheet'!$I71:AE71),1)))","v":"R"},{"$f":"IF('Score Sheet'!AF71=\"\",\"R\",IF('Race results'!$C$32>0,ROUND(AVERAGE('Score Sheet'!$J71:AF71),1),ROUND(AVERAGE('Score Sheet'!$I71:AF71),1)))","v":"R"},{"$f":"IF('Score Sheet'!AG71=\"\",\"R\",IF('Race results'!$C$32>0,ROUND(AVERAGE('Score Sheet'!$J71:AG71),1),ROUND(AVERAGE('Score Sheet'!$I71:AG71),1)))","v":"R"},{"$f":"IF('Score Sheet'!AH71=\"\",\"R\",IF('Race results'!$C$32>0,ROUND(AVERAGE('Score Sheet'!$J71:AH71),1),ROUND(AVERAGE('Score Sheet'!$I71:AH71),1)))","v":"R"},{"$f":"IF('Score Sheet'!AI71=\"\",\"R\",IF('Race results'!$C$32>0,ROUND(AVERAGE('Score Sheet'!$J71:AI71),1),ROUND(AVERAGE('Score Sheet'!$I71:AI71),1)))","v":"R"},{"$f":"IF('Score Sheet'!AJ71=\"\",\"R\",IF('Race results'!$C$32>0,ROUND(AVERAGE('Score Sheet'!$J71:AJ71),1),ROUND(AVERAGE('Score Sheet'!$I71:AJ71),1)))","v":"R"},{"$f":"IF('Score Sheet'!AK71=\"\",\"R\",IF('Race results'!$C$32>0,ROUND(AVERAGE('Score Sheet'!$J71:AK71),1),ROUND(AVERAGE('Score Sheet'!$I71:AK71),1)))","v":"R"},{"$f":"IF('Score Sheet'!AL71=\"\",\"R\",IF('Race results'!$C$32>0,ROUND(AVERAGE('Score Sheet'!$J71:AL71),1),ROUND(AVERAGE('Score Sheet'!$I71:AL71),1)))","v":"R"},{"$f":"IF('Score Sheet'!AM71=\"\",\"R\",IF('Race results'!$C$32>0,ROUND(AVERAGE('Score Sheet'!$J71:AM71),1),ROUND(AVERAGE('Score Sheet'!$I71:AM71),1)))","v":"R"},{"$f":"IF('Score Sheet'!AN71=\"\",\"R\",IF('Race results'!$C$32>0,ROUND(AVERAGE('Score Sheet'!$J71:AN71),1),ROUND(AVERAGE('Score Sheet'!$I71:AN71),1)))","v":"R"},{"$f":"IF('Score Sheet'!AO71=\"\",\"R\",IF('Race results'!$C$32>0,ROUND(AVERAGE('Score Sheet'!$J71:AO71),1),ROUND(AVERAGE('Score Sheet'!$I71:AO71),1)))","v":"R"},{"$f":"IF('Score Sheet'!AP71=\"\",\"R\",IF('Race results'!$C$32>0,ROUND(AVERAGE('Score Sheet'!$J71:AP71),1),ROUND(AVERAGE('Score Sheet'!$I71:AP71),1)))","v":"R"},{"$f":"IF('Score Sheet'!AQ71=\"\",\"R\",IF('Race results'!$C$32>0,ROUND(AVERAGE('Score Sheet'!$J71:AQ71),1),ROUND(AVERAGE('Score Sheet'!$I71:AQ71),1)))","v":"R"},{"$f":"IF('Score Sheet'!AR71=\"\",\"R\",IF('Race results'!$C$32>0,ROUND(AVERAGE('Score Sheet'!$J71:AR71),1),ROUND(AVERAGE('Score Sheet'!$I71:AR71),1)))","v":"R"},{"$f":"IF('Score Sheet'!AS71=\"\",\"R\",IF('Race results'!$C$32>0,ROUND(AVERAGE('Score Sheet'!$J71:AS71),1),ROUND(AVERAGE('Score Sheet'!$I71:AS71),1)))","v":"R"},{"$f":"IF('Score Sheet'!AT71=\"\",\"R\",IF('Race results'!$C$32>0,ROUND(AVERAGE('Score Sheet'!$J71:AT71),1),ROUND(AVERAGE('Score Sheet'!$I71:AT71),1)))","v":"R"},{"$f":"IF('Score Sheet'!AU71=\"\",\"R\",IF('Race results'!$C$32>0,ROUND(AVERAGE('Score Sheet'!$J71:AU71),1),ROUND(AVERAGE('Score Sheet'!$I71:AU71),1)))","v":"R"},{"$f":"IF('Score Sheet'!AV71=\"\",\"R\",IF('Race results'!$C$32>0,ROUND(AVERAGE('Score Sheet'!$J71:AV71),1),ROUND(AVERAGE('Score Sheet'!$I71:AV71),1)))","v":"R"},null,"",{"$f":"IF(C71=\"\",\"\",IF('Race results'!$C$7<1, \"E\", IF('Race results'!$C$32>0,IF(COUNT(AY71:CL71)<1,\"R\",ROUND(AVERAGE(AY71:CL71),1)),IF(COUNT(AX71:CL71)<1,\"R\",ROUND(AVERAGE(AX71:CL71),1)))))","v":""},null,null,"","","","","","","","","","","","","","","","","","","","","","","","","","","","","","","","","","","","","","","","",""]
[null,63,{"$f":"IF('Score Sheet'!C72=\"\",\"\",'Score Sheet'!C72)","v":""},{"$f":"'Race results'!$F$159","v":"DAFT!"},{"$f":"'Race results'!$F$159","v":"DAFT!"},{"$f":"IF('Score Sheet'!J72=\"\",\"R\",IF('Race results'!$C$32>0,'Race results'!$F$159,ROUND(AVERAGE('Score Sheet'!$I72:J72),1)))","v":"R"},{"$f":"IF('Score Sheet'!K72=\"\",\"R\",IF('Race results'!$C$32>0,ROUND(AVERAGE('Score Sheet'!$J72:K72),1),ROUND(AVERAGE('Score Sheet'!$I72:K72),1)))","v":"R"},{"$f":"IF('Score Sheet'!L72=\"\",\"R\",IF('Race results'!$C$32>0,ROUND(AVERAGE('Score Sheet'!$J72:L72),1),ROUND(AVERAGE('Score Sheet'!$I72:L72),1)))","v":"R"},{"$f":"IF('Score Sheet'!M72=\"\",\"R\",IF('Race results'!$C$32>0,ROUND(AVERAGE('Score Sheet'!$J72:M72),1),ROUND(AVERAGE('Score Sheet'!$I72:M72),1)))","v":"R"},{"$f":"IF('Score Sheet'!N72=\"\",\"R\",IF('Race results'!$C$32>0,ROUND(AVERAGE('Score Sheet'!$J72:N72),1),ROUND(AVERAGE('Score Sheet'!$I72:N72),1)))","v":"R"},{"$f":"IF('Score Sheet'!O72=\"\",\"R\",IF('Race results'!$C$32>0,ROUND(AVERAGE('Score Sheet'!$J72:O72),1),ROUND(AVERAGE('Score Sheet'!$I72:O72),1)))","v":"R"},{"$f":"IF('Score Sheet'!P72=\"\",\"R\",IF('Race results'!$C$32>0,ROUND(AVERAGE('Score Sheet'!$J72:P72),1),ROUND(AVERAGE('Score Sheet'!$I72:P72),1)))","v":"R"},{"$f":"IF('Score Sheet'!Q72=\"\",\"R\",IF('Race results'!$C$32>0,ROUND(AVERAGE('Score Sheet'!$J72:Q72),1),ROUND(AVERAGE('Score Sheet'!$I72:Q72),1)))","v":"R"},{"$f":"IF('Score Sheet'!R72=\"\",\"R\",IF('Race results'!$C$32>0,ROUND(AVERAGE('Score Sheet'!$J72:R72),1),ROUND(AVERAGE('Score Sheet'!$I72:R72),1)))","v":"R"},{"$f":"IF('Score Sheet'!S72=\"\",\"R\",IF('Race results'!$C$32>0,ROUND(AVERAGE('Score Sheet'!$J72:S72),1),ROUND(AVERAGE('Score Sheet'!$I72:S72),1)))","v":"R"},{"$f":"IF('Score Sheet'!T72=\"\",\"R\",IF('Race results'!$C$32>0,ROUND(AVERAGE('Score Sheet'!$J72:T72),1),ROUND(AVERAGE('Score Sheet'!$I72:T72),1)))","v":"R"},{"$f":"IF('Score Sheet'!U72=\"\",\"R\",IF('Race results'!$C$32>0,ROUND(AVERAGE('Score Sheet'!$J72:U72),1),ROUND(AVERAGE('Score Sheet'!$I72:U72),1)))","v":"R"},{"$f":"IF('Score Sheet'!V72=\"\",\"R\",IF('Race results'!$C$32>0,ROUND(AVERAGE('Score Sheet'!$J72:V72),1),ROUND(AVERAGE('Score Sheet'!$I72:V72),1)))","v":"R"},{"$f":"IF('Score Sheet'!W72=\"\",\"R\",IF('Race results'!$C$32>0,ROUND(AVERAGE('Score Sheet'!$J72:W72),1),ROUND(AVERAGE('Score Sheet'!$I72:W72),1)))","v":"R"},{"$f":"IF('Score Sheet'!X72=\"\",\"R\",IF('Race results'!$C$32>0,ROUND(AVERAGE('Score Sheet'!$J72:X72),1),ROUND(AVERAGE('Score Sheet'!$I72:X72),1)))","v":"R"},{"$f":"IF('Score Sheet'!Y72=\"\",\"R\",IF('Race results'!$C$32>0,ROUND(AVERAGE('Score Sheet'!$J72:Y72),1),ROUND(AVERAGE('Score Sheet'!$I72:Y72),1)))","v":"R"},{"$f":"IF('Score Sheet'!Z72=\"\",\"R\",IF('Race results'!$C$32>0,ROUND(AVERAGE('Score Sheet'!$J72:Z72),1),ROUND(AVERAGE('Score Sheet'!$I72:Z72),1)))","v":"R"},{"$f":"IF('Score Sheet'!AA72=\"\",\"R\",IF('Race results'!$C$32>0,ROUND(AVERAGE('Score Sheet'!$J72:AA72),1),ROUND(AVERAGE('Score Sheet'!$I72:AA72),1)))","v":"R"},{"$f":"IF('Score Sheet'!AB72=\"\",\"R\",IF('Race results'!$C$32>0,ROUND(AVERAGE('Score Sheet'!$J72:AB72),1),ROUND(AVERAGE('Score Sheet'!$I72:AB72),1)))","v":"R"},{"$f":"IF('Score Sheet'!AC72=\"\",\"R\",IF('Race results'!$C$32>0,ROUND(AVERAGE('Score Sheet'!$J72:AC72),1),ROUND(AVERAGE('Score Sheet'!$I72:AC72),1)))","v":"R"},{"$f":"IF('Score Sheet'!AD72=\"\",\"R\",IF('Race results'!$C$32>0,ROUND(AVERAGE('Score Sheet'!$J72:AD72),1),ROUND(AVERAGE('Score Sheet'!$I72:AD72),1)))","v":"R"},{"$f":"IF('Score Sheet'!AE72=\"\",\"R\",IF('Race results'!$C$32>0,ROUND(AVERAGE('Score Sheet'!$J72:AE72),1),ROUND(AVERAGE('Score Sheet'!$I72:AE72),1)))","v":"R"},{"$f":"IF('Score Sheet'!AF72=\"\",\"R\",IF('Race results'!$C$32>0,ROUND(AVERAGE('Score Sheet'!$J72:AF72),1),ROUND(AVERAGE('Score Sheet'!$I72:AF72),1)))","v":"R"},{"$f":"IF('Score Sheet'!AG72=\"\",\"R\",IF('Race results'!$C$32>0,ROUND(AVERAGE('Score Sheet'!$J72:AG72),1),ROUND(AVERAGE('Score Sheet'!$I72:AG72),1)))","v":"R"},{"$f":"IF('Score Sheet'!AH72=\"\",\"R\",IF('Race results'!$C$32>0,ROUND(AVERAGE('Score Sheet'!$J72:AH72),1),ROUND(AVERAGE('Score Sheet'!$I72:AH72),1)))","v":"R"},{"$f":"IF('Score Sheet'!AI72=\"\",\"R\",IF('Race results'!$C$32>0,ROUND(AVERAGE('Score Sheet'!$J72:AI72),1),ROUND(AVERAGE('Score Sheet'!$I72:AI72),1)))","v":"R"},{"$f":"IF('Score Sheet'!AJ72=\"\",\"R\",IF('Race results'!$C$32>0,ROUND(AVERAGE('Score Sheet'!$J72:AJ72),1),ROUND(AVERAGE('Score Sheet'!$I72:AJ72),1)))","v":"R"},{"$f":"IF('Score Sheet'!AK72=\"\",\"R\",IF('Race results'!$C$32>0,ROUND(AVERAGE('Score Sheet'!$J72:AK72),1),ROUND(AVERAGE('Score Sheet'!$I72:AK72),1)))","v":"R"},{"$f":"IF('Score Sheet'!AL72=\"\",\"R\",IF('Race results'!$C$32>0,ROUND(AVERAGE('Score Sheet'!$J72:AL72),1),ROUND(AVERAGE('Score Sheet'!$I72:AL72),1)))","v":"R"},{"$f":"IF('Score Sheet'!AM72=\"\",\"R\",IF('Race results'!$C$32>0,ROUND(AVERAGE('Score Sheet'!$J72:AM72),1),ROUND(AVERAGE('Score Sheet'!$I72:AM72),1)))","v":"R"},{"$f":"IF('Score Sheet'!AN72=\"\",\"R\",IF('Race results'!$C$32>0,ROUND(AVERAGE('Score Sheet'!$J72:AN72),1),ROUND(AVERAGE('Score Sheet'!$I72:AN72),1)))","v":"R"},{"$f":"IF('Score Sheet'!AO72=\"\",\"R\",IF('Race results'!$C$32>0,ROUND(AVERAGE('Score Sheet'!$J72:AO72),1),ROUND(AVERAGE('Score Sheet'!$I72:AO72),1)))","v":"R"},{"$f":"IF('Score Sheet'!AP72=\"\",\"R\",IF('Race results'!$C$32>0,ROUND(AVERAGE('Score Sheet'!$J72:AP72),1),ROUND(AVERAGE('Score Sheet'!$I72:AP72),1)))","v":"R"},{"$f":"IF('Score Sheet'!AQ72=\"\",\"R\",IF('Race results'!$C$32>0,ROUND(AVERAGE('Score Sheet'!$J72:AQ72),1),ROUND(AVERAGE('Score Sheet'!$I72:AQ72),1)))","v":"R"},{"$f":"IF('Score Sheet'!AR72=\"\",\"R\",IF('Race results'!$C$32>0,ROUND(AVERAGE('Score Sheet'!$J72:AR72),1),ROUND(AVERAGE('Score Sheet'!$I72:AR72),1)))","v":"R"},{"$f":"IF('Score Sheet'!AS72=\"\",\"R\",IF('Race results'!$C$32>0,ROUND(AVERAGE('Score Sheet'!$J72:AS72),1),ROUND(AVERAGE('Score Sheet'!$I72:AS72),1)))","v":"R"},{"$f":"IF('Score Sheet'!AT72=\"\",\"R\",IF('Race results'!$C$32>0,ROUND(AVERAGE('Score Sheet'!$J72:AT72),1),ROUND(AVERAGE('Score Sheet'!$I72:AT72),1)))","v":"R"},{"$f":"IF('Score Sheet'!AU72=\"\",\"R\",IF('Race results'!$C$32>0,ROUND(AVERAGE('Score Sheet'!$J72:AU72),1),ROUND(AVERAGE('Score Sheet'!$I72:AU72),1)))","v":"R"},{"$f":"IF('Score Sheet'!AV72=\"\",\"R\",IF('Race results'!$C$32>0,ROUND(AVERAGE('Score Sheet'!$J72:AV72),1),ROUND(AVERAGE('Score Sheet'!$I72:AV72),1)))","v":"R"},null,"",{"$f":"IF(C72=\"\",\"\",IF('Race results'!$C$7<1, \"E\", IF('Race results'!$C$32>0,IF(COUNT(AY72:CL72)<1,\"R\",ROUND(AVERAGE(AY72:CL72),1)),IF(COUNT(AX72:CL72)<1,\"R\",ROUND(AVERAGE(AX72:CL72),1)))))","v":""},null,null,"","","","","","","","","","","","","","","","","","","","","","","","","","","","","","","","","","","","","","","","",""]
[null,64,{"$f":"IF('Score Sheet'!C73=\"\",\"\",'Score Sheet'!C73)","v":""},{"$f":"'Race results'!$F$159","v":"DAFT!"},{"$f":"'Race results'!$F$159","v":"DAFT!"},{"$f":"IF('Score Sheet'!J73=\"\",\"R\",IF('Race results'!$C$32>0,'Race results'!$F$159,ROUND(AVERAGE('Score Sheet'!$I73:J73),1)))","v":"R"},{"$f":"IF('Score Sheet'!K73=\"\",\"R\",IF('Race results'!$C$32>0,ROUND(AVERAGE('Score Sheet'!$J73:K73),1),ROUND(AVERAGE('Score Sheet'!$I73:K73),1)))","v":"R"},{"$f":"IF('Score Sheet'!L73=\"\",\"R\",IF('Race results'!$C$32>0,ROUND(AVERAGE('Score Sheet'!$J73:L73),1),ROUND(AVERAGE('Score Sheet'!$I73:L73),1)))","v":"R"},{"$f":"IF('Score Sheet'!M73=\"\",\"R\",IF('Race results'!$C$32>0,ROUND(AVERAGE('Score Sheet'!$J73:M73),1),ROUND(AVERAGE('Score Sheet'!$I73:M73),1)))","v":"R"},{"$f":"IF('Score Sheet'!N73=\"\",\"R\",IF('Race results'!$C$32>0,ROUND(AVERAGE('Score Sheet'!$J73:N73),1),ROUND(AVERAGE('Score Sheet'!$I73:N73),1)))","v":"R"},{"$f":"IF('Score Sheet'!O73=\"\",\"R\",IF('Race results'!$C$32>0,ROUND(AVERAGE('Score Sheet'!$J73:O73),1),ROUND(AVERAGE('Score Sheet'!$I73:O73),1)))","v":"R"},{"$f":"IF('Score Sheet'!P73=\"\",\"R\",IF('Race results'!$C$32>0,ROUND(AVERAGE('Score Sheet'!$J73:P73),1),ROUND(AVERAGE('Score Sheet'!$I73:P73),1)))","v":"R"},{"$f":"IF('Score Sheet'!Q73=\"\",\"R\",IF('Race results'!$C$32>0,ROUND(AVERAGE('Score Sheet'!$J73:Q73),1),ROUND(AVERAGE('Score Sheet'!$I73:Q73),1)))","v":"R"},{"$f":"IF('Score Sheet'!R73=\"\",\"R\",IF('Race results'!$C$32>0,ROUND(AVERAGE('Score Sheet'!$J73:R73),1),ROUND(AVERAGE('Score Sheet'!$I73:R73),1)))","v":"R"},{"$f":"IF('Score Sheet'!S73=\"\",\"R\",IF('Race results'!$C$32>0,ROUND(AVERAGE('Score Sheet'!$J73:S73),1),ROUND(AVERAGE('Score Sheet'!$I73:S73),1)))","v":"R"},{"$f":"IF('Score Sheet'!T73=\"\",\"R\",IF('Race results'!$C$32>0,ROUND(AVERAGE('Score Sheet'!$J73:T73),1),ROUND(AVERAGE('Score Sheet'!$I73:T73),1)))","v":"R"},{"$f":"IF('Score Sheet'!U73=\"\",\"R\",IF('Race results'!$C$32>0,ROUND(AVERAGE('Score Sheet'!$J73:U73),1),ROUND(AVERAGE('Score Sheet'!$I73:U73),1)))","v":"R"},{"$f":"IF('Score Sheet'!V73=\"\",\"R\",IF('Race results'!$C$32>0,ROUND(AVERAGE('Score Sheet'!$J73:V73),1),ROUND(AVERAGE('Score Sheet'!$I73:V73),1)))","v":"R"},{"$f":"IF('Score Sheet'!W73=\"\",\"R\",IF('Race results'!$C$32>0,ROUND(AVERAGE('Score Sheet'!$J73:W73),1),ROUND(AVERAGE('Score Sheet'!$I73:W73),1)))","v":"R"},{"$f":"IF('Score Sheet'!X73=\"\",\"R\",IF('Race results'!$C$32>0,ROUND(AVERAGE('Score Sheet'!$J73:X73),1),ROUND(AVERAGE('Score Sheet'!$I73:X73),1)))","v":"R"},{"$f":"IF('Score Sheet'!Y73=\"\",\"R\",IF('Race results'!$C$32>0,ROUND(AVERAGE('Score Sheet'!$J73:Y73),1),ROUND(AVERAGE('Score Sheet'!$I73:Y73),1)))","v":"R"},{"$f":"IF('Score Sheet'!Z73=\"\",\"R\",IF('Race results'!$C$32>0,ROUND(AVERAGE('Score Sheet'!$J73:Z73),1),ROUND(AVERAGE('Score Sheet'!$I73:Z73),1)))","v":"R"},{"$f":"IF('Score Sheet'!AA73=\"\",\"R\",IF('Race results'!$C$32>0,ROUND(AVERAGE('Score Sheet'!$J73:AA73),1),ROUND(AVERAGE('Score Sheet'!$I73:AA73),1)))","v":"R"},{"$f":"IF('Score Sheet'!AB73=\"\",\"R\",IF('Race results'!$C$32>0,ROUND(AVERAGE('Score Sheet'!$J73:AB73),1),ROUND(AVERAGE('Score Sheet'!$I73:AB73),1)))","v":"R"},{"$f":"IF('Score Sheet'!AC73=\"\",\"R\",IF('Race results'!$C$32>0,ROUND(AVERAGE('Score Sheet'!$J73:AC73),1),ROUND(AVERAGE('Score Sheet'!$I73:AC73),1)))","v":"R"},{"$f":"IF('Score Sheet'!AD73=\"\",\"R\",IF('Race results'!$C$32>0,ROUND(AVERAGE('Score Sheet'!$J73:AD73),1),ROUND(AVERAGE('Score Sheet'!$I73:AD73),1)))","v":"R"},{"$f":"IF('Score Sheet'!AE73=\"\",\"R\",IF('Race results'!$C$32>0,ROUND(AVERAGE('Score Sheet'!$J73:AE73),1),ROUND(AVERAGE('Score Sheet'!$I73:AE73),1)))","v":"R"},{"$f":"IF('Score Sheet'!AF73=\"\",\"R\",IF('Race results'!$C$32>0,ROUND(AVERAGE('Score Sheet'!$J73:AF73),1),ROUND(AVERAGE('Score Sheet'!$I73:AF73),1)))","v":"R"},{"$f":"IF('Score Sheet'!AG73=\"\",\"R\",IF('Race results'!$C$32>0,ROUND(AVERAGE('Score Sheet'!$J73:AG73),1),ROUND(AVERAGE('Score Sheet'!$I73:AG73),1)))","v":"R"},{"$f":"IF('Score Sheet'!AH73=\"\",\"R\",IF('Race results'!$C$32>0,ROUND(AVERAGE('Score Sheet'!$J73:AH73),1),ROUND(AVERAGE('Score Sheet'!$I73:AH73),1)))","v":"R"},{"$f":"IF('Score Sheet'!AI73=\"\",\"R\",IF('Race results'!$C$32>0,ROUND(AVERAGE('Score Sheet'!$J73:AI73),1),ROUND(AVERAGE('Score Sheet'!$I73:AI73),1)))","v":"R"},{"$f":"IF('Score Sheet'!AJ73=\"\",\"R\",IF('Race results'!$C$32>0,ROUND(AVERAGE('Score Sheet'!$J73:AJ73),1),ROUND(AVERAGE('Score Sheet'!$I73:AJ73),1)))","v":"R"},{"$f":"IF('Score Sheet'!AK73=\"\",\"R\",IF('Race results'!$C$32>0,ROUND(AVERAGE('Score Sheet'!$J73:AK73),1),ROUND(AVERAGE('Score Sheet'!$I73:AK73),1)))","v":"R"},{"$f":"IF('Score Sheet'!AL73=\"\",\"R\",IF('Race results'!$C$32>0,ROUND(AVERAGE('Score Sheet'!$J73:AL73),1),ROUND(AVERAGE('Score Sheet'!$I73:AL73),1)))","v":"R"},{"$f":"IF('Score Sheet'!AM73=\"\",\"R\",IF('Race results'!$C$32>0,ROUND(AVERAGE('Score Sheet'!$J73:AM73),1),ROUND(AVERAGE('Score Sheet'!$I73:AM73),1)))","v":"R"},{"$f":"IF('Score Sheet'!AN73=\"\",\"R\",IF('Race results'!$C$32>0,ROUND(AVERAGE('Score Sheet'!$J73:AN73),1),ROUND(AVERAGE('Score Sheet'!$I73:AN73),1)))","v":"R"},{"$f":"IF('Score Sheet'!AO73=\"\",\"R\",IF('Race results'!$C$32>0,ROUND(AVERAGE('Score Sheet'!$J73:AO73),1),ROUND(AVERAGE('Score Sheet'!$I73:AO73),1)))","v":"R"},{"$f":"IF('Score Sheet'!AP73=\"\",\"R\",IF('Race results'!$C$32>0,ROUND(AVERAGE('Score Sheet'!$J73:AP73),1),ROUND(AVERAGE('Score Sheet'!$I73:AP73),1)))","v":"R"},{"$f":"IF('Score Sheet'!AQ73=\"\",\"R\",IF('Race results'!$C$32>0,ROUND(AVERAGE('Score Sheet'!$J73:AQ73),1),ROUND(AVERAGE('Score Sheet'!$I73:AQ73),1)))","v":"R"},{"$f":"IF('Score Sheet'!AR73=\"\",\"R\",IF('Race results'!$C$32>0,ROUND(AVERAGE('Score Sheet'!$J73:AR73),1),ROUND(AVERAGE('Score Sheet'!$I73:AR73),1)))","v":"R"},{"$f":"IF('Score Sheet'!AS73=\"\",\"R\",IF('Race results'!$C$32>0,ROUND(AVERAGE('Score Sheet'!$J73:AS73),1),ROUND(AVERAGE('Score Sheet'!$I73:AS73),1)))","v":"R"},{"$f":"IF('Score Sheet'!AT73=\"\",\"R\",IF('Race results'!$C$32>0,ROUND(AVERAGE('Score Sheet'!$J73:AT73),1),ROUND(AVERAGE('Score Sheet'!$I73:AT73),1)))","v":"R"},{"$f":"IF('Score Sheet'!AU73=\"\",\"R\",IF('Race results'!$C$32>0,ROUND(AVERAGE('Score Sheet'!$J73:AU73),1),ROUND(AVERAGE('Score Sheet'!$I73:AU73),1)))","v":"R"},{"$f":"IF('Score Sheet'!AV73=\"\",\"R\",IF('Race results'!$C$32>0,ROUND(AVERAGE('Score Sheet'!$J73:AV73),1),ROUND(AVERAGE('Score Sheet'!$I73:AV73),1)))","v":"R"},null,"",{"$f":"IF(C73=\"\",\"\",IF('Race results'!$C$7<1, \"E\", IF('Race results'!$C$32>0,IF(COUNT(AY73:CL73)<1,\"R\",ROUND(AVERAGE(AY73:CL73),1)),IF(COUNT(AX73:CL73)<1,\"R\",ROUND(AVERAGE(AX73:CL73),1)))))","v":""},null,null,"","","","","","","","","","","","","","","","","","","","","","","","","","","","","","","","","","","","","","","","",""]
[null,65,{"$f":"IF('Score Sheet'!C74=\"\",\"\",'Score Sheet'!C74)","v":""},{"$f":"'Race results'!$F$159","v":"DAFT!"},{"$f":"'Race results'!$F$159","v":"DAFT!"},{"$f":"IF('Score Sheet'!J74=\"\",\"R\",IF('Race results'!$C$32>0,'Race results'!$F$159,ROUND(AVERAGE('Score Sheet'!$I74:J74),1)))","v":"R"},{"$f":"IF('Score Sheet'!K74=\"\",\"R\",IF('Race results'!$C$32>0,ROUND(AVERAGE('Score Sheet'!$J74:K74),1),ROUND(AVERAGE('Score Sheet'!$I74:K74),1)))","v":"R"},{"$f":"IF('Score Sheet'!L74=\"\",\"R\",IF('Race results'!$C$32>0,ROUND(AVERAGE('Score Sheet'!$J74:L74),1),ROUND(AVERAGE('Score Sheet'!$I74:L74),1)))","v":"R"},{"$f":"IF('Score Sheet'!M74=\"\",\"R\",IF('Race results'!$C$32>0,ROUND(AVERAGE('Score Sheet'!$J74:M74),1),ROUND(AVERAGE('Score Sheet'!$I74:M74),1)))","v":"R"},{"$f":"IF('Score Sheet'!N74=\"\",\"R\",IF('Race results'!$C$32>0,ROUND(AVERAGE('Score Sheet'!$J74:N74),1),ROUND(AVERAGE('Score Sheet'!$I74:N74),1)))","v":"R"},{"$f":"IF('Score Sheet'!O74=\"\",\"R\",IF('Race results'!$C$32>0,ROUND(AVERAGE('Score Sheet'!$J74:O74),1),ROUND(AVERAGE('Score Sheet'!$I74:O74),1)))","v":"R"},{"$f":"IF('Score Sheet'!P74=\"\",\"R\",IF('Race results'!$C$32>0,ROUND(AVERAGE('Score Sheet'!$J74:P74),1),ROUND(AVERAGE('Score Sheet'!$I74:P74),1)))","v":"R"},{"$f":"IF('Score Sheet'!Q74=\"\",\"R\",IF('Race results'!$C$32>0,ROUND(AVERAGE('Score Sheet'!$J74:Q74),1),ROUND(AVERAGE('Score Sheet'!$I74:Q74),1)))","v":"R"},{"$f":"IF('Score Sheet'!R74=\"\",\"R\",IF('Race results'!$C$32>0,ROUND(AVERAGE('Score Sheet'!$J74:R74),1),ROUND(AVERAGE('Score Sheet'!$I74:R74),1)))","v":"R"},{"$f":"IF('Score Sheet'!S74=\"\",\"R\",IF('Race results'!$C$32>0,ROUND(AVERAGE('Score Sheet'!$J74:S74),1),ROUND(AVERAGE('Score Sheet'!$I74:S74),1)))","v":"R"},{"$f":"IF('Score Sheet'!T74=\"\",\"R\",IF('Race results'!$C$32>0,ROUND(AVERAGE('Score Sheet'!$J74:T74),1),ROUND(AVERAGE('Score Sheet'!$I74:T74),1)))","v":"R"},{"$f":"IF('Score Sheet'!U74=\"\",\"R\",IF('Race results'!$C$32>0,ROUND(AVERAGE('Score Sheet'!$J74:U74),1),ROUND(AVERAGE('Score Sheet'!$I74:U74),1)))","v":"R"},{"$f":"IF('Score Sheet'!V74=\"\",\"R\",IF('Race results'!$C$32>0,ROUND(AVERAGE('Score Sheet'!$J74:V74),1),ROUND(AVERAGE('Score Sheet'!$I74:V74),1)))","v":"R"},{"$f":"IF('Score Sheet'!W74=\"\",\"R\",IF('Race results'!$C$32>0,ROUND(AVERAGE('Score Sheet'!$J74:W74),1),ROUND(AVERAGE('Score Sheet'!$I74:W74),1)))","v":"R"},{"$f":"IF('Score Sheet'!X74=\"\",\"R\",IF('Race results'!$C$32>0,ROUND(AVERAGE('Score Sheet'!$J74:X74),1),ROUND(AVERAGE('Score Sheet'!$I74:X74),1)))","v":"R"},{"$f":"IF('Score Sheet'!Y74=\"\",\"R\",IF('Race results'!$C$32>0,ROUND(AVERAGE('Score Sheet'!$J74:Y74),1),ROUND(AVERAGE('Score Sheet'!$I74:Y74),1)))","v":"R"},{"$f":"IF('Score Sheet'!Z74=\"\",\"R\",IF('Race results'!$C$32>0,ROUND(AVERAGE('Score Sheet'!$J74:Z74),1),ROUND(AVERAGE('Score Sheet'!$I74:Z74),1)))","v":"R"},{"$f":"IF('Score Sheet'!AA74=\"\",\"R\",IF('Race results'!$C$32>0,ROUND(AVERAGE('Score Sheet'!$J74:AA74),1),ROUND(AVERAGE('Score Sheet'!$I74:AA74),1)))","v":"R"},{"$f":"IF('Score Sheet'!AB74=\"\",\"R\",IF('Race results'!$C$32>0,ROUND(AVERAGE('Score Sheet'!$J74:AB74),1),ROUND(AVERAGE('Score Sheet'!$I74:AB74),1)))","v":"R"},{"$f":"IF('Score Sheet'!AC74=\"\",\"R\",IF('Race results'!$C$32>0,ROUND(AVERAGE('Score Sheet'!$J74:AC74),1),ROUND(AVERAGE('Score Sheet'!$I74:AC74),1)))","v":"R"},{"$f":"IF('Score Sheet'!AD74=\"\",\"R\",IF('Race results'!$C$32>0,ROUND(AVERAGE('Score Sheet'!$J74:AD74),1),ROUND(AVERAGE('Score Sheet'!$I74:AD74),1)))","v":"R"},{"$f":"IF('Score Sheet'!AE74=\"\",\"R\",IF('Race results'!$C$32>0,ROUND(AVERAGE('Score Sheet'!$J74:AE74),1),ROUND(AVERAGE('Score Sheet'!$I74:AE74),1)))","v":"R"},{"$f":"IF('Score Sheet'!AF74=\"\",\"R\",IF('Race results'!$C$32>0,ROUND(AVERAGE('Score Sheet'!$J74:AF74),1),ROUND(AVERAGE('Score Sheet'!$I74:AF74),1)))","v":"R"},{"$f":"IF('Score Sheet'!AG74=\"\",\"R\",IF('Race results'!$C$32>0,ROUND(AVERAGE('Score Sheet'!$J74:AG74),1),ROUND(AVERAGE('Score Sheet'!$I74:AG74),1)))","v":"R"},{"$f":"IF('Score Sheet'!AH74=\"\",\"R\",IF('Race results'!$C$32>0,ROUND(AVERAGE('Score Sheet'!$J74:AH74),1),ROUND(AVERAGE('Score Sheet'!$I74:AH74),1)))","v":"R"},{"$f":"IF('Score Sheet'!AI74=\"\",\"R\",IF('Race results'!$C$32>0,ROUND(AVERAGE('Score Sheet'!$J74:AI74),1),ROUND(AVERAGE('Score Sheet'!$I74:AI74),1)))","v":"R"},{"$f":"IF('Score Sheet'!AJ74=\"\",\"R\",IF('Race results'!$C$32>0,ROUND(AVERAGE('Score Sheet'!$J74:AJ74),1),ROUND(AVERAGE('Score Sheet'!$I74:AJ74),1)))","v":"R"},{"$f":"IF('Score Sheet'!AK74=\"\",\"R\",IF('Race results'!$C$32>0,ROUND(AVERAGE('Score Sheet'!$J74:AK74),1),ROUND(AVERAGE('Score Sheet'!$I74:AK74),1)))","v":"R"},{"$f":"IF('Score Sheet'!AL74=\"\",\"R\",IF('Race results'!$C$32>0,ROUND(AVERAGE('Score Sheet'!$J74:AL74),1),ROUND(AVERAGE('Score Sheet'!$I74:AL74),1)))","v":"R"},{"$f":"IF('Score Sheet'!AM74=\"\",\"R\",IF('Race results'!$C$32>0,ROUND(AVERAGE('Score Sheet'!$J74:AM74),1),ROUND(AVERAGE('Score Sheet'!$I74:AM74),1)))","v":"R"},{"$f":"IF('Score Sheet'!AN74=\"\",\"R\",IF('Race results'!$C$32>0,ROUND(AVERAGE('Score Sheet'!$J74:AN74),1),ROUND(AVERAGE('Score Sheet'!$I74:AN74),1)))","v":"R"},{"$f":"IF('Score Sheet'!AO74=\"\",\"R\",IF('Race results'!$C$32>0,ROUND(AVERAGE('Score Sheet'!$J74:AO74),1),ROUND(AVERAGE('Score Sheet'!$I74:AO74),1)))","v":"R"},{"$f":"IF('Score Sheet'!AP74=\"\",\"R\",IF('Race results'!$C$32>0,ROUND(AVERAGE('Score Sheet'!$J74:AP74),1),ROUND(AVERAGE('Score Sheet'!$I74:AP74),1)))","v":"R"},{"$f":"IF('Score Sheet'!AQ74=\"\",\"R\",IF('Race results'!$C$32>0,ROUND(AVERAGE('Score Sheet'!$J74:AQ74),1),ROUND(AVERAGE('Score Sheet'!$I74:AQ74),1)))","v":"R"},{"$f":"IF('Score Sheet'!AR74=\"\",\"R\",IF('Race results'!$C$32>0,ROUND(AVERAGE('Score Sheet'!$J74:AR74),1),ROUND(AVERAGE('Score Sheet'!$I74:AR74),1)))","v":"R"},{"$f":"IF('Score Sheet'!AS74=\"\",\"R\",IF('Race results'!$C$32>0,ROUND(AVERAGE('Score Sheet'!$J74:AS74),1),ROUND(AVERAGE('Score Sheet'!$I74:AS74),1)))","v":"R"},{"$f":"IF('Score Sheet'!AT74=\"\",\"R\",IF('Race results'!$C$32>0,ROUND(AVERAGE('Score Sheet'!$J74:AT74),1),ROUND(AVERAGE('Score Sheet'!$I74:AT74),1)))","v":"R"},{"$f":"IF('Score Sheet'!AU74=\"\",\"R\",IF('Race results'!$C$32>0,ROUND(AVERAGE('Score Sheet'!$J74:AU74),1),ROUND(AVERAGE('Score Sheet'!$I74:AU74),1)))","v":"R"},{"$f":"IF('Score Sheet'!AV74=\"\",\"R\",IF('Race results'!$C$32>0,ROUND(AVERAGE('Score Sheet'!$J74:AV74),1),ROUND(AVERAGE('Score Sheet'!$I74:AV74),1)))","v":"R"},null,"",{"$f":"IF(C74=\"\",\"\",IF('Race results'!$C$7<1, \"E\", IF('Race results'!$C$32>0,IF(COUNT(AY74:CL74)<1,\"R\",ROUND(AVERAGE(AY74:CL74),1)),IF(COUNT(AX74:CL74)<1,\"R\",ROUND(AVERAGE(AX74:CL74),1)))))","v":""},null,null,"","","","","","","","","","","","","","","","","","","","","","","","","","","","","","","","","","","","","","","","",""]
[null,66,{"$f":"IF('Score Sheet'!C75=\"\",\"\",'Score Sheet'!C75)","v":""},{"$f":"'Race results'!$F$159","v":"DAFT!"},{"$f":"'Race results'!$F$159","v":"DAFT!"},{"$f":"IF('Score Sheet'!J75=\"\",\"R\",IF('Race results'!$C$32>0,'Race results'!$F$159,ROUND(AVERAGE('Score Sheet'!$I75:J75),1)))","v":"R"},{"$f":"IF('Score Sheet'!K75=\"\",\"R\",IF('Race results'!$C$32>0,ROUND(AVERAGE('Score Sheet'!$J75:K75),1),ROUND(AVERAGE('Score Sheet'!$I75:K75),1)))","v":"R"},{"$f":"IF('Score Sheet'!L75=\"\",\"R\",IF('Race results'!$C$32>0,ROUND(AVERAGE('Score Sheet'!$J75:L75),1),ROUND(AVERAGE('Score Sheet'!$I75:L75),1)))","v":"R"},{"$f":"IF('Score Sheet'!M75=\"\",\"R\",IF('Race results'!$C$32>0,ROUND(AVERAGE('Score Sheet'!$J75:M75),1),ROUND(AVERAGE('Score Sheet'!$I75:M75),1)))","v":"R"},{"$f":"IF('Score Sheet'!N75=\"\",\"R\",IF('Race results'!$C$32>0,ROUND(AVERAGE('Score Sheet'!$J75:N75),1),ROUND(AVERAGE('Score Sheet'!$I75:N75),1)))","v":"R"},{"$f":"IF('Score Sheet'!O75=\"\",\"R\",IF('Race results'!$C$32>0,ROUND(AVERAGE('Score Sheet'!$J75:O75),1),ROUND(AVERAGE('Score Sheet'!$I75:O75),1)))","v":"R"},{"$f":"IF('Score Sheet'!P75=\"\",\"R\",IF('Race results'!$C$32>0,ROUND(AVERAGE('Score Sheet'!$J75:P75),1),ROUND(AVERAGE('Score Sheet'!$I75:P75),1)))","v":"R"},{"$f":"IF('Score Sheet'!Q75=\"\",\"R\",IF('Race results'!$C$32>0,ROUND(AVERAGE('Score Sheet'!$J75:Q75),1),ROUND(AVERAGE('Score Sheet'!$I75:Q75),1)))","v":"R"},{"$f":"IF('Score Sheet'!R75=\"\",\"R\",IF('Race results'!$C$32>0,ROUND(AVERAGE('Score Sheet'!$J75:R75),1),ROUND(AVERAGE('Score Sheet'!$I75:R75),1)))","v":"R"},{"$f":"IF('Score Sheet'!S75=\"\",\"R\",IF('Race results'!$C$32>0,ROUND(AVERAGE('Score Sheet'!$J75:S75),1),ROUND(AVERAGE('Score Sheet'!$I75:S75),1)))","v":"R"},{"$f":"IF('Score Sheet'!T75=\"\",\"R\",IF('Race results'!$C$32>0,ROUND(AVERAGE('Score Sheet'!$J75:T75),1),ROUND(AVERAGE('Score Sheet'!$I75:T75),1)))","v":"R"},{"$f":"IF('Score Sheet'!U75=\"\",\"R\",IF('Race results'!$C$32>0,ROUND(AVERAGE('Score Sheet'!$J75:U75),1),ROUND(AVERAGE('Score Sheet'!$I75:U75),1)))","v":"R"},{"$f":"IF('Score Sheet'!V75=\"\",\"R\",IF('Race results'!$C$32>0,ROUND(AVERAGE('Score Sheet'!$J75:V75),1),ROUND(AVERAGE('Score Sheet'!$I75:V75),1)))","v":"R"},{"$f":"IF('Score Sheet'!W75=\"\",\"R\",IF('Race results'!$C$32>0,ROUND(AVERAGE('Score Sheet'!$J75:W75),1),ROUND(AVERAGE('Score Sheet'!$I75:W75),1)))","v":"R"},{"$f":"IF('Score Sheet'!X75=\"\",\"R\",IF('Race results'!$C$32>0,ROUND(AVERAGE('Score Sheet'!$J75:X75),1),ROUND(AVERAGE('Score Sheet'!$I75:X75),1)))","v":"R"},{"$f":"IF('Score Sheet'!Y75=\"\",\"R\",IF('Race results'!$C$32>0,ROUND(AVERAGE('Score Sheet'!$J75:Y75),1),ROUND(AVERAGE('Score Sheet'!$I75:Y75),1)))","v":"R"},{"$f":"IF('Score Sheet'!Z75=\"\",\"R\",IF('Race results'!$C$32>0,ROUND(AVERAGE('Score Sheet'!$J75:Z75),1),ROUND(AVERAGE('Score Sheet'!$I75:Z75),1)))","v":"R"},{"$f":"IF('Score Sheet'!AA75=\"\",\"R\",IF('Race results'!$C$32>0,ROUND(AVERAGE('Score Sheet'!$J75:AA75),1),ROUND(AVERAGE('Score Sheet'!$I75:AA75),1)))","v":"R"},{"$f":"IF('Score Sheet'!AB75=\"\",\"R\",IF('Race results'!$C$32>0,ROUND(AVERAGE('Score Sheet'!$J75:AB75),1),ROUND(AVERAGE('Score Sheet'!$I75:AB75),1)))","v":"R"},{"$f":"IF('Score Sheet'!AC75=\"\",\"R\",IF('Race results'!$C$32>0,ROUND(AVERAGE('Score Sheet'!$J75:AC75),1),ROUND(AVERAGE('Score Sheet'!$I75:AC75),1)))","v":"R"},{"$f":"IF('Score Sheet'!AD75=\"\",\"R\",IF('Race results'!$C$32>0,ROUND(AVERAGE('Score Sheet'!$J75:AD75),1),ROUND(AVERAGE('Score Sheet'!$I75:AD75),1)))","v":"R"},{"$f":"IF('Score Sheet'!AE75=\"\",\"R\",IF('Race results'!$C$32>0,ROUND(AVERAGE('Score Sheet'!$J75:AE75),1),ROUND(AVERAGE('Score Sheet'!$I75:AE75),1)))","v":"R"},{"$f":"IF('Score Sheet'!AF75=\"\",\"R\",IF('Race results'!$C$32>0,ROUND(AVERAGE('Score Sheet'!$J75:AF75),1),ROUND(AVERAGE('Score Sheet'!$I75:AF75),1)))","v":"R"},{"$f":"IF('Score Sheet'!AG75=\"\",\"R\",IF('Race results'!$C$32>0,ROUND(AVERAGE('Score Sheet'!$J75:AG75),1),ROUND(AVERAGE('Score Sheet'!$I75:AG75),1)))","v":"R"},{"$f":"IF('Score Sheet'!AH75=\"\",\"R\",IF('Race results'!$C$32>0,ROUND(AVERAGE('Score Sheet'!$J75:AH75),1),ROUND(AVERAGE('Score Sheet'!$I75:AH75),1)))","v":"R"},{"$f":"IF('Score Sheet'!AI75=\"\",\"R\",IF('Race results'!$C$32>0,ROUND(AVERAGE('Score Sheet'!$J75:AI75),1),ROUND(AVERAGE('Score Sheet'!$I75:AI75),1)))","v":"R"},{"$f":"IF('Score Sheet'!AJ75=\"\",\"R\",IF('Race results'!$C$32>0,ROUND(AVERAGE('Score Sheet'!$J75:AJ75),1),ROUND(AVERAGE('Score Sheet'!$I75:AJ75),1)))","v":"R"},{"$f":"IF('Score Sheet'!AK75=\"\",\"R\",IF('Race results'!$C$32>0,ROUND(AVERAGE('Score Sheet'!$J75:AK75),1),ROUND(AVERAGE('Score Sheet'!$I75:AK75),1)))","v":"R"},{"$f":"IF('Score Sheet'!AL75=\"\",\"R\",IF('Race results'!$C$32>0,ROUND(AVERAGE('Score Sheet'!$J75:AL75),1),ROUND(AVERAGE('Score Sheet'!$I75:AL75),1)))","v":"R"},{"$f":"IF('Score Sheet'!AM75=\"\",\"R\",IF('Race results'!$C$32>0,ROUND(AVERAGE('Score Sheet'!$J75:AM75),1),ROUND(AVERAGE('Score Sheet'!$I75:AM75),1)))","v":"R"},{"$f":"IF('Score Sheet'!AN75=\"\",\"R\",IF('Race results'!$C$32>0,ROUND(AVERAGE('Score Sheet'!$J75:AN75),1),ROUND(AVERAGE('Score Sheet'!$I75:AN75),1)))","v":"R"},{"$f":"IF('Score Sheet'!AO75=\"\",\"R\",IF('Race results'!$C$32>0,ROUND(AVERAGE('Score Sheet'!$J75:AO75),1),ROUND(AVERAGE('Score Sheet'!$I75:AO75),1)))","v":"R"},{"$f":"IF('Score Sheet'!AP75=\"\",\"R\",IF('Race results'!$C$32>0,ROUND(AVERAGE('Score Sheet'!$J75:AP75),1),ROUND(AVERAGE('Score Sheet'!$I75:AP75),1)))","v":"R"},{"$f":"IF('Score Sheet'!AQ75=\"\",\"R\",IF('Race results'!$C$32>0,ROUND(AVERAGE('Score Sheet'!$J75:AQ75),1),ROUND(AVERAGE('Score Sheet'!$I75:AQ75),1)))","v":"R"},{"$f":"IF('Score Sheet'!AR75=\"\",\"R\",IF('Race results'!$C$32>0,ROUND(AVERAGE('Score Sheet'!$J75:AR75),1),ROUND(AVERAGE('Score Sheet'!$I75:AR75),1)))","v":"R"},{"$f":"IF('Score Sheet'!AS75=\"\",\"R\",IF('Race results'!$C$32>0,ROUND(AVERAGE('Score Sheet'!$J75:AS75),1),ROUND(AVERAGE('Score Sheet'!$I75:AS75),1)))","v":"R"},{"$f":"IF('Score Sheet'!AT75=\"\",\"R\",IF('Race results'!$C$32>0,ROUND(AVERAGE('Score Sheet'!$J75:AT75),1),ROUND(AVERAGE('Score Sheet'!$I75:AT75),1)))","v":"R"},{"$f":"IF('Score Sheet'!AU75=\"\",\"R\",IF('Race results'!$C$32>0,ROUND(AVERAGE('Score Sheet'!$J75:AU75),1),ROUND(AVERAGE('Score Sheet'!$I75:AU75),1)))","v":"R"},{"$f":"IF('Score Sheet'!AV75=\"\",\"R\",IF('Race results'!$C$32>0,ROUND(AVERAGE('Score Sheet'!$J75:AV75),1),ROUND(AVERAGE('Score Sheet'!$I75:AV75),1)))","v":"R"},null,{"$f":"C75","v":""},{"$f":"IF(C75=\"\",\"\",IF('Race results'!$C$7<1, \"E\", IF('Race results'!$C$32>0,IF(COUNT(AY75:CL75)<1,\"R\",ROUND(AVERAGE(AY75:CL75),1)),IF(COUNT(AX75:CL75)<1,\"R\",ROUND(AVERAGE(AX75:CL75),1)))))","v":""},null,null,{"$f":"IF($C75=\"\",\"\",IF(ISERROR(VLOOKUP($C75,Race01Results,2,FALSE)),\"\",IF(VLOOKUP($C75,Race01Results,2,FALSE)=RDGevent,\"\",IF(ISNUMBER(VLOOKUP($C75,Race01Results,3,FALSE)),VLOOKUP($C75,Race01Results,3,FALSE),\"\"))))","v":""},{"$f":"IF($C75=\"\",\"\",IF(ISERROR(VLOOKUP($C75,Race02Results,2,FALSE)),\"\",IF(VLOOKUP($C75,Race02Results,2,FALSE)=RDGevent,\"\",IF(ISNUMBER(VLOOKUP($C75,Race02Results,3,FALSE)),VLOOKUP($C75,Race02Results,3,FALSE),\"\"))))","v":""},{"$f":"IF($C75=\"\",\"\",IF(ISERROR(VLOOKUP($C75,Race03Results,2,FALSE)),\"\",IF(VLOOKUP($C75,Race03Results,2,FALSE)=RDGevent,\"\",IF(ISNUMBER(VLOOKUP($C75,Race03Results,3,FALSE)),VLOOKUP($C75,Race03Results,3,FALSE),\"\"))))","v":""},{"$f":"IF($C75=\"\",\"\",IF(ISERROR(VLOOKUP($C75,Race04Results,2,FALSE)),\"\",IF(VLOOKUP($C75,Race04Results,2,FALSE)=RDGevent,\"\",IF(ISNUMBER(VLOOKUP($C75,Race04Results,3,FALSE)),VLOOKUP($C75,Race04Results,3,FALSE),\"\"))))","v":""},{"$f":"IF($C75=\"\",\"\",IF(ISERROR(VLOOKUP($C75,Race05Results,2,FALSE)),\"\",IF(VLOOKUP($C75,Race05Results,2,FALSE)=RDGevent,\"\",IF(ISNUMBER(VLOOKUP($C75,Race05Results,3,FALSE)),VLOOKUP($C75,Race05Results,3,FALSE),\"\"))))","v":""},{"$f":"IF($C75=\"\",\"\",IF(ISERROR(VLOOKUP($C75,Race06Results,2,FALSE)),\"\",IF(VLOOKUP($C75,Race06Results,2,FALSE)=RDGevent,\"\",IF(ISNUMBER(VLOOKUP($C75,Race06Results,3,FALSE)),VLOOKUP($C75,Race06Results,3,FALSE),\"\"))))","v":""},{"$f":"IF($C75=\"\",\"\",IF(ISERROR(VLOOKUP($C75,Race07Results,2,FALSE)),\"\",IF(VLOOKUP($C75,Race07Results,2,FALSE)=RDGevent,\"\",IF(ISNUMBER(VLOOKUP($C75,Race07Results,3,FALSE)),VLOOKUP($C75,Race07Results,3,FALSE),\"\"))))","v":""},{"$f":"IF($C75=\"\",\"\",IF(ISERROR(VLOOKUP($C75,Race08Results,2,FALSE)),\"\",IF(VLOOKUP($C75,Race08Results,2,FALSE)=RDGevent,\"\",IF(ISNUMBER(VLOOKUP($C75,Race08Results,3,FALSE)),VLOOKUP($C75,Race08Results,3,FALSE),\"\"))))","v":""},{"$f":"IF($C75=\"\",\"\",IF(ISERROR(VLOOKUP($C75,Race09Results,2,FALSE)),\"\",IF(VLOOKUP($C75,Race09Results,2,FALSE)=RDGevent,\"\",IF(ISNUMBER(VLOOKUP($C75,Race09Results,3,FALSE)),VLOOKUP($C75,Race09Results,3,FALSE),\"\"))))","v":""},{"$f":"IF($C75=\"\",\"\",IF(ISERROR(VLOOKUP($C75,Race10Results,2,FALSE)),\"\",IF(VLOOKUP($C75,Race10Results,2,FALSE)=RDGevent,\"\",IF(ISNUMBER(VLOOKUP($C75,Race10Results,3,FALSE)),VLOOKUP($C75,Race10Results,3,FALSE),\"\"))))","v":""},{"$f":"IF($C75=\"\",\"\",IF(ISERROR(VLOOKUP($C75,Race11Results,2,FALSE)),\"\",IF(VLOOKUP($C75,Race11Results,2,FALSE)=RDGevent,\"\",IF(ISNUMBER(VLOOKUP($C75,Race11Results,3,FALSE)),VLOOKUP($C75,Race11Results,3,FALSE),\"\"))))","v":""},{"$f":"IF($C75=\"\",\"\",IF(ISERROR(VLOOKUP($C75,Race12Results,2,FALSE)),\"\",IF(VLOOKUP($C75,Race12Results,2,FALSE)=RDGevent,\"\",IF(ISNUMBER(VLOOKUP($C75,Race12Results,3,FALSE)),VLOOKUP($C75,Race12Results,3,FALSE),\"\"))))","v":""},{"$f":"IF($C75=\"\",\"\",IF(ISERROR(VLOOKUP($C75,Race13Results,2,FALSE)),\"\",IF(VLOOKUP($C75,Race13Results,2,FALSE)=RDGevent,\"\",IF(ISNUMBER(VLOOKUP($C75,Race13Results,3,FALSE)),VLOOKUP($C75,Race13Results,3,FALSE),\"\"))))","v":""},{"$f":"IF($C75=\"\",\"\",IF(ISERROR(VLOOKUP($C75,Race14Results,2,FALSE)),\"\",IF(VLOOKUP($C75,Race14Results,2,FALSE)=RDGevent,\"\",IF(ISNUMBER(VLOOKUP($C75,Race14Results,3,FALSE)),VLOOKUP($C75,Race14Results,3,FALSE),\"\"))))","v":""},{"$f":"IF($C75=\"\",\"\",IF(ISERROR(VLOOKUP($C75,Race15Results,2,FALSE)),\"\",IF(VLOOKUP($C75,Race15Results,2,FALSE)=RDGevent,\"\",IF(ISNUMBER(VLOOKUP($C75,Race15Results,3,FALSE)),VLOOKUP($C75,Race15Results,3,FALSE),\"\"))))","v":""},{"$f":"IF($C75=\"\",\"\",IF(ISERROR(VLOOKUP($C75,Race16Results,2,FALSE)),\"\",IF(VLOOKUP($C75,Race16Results,2,FALSE)=RDGevent,\"\",IF(ISNUMBER(VLOOKUP($C75,Race16Results,3,FALSE)),VLOOKUP($C75,Race16Results,3,FALSE),\"\"))))","v":""},{"$f":"IF($C75=\"\",\"\",IF(ISERROR(VLOOKUP($C75,Race17Results,2,FALSE)),\"\",IF(VLOOKUP($C75,Race17Results,2,FALSE)=RDGevent,\"\",IF(ISNUMBER(VLOOKUP($C75,Race17Results,3,FALSE)),VLOOKUP($C75,Race17Results,3,FALSE),\"\"))))","v":""},{"$f":"IF($C75=\"\",\"\",IF(ISERROR(VLOOKUP($C75,Race18Results,2,FALSE)),\"\",IF(VLOOKUP($C75,Race18Results,2,FALSE)=RDGevent,\"\",IF(ISNUMBER(VLOOKUP($C75,Race18Results,3,FALSE)),VLOOKUP($C75,Race18Results,3,FALSE),\"\"))))","v":""},{"$f":"IF($C75=\"\",\"\",IF(ISERROR(VLOOKUP($C75,Race19Results,2,FALSE)),\"\",IF(VLOOKUP($C75,Race19Results,2,FALSE)=RDGevent,\"\",IF(ISNUMBER(VLOOKUP($C75,Race19Results,3,FALSE)),VLOOKUP($C75,Race19Results,3,FALSE),\"\"))))","v":""},{"$f":"IF($C75=\"\",\"\",IF(ISERROR(VLOOKUP($C75,Race20Results,2,FALSE)),\"\",IF(VLOOKUP($C75,Race20Results,2,FALSE)=RDGevent,\"\",IF(ISNUMBER(VLOOKUP($C75,Race20Results,3,FALSE)),VLOOKUP($C75,Race20Results,3,FALSE),\"\"))))","v":""},{"$f":"IF($C75=\"\",\"\",IF(ISERROR(VLOOKUP($C75,Race21Results,2,FALSE)),\"\",IF(VLOOKUP($C75,Race21Results,2,FALSE)=RDGevent,\"\",IF(ISNUMBER(VLOOKUP($C75,Race21Results,3,FALSE)),VLOOKUP($C75,Race21Results,3,FALSE),\"\"))))","v":""},{"$f":"IF($C75=\"\",\"\",IF(ISERROR(VLOOKUP($C75,Race22Results,2,FALSE)),\"\",IF(VLOOKUP($C75,Race22Results,2,FALSE)=RDGevent,\"\",IF(ISNUMBER(VLOOKUP($C75,Race22Results,3,FALSE)),VLOOKUP($C75,Race22Results,3,FALSE),\"\"))))","v":""},{"$f":"IF($C75=\"\",\"\",IF(ISERROR(VLOOKUP($C75,Race23Results,2,FALSE)),\"\",IF(VLOOKUP($C75,Race23Results,2,FALSE)=RDGevent,\"\",IF(ISNUMBER(VLOOKUP($C75,Race23Results,3,FALSE)),VLOOKUP($C75,Race23Results,3,FALSE),\"\"))))","v":""},{"$f":"IF($C75=\"\",\"\",IF(ISERROR(VLOOKUP($C75,Race24Results,2,FALSE)),\"\",IF(VLOOKUP($C75,Race24Results,2,FALSE)=RDGevent,\"\",IF(ISNUMBER(VLOOKUP($C75,Race24Results,3,FALSE)),VLOOKUP($C75,Race24Results,3,FALSE),\"\"))))","v":""},{"$f":"IF($C75=\"\",\"\",IF(ISERROR(VLOOKUP($C75,Race25Results,2,FALSE)),\"\",IF(VLOOKUP($C75,Race25Results,2,FALSE)=RDGevent,\"\",IF(ISNUMBER(VLOOKUP($C75,Race25Results,3,FALSE)),VLOOKUP($C75,Race25Results,3,FALSE),\"\"))))","v":""},{"$f":"IF($C75=\"\",\"\",IF(ISERROR(VLOOKUP($C75,Race26Results,2,FALSE)),\"\",IF(VLOOKUP($C75,Race26Results,2,FALSE)=RDGevent,\"\",IF(ISNUMBER(VLOOKUP($C75,Race26Results,3,FALSE)),VLOOKUP($C75,Race26Results,3,FALSE),\"\"))))","v":""},{"$f":"IF($C75=\"\",\"\",IF(ISERROR(VLOOKUP($C75,Race27Results,2,FALSE)),\"\",IF(VLOOKUP($C75,Race27Results,2,FALSE)=RDGevent,\"\",IF(ISNUMBER(VLOOKUP($C75,Race27Results,3,FALSE)),VLOOKUP($C75,Race27Results,3,FALSE),\"\"))))","v":""},{"$f":"IF($C75=\"\",\"\",IF(ISERROR(VLOOKUP($C75,Race28Results,2,FALSE)),\"\",IF(VLOOKUP($C75,Race28Results,2,FALSE)=RDGevent,\"\",IF(ISNUMBER(VLOOKUP($C75,Race28Results,3,FALSE)),VLOOKUP($C75,Race28Results,3,FALSE),\"\"))))","v":""},{"$f":"IF($C75=\"\",\"\",IF(ISERROR(VLOOKUP($C75,Race29Results,2,FALSE)),\"\",IF(VLOOKUP($C75,Race29Results,2,FALSE)=RDGevent,\"\",IF(ISNUMBER(VLOOKUP($C75,Race29Results,3,FALSE)),VLOOKUP($C75,Race29Results,3,FALSE),\"\"))))","v":""},{"$f":"IF($C75=\"\",\"\",IF(ISERROR(VLOOKUP($C75,Race30Results,2,FALSE)),\"\",IF(VLOOKUP($C75,Race30Results,2,FALSE)=RDGevent,\"\",IF(ISNUMBER(VLOOKUP($C75,Race30Results,3,FALSE)),VLOOKUP($C75,Race30Results,3,FALSE),\"\"))))","v":""},{"$f":"IF($C75=\"\",\"\",IF(ISERROR(VLOOKUP($C75,Race31Results,2,FALSE)),\"\",IF(VLOOKUP($C75,Race31Results,2,FALSE)=RDGevent,\"\",IF(ISNUMBER(VLOOKUP($C75,Race31Results,3,FALSE)),VLOOKUP($C75,Race31Results,3,FALSE),\"\"))))","v":""},{"$f":"IF($C75=\"\",\"\",IF(ISERROR(VLOOKUP($C75,Race32Results,2,FALSE)),\"\",IF(VLOOKUP($C75,Race32Results,2,FALSE)=RDGevent,\"\",IF(ISNUMBER(VLOOKUP($C75,Race32Results,3,FALSE)),VLOOKUP($C75,Race32Results,3,FALSE),\"\"))))","v":""},{"$f":"IF($C75=\"\",\"\",IF(ISERROR(VLOOKUP($C75,Race33Results,2,FALSE)),\"\",IF(VLOOKUP($C75,Race33Results,2,FALSE)=RDGevent,\"\",IF(ISNUMBER(VLOOKUP($C75,Race33Results,3,FALSE)),VLOOKUP($C75,Race33Results,3,FALSE),\"\"))))","v":""},{"$f":"IF($C75=\"\",\"\",IF(ISERROR(VLOOKUP($C75,Race34Results,2,FALSE)),\"\",IF(VLOOKUP($C75,Race34Results,2,FALSE)=RDGevent,\"\",IF(ISNUMBER(VLOOKUP($C75,Race34Results,3,FALSE)),VLOOKUP($C75,Race34Results,3,FALSE),\"\"))))","v":""},{"$f":"IF($C75=\"\",\"\",IF(ISERROR(VLOOKUP($C75,Race35Results,2,FALSE)),\"\",IF(VLOOKUP($C75,Race35Results,2,FALSE)=RDGevent,\"\",IF(ISNUMBER(VLOOKUP($C75,Race35Results,3,FALSE)),VLOOKUP($C75,Race35Results,3,FALSE),\"\"))))","v":""},{"$f":"IF($C75=\"\",\"\",IF(ISERROR(VLOOKUP($C75,Race36Results,2,FALSE)),\"\",IF(VLOOKUP($C75,Race36Results,2,FALSE)=RDGevent,\"\",IF(ISNUMBER(VLOOKUP($C75,Race36Results,3,FALSE)),VLOOKUP($C75,Race36Results,3,FALSE),\"\"))))","v":""},{"$f":"IF($C75=\"\",\"\",IF(ISERROR(VLOOKUP($C75,Race37Results,2,FALSE)),\"\",IF(VLOOKUP($C75,Race37Results,2,FALSE)=RDGevent,\"\",IF(ISNUMBER(VLOOKUP($C75,Race37Results,3,FALSE)),VLOOKUP($C75,Race37Results,3,FALSE),\"\"))))","v":""},{"$f":"IF($C75=\"\",\"\",IF(ISERROR(VLOOKUP($C75,Race38Results,2,FALSE)),\"\",IF(VLOOKUP($C75,Race38Results,2,FALSE)=RDGevent,\"\",IF(ISNUMBER(VLOOKUP($C75,Race38Results,3,FALSE)),VLOOKUP($C75,Race38Results,3,FALSE),\"\"))))","v":""},{"$f":"IF($C75=\"\",\"\",IF(ISERROR(VLOOKUP($C75,Race39Results,2,FALSE)),\"\",IF(VLOOKUP($C75,Race39Results,2,FALSE)=RDGevent,\"\",IF(ISNUMBER(VLOOKUP($C75,Race39Results,3,FALSE)),VLOOKUP($C75,Race39Results,3,FALSE),\"\"))))","v":""},{"$f":"IF($C75=\"\",\"\",IF(ISERROR(VLOOKUP($C75,Race40Results,2,FALSE)),\"\",IF(VLOOKUP($C75,Race40Results,2,FALSE)=RDGevent,\"\",IF(ISNUMBER(VLOOKUP($C75,Race40Results,3,FALSE)),VLOOKUP($C75,Race40Results,3,FALSE),\"\"))))","v":""},{"$f":"IF($C75=\"\",\"\",IF(ISERROR(VLOOKUP($C75,Race41Results,2,FALSE)),\"\",IF(VLOOKUP($C75,Race41Results,2,FALSE)=RDGevent,\"\",IF(ISNUMBER(VLOOKUP($C75,Race41Results,3,FALSE)),VLOOKUP($C75,Race41Results,3,FALSE),\"\"))))","v":""}]
[null,67,{"$f":"IF('Score Sheet'!C76=\"\",\"\",'Score Sheet'!C76)","v":""},{"$f":"'Race results'!$F$159","v":"DAFT!"},{"$f":"'Race results'!$F$159","v":"DAFT!"},{"$f":"IF('Score Sheet'!J76=\"\",\"R\",IF('Race results'!$C$32>0,'Race results'!$F$159,ROUND(AVERAGE('Score Sheet'!$I76:J76),1)))","v":"R"},{"$f":"IF('Score Sheet'!K76=\"\",\"R\",IF('Race results'!$C$32>0,ROUND(AVERAGE('Score Sheet'!$J76:K76),1),ROUND(AVERAGE('Score Sheet'!$I76:K76),1)))","v":"R"},{"$f":"IF('Score Sheet'!L76=\"\",\"R\",IF('Race results'!$C$32>0,ROUND(AVERAGE('Score Sheet'!$J76:L76),1),ROUND(AVERAGE('Score Sheet'!$I76:L76),1)))","v":"R"},{"$f":"IF('Score Sheet'!M76=\"\",\"R\",IF('Race results'!$C$32>0,ROUND(AVERAGE('Score Sheet'!$J76:M76),1),ROUND(AVERAGE('Score Sheet'!$I76:M76),1)))","v":"R"},{"$f":"IF('Score Sheet'!N76=\"\",\"R\",IF('Race results'!$C$32>0,ROUND(AVERAGE('Score Sheet'!$J76:N76),1),ROUND(AVERAGE('Score Sheet'!$I76:N76),1)))","v":"R"},{"$f":"IF('Score Sheet'!O76=\"\",\"R\",IF('Race results'!$C$32>0,ROUND(AVERAGE('Score Sheet'!$J76:O76),1),ROUND(AVERAGE('Score Sheet'!$I76:O76),1)))","v":"R"},{"$f":"IF('Score Sheet'!P76=\"\",\"R\",IF('Race results'!$C$32>0,ROUND(AVERAGE('Score Sheet'!$J76:P76),1),ROUND(AVERAGE('Score Sheet'!$I76:P76),1)))","v":"R"},{"$f":"IF('Score Sheet'!Q76=\"\",\"R\",IF('Race results'!$C$32>0,ROUND(AVERAGE('Score Sheet'!$J76:Q76),1),ROUND(AVERAGE('Score Sheet'!$I76:Q76),1)))","v":"R"},{"$f":"IF('Score Sheet'!R76=\"\",\"R\",IF('Race results'!$C$32>0,ROUND(AVERAGE('Score Sheet'!$J76:R76),1),ROUND(AVERAGE('Score Sheet'!$I76:R76),1)))","v":"R"},{"$f":"IF('Score Sheet'!S76=\"\",\"R\",IF('Race results'!$C$32>0,ROUND(AVERAGE('Score Sheet'!$J76:S76),1),ROUND(AVERAGE('Score Sheet'!$I76:S76),1)))","v":"R"},{"$f":"IF('Score Sheet'!T76=\"\",\"R\",IF('Race results'!$C$32>0,ROUND(AVERAGE('Score Sheet'!$J76:T76),1),ROUND(AVERAGE('Score Sheet'!$I76:T76),1)))","v":"R"},{"$f":"IF('Score Sheet'!U76=\"\",\"R\",IF('Race results'!$C$32>0,ROUND(AVERAGE('Score Sheet'!$J76:U76),1),ROUND(AVERAGE('Score Sheet'!$I76:U76),1)))","v":"R"},{"$f":"IF('Score Sheet'!V76=\"\",\"R\",IF('Race results'!$C$32>0,ROUND(AVERAGE('Score Sheet'!$J76:V76),1),ROUND(AVERAGE('Score Sheet'!$I76:V76),1)))","v":"R"},{"$f":"IF('Score Sheet'!W76=\"\",\"R\",IF('Race results'!$C$32>0,ROUND(AVERAGE('Score Sheet'!$J76:W76),1),ROUND(AVERAGE('Score Sheet'!$I76:W76),1)))","v":"R"},{"$f":"IF('Score Sheet'!X76=\"\",\"R\",IF('Race results'!$C$32>0,ROUND(AVERAGE('Score Sheet'!$J76:X76),1),ROUND(AVERAGE('Score Sheet'!$I76:X76),1)))","v":"R"},{"$f":"IF('Score Sheet'!Y76=\"\",\"R\",IF('Race results'!$C$32>0,ROUND(AVERAGE('Score Sheet'!$J76:Y76),1),ROUND(AVERAGE('Score Sheet'!$I76:Y76),1)))","v":"R"},{"$f":"IF('Score Sheet'!Z76=\"\",\"R\",IF('Race results'!$C$32>0,ROUND(AVERAGE('Score Sheet'!$J76:Z76),1),ROUND(AVERAGE('Score Sheet'!$I76:Z76),1)))","v":"R"},{"$f":"IF('Score Sheet'!AA76=\"\",\"R\",IF('Race results'!$C$32>0,ROUND(AVERAGE('Score Sheet'!$J76:AA76),1),ROUND(AVERAGE('Score Sheet'!$I76:AA76),1)))","v":"R"},{"$f":"IF('Score Sheet'!AB76=\"\",\"R\",IF('Race results'!$C$32>0,ROUND(AVERAGE('Score Sheet'!$J76:AB76),1),ROUND(AVERAGE('Score Sheet'!$I76:AB76),1)))","v":"R"},{"$f":"IF('Score Sheet'!AC76=\"\",\"R\",IF('Race results'!$C$32>0,ROUND(AVERAGE('Score Sheet'!$J76:AC76),1),ROUND(AVERAGE('Score Sheet'!$I76:AC76),1)))","v":"R"},{"$f":"IF('Score Sheet'!AD76=\"\",\"R\",IF('Race results'!$C$32>0,ROUND(AVERAGE('Score Sheet'!$J76:AD76),1),ROUND(AVERAGE('Score Sheet'!$I76:AD76),1)))","v":"R"},{"$f":"IF('Score Sheet'!AE76=\"\",\"R\",IF('Race results'!$C$32>0,ROUND(AVERAGE('Score Sheet'!$J76:AE76),1),ROUND(AVERAGE('Score Sheet'!$I76:AE76),1)))","v":"R"},{"$f":"IF('Score Sheet'!AF76=\"\",\"R\",IF('Race results'!$C$32>0,ROUND(AVERAGE('Score Sheet'!$J76:AF76),1),ROUND(AVERAGE('Score Sheet'!$I76:AF76),1)))","v":"R"},{"$f":"IF('Score Sheet'!AG76=\"\",\"R\",IF('Race results'!$C$32>0,ROUND(AVERAGE('Score Sheet'!$J76:AG76),1),ROUND(AVERAGE('Score Sheet'!$I76:AG76),1)))","v":"R"},{"$f":"IF('Score Sheet'!AH76=\"\",\"R\",IF('Race results'!$C$32>0,ROUND(AVERAGE('Score Sheet'!$J76:AH76),1),ROUND(AVERAGE('Score Sheet'!$I76:AH76),1)))","v":"R"},{"$f":"IF('Score Sheet'!AI76=\"\",\"R\",IF('Race results'!$C$32>0,ROUND(AVERAGE('Score Sheet'!$J76:AI76),1),ROUND(AVERAGE('Score Sheet'!$I76:AI76),1)))","v":"R"},{"$f":"IF('Score Sheet'!AJ76=\"\",\"R\",IF('Race results'!$C$32>0,ROUND(AVERAGE('Score Sheet'!$J76:AJ76),1),ROUND(AVERAGE('Score Sheet'!$I76:AJ76),1)))","v":"R"},{"$f":"IF('Score Sheet'!AK76=\"\",\"R\",IF('Race results'!$C$32>0,ROUND(AVERAGE('Score Sheet'!$J76:AK76),1),ROUND(AVERAGE('Score Sheet'!$I76:AK76),1)))","v":"R"},{"$f":"IF('Score Sheet'!AL76=\"\",\"R\",IF('Race results'!$C$32>0,ROUND(AVERAGE('Score Sheet'!$J76:AL76),1),ROUND(AVERAGE('Score Sheet'!$I76:AL76),1)))","v":"R"},{"$f":"IF('Score Sheet'!AM76=\"\",\"R\",IF('Race results'!$C$32>0,ROUND(AVERAGE('Score Sheet'!$J76:AM76),1),ROUND(AVERAGE('Score Sheet'!$I76:AM76),1)))","v":"R"},{"$f":"IF('Score Sheet'!AN76=\"\",\"R\",IF('Race results'!$C$32>0,ROUND(AVERAGE('Score Sheet'!$J76:AN76),1),ROUND(AVERAGE('Score Sheet'!$I76:AN76),1)))","v":"R"},{"$f":"IF('Score Sheet'!AO76=\"\",\"R\",IF('Race results'!$C$32>0,ROUND(AVERAGE('Score Sheet'!$J76:AO76),1),ROUND(AVERAGE('Score Sheet'!$I76:AO76),1)))","v":"R"},{"$f":"IF('Score Sheet'!AP76=\"\",\"R\",IF('Race results'!$C$32>0,ROUND(AVERAGE('Score Sheet'!$J76:AP76),1),ROUND(AVERAGE('Score Sheet'!$I76:AP76),1)))","v":"R"},{"$f":"IF('Score Sheet'!AQ76=\"\",\"R\",IF('Race results'!$C$32>0,ROUND(AVERAGE('Score Sheet'!$J76:AQ76),1),ROUND(AVERAGE('Score Sheet'!$I76:AQ76),1)))","v":"R"},{"$f":"IF('Score Sheet'!AR76=\"\",\"R\",IF('Race results'!$C$32>0,ROUND(AVERAGE('Score Sheet'!$J76:AR76),1),ROUND(AVERAGE('Score Sheet'!$I76:AR76),1)))","v":"R"},{"$f":"IF('Score Sheet'!AS76=\"\",\"R\",IF('Race results'!$C$32>0,ROUND(AVERAGE('Score Sheet'!$J76:AS76),1),ROUND(AVERAGE('Score Sheet'!$I76:AS76),1)))","v":"R"},{"$f":"IF('Score Sheet'!AT76=\"\",\"R\",IF('Race results'!$C$32>0,ROUND(AVERAGE('Score Sheet'!$J76:AT76),1),ROUND(AVERAGE('Score Sheet'!$I76:AT76),1)))","v":"R"},{"$f":"IF('Score Sheet'!AU76=\"\",\"R\",IF('Race results'!$C$32>0,ROUND(AVERAGE('Score Sheet'!$J76:AU76),1),ROUND(AVERAGE('Score Sheet'!$I76:AU76),1)))","v":"R"},{"$f":"IF('Score Sheet'!AV76=\"\",\"R\",IF('Race results'!$C$32>0,ROUND(AVERAGE('Score Sheet'!$J76:AV76),1),ROUND(AVERAGE('Score Sheet'!$I76:AV76),1)))","v":"R"},null,"",{"$f":"IF(C76=\"\",\"\",IF('Race results'!$C$7<1, \"E\", IF('Race results'!$C$32>0,IF(COUNT(AY76:CL76)<1,\"R\",ROUND(AVERAGE(AY76:CL76),1)),IF(COUNT(AX76:CL76)<1,\"R\",ROUND(AVERAGE(AX76:CL76),1)))))","v":""},null,null,"","","","","","","","","","","","","","","","","","","","","","","","","","","","","","","","","","","","","","","","",""]
[null,68,{"$f":"IF('Score Sheet'!C77=\"\",\"\",'Score Sheet'!C77)","v":""},{"$f":"'Race results'!$F$159","v":"DAFT!"},{"$f":"'Race results'!$F$159","v":"DAFT!"},{"$f":"IF('Score Sheet'!J77=\"\",\"R\",IF('Race results'!$C$32>0,'Race results'!$F$159,ROUND(AVERAGE('Score Sheet'!$I77:J77),1)))","v":"R"},{"$f":"IF('Score Sheet'!K77=\"\",\"R\",IF('Race results'!$C$32>0,ROUND(AVERAGE('Score Sheet'!$J77:K77),1),ROUND(AVERAGE('Score Sheet'!$I77:K77),1)))","v":"R"},{"$f":"IF('Score Sheet'!L77=\"\",\"R\",IF('Race results'!$C$32>0,ROUND(AVERAGE('Score Sheet'!$J77:L77),1),ROUND(AVERAGE('Score Sheet'!$I77:L77),1)))","v":"R"},{"$f":"IF('Score Sheet'!M77=\"\",\"R\",IF('Race results'!$C$32>0,ROUND(AVERAGE('Score Sheet'!$J77:M77),1),ROUND(AVERAGE('Score Sheet'!$I77:M77),1)))","v":"R"},{"$f":"IF('Score Sheet'!N77=\"\",\"R\",IF('Race results'!$C$32>0,ROUND(AVERAGE('Score Sheet'!$J77:N77),1),ROUND(AVERAGE('Score Sheet'!$I77:N77),1)))","v":"R"},{"$f":"IF('Score Sheet'!O77=\"\",\"R\",IF('Race results'!$C$32>0,ROUND(AVERAGE('Score Sheet'!$J77:O77),1),ROUND(AVERAGE('Score Sheet'!$I77:O77),1)))","v":"R"},{"$f":"IF('Score Sheet'!P77=\"\",\"R\",IF('Race results'!$C$32>0,ROUND(AVERAGE('Score Sheet'!$J77:P77),1),ROUND(AVERAGE('Score Sheet'!$I77:P77),1)))","v":"R"},{"$f":"IF('Score Sheet'!Q77=\"\",\"R\",IF('Race results'!$C$32>0,ROUND(AVERAGE('Score Sheet'!$J77:Q77),1),ROUND(AVERAGE('Score Sheet'!$I77:Q77),1)))","v":"R"},{"$f":"IF('Score Sheet'!R77=\"\",\"R\",IF('Race results'!$C$32>0,ROUND(AVERAGE('Score Sheet'!$J77:R77),1),ROUND(AVERAGE('Score Sheet'!$I77:R77),1)))","v":"R"},{"$f":"IF('Score Sheet'!S77=\"\",\"R\",IF('Race results'!$C$32>0,ROUND(AVERAGE('Score Sheet'!$J77:S77),1),ROUND(AVERAGE('Score Sheet'!$I77:S77),1)))","v":"R"},{"$f":"IF('Score Sheet'!T77=\"\",\"R\",IF('Race results'!$C$32>0,ROUND(AVERAGE('Score Sheet'!$J77:T77),1),ROUND(AVERAGE('Score Sheet'!$I77:T77),1)))","v":"R"},{"$f":"IF('Score Sheet'!U77=\"\",\"R\",IF('Race results'!$C$32>0,ROUND(AVERAGE('Score Sheet'!$J77:U77),1),ROUND(AVERAGE('Score Sheet'!$I77:U77),1)))","v":"R"},{"$f":"IF('Score Sheet'!V77=\"\",\"R\",IF('Race results'!$C$32>0,ROUND(AVERAGE('Score Sheet'!$J77:V77),1),ROUND(AVERAGE('Score Sheet'!$I77:V77),1)))","v":"R"},{"$f":"IF('Score Sheet'!W77=\"\",\"R\",IF('Race results'!$C$32>0,ROUND(AVERAGE('Score Sheet'!$J77:W77),1),ROUND(AVERAGE('Score Sheet'!$I77:W77),1)))","v":"R"},{"$f":"IF('Score Sheet'!X77=\"\",\"R\",IF('Race results'!$C$32>0,ROUND(AVERAGE('Score Sheet'!$J77:X77),1),ROUND(AVERAGE('Score Sheet'!$I77:X77),1)))","v":"R"},{"$f":"IF('Score Sheet'!Y77=\"\",\"R\",IF('Race results'!$C$32>0,ROUND(AVERAGE('Score Sheet'!$J77:Y77),1),ROUND(AVERAGE('Score Sheet'!$I77:Y77),1)))","v":"R"},{"$f":"IF('Score Sheet'!Z77=\"\",\"R\",IF('Race results'!$C$32>0,ROUND(AVERAGE('Score Sheet'!$J77:Z77),1),ROUND(AVERAGE('Score Sheet'!$I77:Z77),1)))","v":"R"},{"$f":"IF('Score Sheet'!AA77=\"\",\"R\",IF('Race results'!$C$32>0,ROUND(AVERAGE('Score Sheet'!$J77:AA77),1),ROUND(AVERAGE('Score Sheet'!$I77:AA77),1)))","v":"R"},{"$f":"IF('Score Sheet'!AB77=\"\",\"R\",IF('Race results'!$C$32>0,ROUND(AVERAGE('Score Sheet'!$J77:AB77),1),ROUND(AVERAGE('Score Sheet'!$I77:AB77),1)))","v":"R"},{"$f":"IF('Score Sheet'!AC77=\"\",\"R\",IF('Race results'!$C$32>0,ROUND(AVERAGE('Score Sheet'!$J77:AC77),1),ROUND(AVERAGE('Score Sheet'!$I77:AC77),1)))","v":"R"},{"$f":"IF('Score Sheet'!AD77=\"\",\"R\",IF('Race results'!$C$32>0,ROUND(AVERAGE('Score Sheet'!$J77:AD77),1),ROUND(AVERAGE('Score Sheet'!$I77:AD77),1)))","v":"R"},{"$f":"IF('Score Sheet'!AE77=\"\",\"R\",IF('Race results'!$C$32>0,ROUND(AVERAGE('Score Sheet'!$J77:AE77),1),ROUND(AVERAGE('Score Sheet'!$I77:AE77),1)))","v":"R"},{"$f":"IF('Score Sheet'!AF77=\"\",\"R\",IF('Race results'!$C$32>0,ROUND(AVERAGE('Score Sheet'!$J77:AF77),1),ROUND(AVERAGE('Score Sheet'!$I77:AF77),1)))","v":"R"},{"$f":"IF('Score Sheet'!AG77=\"\",\"R\",IF('Race results'!$C$32>0,ROUND(AVERAGE('Score Sheet'!$J77:AG77),1),ROUND(AVERAGE('Score Sheet'!$I77:AG77),1)))","v":"R"},{"$f":"IF('Score Sheet'!AH77=\"\",\"R\",IF('Race results'!$C$32>0,ROUND(AVERAGE('Score Sheet'!$J77:AH77),1),ROUND(AVERAGE('Score Sheet'!$I77:AH77),1)))","v":"R"},{"$f":"IF('Score Sheet'!AI77=\"\",\"R\",IF('Race results'!$C$32>0,ROUND(AVERAGE('Score Sheet'!$J77:AI77),1),ROUND(AVERAGE('Score Sheet'!$I77:AI77),1)))","v":"R"},{"$f":"IF('Score Sheet'!AJ77=\"\",\"R\",IF('Race results'!$C$32>0,ROUND(AVERAGE('Score Sheet'!$J77:AJ77),1),ROUND(AVERAGE('Score Sheet'!$I77:AJ77),1)))","v":"R"},{"$f":"IF('Score Sheet'!AK77=\"\",\"R\",IF('Race results'!$C$32>0,ROUND(AVERAGE('Score Sheet'!$J77:AK77),1),ROUND(AVERAGE('Score Sheet'!$I77:AK77),1)))","v":"R"},{"$f":"IF('Score Sheet'!AL77=\"\",\"R\",IF('Race results'!$C$32>0,ROUND(AVERAGE('Score Sheet'!$J77:AL77),1),ROUND(AVERAGE('Score Sheet'!$I77:AL77),1)))","v":"R"},{"$f":"IF('Score Sheet'!AM77=\"\",\"R\",IF('Race results'!$C$32>0,ROUND(AVERAGE('Score Sheet'!$J77:AM77),1),ROUND(AVERAGE('Score Sheet'!$I77:AM77),1)))","v":"R"},{"$f":"IF('Score Sheet'!AN77=\"\",\"R\",IF('Race results'!$C$32>0,ROUND(AVERAGE('Score Sheet'!$J77:AN77),1),ROUND(AVERAGE('Score Sheet'!$I77:AN77),1)))","v":"R"},{"$f":"IF('Score Sheet'!AO77=\"\",\"R\",IF('Race results'!$C$32>0,ROUND(AVERAGE('Score Sheet'!$J77:AO77),1),ROUND(AVERAGE('Score Sheet'!$I77:AO77),1)))","v":"R"},{"$f":"IF('Score Sheet'!AP77=\"\",\"R\",IF('Race results'!$C$32>0,ROUND(AVERAGE('Score Sheet'!$J77:AP77),1),ROUND(AVERAGE('Score Sheet'!$I77:AP77),1)))","v":"R"},{"$f":"IF('Score Sheet'!AQ77=\"\",\"R\",IF('Race results'!$C$32>0,ROUND(AVERAGE('Score Sheet'!$J77:AQ77),1),ROUND(AVERAGE('Score Sheet'!$I77:AQ77),1)))","v":"R"},{"$f":"IF('Score Sheet'!AR77=\"\",\"R\",IF('Race results'!$C$32>0,ROUND(AVERAGE('Score Sheet'!$J77:AR77),1),ROUND(AVERAGE('Score Sheet'!$I77:AR77),1)))","v":"R"},{"$f":"IF('Score Sheet'!AS77=\"\",\"R\",IF('Race results'!$C$32>0,ROUND(AVERAGE('Score Sheet'!$J77:AS77),1),ROUND(AVERAGE('Score Sheet'!$I77:AS77),1)))","v":"R"},{"$f":"IF('Score Sheet'!AT77=\"\",\"R\",IF('Race results'!$C$32>0,ROUND(AVERAGE('Score Sheet'!$J77:AT77),1),ROUND(AVERAGE('Score Sheet'!$I77:AT77),1)))","v":"R"},{"$f":"IF('Score Sheet'!AU77=\"\",\"R\",IF('Race results'!$C$32>0,ROUND(AVERAGE('Score Sheet'!$J77:AU77),1),ROUND(AVERAGE('Score Sheet'!$I77:AU77),1)))","v":"R"},{"$f":"IF('Score Sheet'!AV77=\"\",\"R\",IF('Race results'!$C$32>0,ROUND(AVERAGE('Score Sheet'!$J77:AV77),1),ROUND(AVERAGE('Score Sheet'!$I77:AV77),1)))","v":"R"},null,"",{"$f":"IF(C77=\"\",\"\",IF('Race results'!$C$7<1, \"E\", IF('Race results'!$C$32>0,IF(COUNT(AY77:CL77)<1,\"R\",ROUND(AVERAGE(AY77:CL77),1)),IF(COUNT(AX77:CL77)<1,\"R\",ROUND(AVERAGE(AX77:CL77),1)))))","v":""},null,null,"","","","","","","","","","","","","","","","","","","","","","","","","","","","","","","","","","","","","","","","",""]
[null,69,{"$f":"IF('Score Sheet'!C78=\"\",\"\",'Score Sheet'!C78)","v":""},{"$f":"'Race results'!$F$159","v":"DAFT!"},{"$f":"'Race results'!$F$159","v":"DAFT!"},{"$f":"IF('Score Sheet'!J78=\"\",\"R\",IF('Race results'!$C$32>0,'Race results'!$F$159,ROUND(AVERAGE('Score Sheet'!$I78:J78),1)))","v":"R"},{"$f":"IF('Score Sheet'!K78=\"\",\"R\",IF('Race results'!$C$32>0,ROUND(AVERAGE('Score Sheet'!$J78:K78),1),ROUND(AVERAGE('Score Sheet'!$I78:K78),1)))","v":"R"},{"$f":"IF('Score Sheet'!L78=\"\",\"R\",IF('Race results'!$C$32>0,ROUND(AVERAGE('Score Sheet'!$J78:L78),1),ROUND(AVERAGE('Score Sheet'!$I78:L78),1)))","v":"R"},{"$f":"IF('Score Sheet'!M78=\"\",\"R\",IF('Race results'!$C$32>0,ROUND(AVERAGE('Score Sheet'!$J78:M78),1),ROUND(AVERAGE('Score Sheet'!$I78:M78),1)))","v":"R"},{"$f":"IF('Score Sheet'!N78=\"\",\"R\",IF('Race results'!$C$32>0,ROUND(AVERAGE('Score Sheet'!$J78:N78),1),ROUND(AVERAGE('Score Sheet'!$I78:N78),1)))","v":"R"},{"$f":"IF('Score Sheet'!O78=\"\",\"R\",IF('Race results'!$C$32>0,ROUND(AVERAGE('Score Sheet'!$J78:O78),1),ROUND(AVERAGE('Score Sheet'!$I78:O78),1)))","v":"R"},{"$f":"IF('Score Sheet'!P78=\"\",\"R\",IF('Race results'!$C$32>0,ROUND(AVERAGE('Score Sheet'!$J78:P78),1),ROUND(AVERAGE('Score Sheet'!$I78:P78),1)))","v":"R"},{"$f":"IF('Score Sheet'!Q78=\"\",\"R\",IF('Race results'!$C$32>0,ROUND(AVERAGE('Score Sheet'!$J78:Q78),1),ROUND(AVERAGE('Score Sheet'!$I78:Q78),1)))","v":"R"},{"$f":"IF('Score Sheet'!R78=\"\",\"R\",IF('Race results'!$C$32>0,ROUND(AVERAGE('Score Sheet'!$J78:R78),1),ROUND(AVERAGE('Score Sheet'!$I78:R78),1)))","v":"R"},{"$f":"IF('Score Sheet'!S78=\"\",\"R\",IF('Race results'!$C$32>0,ROUND(AVERAGE('Score Sheet'!$J78:S78),1),ROUND(AVERAGE('Score Sheet'!$I78:S78),1)))","v":"R"},{"$f":"IF('Score Sheet'!T78=\"\",\"R\",IF('Race results'!$C$32>0,ROUND(AVERAGE('Score Sheet'!$J78:T78),1),ROUND(AVERAGE('Score Sheet'!$I78:T78),1)))","v":"R"},{"$f":"IF('Score Sheet'!U78=\"\",\"R\",IF('Race results'!$C$32>0,ROUND(AVERAGE('Score Sheet'!$J78:U78),1),ROUND(AVERAGE('Score Sheet'!$I78:U78),1)))","v":"R"},{"$f":"IF('Score Sheet'!V78=\"\",\"R\",IF('Race results'!$C$32>0,ROUND(AVERAGE('Score Sheet'!$J78:V78),1),ROUND(AVERAGE('Score Sheet'!$I78:V78),1)))","v":"R"},{"$f":"IF('Score Sheet'!W78=\"\",\"R\",IF('Race results'!$C$32>0,ROUND(AVERAGE('Score Sheet'!$J78:W78),1),ROUND(AVERAGE('Score Sheet'!$I78:W78),1)))","v":"R"},{"$f":"IF('Score Sheet'!X78=\"\",\"R\",IF('Race results'!$C$32>0,ROUND(AVERAGE('Score Sheet'!$J78:X78),1),ROUND(AVERAGE('Score Sheet'!$I78:X78),1)))","v":"R"},{"$f":"IF('Score Sheet'!Y78=\"\",\"R\",IF('Race results'!$C$32>0,ROUND(AVERAGE('Score Sheet'!$J78:Y78),1),ROUND(AVERAGE('Score Sheet'!$I78:Y78),1)))","v":"R"},{"$f":"IF('Score Sheet'!Z78=\"\",\"R\",IF('Race results'!$C$32>0,ROUND(AVERAGE('Score Sheet'!$J78:Z78),1),ROUND(AVERAGE('Score Sheet'!$I78:Z78),1)))","v":"R"},{"$f":"IF('Score Sheet'!AA78=\"\",\"R\",IF('Race results'!$C$32>0,ROUND(AVERAGE('Score Sheet'!$J78:AA78),1),ROUND(AVERAGE('Score Sheet'!$I78:AA78),1)))","v":"R"},{"$f":"IF('Score Sheet'!AB78=\"\",\"R\",IF('Race results'!$C$32>0,ROUND(AVERAGE('Score Sheet'!$J78:AB78),1),ROUND(AVERAGE('Score Sheet'!$I78:AB78),1)))","v":"R"},{"$f":"IF('Score Sheet'!AC78=\"\",\"R\",IF('Race results'!$C$32>0,ROUND(AVERAGE('Score Sheet'!$J78:AC78),1),ROUND(AVERAGE('Score Sheet'!$I78:AC78),1)))","v":"R"},{"$f":"IF('Score Sheet'!AD78=\"\",\"R\",IF('Race results'!$C$32>0,ROUND(AVERAGE('Score Sheet'!$J78:AD78),1),ROUND(AVERAGE('Score Sheet'!$I78:AD78),1)))","v":"R"},{"$f":"IF('Score Sheet'!AE78=\"\",\"R\",IF('Race results'!$C$32>0,ROUND(AVERAGE('Score Sheet'!$J78:AE78),1),ROUND(AVERAGE('Score Sheet'!$I78:AE78),1)))","v":"R"},{"$f":"IF('Score Sheet'!AF78=\"\",\"R\",IF('Race results'!$C$32>0,ROUND(AVERAGE('Score Sheet'!$J78:AF78),1),ROUND(AVERAGE('Score Sheet'!$I78:AF78),1)))","v":"R"},{"$f":"IF('Score Sheet'!AG78=\"\",\"R\",IF('Race results'!$C$32>0,ROUND(AVERAGE('Score Sheet'!$J78:AG78),1),ROUND(AVERAGE('Score Sheet'!$I78:AG78),1)))","v":"R"},{"$f":"IF('Score Sheet'!AH78=\"\",\"R\",IF('Race results'!$C$32>0,ROUND(AVERAGE('Score Sheet'!$J78:AH78),1),ROUND(AVERAGE('Score Sheet'!$I78:AH78),1)))","v":"R"},{"$f":"IF('Score Sheet'!AI78=\"\",\"R\",IF('Race results'!$C$32>0,ROUND(AVERAGE('Score Sheet'!$J78:AI78),1),ROUND(AVERAGE('Score Sheet'!$I78:AI78),1)))","v":"R"},{"$f":"IF('Score Sheet'!AJ78=\"\",\"R\",IF('Race results'!$C$32>0,ROUND(AVERAGE('Score Sheet'!$J78:AJ78),1),ROUND(AVERAGE('Score Sheet'!$I78:AJ78),1)))","v":"R"},{"$f":"IF('Score Sheet'!AK78=\"\",\"R\",IF('Race results'!$C$32>0,ROUND(AVERAGE('Score Sheet'!$J78:AK78),1),ROUND(AVERAGE('Score Sheet'!$I78:AK78),1)))","v":"R"},{"$f":"IF('Score Sheet'!AL78=\"\",\"R\",IF('Race results'!$C$32>0,ROUND(AVERAGE('Score Sheet'!$J78:AL78),1),ROUND(AVERAGE('Score Sheet'!$I78:AL78),1)))","v":"R"},{"$f":"IF('Score Sheet'!AM78=\"\",\"R\",IF('Race results'!$C$32>0,ROUND(AVERAGE('Score Sheet'!$J78:AM78),1),ROUND(AVERAGE('Score Sheet'!$I78:AM78),1)))","v":"R"},{"$f":"IF('Score Sheet'!AN78=\"\",\"R\",IF('Race results'!$C$32>0,ROUND(AVERAGE('Score Sheet'!$J78:AN78),1),ROUND(AVERAGE('Score Sheet'!$I78:AN78),1)))","v":"R"},{"$f":"IF('Score Sheet'!AO78=\"\",\"R\",IF('Race results'!$C$32>0,ROUND(AVERAGE('Score Sheet'!$J78:AO78),1),ROUND(AVERAGE('Score Sheet'!$I78:AO78),1)))","v":"R"},{"$f":"IF('Score Sheet'!AP78=\"\",\"R\",IF('Race results'!$C$32>0,ROUND(AVERAGE('Score Sheet'!$J78:AP78),1),ROUND(AVERAGE('Score Sheet'!$I78:AP78),1)))","v":"R"},{"$f":"IF('Score Sheet'!AQ78=\"\",\"R\",IF('Race results'!$C$32>0,ROUND(AVERAGE('Score Sheet'!$J78:AQ78),1),ROUND(AVERAGE('Score Sheet'!$I78:AQ78),1)))","v":"R"},{"$f":"IF('Score Sheet'!AR78=\"\",\"R\",IF('Race results'!$C$32>0,ROUND(AVERAGE('Score Sheet'!$J78:AR78),1),ROUND(AVERAGE('Score Sheet'!$I78:AR78),1)))","v":"R"},{"$f":"IF('Score Sheet'!AS78=\"\",\"R\",IF('Race results'!$C$32>0,ROUND(AVERAGE('Score Sheet'!$J78:AS78),1),ROUND(AVERAGE('Score Sheet'!$I78:AS78),1)))","v":"R"},{"$f":"IF('Score Sheet'!AT78=\"\",\"R\",IF('Race results'!$C$32>0,ROUND(AVERAGE('Score Sheet'!$J78:AT78),1),ROUND(AVERAGE('Score Sheet'!$I78:AT78),1)))","v":"R"},{"$f":"IF('Score Sheet'!AU78=\"\",\"R\",IF('Race results'!$C$32>0,ROUND(AVERAGE('Score Sheet'!$J78:AU78),1),ROUND(AVERAGE('Score Sheet'!$I78:AU78),1)))","v":"R"},{"$f":"IF('Score Sheet'!AV78=\"\",\"R\",IF('Race results'!$C$32>0,ROUND(AVERAGE('Score Sheet'!$J78:AV78),1),ROUND(AVERAGE('Score Sheet'!$I78:AV78),1)))","v":"R"},null,"",{"$f":"IF(C78=\"\",\"\",IF('Race results'!$C$7<1, \"E\", IF('Race results'!$C$32>0,IF(COUNT(AY78:CL78)<1,\"R\",ROUND(AVERAGE(AY78:CL78),1)),IF(COUNT(AX78:CL78)<1,\"R\",ROUND(AVERAGE(AX78:CL78),1)))))","v":""},null,null,"","","","","","","","","","","","","","","","","","","","","","","","","","","","","","","","","","","","","","","","",""]
[null,70,{"$f":"IF('Score Sheet'!C79=\"\",\"\",'Score Sheet'!C79)","v":""},{"$f":"'Race results'!$F$159","v":"DAFT!"},{"$f":"'Race results'!$F$159","v":"DAFT!"},{"$f":"IF('Score Sheet'!J79=\"\",\"R\",IF('Race results'!$C$32>0,'Race results'!$F$159,ROUND(AVERAGE('Score Sheet'!$I79:J79),1)))","v":"R"},{"$f":"IF('Score Sheet'!K79=\"\",\"R\",IF('Race results'!$C$32>0,ROUND(AVERAGE('Score Sheet'!$J79:K79),1),ROUND(AVERAGE('Score Sheet'!$I79:K79),1)))","v":"R"},{"$f":"IF('Score Sheet'!L79=\"\",\"R\",IF('Race results'!$C$32>0,ROUND(AVERAGE('Score Sheet'!$J79:L79),1),ROUND(AVERAGE('Score Sheet'!$I79:L79),1)))","v":"R"},{"$f":"IF('Score Sheet'!M79=\"\",\"R\",IF('Race results'!$C$32>0,ROUND(AVERAGE('Score Sheet'!$J79:M79),1),ROUND(AVERAGE('Score Sheet'!$I79:M79),1)))","v":"R"},{"$f":"IF('Score Sheet'!N79=\"\",\"R\",IF('Race results'!$C$32>0,ROUND(AVERAGE('Score Sheet'!$J79:N79),1),ROUND(AVERAGE('Score Sheet'!$I79:N79),1)))","v":"R"},{"$f":"IF('Score Sheet'!O79=\"\",\"R\",IF('Race results'!$C$32>0,ROUND(AVERAGE('Score Sheet'!$J79:O79),1),ROUND(AVERAGE('Score Sheet'!$I79:O79),1)))","v":"R"},{"$f":"IF('Score Sheet'!P79=\"\",\"R\",IF('Race results'!$C$32>0,ROUND(AVERAGE('Score Sheet'!$J79:P79),1),ROUND(AVERAGE('Score Sheet'!$I79:P79),1)))","v":"R"},{"$f":"IF('Score Sheet'!Q79=\"\",\"R\",IF('Race results'!$C$32>0,ROUND(AVERAGE('Score Sheet'!$J79:Q79),1),ROUND(AVERAGE('Score Sheet'!$I79:Q79),1)))","v":"R"},{"$f":"IF('Score Sheet'!R79=\"\",\"R\",IF('Race results'!$C$32>0,ROUND(AVERAGE('Score Sheet'!$J79:R79),1),ROUND(AVERAGE('Score Sheet'!$I79:R79),1)))","v":"R"},{"$f":"IF('Score Sheet'!S79=\"\",\"R\",IF('Race results'!$C$32>0,ROUND(AVERAGE('Score Sheet'!$J79:S79),1),ROUND(AVERAGE('Score Sheet'!$I79:S79),1)))","v":"R"},{"$f":"IF('Score Sheet'!T79=\"\",\"R\",IF('Race results'!$C$32>0,ROUND(AVERAGE('Score Sheet'!$J79:T79),1),ROUND(AVERAGE('Score Sheet'!$I79:T79),1)))","v":"R"},{"$f":"IF('Score Sheet'!U79=\"\",\"R\",IF('Race results'!$C$32>0,ROUND(AVERAGE('Score Sheet'!$J79:U79),1),ROUND(AVERAGE('Score Sheet'!$I79:U79),1)))","v":"R"},{"$f":"IF('Score Sheet'!V79=\"\",\"R\",IF('Race results'!$C$32>0,ROUND(AVERAGE('Score Sheet'!$J79:V79),1),ROUND(AVERAGE('Score Sheet'!$I79:V79),1)))","v":"R"},{"$f":"IF('Score Sheet'!W79=\"\",\"R\",IF('Race results'!$C$32>0,ROUND(AVERAGE('Score Sheet'!$J79:W79),1),ROUND(AVERAGE('Score Sheet'!$I79:W79),1)))","v":"R"},{"$f":"IF('Score Sheet'!X79=\"\",\"R\",IF('Race results'!$C$32>0,ROUND(AVERAGE('Score Sheet'!$J79:X79),1),ROUND(AVERAGE('Score Sheet'!$I79:X79),1)))","v":"R"},{"$f":"IF('Score Sheet'!Y79=\"\",\"R\",IF('Race results'!$C$32>0,ROUND(AVERAGE('Score Sheet'!$J79:Y79),1),ROUND(AVERAGE('Score Sheet'!$I79:Y79),1)))","v":"R"},{"$f":"IF('Score Sheet'!Z79=\"\",\"R\",IF('Race results'!$C$32>0,ROUND(AVERAGE('Score Sheet'!$J79:Z79),1),ROUND(AVERAGE('Score Sheet'!$I79:Z79),1)))","v":"R"},{"$f":"IF('Score Sheet'!AA79=\"\",\"R\",IF('Race results'!$C$32>0,ROUND(AVERAGE('Score Sheet'!$J79:AA79),1),ROUND(AVERAGE('Score Sheet'!$I79:AA79),1)))","v":"R"},{"$f":"IF('Score Sheet'!AB79=\"\",\"R\",IF('Race results'!$C$32>0,ROUND(AVERAGE('Score Sheet'!$J79:AB79),1),ROUND(AVERAGE('Score Sheet'!$I79:AB79),1)))","v":"R"},{"$f":"IF('Score Sheet'!AC79=\"\",\"R\",IF('Race results'!$C$32>0,ROUND(AVERAGE('Score Sheet'!$J79:AC79),1),ROUND(AVERAGE('Score Sheet'!$I79:AC79),1)))","v":"R"},{"$f":"IF('Score Sheet'!AD79=\"\",\"R\",IF('Race results'!$C$32>0,ROUND(AVERAGE('Score Sheet'!$J79:AD79),1),ROUND(AVERAGE('Score Sheet'!$I79:AD79),1)))","v":"R"},{"$f":"IF('Score Sheet'!AE79=\"\",\"R\",IF('Race results'!$C$32>0,ROUND(AVERAGE('Score Sheet'!$J79:AE79),1),ROUND(AVERAGE('Score Sheet'!$I79:AE79),1)))","v":"R"},{"$f":"IF('Score Sheet'!AF79=\"\",\"R\",IF('Race results'!$C$32>0,ROUND(AVERAGE('Score Sheet'!$J79:AF79),1),ROUND(AVERAGE('Score Sheet'!$I79:AF79),1)))","v":"R"},{"$f":"IF('Score Sheet'!AG79=\"\",\"R\",IF('Race results'!$C$32>0,ROUND(AVERAGE('Score Sheet'!$J79:AG79),1),ROUND(AVERAGE('Score Sheet'!$I79:AG79),1)))","v":"R"},{"$f":"IF('Score Sheet'!AH79=\"\",\"R\",IF('Race results'!$C$32>0,ROUND(AVERAGE('Score Sheet'!$J79:AH79),1),ROUND(AVERAGE('Score Sheet'!$I79:AH79),1)))","v":"R"},{"$f":"IF('Score Sheet'!AI79=\"\",\"R\",IF('Race results'!$C$32>0,ROUND(AVERAGE('Score Sheet'!$J79:AI79),1),ROUND(AVERAGE('Score Sheet'!$I79:AI79),1)))","v":"R"},{"$f":"IF('Score Sheet'!AJ79=\"\",\"R\",IF('Race results'!$C$32>0,ROUND(AVERAGE('Score Sheet'!$J79:AJ79),1),ROUND(AVERAGE('Score Sheet'!$I79:AJ79),1)))","v":"R"},{"$f":"IF('Score Sheet'!AK79=\"\",\"R\",IF('Race results'!$C$32>0,ROUND(AVERAGE('Score Sheet'!$J79:AK79),1),ROUND(AVERAGE('Score Sheet'!$I79:AK79),1)))","v":"R"},{"$f":"IF('Score Sheet'!AL79=\"\",\"R\",IF('Race results'!$C$32>0,ROUND(AVERAGE('Score Sheet'!$J79:AL79),1),ROUND(AVERAGE('Score Sheet'!$I79:AL79),1)))","v":"R"},{"$f":"IF('Score Sheet'!AM79=\"\",\"R\",IF('Race results'!$C$32>0,ROUND(AVERAGE('Score Sheet'!$J79:AM79),1),ROUND(AVERAGE('Score Sheet'!$I79:AM79),1)))","v":"R"},{"$f":"IF('Score Sheet'!AN79=\"\",\"R\",IF('Race results'!$C$32>0,ROUND(AVERAGE('Score Sheet'!$J79:AN79),1),ROUND(AVERAGE('Score Sheet'!$I79:AN79),1)))","v":"R"},{"$f":"IF('Score Sheet'!AO79=\"\",\"R\",IF('Race results'!$C$32>0,ROUND(AVERAGE('Score Sheet'!$J79:AO79),1),ROUND(AVERAGE('Score Sheet'!$I79:AO79),1)))","v":"R"},{"$f":"IF('Score Sheet'!AP79=\"\",\"R\",IF('Race results'!$C$32>0,ROUND(AVERAGE('Score Sheet'!$J79:AP79),1),ROUND(AVERAGE('Score Sheet'!$I79:AP79),1)))","v":"R"},{"$f":"IF('Score Sheet'!AQ79=\"\",\"R\",IF('Race results'!$C$32>0,ROUND(AVERAGE('Score Sheet'!$J79:AQ79),1),ROUND(AVERAGE('Score Sheet'!$I79:AQ79),1)))","v":"R"},{"$f":"IF('Score Sheet'!AR79=\"\",\"R\",IF('Race results'!$C$32>0,ROUND(AVERAGE('Score Sheet'!$J79:AR79),1),ROUND(AVERAGE('Score Sheet'!$I79:AR79),1)))","v":"R"},{"$f":"IF('Score Sheet'!AS79=\"\",\"R\",IF('Race results'!$C$32>0,ROUND(AVERAGE('Score Sheet'!$J79:AS79),1),ROUND(AVERAGE('Score Sheet'!$I79:AS79),1)))","v":"R"},{"$f":"IF('Score Sheet'!AT79=\"\",\"R\",IF('Race results'!$C$32>0,ROUND(AVERAGE('Score Sheet'!$J79:AT79),1),ROUND(AVERAGE('Score Sheet'!$I79:AT79),1)))","v":"R"},{"$f":"IF('Score Sheet'!AU79=\"\",\"R\",IF('Race results'!$C$32>0,ROUND(AVERAGE('Score Sheet'!$J79:AU79),1),ROUND(AVERAGE('Score Sheet'!$I79:AU79),1)))","v":"R"},{"$f":"IF('Score Sheet'!AV79=\"\",\"R\",IF('Race results'!$C$32>0,ROUND(AVERAGE('Score Sheet'!$J79:AV79),1),ROUND(AVERAGE('Score Sheet'!$I79:AV79),1)))","v":"R"},null,"",{"$f":"IF(C79=\"\",\"\",IF('Race results'!$C$7<1, \"E\", IF('Race results'!$C$32>0,IF(COUNT(AY79:CL79)<1,\"R\",ROUND(AVERAGE(AY79:CL79),1)),IF(COUNT(AX79:CL79)<1,\"R\",ROUND(AVERAGE(AX79:CL79),1)))))","v":""},null,null,"","","","","","","","","","","","","","","","","","","","","","","","","","","","","","","","","","","","","","","","",""]
[null,71,{"$f":"IF('Score Sheet'!C80=\"\",\"\",'Score Sheet'!C80)","v":""},{"$f":"'Race results'!$F$159","v":"DAFT!"},{"$f":"'Race results'!$F$159","v":"DAFT!"},{"$f":"IF('Score Sheet'!J80=\"\",\"R\",IF('Race results'!$C$32>0,'Race results'!$F$159,ROUND(AVERAGE('Score Sheet'!$I80:J80),1)))","v":"R"},{"$f":"IF('Score Sheet'!K80=\"\",\"R\",IF('Race results'!$C$32>0,ROUND(AVERAGE('Score Sheet'!$J80:K80),1),ROUND(AVERAGE('Score Sheet'!$I80:K80),1)))","v":"R"},{"$f":"IF('Score Sheet'!L80=\"\",\"R\",IF('Race results'!$C$32>0,ROUND(AVERAGE('Score Sheet'!$J80:L80),1),ROUND(AVERAGE('Score Sheet'!$I80:L80),1)))","v":"R"},{"$f":"IF('Score Sheet'!M80=\"\",\"R\",IF('Race results'!$C$32>0,ROUND(AVERAGE('Score Sheet'!$J80:M80),1),ROUND(AVERAGE('Score Sheet'!$I80:M80),1)))","v":"R"},{"$f":"IF('Score Sheet'!N80=\"\",\"R\",IF('Race results'!$C$32>0,ROUND(AVERAGE('Score Sheet'!$J80:N80),1),ROUND(AVERAGE('Score Sheet'!$I80:N80),1)))","v":"R"},{"$f":"IF('Score Sheet'!O80=\"\",\"R\",IF('Race results'!$C$32>0,ROUND(AVERAGE('Score Sheet'!$J80:O80),1),ROUND(AVERAGE('Score Sheet'!$I80:O80),1)))","v":"R"},{"$f":"IF('Score Sheet'!P80=\"\",\"R\",IF('Race results'!$C$32>0,ROUND(AVERAGE('Score Sheet'!$J80:P80),1),ROUND(AVERAGE('Score Sheet'!$I80:P80),1)))","v":"R"},{"$f":"IF('Score Sheet'!Q80=\"\",\"R\",IF('Race results'!$C$32>0,ROUND(AVERAGE('Score Sheet'!$J80:Q80),1),ROUND(AVERAGE('Score Sheet'!$I80:Q80),1)))","v":"R"},{"$f":"IF('Score Sheet'!R80=\"\",\"R\",IF('Race results'!$C$32>0,ROUND(AVERAGE('Score Sheet'!$J80:R80),1),ROUND(AVERAGE('Score Sheet'!$I80:R80),1)))","v":"R"},{"$f":"IF('Score Sheet'!S80=\"\",\"R\",IF('Race results'!$C$32>0,ROUND(AVERAGE('Score Sheet'!$J80:S80),1),ROUND(AVERAGE('Score Sheet'!$I80:S80),1)))","v":"R"},{"$f":"IF('Score Sheet'!T80=\"\",\"R\",IF('Race results'!$C$32>0,ROUND(AVERAGE('Score Sheet'!$J80:T80),1),ROUND(AVERAGE('Score Sheet'!$I80:T80),1)))","v":"R"},{"$f":"IF('Score Sheet'!U80=\"\",\"R\",IF('Race results'!$C$32>0,ROUND(AVERAGE('Score Sheet'!$J80:U80),1),ROUND(AVERAGE('Score Sheet'!$I80:U80),1)))","v":"R"},{"$f":"IF('Score Sheet'!V80=\"\",\"R\",IF('Race results'!$C$32>0,ROUND(AVERAGE('Score Sheet'!$J80:V80),1),ROUND(AVERAGE('Score Sheet'!$I80:V80),1)))","v":"R"},{"$f":"IF('Score Sheet'!W80=\"\",\"R\",IF('Race results'!$C$32>0,ROUND(AVERAGE('Score Sheet'!$J80:W80),1),ROUND(AVERAGE('Score Sheet'!$I80:W80),1)))","v":"R"},{"$f":"IF('Score Sheet'!X80=\"\",\"R\",IF('Race results'!$C$32>0,ROUND(AVERAGE('Score Sheet'!$J80:X80),1),ROUND(AVERAGE('Score Sheet'!$I80:X80),1)))","v":"R"},{"$f":"IF('Score Sheet'!Y80=\"\",\"R\",IF('Race results'!$C$32>0,ROUND(AVERAGE('Score Sheet'!$J80:Y80),1),ROUND(AVERAGE('Score Sheet'!$I80:Y80),1)))","v":"R"},{"$f":"IF('Score Sheet'!Z80=\"\",\"R\",IF('Race results'!$C$32>0,ROUND(AVERAGE('Score Sheet'!$J80:Z80),1),ROUND(AVERAGE('Score Sheet'!$I80:Z80),1)))","v":"R"},{"$f":"IF('Score Sheet'!AA80=\"\",\"R\",IF('Race results'!$C$32>0,ROUND(AVERAGE('Score Sheet'!$J80:AA80),1),ROUND(AVERAGE('Score Sheet'!$I80:AA80),1)))","v":"R"},{"$f":"IF('Score Sheet'!AB80=\"\",\"R\",IF('Race results'!$C$32>0,ROUND(AVERAGE('Score Sheet'!$J80:AB80),1),ROUND(AVERAGE('Score Sheet'!$I80:AB80),1)))","v":"R"},{"$f":"IF('Score Sheet'!AC80=\"\",\"R\",IF('Race results'!$C$32>0,ROUND(AVERAGE('Score Sheet'!$J80:AC80),1),ROUND(AVERAGE('Score Sheet'!$I80:AC80),1)))","v":"R"},{"$f":"IF('Score Sheet'!AD80=\"\",\"R\",IF('Race results'!$C$32>0,ROUND(AVERAGE('Score Sheet'!$J80:AD80),1),ROUND(AVERAGE('Score Sheet'!$I80:AD80),1)))","v":"R"},{"$f":"IF('Score Sheet'!AE80=\"\",\"R\",IF('Race results'!$C$32>0,ROUND(AVERAGE('Score Sheet'!$J80:AE80),1),ROUND(AVERAGE('Score Sheet'!$I80:AE80),1)))","v":"R"},{"$f":"IF('Score Sheet'!AF80=\"\",\"R\",IF('Race results'!$C$32>0,ROUND(AVERAGE('Score Sheet'!$J80:AF80),1),ROUND(AVERAGE('Score Sheet'!$I80:AF80),1)))","v":"R"},{"$f":"IF('Score Sheet'!AG80=\"\",\"R\",IF('Race results'!$C$32>0,ROUND(AVERAGE('Score Sheet'!$J80:AG80),1),ROUND(AVERAGE('Score Sheet'!$I80:AG80),1)))","v":"R"},{"$f":"IF('Score Sheet'!AH80=\"\",\"R\",IF('Race results'!$C$32>0,ROUND(AVERAGE('Score Sheet'!$J80:AH80),1),ROUND(AVERAGE('Score Sheet'!$I80:AH80),1)))","v":"R"},{"$f":"IF('Score Sheet'!AI80=\"\",\"R\",IF('Race results'!$C$32>0,ROUND(AVERAGE('Score Sheet'!$J80:AI80),1),ROUND(AVERAGE('Score Sheet'!$I80:AI80),1)))","v":"R"},{"$f":"IF('Score Sheet'!AJ80=\"\",\"R\",IF('Race results'!$C$32>0,ROUND(AVERAGE('Score Sheet'!$J80:AJ80),1),ROUND(AVERAGE('Score Sheet'!$I80:AJ80),1)))","v":"R"},{"$f":"IF('Score Sheet'!AK80=\"\",\"R\",IF('Race results'!$C$32>0,ROUND(AVERAGE('Score Sheet'!$J80:AK80),1),ROUND(AVERAGE('Score Sheet'!$I80:AK80),1)))","v":"R"},{"$f":"IF('Score Sheet'!AL80=\"\",\"R\",IF('Race results'!$C$32>0,ROUND(AVERAGE('Score Sheet'!$J80:AL80),1),ROUND(AVERAGE('Score Sheet'!$I80:AL80),1)))","v":"R"},{"$f":"IF('Score Sheet'!AM80=\"\",\"R\",IF('Race results'!$C$32>0,ROUND(AVERAGE('Score Sheet'!$J80:AM80),1),ROUND(AVERAGE('Score Sheet'!$I80:AM80),1)))","v":"R"},{"$f":"IF('Score Sheet'!AN80=\"\",\"R\",IF('Race results'!$C$32>0,ROUND(AVERAGE('Score Sheet'!$J80:AN80),1),ROUND(AVERAGE('Score Sheet'!$I80:AN80),1)))","v":"R"},{"$f":"IF('Score Sheet'!AO80=\"\",\"R\",IF('Race results'!$C$32>0,ROUND(AVERAGE('Score Sheet'!$J80:AO80),1),ROUND(AVERAGE('Score Sheet'!$I80:AO80),1)))","v":"R"},{"$f":"IF('Score Sheet'!AP80=\"\",\"R\",IF('Race results'!$C$32>0,ROUND(AVERAGE('Score Sheet'!$J80:AP80),1),ROUND(AVERAGE('Score Sheet'!$I80:AP80),1)))","v":"R"},{"$f":"IF('Score Sheet'!AQ80=\"\",\"R\",IF('Race results'!$C$32>0,ROUND(AVERAGE('Score Sheet'!$J80:AQ80),1),ROUND(AVERAGE('Score Sheet'!$I80:AQ80),1)))","v":"R"},{"$f":"IF('Score Sheet'!AR80=\"\",\"R\",IF('Race results'!$C$32>0,ROUND(AVERAGE('Score Sheet'!$J80:AR80),1),ROUND(AVERAGE('Score Sheet'!$I80:AR80),1)))","v":"R"},{"$f":"IF('Score Sheet'!AS80=\"\",\"R\",IF('Race results'!$C$32>0,ROUND(AVERAGE('Score Sheet'!$J80:AS80),1),ROUND(AVERAGE('Score Sheet'!$I80:AS80),1)))","v":"R"},{"$f":"IF('Score Sheet'!AT80=\"\",\"R\",IF('Race results'!$C$32>0,ROUND(AVERAGE('Score Sheet'!$J80:AT80),1),ROUND(AVERAGE('Score Sheet'!$I80:AT80),1)))","v":"R"},{"$f":"IF('Score Sheet'!AU80=\"\",\"R\",IF('Race results'!$C$32>0,ROUND(AVERAGE('Score Sheet'!$J80:AU80),1),ROUND(AVERAGE('Score Sheet'!$I80:AU80),1)))","v":"R"},{"$f":"IF('Score Sheet'!AV80=\"\",\"R\",IF('Race results'!$C$32>0,ROUND(AVERAGE('Score Sheet'!$J80:AV80),1),ROUND(AVERAGE('Score Sheet'!$I80:AV80),1)))","v":"R"},null,"",{"$f":"IF(C80=\"\",\"\",IF('Race results'!$C$7<1, \"E\", IF('Race results'!$C$32>0,IF(COUNT(AY80:CL80)<1,\"R\",ROUND(AVERAGE(AY80:CL80),1)),IF(COUNT(AX80:CL80)<1,\"R\",ROUND(AVERAGE(AX80:CL80),1)))))","v":""},null,null,"","","","","","","","","","","","","","","","","","","","","","","","","","","","","","","","","","","","","","","","",""]
[null,72,{"$f":"IF('Score Sheet'!C81=\"\",\"\",'Score Sheet'!C81)","v":""},{"$f":"'Race results'!$F$159","v":"DAFT!"},{"$f":"'Race results'!$F$159","v":"DAFT!"},{"$f":"IF('Score Sheet'!J81=\"\",\"R\",IF('Race results'!$C$32>0,'Race results'!$F$159,ROUND(AVERAGE('Score Sheet'!$I81:J81),1)))","v":"R"},{"$f":"IF('Score Sheet'!K81=\"\",\"R\",IF('Race results'!$C$32>0,ROUND(AVERAGE('Score Sheet'!$J81:K81),1),ROUND(AVERAGE('Score Sheet'!$I81:K81),1)))","v":"R"},{"$f":"IF('Score Sheet'!L81=\"\",\"R\",IF('Race results'!$C$32>0,ROUND(AVERAGE('Score Sheet'!$J81:L81),1),ROUND(AVERAGE('Score Sheet'!$I81:L81),1)))","v":"R"},{"$f":"IF('Score Sheet'!M81=\"\",\"R\",IF('Race results'!$C$32>0,ROUND(AVERAGE('Score Sheet'!$J81:M81),1),ROUND(AVERAGE('Score Sheet'!$I81:M81),1)))","v":"R"},{"$f":"IF('Score Sheet'!N81=\"\",\"R\",IF('Race results'!$C$32>0,ROUND(AVERAGE('Score Sheet'!$J81:N81),1),ROUND(AVERAGE('Score Sheet'!$I81:N81),1)))","v":"R"},{"$f":"IF('Score Sheet'!O81=\"\",\"R\",IF('Race results'!$C$32>0,ROUND(AVERAGE('Score Sheet'!$J81:O81),1),ROUND(AVERAGE('Score Sheet'!$I81:O81),1)))","v":"R"},{"$f":"IF('Score Sheet'!P81=\"\",\"R\",IF('Race results'!$C$32>0,ROUND(AVERAGE('Score Sheet'!$J81:P81),1),ROUND(AVERAGE('Score Sheet'!$I81:P81),1)))","v":"R"},{"$f":"IF('Score Sheet'!Q81=\"\",\"R\",IF('Race results'!$C$32>0,ROUND(AVERAGE('Score Sheet'!$J81:Q81),1),ROUND(AVERAGE('Score Sheet'!$I81:Q81),1)))","v":"R"},{"$f":"IF('Score Sheet'!R81=\"\",\"R\",IF('Race results'!$C$32>0,ROUND(AVERAGE('Score Sheet'!$J81:R81),1),ROUND(AVERAGE('Score Sheet'!$I81:R81),1)))","v":"R"},{"$f":"IF('Score Sheet'!S81=\"\",\"R\",IF('Race results'!$C$32>0,ROUND(AVERAGE('Score Sheet'!$J81:S81),1),ROUND(AVERAGE('Score Sheet'!$I81:S81),1)))","v":"R"},{"$f":"IF('Score Sheet'!T81=\"\",\"R\",IF('Race results'!$C$32>0,ROUND(AVERAGE('Score Sheet'!$J81:T81),1),ROUND(AVERAGE('Score Sheet'!$I81:T81),1)))","v":"R"},{"$f":"IF('Score Sheet'!U81=\"\",\"R\",IF('Race results'!$C$32>0,ROUND(AVERAGE('Score Sheet'!$J81:U81),1),ROUND(AVERAGE('Score Sheet'!$I81:U81),1)))","v":"R"},{"$f":"IF('Score Sheet'!V81=\"\",\"R\",IF('Race results'!$C$32>0,ROUND(AVERAGE('Score Sheet'!$J81:V81),1),ROUND(AVERAGE('Score Sheet'!$I81:V81),1)))","v":"R"},{"$f":"IF('Score Sheet'!W81=\"\",\"R\",IF('Race results'!$C$32>0,ROUND(AVERAGE('Score Sheet'!$J81:W81),1),ROUND(AVERAGE('Score Sheet'!$I81:W81),1)))","v":"R"},{"$f":"IF('Score Sheet'!X81=\"\",\"R\",IF('Race results'!$C$32>0,ROUND(AVERAGE('Score Sheet'!$J81:X81),1),ROUND(AVERAGE('Score Sheet'!$I81:X81),1)))","v":"R"},{"$f":"IF('Score Sheet'!Y81=\"\",\"R\",IF('Race results'!$C$32>0,ROUND(AVERAGE('Score Sheet'!$J81:Y81),1),ROUND(AVERAGE('Score Sheet'!$I81:Y81),1)))","v":"R"},{"$f":"IF('Score Sheet'!Z81=\"\",\"R\",IF('Race results'!$C$32>0,ROUND(AVERAGE('Score Sheet'!$J81:Z81),1),ROUND(AVERAGE('Score Sheet'!$I81:Z81),1)))","v":"R"},{"$f":"IF('Score Sheet'!AA81=\"\",\"R\",IF('Race results'!$C$32>0,ROUND(AVERAGE('Score Sheet'!$J81:AA81),1),ROUND(AVERAGE('Score Sheet'!$I81:AA81),1)))","v":"R"},{"$f":"IF('Score Sheet'!AB81=\"\",\"R\",IF('Race results'!$C$32>0,ROUND(AVERAGE('Score Sheet'!$J81:AB81),1),ROUND(AVERAGE('Score Sheet'!$I81:AB81),1)))","v":"R"},{"$f":"IF('Score Sheet'!AC81=\"\",\"R\",IF('Race results'!$C$32>0,ROUND(AVERAGE('Score Sheet'!$J81:AC81),1),ROUND(AVERAGE('Score Sheet'!$I81:AC81),1)))","v":"R"},{"$f":"IF('Score Sheet'!AD81=\"\",\"R\",IF('Race results'!$C$32>0,ROUND(AVERAGE('Score Sheet'!$J81:AD81),1),ROUND(AVERAGE('Score Sheet'!$I81:AD81),1)))","v":"R"},{"$f":"IF('Score Sheet'!AE81=\"\",\"R\",IF('Race results'!$C$32>0,ROUND(AVERAGE('Score Sheet'!$J81:AE81),1),ROUND(AVERAGE('Score Sheet'!$I81:AE81),1)))","v":"R"},{"$f":"IF('Score Sheet'!AF81=\"\",\"R\",IF('Race results'!$C$32>0,ROUND(AVERAGE('Score Sheet'!$J81:AF81),1),ROUND(AVERAGE('Score Sheet'!$I81:AF81),1)))","v":"R"},{"$f":"IF('Score Sheet'!AG81=\"\",\"R\",IF('Race results'!$C$32>0,ROUND(AVERAGE('Score Sheet'!$J81:AG81),1),ROUND(AVERAGE('Score Sheet'!$I81:AG81),1)))","v":"R"},{"$f":"IF('Score Sheet'!AH81=\"\",\"R\",IF('Race results'!$C$32>0,ROUND(AVERAGE('Score Sheet'!$J81:AH81),1),ROUND(AVERAGE('Score Sheet'!$I81:AH81),1)))","v":"R"},{"$f":"IF('Score Sheet'!AI81=\"\",\"R\",IF('Race results'!$C$32>0,ROUND(AVERAGE('Score Sheet'!$J81:AI81),1),ROUND(AVERAGE('Score Sheet'!$I81:AI81),1)))","v":"R"},{"$f":"IF('Score Sheet'!AJ81=\"\",\"R\",IF('Race results'!$C$32>0,ROUND(AVERAGE('Score Sheet'!$J81:AJ81),1),ROUND(AVERAGE('Score Sheet'!$I81:AJ81),1)))","v":"R"},{"$f":"IF('Score Sheet'!AK81=\"\",\"R\",IF('Race results'!$C$32>0,ROUND(AVERAGE('Score Sheet'!$J81:AK81),1),ROUND(AVERAGE('Score Sheet'!$I81:AK81),1)))","v":"R"},{"$f":"IF('Score Sheet'!AL81=\"\",\"R\",IF('Race results'!$C$32>0,ROUND(AVERAGE('Score Sheet'!$J81:AL81),1),ROUND(AVERAGE('Score Sheet'!$I81:AL81),1)))","v":"R"},{"$f":"IF('Score Sheet'!AM81=\"\",\"R\",IF('Race results'!$C$32>0,ROUND(AVERAGE('Score Sheet'!$J81:AM81),1),ROUND(AVERAGE('Score Sheet'!$I81:AM81),1)))","v":"R"},{"$f":"IF('Score Sheet'!AN81=\"\",\"R\",IF('Race results'!$C$32>0,ROUND(AVERAGE('Score Sheet'!$J81:AN81),1),ROUND(AVERAGE('Score Sheet'!$I81:AN81),1)))","v":"R"},{"$f":"IF('Score Sheet'!AO81=\"\",\"R\",IF('Race results'!$C$32>0,ROUND(AVERAGE('Score Sheet'!$J81:AO81),1),ROUND(AVERAGE('Score Sheet'!$I81:AO81),1)))","v":"R"},{"$f":"IF('Score Sheet'!AP81=\"\",\"R\",IF('Race results'!$C$32>0,ROUND(AVERAGE('Score Sheet'!$J81:AP81),1),ROUND(AVERAGE('Score Sheet'!$I81:AP81),1)))","v":"R"},{"$f":"IF('Score Sheet'!AQ81=\"\",\"R\",IF('Race results'!$C$32>0,ROUND(AVERAGE('Score Sheet'!$J81:AQ81),1),ROUND(AVERAGE('Score Sheet'!$I81:AQ81),1)))","v":"R"},{"$f":"IF('Score Sheet'!AR81=\"\",\"R\",IF('Race results'!$C$32>0,ROUND(AVERAGE('Score Sheet'!$J81:AR81),1),ROUND(AVERAGE('Score Sheet'!$I81:AR81),1)))","v":"R"},{"$f":"IF('Score Sheet'!AS81=\"\",\"R\",IF('Race results'!$C$32>0,ROUND(AVERAGE('Score Sheet'!$J81:AS81),1),ROUND(AVERAGE('Score Sheet'!$I81:AS81),1)))","v":"R"},{"$f":"IF('Score Sheet'!AT81=\"\",\"R\",IF('Race results'!$C$32>0,ROUND(AVERAGE('Score Sheet'!$J81:AT81),1),ROUND(AVERAGE('Score Sheet'!$I81:AT81),1)))","v":"R"},{"$f":"IF('Score Sheet'!AU81=\"\",\"R\",IF('Race results'!$C$32>0,ROUND(AVERAGE('Score Sheet'!$J81:AU81),1),ROUND(AVERAGE('Score Sheet'!$I81:AU81),1)))","v":"R"},{"$f":"IF('Score Sheet'!AV81=\"\",\"R\",IF('Race results'!$C$32>0,ROUND(AVERAGE('Score Sheet'!$J81:AV81),1),ROUND(AVERAGE('Score Sheet'!$I81:AV81),1)))","v":"R"},null,"",{"$f":"IF(C81=\"\",\"\",IF('Race results'!$C$7<1, \"E\", IF('Race results'!$C$32>0,IF(COUNT(AY81:CL81)<1,\"R\",ROUND(AVERAGE(AY81:CL81),1)),IF(COUNT(AX81:CL81)<1,\"R\",ROUND(AVERAGE(AX81:CL81),1)))))","v":""},null,null,"","","","","","","","","","","","","","","","","","","","","","","","","","","","","","","","","","","","","","","","",""]
[null,73,{"$f":"IF('Score Sheet'!C82=\"\",\"\",'Score Sheet'!C82)","v":""},{"$f":"'Race results'!$F$159","v":"DAFT!"},{"$f":"'Race results'!$F$159","v":"DAFT!"},{"$f":"IF('Score Sheet'!J82=\"\",\"R\",IF('Race results'!$C$32>0,'Race results'!$F$159,ROUND(AVERAGE('Score Sheet'!$I82:J82),1)))","v":"R"},{"$f":"IF('Score Sheet'!K82=\"\",\"R\",IF('Race results'!$C$32>0,ROUND(AVERAGE('Score Sheet'!$J82:K82),1),ROUND(AVERAGE('Score Sheet'!$I82:K82),1)))","v":"R"},{"$f":"IF('Score Sheet'!L82=\"\",\"R\",IF('Race results'!$C$32>0,ROUND(AVERAGE('Score Sheet'!$J82:L82),1),ROUND(AVERAGE('Score Sheet'!$I82:L82),1)))","v":"R"},{"$f":"IF('Score Sheet'!M82=\"\",\"R\",IF('Race results'!$C$32>0,ROUND(AVERAGE('Score Sheet'!$J82:M82),1),ROUND(AVERAGE('Score Sheet'!$I82:M82),1)))","v":"R"},{"$f":"IF('Score Sheet'!N82=\"\",\"R\",IF('Race results'!$C$32>0,ROUND(AVERAGE('Score Sheet'!$J82:N82),1),ROUND(AVERAGE('Score Sheet'!$I82:N82),1)))","v":"R"},{"$f":"IF('Score Sheet'!O82=\"\",\"R\",IF('Race results'!$C$32>0,ROUND(AVERAGE('Score Sheet'!$J82:O82),1),ROUND(AVERAGE('Score Sheet'!$I82:O82),1)))","v":"R"},{"$f":"IF('Score Sheet'!P82=\"\",\"R\",IF('Race results'!$C$32>0,ROUND(AVERAGE('Score Sheet'!$J82:P82),1),ROUND(AVERAGE('Score Sheet'!$I82:P82),1)))","v":"R"},{"$f":"IF('Score Sheet'!Q82=\"\",\"R\",IF('Race results'!$C$32>0,ROUND(AVERAGE('Score Sheet'!$J82:Q82),1),ROUND(AVERAGE('Score Sheet'!$I82:Q82),1)))","v":"R"},{"$f":"IF('Score Sheet'!R82=\"\",\"R\",IF('Race results'!$C$32>0,ROUND(AVERAGE('Score Sheet'!$J82:R82),1),ROUND(AVERAGE('Score Sheet'!$I82:R82),1)))","v":"R"},{"$f":"IF('Score Sheet'!S82=\"\",\"R\",IF('Race results'!$C$32>0,ROUND(AVERAGE('Score Sheet'!$J82:S82),1),ROUND(AVERAGE('Score Sheet'!$I82:S82),1)))","v":"R"},{"$f":"IF('Score Sheet'!T82=\"\",\"R\",IF('Race results'!$C$32>0,ROUND(AVERAGE('Score Sheet'!$J82:T82),1),ROUND(AVERAGE('Score Sheet'!$I82:T82),1)))","v":"R"},{"$f":"IF('Score Sheet'!U82=\"\",\"R\",IF('Race results'!$C$32>0,ROUND(AVERAGE('Score Sheet'!$J82:U82),1),ROUND(AVERAGE('Score Sheet'!$I82:U82),1)))","v":"R"},{"$f":"IF('Score Sheet'!V82=\"\",\"R\",IF('Race results'!$C$32>0,ROUND(AVERAGE('Score Sheet'!$J82:V82),1),ROUND(AVERAGE('Score Sheet'!$I82:V82),1)))","v":"R"},{"$f":"IF('Score Sheet'!W82=\"\",\"R\",IF('Race results'!$C$32>0,ROUND(AVERAGE('Score Sheet'!$J82:W82),1),ROUND(AVERAGE('Score Sheet'!$I82:W82),1)))","v":"R"},{"$f":"IF('Score Sheet'!X82=\"\",\"R\",IF('Race results'!$C$32>0,ROUND(AVERAGE('Score Sheet'!$J82:X82),1),ROUND(AVERAGE('Score Sheet'!$I82:X82),1)))","v":"R"},{"$f":"IF('Score Sheet'!Y82=\"\",\"R\",IF('Race results'!$C$32>0,ROUND(AVERAGE('Score Sheet'!$J82:Y82),1),ROUND(AVERAGE('Score Sheet'!$I82:Y82),1)))","v":"R"},{"$f":"IF('Score Sheet'!Z82=\"\",\"R\",IF('Race results'!$C$32>0,ROUND(AVERAGE('Score Sheet'!$J82:Z82),1),ROUND(AVERAGE('Score Sheet'!$I82:Z82),1)))","v":"R"},{"$f":"IF('Score Sheet'!AA82=\"\",\"R\",IF('Race results'!$C$32>0,ROUND(AVERAGE('Score Sheet'!$J82:AA82),1),ROUND(AVERAGE('Score Sheet'!$I82:AA82),1)))","v":"R"},{"$f":"IF('Score Sheet'!AB82=\"\",\"R\",IF('Race results'!$C$32>0,ROUND(AVERAGE('Score Sheet'!$J82:AB82),1),ROUND(AVERAGE('Score Sheet'!$I82:AB82),1)))","v":"R"},{"$f":"IF('Score Sheet'!AC82=\"\",\"R\",IF('Race results'!$C$32>0,ROUND(AVERAGE('Score Sheet'!$J82:AC82),1),ROUND(AVERAGE('Score Sheet'!$I82:AC82),1)))","v":"R"},{"$f":"IF('Score Sheet'!AD82=\"\",\"R\",IF('Race results'!$C$32>0,ROUND(AVERAGE('Score Sheet'!$J82:AD82),1),ROUND(AVERAGE('Score Sheet'!$I82:AD82),1)))","v":"R"},{"$f":"IF('Score Sheet'!AE82=\"\",\"R\",IF('Race results'!$C$32>0,ROUND(AVERAGE('Score Sheet'!$J82:AE82),1),ROUND(AVERAGE('Score Sheet'!$I82:AE82),1)))","v":"R"},{"$f":"IF('Score Sheet'!AF82=\"\",\"R\",IF('Race results'!$C$32>0,ROUND(AVERAGE('Score Sheet'!$J82:AF82),1),ROUND(AVERAGE('Score Sheet'!$I82:AF82),1)))","v":"R"},{"$f":"IF('Score Sheet'!AG82=\"\",\"R\",IF('Race results'!$C$32>0,ROUND(AVERAGE('Score Sheet'!$J82:AG82),1),ROUND(AVERAGE('Score Sheet'!$I82:AG82),1)))","v":"R"},{"$f":"IF('Score Sheet'!AH82=\"\",\"R\",IF('Race results'!$C$32>0,ROUND(AVERAGE('Score Sheet'!$J82:AH82),1),ROUND(AVERAGE('Score Sheet'!$I82:AH82),1)))","v":"R"},{"$f":"IF('Score Sheet'!AI82=\"\",\"R\",IF('Race results'!$C$32>0,ROUND(AVERAGE('Score Sheet'!$J82:AI82),1),ROUND(AVERAGE('Score Sheet'!$I82:AI82),1)))","v":"R"},{"$f":"IF('Score Sheet'!AJ82=\"\",\"R\",IF('Race results'!$C$32>0,ROUND(AVERAGE('Score Sheet'!$J82:AJ82),1),ROUND(AVERAGE('Score Sheet'!$I82:AJ82),1)))","v":"R"},{"$f":"IF('Score Sheet'!AK82=\"\",\"R\",IF('Race results'!$C$32>0,ROUND(AVERAGE('Score Sheet'!$J82:AK82),1),ROUND(AVERAGE('Score Sheet'!$I82:AK82),1)))","v":"R"},{"$f":"IF('Score Sheet'!AL82=\"\",\"R\",IF('Race results'!$C$32>0,ROUND(AVERAGE('Score Sheet'!$J82:AL82),1),ROUND(AVERAGE('Score Sheet'!$I82:AL82),1)))","v":"R"},{"$f":"IF('Score Sheet'!AM82=\"\",\"R\",IF('Race results'!$C$32>0,ROUND(AVERAGE('Score Sheet'!$J82:AM82),1),ROUND(AVERAGE('Score Sheet'!$I82:AM82),1)))","v":"R"},{"$f":"IF('Score Sheet'!AN82=\"\",\"R\",IF('Race results'!$C$32>0,ROUND(AVERAGE('Score Sheet'!$J82:AN82),1),ROUND(AVERAGE('Score Sheet'!$I82:AN82),1)))","v":"R"},{"$f":"IF('Score Sheet'!AO82=\"\",\"R\",IF('Race results'!$C$32>0,ROUND(AVERAGE('Score Sheet'!$J82:AO82),1),ROUND(AVERAGE('Score Sheet'!$I82:AO82),1)))","v":"R"},{"$f":"IF('Score Sheet'!AP82=\"\",\"R\",IF('Race results'!$C$32>0,ROUND(AVERAGE('Score Sheet'!$J82:AP82),1),ROUND(AVERAGE('Score Sheet'!$I82:AP82),1)))","v":"R"},{"$f":"IF('Score Sheet'!AQ82=\"\",\"R\",IF('Race results'!$C$32>0,ROUND(AVERAGE('Score Sheet'!$J82:AQ82),1),ROUND(AVERAGE('Score Sheet'!$I82:AQ82),1)))","v":"R"},{"$f":"IF('Score Sheet'!AR82=\"\",\"R\",IF('Race results'!$C$32>0,ROUND(AVERAGE('Score Sheet'!$J82:AR82),1),ROUND(AVERAGE('Score Sheet'!$I82:AR82),1)))","v":"R"},{"$f":"IF('Score Sheet'!AS82=\"\",\"R\",IF('Race results'!$C$32>0,ROUND(AVERAGE('Score Sheet'!$J82:AS82),1),ROUND(AVERAGE('Score Sheet'!$I82:AS82),1)))","v":"R"},{"$f":"IF('Score Sheet'!AT82=\"\",\"R\",IF('Race results'!$C$32>0,ROUND(AVERAGE('Score Sheet'!$J82:AT82),1),ROUND(AVERAGE('Score Sheet'!$I82:AT82),1)))","v":"R"},{"$f":"IF('Score Sheet'!AU82=\"\",\"R\",IF('Race results'!$C$32>0,ROUND(AVERAGE('Score Sheet'!$J82:AU82),1),ROUND(AVERAGE('Score Sheet'!$I82:AU82),1)))","v":"R"},{"$f":"IF('Score Sheet'!AV82=\"\",\"R\",IF('Race results'!$C$32>0,ROUND(AVERAGE('Score Sheet'!$J82:AV82),1),ROUND(AVERAGE('Score Sheet'!$I82:AV82),1)))","v":"R"},null,"",{"$f":"IF(C82=\"\",\"\",IF('Race results'!$C$7<1, \"E\", IF('Race results'!$C$32>0,IF(COUNT(AY82:CL82)<1,\"R\",ROUND(AVERAGE(AY82:CL82),1)),IF(COUNT(AX82:CL82)<1,\"R\",ROUND(AVERAGE(AX82:CL82),1)))))","v":""},null,null,"","","","","","","","","","","","","","","","","","","","","","","","","","","","","","","","","","","","","","","","",""]
[null,74,{"$f":"IF('Score Sheet'!C83=\"\",\"\",'Score Sheet'!C83)","v":""},{"$f":"'Race results'!$F$159","v":"DAFT!"},{"$f":"'Race results'!$F$159","v":"DAFT!"},{"$f":"IF('Score Sheet'!J83=\"\",\"R\",IF('Race results'!$C$32>0,'Race results'!$F$159,ROUND(AVERAGE('Score Sheet'!$I83:J83),1)))","v":"R"},{"$f":"IF('Score Sheet'!K83=\"\",\"R\",IF('Race results'!$C$32>0,ROUND(AVERAGE('Score Sheet'!$J83:K83),1),ROUND(AVERAGE('Score Sheet'!$I83:K83),1)))","v":"R"},{"$f":"IF('Score Sheet'!L83=\"\",\"R\",IF('Race results'!$C$32>0,ROUND(AVERAGE('Score Sheet'!$J83:L83),1),ROUND(AVERAGE('Score Sheet'!$I83:L83),1)))","v":"R"},{"$f":"IF('Score Sheet'!M83=\"\",\"R\",IF('Race results'!$C$32>0,ROUND(AVERAGE('Score Sheet'!$J83:M83),1),ROUND(AVERAGE('Score Sheet'!$I83:M83),1)))","v":"R"},{"$f":"IF('Score Sheet'!N83=\"\",\"R\",IF('Race results'!$C$32>0,ROUND(AVERAGE('Score Sheet'!$J83:N83),1),ROUND(AVERAGE('Score Sheet'!$I83:N83),1)))","v":"R"},{"$f":"IF('Score Sheet'!O83=\"\",\"R\",IF('Race results'!$C$32>0,ROUND(AVERAGE('Score Sheet'!$J83:O83),1),ROUND(AVERAGE('Score Sheet'!$I83:O83),1)))","v":"R"},{"$f":"IF('Score Sheet'!P83=\"\",\"R\",IF('Race results'!$C$32>0,ROUND(AVERAGE('Score Sheet'!$J83:P83),1),ROUND(AVERAGE('Score Sheet'!$I83:P83),1)))","v":"R"},{"$f":"IF('Score Sheet'!Q83=\"\",\"R\",IF('Race results'!$C$32>0,ROUND(AVERAGE('Score Sheet'!$J83:Q83),1),ROUND(AVERAGE('Score Sheet'!$I83:Q83),1)))","v":"R"},{"$f":"IF('Score Sheet'!R83=\"\",\"R\",IF('Race results'!$C$32>0,ROUND(AVERAGE('Score Sheet'!$J83:R83),1),ROUND(AVERAGE('Score Sheet'!$I83:R83),1)))","v":"R"},{"$f":"IF('Score Sheet'!S83=\"\",\"R\",IF('Race results'!$C$32>0,ROUND(AVERAGE('Score Sheet'!$J83:S83),1),ROUND(AVERAGE('Score Sheet'!$I83:S83),1)))","v":"R"},{"$f":"IF('Score Sheet'!T83=\"\",\"R\",IF('Race results'!$C$32>0,ROUND(AVERAGE('Score Sheet'!$J83:T83),1),ROUND(AVERAGE('Score Sheet'!$I83:T83),1)))","v":"R"},{"$f":"IF('Score Sheet'!U83=\"\",\"R\",IF('Race results'!$C$32>0,ROUND(AVERAGE('Score Sheet'!$J83:U83),1),ROUND(AVERAGE('Score Sheet'!$I83:U83),1)))","v":"R"},{"$f":"IF('Score Sheet'!V83=\"\",\"R\",IF('Race results'!$C$32>0,ROUND(AVERAGE('Score Sheet'!$J83:V83),1),ROUND(AVERAGE('Score Sheet'!$I83:V83),1)))","v":"R"},{"$f":"IF('Score Sheet'!W83=\"\",\"R\",IF('Race results'!$C$32>0,ROUND(AVERAGE('Score Sheet'!$J83:W83),1),ROUND(AVERAGE('Score Sheet'!$I83:W83),1)))","v":"R"},{"$f":"IF('Score Sheet'!X83=\"\",\"R\",IF('Race results'!$C$32>0,ROUND(AVERAGE('Score Sheet'!$J83:X83),1),ROUND(AVERAGE('Score Sheet'!$I83:X83),1)))","v":"R"},{"$f":"IF('Score Sheet'!Y83=\"\",\"R\",IF('Race results'!$C$32>0,ROUND(AVERAGE('Score Sheet'!$J83:Y83),1),ROUND(AVERAGE('Score Sheet'!$I83:Y83),1)))","v":"R"},{"$f":"IF('Score Sheet'!Z83=\"\",\"R\",IF('Race results'!$C$32>0,ROUND(AVERAGE('Score Sheet'!$J83:Z83),1),ROUND(AVERAGE('Score Sheet'!$I83:Z83),1)))","v":"R"},{"$f":"IF('Score Sheet'!AA83=\"\",\"R\",IF('Race results'!$C$32>0,ROUND(AVERAGE('Score Sheet'!$J83:AA83),1),ROUND(AVERAGE('Score Sheet'!$I83:AA83),1)))","v":"R"},{"$f":"IF('Score Sheet'!AB83=\"\",\"R\",IF('Race results'!$C$32>0,ROUND(AVERAGE('Score Sheet'!$J83:AB83),1),ROUND(AVERAGE('Score Sheet'!$I83:AB83),1)))","v":"R"},{"$f":"IF('Score Sheet'!AC83=\"\",\"R\",IF('Race results'!$C$32>0,ROUND(AVERAGE('Score Sheet'!$J83:AC83),1),ROUND(AVERAGE('Score Sheet'!$I83:AC83),1)))","v":"R"},{"$f":"IF('Score Sheet'!AD83=\"\",\"R\",IF('Race results'!$C$32>0,ROUND(AVERAGE('Score Sheet'!$J83:AD83),1),ROUND(AVERAGE('Score Sheet'!$I83:AD83),1)))","v":"R"},{"$f":"IF('Score Sheet'!AE83=\"\",\"R\",IF('Race results'!$C$32>0,ROUND(AVERAGE('Score Sheet'!$J83:AE83),1),ROUND(AVERAGE('Score Sheet'!$I83:AE83),1)))","v":"R"},{"$f":"IF('Score Sheet'!AF83=\"\",\"R\",IF('Race results'!$C$32>0,ROUND(AVERAGE('Score Sheet'!$J83:AF83),1),ROUND(AVERAGE('Score Sheet'!$I83:AF83),1)))","v":"R"},{"$f":"IF('Score Sheet'!AG83=\"\",\"R\",IF('Race results'!$C$32>0,ROUND(AVERAGE('Score Sheet'!$J83:AG83),1),ROUND(AVERAGE('Score Sheet'!$I83:AG83),1)))","v":"R"},{"$f":"IF('Score Sheet'!AH83=\"\",\"R\",IF('Race results'!$C$32>0,ROUND(AVERAGE('Score Sheet'!$J83:AH83),1),ROUND(AVERAGE('Score Sheet'!$I83:AH83),1)))","v":"R"},{"$f":"IF('Score Sheet'!AI83=\"\",\"R\",IF('Race results'!$C$32>0,ROUND(AVERAGE('Score Sheet'!$J83:AI83),1),ROUND(AVERAGE('Score Sheet'!$I83:AI83),1)))","v":"R"},{"$f":"IF('Score Sheet'!AJ83=\"\",\"R\",IF('Race results'!$C$32>0,ROUND(AVERAGE('Score Sheet'!$J83:AJ83),1),ROUND(AVERAGE('Score Sheet'!$I83:AJ83),1)))","v":"R"},{"$f":"IF('Score Sheet'!AK83=\"\",\"R\",IF('Race results'!$C$32>0,ROUND(AVERAGE('Score Sheet'!$J83:AK83),1),ROUND(AVERAGE('Score Sheet'!$I83:AK83),1)))","v":"R"},{"$f":"IF('Score Sheet'!AL83=\"\",\"R\",IF('Race results'!$C$32>0,ROUND(AVERAGE('Score Sheet'!$J83:AL83),1),ROUND(AVERAGE('Score Sheet'!$I83:AL83),1)))","v":"R"},{"$f":"IF('Score Sheet'!AM83=\"\",\"R\",IF('Race results'!$C$32>0,ROUND(AVERAGE('Score Sheet'!$J83:AM83),1),ROUND(AVERAGE('Score Sheet'!$I83:AM83),1)))","v":"R"},{"$f":"IF('Score Sheet'!AN83=\"\",\"R\",IF('Race results'!$C$32>0,ROUND(AVERAGE('Score Sheet'!$J83:AN83),1),ROUND(AVERAGE('Score Sheet'!$I83:AN83),1)))","v":"R"},{"$f":"IF('Score Sheet'!AO83=\"\",\"R\",IF('Race results'!$C$32>0,ROUND(AVERAGE('Score Sheet'!$J83:AO83),1),ROUND(AVERAGE('Score Sheet'!$I83:AO83),1)))","v":"R"},{"$f":"IF('Score Sheet'!AP83=\"\",\"R\",IF('Race results'!$C$32>0,ROUND(AVERAGE('Score Sheet'!$J83:AP83),1),ROUND(AVERAGE('Score Sheet'!$I83:AP83),1)))","v":"R"},{"$f":"IF('Score Sheet'!AQ83=\"\",\"R\",IF('Race results'!$C$32>0,ROUND(AVERAGE('Score Sheet'!$J83:AQ83),1),ROUND(AVERAGE('Score Sheet'!$I83:AQ83),1)))","v":"R"},{"$f":"IF('Score Sheet'!AR83=\"\",\"R\",IF('Race results'!$C$32>0,ROUND(AVERAGE('Score Sheet'!$J83:AR83),1),ROUND(AVERAGE('Score Sheet'!$I83:AR83),1)))","v":"R"},{"$f":"IF('Score Sheet'!AS83=\"\",\"R\",IF('Race results'!$C$32>0,ROUND(AVERAGE('Score Sheet'!$J83:AS83),1),ROUND(AVERAGE('Score Sheet'!$I83:AS83),1)))","v":"R"},{"$f":"IF('Score Sheet'!AT83=\"\",\"R\",IF('Race results'!$C$32>0,ROUND(AVERAGE('Score Sheet'!$J83:AT83),1),ROUND(AVERAGE('Score Sheet'!$I83:AT83),1)))","v":"R"},{"$f":"IF('Score Sheet'!AU83=\"\",\"R\",IF('Race results'!$C$32>0,ROUND(AVERAGE('Score Sheet'!$J83:AU83),1),ROUND(AVERAGE('Score Sheet'!$I83:AU83),1)))","v":"R"},{"$f":"IF('Score Sheet'!AV83=\"\",\"R\",IF('Race results'!$C$32>0,ROUND(AVERAGE('Score Sheet'!$J83:AV83),1),ROUND(AVERAGE('Score Sheet'!$I83:AV83),1)))","v":"R"},null,"",{"$f":"IF(C83=\"\",\"\",IF('Race results'!$C$7<1, \"E\", IF('Race results'!$C$32>0,IF(COUNT(AY83:CL83)<1,\"R\",ROUND(AVERAGE(AY83:CL83),1)),IF(COUNT(AX83:CL83)<1,\"R\",ROUND(AVERAGE(AX83:CL83),1)))))","v":""},null,null,"","","","","","","","","","","","","","","","","","","","","","","","","","","","","","","","","","","","","","","","",""]
[null,75,{"$f":"IF('Score Sheet'!C84=\"\",\"\",'Score Sheet'!C84)","v":""},{"$f":"'Race results'!$F$159","v":"DAFT!"},{"$f":"'Race results'!$F$159","v":"DAFT!"},{"$f":"IF('Score Sheet'!J84=\"\",\"R\",IF('Race results'!$C$32>0,'Race results'!$F$159,ROUND(AVERAGE('Score Sheet'!$I84:J84),1)))","v":"R"},{"$f":"IF('Score Sheet'!K84=\"\",\"R\",IF('Race results'!$C$32>0,ROUND(AVERAGE('Score Sheet'!$J84:K84),1),ROUND(AVERAGE('Score Sheet'!$I84:K84),1)))","v":"R"},{"$f":"IF('Score Sheet'!L84=\"\",\"R\",IF('Race results'!$C$32>0,ROUND(AVERAGE('Score Sheet'!$J84:L84),1),ROUND(AVERAGE('Score Sheet'!$I84:L84),1)))","v":"R"},{"$f":"IF('Score Sheet'!M84=\"\",\"R\",IF('Race results'!$C$32>0,ROUND(AVERAGE('Score Sheet'!$J84:M84),1),ROUND(AVERAGE('Score Sheet'!$I84:M84),1)))","v":"R"},{"$f":"IF('Score Sheet'!N84=\"\",\"R\",IF('Race results'!$C$32>0,ROUND(AVERAGE('Score Sheet'!$J84:N84),1),ROUND(AVERAGE('Score Sheet'!$I84:N84),1)))","v":"R"},{"$f":"IF('Score Sheet'!O84=\"\",\"R\",IF('Race results'!$C$32>0,ROUND(AVERAGE('Score Sheet'!$J84:O84),1),ROUND(AVERAGE('Score Sheet'!$I84:O84),1)))","v":"R"},{"$f":"IF('Score Sheet'!P84=\"\",\"R\",IF('Race results'!$C$32>0,ROUND(AVERAGE('Score Sheet'!$J84:P84),1),ROUND(AVERAGE('Score Sheet'!$I84:P84),1)))","v":"R"},{"$f":"IF('Score Sheet'!Q84=\"\",\"R\",IF('Race results'!$C$32>0,ROUND(AVERAGE('Score Sheet'!$J84:Q84),1),ROUND(AVERAGE('Score Sheet'!$I84:Q84),1)))","v":"R"},{"$f":"IF('Score Sheet'!R84=\"\",\"R\",IF('Race results'!$C$32>0,ROUND(AVERAGE('Score Sheet'!$J84:R84),1),ROUND(AVERAGE('Score Sheet'!$I84:R84),1)))","v":"R"},{"$f":"IF('Score Sheet'!S84=\"\",\"R\",IF('Race results'!$C$32>0,ROUND(AVERAGE('Score Sheet'!$J84:S84),1),ROUND(AVERAGE('Score Sheet'!$I84:S84),1)))","v":"R"},{"$f":"IF('Score Sheet'!T84=\"\",\"R\",IF('Race results'!$C$32>0,ROUND(AVERAGE('Score Sheet'!$J84:T84),1),ROUND(AVERAGE('Score Sheet'!$I84:T84),1)))","v":"R"},{"$f":"IF('Score Sheet'!U84=\"\",\"R\",IF('Race results'!$C$32>0,ROUND(AVERAGE('Score Sheet'!$J84:U84),1),ROUND(AVERAGE('Score Sheet'!$I84:U84),1)))","v":"R"},{"$f":"IF('Score Sheet'!V84=\"\",\"R\",IF('Race results'!$C$32>0,ROUND(AVERAGE('Score Sheet'!$J84:V84),1),ROUND(AVERAGE('Score Sheet'!$I84:V84),1)))","v":"R"},{"$f":"IF('Score Sheet'!W84=\"\",\"R\",IF('Race results'!$C$32>0,ROUND(AVERAGE('Score Sheet'!$J84:W84),1),ROUND(AVERAGE('Score Sheet'!$I84:W84),1)))","v":"R"},{"$f":"IF('Score Sheet'!X84=\"\",\"R\",IF('Race results'!$C$32>0,ROUND(AVERAGE('Score Sheet'!$J84:X84),1),ROUND(AVERAGE('Score Sheet'!$I84:X84),1)))","v":"R"},{"$f":"IF('Score Sheet'!Y84=\"\",\"R\",IF('Race results'!$C$32>0,ROUND(AVERAGE('Score Sheet'!$J84:Y84),1),ROUND(AVERAGE('Score Sheet'!$I84:Y84),1)))","v":"R"},{"$f":"IF('Score Sheet'!Z84=\"\",\"R\",IF('Race results'!$C$32>0,ROUND(AVERAGE('Score Sheet'!$J84:Z84),1),ROUND(AVERAGE('Score Sheet'!$I84:Z84),1)))","v":"R"},{"$f":"IF('Score Sheet'!AA84=\"\",\"R\",IF('Race results'!$C$32>0,ROUND(AVERAGE('Score Sheet'!$J84:AA84),1),ROUND(AVERAGE('Score Sheet'!$I84:AA84),1)))","v":"R"},{"$f":"IF('Score Sheet'!AB84=\"\",\"R\",IF('Race results'!$C$32>0,ROUND(AVERAGE('Score Sheet'!$J84:AB84),1),ROUND(AVERAGE('Score Sheet'!$I84:AB84),1)))","v":"R"},{"$f":"IF('Score Sheet'!AC84=\"\",\"R\",IF('Race results'!$C$32>0,ROUND(AVERAGE('Score Sheet'!$J84:AC84),1),ROUND(AVERAGE('Score Sheet'!$I84:AC84),1)))","v":"R"},{"$f":"IF('Score Sheet'!AD84=\"\",\"R\",IF('Race results'!$C$32>0,ROUND(AVERAGE('Score Sheet'!$J84:AD84),1),ROUND(AVERAGE('Score Sheet'!$I84:AD84),1)))","v":"R"},{"$f":"IF('Score Sheet'!AE84=\"\",\"R\",IF('Race results'!$C$32>0,ROUND(AVERAGE('Score Sheet'!$J84:AE84),1),ROUND(AVERAGE('Score Sheet'!$I84:AE84),1)))","v":"R"},{"$f":"IF('Score Sheet'!AF84=\"\",\"R\",IF('Race results'!$C$32>0,ROUND(AVERAGE('Score Sheet'!$J84:AF84),1),ROUND(AVERAGE('Score Sheet'!$I84:AF84),1)))","v":"R"},{"$f":"IF('Score Sheet'!AG84=\"\",\"R\",IF('Race results'!$C$32>0,ROUND(AVERAGE('Score Sheet'!$J84:AG84),1),ROUND(AVERAGE('Score Sheet'!$I84:AG84),1)))","v":"R"},{"$f":"IF('Score Sheet'!AH84=\"\",\"R\",IF('Race results'!$C$32>0,ROUND(AVERAGE('Score Sheet'!$J84:AH84),1),ROUND(AVERAGE('Score Sheet'!$I84:AH84),1)))","v":"R"},{"$f":"IF('Score Sheet'!AI84=\"\",\"R\",IF('Race results'!$C$32>0,ROUND(AVERAGE('Score Sheet'!$J84:AI84),1),ROUND(AVERAGE('Score Sheet'!$I84:AI84),1)))","v":"R"},{"$f":"IF('Score Sheet'!AJ84=\"\",\"R\",IF('Race results'!$C$32>0,ROUND(AVERAGE('Score Sheet'!$J84:AJ84),1),ROUND(AVERAGE('Score Sheet'!$I84:AJ84),1)))","v":"R"},{"$f":"IF('Score Sheet'!AK84=\"\",\"R\",IF('Race results'!$C$32>0,ROUND(AVERAGE('Score Sheet'!$J84:AK84),1),ROUND(AVERAGE('Score Sheet'!$I84:AK84),1)))","v":"R"},{"$f":"IF('Score Sheet'!AL84=\"\",\"R\",IF('Race results'!$C$32>0,ROUND(AVERAGE('Score Sheet'!$J84:AL84),1),ROUND(AVERAGE('Score Sheet'!$I84:AL84),1)))","v":"R"},{"$f":"IF('Score Sheet'!AM84=\"\",\"R\",IF('Race results'!$C$32>0,ROUND(AVERAGE('Score Sheet'!$J84:AM84),1),ROUND(AVERAGE('Score Sheet'!$I84:AM84),1)))","v":"R"},{"$f":"IF('Score Sheet'!AN84=\"\",\"R\",IF('Race results'!$C$32>0,ROUND(AVERAGE('Score Sheet'!$J84:AN84),1),ROUND(AVERAGE('Score Sheet'!$I84:AN84),1)))","v":"R"},{"$f":"IF('Score Sheet'!AO84=\"\",\"R\",IF('Race results'!$C$32>0,ROUND(AVERAGE('Score Sheet'!$J84:AO84),1),ROUND(AVERAGE('Score Sheet'!$I84:AO84),1)))","v":"R"},{"$f":"IF('Score Sheet'!AP84=\"\",\"R\",IF('Race results'!$C$32>0,ROUND(AVERAGE('Score Sheet'!$J84:AP84),1),ROUND(AVERAGE('Score Sheet'!$I84:AP84),1)))","v":"R"},{"$f":"IF('Score Sheet'!AQ84=\"\",\"R\",IF('Race results'!$C$32>0,ROUND(AVERAGE('Score Sheet'!$J84:AQ84),1),ROUND(AVERAGE('Score Sheet'!$I84:AQ84),1)))","v":"R"},{"$f":"IF('Score Sheet'!AR84=\"\",\"R\",IF('Race results'!$C$32>0,ROUND(AVERAGE('Score Sheet'!$J84:AR84),1),ROUND(AVERAGE('Score Sheet'!$I84:AR84),1)))","v":"R"},{"$f":"IF('Score Sheet'!AS84=\"\",\"R\",IF('Race results'!$C$32>0,ROUND(AVERAGE('Score Sheet'!$J84:AS84),1),ROUND(AVERAGE('Score Sheet'!$I84:AS84),1)))","v":"R"},{"$f":"IF('Score Sheet'!AT84=\"\",\"R\",IF('Race results'!$C$32>0,ROUND(AVERAGE('Score Sheet'!$J84:AT84),1),ROUND(AVERAGE('Score Sheet'!$I84:AT84),1)))","v":"R"},{"$f":"IF('Score Sheet'!AU84=\"\",\"R\",IF('Race results'!$C$32>0,ROUND(AVERAGE('Score Sheet'!$J84:AU84),1),ROUND(AVERAGE('Score Sheet'!$I84:AU84),1)))","v":"R"},{"$f":"IF('Score Sheet'!AV84=\"\",\"R\",IF('Race results'!$C$32>0,ROUND(AVERAGE('Score Sheet'!$J84:AV84),1),ROUND(AVERAGE('Score Sheet'!$I84:AV84),1)))","v":"R"},null,"",{"$f":"IF(C84=\"\",\"\",IF('Race results'!$C$7<1, \"E\", IF('Race results'!$C$32>0,IF(COUNT(AY84:CL84)<1,\"R\",ROUND(AVERAGE(AY84:CL84),1)),IF(COUNT(AX84:CL84)<1,\"R\",ROUND(AVERAGE(AX84:CL84),1)))))","v":""},null,null,"","","","","","","","","","","","","","","","","","","","","","","","","","","","","","","","","","","","","","","","",""]
[null,76,{"$f":"IF('Score Sheet'!C85=\"\",\"\",'Score Sheet'!C85)","v":""},{"$f":"'Race results'!$F$159","v":"DAFT!"},{"$f":"'Race results'!$F$159","v":"DAFT!"},{"$f":"IF('Score Sheet'!J85=\"\",\"R\",IF('Race results'!$C$32>0,'Race results'!$F$159,ROUND(AVERAGE('Score Sheet'!$I85:J85),1)))","v":"R"},{"$f":"IF('Score Sheet'!K85=\"\",\"R\",IF('Race results'!$C$32>0,ROUND(AVERAGE('Score Sheet'!$J85:K85),1),ROUND(AVERAGE('Score Sheet'!$I85:K85),1)))","v":"R"},{"$f":"IF('Score Sheet'!L85=\"\",\"R\",IF('Race results'!$C$32>0,ROUND(AVERAGE('Score Sheet'!$J85:L85),1),ROUND(AVERAGE('Score Sheet'!$I85:L85),1)))","v":"R"},{"$f":"IF('Score Sheet'!M85=\"\",\"R\",IF('Race results'!$C$32>0,ROUND(AVERAGE('Score Sheet'!$J85:M85),1),ROUND(AVERAGE('Score Sheet'!$I85:M85),1)))","v":"R"},{"$f":"IF('Score Sheet'!N85=\"\",\"R\",IF('Race results'!$C$32>0,ROUND(AVERAGE('Score Sheet'!$J85:N85),1),ROUND(AVERAGE('Score Sheet'!$I85:N85),1)))","v":"R"},{"$f":"IF('Score Sheet'!O85=\"\",\"R\",IF('Race results'!$C$32>0,ROUND(AVERAGE('Score Sheet'!$J85:O85),1),ROUND(AVERAGE('Score Sheet'!$I85:O85),1)))","v":"R"},{"$f":"IF('Score Sheet'!P85=\"\",\"R\",IF('Race results'!$C$32>0,ROUND(AVERAGE('Score Sheet'!$J85:P85),1),ROUND(AVERAGE('Score Sheet'!$I85:P85),1)))","v":"R"},{"$f":"IF('Score Sheet'!Q85=\"\",\"R\",IF('Race results'!$C$32>0,ROUND(AVERAGE('Score Sheet'!$J85:Q85),1),ROUND(AVERAGE('Score Sheet'!$I85:Q85),1)))","v":"R"},{"$f":"IF('Score Sheet'!R85=\"\",\"R\",IF('Race results'!$C$32>0,ROUND(AVERAGE('Score Sheet'!$J85:R85),1),ROUND(AVERAGE('Score Sheet'!$I85:R85),1)))","v":"R"},{"$f":"IF('Score Sheet'!S85=\"\",\"R\",IF('Race results'!$C$32>0,ROUND(AVERAGE('Score Sheet'!$J85:S85),1),ROUND(AVERAGE('Score Sheet'!$I85:S85),1)))","v":"R"},{"$f":"IF('Score Sheet'!T85=\"\",\"R\",IF('Race results'!$C$32>0,ROUND(AVERAGE('Score Sheet'!$J85:T85),1),ROUND(AVERAGE('Score Sheet'!$I85:T85),1)))","v":"R"},{"$f":"IF('Score Sheet'!U85=\"\",\"R\",IF('Race results'!$C$32>0,ROUND(AVERAGE('Score Sheet'!$J85:U85),1),ROUND(AVERAGE('Score Sheet'!$I85:U85),1)))","v":"R"},{"$f":"IF('Score Sheet'!V85=\"\",\"R\",IF('Race results'!$C$32>0,ROUND(AVERAGE('Score Sheet'!$J85:V85),1),ROUND(AVERAGE('Score Sheet'!$I85:V85),1)))","v":"R"},{"$f":"IF('Score Sheet'!W85=\"\",\"R\",IF('Race results'!$C$32>0,ROUND(AVERAGE('Score Sheet'!$J85:W85),1),ROUND(AVERAGE('Score Sheet'!$I85:W85),1)))","v":"R"},{"$f":"IF('Score Sheet'!X85=\"\",\"R\",IF('Race results'!$C$32>0,ROUND(AVERAGE('Score Sheet'!$J85:X85),1),ROUND(AVERAGE('Score Sheet'!$I85:X85),1)))","v":"R"},{"$f":"IF('Score Sheet'!Y85=\"\",\"R\",IF('Race results'!$C$32>0,ROUND(AVERAGE('Score Sheet'!$J85:Y85),1),ROUND(AVERAGE('Score Sheet'!$I85:Y85),1)))","v":"R"},{"$f":"IF('Score Sheet'!Z85=\"\",\"R\",IF('Race results'!$C$32>0,ROUND(AVERAGE('Score Sheet'!$J85:Z85),1),ROUND(AVERAGE('Score Sheet'!$I85:Z85),1)))","v":"R"},{"$f":"IF('Score Sheet'!AA85=\"\",\"R\",IF('Race results'!$C$32>0,ROUND(AVERAGE('Score Sheet'!$J85:AA85),1),ROUND(AVERAGE('Score Sheet'!$I85:AA85),1)))","v":"R"},{"$f":"IF('Score Sheet'!AB85=\"\",\"R\",IF('Race results'!$C$32>0,ROUND(AVERAGE('Score Sheet'!$J85:AB85),1),ROUND(AVERAGE('Score Sheet'!$I85:AB85),1)))","v":"R"},{"$f":"IF('Score Sheet'!AC85=\"\",\"R\",IF('Race results'!$C$32>0,ROUND(AVERAGE('Score Sheet'!$J85:AC85),1),ROUND(AVERAGE('Score Sheet'!$I85:AC85),1)))","v":"R"},{"$f":"IF('Score Sheet'!AD85=\"\",\"R\",IF('Race results'!$C$32>0,ROUND(AVERAGE('Score Sheet'!$J85:AD85),1),ROUND(AVERAGE('Score Sheet'!$I85:AD85),1)))","v":"R"},{"$f":"IF('Score Sheet'!AE85=\"\",\"R\",IF('Race results'!$C$32>0,ROUND(AVERAGE('Score Sheet'!$J85:AE85),1),ROUND(AVERAGE('Score Sheet'!$I85:AE85),1)))","v":"R"},{"$f":"IF('Score Sheet'!AF85=\"\",\"R\",IF('Race results'!$C$32>0,ROUND(AVERAGE('Score Sheet'!$J85:AF85),1),ROUND(AVERAGE('Score Sheet'!$I85:AF85),1)))","v":"R"},{"$f":"IF('Score Sheet'!AG85=\"\",\"R\",IF('Race results'!$C$32>0,ROUND(AVERAGE('Score Sheet'!$J85:AG85),1),ROUND(AVERAGE('Score Sheet'!$I85:AG85),1)))","v":"R"},{"$f":"IF('Score Sheet'!AH85=\"\",\"R\",IF('Race results'!$C$32>0,ROUND(AVERAGE('Score Sheet'!$J85:AH85),1),ROUND(AVERAGE('Score Sheet'!$I85:AH85),1)))","v":"R"},{"$f":"IF('Score Sheet'!AI85=\"\",\"R\",IF('Race results'!$C$32>0,ROUND(AVERAGE('Score Sheet'!$J85:AI85),1),ROUND(AVERAGE('Score Sheet'!$I85:AI85),1)))","v":"R"},{"$f":"IF('Score Sheet'!AJ85=\"\",\"R\",IF('Race results'!$C$32>0,ROUND(AVERAGE('Score Sheet'!$J85:AJ85),1),ROUND(AVERAGE('Score Sheet'!$I85:AJ85),1)))","v":"R"},{"$f":"IF('Score Sheet'!AK85=\"\",\"R\",IF('Race results'!$C$32>0,ROUND(AVERAGE('Score Sheet'!$J85:AK85),1),ROUND(AVERAGE('Score Sheet'!$I85:AK85),1)))","v":"R"},{"$f":"IF('Score Sheet'!AL85=\"\",\"R\",IF('Race results'!$C$32>0,ROUND(AVERAGE('Score Sheet'!$J85:AL85),1),ROUND(AVERAGE('Score Sheet'!$I85:AL85),1)))","v":"R"},{"$f":"IF('Score Sheet'!AM85=\"\",\"R\",IF('Race results'!$C$32>0,ROUND(AVERAGE('Score Sheet'!$J85:AM85),1),ROUND(AVERAGE('Score Sheet'!$I85:AM85),1)))","v":"R"},{"$f":"IF('Score Sheet'!AN85=\"\",\"R\",IF('Race results'!$C$32>0,ROUND(AVERAGE('Score Sheet'!$J85:AN85),1),ROUND(AVERAGE('Score Sheet'!$I85:AN85),1)))","v":"R"},{"$f":"IF('Score Sheet'!AO85=\"\",\"R\",IF('Race results'!$C$32>0,ROUND(AVERAGE('Score Sheet'!$J85:AO85),1),ROUND(AVERAGE('Score Sheet'!$I85:AO85),1)))","v":"R"},{"$f":"IF('Score Sheet'!AP85=\"\",\"R\",IF('Race results'!$C$32>0,ROUND(AVERAGE('Score Sheet'!$J85:AP85),1),ROUND(AVERAGE('Score Sheet'!$I85:AP85),1)))","v":"R"},{"$f":"IF('Score Sheet'!AQ85=\"\",\"R\",IF('Race results'!$C$32>0,ROUND(AVERAGE('Score Sheet'!$J85:AQ85),1),ROUND(AVERAGE('Score Sheet'!$I85:AQ85),1)))","v":"R"},{"$f":"IF('Score Sheet'!AR85=\"\",\"R\",IF('Race results'!$C$32>0,ROUND(AVERAGE('Score Sheet'!$J85:AR85),1),ROUND(AVERAGE('Score Sheet'!$I85:AR85),1)))","v":"R"},{"$f":"IF('Score Sheet'!AS85=\"\",\"R\",IF('Race results'!$C$32>0,ROUND(AVERAGE('Score Sheet'!$J85:AS85),1),ROUND(AVERAGE('Score Sheet'!$I85:AS85),1)))","v":"R"},{"$f":"IF('Score Sheet'!AT85=\"\",\"R\",IF('Race results'!$C$32>0,ROUND(AVERAGE('Score Sheet'!$J85:AT85),1),ROUND(AVERAGE('Score Sheet'!$I85:AT85),1)))","v":"R"},{"$f":"IF('Score Sheet'!AU85=\"\",\"R\",IF('Race results'!$C$32>0,ROUND(AVERAGE('Score Sheet'!$J85:AU85),1),ROUND(AVERAGE('Score Sheet'!$I85:AU85),1)))","v":"R"},{"$f":"IF('Score Sheet'!AV85=\"\",\"R\",IF('Race results'!$C$32>0,ROUND(AVERAGE('Score Sheet'!$J85:AV85),1),ROUND(AVERAGE('Score Sheet'!$I85:AV85),1)))","v":"R"},null,"",{"$f":"IF(C85=\"\",\"\",IF('Race results'!$C$7<1, \"E\", IF('Race results'!$C$32>0,IF(COUNT(AY85:CL85)<1,\"R\",ROUND(AVERAGE(AY85:CL85),1)),IF(COUNT(AX85:CL85)<1,\"R\",ROUND(AVERAGE(AX85:CL85),1)))))","v":""},null,null,"","","","","","","","","","","","","","","","","","","","","","","","","","","","","","","","","","","","","","","","",""]
[null,77,{"$f":"IF('Score Sheet'!C86=\"\",\"\",'Score Sheet'!C86)","v":""},{"$f":"'Race results'!$F$159","v":"DAFT!"},{"$f":"'Race results'!$F$159","v":"DAFT!"},{"$f":"IF('Score Sheet'!J86=\"\",\"R\",IF('Race results'!$C$32>0,'Race results'!$F$159,ROUND(AVERAGE('Score Sheet'!$I86:J86),1)))","v":"R"},{"$f":"IF('Score Sheet'!K86=\"\",\"R\",IF('Race results'!$C$32>0,ROUND(AVERAGE('Score Sheet'!$J86:K86),1),ROUND(AVERAGE('Score Sheet'!$I86:K86),1)))","v":"R"},{"$f":"IF('Score Sheet'!L86=\"\",\"R\",IF('Race results'!$C$32>0,ROUND(AVERAGE('Score Sheet'!$J86:L86),1),ROUND(AVERAGE('Score Sheet'!$I86:L86),1)))","v":"R"},{"$f":"IF('Score Sheet'!M86=\"\",\"R\",IF('Race results'!$C$32>0,ROUND(AVERAGE('Score Sheet'!$J86:M86),1),ROUND(AVERAGE('Score Sheet'!$I86:M86),1)))","v":"R"},{"$f":"IF('Score Sheet'!N86=\"\",\"R\",IF('Race results'!$C$32>0,ROUND(AVERAGE('Score Sheet'!$J86:N86),1),ROUND(AVERAGE('Score Sheet'!$I86:N86),1)))","v":"R"},{"$f":"IF('Score Sheet'!O86=\"\",\"R\",IF('Race results'!$C$32>0,ROUND(AVERAGE('Score Sheet'!$J86:O86),1),ROUND(AVERAGE('Score Sheet'!$I86:O86),1)))","v":"R"},{"$f":"IF('Score Sheet'!P86=\"\",\"R\",IF('Race results'!$C$32>0,ROUND(AVERAGE('Score Sheet'!$J86:P86),1),ROUND(AVERAGE('Score Sheet'!$I86:P86),1)))","v":"R"},{"$f":"IF('Score Sheet'!Q86=\"\",\"R\",IF('Race results'!$C$32>0,ROUND(AVERAGE('Score Sheet'!$J86:Q86),1),ROUND(AVERAGE('Score Sheet'!$I86:Q86),1)))","v":"R"},{"$f":"IF('Score Sheet'!R86=\"\",\"R\",IF('Race results'!$C$32>0,ROUND(AVERAGE('Score Sheet'!$J86:R86),1),ROUND(AVERAGE('Score Sheet'!$I86:R86),1)))","v":"R"},{"$f":"IF('Score Sheet'!S86=\"\",\"R\",IF('Race results'!$C$32>0,ROUND(AVERAGE('Score Sheet'!$J86:S86),1),ROUND(AVERAGE('Score Sheet'!$I86:S86),1)))","v":"R"},{"$f":"IF('Score Sheet'!T86=\"\",\"R\",IF('Race results'!$C$32>0,ROUND(AVERAGE('Score Sheet'!$J86:T86),1),ROUND(AVERAGE('Score Sheet'!$I86:T86),1)))","v":"R"},{"$f":"IF('Score Sheet'!U86=\"\",\"R\",IF('Race results'!$C$32>0,ROUND(AVERAGE('Score Sheet'!$J86:U86),1),ROUND(AVERAGE('Score Sheet'!$I86:U86),1)))","v":"R"},{"$f":"IF('Score Sheet'!V86=\"\",\"R\",IF('Race results'!$C$32>0,ROUND(AVERAGE('Score Sheet'!$J86:V86),1),ROUND(AVERAGE('Score Sheet'!$I86:V86),1)))","v":"R"},{"$f":"IF('Score Sheet'!W86=\"\",\"R\",IF('Race results'!$C$32>0,ROUND(AVERAGE('Score Sheet'!$J86:W86),1),ROUND(AVERAGE('Score Sheet'!$I86:W86),1)))","v":"R"},{"$f":"IF('Score Sheet'!X86=\"\",\"R\",IF('Race results'!$C$32>0,ROUND(AVERAGE('Score Sheet'!$J86:X86),1),ROUND(AVERAGE('Score Sheet'!$I86:X86),1)))","v":"R"},{"$f":"IF('Score Sheet'!Y86=\"\",\"R\",IF('Race results'!$C$32>0,ROUND(AVERAGE('Score Sheet'!$J86:Y86),1),ROUND(AVERAGE('Score Sheet'!$I86:Y86),1)))","v":"R"},{"$f":"IF('Score Sheet'!Z86=\"\",\"R\",IF('Race results'!$C$32>0,ROUND(AVERAGE('Score Sheet'!$J86:Z86),1),ROUND(AVERAGE('Score Sheet'!$I86:Z86),1)))","v":"R"},{"$f":"IF('Score Sheet'!AA86=\"\",\"R\",IF('Race results'!$C$32>0,ROUND(AVERAGE('Score Sheet'!$J86:AA86),1),ROUND(AVERAGE('Score Sheet'!$I86:AA86),1)))","v":"R"},{"$f":"IF('Score Sheet'!AB86=\"\",\"R\",IF('Race results'!$C$32>0,ROUND(AVERAGE('Score Sheet'!$J86:AB86),1),ROUND(AVERAGE('Score Sheet'!$I86:AB86),1)))","v":"R"},{"$f":"IF('Score Sheet'!AC86=\"\",\"R\",IF('Race results'!$C$32>0,ROUND(AVERAGE('Score Sheet'!$J86:AC86),1),ROUND(AVERAGE('Score Sheet'!$I86:AC86),1)))","v":"R"},{"$f":"IF('Score Sheet'!AD86=\"\",\"R\",IF('Race results'!$C$32>0,ROUND(AVERAGE('Score Sheet'!$J86:AD86),1),ROUND(AVERAGE('Score Sheet'!$I86:AD86),1)))","v":"R"},{"$f":"IF('Score Sheet'!AE86=\"\",\"R\",IF('Race results'!$C$32>0,ROUND(AVERAGE('Score Sheet'!$J86:AE86),1),ROUND(AVERAGE('Score Sheet'!$I86:AE86),1)))","v":"R"},{"$f":"IF('Score Sheet'!AF86=\"\",\"R\",IF('Race results'!$C$32>0,ROUND(AVERAGE('Score Sheet'!$J86:AF86),1),ROUND(AVERAGE('Score Sheet'!$I86:AF86),1)))","v":"R"},{"$f":"IF('Score Sheet'!AG86=\"\",\"R\",IF('Race results'!$C$32>0,ROUND(AVERAGE('Score Sheet'!$J86:AG86),1),ROUND(AVERAGE('Score Sheet'!$I86:AG86),1)))","v":"R"},{"$f":"IF('Score Sheet'!AH86=\"\",\"R\",IF('Race results'!$C$32>0,ROUND(AVERAGE('Score Sheet'!$J86:AH86),1),ROUND(AVERAGE('Score Sheet'!$I86:AH86),1)))","v":"R"},{"$f":"IF('Score Sheet'!AI86=\"\",\"R\",IF('Race results'!$C$32>0,ROUND(AVERAGE('Score Sheet'!$J86:AI86),1),ROUND(AVERAGE('Score Sheet'!$I86:AI86),1)))","v":"R"},{"$f":"IF('Score Sheet'!AJ86=\"\",\"R\",IF('Race results'!$C$32>0,ROUND(AVERAGE('Score Sheet'!$J86:AJ86),1),ROUND(AVERAGE('Score Sheet'!$I86:AJ86),1)))","v":"R"},{"$f":"IF('Score Sheet'!AK86=\"\",\"R\",IF('Race results'!$C$32>0,ROUND(AVERAGE('Score Sheet'!$J86:AK86),1),ROUND(AVERAGE('Score Sheet'!$I86:AK86),1)))","v":"R"},{"$f":"IF('Score Sheet'!AL86=\"\",\"R\",IF('Race results'!$C$32>0,ROUND(AVERAGE('Score Sheet'!$J86:AL86),1),ROUND(AVERAGE('Score Sheet'!$I86:AL86),1)))","v":"R"},{"$f":"IF('Score Sheet'!AM86=\"\",\"R\",IF('Race results'!$C$32>0,ROUND(AVERAGE('Score Sheet'!$J86:AM86),1),ROUND(AVERAGE('Score Sheet'!$I86:AM86),1)))","v":"R"},{"$f":"IF('Score Sheet'!AN86=\"\",\"R\",IF('Race results'!$C$32>0,ROUND(AVERAGE('Score Sheet'!$J86:AN86),1),ROUND(AVERAGE('Score Sheet'!$I86:AN86),1)))","v":"R"},{"$f":"IF('Score Sheet'!AO86=\"\",\"R\",IF('Race results'!$C$32>0,ROUND(AVERAGE('Score Sheet'!$J86:AO86),1),ROUND(AVERAGE('Score Sheet'!$I86:AO86),1)))","v":"R"},{"$f":"IF('Score Sheet'!AP86=\"\",\"R\",IF('Race results'!$C$32>0,ROUND(AVERAGE('Score Sheet'!$J86:AP86),1),ROUND(AVERAGE('Score Sheet'!$I86:AP86),1)))","v":"R"},{"$f":"IF('Score Sheet'!AQ86=\"\",\"R\",IF('Race results'!$C$32>0,ROUND(AVERAGE('Score Sheet'!$J86:AQ86),1),ROUND(AVERAGE('Score Sheet'!$I86:AQ86),1)))","v":"R"},{"$f":"IF('Score Sheet'!AR86=\"\",\"R\",IF('Race results'!$C$32>0,ROUND(AVERAGE('Score Sheet'!$J86:AR86),1),ROUND(AVERAGE('Score Sheet'!$I86:AR86),1)))","v":"R"},{"$f":"IF('Score Sheet'!AS86=\"\",\"R\",IF('Race results'!$C$32>0,ROUND(AVERAGE('Score Sheet'!$J86:AS86),1),ROUND(AVERAGE('Score Sheet'!$I86:AS86),1)))","v":"R"},{"$f":"IF('Score Sheet'!AT86=\"\",\"R\",IF('Race results'!$C$32>0,ROUND(AVERAGE('Score Sheet'!$J86:AT86),1),ROUND(AVERAGE('Score Sheet'!$I86:AT86),1)))","v":"R"},{"$f":"IF('Score Sheet'!AU86=\"\",\"R\",IF('Race results'!$C$32>0,ROUND(AVERAGE('Score Sheet'!$J86:AU86),1),ROUND(AVERAGE('Score Sheet'!$I86:AU86),1)))","v":"R"},{"$f":"IF('Score Sheet'!AV86=\"\",\"R\",IF('Race results'!$C$32>0,ROUND(AVERAGE('Score Sheet'!$J86:AV86),1),ROUND(AVERAGE('Score Sheet'!$I86:AV86),1)))","v":"R"},null,"",{"$f":"IF(C86=\"\",\"\",IF('Race results'!$C$7<1, \"E\", IF('Race results'!$C$32>0,IF(COUNT(AY86:CL86)<1,\"R\",ROUND(AVERAGE(AY86:CL86),1)),IF(COUNT(AX86:CL86)<1,\"R\",ROUND(AVERAGE(AX86:CL86),1)))))","v":""},null,null,"","","","","","","","","","","","","","","","","","","","","","","","","","","","","","","","","","","","","","","","",""]
[null,78,{"$f":"IF('Score Sheet'!C87=\"\",\"\",'Score Sheet'!C87)","v":""},{"$f":"'Race results'!$F$159","v":"DAFT!"},{"$f":"'Race results'!$F$159","v":"DAFT!"},{"$f":"IF('Score Sheet'!J87=\"\",\"R\",IF('Race results'!$C$32>0,'Race results'!$F$159,ROUND(AVERAGE('Score Sheet'!$I87:J87),1)))","v":"R"},{"$f":"IF('Score Sheet'!K87=\"\",\"R\",IF('Race results'!$C$32>0,ROUND(AVERAGE('Score Sheet'!$J87:K87),1),ROUND(AVERAGE('Score Sheet'!$I87:K87),1)))","v":"R"},{"$f":"IF('Score Sheet'!L87=\"\",\"R\",IF('Race results'!$C$32>0,ROUND(AVERAGE('Score Sheet'!$J87:L87),1),ROUND(AVERAGE('Score Sheet'!$I87:L87),1)))","v":"R"},{"$f":"IF('Score Sheet'!M87=\"\",\"R\",IF('Race results'!$C$32>0,ROUND(AVERAGE('Score Sheet'!$J87:M87),1),ROUND(AVERAGE('Score Sheet'!$I87:M87),1)))","v":"R"},{"$f":"IF('Score Sheet'!N87=\"\",\"R\",IF('Race results'!$C$32>0,ROUND(AVERAGE('Score Sheet'!$J87:N87),1),ROUND(AVERAGE('Score Sheet'!$I87:N87),1)))","v":"R"},{"$f":"IF('Score Sheet'!O87=\"\",\"R\",IF('Race results'!$C$32>0,ROUND(AVERAGE('Score Sheet'!$J87:O87),1),ROUND(AVERAGE('Score Sheet'!$I87:O87),1)))","v":"R"},{"$f":"IF('Score Sheet'!P87=\"\",\"R\",IF('Race results'!$C$32>0,ROUND(AVERAGE('Score Sheet'!$J87:P87),1),ROUND(AVERAGE('Score Sheet'!$I87:P87),1)))","v":"R"},{"$f":"IF('Score Sheet'!Q87=\"\",\"R\",IF('Race results'!$C$32>0,ROUND(AVERAGE('Score Sheet'!$J87:Q87),1),ROUND(AVERAGE('Score Sheet'!$I87:Q87),1)))","v":"R"},{"$f":"IF('Score Sheet'!R87=\"\",\"R\",IF('Race results'!$C$32>0,ROUND(AVERAGE('Score Sheet'!$J87:R87),1),ROUND(AVERAGE('Score Sheet'!$I87:R87),1)))","v":"R"},{"$f":"IF('Score Sheet'!S87=\"\",\"R\",IF('Race results'!$C$32>0,ROUND(AVERAGE('Score Sheet'!$J87:S87),1),ROUND(AVERAGE('Score Sheet'!$I87:S87),1)))","v":"R"},{"$f":"IF('Score Sheet'!T87=\"\",\"R\",IF('Race results'!$C$32>0,ROUND(AVERAGE('Score Sheet'!$J87:T87),1),ROUND(AVERAGE('Score Sheet'!$I87:T87),1)))","v":"R"},{"$f":"IF('Score Sheet'!U87=\"\",\"R\",IF('Race results'!$C$32>0,ROUND(AVERAGE('Score Sheet'!$J87:U87),1),ROUND(AVERAGE('Score Sheet'!$I87:U87),1)))","v":"R"},{"$f":"IF('Score Sheet'!V87=\"\",\"R\",IF('Race results'!$C$32>0,ROUND(AVERAGE('Score Sheet'!$J87:V87),1),ROUND(AVERAGE('Score Sheet'!$I87:V87),1)))","v":"R"},{"$f":"IF('Score Sheet'!W87=\"\",\"R\",IF('Race results'!$C$32>0,ROUND(AVERAGE('Score Sheet'!$J87:W87),1),ROUND(AVERAGE('Score Sheet'!$I87:W87),1)))","v":"R"},{"$f":"IF('Score Sheet'!X87=\"\",\"R\",IF('Race results'!$C$32>0,ROUND(AVERAGE('Score Sheet'!$J87:X87),1),ROUND(AVERAGE('Score Sheet'!$I87:X87),1)))","v":"R"},{"$f":"IF('Score Sheet'!Y87=\"\",\"R\",IF('Race results'!$C$32>0,ROUND(AVERAGE('Score Sheet'!$J87:Y87),1),ROUND(AVERAGE('Score Sheet'!$I87:Y87),1)))","v":"R"},{"$f":"IF('Score Sheet'!Z87=\"\",\"R\",IF('Race results'!$C$32>0,ROUND(AVERAGE('Score Sheet'!$J87:Z87),1),ROUND(AVERAGE('Score Sheet'!$I87:Z87),1)))","v":"R"},{"$f":"IF('Score Sheet'!AA87=\"\",\"R\",IF('Race results'!$C$32>0,ROUND(AVERAGE('Score Sheet'!$J87:AA87),1),ROUND(AVERAGE('Score Sheet'!$I87:AA87),1)))","v":"R"},{"$f":"IF('Score Sheet'!AB87=\"\",\"R\",IF('Race results'!$C$32>0,ROUND(AVERAGE('Score Sheet'!$J87:AB87),1),ROUND(AVERAGE('Score Sheet'!$I87:AB87),1)))","v":"R"},{"$f":"IF('Score Sheet'!AC87=\"\",\"R\",IF('Race results'!$C$32>0,ROUND(AVERAGE('Score Sheet'!$J87:AC87),1),ROUND(AVERAGE('Score Sheet'!$I87:AC87),1)))","v":"R"},{"$f":"IF('Score Sheet'!AD87=\"\",\"R\",IF('Race results'!$C$32>0,ROUND(AVERAGE('Score Sheet'!$J87:AD87),1),ROUND(AVERAGE('Score Sheet'!$I87:AD87),1)))","v":"R"},{"$f":"IF('Score Sheet'!AE87=\"\",\"R\",IF('Race results'!$C$32>0,ROUND(AVERAGE('Score Sheet'!$J87:AE87),1),ROUND(AVERAGE('Score Sheet'!$I87:AE87),1)))","v":"R"},{"$f":"IF('Score Sheet'!AF87=\"\",\"R\",IF('Race results'!$C$32>0,ROUND(AVERAGE('Score Sheet'!$J87:AF87),1),ROUND(AVERAGE('Score Sheet'!$I87:AF87),1)))","v":"R"},{"$f":"IF('Score Sheet'!AG87=\"\",\"R\",IF('Race results'!$C$32>0,ROUND(AVERAGE('Score Sheet'!$J87:AG87),1),ROUND(AVERAGE('Score Sheet'!$I87:AG87),1)))","v":"R"},{"$f":"IF('Score Sheet'!AH87=\"\",\"R\",IF('Race results'!$C$32>0,ROUND(AVERAGE('Score Sheet'!$J87:AH87),1),ROUND(AVERAGE('Score Sheet'!$I87:AH87),1)))","v":"R"},{"$f":"IF('Score Sheet'!AI87=\"\",\"R\",IF('Race results'!$C$32>0,ROUND(AVERAGE('Score Sheet'!$J87:AI87),1),ROUND(AVERAGE('Score Sheet'!$I87:AI87),1)))","v":"R"},{"$f":"IF('Score Sheet'!AJ87=\"\",\"R\",IF('Race results'!$C$32>0,ROUND(AVERAGE('Score Sheet'!$J87:AJ87),1),ROUND(AVERAGE('Score Sheet'!$I87:AJ87),1)))","v":"R"},{"$f":"IF('Score Sheet'!AK87=\"\",\"R\",IF('Race results'!$C$32>0,ROUND(AVERAGE('Score Sheet'!$J87:AK87),1),ROUND(AVERAGE('Score Sheet'!$I87:AK87),1)))","v":"R"},{"$f":"IF('Score Sheet'!AL87=\"\",\"R\",IF('Race results'!$C$32>0,ROUND(AVERAGE('Score Sheet'!$J87:AL87),1),ROUND(AVERAGE('Score Sheet'!$I87:AL87),1)))","v":"R"},{"$f":"IF('Score Sheet'!AM87=\"\",\"R\",IF('Race results'!$C$32>0,ROUND(AVERAGE('Score Sheet'!$J87:AM87),1),ROUND(AVERAGE('Score Sheet'!$I87:AM87),1)))","v":"R"},{"$f":"IF('Score Sheet'!AN87=\"\",\"R\",IF('Race results'!$C$32>0,ROUND(AVERAGE('Score Sheet'!$J87:AN87),1),ROUND(AVERAGE('Score Sheet'!$I87:AN87),1)))","v":"R"},{"$f":"IF('Score Sheet'!AO87=\"\",\"R\",IF('Race results'!$C$32>0,ROUND(AVERAGE('Score Sheet'!$J87:AO87),1),ROUND(AVERAGE('Score Sheet'!$I87:AO87),1)))","v":"R"},{"$f":"IF('Score Sheet'!AP87=\"\",\"R\",IF('Race results'!$C$32>0,ROUND(AVERAGE('Score Sheet'!$J87:AP87),1),ROUND(AVERAGE('Score Sheet'!$I87:AP87),1)))","v":"R"},{"$f":"IF('Score Sheet'!AQ87=\"\",\"R\",IF('Race results'!$C$32>0,ROUND(AVERAGE('Score Sheet'!$J87:AQ87),1),ROUND(AVERAGE('Score Sheet'!$I87:AQ87),1)))","v":"R"},{"$f":"IF('Score Sheet'!AR87=\"\",\"R\",IF('Race results'!$C$32>0,ROUND(AVERAGE('Score Sheet'!$J87:AR87),1),ROUND(AVERAGE('Score Sheet'!$I87:AR87),1)))","v":"R"},{"$f":"IF('Score Sheet'!AS87=\"\",\"R\",IF('Race results'!$C$32>0,ROUND(AVERAGE('Score Sheet'!$J87:AS87),1),ROUND(AVERAGE('Score Sheet'!$I87:AS87),1)))","v":"R"},{"$f":"IF('Score Sheet'!AT87=\"\",\"R\",IF('Race results'!$C$32>0,ROUND(AVERAGE('Score Sheet'!$J87:AT87),1),ROUND(AVERAGE('Score Sheet'!$I87:AT87),1)))","v":"R"},{"$f":"IF('Score Sheet'!AU87=\"\",\"R\",IF('Race results'!$C$32>0,ROUND(AVERAGE('Score Sheet'!$J87:AU87),1),ROUND(AVERAGE('Score Sheet'!$I87:AU87),1)))","v":"R"},{"$f":"IF('Score Sheet'!AV87=\"\",\"R\",IF('Race results'!$C$32>0,ROUND(AVERAGE('Score Sheet'!$J87:AV87),1),ROUND(AVERAGE('Score Sheet'!$I87:AV87),1)))","v":"R"},null,"",{"$f":"IF(C87=\"\",\"\",IF('Race results'!$C$7<1, \"E\", IF('Race results'!$C$32>0,IF(COUNT(AY87:CL87)<1,\"R\",ROUND(AVERAGE(AY87:CL87),1)),IF(COUNT(AX87:CL87)<1,\"R\",ROUND(AVERAGE(AX87:CL87),1)))))","v":""},null,null,"","","","","","","","","","","","","","","","","","","","","","","","","","","","","","","","","","","","","","","","",""]
[null,79,{"$f":"IF('Score Sheet'!C88=\"\",\"\",'Score Sheet'!C88)","v":""},{"$f":"'Race results'!$F$159","v":"DAFT!"},{"$f":"'Race results'!$F$159","v":"DAFT!"},{"$f":"IF('Score Sheet'!J88=\"\",\"R\",IF('Race results'!$C$32>0,'Race results'!$F$159,ROUND(AVERAGE('Score Sheet'!$I88:J88),1)))","v":"R"},{"$f":"IF('Score Sheet'!K88=\"\",\"R\",IF('Race results'!$C$32>0,ROUND(AVERAGE('Score Sheet'!$J88:K88),1),ROUND(AVERAGE('Score Sheet'!$I88:K88),1)))","v":"R"},{"$f":"IF('Score Sheet'!L88=\"\",\"R\",IF('Race results'!$C$32>0,ROUND(AVERAGE('Score Sheet'!$J88:L88),1),ROUND(AVERAGE('Score Sheet'!$I88:L88),1)))","v":"R"},{"$f":"IF('Score Sheet'!M88=\"\",\"R\",IF('Race results'!$C$32>0,ROUND(AVERAGE('Score Sheet'!$J88:M88),1),ROUND(AVERAGE('Score Sheet'!$I88:M88),1)))","v":"R"},{"$f":"IF('Score Sheet'!N88=\"\",\"R\",IF('Race results'!$C$32>0,ROUND(AVERAGE('Score Sheet'!$J88:N88),1),ROUND(AVERAGE('Score Sheet'!$I88:N88),1)))","v":"R"},{"$f":"IF('Score Sheet'!O88=\"\",\"R\",IF('Race results'!$C$32>0,ROUND(AVERAGE('Score Sheet'!$J88:O88),1),ROUND(AVERAGE('Score Sheet'!$I88:O88),1)))","v":"R"},{"$f":"IF('Score Sheet'!P88=\"\",\"R\",IF('Race results'!$C$32>0,ROUND(AVERAGE('Score Sheet'!$J88:P88),1),ROUND(AVERAGE('Score Sheet'!$I88:P88),1)))","v":"R"},{"$f":"IF('Score Sheet'!Q88=\"\",\"R\",IF('Race results'!$C$32>0,ROUND(AVERAGE('Score Sheet'!$J88:Q88),1),ROUND(AVERAGE('Score Sheet'!$I88:Q88),1)))","v":"R"},{"$f":"IF('Score Sheet'!R88=\"\",\"R\",IF('Race results'!$C$32>0,ROUND(AVERAGE('Score Sheet'!$J88:R88),1),ROUND(AVERAGE('Score Sheet'!$I88:R88),1)))","v":"R"},{"$f":"IF('Score Sheet'!S88=\"\",\"R\",IF('Race results'!$C$32>0,ROUND(AVERAGE('Score Sheet'!$J88:S88),1),ROUND(AVERAGE('Score Sheet'!$I88:S88),1)))","v":"R"},{"$f":"IF('Score Sheet'!T88=\"\",\"R\",IF('Race results'!$C$32>0,ROUND(AVERAGE('Score Sheet'!$J88:T88),1),ROUND(AVERAGE('Score Sheet'!$I88:T88),1)))","v":"R"},{"$f":"IF('Score Sheet'!U88=\"\",\"R\",IF('Race results'!$C$32>0,ROUND(AVERAGE('Score Sheet'!$J88:U88),1),ROUND(AVERAGE('Score Sheet'!$I88:U88),1)))","v":"R"},{"$f":"IF('Score Sheet'!V88=\"\",\"R\",IF('Race results'!$C$32>0,ROUND(AVERAGE('Score Sheet'!$J88:V88),1),ROUND(AVERAGE('Score Sheet'!$I88:V88),1)))","v":"R"},{"$f":"IF('Score Sheet'!W88=\"\",\"R\",IF('Race results'!$C$32>0,ROUND(AVERAGE('Score Sheet'!$J88:W88),1),ROUND(AVERAGE('Score Sheet'!$I88:W88),1)))","v":"R"},{"$f":"IF('Score Sheet'!X88=\"\",\"R\",IF('Race results'!$C$32>0,ROUND(AVERAGE('Score Sheet'!$J88:X88),1),ROUND(AVERAGE('Score Sheet'!$I88:X88),1)))","v":"R"},{"$f":"IF('Score Sheet'!Y88=\"\",\"R\",IF('Race results'!$C$32>0,ROUND(AVERAGE('Score Sheet'!$J88:Y88),1),ROUND(AVERAGE('Score Sheet'!$I88:Y88),1)))","v":"R"},{"$f":"IF('Score Sheet'!Z88=\"\",\"R\",IF('Race results'!$C$32>0,ROUND(AVERAGE('Score Sheet'!$J88:Z88),1),ROUND(AVERAGE('Score Sheet'!$I88:Z88),1)))","v":"R"},{"$f":"IF('Score Sheet'!AA88=\"\",\"R\",IF('Race results'!$C$32>0,ROUND(AVERAGE('Score Sheet'!$J88:AA88),1),ROUND(AVERAGE('Score Sheet'!$I88:AA88),1)))","v":"R"},{"$f":"IF('Score Sheet'!AB88=\"\",\"R\",IF('Race results'!$C$32>0,ROUND(AVERAGE('Score Sheet'!$J88:AB88),1),ROUND(AVERAGE('Score Sheet'!$I88:AB88),1)))","v":"R"},{"$f":"IF('Score Sheet'!AC88=\"\",\"R\",IF('Race results'!$C$32>0,ROUND(AVERAGE('Score Sheet'!$J88:AC88),1),ROUND(AVERAGE('Score Sheet'!$I88:AC88),1)))","v":"R"},{"$f":"IF('Score Sheet'!AD88=\"\",\"R\",IF('Race results'!$C$32>0,ROUND(AVERAGE('Score Sheet'!$J88:AD88),1),ROUND(AVERAGE('Score Sheet'!$I88:AD88),1)))","v":"R"},{"$f":"IF('Score Sheet'!AE88=\"\",\"R\",IF('Race results'!$C$32>0,ROUND(AVERAGE('Score Sheet'!$J88:AE88),1),ROUND(AVERAGE('Score Sheet'!$I88:AE88),1)))","v":"R"},{"$f":"IF('Score Sheet'!AF88=\"\",\"R\",IF('Race results'!$C$32>0,ROUND(AVERAGE('Score Sheet'!$J88:AF88),1),ROUND(AVERAGE('Score Sheet'!$I88:AF88),1)))","v":"R"},{"$f":"IF('Score Sheet'!AG88=\"\",\"R\",IF('Race results'!$C$32>0,ROUND(AVERAGE('Score Sheet'!$J88:AG88),1),ROUND(AVERAGE('Score Sheet'!$I88:AG88),1)))","v":"R"},{"$f":"IF('Score Sheet'!AH88=\"\",\"R\",IF('Race results'!$C$32>0,ROUND(AVERAGE('Score Sheet'!$J88:AH88),1),ROUND(AVERAGE('Score Sheet'!$I88:AH88),1)))","v":"R"},{"$f":"IF('Score Sheet'!AI88=\"\",\"R\",IF('Race results'!$C$32>0,ROUND(AVERAGE('Score Sheet'!$J88:AI88),1),ROUND(AVERAGE('Score Sheet'!$I88:AI88),1)))","v":"R"},{"$f":"IF('Score Sheet'!AJ88=\"\",\"R\",IF('Race results'!$C$32>0,ROUND(AVERAGE('Score Sheet'!$J88:AJ88),1),ROUND(AVERAGE('Score Sheet'!$I88:AJ88),1)))","v":"R"},{"$f":"IF('Score Sheet'!AK88=\"\",\"R\",IF('Race results'!$C$32>0,ROUND(AVERAGE('Score Sheet'!$J88:AK88),1),ROUND(AVERAGE('Score Sheet'!$I88:AK88),1)))","v":"R"},{"$f":"IF('Score Sheet'!AL88=\"\",\"R\",IF('Race results'!$C$32>0,ROUND(AVERAGE('Score Sheet'!$J88:AL88),1),ROUND(AVERAGE('Score Sheet'!$I88:AL88),1)))","v":"R"},{"$f":"IF('Score Sheet'!AM88=\"\",\"R\",IF('Race results'!$C$32>0,ROUND(AVERAGE('Score Sheet'!$J88:AM88),1),ROUND(AVERAGE('Score Sheet'!$I88:AM88),1)))","v":"R"},{"$f":"IF('Score Sheet'!AN88=\"\",\"R\",IF('Race results'!$C$32>0,ROUND(AVERAGE('Score Sheet'!$J88:AN88),1),ROUND(AVERAGE('Score Sheet'!$I88:AN88),1)))","v":"R"},{"$f":"IF('Score Sheet'!AO88=\"\",\"R\",IF('Race results'!$C$32>0,ROUND(AVERAGE('Score Sheet'!$J88:AO88),1),ROUND(AVERAGE('Score Sheet'!$I88:AO88),1)))","v":"R"},{"$f":"IF('Score Sheet'!AP88=\"\",\"R\",IF('Race results'!$C$32>0,ROUND(AVERAGE('Score Sheet'!$J88:AP88),1),ROUND(AVERAGE('Score Sheet'!$I88:AP88),1)))","v":"R"},{"$f":"IF('Score Sheet'!AQ88=\"\",\"R\",IF('Race results'!$C$32>0,ROUND(AVERAGE('Score Sheet'!$J88:AQ88),1),ROUND(AVERAGE('Score Sheet'!$I88:AQ88),1)))","v":"R"},{"$f":"IF('Score Sheet'!AR88=\"\",\"R\",IF('Race results'!$C$32>0,ROUND(AVERAGE('Score Sheet'!$J88:AR88),1),ROUND(AVERAGE('Score Sheet'!$I88:AR88),1)))","v":"R"},{"$f":"IF('Score Sheet'!AS88=\"\",\"R\",IF('Race results'!$C$32>0,ROUND(AVERAGE('Score Sheet'!$J88:AS88),1),ROUND(AVERAGE('Score Sheet'!$I88:AS88),1)))","v":"R"},{"$f":"IF('Score Sheet'!AT88=\"\",\"R\",IF('Race results'!$C$32>0,ROUND(AVERAGE('Score Sheet'!$J88:AT88),1),ROUND(AVERAGE('Score Sheet'!$I88:AT88),1)))","v":"R"},{"$f":"IF('Score Sheet'!AU88=\"\",\"R\",IF('Race results'!$C$32>0,ROUND(AVERAGE('Score Sheet'!$J88:AU88),1),ROUND(AVERAGE('Score Sheet'!$I88:AU88),1)))","v":"R"},{"$f":"IF('Score Sheet'!AV88=\"\",\"R\",IF('Race results'!$C$32>0,ROUND(AVERAGE('Score Sheet'!$J88:AV88),1),ROUND(AVERAGE('Score Sheet'!$I88:AV88),1)))","v":"R"},null,"",{"$f":"IF(C88=\"\",\"\",IF('Race results'!$C$7<1, \"E\", IF('Race results'!$C$32>0,IF(COUNT(AY88:CL88)<1,\"R\",ROUND(AVERAGE(AY88:CL88),1)),IF(COUNT(AX88:CL88)<1,\"R\",ROUND(AVERAGE(AX88:CL88),1)))))","v":""},null,null,"","","","","","","","","","","","","","","","","","","","","","","","","","","","","","","","","","","","","","","","",""]
[null,80,{"$f":"IF('Score Sheet'!C89=\"\",\"\",'Score Sheet'!C89)","v":""},{"$f":"'Race results'!$F$159","v":"DAFT!"},{"$f":"'Race results'!$F$159","v":"DAFT!"},{"$f":"IF('Score Sheet'!J89=\"\",\"R\",IF('Race results'!$C$32>0,'Race results'!$F$159,ROUND(AVERAGE('Score Sheet'!$I89:J89),1)))","v":"R"},{"$f":"IF('Score Sheet'!K89=\"\",\"R\",IF('Race results'!$C$32>0,ROUND(AVERAGE('Score Sheet'!$J89:K89),1),ROUND(AVERAGE('Score Sheet'!$I89:K89),1)))","v":"R"},{"$f":"IF('Score Sheet'!L89=\"\",\"R\",IF('Race results'!$C$32>0,ROUND(AVERAGE('Score Sheet'!$J89:L89),1),ROUND(AVERAGE('Score Sheet'!$I89:L89),1)))","v":"R"},{"$f":"IF('Score Sheet'!M89=\"\",\"R\",IF('Race results'!$C$32>0,ROUND(AVERAGE('Score Sheet'!$J89:M89),1),ROUND(AVERAGE('Score Sheet'!$I89:M89),1)))","v":"R"},{"$f":"IF('Score Sheet'!N89=\"\",\"R\",IF('Race results'!$C$32>0,ROUND(AVERAGE('Score Sheet'!$J89:N89),1),ROUND(AVERAGE('Score Sheet'!$I89:N89),1)))","v":"R"},{"$f":"IF('Score Sheet'!O89=\"\",\"R\",IF('Race results'!$C$32>0,ROUND(AVERAGE('Score Sheet'!$J89:O89),1),ROUND(AVERAGE('Score Sheet'!$I89:O89),1)))","v":"R"},{"$f":"IF('Score Sheet'!P89=\"\",\"R\",IF('Race results'!$C$32>0,ROUND(AVERAGE('Score Sheet'!$J89:P89),1),ROUND(AVERAGE('Score Sheet'!$I89:P89),1)))","v":"R"},{"$f":"IF('Score Sheet'!Q89=\"\",\"R\",IF('Race results'!$C$32>0,ROUND(AVERAGE('Score Sheet'!$J89:Q89),1),ROUND(AVERAGE('Score Sheet'!$I89:Q89),1)))","v":"R"},{"$f":"IF('Score Sheet'!R89=\"\",\"R\",IF('Race results'!$C$32>0,ROUND(AVERAGE('Score Sheet'!$J89:R89),1),ROUND(AVERAGE('Score Sheet'!$I89:R89),1)))","v":"R"},{"$f":"IF('Score Sheet'!S89=\"\",\"R\",IF('Race results'!$C$32>0,ROUND(AVERAGE('Score Sheet'!$J89:S89),1),ROUND(AVERAGE('Score Sheet'!$I89:S89),1)))","v":"R"},{"$f":"IF('Score Sheet'!T89=\"\",\"R\",IF('Race results'!$C$32>0,ROUND(AVERAGE('Score Sheet'!$J89:T89),1),ROUND(AVERAGE('Score Sheet'!$I89:T89),1)))","v":"R"},{"$f":"IF('Score Sheet'!U89=\"\",\"R\",IF('Race results'!$C$32>0,ROUND(AVERAGE('Score Sheet'!$J89:U89),1),ROUND(AVERAGE('Score Sheet'!$I89:U89),1)))","v":"R"},{"$f":"IF('Score Sheet'!V89=\"\",\"R\",IF('Race results'!$C$32>0,ROUND(AVERAGE('Score Sheet'!$J89:V89),1),ROUND(AVERAGE('Score Sheet'!$I89:V89),1)))","v":"R"},{"$f":"IF('Score Sheet'!W89=\"\",\"R\",IF('Race results'!$C$32>0,ROUND(AVERAGE('Score Sheet'!$J89:W89),1),ROUND(AVERAGE('Score Sheet'!$I89:W89),1)))","v":"R"},{"$f":"IF('Score Sheet'!X89=\"\",\"R\",IF('Race results'!$C$32>0,ROUND(AVERAGE('Score Sheet'!$J89:X89),1),ROUND(AVERAGE('Score Sheet'!$I89:X89),1)))","v":"R"},{"$f":"IF('Score Sheet'!Y89=\"\",\"R\",IF('Race results'!$C$32>0,ROUND(AVERAGE('Score Sheet'!$J89:Y89),1),ROUND(AVERAGE('Score Sheet'!$I89:Y89),1)))","v":"R"},{"$f":"IF('Score Sheet'!Z89=\"\",\"R\",IF('Race results'!$C$32>0,ROUND(AVERAGE('Score Sheet'!$J89:Z89),1),ROUND(AVERAGE('Score Sheet'!$I89:Z89),1)))","v":"R"},{"$f":"IF('Score Sheet'!AA89=\"\",\"R\",IF('Race results'!$C$32>0,ROUND(AVERAGE('Score Sheet'!$J89:AA89),1),ROUND(AVERAGE('Score Sheet'!$I89:AA89),1)))","v":"R"},{"$f":"IF('Score Sheet'!AB89=\"\",\"R\",IF('Race results'!$C$32>0,ROUND(AVERAGE('Score Sheet'!$J89:AB89),1),ROUND(AVERAGE('Score Sheet'!$I89:AB89),1)))","v":"R"},{"$f":"IF('Score Sheet'!AC89=\"\",\"R\",IF('Race results'!$C$32>0,ROUND(AVERAGE('Score Sheet'!$J89:AC89),1),ROUND(AVERAGE('Score Sheet'!$I89:AC89),1)))","v":"R"},{"$f":"IF('Score Sheet'!AD89=\"\",\"R\",IF('Race results'!$C$32>0,ROUND(AVERAGE('Score Sheet'!$J89:AD89),1),ROUND(AVERAGE('Score Sheet'!$I89:AD89),1)))","v":"R"},{"$f":"IF('Score Sheet'!AE89=\"\",\"R\",IF('Race results'!$C$32>0,ROUND(AVERAGE('Score Sheet'!$J89:AE89),1),ROUND(AVERAGE('Score Sheet'!$I89:AE89),1)))","v":"R"},{"$f":"IF('Score Sheet'!AF89=\"\",\"R\",IF('Race results'!$C$32>0,ROUND(AVERAGE('Score Sheet'!$J89:AF89),1),ROUND(AVERAGE('Score Sheet'!$I89:AF89),1)))","v":"R"},{"$f":"IF('Score Sheet'!AG89=\"\",\"R\",IF('Race results'!$C$32>0,ROUND(AVERAGE('Score Sheet'!$J89:AG89),1),ROUND(AVERAGE('Score Sheet'!$I89:AG89),1)))","v":"R"},{"$f":"IF('Score Sheet'!AH89=\"\",\"R\",IF('Race results'!$C$32>0,ROUND(AVERAGE('Score Sheet'!$J89:AH89),1),ROUND(AVERAGE('Score Sheet'!$I89:AH89),1)))","v":"R"},{"$f":"IF('Score Sheet'!AI89=\"\",\"R\",IF('Race results'!$C$32>0,ROUND(AVERAGE('Score Sheet'!$J89:AI89),1),ROUND(AVERAGE('Score Sheet'!$I89:AI89),1)))","v":"R"},{"$f":"IF('Score Sheet'!AJ89=\"\",\"R\",IF('Race results'!$C$32>0,ROUND(AVERAGE('Score Sheet'!$J89:AJ89),1),ROUND(AVERAGE('Score Sheet'!$I89:AJ89),1)))","v":"R"},{"$f":"IF('Score Sheet'!AK89=\"\",\"R\",IF('Race results'!$C$32>0,ROUND(AVERAGE('Score Sheet'!$J89:AK89),1),ROUND(AVERAGE('Score Sheet'!$I89:AK89),1)))","v":"R"},{"$f":"IF('Score Sheet'!AL89=\"\",\"R\",IF('Race results'!$C$32>0,ROUND(AVERAGE('Score Sheet'!$J89:AL89),1),ROUND(AVERAGE('Score Sheet'!$I89:AL89),1)))","v":"R"},{"$f":"IF('Score Sheet'!AM89=\"\",\"R\",IF('Race results'!$C$32>0,ROUND(AVERAGE('Score Sheet'!$J89:AM89),1),ROUND(AVERAGE('Score Sheet'!$I89:AM89),1)))","v":"R"},{"$f":"IF('Score Sheet'!AN89=\"\",\"R\",IF('Race results'!$C$32>0,ROUND(AVERAGE('Score Sheet'!$J89:AN89),1),ROUND(AVERAGE('Score Sheet'!$I89:AN89),1)))","v":"R"},{"$f":"IF('Score Sheet'!AO89=\"\",\"R\",IF('Race results'!$C$32>0,ROUND(AVERAGE('Score Sheet'!$J89:AO89),1),ROUND(AVERAGE('Score Sheet'!$I89:AO89),1)))","v":"R"},{"$f":"IF('Score Sheet'!AP89=\"\",\"R\",IF('Race results'!$C$32>0,ROUND(AVERAGE('Score Sheet'!$J89:AP89),1),ROUND(AVERAGE('Score Sheet'!$I89:AP89),1)))","v":"R"},{"$f":"IF('Score Sheet'!AQ89=\"\",\"R\",IF('Race results'!$C$32>0,ROUND(AVERAGE('Score Sheet'!$J89:AQ89),1),ROUND(AVERAGE('Score Sheet'!$I89:AQ89),1)))","v":"R"},{"$f":"IF('Score Sheet'!AR89=\"\",\"R\",IF('Race results'!$C$32>0,ROUND(AVERAGE('Score Sheet'!$J89:AR89),1),ROUND(AVERAGE('Score Sheet'!$I89:AR89),1)))","v":"R"},{"$f":"IF('Score Sheet'!AS89=\"\",\"R\",IF('Race results'!$C$32>0,ROUND(AVERAGE('Score Sheet'!$J89:AS89),1),ROUND(AVERAGE('Score Sheet'!$I89:AS89),1)))","v":"R"},{"$f":"IF('Score Sheet'!AT89=\"\",\"R\",IF('Race results'!$C$32>0,ROUND(AVERAGE('Score Sheet'!$J89:AT89),1),ROUND(AVERAGE('Score Sheet'!$I89:AT89),1)))","v":"R"},{"$f":"IF('Score Sheet'!AU89=\"\",\"R\",IF('Race results'!$C$32>0,ROUND(AVERAGE('Score Sheet'!$J89:AU89),1),ROUND(AVERAGE('Score Sheet'!$I89:AU89),1)))","v":"R"},{"$f":"IF('Score Sheet'!AV89=\"\",\"R\",IF('Race results'!$C$32>0,ROUND(AVERAGE('Score Sheet'!$J89:AV89),1),ROUND(AVERAGE('Score Sheet'!$I89:AV89),1)))","v":"R"},null,"",{"$f":"IF(C89=\"\",\"\",IF('Race results'!$C$7<1, \"E\", IF('Race results'!$C$32>0,IF(COUNT(AY89:CL89)<1,\"R\",ROUND(AVERAGE(AY89:CL89),1)),IF(COUNT(AX89:CL89)<1,\"R\",ROUND(AVERAGE(AX89:CL89),1)))))","v":""},null,null,"","","","","","","","","","","","","","","","","","","","","","","","","","","","","","","","","","","","","","","","",""]
[null,81,{"$f":"IF('Score Sheet'!C90=\"\",\"\",'Score Sheet'!C90)","v":""},{"$f":"'Race results'!$F$159","v":"DAFT!"},{"$f":"'Race results'!$F$159","v":"DAFT!"},{"$f":"IF('Score Sheet'!J90=\"\",\"R\",IF('Race results'!$C$32>0,'Race results'!$F$159,ROUND(AVERAGE('Score Sheet'!$I90:J90),1)))","v":"R"},{"$f":"IF('Score Sheet'!K90=\"\",\"R\",IF('Race results'!$C$32>0,ROUND(AVERAGE('Score Sheet'!$J90:K90),1),ROUND(AVERAGE('Score Sheet'!$I90:K90),1)))","v":"R"},{"$f":"IF('Score Sheet'!L90=\"\",\"R\",IF('Race results'!$C$32>0,ROUND(AVERAGE('Score Sheet'!$J90:L90),1),ROUND(AVERAGE('Score Sheet'!$I90:L90),1)))","v":"R"},{"$f":"IF('Score Sheet'!M90=\"\",\"R\",IF('Race results'!$C$32>0,ROUND(AVERAGE('Score Sheet'!$J90:M90),1),ROUND(AVERAGE('Score Sheet'!$I90:M90),1)))","v":"R"},{"$f":"IF('Score Sheet'!N90=\"\",\"R\",IF('Race results'!$C$32>0,ROUND(AVERAGE('Score Sheet'!$J90:N90),1),ROUND(AVERAGE('Score Sheet'!$I90:N90),1)))","v":"R"},{"$f":"IF('Score Sheet'!O90=\"\",\"R\",IF('Race results'!$C$32>0,ROUND(AVERAGE('Score Sheet'!$J90:O90),1),ROUND(AVERAGE('Score Sheet'!$I90:O90),1)))","v":"R"},{"$f":"IF('Score Sheet'!P90=\"\",\"R\",IF('Race results'!$C$32>0,ROUND(AVERAGE('Score Sheet'!$J90:P90),1),ROUND(AVERAGE('Score Sheet'!$I90:P90),1)))","v":"R"},{"$f":"IF('Score Sheet'!Q90=\"\",\"R\",IF('Race results'!$C$32>0,ROUND(AVERAGE('Score Sheet'!$J90:Q90),1),ROUND(AVERAGE('Score Sheet'!$I90:Q90),1)))","v":"R"},{"$f":"IF('Score Sheet'!R90=\"\",\"R\",IF('Race results'!$C$32>0,ROUND(AVERAGE('Score Sheet'!$J90:R90),1),ROUND(AVERAGE('Score Sheet'!$I90:R90),1)))","v":"R"},{"$f":"IF('Score Sheet'!S90=\"\",\"R\",IF('Race results'!$C$32>0,ROUND(AVERAGE('Score Sheet'!$J90:S90),1),ROUND(AVERAGE('Score Sheet'!$I90:S90),1)))","v":"R"},{"$f":"IF('Score Sheet'!T90=\"\",\"R\",IF('Race results'!$C$32>0,ROUND(AVERAGE('Score Sheet'!$J90:T90),1),ROUND(AVERAGE('Score Sheet'!$I90:T90),1)))","v":"R"},{"$f":"IF('Score Sheet'!U90=\"\",\"R\",IF('Race results'!$C$32>0,ROUND(AVERAGE('Score Sheet'!$J90:U90),1),ROUND(AVERAGE('Score Sheet'!$I90:U90),1)))","v":"R"},{"$f":"IF('Score Sheet'!V90=\"\",\"R\",IF('Race results'!$C$32>0,ROUND(AVERAGE('Score Sheet'!$J90:V90),1),ROUND(AVERAGE('Score Sheet'!$I90:V90),1)))","v":"R"},{"$f":"IF('Score Sheet'!W90=\"\",\"R\",IF('Race results'!$C$32>0,ROUND(AVERAGE('Score Sheet'!$J90:W90),1),ROUND(AVERAGE('Score Sheet'!$I90:W90),1)))","v":"R"},{"$f":"IF('Score Sheet'!X90=\"\",\"R\",IF('Race results'!$C$32>0,ROUND(AVERAGE('Score Sheet'!$J90:X90),1),ROUND(AVERAGE('Score Sheet'!$I90:X90),1)))","v":"R"},{"$f":"IF('Score Sheet'!Y90=\"\",\"R\",IF('Race results'!$C$32>0,ROUND(AVERAGE('Score Sheet'!$J90:Y90),1),ROUND(AVERAGE('Score Sheet'!$I90:Y90),1)))","v":"R"},{"$f":"IF('Score Sheet'!Z90=\"\",\"R\",IF('Race results'!$C$32>0,ROUND(AVERAGE('Score Sheet'!$J90:Z90),1),ROUND(AVERAGE('Score Sheet'!$I90:Z90),1)))","v":"R"},{"$f":"IF('Score Sheet'!AA90=\"\",\"R\",IF('Race results'!$C$32>0,ROUND(AVERAGE('Score Sheet'!$J90:AA90),1),ROUND(AVERAGE('Score Sheet'!$I90:AA90),1)))","v":"R"},{"$f":"IF('Score Sheet'!AB90=\"\",\"R\",IF('Race results'!$C$32>0,ROUND(AVERAGE('Score Sheet'!$J90:AB90),1),ROUND(AVERAGE('Score Sheet'!$I90:AB90),1)))","v":"R"},{"$f":"IF('Score Sheet'!AC90=\"\",\"R\",IF('Race results'!$C$32>0,ROUND(AVERAGE('Score Sheet'!$J90:AC90),1),ROUND(AVERAGE('Score Sheet'!$I90:AC90),1)))","v":"R"},{"$f":"IF('Score Sheet'!AD90=\"\",\"R\",IF('Race results'!$C$32>0,ROUND(AVERAGE('Score Sheet'!$J90:AD90),1),ROUND(AVERAGE('Score Sheet'!$I90:AD90),1)))","v":"R"},{"$f":"IF('Score Sheet'!AE90=\"\",\"R\",IF('Race results'!$C$32>0,ROUND(AVERAGE('Score Sheet'!$J90:AE90),1),ROUND(AVERAGE('Score Sheet'!$I90:AE90),1)))","v":"R"},{"$f":"IF('Score Sheet'!AF90=\"\",\"R\",IF('Race results'!$C$32>0,ROUND(AVERAGE('Score Sheet'!$J90:AF90),1),ROUND(AVERAGE('Score Sheet'!$I90:AF90),1)))","v":"R"},{"$f":"IF('Score Sheet'!AG90=\"\",\"R\",IF('Race results'!$C$32>0,ROUND(AVERAGE('Score Sheet'!$J90:AG90),1),ROUND(AVERAGE('Score Sheet'!$I90:AG90),1)))","v":"R"},{"$f":"IF('Score Sheet'!AH90=\"\",\"R\",IF('Race results'!$C$32>0,ROUND(AVERAGE('Score Sheet'!$J90:AH90),1),ROUND(AVERAGE('Score Sheet'!$I90:AH90),1)))","v":"R"},{"$f":"IF('Score Sheet'!AI90=\"\",\"R\",IF('Race results'!$C$32>0,ROUND(AVERAGE('Score Sheet'!$J90:AI90),1),ROUND(AVERAGE('Score Sheet'!$I90:AI90),1)))","v":"R"},{"$f":"IF('Score Sheet'!AJ90=\"\",\"R\",IF('Race results'!$C$32>0,ROUND(AVERAGE('Score Sheet'!$J90:AJ90),1),ROUND(AVERAGE('Score Sheet'!$I90:AJ90),1)))","v":"R"},{"$f":"IF('Score Sheet'!AK90=\"\",\"R\",IF('Race results'!$C$32>0,ROUND(AVERAGE('Score Sheet'!$J90:AK90),1),ROUND(AVERAGE('Score Sheet'!$I90:AK90),1)))","v":"R"},{"$f":"IF('Score Sheet'!AL90=\"\",\"R\",IF('Race results'!$C$32>0,ROUND(AVERAGE('Score Sheet'!$J90:AL90),1),ROUND(AVERAGE('Score Sheet'!$I90:AL90),1)))","v":"R"},{"$f":"IF('Score Sheet'!AM90=\"\",\"R\",IF('Race results'!$C$32>0,ROUND(AVERAGE('Score Sheet'!$J90:AM90),1),ROUND(AVERAGE('Score Sheet'!$I90:AM90),1)))","v":"R"},{"$f":"IF('Score Sheet'!AN90=\"\",\"R\",IF('Race results'!$C$32>0,ROUND(AVERAGE('Score Sheet'!$J90:AN90),1),ROUND(AVERAGE('Score Sheet'!$I90:AN90),1)))","v":"R"},{"$f":"IF('Score Sheet'!AO90=\"\",\"R\",IF('Race results'!$C$32>0,ROUND(AVERAGE('Score Sheet'!$J90:AO90),1),ROUND(AVERAGE('Score Sheet'!$I90:AO90),1)))","v":"R"},{"$f":"IF('Score Sheet'!AP90=\"\",\"R\",IF('Race results'!$C$32>0,ROUND(AVERAGE('Score Sheet'!$J90:AP90),1),ROUND(AVERAGE('Score Sheet'!$I90:AP90),1)))","v":"R"},{"$f":"IF('Score Sheet'!AQ90=\"\",\"R\",IF('Race results'!$C$32>0,ROUND(AVERAGE('Score Sheet'!$J90:AQ90),1),ROUND(AVERAGE('Score Sheet'!$I90:AQ90),1)))","v":"R"},{"$f":"IF('Score Sheet'!AR90=\"\",\"R\",IF('Race results'!$C$32>0,ROUND(AVERAGE('Score Sheet'!$J90:AR90),1),ROUND(AVERAGE('Score Sheet'!$I90:AR90),1)))","v":"R"},{"$f":"IF('Score Sheet'!AS90=\"\",\"R\",IF('Race results'!$C$32>0,ROUND(AVERAGE('Score Sheet'!$J90:AS90),1),ROUND(AVERAGE('Score Sheet'!$I90:AS90),1)))","v":"R"},{"$f":"IF('Score Sheet'!AT90=\"\",\"R\",IF('Race results'!$C$32>0,ROUND(AVERAGE('Score Sheet'!$J90:AT90),1),ROUND(AVERAGE('Score Sheet'!$I90:AT90),1)))","v":"R"},{"$f":"IF('Score Sheet'!AU90=\"\",\"R\",IF('Race results'!$C$32>0,ROUND(AVERAGE('Score Sheet'!$J90:AU90),1),ROUND(AVERAGE('Score Sheet'!$I90:AU90),1)))","v":"R"},{"$f":"IF('Score Sheet'!AV90=\"\",\"R\",IF('Race results'!$C$32>0,ROUND(AVERAGE('Score Sheet'!$J90:AV90),1),ROUND(AVERAGE('Score Sheet'!$I90:AV90),1)))","v":"R"},null,"",{"$f":"IF(C90=\"\",\"\",IF('Race results'!$C$7<1, \"E\", IF('Race results'!$C$32>0,IF(COUNT(AY90:CL90)<1,\"R\",ROUND(AVERAGE(AY90:CL90),1)),IF(COUNT(AX90:CL90)<1,\"R\",ROUND(AVERAGE(AX90:CL90),1)))))","v":""},null,null,"","","","","","","","","","","","","","","","","","","","","","","","","","","","","","","","","","","","","","","","",""]
[null,82,{"$f":"IF('Score Sheet'!C91=\"\",\"\",'Score Sheet'!C91)","v":""},{"$f":"'Race results'!$F$159","v":"DAFT!"},{"$f":"'Race results'!$F$159","v":"DAFT!"},{"$f":"IF('Score Sheet'!J91=\"\",\"R\",IF('Race results'!$C$32>0,'Race results'!$F$159,ROUND(AVERAGE('Score Sheet'!$I91:J91),1)))","v":"R"},{"$f":"IF('Score Sheet'!K91=\"\",\"R\",IF('Race results'!$C$32>0,ROUND(AVERAGE('Score Sheet'!$J91:K91),1),ROUND(AVERAGE('Score Sheet'!$I91:K91),1)))","v":"R"},{"$f":"IF('Score Sheet'!L91=\"\",\"R\",IF('Race results'!$C$32>0,ROUND(AVERAGE('Score Sheet'!$J91:L91),1),ROUND(AVERAGE('Score Sheet'!$I91:L91),1)))","v":"R"},{"$f":"IF('Score Sheet'!M91=\"\",\"R\",IF('Race results'!$C$32>0,ROUND(AVERAGE('Score Sheet'!$J91:M91),1),ROUND(AVERAGE('Score Sheet'!$I91:M91),1)))","v":"R"},{"$f":"IF('Score Sheet'!N91=\"\",\"R\",IF('Race results'!$C$32>0,ROUND(AVERAGE('Score Sheet'!$J91:N91),1),ROUND(AVERAGE('Score Sheet'!$I91:N91),1)))","v":"R"},{"$f":"IF('Score Sheet'!O91=\"\",\"R\",IF('Race results'!$C$32>0,ROUND(AVERAGE('Score Sheet'!$J91:O91),1),ROUND(AVERAGE('Score Sheet'!$I91:O91),1)))","v":"R"},{"$f":"IF('Score Sheet'!P91=\"\",\"R\",IF('Race results'!$C$32>0,ROUND(AVERAGE('Score Sheet'!$J91:P91),1),ROUND(AVERAGE('Score Sheet'!$I91:P91),1)))","v":"R"},{"$f":"IF('Score Sheet'!Q91=\"\",\"R\",IF('Race results'!$C$32>0,ROUND(AVERAGE('Score Sheet'!$J91:Q91),1),ROUND(AVERAGE('Score Sheet'!$I91:Q91),1)))","v":"R"},{"$f":"IF('Score Sheet'!R91=\"\",\"R\",IF('Race results'!$C$32>0,ROUND(AVERAGE('Score Sheet'!$J91:R91),1),ROUND(AVERAGE('Score Sheet'!$I91:R91),1)))","v":"R"},{"$f":"IF('Score Sheet'!S91=\"\",\"R\",IF('Race results'!$C$32>0,ROUND(AVERAGE('Score Sheet'!$J91:S91),1),ROUND(AVERAGE('Score Sheet'!$I91:S91),1)))","v":"R"},{"$f":"IF('Score Sheet'!T91=\"\",\"R\",IF('Race results'!$C$32>0,ROUND(AVERAGE('Score Sheet'!$J91:T91),1),ROUND(AVERAGE('Score Sheet'!$I91:T91),1)))","v":"R"},{"$f":"IF('Score Sheet'!U91=\"\",\"R\",IF('Race results'!$C$32>0,ROUND(AVERAGE('Score Sheet'!$J91:U91),1),ROUND(AVERAGE('Score Sheet'!$I91:U91),1)))","v":"R"},{"$f":"IF('Score Sheet'!V91=\"\",\"R\",IF('Race results'!$C$32>0,ROUND(AVERAGE('Score Sheet'!$J91:V91),1),ROUND(AVERAGE('Score Sheet'!$I91:V91),1)))","v":"R"},{"$f":"IF('Score Sheet'!W91=\"\",\"R\",IF('Race results'!$C$32>0,ROUND(AVERAGE('Score Sheet'!$J91:W91),1),ROUND(AVERAGE('Score Sheet'!$I91:W91),1)))","v":"R"},{"$f":"IF('Score Sheet'!X91=\"\",\"R\",IF('Race results'!$C$32>0,ROUND(AVERAGE('Score Sheet'!$J91:X91),1),ROUND(AVERAGE('Score Sheet'!$I91:X91),1)))","v":"R"},{"$f":"IF('Score Sheet'!Y91=\"\",\"R\",IF('Race results'!$C$32>0,ROUND(AVERAGE('Score Sheet'!$J91:Y91),1),ROUND(AVERAGE('Score Sheet'!$I91:Y91),1)))","v":"R"},{"$f":"IF('Score Sheet'!Z91=\"\",\"R\",IF('Race results'!$C$32>0,ROUND(AVERAGE('Score Sheet'!$J91:Z91),1),ROUND(AVERAGE('Score Sheet'!$I91:Z91),1)))","v":"R"},{"$f":"IF('Score Sheet'!AA91=\"\",\"R\",IF('Race results'!$C$32>0,ROUND(AVERAGE('Score Sheet'!$J91:AA91),1),ROUND(AVERAGE('Score Sheet'!$I91:AA91),1)))","v":"R"},{"$f":"IF('Score Sheet'!AB91=\"\",\"R\",IF('Race results'!$C$32>0,ROUND(AVERAGE('Score Sheet'!$J91:AB91),1),ROUND(AVERAGE('Score Sheet'!$I91:AB91),1)))","v":"R"},{"$f":"IF('Score Sheet'!AC91=\"\",\"R\",IF('Race results'!$C$32>0,ROUND(AVERAGE('Score Sheet'!$J91:AC91),1),ROUND(AVERAGE('Score Sheet'!$I91:AC91),1)))","v":"R"},{"$f":"IF('Score Sheet'!AD91=\"\",\"R\",IF('Race results'!$C$32>0,ROUND(AVERAGE('Score Sheet'!$J91:AD91),1),ROUND(AVERAGE('Score Sheet'!$I91:AD91),1)))","v":"R"},{"$f":"IF('Score Sheet'!AE91=\"\",\"R\",IF('Race results'!$C$32>0,ROUND(AVERAGE('Score Sheet'!$J91:AE91),1),ROUND(AVERAGE('Score Sheet'!$I91:AE91),1)))","v":"R"},{"$f":"IF('Score Sheet'!AF91=\"\",\"R\",IF('Race results'!$C$32>0,ROUND(AVERAGE('Score Sheet'!$J91:AF91),1),ROUND(AVERAGE('Score Sheet'!$I91:AF91),1)))","v":"R"},{"$f":"IF('Score Sheet'!AG91=\"\",\"R\",IF('Race results'!$C$32>0,ROUND(AVERAGE('Score Sheet'!$J91:AG91),1),ROUND(AVERAGE('Score Sheet'!$I91:AG91),1)))","v":"R"},{"$f":"IF('Score Sheet'!AH91=\"\",\"R\",IF('Race results'!$C$32>0,ROUND(AVERAGE('Score Sheet'!$J91:AH91),1),ROUND(AVERAGE('Score Sheet'!$I91:AH91),1)))","v":"R"},{"$f":"IF('Score Sheet'!AI91=\"\",\"R\",IF('Race results'!$C$32>0,ROUND(AVERAGE('Score Sheet'!$J91:AI91),1),ROUND(AVERAGE('Score Sheet'!$I91:AI91),1)))","v":"R"},{"$f":"IF('Score Sheet'!AJ91=\"\",\"R\",IF('Race results'!$C$32>0,ROUND(AVERAGE('Score Sheet'!$J91:AJ91),1),ROUND(AVERAGE('Score Sheet'!$I91:AJ91),1)))","v":"R"},{"$f":"IF('Score Sheet'!AK91=\"\",\"R\",IF('Race results'!$C$32>0,ROUND(AVERAGE('Score Sheet'!$J91:AK91),1),ROUND(AVERAGE('Score Sheet'!$I91:AK91),1)))","v":"R"},{"$f":"IF('Score Sheet'!AL91=\"\",\"R\",IF('Race results'!$C$32>0,ROUND(AVERAGE('Score Sheet'!$J91:AL91),1),ROUND(AVERAGE('Score Sheet'!$I91:AL91),1)))","v":"R"},{"$f":"IF('Score Sheet'!AM91=\"\",\"R\",IF('Race results'!$C$32>0,ROUND(AVERAGE('Score Sheet'!$J91:AM91),1),ROUND(AVERAGE('Score Sheet'!$I91:AM91),1)))","v":"R"},{"$f":"IF('Score Sheet'!AN91=\"\",\"R\",IF('Race results'!$C$32>0,ROUND(AVERAGE('Score Sheet'!$J91:AN91),1),ROUND(AVERAGE('Score Sheet'!$I91:AN91),1)))","v":"R"},{"$f":"IF('Score Sheet'!AO91=\"\",\"R\",IF('Race results'!$C$32>0,ROUND(AVERAGE('Score Sheet'!$J91:AO91),1),ROUND(AVERAGE('Score Sheet'!$I91:AO91),1)))","v":"R"},{"$f":"IF('Score Sheet'!AP91=\"\",\"R\",IF('Race results'!$C$32>0,ROUND(AVERAGE('Score Sheet'!$J91:AP91),1),ROUND(AVERAGE('Score Sheet'!$I91:AP91),1)))","v":"R"},{"$f":"IF('Score Sheet'!AQ91=\"\",\"R\",IF('Race results'!$C$32>0,ROUND(AVERAGE('Score Sheet'!$J91:AQ91),1),ROUND(AVERAGE('Score Sheet'!$I91:AQ91),1)))","v":"R"},{"$f":"IF('Score Sheet'!AR91=\"\",\"R\",IF('Race results'!$C$32>0,ROUND(AVERAGE('Score Sheet'!$J91:AR91),1),ROUND(AVERAGE('Score Sheet'!$I91:AR91),1)))","v":"R"},{"$f":"IF('Score Sheet'!AS91=\"\",\"R\",IF('Race results'!$C$32>0,ROUND(AVERAGE('Score Sheet'!$J91:AS91),1),ROUND(AVERAGE('Score Sheet'!$I91:AS91),1)))","v":"R"},{"$f":"IF('Score Sheet'!AT91=\"\",\"R\",IF('Race results'!$C$32>0,ROUND(AVERAGE('Score Sheet'!$J91:AT91),1),ROUND(AVERAGE('Score Sheet'!$I91:AT91),1)))","v":"R"},{"$f":"IF('Score Sheet'!AU91=\"\",\"R\",IF('Race results'!$C$32>0,ROUND(AVERAGE('Score Sheet'!$J91:AU91),1),ROUND(AVERAGE('Score Sheet'!$I91:AU91),1)))","v":"R"},{"$f":"IF('Score Sheet'!AV91=\"\",\"R\",IF('Race results'!$C$32>0,ROUND(AVERAGE('Score Sheet'!$J91:AV91),1),ROUND(AVERAGE('Score Sheet'!$I91:AV91),1)))","v":"R"},null,"",{"$f":"IF(C91=\"\",\"\",IF('Race results'!$C$7<1, \"E\", IF('Race results'!$C$32>0,IF(COUNT(AY91:CL91)<1,\"R\",ROUND(AVERAGE(AY91:CL91),1)),IF(COUNT(AX91:CL91)<1,\"R\",ROUND(AVERAGE(AX91:CL91),1)))))","v":""},null,null,"","","","","","","","","","","","","","","","","","","","","","","","","","","","","","","","","","","","","","","","",""]
[null,83,{"$f":"IF('Score Sheet'!C92=\"\",\"\",'Score Sheet'!C92)","v":""},{"$f":"'Race results'!$F$159","v":"DAFT!"},{"$f":"'Race results'!$F$159","v":"DAFT!"},{"$f":"IF('Score Sheet'!J92=\"\",\"R\",IF('Race results'!$C$32>0,'Race results'!$F$159,ROUND(AVERAGE('Score Sheet'!$I92:J92),1)))","v":"R"},{"$f":"IF('Score Sheet'!K92=\"\",\"R\",IF('Race results'!$C$32>0,ROUND(AVERAGE('Score Sheet'!$J92:K92),1),ROUND(AVERAGE('Score Sheet'!$I92:K92),1)))","v":"R"},{"$f":"IF('Score Sheet'!L92=\"\",\"R\",IF('Race results'!$C$32>0,ROUND(AVERAGE('Score Sheet'!$J92:L92),1),ROUND(AVERAGE('Score Sheet'!$I92:L92),1)))","v":"R"},{"$f":"IF('Score Sheet'!M92=\"\",\"R\",IF('Race results'!$C$32>0,ROUND(AVERAGE('Score Sheet'!$J92:M92),1),ROUND(AVERAGE('Score Sheet'!$I92:M92),1)))","v":"R"},{"$f":"IF('Score Sheet'!N92=\"\",\"R\",IF('Race results'!$C$32>0,ROUND(AVERAGE('Score Sheet'!$J92:N92),1),ROUND(AVERAGE('Score Sheet'!$I92:N92),1)))","v":"R"},{"$f":"IF('Score Sheet'!O92=\"\",\"R\",IF('Race results'!$C$32>0,ROUND(AVERAGE('Score Sheet'!$J92:O92),1),ROUND(AVERAGE('Score Sheet'!$I92:O92),1)))","v":"R"},{"$f":"IF('Score Sheet'!P92=\"\",\"R\",IF('Race results'!$C$32>0,ROUND(AVERAGE('Score Sheet'!$J92:P92),1),ROUND(AVERAGE('Score Sheet'!$I92:P92),1)))","v":"R"},{"$f":"IF('Score Sheet'!Q92=\"\",\"R\",IF('Race results'!$C$32>0,ROUND(AVERAGE('Score Sheet'!$J92:Q92),1),ROUND(AVERAGE('Score Sheet'!$I92:Q92),1)))","v":"R"},{"$f":"IF('Score Sheet'!R92=\"\",\"R\",IF('Race results'!$C$32>0,ROUND(AVERAGE('Score Sheet'!$J92:R92),1),ROUND(AVERAGE('Score Sheet'!$I92:R92),1)))","v":"R"},{"$f":"IF('Score Sheet'!S92=\"\",\"R\",IF('Race results'!$C$32>0,ROUND(AVERAGE('Score Sheet'!$J92:S92),1),ROUND(AVERAGE('Score Sheet'!$I92:S92),1)))","v":"R"},{"$f":"IF('Score Sheet'!T92=\"\",\"R\",IF('Race results'!$C$32>0,ROUND(AVERAGE('Score Sheet'!$J92:T92),1),ROUND(AVERAGE('Score Sheet'!$I92:T92),1)))","v":"R"},{"$f":"IF('Score Sheet'!U92=\"\",\"R\",IF('Race results'!$C$32>0,ROUND(AVERAGE('Score Sheet'!$J92:U92),1),ROUND(AVERAGE('Score Sheet'!$I92:U92),1)))","v":"R"},{"$f":"IF('Score Sheet'!V92=\"\",\"R\",IF('Race results'!$C$32>0,ROUND(AVERAGE('Score Sheet'!$J92:V92),1),ROUND(AVERAGE('Score Sheet'!$I92:V92),1)))","v":"R"},{"$f":"IF('Score Sheet'!W92=\"\",\"R\",IF('Race results'!$C$32>0,ROUND(AVERAGE('Score Sheet'!$J92:W92),1),ROUND(AVERAGE('Score Sheet'!$I92:W92),1)))","v":"R"},{"$f":"IF('Score Sheet'!X92=\"\",\"R\",IF('Race results'!$C$32>0,ROUND(AVERAGE('Score Sheet'!$J92:X92),1),ROUND(AVERAGE('Score Sheet'!$I92:X92),1)))","v":"R"},{"$f":"IF('Score Sheet'!Y92=\"\",\"R\",IF('Race results'!$C$32>0,ROUND(AVERAGE('Score Sheet'!$J92:Y92),1),ROUND(AVERAGE('Score Sheet'!$I92:Y92),1)))","v":"R"},{"$f":"IF('Score Sheet'!Z92=\"\",\"R\",IF('Race results'!$C$32>0,ROUND(AVERAGE('Score Sheet'!$J92:Z92),1),ROUND(AVERAGE('Score Sheet'!$I92:Z92),1)))","v":"R"},{"$f":"IF('Score Sheet'!AA92=\"\",\"R\",IF('Race results'!$C$32>0,ROUND(AVERAGE('Score Sheet'!$J92:AA92),1),ROUND(AVERAGE('Score Sheet'!$I92:AA92),1)))","v":"R"},{"$f":"IF('Score Sheet'!AB92=\"\",\"R\",IF('Race results'!$C$32>0,ROUND(AVERAGE('Score Sheet'!$J92:AB92),1),ROUND(AVERAGE('Score Sheet'!$I92:AB92),1)))","v":"R"},{"$f":"IF('Score Sheet'!AC92=\"\",\"R\",IF('Race results'!$C$32>0,ROUND(AVERAGE('Score Sheet'!$J92:AC92),1),ROUND(AVERAGE('Score Sheet'!$I92:AC92),1)))","v":"R"},{"$f":"IF('Score Sheet'!AD92=\"\",\"R\",IF('Race results'!$C$32>0,ROUND(AVERAGE('Score Sheet'!$J92:AD92),1),ROUND(AVERAGE('Score Sheet'!$I92:AD92),1)))","v":"R"},{"$f":"IF('Score Sheet'!AE92=\"\",\"R\",IF('Race results'!$C$32>0,ROUND(AVERAGE('Score Sheet'!$J92:AE92),1),ROUND(AVERAGE('Score Sheet'!$I92:AE92),1)))","v":"R"},{"$f":"IF('Score Sheet'!AF92=\"\",\"R\",IF('Race results'!$C$32>0,ROUND(AVERAGE('Score Sheet'!$J92:AF92),1),ROUND(AVERAGE('Score Sheet'!$I92:AF92),1)))","v":"R"},{"$f":"IF('Score Sheet'!AG92=\"\",\"R\",IF('Race results'!$C$32>0,ROUND(AVERAGE('Score Sheet'!$J92:AG92),1),ROUND(AVERAGE('Score Sheet'!$I92:AG92),1)))","v":"R"},{"$f":"IF('Score Sheet'!AH92=\"\",\"R\",IF('Race results'!$C$32>0,ROUND(AVERAGE('Score Sheet'!$J92:AH92),1),ROUND(AVERAGE('Score Sheet'!$I92:AH92),1)))","v":"R"},{"$f":"IF('Score Sheet'!AI92=\"\",\"R\",IF('Race results'!$C$32>0,ROUND(AVERAGE('Score Sheet'!$J92:AI92),1),ROUND(AVERAGE('Score Sheet'!$I92:AI92),1)))","v":"R"},{"$f":"IF('Score Sheet'!AJ92=\"\",\"R\",IF('Race results'!$C$32>0,ROUND(AVERAGE('Score Sheet'!$J92:AJ92),1),ROUND(AVERAGE('Score Sheet'!$I92:AJ92),1)))","v":"R"},{"$f":"IF('Score Sheet'!AK92=\"\",\"R\",IF('Race results'!$C$32>0,ROUND(AVERAGE('Score Sheet'!$J92:AK92),1),ROUND(AVERAGE('Score Sheet'!$I92:AK92),1)))","v":"R"},{"$f":"IF('Score Sheet'!AL92=\"\",\"R\",IF('Race results'!$C$32>0,ROUND(AVERAGE('Score Sheet'!$J92:AL92),1),ROUND(AVERAGE('Score Sheet'!$I92:AL92),1)))","v":"R"},{"$f":"IF('Score Sheet'!AM92=\"\",\"R\",IF('Race results'!$C$32>0,ROUND(AVERAGE('Score Sheet'!$J92:AM92),1),ROUND(AVERAGE('Score Sheet'!$I92:AM92),1)))","v":"R"},{"$f":"IF('Score Sheet'!AN92=\"\",\"R\",IF('Race results'!$C$32>0,ROUND(AVERAGE('Score Sheet'!$J92:AN92),1),ROUND(AVERAGE('Score Sheet'!$I92:AN92),1)))","v":"R"},{"$f":"IF('Score Sheet'!AO92=\"\",\"R\",IF('Race results'!$C$32>0,ROUND(AVERAGE('Score Sheet'!$J92:AO92),1),ROUND(AVERAGE('Score Sheet'!$I92:AO92),1)))","v":"R"},{"$f":"IF('Score Sheet'!AP92=\"\",\"R\",IF('Race results'!$C$32>0,ROUND(AVERAGE('Score Sheet'!$J92:AP92),1),ROUND(AVERAGE('Score Sheet'!$I92:AP92),1)))","v":"R"},{"$f":"IF('Score Sheet'!AQ92=\"\",\"R\",IF('Race results'!$C$32>0,ROUND(AVERAGE('Score Sheet'!$J92:AQ92),1),ROUND(AVERAGE('Score Sheet'!$I92:AQ92),1)))","v":"R"},{"$f":"IF('Score Sheet'!AR92=\"\",\"R\",IF('Race results'!$C$32>0,ROUND(AVERAGE('Score Sheet'!$J92:AR92),1),ROUND(AVERAGE('Score Sheet'!$I92:AR92),1)))","v":"R"},{"$f":"IF('Score Sheet'!AS92=\"\",\"R\",IF('Race results'!$C$32>0,ROUND(AVERAGE('Score Sheet'!$J92:AS92),1),ROUND(AVERAGE('Score Sheet'!$I92:AS92),1)))","v":"R"},{"$f":"IF('Score Sheet'!AT92=\"\",\"R\",IF('Race results'!$C$32>0,ROUND(AVERAGE('Score Sheet'!$J92:AT92),1),ROUND(AVERAGE('Score Sheet'!$I92:AT92),1)))","v":"R"},{"$f":"IF('Score Sheet'!AU92=\"\",\"R\",IF('Race results'!$C$32>0,ROUND(AVERAGE('Score Sheet'!$J92:AU92),1),ROUND(AVERAGE('Score Sheet'!$I92:AU92),1)))","v":"R"},{"$f":"IF('Score Sheet'!AV92=\"\",\"R\",IF('Race results'!$C$32>0,ROUND(AVERAGE('Score Sheet'!$J92:AV92),1),ROUND(AVERAGE('Score Sheet'!$I92:AV92),1)))","v":"R"},null,"",{"$f":"IF(C92=\"\",\"\",IF('Race results'!$C$7<1, \"E\", IF('Race results'!$C$32>0,IF(COUNT(AY92:CL92)<1,\"R\",ROUND(AVERAGE(AY92:CL92),1)),IF(COUNT(AX92:CL92)<1,\"R\",ROUND(AVERAGE(AX92:CL92),1)))))","v":""},null,null,"","","","","","","","","","","","","","","","","","","","","","","","","","","","","","","","","","","","","","","","",""]
[null,84,{"$f":"IF('Score Sheet'!C93=\"\",\"\",'Score Sheet'!C93)","v":""},{"$f":"'Race results'!$F$159","v":"DAFT!"},{"$f":"'Race results'!$F$159","v":"DAFT!"},{"$f":"IF('Score Sheet'!J93=\"\",\"R\",IF('Race results'!$C$32>0,'Race results'!$F$159,ROUND(AVERAGE('Score Sheet'!$I93:J93),1)))","v":"R"},{"$f":"IF('Score Sheet'!K93=\"\",\"R\",IF('Race results'!$C$32>0,ROUND(AVERAGE('Score Sheet'!$J93:K93),1),ROUND(AVERAGE('Score Sheet'!$I93:K93),1)))","v":"R"},{"$f":"IF('Score Sheet'!L93=\"\",\"R\",IF('Race results'!$C$32>0,ROUND(AVERAGE('Score Sheet'!$J93:L93),1),ROUND(AVERAGE('Score Sheet'!$I93:L93),1)))","v":"R"},{"$f":"IF('Score Sheet'!M93=\"\",\"R\",IF('Race results'!$C$32>0,ROUND(AVERAGE('Score Sheet'!$J93:M93),1),ROUND(AVERAGE('Score Sheet'!$I93:M93),1)))","v":"R"},{"$f":"IF('Score Sheet'!N93=\"\",\"R\",IF('Race results'!$C$32>0,ROUND(AVERAGE('Score Sheet'!$J93:N93),1),ROUND(AVERAGE('Score Sheet'!$I93:N93),1)))","v":"R"},{"$f":"IF('Score Sheet'!O93=\"\",\"R\",IF('Race results'!$C$32>0,ROUND(AVERAGE('Score Sheet'!$J93:O93),1),ROUND(AVERAGE('Score Sheet'!$I93:O93),1)))","v":"R"},{"$f":"IF('Score Sheet'!P93=\"\",\"R\",IF('Race results'!$C$32>0,ROUND(AVERAGE('Score Sheet'!$J93:P93),1),ROUND(AVERAGE('Score Sheet'!$I93:P93),1)))","v":"R"},{"$f":"IF('Score Sheet'!Q93=\"\",\"R\",IF('Race results'!$C$32>0,ROUND(AVERAGE('Score Sheet'!$J93:Q93),1),ROUND(AVERAGE('Score Sheet'!$I93:Q93),1)))","v":"R"},{"$f":"IF('Score Sheet'!R93=\"\",\"R\",IF('Race results'!$C$32>0,ROUND(AVERAGE('Score Sheet'!$J93:R93),1),ROUND(AVERAGE('Score Sheet'!$I93:R93),1)))","v":"R"},{"$f":"IF('Score Sheet'!S93=\"\",\"R\",IF('Race results'!$C$32>0,ROUND(AVERAGE('Score Sheet'!$J93:S93),1),ROUND(AVERAGE('Score Sheet'!$I93:S93),1)))","v":"R"},{"$f":"IF('Score Sheet'!T93=\"\",\"R\",IF('Race results'!$C$32>0,ROUND(AVERAGE('Score Sheet'!$J93:T93),1),ROUND(AVERAGE('Score Sheet'!$I93:T93),1)))","v":"R"},{"$f":"IF('Score Sheet'!U93=\"\",\"R\",IF('Race results'!$C$32>0,ROUND(AVERAGE('Score Sheet'!$J93:U93),1),ROUND(AVERAGE('Score Sheet'!$I93:U93),1)))","v":"R"},{"$f":"IF('Score Sheet'!V93=\"\",\"R\",IF('Race results'!$C$32>0,ROUND(AVERAGE('Score Sheet'!$J93:V93),1),ROUND(AVERAGE('Score Sheet'!$I93:V93),1)))","v":"R"},{"$f":"IF('Score Sheet'!W93=\"\",\"R\",IF('Race results'!$C$32>0,ROUND(AVERAGE('Score Sheet'!$J93:W93),1),ROUND(AVERAGE('Score Sheet'!$I93:W93),1)))","v":"R"},{"$f":"IF('Score Sheet'!X93=\"\",\"R\",IF('Race results'!$C$32>0,ROUND(AVERAGE('Score Sheet'!$J93:X93),1),ROUND(AVERAGE('Score Sheet'!$I93:X93),1)))","v":"R"},{"$f":"IF('Score Sheet'!Y93=\"\",\"R\",IF('Race results'!$C$32>0,ROUND(AVERAGE('Score Sheet'!$J93:Y93),1),ROUND(AVERAGE('Score Sheet'!$I93:Y93),1)))","v":"R"},{"$f":"IF('Score Sheet'!Z93=\"\",\"R\",IF('Race results'!$C$32>0,ROUND(AVERAGE('Score Sheet'!$J93:Z93),1),ROUND(AVERAGE('Score Sheet'!$I93:Z93),1)))","v":"R"},{"$f":"IF('Score Sheet'!AA93=\"\",\"R\",IF('Race results'!$C$32>0,ROUND(AVERAGE('Score Sheet'!$J93:AA93),1),ROUND(AVERAGE('Score Sheet'!$I93:AA93),1)))","v":"R"},{"$f":"IF('Score Sheet'!AB93=\"\",\"R\",IF('Race results'!$C$32>0,ROUND(AVERAGE('Score Sheet'!$J93:AB93),1),ROUND(AVERAGE('Score Sheet'!$I93:AB93),1)))","v":"R"},{"$f":"IF('Score Sheet'!AC93=\"\",\"R\",IF('Race results'!$C$32>0,ROUND(AVERAGE('Score Sheet'!$J93:AC93),1),ROUND(AVERAGE('Score Sheet'!$I93:AC93),1)))","v":"R"},{"$f":"IF('Score Sheet'!AD93=\"\",\"R\",IF('Race results'!$C$32>0,ROUND(AVERAGE('Score Sheet'!$J93:AD93),1),ROUND(AVERAGE('Score Sheet'!$I93:AD93),1)))","v":"R"},{"$f":"IF('Score Sheet'!AE93=\"\",\"R\",IF('Race results'!$C$32>0,ROUND(AVERAGE('Score Sheet'!$J93:AE93),1),ROUND(AVERAGE('Score Sheet'!$I93:AE93),1)))","v":"R"},{"$f":"IF('Score Sheet'!AF93=\"\",\"R\",IF('Race results'!$C$32>0,ROUND(AVERAGE('Score Sheet'!$J93:AF93),1),ROUND(AVERAGE('Score Sheet'!$I93:AF93),1)))","v":"R"},{"$f":"IF('Score Sheet'!AG93=\"\",\"R\",IF('Race results'!$C$32>0,ROUND(AVERAGE('Score Sheet'!$J93:AG93),1),ROUND(AVERAGE('Score Sheet'!$I93:AG93),1)))","v":"R"},{"$f":"IF('Score Sheet'!AH93=\"\",\"R\",IF('Race results'!$C$32>0,ROUND(AVERAGE('Score Sheet'!$J93:AH93),1),ROUND(AVERAGE('Score Sheet'!$I93:AH93),1)))","v":"R"},{"$f":"IF('Score Sheet'!AI93=\"\",\"R\",IF('Race results'!$C$32>0,ROUND(AVERAGE('Score Sheet'!$J93:AI93),1),ROUND(AVERAGE('Score Sheet'!$I93:AI93),1)))","v":"R"},{"$f":"IF('Score Sheet'!AJ93=\"\",\"R\",IF('Race results'!$C$32>0,ROUND(AVERAGE('Score Sheet'!$J93:AJ93),1),ROUND(AVERAGE('Score Sheet'!$I93:AJ93),1)))","v":"R"},{"$f":"IF('Score Sheet'!AK93=\"\",\"R\",IF('Race results'!$C$32>0,ROUND(AVERAGE('Score Sheet'!$J93:AK93),1),ROUND(AVERAGE('Score Sheet'!$I93:AK93),1)))","v":"R"},{"$f":"IF('Score Sheet'!AL93=\"\",\"R\",IF('Race results'!$C$32>0,ROUND(AVERAGE('Score Sheet'!$J93:AL93),1),ROUND(AVERAGE('Score Sheet'!$I93:AL93),1)))","v":"R"},{"$f":"IF('Score Sheet'!AM93=\"\",\"R\",IF('Race results'!$C$32>0,ROUND(AVERAGE('Score Sheet'!$J93:AM93),1),ROUND(AVERAGE('Score Sheet'!$I93:AM93),1)))","v":"R"},{"$f":"IF('Score Sheet'!AN93=\"\",\"R\",IF('Race results'!$C$32>0,ROUND(AVERAGE('Score Sheet'!$J93:AN93),1),ROUND(AVERAGE('Score Sheet'!$I93:AN93),1)))","v":"R"},{"$f":"IF('Score Sheet'!AO93=\"\",\"R\",IF('Race results'!$C$32>0,ROUND(AVERAGE('Score Sheet'!$J93:AO93),1),ROUND(AVERAGE('Score Sheet'!$I93:AO93),1)))","v":"R"},{"$f":"IF('Score Sheet'!AP93=\"\",\"R\",IF('Race results'!$C$32>0,ROUND(AVERAGE('Score Sheet'!$J93:AP93),1),ROUND(AVERAGE('Score Sheet'!$I93:AP93),1)))","v":"R"},{"$f":"IF('Score Sheet'!AQ93=\"\",\"R\",IF('Race results'!$C$32>0,ROUND(AVERAGE('Score Sheet'!$J93:AQ93),1),ROUND(AVERAGE('Score Sheet'!$I93:AQ93),1)))","v":"R"},{"$f":"IF('Score Sheet'!AR93=\"\",\"R\",IF('Race results'!$C$32>0,ROUND(AVERAGE('Score Sheet'!$J93:AR93),1),ROUND(AVERAGE('Score Sheet'!$I93:AR93),1)))","v":"R"},{"$f":"IF('Score Sheet'!AS93=\"\",\"R\",IF('Race results'!$C$32>0,ROUND(AVERAGE('Score Sheet'!$J93:AS93),1),ROUND(AVERAGE('Score Sheet'!$I93:AS93),1)))","v":"R"},{"$f":"IF('Score Sheet'!AT93=\"\",\"R\",IF('Race results'!$C$32>0,ROUND(AVERAGE('Score Sheet'!$J93:AT93),1),ROUND(AVERAGE('Score Sheet'!$I93:AT93),1)))","v":"R"},{"$f":"IF('Score Sheet'!AU93=\"\",\"R\",IF('Race results'!$C$32>0,ROUND(AVERAGE('Score Sheet'!$J93:AU93),1),ROUND(AVERAGE('Score Sheet'!$I93:AU93),1)))","v":"R"},{"$f":"IF('Score Sheet'!AV93=\"\",\"R\",IF('Race results'!$C$32>0,ROUND(AVERAGE('Score Sheet'!$J93:AV93),1),ROUND(AVERAGE('Score Sheet'!$I93:AV93),1)))","v":"R"},null,"",{"$f":"IF(C93=\"\",\"\",IF('Race results'!$C$7<1, \"E\", IF('Race results'!$C$32>0,IF(COUNT(AY93:CL93)<1,\"R\",ROUND(AVERAGE(AY93:CL93),1)),IF(COUNT(AX93:CL93)<1,\"R\",ROUND(AVERAGE(AX93:CL93),1)))))","v":""},null,null,"","","","","","","","","","","","","","","","","","","","","","","","","","","","","","","","","","","","","","","","",""]

{"sheet":"Worksheet","index":7,"n_rows":0,"n_cols":0,"rows_kept":0,"cut":false,"hidden":false,"merged":[]}